Workbook

Sheet preferiti
G2: gazzetta | Q2: corriere | AA2: fantagazzetta
E4: "preferiti" | I4: "odiati" | O4: "preferiti" | R4: "odiati" | Y4: "preferiti" | AC4: "odiati"
D6: 12-13 alla 38a | E6: 12-13 alla 18a | F6: 11-12 alla 38 | H6: 12-13 alla 38a | I6: 12-13 alla 18a | J6: 11-12 alla 38 | O6: 12-13 alla 38a | P6: 12-13 alla 18a | R6: 12-13 alla 38a | S6: 12-13 alla 18a | X6: 12-13 alla 38a | Y6: 12-13 alla 18a | Z6: 11-12 alla 38 | AB6: 12-13 alla 38a | AC6: 12-13 alla 18a | AD6: 11-12 alla 38
B8: P | D8: MARCHETTI | E8: GOICOECHEA | M8: P | O8: CURCI | P8: HANDANOVIC | S8: ABBIATI | V8: P | X8: BRKIC | Y8: BRKIC | AB8: AGAZZI | AC8: AGAZZI
O9: ROMERO | P9: ROMERO | Y9: AGLIARDI | AC9: MARCHETTI
O10: VIVIANO
B13: D | D13: LICHTSTEINER | E13: CAMPAGNARO | F13: ANDREOLLI | H13: RODRIGUEZ GO. | I13: RODRIGUEZ GO. | J13: MAICON | M13: D | O13: BIAVA | P13: BIAVA | R13: MEXES | S13: BALZARETTI | V13: D | X13: SPOLLI | Y13: BARZAGLI | Z13: MEXES | AB13: LICHSTEINER | AD13: LICHSTEINER
D14: BURDISSO | E14: LUCARELLI | F14: NATALI | H14: RONCAGLIA | I14: RONCAGLIA | J14: BALZARETTI | O14: ROSSETTINI | P14: PALETTA | R14: ZAPATA | S14: JUAN JESUS | X14: NAGATOMO | Y14: OGBONNA | Z14: PASQUAL | AB14: RANOCCHIA | AC14: RANOCCHIA
D15: SAMUEL | E15: SAMUEL | H15: CHIELLINI | I15: CHIELLINI | J15: CAMPAGNARO | O15: SAVIC | P15: PIRIS | R15: DE SCIGLIO | S15: DE SCIGLIO | X15: BALZARETTI | Y15: BALZARETTI | Z15: DIAKITE | AB15: CANNAVARO | AC15: KONKO
H16: PASQUALE | I16: BASTA | J16: ASTORI | O16: BENATIA | P16: DOMIZZI | S16: YEPES | X16: PEREIRA | Y16: GLIK | AB16: CAMPAGNARO | AC16: CANNAVARO
H17: SAVIC | I17: DIAS | J17: PELUSO | O17: ASTORI | P17: MUNOZ | X17: MORLEO | Y17: MORLEO | AB17: ANDREOLLI | AC17: CASTAN
H18: OGBONNA | I18: ARIAUDO | O18: PIRIS | P18: PACI | X18: BALZANO | Y18: BALZANO | AC18: ANDREOLLI
H19: ZACCARDO | I19: ZACCARDO | P19: ANDREOLLI
B25: C | D25: MATUZALEM | E25: GUARIN | F25: SNEJIDER | H25: CAMBIASSO | J25: CAMBIASSO | M25: C | O25: CONTI | P25: CAMBIASSO | R25: DIAMANTI | S25: DE ROSSI | V25: C | X25: LODI | Y25: LODI | Z25: DIAMANTI | AB25: PIZARRO | AC25: PIRLO | AD25: PIRLO
D26: ALMIRON | E26: BONAVENTURA | F26: LEDESMA | H26: DZEMAILI | I26: MONTOLIVO | J26: MORALEZ | O26: KOVACIC | P26: BIABIANY | R26: FLORENZI | S26: FLORENZI | X26: ILICIC | Y26: CANDREVA | Z26: ZANETTI | AB26: HERNANES | AC26: HERNANES | AD26: MARCHISIO
E27: PEREYRA | F27: LODI | H27: ALLAN | I27: ZUNIGA | J27: CERCI | O27: HERNANES | P27: CERCI | R27: KONE | S27: KONE | X27: WEISS | Y27: WEISS | Z27: GALLOPPA | AB27: LEDESMA | AC27: LEDESMA | AD27: ISLA
E28: KUCKA | F28: VELOSO | H28: ILICIC | I28: ILICIC | J28: GOMEZ | O28: OBIANG | P28: AQUILANI | R28: GUARIN | S28: HETEMAJ | X28: ANGELO | Y28: TAIDER | AB28: AQUILANI | AC28: MAURI | AD28: ASAMOAH
E29: ROSINA | F29: PINZI | H29: OBIANG | I29: OBIANG | J29: INLER | O29: BEHRAMI | P29: BEHRAMI | R29: COSSU | S29: QUINTERO | Y29: COSSU | AB29: GONZALEZ | AC29: ALMIRON | AD29: JANKOVIC
E30: LULIC | H30: CIGARINI | I30: CIGARINI | J30: CONTI | O30: GONZALEZ | P30: GONZALEZ | Y30: SESTU | AB30: MAGGIO | AC30: SANTANA | AD30: ROSSI
I31: BRIENZA | J31: ALMIRON | P31: BARRETO | Y31: PINZI | AB31: GOBBI | AC31: LAZZARI
I32: VALDES | J32: ARMERO | P32: MARESCA | AB32: BARRETO
I33: ZANETTI | AB33: PALOMBO
AB34: KRSTICIC
B38: A | E38: TOTTI | F38: TOTTI | H38: BORRIELLO | I38: DENIS | J38: MURIEL | M38: A | O38: KLOSE | P38: KLOSE | R38: THEREAU | S38: BERGESSIO | V38: A | X38: PANDEV | Z38: MICCOLI | AB38: JOVETIC | AD38: HERNANDEZ
E39: OSVALDO | F39: VUCINIC | H39: IMMOBILE | I39: IMMOBILE | J39: CALAIO' | O39: GILARDINO | P39: GILARDINO | R39: MICCOLI | S39: MICCOLI | AD39: DESTRO
D40: CALAIO' | E40: CALAIO' | H40: INSIGNE | I40: INSIGNE | O40: GIOVINCO | P40: GIOVINCO
I41: CASSANO | O41: CASSANO | P41: TONI
O42: BALOTELLI
O43: CAVANI
O44: DI NATALE
O45: MURIEL

Sheet medie 38a
B2: ATA | C2: g | D2: c | E2: f | F2: s | I2: BOL | J2: g | K2: c | L2: f | M2: s | P2: CAG | Q2: g | R2: c | S2: f | T2: s | W2: CAT | X2: g | Y2: c | Z2: f | AA2: s | AD2: CHI | AE2: g | AF2: c | AG2: f | AH2: s | AM2: gazzetta | AN2: corriere | AO2: fanta gazz | AP2: sky | AS2: gazzetta | AT2: corriere | AU2: fanta gazz | AV2: sky
B3: CONSIGLI | C3: =VLOOKUP(B3,'P gazz'!$A:$E,4,0) -> 6.13 | D3: =VLOOKUP(B3,'P corr'!$A:$E,4,0) -> 6.2 | E3: =VLOOKUP(B3,'P fantagazz'!$A:$E,4,0) -> 6.13 | I3: CURCI | J3: =VLOOKUP(I3,'P gazz'!$A:$E,4,0) -> 6.14 | K3: =VLOOKUP(I3,'P corr'!$A:$E,4,0) -> 6.25 | L3: =VLOOKUP(I3,'P fantagazz'!$A:$E,4,0) -> 6.11 | P3: AGAZZI | Q3: =VLOOKUP(P3,'P gazz'!$A:$E,4,0) -> 6.21 | R3: =VLOOKUP(P3,'P corr'!$A:$E,4,0) -> 6.19 | S3: =VLOOKUP(P3,'P fantagazz'!$A:$E,4,0) -> 6.01 | W3: ANDUJAR | X3: =VLOOKUP(W3,'P gazz'!$A:$E,4,0) -> 6.09 | Y3: =VLOOKUP(W3,'P corr'!$A:$E,4,0) -> 6.12 | Z3: =VLOOKUP(W3,'P fantagazz'!$A:$E,4,0) -> 6.12 | AD3: PUGGIONI | AE3: =VLOOKUP(AD3,'P gazz'!$A:$E,4,0) -> 6.18 | AF3: =VLOOKUP(AD3,'P corr'!$A:$E,4,0) -> 6.12 | AG3: =VLOOKUP(AD3,'P fantagazz'!$A:$E,4,0) -> 6.12 | AL3: tot P (20) | AM3: =SUM(C18,J18,Q18,X18,AE18,C40,J40,Q40,X40,AE40,C62,J62,Q62,X62,AE62,C84,J84,Q84,X84,AE84) -> 122.96 | AN3: =SUM(D18,K18,R18,Y18,AF18,D40,K40,R40,Y40,AF40,D62,K62,R62,Y62,AF62,D84,K84,R84,Y84,AF84) -> 123.57 | AO3: =SUM(E18,L18,S18,Z18,AG18,E40,L40,S40,Z40,AG40,E62,L62,S62,Z62,AG62,E84,L84,S84,Z84,AG84) -> 123.04 | AP3: =SUM(F18,M18,T18,AA18,AH18,F40,M40,T40,AA40,AH40,F62,M62,T62,AA62,AH62,F84,M84,T84,AA84,AH84) -> 0 | AR3: singolo P | AS3: =AM9 -> 6.148 | AT3: =AN9 -> 6.1785 | AU3: =AO9 -> 6.152 | AV3: =AP9 -> 0
B4: STENDARDO | C4: =VLOOKUP(B4,'DCA gazz'!$A:$F,4,0) -> 5.95 | D4: =VLOOKUP(B4,'DCA corr'!$A:$F,4,0) -> 6.07 | E4: =VLOOKUP(B4,'DCA fantagazz'!$A:$F,4,0) -> 6 | I4: MORLEO | J4: =VLOOKUP(I4,'DCA gazz'!$A:$F,4,0) -> 5.84 | K4: =VLOOKUP(I4,'DCA corr'!$A:$F,4,0) -> 5.84 | L4: =VLOOKUP(I4,'DCA fantagazz'!$A:$F,4,0) -> 6.06 | P4: ASTORI | Q4: =VLOOKUP(P4,'DCA gazz'!$A:$F,4,0) -> 5.84 | R4: =VLOOKUP(P4,'DCA corr'!$A:$F,4,0) -> 6.06 | S4: =VLOOKUP(P4,'DCA fantagazz'!$A:$F,4,0) -> 5.94 | W4: MARCHESE | X4: =VLOOKUP(W4,'DCA gazz'!$A:$F,4,0) -> 6.1 | Y4: =VLOOKUP(W4,'DCA corr'!$A:$F,4,0) -> 6.15 | Z4: =VLOOKUP(W4,'DCA fantagazz'!$A:$F,4,0) -> 6.07 | AD4: DAINELLI | AE4: =VLOOKUP(AD4,'DCA gazz'!$A:$F,4,0) -> 5.91 | AF4: =VLOOKUP(AD4,'DCA corr'!$A:$F,4,0) -> 5.9 | AG4: =VLOOKUP(AD4,'DCA fantagazz'!$A:$F,4,0) -> 5.96 | AL4: tot D (79) | AM4: =SUM(C19,J19,Q19,X19,AE19,C41,J41,Q41,X41,AE41,C63,J63,Q63,X63,AE63,C85,J85,Q85,X85,AE85) -> 562.66 | AN4: =SUM(D19,K19,R19,Y19,AF19,D41,K41,R41,Y41,AF41,D63,K63,R63,Y63,AF63,D85,K85,R85,Y85,AF85) -> 566.66 | AO4: =SUM(E19,L19,S19,Z19,AG19,E41,L41,S41,Z41,AG41,E63,L63,S63,Z63,AG63,E85,L85,S85,Z85,AG85) -> 566.39 | AP4: =SUM(F19,M19,T19,AA19,AH19,F41,M41,T41,AA41,AH41,F63,M63,T63,AA63,AH63,F85,M85,T85,AA85,AH85) -> 0 | AR4: singolo D | AS4: =AM10 -> 6.9464198 | AT4: =AN10 -> 6.9958025 | AU4: =AO10 -> 6.9924691 | AV4: =AP10 -> 0
B5: DEL GROSSO | C5: =VLOOKUP(B5,'DCA gazz'!$A:$F,4,0) -> 5.73 | D5: =VLOOKUP(B5,'DCA corr'!$A:$F,4,0) -> 5.66 | E5: =VLOOKUP(B5,'DCA fantagazz'!$A:$F,4,0) -> 5.82 | I5: ANTONSSON | J5: =VLOOKUP(I5,'DCA gazz'!$A:$F,4,0) -> 5.71 | K5: =VLOOKUP(I5,'DCA corr'!$A:$F,4,0) -> 5.77 | L5: =VLOOKUP(I5,'DCA fantagazz'!$A:$F,4,0) -> 5.74 | P5: ROSSETTINI | Q5: =VLOOKUP(P5,'DCA gazz'!$A:$F,4,0) -> 5.91 | R5: =VLOOKUP(P5,'DCA corr'!$A:$F,4,0) -> 6.04 | S5: =VLOOKUP(P5,'DCA fantagazz'!$A:$F,4,0) -> 5.93 | W5: SPOLLI | X5: =VLOOKUP(W5,'DCA gazz'!$A:$F,4,0) -> 6.16 | Y5: =VLOOKUP(W5,'DCA corr'!$A:$F,4,0) -> 6.07 | Z5: =VLOOKUP(W5,'DCA fantagazz'!$A:$F,4,0) -> 6.29 | AD5: ANDREOLLI | AE5: =VLOOKUP(AD5,'DCA gazz'!$A:$F,4,0) -> 5.89 | AF5: =VLOOKUP(AD5,'DCA corr'!$A:$F,4,0) -> 5.98 | AG5: =VLOOKUP(AD5,'DCA fantagazz'!$A:$F,4,0) -> 5.82 | AL5: tot C (84) | AM5: =SUM(C20,J20,Q20,X20,AE20,C42,J42,Q42,X42,AE42,C64,J64,Q64,X64,AE64,C86,J86,Q86,X86,AE86) -> 677.06 | AN5: =SUM(D20,K20,R20,Y20,AF20,D42,K42,R42,Y42,AF42,D64,K64,R64,Y64,AF64,D86,K86,R86,Y86,AF86) -> 678.58 | AO5: =SUM(E20,L20,S20,Z20,AG20,E42,L42,S42,Z42,AG42,E64,L64,S64,Z64,AG64,E86,L86,S86,Z86,AG86) -> 676.43 | AP5: =SUM(F20,M20,T20,AA20,AH20,F42,M42,T42,AA42,AH42,F64,M64,T64,AA64,AH64,F86,M86,T86,AA86,AH86) -> 0 | AR5: singolo C | AS5: =AM11 -> 7.0527083 | AT5: =AN11 -> 7.0685417 | AU5: =AO11 -> 7.0461458 | AV5: =AP11 -> 0
B6: CANINI | C6: =VLOOKUP(B6,'DCA gazz'!$A:$F,4,0) -> 5.65 | D6: =VLOOKUP(B6,'DCA corr'!$A:$F,4,0) -> 5.75 | E6: =VLOOKUP(B6,'DCA fantagazz'!$A:$F,4,0) -> 5.71 | I6: CHERUBIN | J6: =VLOOKUP(I6,'DCA gazz'!$A:$F,4,0) -> 5.79 | K6: =VLOOKUP(I6,'DCA corr'!$A:$F,4,0) -> 5.91 | L6: =VLOOKUP(I6,'DCA fantagazz'!$A:$F,4,0) -> 5.83 | P6: PISANO F. | Q6: =VLOOKUP(P6,'DCA gazz'!$A:$F,4,0) -> 5.88 | R6: =VLOOKUP(P6,'DCA corr'!$A:$F,4,0) -> 6.02 | S6: =VLOOKUP(P6,'DCA fantagazz'!$A:$F,4,0) -> 5.89 | W6: ALVAREZ P.S. | X6: =VLOOKUP(W6,'DCA gazz'!$A:$F,4,0) -> 5.87 | Y6: =VLOOKUP(W6,'DCA corr'!$A:$F,4,0) -> 5.74 | Z6: =VLOOKUP(W6,'DCA fantagazz'!$A:$F,4,0) -> 5.91 | AD6: DRAME' | AE6: =VLOOKUP(AD6,'DCA gazz'!$A:$F,4,0) -> 6.02 | AF6: =VLOOKUP(AD6,'DCA corr'!$A:$F,4,0) -> 5.8 | AG6: =VLOOKUP(AD6,'DCA fantagazz'!$A:$F,4,0) -> 5.86 | AL6: tot A (37) | AM6: =SUM(C21,J21,Q21,X21,AE21,C43,J43,Q43,X43,AE43,C65,J65,Q65,X65,AE65,C87,J87,Q87,X87,AE87) -> 304.94 | AN6: =SUM(D21,K21,R21,Y21,AF21,D43,K43,R43,Y43,AF43,D65,K65,R65,Y65,AF65,D87,K87,R87,Y87,AF87) -> 308.17 | AO6: =SUM(E21,L21,S21,Z21,AG21,E43,L43,S43,Z43,AG43,E65,L65,S65,Z65,AG65,E87,L87,S87,Z87,AG87) -> 306.37 | AP6: =SUM(F21,M21,T21,AA21,AH21,F43,M43,T43,AA43,AH43,F65,M65,T65,AA65,AH65,F87,M87,T87,AA87,AH87) -> 0 | AR6: singolo A | AS6: =AM12 -> 7.0916279 | AT6: =AN12 -> 7.1667442 | AU6: =AO12 -> 7.1248837 | AV6: =AP12 -> 0
B7: RAIMONDI | C7: =VLOOKUP(B7,'DCA gazz'!$A:$F,4,0) -> 5.9 | D7: =VLOOKUP(B7,'DCA corr'!$A:$F,4,0) -> 5.79 | E7: =VLOOKUP(B7,'DCA fantagazz'!$A:$F,4,0) -> 5.85 | I7: GARICS | J7: =VLOOKUP(I7,'DCA gazz'!$A:$F,4,0) -> 5.67 | K7: =VLOOKUP(I7,'DCA corr'!$A:$F,4,0) -> 5.68 | L7: =VLOOKUP(I7,'DCA fantagazz'!$A:$F,4,0) -> 5.91 | P7: AVELAR | Q7: =VLOOKUP(P7,'DCA gazz'!$A:$F,4,0) -> 5.9 | R7: =VLOOKUP(P7,'DCA corr'!$A:$F,4,0) -> 5.88 | S7: =VLOOKUP(P7,'DCA fantagazz'!$A:$F,4,0) -> 6.1 | W7: LEGROTTAGLIE | X7: =VLOOKUP(W7,'DCA gazz'!$A:$F,4,0) -> 6.08 | Y7: =VLOOKUP(W7,'DCA corr'!$A:$F,4,0) -> 6 | Z7: =VLOOKUP(W7,'DCA fantagazz'!$A:$F,4,0) -> 6.08 | AD7: CESAR | AE7: =VLOOKUP(AD7,'DCA gazz'!$A:$F,4,0) -> 5.86 | AF7: =VLOOKUP(AD7,'DCA corr'!$A:$F,4,0) -> 5.86 | AG7: =VLOOKUP(AD7,'DCA fantagazz'!$A:$F,4,0) -> 5.74
B8: LUCCHINI | C8: =VLOOKUP(B8,'DCA gazz'!$A:$F,4,0) -> 5.9 | D8: =VLOOKUP(B8,'DCA corr'!$A:$F,4,0) -> 5.87 | E8: =VLOOKUP(B8,'DCA fantagazz'!$A:$F,4,0) -> 5.78 | I8: SORENSEN | J8: =VLOOKUP(I8,'DCA gazz'!$A:$F,4,0) -> 5.83 | K8: =VLOOKUP(I8,'DCA corr'!$A:$F,4,0) -> 5.93 | L8: =VLOOKUP(I8,'DCA fantagazz'!$A:$F,4,0) -> 5.98 | P8: ARIAUDO | Q8: =VLOOKUP(P8,'DCA gazz'!$A:$F,4,0) -> 5.5 | R8: =VLOOKUP(P8,'DCA corr'!$A:$F,4,0) -> 5.72 | S8: =VLOOKUP(P8,'DCA fantagazz'!$A:$F,4,0) -> 5.68 | W8: BELLUSCI | X8: =VLOOKUP(W8,'DCA gazz'!$A:$F,4,0) -> 5.92 | Y8: =VLOOKUP(W8,'DCA corr'!$A:$F,4,0) -> 5.9 | Z8: =VLOOKUP(W8,'DCA fantagazz'!$A:$F,4,0) -> 5.85 | AD8: SARDO | AE8: =VLOOKUP(AD8,'DCA gazz'!$A:$F,4,0) -> 5.66 | AF8: =VLOOKUP(AD8,'DCA corr'!$A:$F,4,0) -> 5.67 | AG8: =VLOOKUP(AD8,'DCA fantagazz'!$A:$F,4,0) -> 5.86 | AM8: gazzetta | AN8: corriere | AO8: fanta gazz | AP8: sky
B9: BRIVIO | C9: =VLOOKUP(B9,'DCA gazz'!$A:$F,4,0) -> 5.55 | D9: =VLOOKUP(B9,'DCA corr'!$A:$F,4,0) -> 5.72 | E9: =VLOOKUP(B9,'DCA fantagazz'!$A:$F,4,0) -> 5.75 | I9: DIAMANTI | J9: =VLOOKUP(I9,'DCA gazz'!$A:$F,4,0) -> 6.31 | K9: =VLOOKUP(I9,'DCA corr'!$A:$F,4,0) -> 6.13 | L9: =VLOOKUP(I9,'DCA fantagazz'!$A:$F,4,0) -> 6.4 | P9: NAINGGOLAN | Q9: =VLOOKUP(P9,'DCA gazz'!$A:$F,4,0) -> 6.15 | R9: =VLOOKUP(P9,'DCA corr'!$A:$F,4,0) -> 6.21 | S9: =VLOOKUP(P9,'DCA fantagazz'!$A:$F,4,0) -> 6.18 | W9: GOMEZ | X9: =VLOOKUP(W9,'DCA gazz'!$A:$F,4,0) -> 6.21 | Y9: =VLOOKUP(W9,'DCA corr'!$A:$F,4,0) -> 6.25 | Z9: =VLOOKUP(W9,'DCA fantagazz'!$A:$F,4,0) -> 6.29 | AD9: RIGONI L. | AE9: =VLOOKUP(AD9,'DCA gazz'!$A:$F,4,0) -> 6.02 | AF9: =VLOOKUP(AD9,'DCA corr'!$A:$F,4,0) -> 6.11 | AG9: =VLOOKUP(AD9,'DCA fantagazz'!$A:$F,4,0) -> 6.03 | AL9: singolo P | AM9: =AM3/$AR9 -> 6.148 | AN9: =AN3/$AR9 -> 6.1785 | AO9: =AO3/$AR9 -> 6.152 | AP9: =AP3/$AR9 -> 0 | AR9: 20
B10: BONAVENTURA | C10: =VLOOKUP(B10,'DCA gazz'!$A:$F,4,0) -> 6.18 | D10: =VLOOKUP(B10,'DCA corr'!$A:$F,4,0) -> 6.15 | E10: =VLOOKUP(B10,'DCA fantagazz'!$A:$F,4,0) -> 6.1 | I10: TAIDER | J10: =VLOOKUP(I10,'DCA gazz'!$A:$F,4,0) -> 5.75 | K10: =VLOOKUP(I10,'DCA corr'!$A:$F,4,0) -> 5.84 | L10: =VLOOKUP(I10,'DCA fantagazz'!$A:$F,4,0) -> 5.94 | P10: EKDAL | Q10: =VLOOKUP(P10,'DCA gazz'!$A:$F,4,0) -> 6.03 | R10: =VLOOKUP(P10,'DCA corr'!$A:$F,4,0) -> 6.09 | S10: =VLOOKUP(P10,'DCA fantagazz'!$A:$F,4,0) -> 5.98 | W10: IZCO | X10: =VLOOKUP(W10,'DCA gazz'!$A:$F,4,0) -> 6.22 | Y10: =VLOOKUP(W10,'DCA corr'!$A:$F,4,0) -> 6.12 | Z10: =VLOOKUP(W10,'DCA fantagazz'!$A:$F,4,0) -> 6.16 | AD10: HETEMAJ | AE10: =VLOOKUP(AD10,'DCA gazz'!$A:$F,4,0) -> 5.95 | AF10: =VLOOKUP(AD10,'DCA corr'!$A:$F,4,0) -> 5.8 | AG10: =VLOOKUP(AD10,'DCA fantagazz'!$A:$F,4,0) -> 5.88 | AL10: singolo D | AM10: =AM4/$AR10 -> 6.9464198 | AN10: =AN4/$AR10 -> 6.9958025 | AO10: =AO4/$AR10 -> 6.9924691 | AP10: =AP4/$AR10 -> 0 | AR10: 81
B11: MORALEZ | C11: =VLOOKUP(B11,'DCA gazz'!$A:$F,4,0) -> 5.74 | D11: =VLOOKUP(B11,'DCA corr'!$A:$F,4,0) -> 5.66 | E11: =VLOOKUP(B11,'DCA fantagazz'!$A:$F,4,0) -> 5.74 | I11: KONE | J11: =VLOOKUP(I11,'DCA gazz'!$A:$F,4,0) -> 6.03 | K11: =VLOOKUP(I11,'DCA corr'!$A:$F,4,0) -> 5.79 | L11: =VLOOKUP(I11,'DCA fantagazz'!$A:$F,4,0) -> 5.97 | P11: DESSENA | Q11: =VLOOKUP(P11,'DCA gazz'!$A:$F,4,0) -> 5.85 | R11: =VLOOKUP(P11,'DCA corr'!$A:$F,4,0) -> 5.9 | S11: =VLOOKUP(P11,'DCA fantagazz'!$A:$F,4,0) -> 5.85 | W11: LODI | X11: =VLOOKUP(W11,'DCA gazz'!$A:$F,4,0) -> 6.18 | Y11: =VLOOKUP(W11,'DCA corr'!$A:$F,4,0) -> 6.15 | Z11: =VLOOKUP(W11,'DCA fantagazz'!$A:$F,4,0) -> 6.29 | AD11: COFIE | AE11: =VLOOKUP(AD11,'DCA gazz'!$A:$F,4,0) -> 5.84 | AF11: =VLOOKUP(AD11,'DCA corr'!$A:$F,4,0) -> 5.94 | AG11: =VLOOKUP(AD11,'DCA fantagazz'!$A:$F,4,0) -> 5.83 | AL11: singolo C | AM11: =AM5/$AR11 -> 7.0527083 | AN11: =AN5/$AR11 -> 7.0685417 | AO11: =AO5/$AR11 -> 7.0461458 | AP11: =AP5/$AR11 -> 0 | AR11: 96
B12: CIGARINI | C12: =VLOOKUP(B12,'DCA gazz'!$A:$F,4,0) -> 6.06 | D12: =VLOOKUP(B12,'DCA corr'!$A:$F,4,0) -> 6.2 | E12: =VLOOKUP(B12,'DCA fantagazz'!$A:$F,4,0) -> 6.17 | I12: PEREZ | J12: =VLOOKUP(I12,'DCA gazz'!$A:$F,4,0) -> 6 | K12: =VLOOKUP(I12,'DCA corr'!$A:$F,4,0) -> 6.07 | L12: =VLOOKUP(I12,'DCA fantagazz'!$A:$F,4,0) -> 5.72 | P12: CONTI | Q12: =VLOOKUP(P12,'DCA gazz'!$A:$F,4,0) -> 6.14 | R12: =VLOOKUP(P12,'DCA corr'!$A:$F,4,0) -> 6.26 | S12: =VLOOKUP(P12,'DCA fantagazz'!$A:$F,4,0) -> 6.07 | W12: CASTRO | X12: =VLOOKUP(W12,'DCA gazz'!$A:$F,4,0) -> 6.14 | Y12: =VLOOKUP(W12,'DCA corr'!$A:$F,4,0) -> 6.12 | Z12: =VLOOKUP(W12,'DCA fantagazz'!$A:$F,4,0) -> 6.15 | AD12: LUCIANO | AE12: =VLOOKUP(AD12,'DCA gazz'!$A:$F,4,0) -> 5.96 | AF12: =VLOOKUP(AD12,'DCA corr'!$A:$F,4,0) -> 5.98 | AG12: =VLOOKUP(AD12,'DCA fantagazz'!$A:$F,4,0) -> 5.98 | AL12: singolo A | AM12: =AM6/$AR12 -> 7.0916279 | AN12: =AN6/$AR12 -> 7.1667442 | AO12: =AO6/$AR12 -> 7.1248837 | AP12: =AP6/$AR12 -> 0 | AR12: 43
B13: GIORGI | C13: =VLOOKUP(B13,'DCA gazz'!$A:$F,4,0) -> 5.67 | D13: =VLOOKUP(B13,'DCA corr'!$A:$F,4,0) -> 5.74 | E13: =VLOOKUP(B13,'DCA fantagazz'!$A:$F,4,0) -> 5.83 | I13: PAZIENZA | J13: =VLOOKUP(I13,'DCA gazz'!$A:$F,4,0) -> 5.54 | K13: =VLOOKUP(I13,'DCA corr'!$A:$F,4,0) -> 5.38 | L13: =VLOOKUP(I13,'DCA fantagazz'!$A:$F,4,0) -> 5.65 | P13: COSSU | Q13: =VLOOKUP(P13,'DCA gazz'!$A:$F,4,0) -> 6.16 | R13: =VLOOKUP(P13,'DCA corr'!$A:$F,4,0) -> 6.02 | S13: =VLOOKUP(P13,'DCA fantagazz'!$A:$F,4,0) -> 6.14 | W13: BARRIENTOS | X13: =VLOOKUP(W13,'DCA gazz'!$A:$F,4,0) -> 6.08 | Y13: =VLOOKUP(W13,'DCA corr'!$A:$F,4,0) -> 6 | Z13: =VLOOKUP(W13,'DCA fantagazz'!$A:$F,4,0) -> 6.12 | AD13: GUANA | AE13: =VLOOKUP(AD13,'DCA gazz'!$A:$F,4,0) -> 6.05 | AF13: =VLOOKUP(AD13,'DCA corr'!$A:$F,4,0) -> 6.1 | AG13: =VLOOKUP(AD13,'DCA fantagazz'!$A:$F,4,0) -> 6.07 | AR13: =SUM(AR9:AR12) -> 240
B14: BIONDINI | C14: =VLOOKUP(B14,'DCA gazz'!$A:$F,4,0) -> 5.93 | D14: =VLOOKUP(B14,'DCA corr'!$A:$F,4,0) -> 5.89 | E14: =VLOOKUP(B14,'DCA fantagazz'!$A:$F,4,0) -> 5.85 | I14: CHRISTODOULOPOULOS | J14: =VLOOKUP(I14,'DCA gazz'!$A:$F,4,0) -> 5.88 | K14: =VLOOKUP(I14,'DCA corr'!$A:$F,4,0) -> 5.75 | L14: =VLOOKUP(I14,'DCA fantagazz'!$A:$F,4,0) -> 5.79 | P14: IBARBO | Q14: =VLOOKUP(P14,'DCA gazz'!$A:$F,4,0) -> 6.19 | R14: =VLOOKUP(P14,'DCA corr'!$A:$F,4,0) -> 6.23 | S14: =VLOOKUP(P14,'DCA fantagazz'!$A:$F,4,0) -> 6.15 | W14: ALMIRON | X14: =VLOOKUP(W14,'DCA gazz'!$A:$F,4,0) -> 6.14 | Y14: =VLOOKUP(W14,'DCA corr'!$A:$F,4,0) -> 6.02 | Z14: =VLOOKUP(W14,'DCA fantagazz'!$A:$F,4,0) -> 5.98 | AD14: THEREAU | AE14: =VLOOKUP(AD14,'DCA gazz'!$A:$F,4,0) -> 6.07 | AF14: =VLOOKUP(AD14,'DCA corr'!$A:$F,4,0) -> 5.96 | AG14: =VLOOKUP(AD14,'DCA fantagazz'!$A:$F,4,0) -> 6.11
B15: CARMONA | C15: =VLOOKUP(B15,'DCA gazz'!$A:$F,4,0) -> 5.95 | D15: =VLOOKUP(B15,'DCA corr'!$A:$F,4,0) -> 5.97 | E15: =VLOOKUP(B15,'DCA fantagazz'!$A:$F,4,0) -> 5.85 | I15: GILARDINO | J15: =VLOOKUP(I15,'DCA gazz'!$A:$F,4,0) -> 5.9 | K15: =VLOOKUP(I15,'DCA corr'!$A:$F,4,0) -> 6.11 | L15: =VLOOKUP(I15,'DCA fantagazz'!$A:$F,4,0) -> 5.97 | P15: SAU | Q15: =VLOOKUP(P15,'DCA gazz'!$A:$F,4,0) -> 6.22 | R15: =VLOOKUP(P15,'DCA corr'!$A:$F,4,0) -> 6.27 | S15: =VLOOKUP(P15,'DCA fantagazz'!$A:$F,4,0) -> 6.22 | W15: BIAGIANTI | X15: =VLOOKUP(W15,'DCA gazz'!$A:$F,4,0) -> 5.9 | Y15: =VLOOKUP(W15,'DCA corr'!$A:$F,4,0) -> 5.92 | Z15: =VLOOKUP(W15,'DCA fantagazz'!$A:$F,4,0) -> 5.9 | AD15: PELLISSIER | AE15: =VLOOKUP(AD15,'DCA gazz'!$A:$F,4,0) -> 5.73 | AF15: =VLOOKUP(AD15,'DCA corr'!$A:$F,4,0) -> 5.78 | AG15: =VLOOKUP(AD15,'DCA fantagazz'!$A:$F,4,0) -> 5.83
B16: DENIS | C16: =VLOOKUP(B16,'DCA gazz'!$A:$F,4,0) -> 5.93 | D16: =VLOOKUP(B16,'DCA corr'!$A:$F,4,0) -> 6.01 | E16: =VLOOKUP(B16,'DCA fantagazz'!$A:$F,4,0) -> 6.08 | I16: GABBIADINI | J16: =VLOOKUP(I16,'DCA gazz'!$A:$F,4,0) -> 5.84 | K16: =VLOOKUP(I16,'DCA corr'!$A:$F,4,0) -> 5.95 | L16: =VLOOKUP(I16,'DCA fantagazz'!$A:$F,4,0) -> 5.8 | P16: PINILLA | Q16: =VLOOKUP(P16,'DCA gazz'!$A:$F,4,0) -> 5.89 | R16: =VLOOKUP(P16,'DCA corr'!$A:$F,4,0) -> 6 | S16: =VLOOKUP(P16,'DCA fantagazz'!$A:$F,4,0) -> 5.9 | W16: BERGESSIO | X16: =VLOOKUP(W16,'DCA gazz'!$A:$F,4,0) -> 6.2 | Y16: =VLOOKUP(W16,'DCA corr'!$A:$F,4,0) -> 6.14 | Z16: =VLOOKUP(W16,'DCA fantagazz'!$A:$F,4,0) -> 6.27 | AD16: PALOSCHI | AE16: =VLOOKUP(AD16,'DCA gazz'!$A:$F,4,0) -> 5.83 | AF16: =VLOOKUP(AD16,'DCA corr'!$A:$F,4,0) -> 5.83 | AG16: =VLOOKUP(AD16,'DCA fantagazz'!$A:$F,4,0) -> 5.83
B18: p | C18: =C3 -> 6.13 | D18: =D3 -> 6.2 | E18: =E3 -> 6.13 | F18: =F3 -> 0 | I18: p | J18: =J3 -> 6.14 | K18: =K3 -> 6.25 | L18: =L3 -> 6.11 | M18: =M3 -> 0 | P18: p | Q18: =Q3 -> 6.21 | R18: =R3 -> 6.19 | S18: =S3 -> 6.01 | T18: =T3 -> 0 | W18: p | X18: =X3 -> 6.09 | Y18: =Y3 -> 6.12 | Z18: =Z3 -> 6.12 | AA18: =AA3 -> 0 | AD18: p | AE18: =AE3 -> 6.18 | AF18: =AF3 -> 6.12 | AG18: =AG3 -> 6.12 | AH18: =AH3 -> 0
B19: d | C19: =SUM(C4:C9) -> 34.68 | D19: =SUM(D4:D9) -> 34.86 | E19: =SUM(E4:E9) -> 34.91 | F19: =SUM(F4:F9) -> 0 | I19: d | J19: =SUM(J4:J8) -> 28.84 | K19: =SUM(K4:K8) -> 29.13 | L19: =SUM(L4:L8) -> 29.52 | M19: =SUM(M4:M8) -> 0 | P19: d | Q19: =SUM(Q4:Q8) -> 29.03 | R19: =SUM(R4:R8) -> 29.72 | S19: =SUM(S4:S8) -> 29.54 | T19: =SUM(T4:T8) -> 0 | W19: d | X19: =SUM(X4:X8) -> 30.13 | Y19: =SUM(Y4:Y8) -> 29.86 | Z19: =SUM(Z4:Z8) -> 30.2 | AA19: =SUM(AA4:AA8) -> 0 | AD19: d | AE19: =SUM(AE4:AE8) -> 29.34 | AF19: =SUM(AF4:AF8) -> 29.21 | AG19: =SUM(AG4:AG8) -> 29.24 | AH19: =SUM(AH4:AH8) -> 0
B20: c | C20: =SUM(C10:C15) -> 35.53 | D20: =SUM(D10:D15) -> 35.61 | E20: =SUM(E10:E15) -> 35.54 | F20: =SUM(F10:F15) -> 0 | I20: c | J20: =SUM(J9:J14) -> 35.51 | K20: =SUM(K9:K14) -> 34.96 | L20: =SUM(L9:L14) -> 35.47 | M20: =SUM(M9:M14) -> 0 | P20: c | Q20: =SUM(Q9:Q13) -> 30.33 | R20: =SUM(R9:R13) -> 30.48 | S20: =SUM(S9:S13) -> 30.22 | T20: =SUM(T9:T13) -> 0 | W20: c | X20: =SUM(X9:X15) -> 42.87 | Y20: =SUM(Y9:Y15) -> 42.58 | Z20: =SUM(Z9:Z15) -> 42.89 | AA20: =SUM(AA9:AA15) -> 0 | AD20: c | AE20: =SUM(AE9:AE13) -> 29.82 | AF20: =SUM(AF9:AF13) -> 29.93 | AG20: =SUM(AG9:AG13) -> 29.79 | AH20: =SUM(AH9:AH13) -> 0
B21: a | C21: =SUM(C16:C16) -> 5.93 | D21: =SUM(D16:D16) -> 6.01 | E21: =SUM(E16:E16) -> 6.08 | F21: =SUM(F16:F16) -> 0 | I21: a | J21: =SUM(J15:J16) -> 11.74 | K21: =SUM(K15:K16) -> 12.06 | L21: =SUM(L15:L16) -> 11.77 | M21: =SUM(M15:M16) -> 0 | P21: a | Q21: =SUM(Q14:Q16) -> 18.3 | R21: =SUM(R14:R16) -> 18.5 | S21: =SUM(S14:S16) -> 18.27 | T21: =SUM(T14:T16) -> 0 | W21: a | X21: =SUM(X16:X16) -> 6.2 | Y21: =SUM(Y16:Y16) -> 6.14 | Z21: =SUM(Z16:Z16) -> 6.27 | AA21: =SUM(AA16:AA16) -> 0 | AD21: a | AE21: =SUM(AE14:AE16) -> 17.63 | AF21: =SUM(AF14:AF16) -> 17.57 | AG21: =SUM(AG14:AG16) -> 17.77 | AH21: =SUM(AH14:AH16) -> 0
B22: tot | C22: =SUM(C18:C21) -> 82.27 | D22: =SUM(D18:D21) -> 82.68 | E22: =SUM(E18:E21) -> 82.66 | F22: =SUM(F18:F21) -> 0 | I22: tot | J22: =SUM(J18:J21) -> 82.23 | K22: =SUM(K18:K21) -> 82.4 | L22: =SUM(L18:L21) -> 82.87 | M22: =SUM(M18:M21) -> 0 | P22: tot | Q22: =SUM(Q18:Q21) -> 83.87 | R22: =SUM(R18:R21) -> 84.89 | S22: =SUM(S18:S21) -> 84.04 | T22: =SUM(T18:T21) -> 0 | W22: tot | X22: =SUM(X18:X21) -> 85.29 | Y22: =SUM(Y18:Y21) -> 84.7 | Z22: =SUM(Z18:Z21) -> 85.48 | AA22: =SUM(AA18:AA21) -> 0 | AD22: tot | AE22: =SUM(AE18:AE21) -> 82.97 | AF22: =SUM(AF18:AF21) -> 82.83 | AG22: =SUM(AG18:AG21) -> 82.92 | AH22: =SUM(AH18:AH21) -> 0
B24: FIO | C24: g | D24: c | E24: f | F24: s | I24: GEN | J24: g | K24: c | L24: f | M24: s | P24: INT | Q24: g | R24: c | S24: f | T24: s | W24: JUV | X24: g | Y24: c | Z24: f | AA24: s | AD24: LAZ | AE24: g | AF24: c | AG24: f | AH24: s
B25: VIVIANO | C25: =VLOOKUP(B25,'P gazz'!$A:$E,4,0) -> 6.07 | D25: =VLOOKUP(B25,'P corr'!$A:$E,4,0) -> 6.17 | E25: =VLOOKUP(B25,'P fantagazz'!$A:$E,4,0) -> 6.06 | I25: FREY S. | J25: =VLOOKUP(I25,'P gazz'!$A:$E,4,0) -> 6.17 | K25: =VLOOKUP(I25,'P corr'!$A:$E,4,0) -> 6.13 | L25: =VLOOKUP(I25,'P fantagazz'!$A:$E,4,0) -> 6.18 | P25: HANDANOVIC | Q25: =VLOOKUP(P25,'P gazz'!$A:$E,4,0) -> 6.29 | R25: =VLOOKUP(P25,'P corr'!$A:$E,4,0) -> 6.39 | S25: =VLOOKUP(P25,'P fantagazz'!$A:$E,4,0) -> 6.21 | W25: BUFFON | X25: =VLOOKUP(W25,'P gazz'!$A:$E,4,0) -> 6.15 | Y25: =VLOOKUP(W25,'P corr'!$A:$E,4,0) -> 6.13 | Z25: =VLOOKUP(W25,'P fantagazz'!$A:$E,4,0) -> 6.13 | AD25: MARCHETTI | AE25: =VLOOKUP(AD25,'P gazz'!$A:$E,4,0) -> 6.32 | AF25: =VLOOKUP(AD25,'P corr'!$A:$E,4,0) -> 6.23 | AG25: =VLOOKUP(AD25,'P fantagazz'!$A:$E,4,0) -> 6.2
B26: PASQUAL | C26: =VLOOKUP(B26,'DCA gazz'!$A:$F,4,0) -> 6.21 | D26: =VLOOKUP(B26,'DCA corr'!$A:$F,4,0) -> 6.26 | E26: =VLOOKUP(B26,'DCA fantagazz'!$A:$F,4,0) -> 6.31 | I26: GRANQVIST | J26: =VLOOKUP(I26,'DCA gazz'!$A:$F,4,0) -> 6.03 | K26: =VLOOKUP(I26,'DCA corr'!$A:$F,4,0) -> 5.91 | L26: =VLOOKUP(I26,'DCA fantagazz'!$A:$F,4,0) -> 6.01 | P26: RANOCCHIA | Q26: =VLOOKUP(P26,'DCA gazz'!$A:$F,4,0) -> 6 | R26: =VLOOKUP(P26,'DCA corr'!$A:$F,4,0) -> 6.03 | S26: =VLOOKUP(P26,'DCA fantagazz'!$A:$F,4,0) -> 5.81 | W26: BARZAGLI | X26: =VLOOKUP(W26,'DCA gazz'!$A:$F,4,0) -> 6.26 | Y26: =VLOOKUP(W26,'DCA corr'!$A:$F,4,0) -> 6.26 | Z26: =VLOOKUP(W26,'DCA fantagazz'!$A:$F,4,0) -> 6.29 | AD26: BIAVA | AE26: =VLOOKUP(AD26,'DCA gazz'!$A:$F,4,0) -> 5.87 | AF26: =VLOOKUP(AD26,'DCA corr'!$A:$F,4,0) -> 6.22 | AG26: =VLOOKUP(AD26,'DCA fantagazz'!$A:$F,4,0) -> 5.95
B27: RODRIGUEZ GO. | C27: =VLOOKUP(B27,'DCA gazz'!$A:$F,4,0) -> 5.97 | D27: =VLOOKUP(B27,'DCA corr'!$A:$F,4,0) -> 6.17 | E27: =VLOOKUP(B27,'DCA fantagazz'!$A:$F,4,0) -> 6.1 | I27: ANTONELLI | J27: =VLOOKUP(I27,'DCA gazz'!$A:$F,4,0) -> 5.88 | K27: =VLOOKUP(I27,'DCA corr'!$A:$F,4,0) -> 5.97 | L27: =VLOOKUP(I27,'DCA fantagazz'!$A:$F,4,0) -> 6 | P27: JUAN JESUS | Q27: =VLOOKUP(P27,'DCA gazz'!$A:$F,4,0) -> 5.69 | R27: =VLOOKUP(P27,'DCA corr'!$A:$F,4,0) -> 5.63 | S27: =VLOOKUP(P27,'DCA fantagazz'!$A:$F,4,0) -> 5.68 | W27: BONUCCI | X27: =VLOOKUP(W27,'DCA gazz'!$A:$F,4,0) -> 6.24 | Y27: =VLOOKUP(W27,'DCA corr'!$A:$F,4,0) -> 6.15 | Z27: =VLOOKUP(W27,'DCA fantagazz'!$A:$F,4,0) -> 6.11 | AD27: DIAS | AE27: =VLOOKUP(AD27,'DCA gazz'!$A:$F,4,0) -> 5.71 | AF27: =VLOOKUP(AD27,'DCA corr'!$A:$F,4,0) -> 5.85 | AG27: =VLOOKUP(AD27,'DCA fantagazz'!$A:$F,4,0) -> 5.79
B28: SAVIC | C28: =VLOOKUP(B28,'DCA gazz'!$A:$F,4,0) -> 5.94 | D28: =VLOOKUP(B28,'DCA corr'!$A:$F,4,0) -> 6.23 | E28: =VLOOKUP(B28,'DCA fantagazz'!$A:$F,4,0) -> 6.06 | I28: MORETTI E. | J28: =VLOOKUP(I28,'DCA gazz'!$A:$F,4,0) -> 5.93 | K28: =VLOOKUP(I28,'DCA corr'!$A:$F,4,0) -> 5.88 | L28: =VLOOKUP(I28,'DCA fantagazz'!$A:$F,4,0) -> 5.88 | P28: ALVARO PEREIRA | Q28: =VLOOKUP(P28,'DCA gazz'!$A:$F,4,0) -> 5.54 | R28: =VLOOKUP(P28,'DCA corr'!$A:$F,4,0) -> 5.62 | S28: =VLOOKUP(P28,'DCA fantagazz'!$A:$F,4,0) -> 5.76 | W28: LICHTSTEINER | X28: =VLOOKUP(W28,'DCA gazz'!$A:$F,4,0) -> 6.2 | Y28: =VLOOKUP(W28,'DCA corr'!$A:$F,4,0) -> 6.08 | Z28: =VLOOKUP(W28,'DCA fantagazz'!$A:$F,4,0) -> 5.98 | AD28: KONKO | AE28: =VLOOKUP(AD28,'DCA gazz'!$A:$F,4,0) -> 6 | AF28: =VLOOKUP(AD28,'DCA corr'!$A:$F,4,0) -> 6.02 | AG28: =VLOOKUP(AD28,'DCA fantagazz'!$A:$F,4,0) -> 5.98
B29: TOMOVIC | C29: =VLOOKUP(B29,'DCA gazz'!$A:$F,4,0) -> 5.8 | D29: =VLOOKUP(B29,'DCA corr'!$A:$F,4,0) -> 5.96 | E29: =VLOOKUP(B29,'DCA fantagazz'!$A:$F,4,0) -> 5.9 | I29: MANFREDINI | J29: =VLOOKUP(I29,'DCA gazz'!$A:$F,4,0) -> 6.09 | K29: =VLOOKUP(I29,'DCA corr'!$A:$F,4,0) -> 6.19 | L29: =VLOOKUP(I29,'DCA fantagazz'!$A:$F,4,0) -> 6.12 | P29: NAGATOMO | Q29: =VLOOKUP(P29,'DCA gazz'!$A:$F,4,0) -> 5.65 | R29: =VLOOKUP(P29,'DCA corr'!$A:$F,4,0) -> 5.6 | S29: =VLOOKUP(P29,'DCA fantagazz'!$A:$F,4,0) -> 5.77 | W29: CHIELLINI | X29: =VLOOKUP(W29,'DCA gazz'!$A:$F,4,0) -> 6.17 | Y29: =VLOOKUP(W29,'DCA corr'!$A:$F,4,0) -> 6.39 | Z29: =VLOOKUP(W29,'DCA fantagazz'!$A:$F,4,0) -> 6.4 | AD29: RADU | AE29: =VLOOKUP(AD29,'DCA gazz'!$A:$F,4,0) -> 6.07 | AF29: =VLOOKUP(AD29,'DCA corr'!$A:$F,4,0) -> 6.15 | AG29: =VLOOKUP(AD29,'DCA fantagazz'!$A:$F,4,0) -> 6.02
B30: RONCAGLIA | C30: =VLOOKUP(B30,'DCA gazz'!$A:$F,4,0) -> 5.85 | D30: =VLOOKUP(B30,'DCA corr'!$A:$F,4,0) -> 6.13 | E30: =VLOOKUP(B30,'DCA fantagazz'!$A:$F,4,0) -> 6.08 | I30: PORTANOVA | J30: =VLOOKUP(I30,'DCA gazz'!$A:$F,4,0) -> 6 | K30: =VLOOKUP(I30,'DCA corr'!$A:$F,4,0) -> 5.97 | L30: =VLOOKUP(I30,'DCA fantagazz'!$A:$F,4,0) -> 5.97 | P30: SAMUEL | Q30: =VLOOKUP(P30,'DCA gazz'!$A:$F,4,0) -> 6.16 | R30: =VLOOKUP(P30,'DCA corr'!$A:$F,4,0) -> 6 | S30: =VLOOKUP(P30,'DCA fantagazz'!$A:$F,4,0) -> 5.97 | W30: PIRLO | X30: =VLOOKUP(W30,'DCA gazz'!$A:$F,4,0) -> 6.27 | Y30: =VLOOKUP(W30,'DCA corr'!$A:$F,4,0) -> 6.34 | Z30: =VLOOKUP(W30,'DCA fantagazz'!$A:$F,4,0) -> 6.2 | AD30: LEDESMA | AE30: =VLOOKUP(AD30,'DCA gazz'!$A:$F,4,0) -> 6.18 | AF30: =VLOOKUP(AD30,'DCA corr'!$A:$F,4,0) -> 6.19 | AG30: =VLOOKUP(AD30,'DCA fantagazz'!$A:$F,4,0) -> 5.85
B31: BORJA VALERO | C31: =VLOOKUP(B31,'DCA gazz'!$A:$F,4,0) -> 6.47 | D31: =VLOOKUP(B31,'DCA corr'!$A:$F,4,0) -> 6.42 | E31: =VLOOKUP(B31,'DCA fantagazz'!$A:$F,4,0) -> 6.42 | I31: KUCKA | J31: =VLOOKUP(I31,'DCA gazz'!$A:$F,4,0) -> 6.17 | K31: =VLOOKUP(I31,'DCA corr'!$A:$F,4,0) -> 6.08 | L31: =VLOOKUP(I31,'DCA fantagazz'!$A:$F,4,0) -> 6.08 | P31: CAMBIASSO | Q31: =VLOOKUP(P31,'DCA gazz'!$A:$F,4,0) -> 5.92 | R31: =VLOOKUP(P31,'DCA corr'!$A:$F,4,0) -> 6 | S31: =VLOOKUP(P31,'DCA fantagazz'!$A:$F,4,0) -> 6.05 | W31: VIDAL | X31: =VLOOKUP(W31,'DCA gazz'!$A:$F,4,0) -> 6.24 | Y31: =VLOOKUP(W31,'DCA corr'!$A:$F,4,0) -> 6.35 | Z31: =VLOOKUP(W31,'DCA fantagazz'!$A:$F,4,0) -> 6.32 | AD31: CANDREVA | AE31: =VLOOKUP(AD31,'DCA gazz'!$A:$F,4,0) -> 6.24 | AF31: =VLOOKUP(AD31,'DCA corr'!$A:$F,4,0) -> 6.29 | AG31: =VLOOKUP(AD31,'DCA fantagazz'!$A:$F,4,0) -> 6.19
B32: CUADRADO | C32: =VLOOKUP(B32,'DCA gazz'!$A:$F,4,0) -> 6.39 | D32: =VLOOKUP(B32,'DCA corr'!$A:$F,4,0) -> 6.39 | E32: =VLOOKUP(B32,'DCA fantagazz'!$A:$F,4,0) -> 6.47 | I32: BERTOLACCI | J32: =VLOOKUP(I32,'DCA gazz'!$A:$F,4,0) -> 5.86 | K32: =VLOOKUP(I32,'DCA corr'!$A:$F,4,0) -> 5.93 | L32: =VLOOKUP(I32,'DCA fantagazz'!$A:$F,4,0) -> 5.83 | P32: ZANETTI | Q32: =VLOOKUP(P32,'DCA gazz'!$A:$F,4,0) -> 5.91 | R32: =VLOOKUP(P32,'DCA corr'!$A:$F,4,0) -> 6.02 | S32: =VLOOKUP(P32,'DCA fantagazz'!$A:$F,4,0) -> 6 | W32: MARCHISIO | X32: =VLOOKUP(W32,'DCA gazz'!$A:$F,4,0) -> 6.3 | Y32: =VLOOKUP(W32,'DCA corr'!$A:$F,4,0) -> 6.29 | Z32: =VLOOKUP(W32,'DCA fantagazz'!$A:$F,4,0) -> 6.29 | AD32: HERNANES | AE32: =VLOOKUP(AD32,'DCA gazz'!$A:$F,4,0) -> 6.03 | AF32: =VLOOKUP(AD32,'DCA corr'!$A:$F,4,0) -> 6.15 | AG32: =VLOOKUP(AD32,'DCA fantagazz'!$A:$F,4,0) -> 5.76
B33: PIZARRO | C33: =VLOOKUP(B33,'DCA gazz'!$A:$F,4,0) -> 6.47 | D33: =VLOOKUP(B33,'DCA corr'!$A:$F,4,0) -> 6.52 | E33: =VLOOKUP(B33,'DCA fantagazz'!$A:$F,4,0) -> 6.36 | I33: TOZSER | J33: =VLOOKUP(I33,'DCA gazz'!$A:$F,4,0) -> 5.67 | K33: =VLOOKUP(I33,'DCA corr'!$A:$F,4,0) -> 5.53 | L33: =VLOOKUP(I33,'DCA fantagazz'!$A:$F,4,0) -> 5.57 | P33: GUARIN | Q33: =VLOOKUP(P33,'DCA gazz'!$A:$F,4,0) -> 5.82 | R33: =VLOOKUP(P33,'DCA corr'!$A:$F,4,0) -> 5.71 | S33: =VLOOKUP(P33,'DCA fantagazz'!$A:$F,4,0) -> 5.92 | W33: ASAMOAH | X33: =VLOOKUP(W33,'DCA gazz'!$A:$F,4,0) -> 6.02 | Y33: =VLOOKUP(W33,'DCA corr'!$A:$F,4,0) -> 6.04 | Z33: =VLOOKUP(W33,'DCA fantagazz'!$A:$F,4,0) -> 6.08 | AD33: GONZALEZ | AE33: =VLOOKUP(AD33,'DCA gazz'!$A:$F,4,0) -> 5.99 | AF33: =VLOOKUP(AD33,'DCA corr'!$A:$F,4,0) -> 6.17 | AG33: =VLOOKUP(AD33,'DCA fantagazz'!$A:$F,4,0) -> 5.87
B34: LJAJIC | C34: =VLOOKUP(B34,'DCA gazz'!$A:$F,4,0) -> 6.29 | D34: =VLOOKUP(B34,'DCA corr'!$A:$F,4,0) -> 6.36 | E34: =VLOOKUP(B34,'DCA fantagazz'!$A:$F,4,0) -> 6.33 | I34: JANKOVIC | J34: =VLOOKUP(I34,'DCA gazz'!$A:$F,4,0) -> 5.92 | K34: =VLOOKUP(I34,'DCA corr'!$A:$F,4,0) -> 5.94 | L34: =VLOOKUP(I34,'DCA fantagazz'!$A:$F,4,0) -> 5.89 | P34: GARGANO | Q34: =VLOOKUP(P34,'DCA gazz'!$A:$F,4,0) -> 5.71 | R34: =VLOOKUP(P34,'DCA corr'!$A:$F,4,0) -> 5.81 | S34: =VLOOKUP(P34,'DCA fantagazz'!$A:$F,4,0) -> 5.67 | W34: POGBA | X34: =VLOOKUP(W34,'DCA gazz'!$A:$F,4,0) -> 6.35 | Y34: =VLOOKUP(W34,'DCA corr'!$A:$F,4,0) -> 6.39 | Z34: =VLOOKUP(W34,'DCA fantagazz'!$A:$F,4,0) -> 6.38 | AD34: LULIC | AE34: =VLOOKUP(AD34,'DCA gazz'!$A:$F,4,0) -> 6.02 | AF34: =VLOOKUP(AD34,'DCA corr'!$A:$F,4,0) -> 5.79 | AG34: =VLOOKUP(AD34,'DCA fantagazz'!$A:$F,4,0) -> 5.77
B35: AQUILANI | C35: =VLOOKUP(B35,'DCA gazz'!$A:$F,4,0) -> 6.1 | D35: =VLOOKUP(B35,'DCA corr'!$A:$F,4,0) -> 6.19 | E35: =VLOOKUP(B35,'DCA fantagazz'!$A:$F,4,0) -> 5.94 | I35: MATUZALEM | J35: =VLOOKUP(I35,'DCA gazz'!$A:$F,4,0) -> 6.17 | K35: =VLOOKUP(I35,'DCA corr'!$A:$F,4,0) -> 5.97 | L35: =VLOOKUP(I35,'DCA fantagazz'!$A:$F,4,0) -> 5.9 | P35: KOVACIC | Q35: =VLOOKUP(P35,'DCA gazz'!$A:$F,4,0) -> 6.04 | R35: =VLOOKUP(P35,'DCA corr'!$A:$F,4,0) -> 6.15 | S35: =VLOOKUP(P35,'DCA fantagazz'!$A:$F,4,0) -> 6.04 | W35: GIACCHERINI | X35: =VLOOKUP(W35,'DCA gazz'!$A:$F,4,0) -> 6.09 | Y35: =VLOOKUP(W35,'DCA corr'!$A:$F,4,0) -> 6.2 | Z35: =VLOOKUP(W35,'DCA fantagazz'!$A:$F,4,0) -> 6.16 | AD35: MAURI | AE35: =VLOOKUP(AD35,'DCA gazz'!$A:$F,4,0) -> 5.96 | AF35: =VLOOKUP(AD35,'DCA corr'!$A:$F,4,0) -> 6.1 | AG35: =VLOOKUP(AD35,'DCA fantagazz'!$A:$F,4,0) -> 5.86
B36: FERNANDEZ M. | C36: =VLOOKUP(B36,'DCA gazz'!$A:$F,4,0) -> 5.95 | D36: =VLOOKUP(B36,'DCA corr'!$A:$F,4,0) -> 6 | E36: =VLOOKUP(B36,'DCA fantagazz'!$A:$F,4,0) -> 5.83 | I36: ROSSI | J36: =VLOOKUP(I36,'DCA gazz'!$A:$F,4,0) -> 5.96 | K36: =VLOOKUP(I36,'DCA corr'!$A:$F,4,0) -> 5.95 | L36: =VLOOKUP(I36,'DCA fantagazz'!$A:$F,4,0) -> 5.96 | P36: CASSANO | Q36: =VLOOKUP(P36,'DCA gazz'!$A:$F,4,0) -> 6.13 | R36: =VLOOKUP(P36,'DCA corr'!$A:$F,4,0) -> 6.32 | S36: =VLOOKUP(P36,'DCA fantagazz'!$A:$F,4,0) -> 6.2 | W36: VUCINIC | X36: =VLOOKUP(W36,'DCA gazz'!$A:$F,4,0) -> 6.02 | Y36: =VLOOKUP(W36,'DCA corr'!$A:$F,4,0) -> 6.13 | Z36: =VLOOKUP(W36,'DCA fantagazz'!$A:$F,4,0) -> 6.11 | AD36: CANA | AE36: =VLOOKUP(AD36,'DCA gazz'!$A:$F,4,0) -> 5.92 | AF36: =VLOOKUP(AD36,'DCA corr'!$A:$F,4,0) -> 5.92 | AG36: =VLOOKUP(AD36,'DCA fantagazz'!$A:$F,4,0) -> 5.92
B37: JOVETIC | C37: =VLOOKUP(B37,'DCA gazz'!$A:$F,4,0) -> 6.18 | D37: =VLOOKUP(B37,'DCA corr'!$A:$F,4,0) -> 6.19 | E37: =VLOOKUP(B37,'DCA fantagazz'!$A:$F,4,0) -> 6.06 | I37: BORRIELLO | J37: =VLOOKUP(I37,'DCA gazz'!$A:$F,4,0) -> 6.11 | K37: =VLOOKUP(I37,'DCA corr'!$A:$F,4,0) -> 6.29 | L37: =VLOOKUP(I37,'DCA fantagazz'!$A:$F,4,0) -> 6.2 | P37: PALACIO | Q37: =VLOOKUP(P37,'DCA gazz'!$A:$F,4,0) -> 6.1 | R37: =VLOOKUP(P37,'DCA corr'!$A:$F,4,0) -> 6.08 | S37: =VLOOKUP(P37,'DCA fantagazz'!$A:$F,4,0) -> 5.98 | W37: GIOVINCO | X37: =VLOOKUP(W37,'DCA gazz'!$A:$F,4,0) -> 5.83 | Y37: =VLOOKUP(W37,'DCA corr'!$A:$F,4,0) -> 6.12 | Z37: =VLOOKUP(W37,'DCA fantagazz'!$A:$F,4,0) -> 6 | AD37: KLOSE | AE37: =VLOOKUP(AD37,'DCA gazz'!$A:$F,4,0) -> 6.16 | AF37: =VLOOKUP(AD37,'DCA corr'!$A:$F,4,0) -> 6.41 | AG37: =VLOOKUP(AD37,'DCA fantagazz'!$A:$F,4,0) -> 6.15
B38: TONI | C38: =VLOOKUP(B38,'DCA gazz'!$A:$F,4,0) -> 5.94 | D38: =VLOOKUP(B38,'DCA corr'!$A:$F,4,0) -> 6.17 | E38: =VLOOKUP(B38,'DCA fantagazz'!$A:$F,4,0) -> 6.04 | I38: IMMOBILE | J38: =VLOOKUP(I38,'DCA gazz'!$A:$F,4,0) -> 5.59 | K38: =VLOOKUP(I38,'DCA corr'!$A:$F,4,0) -> 5.84 | L38: =VLOOKUP(I38,'DCA fantagazz'!$A:$F,4,0) -> 5.81 | P38: MILITO | Q38: =VLOOKUP(P38,'DCA gazz'!$A:$F,4,0) -> 5.95 | R38: =VLOOKUP(P38,'DCA corr'!$A:$F,4,0) -> 6 | S38: =VLOOKUP(P38,'DCA fantagazz'!$A:$F,4,0) -> 5.97 | W38: QUAGLIARELLA | X38: =VLOOKUP(W38,'DCA gazz'!$A:$F,4,0) -> 6.05 | Y38: =VLOOKUP(W38,'DCA corr'!$A:$F,4,0) -> 6.06 | Z38: =VLOOKUP(W38,'DCA fantagazz'!$A:$F,4,0) -> 6.07 | AD38: FLOCCARI | AE38: =VLOOKUP(AD38,'DCA gazz'!$A:$F,4,0) -> 6.08 | AF38: =VLOOKUP(AD38,'DCA corr'!$A:$F,4,0) -> 6.09 | AG38: =VLOOKUP(AD38,'DCA fantagazz'!$A:$F,4,0) -> 6
B40: p | C40: =C25 -> 6.07 | D40: =D25 -> 6.17 | E40: =E25 -> 6.06 | F40: =F25 -> 0 | I40: p | J40: =J25 -> 6.17 | K40: =K25 -> 6.13 | L40: =L25 -> 6.18 | M40: =M25 -> 0 | P40: p | Q40: =Q25 -> 6.29 | R40: =R25 -> 6.39 | S40: =S25 -> 6.21 | T40: =T25 -> 0 | W40: p | X40: =X25 -> 6.15 | Y40: =Y25 -> 6.13 | Z40: =Z25 -> 6.13 | AA40: =AA25 -> 0 | AD40: p | AE40: =AE25 -> 6.32 | AF40: =AF25 -> 6.23 | AG40: =AG25 -> 6.2 | AH40: =AH25 -> 0
B41: d | C41: =SUM(C26:C30) -> 29.77 | D41: =SUM(D26:D30) -> 30.75 | E41: =SUM(E26:E30) -> 30.45 | F41: =SUM(F26:F30) -> 0 | I41: d | J41: =SUM(J26:J30) -> 29.93 | K41: =SUM(K26:K30) -> 29.92 | L41: =SUM(L26:L30) -> 29.98 | M41: =SUM(M26:M30) -> 0 | P41: d | Q41: =SUM(Q26:Q30) -> 29.04 | R41: =SUM(R26:R30) -> 28.88 | S41: =SUM(S26:S30) -> 28.99 | T41: =SUM(T26:T30) -> 0 | W41: d | X41: =SUM(X26:X29) -> 24.87 | Y41: =SUM(Y26:Y29) -> 24.88 | Z41: =SUM(Z26:Z29) -> 24.78 | AA41: =SUM(AA26:AA29) -> 0 | AD41: d | AE41: =SUM(AE26:AE29) -> 23.65 | AF41: =SUM(AF26:AF29) -> 24.24 | AG41: =SUM(AG26:AG29) -> 23.74 | AH41: =SUM(AH26:AH29) -> 0
B42: c | C42: =SUM(C31:C36) -> 37.67 | D42: =SUM(D31:D36) -> 37.88 | E42: =SUM(E31:E36) -> 37.35 | F42: =SUM(F31:F36) -> 0 | I42: c | J42: =SUM(J31:J36) -> 35.75 | K42: =SUM(K31:K36) -> 35.4 | L42: =SUM(L31:L36) -> 35.23 | M42: =SUM(M31:M36) -> 0 | P42: c | Q42: =SUM(Q31:Q35) -> 29.4 | R42: =SUM(R31:R35) -> 29.69 | S42: =SUM(S31:S35) -> 29.68 | T42: =SUM(T31:T35) -> 0 | W42: c | X42: =SUM(X30:X35) -> 37.27 | Y42: =SUM(Y30:Y35) -> 37.61 | Z42: =SUM(Z30:Z35) -> 37.43 | AA42: =SUM(AA30:AA35) -> 0 | AD42: c | AE42: =SUM(AE30:AE36) -> 42.34 | AF42: =SUM(AF30:AF36) -> 42.61 | AG42: =SUM(AG30:AG36) -> 41.22 | AH42: =SUM(AH30:AH36) -> 0
B43: a | C43: =SUM(C37:C38) -> 12.12 | D43: =SUM(D37:D38) -> 12.36 | E43: =SUM(E37:E38) -> 12.1 | F43: =SUM(F37:F38) -> 0 | I43: a | J43: =SUM(J37:J38) -> 11.7 | K43: =SUM(K37:K38) -> 12.13 | L43: =SUM(L37:L38) -> 12.01 | M43: =SUM(M37:M38) -> 0 | P43: a | Q43: =SUM(Q36:Q38) -> 18.18 | R43: =SUM(R36:R38) -> 18.4 | S43: =SUM(S36:S38) -> 18.15 | T43: =SUM(T36:T38) -> 0 | W43: a | X43: =SUM(X36:X38) -> 17.9 | Y43: =SUM(Y36:Y38) -> 18.31 | Z43: =SUM(Z36:Z38) -> 18.18 | AA43: =SUM(AA36:AA38) -> 0 | AD43: a | AE43: =SUM(AE37:AE38) -> 12.24 | AF43: =SUM(AF37:AF38) -> 12.5 | AG43: =SUM(AG37:AG38) -> 12.15 | AH43: =SUM(AH37:AH38) -> 0
B44: tot | C44: =SUM(C40:C43) -> 85.63 | D44: =SUM(D40:D43) -> 87.16 | E44: =SUM(E40:E43) -> 85.96 | F44: =SUM(F40:F43) -> 0 | I44: tot | J44: =SUM(J40:J43) -> 83.55 | K44: =SUM(K40:K43) -> 83.58 | L44: =SUM(L40:L43) -> 83.4 | M44: =SUM(M40:M43) -> 0 | P44: tot | Q44: =SUM(Q40:Q43) -> 82.91 | R44: =SUM(R40:R43) -> 83.36 | S44: =SUM(S40:S43) -> 83.03 | T44: =SUM(T40:T43) -> 0 | W44: tot | X44: =SUM(X40:X43) -> 86.19 | Y44: =SUM(Y40:Y43) -> 86.93 | Z44: =SUM(Z40:Z43) -> 86.52 | AA44: =SUM(AA40:AA43) -> 0 | AD44: tot | AE44: =SUM(AE40:AE43) -> 84.55 | AF44: =SUM(AF40:AF43) -> 85.58 | AG44: =SUM(AG40:AG43) -> 83.31 | AH44: =SUM(AH40:AH43) -> 0
...

Sheet up 38a
B2: ATA | C2: g | D2: c | E2: f | G2: BOL | H2: g | I2: c | J2: f | L2: CAG | M2: g | N2: c | O2: f | Q2: CAT | R2: g | S2: c | T2: f
B3: CONSIGLI | C3: 6.13 | D3: 6.2 | E3: 6.13 | G3: CURCI | H3: 6.14 | I3: 6.25 | J3: 6.11 | L3: AGAZZI | M3: 6.21 | N3: 6.19 | O3: 6.01 | Q3: ANDUJAR | R3: 6.09 | S3: 6.12 | T3: 6.12
B4: STENDARDO | C4: 5.95 | D4: 6.07 | E4: 6 | G4: MORLEO | H4: 5.84 | I4: 5.84 | J4: 6.06 | L4: ASTORI | M4: 5.84 | N4: 6.06 | O4: 5.94 | Q4: MARCHESE | R4: 6.1 | S4: 6.15 | T4: 6.07
B5: DEL GROSSO | C5: 5.73 | D5: 5.66 | E5: 5.82 | G5: ANTONSSON | H5: 5.71 | I5: 5.77 | J5: 5.74 | L5: ROSSETTINI | M5: 5.91 | N5: 6.04 | O5: 5.93 | Q5: SPOLLI | R5: 6.16 | S5: 6.07 | T5: 6.29
B6: CANINI | C6: 5.65 | D6: 5.75 | E6: 5.71 | G6: CHERUBIN | H6: 5.79 | I6: 5.91 | J6: 5.83 | L6: PISANO F. | M6: 5.88 | N6: 6.02 | O6: 5.89 | Q6: ALVAREZ P.S. | R6: 5.87 | S6: 5.74 | T6: 5.91
B7: RAIMONDI | C7: 5.9 | D7: 5.79 | E7: 5.85 | G7: GARICS | H7: 5.67 | I7: 5.68 | J7: 5.91 | L7: AVELAR | M7: 5.9 | N7: 5.88 | O7: 6.1 | Q7: LEGROTTAGLIE | R7: 6.08 | S7: 6 | T7: 6.08
B8: LUCCHINI | C8: 5.9 | D8: 5.87 | E8: 5.78 | G8: SORENSEN | H8: 5.83 | I8: 5.93 | J8: 5.98 | L8: ARIAUDO | M8: 5.5 | N8: 5.72 | O8: 5.68 | Q8: BELLUSCI | R8: 5.92 | S8: 5.9 | T8: 5.85
B9: BRIVIO | C9: 5.55 | D9: 5.72 | E9: 5.75 | G9: DIAMANTI | H9: 6.31 | I9: 6.13 | J9: 6.4 | L9: NAINGGOLAN | M9: 6.15 | N9: 6.21 | O9: 6.18 | Q9: GOMEZ | R9: 6.21 | S9: 6.25 | T9: 6.29
B10: BONAVENTURA | C10: 6.18 | D10: 6.15 | E10: 6.1 | G10: TAIDER | H10: 5.75 | I10: 5.84 | J10: 5.94 | L10: EKDAL | M10: 6.03 | N10: 6.09 | O10: 5.98 | Q10: IZCO | R10: 6.22 | S10: 6.12 | T10: 6.16
B11: MORALEZ | C11: 5.74 | D11: 5.66 | E11: 5.74 | G11: KONE | H11: 6.03 | I11: 5.79 | J11: 5.97 | L11: DESSENA | M11: 5.85 | N11: 5.9 | O11: 5.85 | Q11: LODI | R11: 6.18 | S11: 6.15 | T11: 6.29
B12: CIGARINI | C12: 6.06 | D12: 6.2 | E12: 6.17 | G12: PEREZ | H12: 6 | I12: 6.07 | J12: 5.72 | L12: CONTI | M12: 6.14 | N12: 6.26 | O12: 6.07 | Q12: CASTRO | R12: 6.14 | S12: 6.12 | T12: 6.15
B13: GIORGI | C13: 5.67 | D13: 5.74 | E13: 5.83 | G13: PAZIENZA | H13: 5.54 | I13: 5.38 | J13: 5.65 | L13: COSSU | M13: 6.16 | N13: 6.02 | O13: 6.14 | Q13: BARRIENTOS | R13: 6.08 | S13: 6 | T13: 6.12
B14: BIONDINI | C14: 5.93 | D14: 5.89 | E14: 5.85 | G14: CHRISTODOULOPOULOS | H14: 5.88 | I14: 5.75 | J14: 5.79 | L14: IBARBO | M14: 6.19 | N14: 6.23 | O14: 6.15 | Q14: ALMIRON | R14: 6.14 | S14: 6.02 | T14: 5.98
... B16: DENIS | C16: 5.93 | D16: 6.01 | E16: 6.08 | G16: GABBIADINI | H16: 5.84 | I16: 5.95 | J16: 5.8 | L16: PINILLA | M16: 5.89 | N16: 6 | O16: 5.9 | Q16: BERGESSIO | R16: 6.2 | S16: 6.14 | T16: 6.27
B18: CHI | C18: g | D18: c | E18: f | G18: FIO | H18: g | I18: c | J18: f | L18: GEN | M18: g | N18: c | O18: f | Q18: INT | R18: g | S18: c | T18: f
B19: PUGGIONI | C19: 6.18 | D19: 6.12 | E19: 6.12 | G19: VIVIANO | H19: 6.07 | I19: 6.17 | J19: 6.06 | L19: FREY S. | M19: 6.17 | N19: 6.13 | O19: 6.18 | Q19: HANDANOVIC | R19: 6.29 | S19: 6.39 | T19: 6.21
B20: DAINELLI | C20: 5.91 | D20: 5.9 | E20: 5.96 | G20: PASQUAL | H20: 6.21 | I20: 6.26 | J20: 6.31 | L20: GRANQVIST | M20: 6.03 | N20: 5.91 | O20: 6.01 | Q20: RANOCCHIA | R20: 6 | S20: 6.03 | T20: 5.81
B21: ANDREOLLI | C21: 5.89 | D21: 5.98 | E21: 5.82 | G21: RODRIGUEZ GO. | H21: 5.97 | I21: 6.17 | J21: 6.1 | L21: ANTONELLI | M21: 5.88 | N21: 5.97 | O21: 6 | Q21: JUAN JESUS | R21: 5.69 | S21: 5.63 | T21: 5.68
B22: DRAME' | C22: 6.02 | D22: 5.8 | E22: 5.86 | G22: SAVIC | H22: 5.94 | I22: 6.23 | J22: 6.06 | L22: MORETTI E. | M22: 5.93 | N22: 5.88 | O22: 5.88 | Q22: PEREIRA | R22: 5.54 | S22: 5.62 | T22: 5.76
B23: CESAR | C23: 5.86 | D23: 5.86 | E23: 5.74 | G23: TOMOVIC | H23: 5.8 | I23: 5.96 | J23: 5.9 | L23: MANFREDINI | M23: 6.09 | N23: 6.19 | O23: 6.12 | Q23: NAGATOMO | R23: 5.65 | S23: 5.6 | T23: 5.77
B24: SARDO | C24: 5.66 | D24: 5.67 | E24: 5.86 | G24: RONCAGLIA | H24: 5.85 | I24: 6.13 | J24: 6.08 | L24: PORTANOVA | M24: 6 | N24: 5.97 | O24: 5.97 | Q24: SAMUEL | R24: 6.16 | S24: 6 | T24: 5.97
B25: RIGONI L. | C25: 6.02 | D25: 6.11 | E25: 6.03 | G25: BORJA VALERO | H25: 6.47 | I25: 6.42 | J25: 6.42 | L25: KUCKA | M25: 6.17 | N25: 6.08 | O25: 6.08 | Q25: CAMBIASSO | R25: 5.92 | S25: 6 | T25: 6.05
B26: HETEMAJ | C26: 5.95 | D26: 5.8 | E26: 5.88 | G26: CUADRADO | H26: 6.39 | I26: 6.39 | J26: 6.47 | L26: BERTOLACCI | M26: 5.86 | N26: 5.93 | O26: 5.83 | Q26: ZANETTI | R26: 5.91 | S26: 6.02 | T26: 6
B27: COFIE | C27: 5.84 | D27: 5.94 | E27: 5.83 | G27: PIZARRO | H27: 6.47 | I27: 6.52 | J27: 6.36 | L27: TOZSER | M27: 5.67 | N27: 5.53 | O27: 5.57 | Q27: GUARIN | R27: 5.82 | S27: 5.71 | T27: 5.92
B28: LUCIANO | C28: 5.96 | D28: 5.98 | E28: 5.98 | G28: LJAJIC | H28: 6.29 | I28: 6.36 | J28: 6.33 | L28: JANKOVIC | M28: 5.92 | N28: 5.94 | O28: 5.89 | Q28: GARGANO | R28: 5.71 | S28: 5.81 | T28: 5.67
B29: GUANA | C29: 6.05 | D29: 6.1 | E29: 6.07 | G29: AQUILANI | H29: 6.1 | I29: 6.19 | J29: 5.94 | L29: MATUZALEM | M29: 6.17 | N29: 5.97 | O29: 5.9 | Q29: KOVACIC | R29: 6.04 | S29: 6.15 | T29: 6.04
B30: THEREAU | C30: 6.07 | D30: 5.96 | E30: 6.11 | G30: FERNANDEZ M. | H30: 5.95 | I30: 6 | J30: 5.83 | L30: ROSSI | M30: 5.96 | N30: 5.95 | O30: 5.96 | Q30: CASSANO | R30: 6.13 | S30: 6.32 | T30: 6.2
... B32: PALOSCHI | C32: 5.83 | D32: 5.83 | E32: 5.83 | G32: TONI | H32: 5.94 | I32: 6.17 | J32: 6.04 | L32: IMMOBILE | M32: 5.59 | N32: 5.84 | O32: 5.81 | Q32: MILITO | R32: 5.95 | S32: 6 | T32: 5.97
B34: JUV | C34: g | D34: c | E34: f | G34: LAZ | H34: g | I34: c | J34: f | L34: MIL | M34: g | N34: c | O34: f | Q34: NAP | R34: g | S34: c | T34: f
B35: BUFFON | C35: 6.15 | D35: 6.13 | E35: 6.13 | G35: MARCHETTI | H35: 6.32 | I35: 6.23 | J35: 6.2 | L35: ABBIATI | M35: 6.07 | N35: 6.07 | O35: 6.09 | Q35: DE SANCTIS | R35: 6 | S35: 6.07 | T35: 6.09
B36: BARZAGLI | C36: 6.26 | D36: 6.26 | E36: 6.29 | G36: BIAVA | H36: 5.87 | I36: 6.22 | J36: 5.95 | L36: ABATE | M36: 5.96 | N36: 6 | O36: 5.89 | Q36: CANNAVARO | R36: 6.2 | S36: 6.23 | T36: 6.02
B37: BONUCCI | C37: 6.24 | D37: 6.15 | E37: 6.11 | G37: DIAS | H37: 5.71 | I37: 5.85 | J37: 5.79 | L37: DE SCIGLIO | M37: 6.12 | N37: 6 | O37: 6.12 | Q37: CAMPAGNARO | R37: 6.27 | S37: 6.27 | T37: 6.11
B38: LICHTSTEINER | C38: 6.2 | D38: 6.08 | E38: 5.98 | G38: KONKO | H38: 6 | I38: 6.02 | J38: 5.98 | L38: MEXES | M38: 5.94 | N38: 5.76 | O38: 5.88 | Q38: GAMBERINI | R38: 5.92 | S38: 5.8 | T38: 5.92
B39: CHIELLINI | C39: 6.17 | D39: 6.39 | E39: 6.4 | G39: RADU | H39: 6.07 | I39: 6.15 | J39: 6.02 | L39: ZAPATA | M39: 5.93 | N39: 5.76 | O39: 5.91 | Q39: BRITOS | R39: 5.89 | S39: 5.89 | T39: 5.86
B40: PIRLO | C40: 6.27 | D40: 6.34 | E40: 6.2 | G40: LEDESMA | H40: 6.18 | I40: 6.19 | J40: 5.85 | L40: MONTOLIVO | M40: 6.08 | N40: 6.11 | O40: 6.16 | Q40: HAMSIK | R40: 6.45 | S40: 6.51 | T40: 6.41
B41: VIDAL | C41: 6.24 | D41: 6.35 | E41: 6.32 | G41: CANDREVA | H41: 6.24 | I41: 6.29 | J41: 6.19 | L41: BOATENG | M41: 5.53 | N41: 5.62 | O41: 5.72 | Q41: BEHRAMI | R41: 6.18 | S41: 6.3 | T41: 6.17
B42: MARCHISIO | C42: 6.3 | D42: 6.29 | E42: 6.29 | G42: HERNANES | H42: 6.03 | I42: 6.15 | J42: 5.76 | L42: NOCERINO | M42: 5.58 | N42: 5.66 | O42: 5.68 | Q42: INLER | R42: 6.11 | S42: 6.09 | T42: 6.03
B43: ASAMOAH | C43: 6.02 | D43: 6.04 | E43: 6.08 | G43: GONZALEZ | H43: 5.99 | I43: 6.17 | J43: 5.87 | L43: CONSTANT | M43: 6.04 | N43: 5.63 | O43: 5.98 | Q43: MAGGIO | R43: 5.95 | S43: 5.92 | T43: 5.77
B44: POGBA | C44: 6.35 | D44: 6.39 | E44: 6.38 | G44: LULIC | H44: 6.02 | I44: 5.79 | J44: 5.77 | L44: FLAMINI | M44: 5.97 | N44: 5.97 | O44: 5.91 | Q44: ZUNIGA | R44: 5.85 | S44: 5.97 | T44: 5.95
B45: GIACCHERINI | C45: 6.09 | D45: 6.2 | E45: 6.16 | G45: MAURI | H45: 5.96 | I45: 6.1 | J45: 5.86 | L45: DE JONG | M45: 6.04 | N45: 5.85 | O45: 5.77 | Q45: DZEMAILI | R45: 5.95 | S45: 6.13 | T45: 6.16
...

Sheet up 18a
B2: ATA | C2: g | D2: c | E2: f | G2: BOL | H2: g | I2: c | J2: f | L2: CAG | M2: g | N2: c | O2: f | Q2: CAT | R2: g | S2: c | T2: f
B3: CONSIGLI | C3: 6.12 | D3: 6.21 | E3: 6.12 | G3: AGLIARDI | H3: 5.91 | I3: 6 | J3: 6.19 | L3: AGAZZI | M3: 6.17 | N3: 6.19 | O3: 5.97 | Q3: ANDUJAR | R3: 6.08 | S3: 6.08 | T3: 6.11
B4: MANFREDINI | C4: 6 | D4: 6.17 | E4: 6.17 | G4: ANTONSSON | H4: 5.66 | I4: 5.78 | J4: 5.81 | L4: PISANO F. | M4: 5.76 | N4: 5.91 | O4: 5.82 | Q4: LEGROTTAGLIE | R4: 6.09 | S4: 6 | T4: 6
B5: PELUSO | C5: 5.62 | D5: 5.92 | E5: 5.77 | G5: CHERUBIN | H5: 5.91 | I5: 5.81 | J5: 5.84 | L5: ASTORI | M5: 5.57 | N5: 5.73 | O5: 5.63 | Q5: MARCHESE | R5: 6.13 | S5: 6.19 | T5: 6.09
B6: RAIMONDI | C6: 6.04 | D6: 6 | E6: 5.92 | G6: MORLEO | H6: 5.68 | I6: 5.68 | J6: 6 | L6: ARIAUDO | M6: 5.35 | N6: 5.65 | O6: 5.65 | Q6: ALVAREZ P.S. | R6: 5.8 | S6: 5.67 | T6: 5.63
B7: STENDARDO | C7: 6 | D7: 6.09 | E7: 5.96 | G7: GARICS | H7: 5.73 | I7: 5.7 | J7: 6.15 | L7: NAINGGOLAN | M7: 6.13 | N7: 6.25 | O7: 6.13 | Q7: SPOLLI | R7: 6.13 | S7: 6.08 | T7: 6.13
B8: LUCCHINI | C8: 5.75 | D8: 5.8 | E8: 5.65 | G8: MOTTA | H8: 5.64 | I8: 5.55 | J8: 5.91 | L8: DESSENA | M8: 5.75 | N8: 5.82 | O8: 5.89 | Q8: LODI | R8: 6.22 | S8: 6.22 | T8: 6.44
B9: BRIVIO | C9: 5.69 | D9: 5.88 | E9: 6 | G9: DIAMANTI | H9: 6.28 | I9: 6.19 | J9: 6.34 | L9: EKDAL | M9: 6 | N9: 5.92 | O9: 6.07 | Q9: ALMIRON | R9: 6.13 | S9: 6.09 | T9: 5.97
B10: MORALEZ | C10: 5.89 | D10: 5.83 | E10: 5.94 | G10: TAIDER | H10: 5.69 | I10: 5.59 | J10: 5.94 | L10: CONTI | M10: 5.96 | N10: 6.12 | O10: 5.92 | Q10: BARRIENTOS | R10: 5.81 | S10: 5.71 | T10: 5.89
B11: BONAVENTURA | C11: 6.15 | D11: 6.03 | E11: 5.97 | G11: KONE | H11: 6.08 | I11: 5.77 | J11: 6 | L11: COSSU | M11: 6.05 | N11: 5.95 | O11: 6.23 | Q11: CASTRO | R11: 6.09 | S11: 6.04 | T11: 6.11
B12: CIGARINI | C12: 6 | D12: 6.28 | E12: 6.25 | G12: GUARENTE | H12: 5.73 | I12: 5.86 | J12: 5.77 | L12: SAU | M12: 6.19 | N12: 6.19 | O12: 6.27 | Q12: GOMEZ | R12: 6.34 | S12: 6.31 | T12: 6.38
B13: SCHELOTTO | C13: 5.8 | D13: 5.68 | E13: 5.68 | G13: GILARDINO | H13: 6 | I13: 6.18 | J13: 6.06 | L13: THIAGO RIBEIRO | M13: 5.62 | N13: 5.58 | O13: 5.71 | Q13: IZCO | R13: 6.07 | S13: 6 | T13: 5.89
B14: DENIS | C14: 5.89 | D14: 6.06 | E14: 6.03 | G14: GABBIADINI | H14: 5.92 | I14: 6.04 | J14: 5.92 | L14: PINILLA | M14: 5.95 | N14: 6 | O14: 5.9 | Q14: BERGESSIO | R14: 6.23 | S14: 6.1 | T14: 6.3
B16: CHI | C16: g | D16: c | E16: f | G16: FIO | H16: g | I16: c | J16: f | L16: GEN | M16: g | N16: c | O16: f | Q16: INT | R16: g | S16: c | T16: f
B17: SORRENTINO | C17: 6.22 | D17: 6.08 | E17: 6.14 | G17: VIVIANO | H17: 6.07 | I17: 6.06 | J17: 6.03 | L17: FREY S. | M17: 6.11 | N17: 6.22 | O17: 6.19 | Q17: HANDANOVIC | R17: 6.38 | S17: 6.53 | T17: 6.31
B18: DAINELLI | C18: 5.69 | D18: 5.89 | E18: 5.81 | G18: RODRIGUEZ GO. | H18: 6.12 | I18: 6.29 | J18: 6.26 | L18: GRANQVIST | M18: 6 | N18: 5.97 | O18: 6 | Q18: RANOCCHIA | R18: 6.44 | S18: 6.44 | T18: 6.18
B19: SARDO | C19: 5.5 | D19: 5.73 | E19: 5.77 | G19: PASQUAL | H19: 6.28 | I19: 6.31 | J19: 6.31 | L19: ANTONELLI | M19: 5.77 | N19: 6.03 | O19: 5.9 | Q19: NAGATOMO | R19: 5.91 | S19: 5.72 | T19: 5.97
B20: DRAME' | C20: 5.88 | D20: 5.75 | E20: 5.71 | G20: RONCAGLIA | H20: 6.07 | I20: 6.47 | J20: 6.33 | L20: CANINI | M20: 5.73 | N20: 5.69 | O20: 5.73 | Q20: JUAN JESUS | R20: 6.11 | S20: 6 | T20: 6.11
B21: ANDREOLLI | C21: 5.95 | D21: 6.3 | E21: 5.7 | G21: TOMOVIC | H21: 6.05 | I21: 6.18 | J21: 6.05 | L21: MORETTI E. | M21: 5.71 | N21: 5.71 | O21: 5.75 | Q21: SAMUEL | R21: 6.33 | S21: 6.21 | T21: 6.13
B22: HETEMAJ | C22: 5.91 | D22: 5.74 | E22: 5.88 | G22: BORJA VALERO | H22: 6.53 | I22: 6.44 | J22: 6.44 | L22: KUCKA | M22: 6.24 | N22: 6 | O22: 6 | Q22: CAMBIASSO | R22: 6.17 | S22: 6.31 | T22: 6.19
B23: RIGONI L. | C23: 5.93 | D23: 6.07 | E23: 5.97 | G23: CUADRADO | H23: 6.44 | I23: 6.34 | J23: 6.28 | L23: SAMPIRISI | M23: 5.43 | N23: 5.5 | O23: 5.43 | Q23: ZANETTI | R23: 5.94 | S23: 6.15 | T23: 6.09
B24: GUANA | C24: 6 | D24: 6.04 | E24: 6 | G24: PIZARRO | H24: 6.61 | I24: 6.57 | J24: 6.57 | L24: TOZSER | M24: 5.64 | N24: 5.5 | O24: 5.54 | Q24: GARGANO | R24: 5.97 | S24: 5.84 | T24: 5.75
B25: LUCIANO | C25: 6.05 | D25: 5.9 | E25: 6 | G25: FERNANDEZ M. | H25: 6 | I25: 5.9 | J25: 5.79 | L25: BERTOLACCI | M25: 5.73 | N25: 5.77 | O25: 5.73 | Q25: GUARIN | R25: 6.29 | S25: 6.14 | T25: 6.14
B26: THEREAU | C26: 5.85 | D26: 5.76 | E26: 5.88 | G26: AQUILANI | H26: 6.15 | I26: 6.45 | J26: 6.09 | L26: JANKOVIC | M26: 5.96 | N26: 6 | O26: 5.88 | Q26: MILITO | R26: 5.89 | S26: 5.94 | T26: 5.94
B27: PELLISSIER | C27: 5.69 | D27: 5.65 | E27: 5.81 | G27: JOVETIC | H27: 6.42 | I27: 6.38 | J27: 6.27 | L27: IMMOBILE | M27: 5.59 | N27: 5.94 | O27: 5.85 | Q27: CASSANO | R27: 6.19 | S27: 6.31 | T27: 6.34
B28: PALOSCHI | C28: 6 | D28: 6.17 | E28: 6.17 | G28: TONI | H28: 6.31 | I28: 6.46 | J28: 6.23 | L28: BORRIELLO | M28: 6.05 | N28: 6.14 | O28: 6.05 | Q28: PALACIO | R28: 6.15 | S28: 6.08 | T28: 5.92
B30: JUV | C30: g | D30: c | E30: f | G30: LAZ | H30: g | I30: c | J30: f | L30: MIL | M30: g | N30: c | O30: f | Q30: NAP | R30: g | S30: c | T30: f
B31: BUFFON | C31: 6.14 | D31: 6.09 | E31: 6.06 | G31: MARCHETTI | H31: 6.46 | I31: 6.42 | J31: 6.23 | L31: ABBIATI | M31: 5.55 | N31: 5.3 | O31: 5.6 | Q31: DE SANCTIS | R31: 6 | S31: 6.08 | T31: 6.03
B32: BARZAGLI | C32: 6.18 | D32: 6.18 | E32: 6.29 | G32: BIAVA | H32: 6.06 | I32: 6.5 | J32: 6.18 | L32: DE SCIGLIO | M32: 6.25 | N32: 5.92 | O32: 6.21 | Q32: CANNAVARO | R32: 6.16 | S32: 6.22 | T32: 5.91
B33: BONUCCI | C33: 6.13 | D33: 6.16 | E33: 6.16 | G33: KONKO | H33: 6.04 | I33: 6.04 | J33: 5.86 | L33: MEXES | M33: 5.64 | N33: 5.64 | O33: 5.59 | Q33: CAMPAGNARO | R33: 6.17 | S33: 6.07 | T33: 6.03
B34: CHIELLINI | C34: 6.04 | D34: 6.27 | E34: 6.31 | G34: DIAS | H34: 5.81 | I34: 6 | J34: 5.96 | L34: ABATE | M34: 5.8 | N34: 5.75 | O34: 5.75 | Q34: GAMBERINI | R34: 5.9 | S34: 5.83 | T34: 5.93
B35: LICHTSTEINER | C35: 5.96 | D35: 6.04 | E35: 5.81 | G35: CAVANDA | H35: 5.75 | I35: 5.85 | J35: 5.85 | L35: YEPES | M35: 6.1 | N35: 5.85 | O35: 6 | Q35: HAMSIK | R35: 6.47 | S35: 6.53 | T35: 6.42
B36: ASAMOAH | C36: 6.17 | D36: 6.24 | E36: 6.18 | G36: CANDREVA | H36: 6.18 | I36: 6.15 | J36: 6.32 | L36: MONTOLIVO | M36: 5.78 | N36: 5.91 | O36: 5.97 | Q36: MAGGIO | R36: 5.82 | S36: 5.94 | T36: 5.76
B37: PIRLO | C37: 6.34 | D37: 6.44 | E37: 6.13 | G37: HERNANES | H37: 6.24 | I37: 6.35 | J37: 6 | L37: BOATENG | M37: 5.36 | N37: 5.46 | O37: 5.54 | Q37: INLER | R37: 6.21 | S37: 6.22 | T37: 6.16
B38: MARCHISIO | C38: 6.43 | D38: 6.47 | E38: 6.43 | G38: LEDESMA | H38: 6.41 | I38: 6.35 | J38: 5.94 | L38: NOCERINO | M38: 5.5 | N38: 5.62 | O38: 5.73 | Q38: BEHRAMI | R38: 6.09 | S38: 6.22 | T38: 6.09
B39: VIDAL | C39: 6.1 | D39: 6.2 | E39: 6.17 | G39: MAURI | H39: 6.12 | I39: 6.24 | J39: 5.97 | L39: EMANUELSON | M39: 5.88 | N39: 5.79 | O39: 6.04 | Q39: ZUNIGA | R39: 5.57 | S39: 5.79 | T39: 5.82
B40: GIOVINCO | C40: 6.16 | D40: 6.41 | E40: 6.16 | G40: GONZALEZ | H40: 6.13 | I40: 6.41 | J40: 6.09 | L40: EL SHAARAWY | M40: 6.5 | N40: 6.56 | O40: 6.44 | Q40: INSIGNE | R40: 6.03 | S40: 6.38 | T40: 6.29
B41: VUCINIC | C41: 6.23 | D41: 6.3 | E41: 6.17 | G41: LULIC | H41: 5.87 | I41: 5.71 | J41: 5.63 | L41: PAZZINI | M41: 6.03 | N41: 6 | O41: 6 | Q41: CAVANI | R41: 6.5 | S41: 6.57 | T41: 6.53
B42: QUAGLIARELLA | C42: 6.05 | D42: 6.11 | E42: 6.2 | G42: KLOSE | H42: 6.32 | I42: 6.7 | J42: 6.4 | L42: ROBINHO | M42: 5.91 | N42: 5.75 | O42: 5.85 | Q42: PANDEV | R42: 5.65 | S42: 5.73 | T42: 5.77
B44: PAL | C44: g | D44: c | E44: f | G44: PAR | H44: g | I44: c | J44: f | L44: PES | M44: g | N44: c | O44: f | Q44: ROM | R44: g | S44: c | T44: f
...

Sheet P gazz
A1: Calciatore | B1: Ruolo | C1: P | D1: M | E1: F | F1: Gs | G1: Rp | H1: A | I1: E | J1: Sq
A2: Consigli | B2: P | C2: 35 | D2: 6.13 | E2: 4.84 | F2: 49 | G2: 2 | H2: 4 | I2: - | J2: Ata.
A3: Polito | B3: P | C3: 4 | D3: 6 | E3: 4.25 | F3: 7 | G3: - | H3: - | I3: - | J3: Ata.
A4: Curci | B4: P | C4: 14 | D4: 6.14 | E4: 5.5 | F4: 12 | G4: 1 | H4: - | I4: - | J4: Bol.
A5: Agliardi | B5: P | C5: 21 | D5: 5.95 | E5: 4.45 | F5: 31 | G5: - | H5: 1 | I5: - | J5: Bol.
A6: Stojanovic | B6: P | C6: 4 | D6: 5.88 | E6: 3.63 | F6: 9 | G6: - | H6: - | I6: - | J6: Bol.
A7: Agazzi | B7: P | C7: 33 | D7: 6.21 | E7: 4.88 | F7: 45 | G7: 1 | H7: 2 | I7: 1 | J7: Cag.
A8: Avramov | B8: P | C8: 4 | D8: 6.13 | E8: 4.63 | F8: 6 | G8: - | H8: - | I8: - | J8: Cag.
A9: Frison | B9: P | C9: 4 | D9: 6.38 | E9: 4.38 | F9: 7 | G9: - | H9: 2 | I9: - | J9: Cat.
A10: Andujar | B10: P | C10: 34 | D10: 6.09 | E10: 4.91 | F10: 39 | G10: - | H10: - | I10: 1 | J10: Cat.
A11: Puggioni | B11: P | C11: 17 | D11: 6.18 | E11: 5.32 | F11: 17 | G11: 1 | H11: 1 | I11: - | J11: Chi.
A12: Squizzi | B12: P | C12: 1 | D12: 6 | E12: 4 | F12: 2 | G12: - | H12: - | I12: - | J12: Chi.
A13: Ujkani | B13: P | C13: 19 | D13: 5.89 | E13: 4.26 | F13: 30 | G13: - | H13: - | I13: 1 | J13: Chi.
A14: Viviano | B14: P | C14: 30 | D14: 6.07 | E14: 5.05 | F14: 33 | G14: 1 | H14: 1 | I14: - | J14: Fio.
A15: Neto | B15: P | C15: 6 | D15: 5.58 | E15: 4 | F15: 9 | G15: - | H15: 1 | I15: - | J15: Fio.
A16: Lupatelli | B16: P | C16: 1 | D16: 5.5 | E16: 4.5 | F16: 1 | G16: - | H16: - | I16: - | J16: Fio.
A17: Donnarumma | B17: P | C17: 1 | D17: 7 | E17: 7 | F17: - | G17: - | H17: - | I17: - | J17: Gen.
A18: Frey S. | B18: P | C18: 36 | D18: 6.17 | E18: 4.89 | F18: 49 | G18: 1 | H18: - | I18: - | J18: Gen.
A19: Tzorvas | B19: P | C19: 1 | D19: 4 | E19: 1 | F19: 3 | G19: - | H19: - | I19: - | J19: Gen.
A20: Handanovic | B20: P | C20: 35 | D20: 6.29 | E20: 4.63 | F20: 53 | G20: - | H20: 6 | I20: - | J20: Int.
A21: Castellazzi | B21: P | C21: 2 | D21: 6.25 | E21: 4.75 | F21: 3 | G21: - | H21: - | I21: - | J21: Int.
A22: Carrizo | B22: P | C22: 1 | D22: 6 | E22: 5 | F22: 1 | G22: - | H22: - | I22: - | J22: Int.
A23: Buffon | B23: P | C23: 30 | D23: 6.15 | E23: 5.55 | F23: 18 | G23: - | H23: - | I23: - | J23: Juv.
A24: Storari | B24: P | C24: 6 | D24: 6 | E24: 5.17 | F24: 5 | G24: - | H24: - | I24: - | J24: Juv.
A25: Marchetti | B25: P | C25: 33 | D25: 6.32 | E25: 5.32 | F25: 32 | G25: - | H25: 2 | I25: - | J25: Laz.
A26: Bizzarri | B26: P | C26: 5 | D26: 5.9 | E26: 4.5 | F26: 10 | G26: 1 | H26: - | I26: - | J26: Laz.
A27: Abbiati | B27: P | C27: 28 | D27: 6.07 | E27: 5.25 | F27: 22 | G27: - | H27: 2 | I27: - | J27: Mil.
A28: Amelia | B28: P | C28: 11 | D28: 5.73 | E28: 4.09 | F28: 17 | G28: - | H28: 2 | I28: - | J28: Mil.
A29: De Sanctis | B29: P | C29: 34 | D29: 6 | E29: 5.12 | F29: 28 | G29: - | H29: 4 | I29: - | J29: Nap.
A30: Rosati | B30: P | C30: 4 | D30: 6 | E30: 4 | F30: 8 | G30: - | H30: - | I30: - | J30: Nap.
A31: Sorrentino | B31: P | C31: 35 | D31: 6.14 | E31: 4.8 | F31: 49 | G31: 1 | H31: 2 | I31: - | J31: Pal.
A32: Benussi | B32: P | C32: 5 | D32: 5.8 | E32: 4.2 | F32: 8 | G32: - | H32: - | I32: - | J32: Pal.
A33: Mirante | B33: P | C33: 33 | D33: 6.27 | E33: 5.26 | F33: 40 | G33: 3 | H33: 5 | I33: - | J33: Par.
A34: Pavarini | B34: P | C34: 6 | D34: 6.08 | E34: 5.17 | F34: 5 | G34: - | H34: 1 | I34: - | J34: Par.
A35: Bajza | B35: P | C35: 1 | D35: 6 | E35: 5 | F35: 1 | G35: - | H35: - | I35: - | J35: Par.
A36: Pelizzoli | B36: P | C36: 11 | D36: 6.55 | E36: 5.18 | F36: 18 | G36: 1 | H36: - | I36: - | J36: Pes.
A37: Perin | B37: P | C37: 29 | D37: 6.05 | E37: 3.84 | F37: 66 | G37: 1 | H37: - | I37: 1 | J37: Pes.
A38: Lobont | B38: P | C38: 5 | D38: 6.1 | E38: 5.7 | F38: 2 | G38: - | H38: - | I38: - | J38: Rom.
A39: Stekelenburg | B39: P | C39: 19 | D39: 5.89 | E39: 4.29 | F39: 30 | G39: - | H39: 1 | I39: - | J39: Rom.
A40: Goicoechea | B40: P | C40: 15 | D40: 5.77 | E40: 4 | F40: 24 | G40: - | H40: 1 | I40: - | J40: Rom.
...

Sheet DCA gazz
A1: Calciatore | B1: ruolo | C1: P | D1: M | E1: F | F1: F+ | G1: G | H1: R+ | I1: R- | J1: As | K1: Af | L1: A | M1: E | N1: Sq
A2: Totti | B2: A | C2: 34 | D2: 6.56 | E2: 7.41 | F2: 7.74 | G2: 9 | H2: 3 | I2: 1 | J2: 11 | K2: - | L2: 6 | M2: 1 | N2: Rom.
A3: Barzagli | B3: D | C3: 33 | D3: 6.26 | E3: 6.18 | F3: 6.21 | G3: - | H3: - | I3: - | J3: 1 | K3: - | L3: 5 | M3: - | N3: Juv.
A4: Denis | B4: A | C4: 36 | D4: 5.93 | E4: 7.11 | F4: 7.19 | G4: 10 | H4: 5 | I4: - | J4: 3 | K4: - | L4: 3 | M4: 1 | N4: Ata.
A5: Felipe | B5: D | C5: 34 | D5: 5.65 | E5: 5.44 | F5: 5.44 | G5: - | H5: - | I5: - | J5: - | K5: - | L5: 10 | M5: 2 | N5: Sie.
A6: Borja Valero | B6: C | C6: 37 | D6: 6.47 | E6: 6.5 | F6: 6.74 | G6: 1 | H6: - | I6: - | J6: 9 | K6: - | L6: 4 | M6: - | N6: Fio.
A7: Hamsik | B7: C | C7: 38 | D7: 6.45 | E7: 7.29 | F7: 7.55 | G7: 12 | H7: - | I7: 1 | J7: 10 | K7: - | L7: 2 | M7: - | N7: Nap.
A8: Bonucci | B8: D | C8: 33 | D8: 6.24 | E8: 6.09 | F8: 6.09 | G8: - | H8: - | I8: - | J8: - | K8: - | L8: 10 | M8: - | N8: Juv.
A9: Pereyra | B9: C | C9: 37 | D9: 6.16 | E9: 6.54 | F9: 6.57 | G9: 5 | H9: - | I9: - | J9: 1 | K9: - | L9: 2 | M9: - | N9: Udi.
A10: Gomez | B10: C | C10: 35 | D10: 6.21 | E10: 6.83 | F10: 7.03 | G10: 8 | H10: - | I10: - | J10: 7 | K10: - | L10: 5 | M10: - | N10: Cat.
A11: Pirlo | B11: C | C11: 32 | D11: 6.27 | E11: 6.52 | F11: 6.7 | G11: 5 | H11: - | I11: 1 | J11: 6 | K11: - | L11: 8 | M11: - | N11: Juv.
A12: Pasqual | B12: D | C12: 35 | D12: 6.21 | E12: 6.33 | F12: 6.5 | G12: 2 | H12: - | I12: - | J12: 6 | K12: - | L12: 4 | M12: - | N12: Fio.
A13: Vidal | B13: C | C13: 31 | D13: 6.24 | E13: 6.84 | F13: 7.03 | G13: 5 | H13: 5 | I13: 2 | J13: 6 | K13: - | L13: 11 | M13: - | N13: Juv.
A14: Cavani | B14: A | C14: 34 | D14: 6.41 | E14: 8.6 | F14: 8.63 | G14: 22 | H14: 7 | I14: 3 | J14: 1 | K14: - | L14: 7 | M14: - | N14: Nap.
A15: Vucinic | B15: A | C15: 31 | D15: 6.02 | E15: 6.9 | F15: 7.1 | G15: 8 | H15: 2 | I15: - | J15: 6 | K15: - | L15: 5 | M15: - | N15: Juv.
A16: Allan | B16: C | C16: 35 | D16: 6.1 | E16: 6.01 | F16: 6.1 | G16: - | H16: - | I16: - | J16: 3 | K16: - | L16: 6 | M16: - | N16: Udi.
A17: Cambiasso | B17: C | C17: 33 | D17: 5.92 | E17: 6.12 | F17: 6.27 | G17: 3 | H17: - | I17: - | J17: 5 | K17: - | L17: 3 | M17: 1 | N17: Int.
A18: Izco | B18: C | C18: 34 | D18: 6.22 | E18: 6.26 | F18: 6.35 | G18: 1 | H18: - | I18: - | J18: 3 | K18: - | L18: 3 | M18: - | N18: Cat.
A19: El Shaarawy | B19: A | C19: 37 | D19: 6.23 | E19: 7.49 | F19: 7.54 | G19: 16 | H19: - | I19: - | J19: 2 | K19: - | L19: 3 | M19: - | N19: Mil.
A20: Lodi | B20: C | C20: 33 | D20: 6.18 | E20: 6.68 | F20: 6.89 | G20: 5 | H20: 1 | I20: - | J20: 7 | K20: - | L20: 1 | M20: 1 | N20: Cat.
A21: Granqvist | B21: D | C21: 35 | D21: 6.03 | E21: 6.01 | F21: 6.04 | G21: 1 | H21: - | I21: - | J21: 1 | K21: - | L21: 7 | M21: - | N21: Gen.
A22: Castro | B22: C | C22: 32 | D22: 6.14 | E22: 6.44 | F22: 6.59 | G22: 4 | H22: - | I22: - | J22: 5 | K22: - | L22: 5 | M22: - | N22: Cat.
A23: Ledesma | B23: C | C23: 36 | D23: 6.18 | E23: 6.06 | F23: 6.08 | G23: - | H23: 1 | I23: 1 | J23: 1 | K23: - | L23: 7 | M23: 1 | N23: Laz.
A24: Montolivo | B24: C | C24: 32 | D24: 6.08 | E24: 6.36 | F24: 6.42 | G24: 4 | H24: - | I24: - | J24: 2 | K24: - | L24: 6 | M24: - | N24: Mil.
A25: Di Natale | B25: A | C25: 33 | D25: 6.29 | E25: 8.14 | F25: 8.26 | G25: 19 | H25: 4 | I25: 2 | J25: 4 | K25: - | L25: 4 | M25: - | N25: Udi.
