Workbook

Sheet preferiti
G2: gazzetta | Q2: corriere | AA2: fantagazzetta
E4: "preferiti" | I4: "odiati" | O4: "preferiti" | R4: "odiati" | Y4: "preferiti" | AC4: "odiati"
D6: 12-13 alla 38a | E6: 12-13 alla 18a | F6: 11-12 alla 38 | H6: 12-13 alla 38a | I6: 12-13 alla 18a | J6: 11-12 alla 38 | O6: 12-13 alla 38a | P6: 12-13 alla 18a | R6: 12-13 alla 38a | S6: 12-13 alla 18a | X6: 12-13 alla 38a | Y6: 12-13 alla 18a | Z6: 11-12 alla 38 | AB6: 12-13 alla 38a | AC6: 12-13 alla 18a | AD6: 11-12 alla 38
B8: P | D8: MARCHETTI | E8: GOICOECHEA | M8: P | O8: CURCI | P8: HANDANOVIC | S8: ABBIATI | V8: P | X8: BRKIC | Y8: BRKIC | AB8: AGAZZI | AC8: AGAZZI
O9: ROMERO | P9: ROMERO | Y9: AGLIARDI | AC9: MARCHETTI
O10: VIVIANO
B13: D | D13: LICHTSTEINER | E13: CAMPAGNARO | F13: ANDREOLLI | H13: RODRIGUEZ GO. | I13: RODRIGUEZ GO. | J13: MAICON | M13: D | O13: BIAVA | P13: BIAVA | R13: MEXES | S13: BALZARETTI | V13: D | X13: SPOLLI | Y13: BARZAGLI | Z13: MEXES | AB13: LICHSTEINER | AD13: LICHSTEINER
D14: BURDISSO | E14: LUCARELLI | F14: NATALI | H14: RONCAGLIA | I14: RONCAGLIA | J14: BALZARETTI | O14: ROSSETTINI | P14: PALETTA | R14: ZAPATA | S14: JUAN JESUS | X14: NAGATOMO | Y14: OGBONNA | Z14: PASQUAL | AB14: RANOCCHIA | AC14: RANOCCHIA
D15: SAMUEL | E15: SAMUEL | H15: CHIELLINI | I15: CHIELLINI | J15: CAMPAGNARO | O15: SAVIC | P15: PIRIS | R15: DE SCIGLIO | S15: DE SCIGLIO | X15: BALZARETTI | Y15: BALZARETTI | Z15: DIAKITE | AB15: CANNAVARO | AC15: KONKO
H16: PASQUALE | I16: BASTA | J16: ASTORI | O16: BENATIA | P16: DOMIZZI | S16: YEPES | X16: PEREIRA | Y16: GLIK | AB16: CAMPAGNARO | AC16: CANNAVARO
H17: SAVIC | I17: DIAS | J17: PELUSO | O17: ASTORI | P17: MUNOZ | X17: MORLEO | Y17: MORLEO | AB17: ANDREOLLI | AC17: CASTAN
H18: OGBONNA | I18: ARIAUDO | O18: PIRIS | P18: PACI | X18: BALZANO | Y18: BALZANO | AC18: ANDREOLLI
H19: ZACCARDO | I19: ZACCARDO | P19: ANDREOLLI
B25: C | D25: MATUZALEM | E25: GUARIN | F25: SNEJIDER | H25: CAMBIASSO | J25: CAMBIASSO | M25: C | O25: CONTI | P25: CAMBIASSO | R25: DIAMANTI | S25: DE ROSSI | V25: C | X25: LODI | Y25: LODI | Z25: DIAMANTI | AB25: PIZARRO | AC25: PIRLO | AD25: PIRLO
D26: ALMIRON | E26: BONAVENTURA | F26: LEDESMA | H26: DZEMAILI | I26: MONTOLIVO | J26: MORALEZ | O26: KOVACIC | P26: BIABIANY | R26: FLORENZI | S26: FLORENZI | X26: ILICIC | Y26: CANDREVA | Z26: ZANETTI | AB26: HERNANES | AC26: HERNANES | AD26: MARCHISIO
E27: PEREYRA | F27: LODI | H27: ALLAN | I27: ZUNIGA | J27: CERCI | O27: HERNANES | P27: CERCI | R27: KONE | S27: KONE | X27: WEISS | Y27: WEISS | Z27: GALLOPPA | AB27: LEDESMA | AC27: LEDESMA | AD27: ISLA
E28: KUCKA | F28: VELOSO | H28: ILICIC | I28: ILICIC | J28: GOMEZ | O28: OBIANG | P28: AQUILANI | R28: GUARIN | S28: HETEMAJ | X28: ANGELO | Y28: TAIDER | AB28: AQUILANI | AC28: MAURI | AD28: ASAMOAH
E29: ROSINA | F29: PINZI | H29: OBIANG | I29: OBIANG | J29: INLER | O29: BEHRAMI | P29: BEHRAMI | R29: COSSU | S29: QUINTERO | Y29: COSSU | AB29: GONZALEZ | AC29: ALMIRON | AD29: JANKOVIC
E30: LULIC | H30: CIGARINI | I30: CIGARINI | J30: CONTI | O30: GONZALEZ | P30: GONZALEZ | Y30: SESTU | AB30: MAGGIO | AC30: SANTANA | AD30: ROSSI
I31: BRIENZA | J31: ALMIRON | P31: BARRETO | Y31: PINZI | AB31: GOBBI | AC31: LAZZARI
I32: VALDES | J32: ARMERO | P32: MARESCA | AB32: BARRETO
I33: ZANETTI | AB33: PALOMBO
AB34: KRSTICIC
B38: A | E38: TOTTI | F38: TOTTI | H38: BORRIELLO | I38: DENIS | J38: MURIEL | M38: A | O38: KLOSE | P38: KLOSE | R38: THEREAU | S38: BERGESSIO | V38: A | X38: PANDEV | Z38: MICCOLI | AB38: JOVETIC | AD38: HERNANDEZ
E39: OSVALDO | F39: VUCINIC | H39: IMMOBILE | I39: IMMOBILE | J39: CALAIO' | O39: GILARDINO | P39: GILARDINO | R39: MICCOLI | S39: MICCOLI | AD39: DESTRO
D40: CALAIO' | E40: CALAIO' | H40: INSIGNE | I40: INSIGNE | O40: GIOVINCO | P40: GIOVINCO
I41: CASSANO | O41: CASSANO | P41: TONI
O42: BALOTELLI
O43: CAVANI
O44: DI NATALE
O45: MURIEL

Sheet medie 38a
B2: ATA | C2: g | D2: c | E2: f | F2: s | I2: BOL | J2: g | K2: c | L2: f | M2: s | P2: CAG | Q2: g | R2: c | S2: f | T2: s | W2: CAT | X2: g | Y2: c | Z2: f | AA2: s | AD2: CHI | AE2: g | AF2: c | AG2: f | AH2: s | AM2: gazzetta | AN2: corriere | AO2: fanta gazz | AP2: sky | AS2: gazzetta | AT2: corriere | AU2: fanta gazz | AV2: sky
B3: CONSIGLI | C3: =VLOOKUP(B3,'P gazz'!$A:$E,4,0) -> 6.13 | D3: =VLOOKUP(B3,'P corr'!$A:$E,4,0) -> 6.2 | E3: =VLOOKUP(B3,'P fantagazz'!$A:$E,4,0) -> 6.13 | I3: CURCI | J3: =VLOOKUP(I3,'P gazz'!$A:$E,4,0) -> 6.14 | K3: =VLOOKUP(I3,'P corr'!$A:$E,4,0) -> 6.25 | L3: =VLOOKUP(I3,'P fantagazz'!$A:$E,4,0) -> 6.11 | P3: AGAZZI | Q3: =VLOOKUP(P3,'P gazz'!$A:$E,4,0) -> 6.21 | R3: =VLOOKUP(P3,'P corr'!$A:$E,4,0) -> 6.19 | S3: =VLOOKUP(P3,'P fantagazz'!$A:$E,4,0) -> 6.01 | W3: ANDUJAR | X3: =VLOOKUP(W3,'P gazz'!$A:$E,4,0) -> 6.09 | Y3: =VLOOKUP(W3,'P corr'!$A:$E,4,0) -> 6.12 | Z3: =VLOOKUP(W3,'P fantagazz'!$A:$E,4,0) -> 6.12 | AD3: PUGGIONI | AE3: =VLOOKUP(AD3,'P gazz'!$A:$E,4,0) -> 6.18 | AF3: =VLOOKUP(AD3,'P corr'!$A:$E,4,0) -> 6.12 | AG3: =VLOOKUP(AD3,'P fantagazz'!$A:$E,4,0) -> 6.12 | AL3: tot P (20) | AM3: =SUM(C18,J18,Q18,X18,AE18,C40,J40,Q40,X40,AE40,C62,J62,Q62,X62,AE62,C84,J84,Q84,X84,AE84) -> 122.96 | AN3: =SUM(D18,K18,R18,Y18,AF18,D40,K40,R40,Y40,AF40,D62,K62,R62,Y62,AF62,D84,K84,R84,Y84,AF84) -> 123.57 | AO3: =SUM(E18,L18,S18,Z18,AG18,E40,L40,S40,Z40,AG40,E62,L62,S62,Z62,AG62,E84,L84,S84,Z84,AG84) -> 123.04 | AP3: =SUM(F18,M18,T18,AA18,AH18,F40,M40,T40,AA40,AH40,F62,M62,T62,AA62,AH62,F84,M84,T84,AA84,AH84) -> 0 | AR3: singolo P | AS3: =AM9 -> 6.148 | AT3: =AN9 -> 6.1785 | AU3: =AO9 -> 6.152 | AV3: =AP9 -> 0
B4: STENDARDO | C4: =VLOOKUP(B4,'DCA gazz'!$A:$F,4,0) -> 5.95 | D4: =VLOOKUP(B4,'DCA corr'!$A:$F,4,0) -> 6.07 | E4: =VLOOKUP(B4,'DCA fantagazz'!$A:$F,4,0) -> 6 | I4: MORLEO | J4: =VLOOKUP(I4,'DCA gazz'!$A:$F,4,0) -> 5.84 | K4: =VLOOKUP(I4,'DCA corr'!$A:$F,4,0) -> 5.84 | L4: =VLOOKUP(I4,'DCA fantagazz'!$A:$F,4,0) -> 6.06 | P4: ASTORI | Q4: =VLOOKUP(P4,'DCA gazz'!$A:$F,4,0) -> 5.84 | R4: =VLOOKUP(P4,'DCA corr'!$A:$F,4,0) -> 6.06 | S4: =VLOOKUP(P4,'DCA fantagazz'!$A:$F,4,0) -> 5.94 | W4: MARCHESE | X4: =VLOOKUP(W4,'DCA gazz'!$A:$F,4,0) -> 6.1 | Y4: =VLOOKUP(W4,'DCA corr'!$A:$F,4,0) -> 6.15 | Z4: =VLOOKUP(W4,'DCA fantagazz'!$A:$F,4,0) -> 6.07 | AD4: DAINELLI | AE4: =VLOOKUP(AD4,'DCA gazz'!$A:$F,4,0) -> 5.91 | AF4: =VLOOKUP(AD4,'DCA corr'!$A:$F,4,0) -> 5.9 | AG4: =VLOOKUP(AD4,'DCA fantagazz'!$A:$F,4,0) -> 5.96 | AL4: tot D (79) | AM4: =SUM(C19,J19,Q19,X19,AE19,C41,J41,Q41,X41,AE41,C63,J63,Q63,X63,AE63,C85,J85,Q85,X85,AE85) -> 562.66 | AN4: =SUM(D19,K19,R19,Y19,AF19,D41,K41,R41,Y41,AF41,D63,K63,R63,Y63,AF63,D85,K85,R85,Y85,AF85) -> 566.66 | AO4: =SUM(E19,L19,S19,Z19,AG19,E41,L41,S41,Z41,AG41,E63,L63,S63,Z63,AG63,E85,L85,S85,Z85,AG85) -> 566.39 | AP4: =SUM(F19,M19,T19,AA19,AH19,F41,M41,T41,AA41,AH41,F63,M63,T63,AA63,AH63,F85,M85,T85,AA85,AH85) -> 0 | AR4: singolo D | AS4: =AM10 -> 6.9464198 | AT4: =AN10 -> 6.9958025 | AU4: =AO10 -> 6.9924691 | AV4: =AP10 -> 0
B5: DEL GROSSO | C5: =VLOOKUP(B5,'DCA gazz'!$A:$F,4,0) -> 5.73 | D5: =VLOOKUP(B5,'DCA corr'!$A:$F,4,0) -> 5.66 | E5: =VLOOKUP(B5,'DCA fantagazz'!$A:$F,4,0) -> 5.82 | I5: ANTONSSON | J5: =VLOOKUP(I5,'DCA gazz'!$A:$F,4,0) -> 5.71 | K5: =VLOOKUP(I5,'DCA corr'!$A:$F,4,0) -> 5.77 | L5: =VLOOKUP(I5,'DCA fantagazz'!$A:$F,4,0) -> 5.74 | P5: ROSSETTINI | Q5: =VLOOKUP(P5,'DCA gazz'!$A:$F,4,0) -> 5.91 | R5: =VLOOKUP(P5,'DCA corr'!$A:$F,4,0) -> 6.04 | S5: =VLOOKUP(P5,'DCA fantagazz'!$A:$F,4,0) -> 5.93 | W5: SPOLLI | X5: =VLOOKUP(W5,'DCA gazz'!$A:$F,4,0) -> 6.16 | Y5: =VLOOKUP(W5,'DCA corr'!$A:$F,4,0) -> 6.07 | Z5: =VLOOKUP(W5,'DCA fantagazz'!$A:$F,4,0) -> 6.29 | AD5: ANDREOLLI | AE5: =VLOOKUP(AD5,'DCA gazz'!$A:$F,4,0) -> 5.89 | AF5: =VLOOKUP(AD5,'DCA corr'!$A:$F,4,0) -> 5.98 | AG5: =VLOOKUP(AD5,'DCA fantagazz'!$A:$F,4,0) -> 5.82 | AL5: tot C (84) | AM5: =SUM(C20,J20,Q20,X20,AE20,C42,J42,Q42,X42,AE42,C64,J64,Q64,X64,AE64,C86,J86,Q86,X86,AE86) -> 677.06 | AN5: =SUM(D20,K20,R20,Y20,AF20,D42,K42,R42,Y42,AF42,D64,K64,R64,Y64,AF64,D86,K86,R86,Y86,AF86) -> 678.58 | AO5: =SUM(E20,L20,S20,Z20,AG20,E42,L42,S42,Z42,AG42,E64,L64,S64,Z64,AG64,E86,L86,S86,Z86,AG86) -> 676.43 | AP5: =SUM(F20,M20,T20,AA20,AH20,F42,M42,T42,AA42,AH42,F64,M64,T64,AA64,AH64,F86,M86,T86,AA86,AH86) -> 0 | AR5: singolo C | AS5: =AM11 -> 7.0527083 | AT5: =AN11 -> 7.0685417 | AU5: =AO11 -> 7.0461458 | AV5: =AP11 -> 0
B6: CANINI | C6: =VLOOKUP(B6,'DCA gazz'!$A:$F,4,0) -> 5.65 | D6: =VLOOKUP(B6,'DCA corr'!$A:$F,4,0) -> 5.75 | E6: =VLOOKUP(B6,'DCA fantagazz'!$A:$F,4,0) -> 5.71 | I6: CHERUBIN | J6: =VLOOKUP(I6,'DCA gazz'!$A:$F,4,0) -> 5.79 | K6: =VLOOKUP(I6,'DCA corr'!$A:$F,4,0) -> 5.91 | L6: =VLOOKUP(I6,'DCA fantagazz'!$A:$F,4,0) -> 5.83 | P6: PISANO F. | Q6: =VLOOKUP(P6,'DCA gazz'!$A:$F,4,0) -> 5.88 | R6: =VLOOKUP(P6,'DCA corr'!$A:$F,4,0) -> 6.02 | S6: =VLOOKUP(P6,'DCA fantagazz'!$A:$F,4,0) -> 5.89 | W6: ALVAREZ P.S. | X6: =VLOOKUP(W6,'DCA gazz'!$A:$F,4,0) -> 5.87 | Y6: =VLOOKUP(W6,'DCA corr'!$A:$F,4,0) -> 5.74 | Z6: =VLOOKUP(W6,'DCA fantagazz'!$A:$F,4,0) -> 5.91 | AD6: DRAME' | AE6: =VLOOKUP(AD6,'DCA gazz'!$A:$F,4,0) -> 6.02 | AF6: =VLOOKUP(AD6,'DCA corr'!$A:$F,4,0) -> 5.8 | AG6: =VLOOKUP(AD6,'DCA fantagazz'!$A:$F,4,0) -> 5.86 | AL6: tot A (37) | AM6: =SUM(C21,J21,Q21,X21,AE21,C43,J43,Q43,X43,AE43,C65,J65,Q65,X65,AE65,C87,J87,Q87,X87,AE87) -> 304.94 | AN6: =SUM(D21,K21,R21,Y21,AF21,D43,K43,R43,Y43,AF43,D65,K65,R65,Y65,AF65,D87,K87,R87,Y87,AF87) -> 308.17 | AO6: =SUM(E21,L21,S21,Z21,AG21,E43,L43,S43,Z43,AG43,E65,L65,S65,Z65,AG65,E87,L87,S87,Z87,AG87) -> 306.37 | AP6: =SUM(F21,M21,T21,AA21,AH21,F43,M43,T43,AA43,AH43,F65,M65,T65,AA65,AH65,F87,M87,T87,AA87,AH87) -> 0 | AR6: singolo A | AS6: =AM12 -> 7.0916279 | AT6: =AN12 -> 7.1667442 | AU6: =AO12 -> 7.1248837 | AV6: =AP12 -> 0
B7: RAIMONDI | C7: =VLOOKUP(B7,'DCA gazz'!$A:$F,4,0) -> 5.9 | D7: =VLOOKUP(B7,'DCA corr'!$A:$F,4,0) -> 5.79 | E7: =VLOOKUP(B7,'DCA fantagazz'!$A:$F,4,0) -> 5.85 | I7: GARICS | J7: =VLOOKUP(I7,'DCA gazz'!$A:$F,4,0) -> 5.67 | K7: =VLOOKUP(I7,'DCA corr'!$A:$F,4,0) -> 5.68 | L7: =VLOOKUP(I7,'DCA fantagazz'!$A:$F,4,0) -> 5.91 | P7: AVELAR | Q7: =VLOOKUP(P7,'DCA gazz'!$A:$F,4,0) -> 5.9 | R7: =VLOOKUP(P7,'DCA corr'!$A:$F,4,0) -> 5.88 | S7: =VLOOKUP(P7,'DCA fantagazz'!$A:$F,4,0) -> 6.1 | W7: LEGROTTAGLIE | X7: =VLOOKUP(W7,'DCA gazz'!$A:$F,4,0) -> 6.08 | Y7: =VLOOKUP(W7,'DCA corr'!$A:$F,4,0) -> 6 | Z7: =VLOOKUP(W7,'DCA fantagazz'!$A:$F,4,0) -> 6.08 | AD7: CESAR | AE7: =VLOOKUP(AD7,'DCA gazz'!$A:$F,4,0) -> 5.86 | AF7: =VLOOKUP(AD7,'DCA corr'!$A:$F,4,0) -> 5.86 | AG7: =VLOOKUP(AD7,'DCA fantagazz'!$A:$F,4,0) -> 5.74
B8: LUCCHINI | C8: =VLOOKUP(B8,'DCA gazz'!$A:$F,4,0) -> 5.9 | D8: =VLOOKUP(B8,'DCA corr'!$A:$F,4,0) -> 5.87 | E8: =VLOOKUP(B8,'DCA fantagazz'!$A:$F,4,0) -> 5.78 | I8: SORENSEN | J8: =VLOOKUP(I8,'DCA gazz'!$A:$F,4,0) -> 5.83 | K8: =VLOOKUP(I8,'DCA corr'!$A:$F,4,0) -> 5.93 | L8: =VLOOKUP(I8,'DCA fantagazz'!$A:$F,4,0) -> 5.98 | P8: ARIAUDO | Q8: =VLOOKUP(P8,'DCA gazz'!$A:$F,4,0) -> 5.5 | R8: =VLOOKUP(P8,'DCA corr'!$A:$F,4,0) -> 5.72 | S8: =VLOOKUP(P8,'DCA fantagazz'!$A:$F,4,0) -> 5.68 | W8: BELLUSCI | X8: =VLOOKUP(W8,'DCA gazz'!$A:$F,4,0) -> 5.92 | Y8: =VLOOKUP(W8,'DCA corr'!$A:$F,4,0) -> 5.9 | Z8: =VLOOKUP(W8,'DCA fantagazz'!$A:$F,4,0) -> 5.85 | AD8: SARDO | AE8: =VLOOKUP(AD8,'DCA gazz'!$A:$F,4,0) -> 5.66 | AF8: =VLOOKUP(AD8,'DCA corr'!$A:$F,4,0) -> 5.67 | AG8: =VLOOKUP(AD8,'DCA fantagazz'!$A:$F,4,0) -> 5.86 | AM8: gazzetta | AN8: corriere | AO8: fanta gazz | AP8: sky
B9: BRIVIO | C9: =VLOOKUP(B9,'DCA gazz'!$A:$F,4,0) -> 5.55 | D9: =VLOOKUP(B9,'DCA corr'!$A:$F,4,0) -> 5.72 | E9: =VLOOKUP(B9,'DCA fantagazz'!$A:$F,4,0) -> 5.75 | I9: DIAMANTI | J9: =VLOOKUP(I9,'DCA gazz'!$A:$F,4,0) -> 6.31 | K9: =VLOOKUP(I9,'DCA corr'!$A:$F,4,0) -> 6.13 | L9: =VLOOKUP(I9,'DCA fantagazz'!$A:$F,4,0) -> 6.4 | P9: NAINGGOLAN | Q9: =VLOOKUP(P9,'DCA gazz'!$A:$F,4,0) -> 6.15 | R9: =VLOOKUP(P9,'DCA corr'!$A:$F,4,0) -> 6.21 | S9: =VLOOKUP(P9,'DCA fantagazz'!$A:$F,4,0) -> 6.18 | W9: GOMEZ | X9: =VLOOKUP(W9,'DCA gazz'!$A:$F,4,0) -> 6.21 | Y9: =VLOOKUP(W9,'DCA corr'!$A:$F,4,0) -> 6.25 | Z9: =VLOOKUP(W9,'DCA fantagazz'!$A:$F,4,0) -> 6.29 | AD9: RIGONI L. | AE9: =VLOOKUP(AD9,'DCA gazz'!$A:$F,4,0) -> 6.02 | AF9: =VLOOKUP(AD9,'DCA corr'!$A:$F,4,0) -> 6.11 | AG9: =VLOOKUP(AD9,'DCA fantagazz'!$A:$F,4,0) -> 6.03 | AL9: singolo P | AM9: =AM3/$AR9 -> 6.148 | AN9: =AN3/$AR9 -> 6.1785 | AO9: =AO3/$AR9 -> 6.152 | AP9: =AP3/$AR9 -> 0 | AR9: 20
B10: BONAVENTURA | C10: =VLOOKUP(B10,'DCA gazz'!$A:$F,4,0) -> 6.18 | D10: =VLOOKUP(B10,'DCA corr'!$A:$F,4,0) -> 6.15 | E10: =VLOOKUP(B10,'DCA fantagazz'!$A:$F,4,0) -> 6.1 | I10: TAIDER | J10: =VLOOKUP(I10,'DCA gazz'!$A:$F,4,0) -> 5.75 | K10: =VLOOKUP(I10,'DCA corr'!$A:$F,4,0) -> 5.84 | L10: =VLOOKUP(I10,'DCA fantagazz'!$A:$F,4,0) -> 5.94 | P10: EKDAL | Q10: =VLOOKUP(P10,'DCA gazz'!$A:$F,4,0) -> 6.03 | R10: =VLOOKUP(P10,'DCA corr'!$A:$F,4,0) -> 6.09 | S10: =VLOOKUP(P10,'DCA fantagazz'!$A:$F,4,0) -> 5.98 | W10: IZCO | X10: =VLOOKUP(W10,'DCA gazz'!$A:$F,4,0) -> 6.22 | Y10: =VLOOKUP(W10,'DCA corr'!$A:$F,4,0) -> 6.12 | Z10: =VLOOKUP(W10,'DCA fantagazz'!$A:$F,4,0) -> 6.16 | AD10: HETEMAJ | AE10: =VLOOKUP(AD10,'DCA gazz'!$A:$F,4,0) -> 5.95 | AF10: =VLOOKUP(AD10,'DCA corr'!$A:$F,4,0) -> 5.8 | AG10: =VLOOKUP(AD10,'DCA fantagazz'!$A:$F,4,0) -> 5.88 | AL10: singolo D | AM10: =AM4/$AR10 -> 6.9464198 | AN10: =AN4/$AR10 -> 6.9958025 | AO10: =AO4/$AR10 -> 6.9924691 | AP10: =AP4/$AR10 -> 0 | AR10: 81
B11: MORALEZ | C11: =VLOOKUP(B11,'DCA gazz'!$A:$F,4,0) -> 5.74 | D11: =VLOOKUP(B11,'DCA corr'!$A:$F,4,0) -> 5.66 | E11: =VLOOKUP(B11,'DCA fantagazz'!$A:$F,4,0) -> 5.74 | I11: KONE | J11: =VLOOKUP(I11,'DCA gazz'!$A:$F,4,0) -> 6.03 | K11: =VLOOKUP(I11,'DCA corr'!$A:$F,4,0) -> 5.79 | L11: =VLOOKUP(I11,'DCA fantagazz'!$A:$F,4,0) -> 5.97 | P11: DESSENA | Q11: =VLOOKUP(P11,'DCA gazz'!$A:$F,4,0) -> 5.85 | R11: =VLOOKUP(P11,'DCA corr'!$A:$F,4,0) -> 5.9 | S11: =VLOOKUP(P11,'DCA fantagazz'!$A:$F,4,0) -> 5.85 | W11: LODI | X11: =VLOOKUP(W11,'DCA gazz'!$A:$F,4,0) -> 6.18 | Y11: =VLOOKUP(W11,'DCA corr'!$A:$F,4,0) -> 6.15 | Z11: =VLOOKUP(W11,'DCA fantagazz'!$A:$F,4,0) -> 6.29 | AD11: COFIE | AE11: =VLOOKUP(AD11,'DCA gazz'!$A:$F,4,0) -> 5.84 | AF11: =VLOOKUP(AD11,'DCA corr'!$A:$F,4,0) -> 5.94 | AG11: =VLOOKUP(AD11,'DCA fantagazz'!$A:$F,4,0) -> 5.83 | AL11: singolo C | AM11: =AM5/$AR11 -> 7.0527083 | AN11: =AN5/$AR11 -> 7.0685417 | AO11: =AO5/$AR11 -> 7.0461458 | AP11: =AP5/$AR11 -> 0 | AR11: 96
B12: CIGARINI | C12: =VLOOKUP(B12,'DCA gazz'!$A:$F,4,0) -> 6.06 | D12: =VLOOKUP(B12,'DCA corr'!$A:$F,4,0) -> 6.2 | E12: =VLOOKUP(B12,'DCA fantagazz'!$A:$F,4,0) -> 6.17 | I12: PEREZ | J12: =VLOOKUP(I12,'DCA gazz'!$A:$F,4,0) -> 6 | K12: =VLOOKUP(I12,'DCA corr'!$A:$F,4,0) -> 6.07 | L12: =VLOOKUP(I12,'DCA fantagazz'!$A:$F,4,0) -> 5.72 | P12: CONTI | Q12: =VLOOKUP(P12,'DCA gazz'!$A:$F,4,0) -> 6.14 | R12: =VLOOKUP(P12,'DCA corr'!$A:$F,4,0) -> 6.26 | S12: =VLOOKUP(P12,'DCA fantagazz'!$A:$F,4,0) -> 6.07 | W12: CASTRO | X12: =VLOOKUP(W12,'DCA gazz'!$A:$F,4,0) -> 6.14 | Y12: =VLOOKUP(W12,'DCA corr'!$A:$F,4,0) -> 6.12 | Z12: =VLOOKUP(W12,'DCA fantagazz'!$A:$F,4,0) -> 6.15 | AD12: LUCIANO | AE12: =VLOOKUP(AD12,'DCA gazz'!$A:$F,4,0) -> 5.96 | AF12: =VLOOKUP(AD12,'DCA corr'!$A:$F,4,0) -> 5.98 | AG12: =VLOOKUP(AD12,'DCA fantagazz'!$A:$F,4,0) -> 5.98 | AL12: singolo A | AM12: =AM6/$AR12 -> 7.0916279 | AN12: =AN6/$AR12 -> 7.1667442 | AO12: =AO6/$AR12 -> 7.1248837 | AP12: =AP6/$AR12 -> 0 | AR12: 43
B13: GIORGI | C13: =VLOOKUP(B13,'DCA gazz'!$A:$F,4,0) -> 5.67 | D13: =VLOOKUP(B13,'DCA corr'!$A:$F,4,0) -> 5.74 | E13: =VLOOKUP(B13,'DCA fantagazz'!$A:$F,4,0) -> 5.83 | I13: PAZIENZA | J13: =VLOOKUP(I13,'DCA gazz'!$A:$F,4,0) -> 5.54 | K13: =VLOOKUP(I13,'DCA corr'!$A:$F,4,0) -> 5.38 | L13: =VLOOKUP(I13,'DCA fantagazz'!$A:$F,4,0) -> 5.65 | P13: COSSU | Q13: =VLOOKUP(P13,'DCA gazz'!$A:$F,4,0) -> 6.16 | R13: =VLOOKUP(P13,'DCA corr'!$A:$F,4,0) -> 6.02 | S13: =VLOOKUP(P13,'DCA fantagazz'!$A:$F,4,0) -> 6.14 | W13: BARRIENTOS | X13: =VLOOKUP(W13,'DCA gazz'!$A:$F,4,0) -> 6.08 | Y13: =VLOOKUP(W13,'DCA corr'!$A:$F,4,0) -> 6 | Z13: =VLOOKUP(W13,'DCA fantagazz'!$A:$F,4,0) -> 6.12 | AD13: GUANA | AE13: =VLOOKUP(AD13,'DCA gazz'!$A:$F,4,0) -> 6.05 | AF13: =VLOOKUP(AD13,'DCA corr'!$A:$F,4,0) -> 6.1 | AG13: =VLOOKUP(AD13,'DCA fantagazz'!$A:$F,4,0) -> 6.07 | AR13: =SUM(AR9:AR12) -> 240
B14: BIONDINI | C14: =VLOOKUP(B14,'DCA gazz'!$A:$F,4,0) -> 5.93 | D14: =VLOOKUP(B14,'DCA corr'!$A:$F,4,0) -> 5.89 | E14: =VLOOKUP(B14,'DCA fantagazz'!$A:$F,4,0) -> 5.85 | I14: CHRISTODOULOPOULOS | J14: =VLOOKUP(I14,'DCA gazz'!$A:$F,4,0) -> 5.88 | K14: =VLOOKUP(I14,'DCA corr'!$A:$F,4,0) -> 5.75 | L14: =VLOOKUP(I14,'DCA fantagazz'!$A:$F,4,0) -> 5.79 | P14: IBARBO | Q14: =VLOOKUP(P14,'DCA gazz'!$A:$F,4,0) -> 6.19 | R14: =VLOOKUP(P14,'DCA corr'!$A:$F,4,0) -> 6.23 | S14: =VLOOKUP(P14,'DCA fantagazz'!$A:$F,4,0) -> 6.15 | W14: ALMIRON | X14: =VLOOKUP(W14,'DCA gazz'!$A:$F,4,0) -> 6.14 | Y14: =VLOOKUP(W14,'DCA corr'!$A:$F,4,0) -> 6.02 | Z14: =VLOOKUP(W14,'DCA fantagazz'!$A:$F,4,0) -> 5.98 | AD14: THEREAU | AE14: =VLOOKUP(AD14,'DCA gazz'!$A:$F,4,0) -> 6.07 | AF14: =VLOOKUP(AD14,'DCA corr'!$A:$F,4,0) -> 5.96 | AG14: =VLOOKUP(AD14,'DCA fantagazz'!$A:$F,4,0) -> 6.11
B15: CARMONA | C15: =VLOOKUP(B15,'DCA gazz'!$A:$F,4,0) -> 5.95 | D15: =VLOOKUP(B15,'DCA corr'!$A:$F,4,0) -> 5.97 | E15: =VLOOKUP(B15,'DCA fantagazz'!$A:$F,4,0) -> 5.85 | I15: GILARDINO | J15: =VLOOKUP(I15,'DCA gazz'!$A:$F,4,0) -> 5.9 | K15: =VLOOKUP(I15,'DCA corr'!$A:$F,4,0) -> 6.11 | L15: =VLOOKUP(I15,'DCA fantagazz'!$A:$F,4,0) -> 5.97 | P15: SAU | Q15: =VLOOKUP(P15,'DCA gazz'!$A:$F,4,0) -> 6.22 | R15: =VLOOKUP(P15,'DCA corr'!$A:$F,4,0) -> 6.27 | S15: =VLOOKUP(P15,'DCA fantagazz'!$A:$F,4,0) -> 6.22 | W15: BIAGIANTI | X15: =VLOOKUP(W15,'DCA gazz'!$A:$F,4,0) -> 5.9 | Y15: =VLOOKUP(W15,'DCA corr'!$A:$F,4,0) -> 5.92 | Z15: =VLOOKUP(W15,'DCA fantagazz'!$A:$F,4,0) -> 5.9 | AD15: PELLISSIER | AE15: =VLOOKUP(AD15,'DCA gazz'!$A:$F,4,0) -> 5.73 | AF15: =VLOOKUP(AD15,'DCA corr'!$A:$F,4,0) -> 5.78 | AG15: =VLOOKUP(AD15,'DCA fantagazz'!$A:$F,4,0) -> 5.83
B16: DENIS | C16: =VLOOKUP(B16,'DCA gazz'!$A:$F,4,0) -> 5.93 | D16: =VLOOKUP(B16,'DCA corr'!$A:$F,4,0) -> 6.01 | E16: =VLOOKUP(B16,'DCA fantagazz'!$A:$F,4,0) -> 6.08 | I16: GABBIADINI | J16: =VLOOKUP(I16,'DCA gazz'!$A:$F,4,0) -> 5.84 | K16: =VLOOKUP(I16,'DCA corr'!$A:$F,4,0) -> 5.95 | L16: =VLOOKUP(I16,'DCA fantagazz'!$A:$F,4,0) -> 5.8 | P16: PINILLA | Q16: =VLOOKUP(P16,'DCA gazz'!$A:$F,4,0) -> 5.89 | R16: =VLOOKUP(P16,'DCA corr'!$A:$F,4,0) -> 6 | S16: =VLOOKUP(P16,'DCA fantagazz'!$A:$F,4,0) -> 5.9 | W16: BERGESSIO | X16: =VLOOKUP(W16,'DCA gazz'!$A:$F,4,0) -> 6.2 | Y16: =VLOOKUP(W16,'DCA corr'!$A:$F,4,0) -> 6.14 | Z16: =VLOOKUP(W16,'DCA fantagazz'!$A:$F,4,0) -> 6.27 | AD16: PALOSCHI | AE16: =VLOOKUP(AD16,'DCA gazz'!$A:$F,4,0) -> 5.83 | AF16: =VLOOKUP(AD16,'DCA corr'!$A:$F,4,0) -> 5.83 | AG16: =VLOOKUP(AD16,'DCA fantagazz'!$A:$F,4,0) -> 5.83
B18: p | C18: =C3 -> 6.13 | D18: =D3 -> 6.2 | E18: =E3 -> 6.13 | F18: =F3 -> 0 | I18: p | J18: =J3 -> 6.14 | K18: =K3 -> 6.25 | L18: =L3 -> 6.11 | M18: =M3 -> 0 | P18: p | Q18: =Q3 -> 6.21 | R18: =R3 -> 6.19 | S18: =S3 -> 6.01 | T18: =T3 -> 0 | W18: p | X18: =X3 -> 6.09 | Y18: =Y3 -> 6.12 | Z18: =Z3 -> 6.12 | AA18: =AA3 -> 0 | AD18: p | AE18: =AE3 -> 6.18 | AF18: =AF3 -> 6.12 | AG18: =AG3 -> 6.12 | AH18: =AH3 -> 0
B19: d | C19: =SUM(C4:C9) -> 34.68 | D19: =SUM(D4:D9) -> 34.86 | E19: =SUM(E4:E9) -> 34.91 | F19: =SUM(F4:F9) -> 0 | I19: d | J19: =SUM(J4:J8) -> 28.84 | K19: =SUM(K4:K8) -> 29.13 | L19: =SUM(L4:L8) -> 29.52 | M19: =SUM(M4:M8) -> 0 | P19: d | Q19: =SUM(Q4:Q8) -> 29.03 | R19: =SUM(R4:R8) -> 29.72 | S19: =SUM(S4:S8) -> 29.54 | T19: =SUM(T4:T8) -> 0 | W19: d | X19: =SUM(X4:X8) -> 30.13 | Y19: =SUM(Y4:Y8) -> 29.86 | Z19: =SUM(Z4:Z8) -> 30.2 | AA19: =SUM(AA4:AA8) -> 0 | AD19: d | AE19: =SUM(AE4:AE8) -> 29.34 | AF19: =SUM(AF4:AF8) -> 29.21 | AG19: =SUM(AG4:AG8) -> 29.24 | AH19: =SUM(AH4:AH8) -> 0
B20: c | C20: =SUM(C10:C15) -> 35.53 | D20: =SUM(D10:D15) -> 35.61 | E20: =SUM(E10:E15) -> 35.54 | F20: =SUM(F10:F15) -> 0 | I20: c | J20: =SUM(J9:J14) -> 35.51 | K20: =SUM(K9:K14) -> 34.96 | L20: =SUM(L9:L14) -> 35.47 | M20: =SUM(M9:M14) -> 0 | P20: c | Q20: =SUM(Q9:Q13) -> 30.33 | R20: =SUM(R9:R13) -> 30.48 | S20: =SUM(S9:S13) -> 30.22 | T20: =SUM(T9:T13) -> 0 | W20: c | X20: =SUM(X9:X15) -> 42.87 | Y20: =SUM(Y9:Y15) -> 42.58 | Z20: =SUM(Z9:Z15) -> 42.89 | AA20: =SUM(AA9:AA15) -> 0 | AD20: c | AE20: =SUM(AE9:AE13) -> 29.82 | AF20: =SUM(AF9:AF13) -> 29.93 | AG20: =SUM(AG9:AG13) -> 29.79 | AH20: =SUM(AH9:AH13) -> 0
B21: a | C21: =SUM(C16:C16) -> 5.93 | D21: =SUM(D16:D16) -> 6.01 | E21: =SUM(E16:E16) -> 6.08 | F21: =SUM(F16:F16) -> 0 | I21: a | J21: =SUM(J15:J16) -> 11.74 | K21: =SUM(K15:K16) -> 12.06 | L21: =SUM(L15:L16) -> 11.77 | M21: =SUM(M15:M16) -> 0 | P21: a | Q21: =SUM(Q14:Q16) -> 18.3 | R21: =SUM(R14:R16) -> 18.5 | S21: =SUM(S14:S16) -> 18.27 | T21: =SUM(T14:T16) -> 0 | W21: a | X21: =SUM(X16:X16) -> 6.2 | Y21: =SUM(Y16:Y16) -> 6.14 | Z21: =SUM(Z16:Z16) -> 6.27 | AA21: =SUM(AA16:AA16) -> 0 | AD21: a | AE21: =SUM(AE14:AE16) -> 17.63 | AF21: =SUM(AF14:AF16) -> 17.57 | AG21: =SUM(AG14:AG16) -> 17.77 | AH21: =SUM(AH14:AH16) -> 0
B22: tot | C22: =SUM(C18:C21) -> 82.27 | D22: =SUM(D18:D21) -> 82.68 | E22: =SUM(E18:E21) -> 82.66 | F22: =SUM(F18:F21) -> 0 | I22: tot | J22: =SUM(J18:J21) -> 82.23 | K22: =SUM(K18:K21) -> 82.4 | L22: =SUM(L18:L21) -> 82.87 | M22: =SUM(M18:M21) -> 0 | P22: tot | Q22: =SUM(Q18:Q21) -> 83.87 | R22: =SUM(R18:R21) -> 84.89 | S22: =SUM(S18:S21) -> 84.04 | T22: =SUM(T18:T21) -> 0 | W22: tot | X22: =SUM(X18:X21) -> 85.29 | Y22: =SUM(Y18:Y21) -> 84.7 | Z22: =SUM(Z18:Z21) -> 85.48 | AA22: =SUM(AA18:AA21) -> 0 | AD22: tot | AE22: =SUM(AE18:AE21) -> 82.97 | AF22: =SUM(AF18:AF21) -> 82.83 | AG22: =SUM(AG18:AG21) -> 82.92 | AH22: =SUM(AH18:AH21) -> 0
B24: FIO | C24: g | D24: c | E24: f | F24: s | I24: GEN | J24: g | K24: c | L24: f | M24: s | P24: INT | Q24: g | R24: c | S24: f | T24: s | W24: JUV | X24: g | Y24: c | Z24: f | AA24: s | AD24: LAZ | AE24: g | AF24: c | AG24: f | AH24: s
B25: VIVIANO | C25: =VLOOKUP(B25,'P gazz'!$A:$E,4,0) -> 6.07 | D25: =VLOOKUP(B25,'P corr'!$A:$E,4,0) -> 6.17 | E25: =VLOOKUP(B25,'P fantagazz'!$A:$E,4,0) -> 6.06 | I25: FREY S. | J25: =VLOOKUP(I25,'P gazz'!$A:$E,4,0) -> 6.17 | K25: =VLOOKUP(I25,'P corr'!$A:$E,4,0) -> 6.13 | L25: =VLOOKUP(I25,'P fantagazz'!$A:$E,4,0) -> 6.18 | P25: HANDANOVIC | Q25: =VLOOKUP(P25,'P gazz'!$A:$E,4,0) -> 6.29 | R25: =VLOOKUP(P25,'P corr'!$A:$E,4,0) -> 6.39 | S25: =VLOOKUP(P25,'P fantagazz'!$A:$E,4,0) -> 6.21 | W25: BUFFON | X25: =VLOOKUP(W25,'P gazz'!$A:$E,4,0) -> 6.15 | Y25: =VLOOKUP(W25,'P corr'!$A:$E,4,0) -> 6.13 | Z25: =VLOOKUP(W25,'P fantagazz'!$A:$E,4,0) -> 6.13 | AD25: MARCHETTI | AE25: =VLOOKUP(AD25,'P gazz'!$A:$E,4,0) -> 6.32 | AF25: =VLOOKUP(AD25,'P corr'!$A:$E,4,0) -> 6.23 | AG25: =VLOOKUP(AD25,'P fantagazz'!$A:$E,4,0) -> 6.2
B26: PASQUAL | C26: =VLOOKUP(B26,'DCA gazz'!$A:$F,4,0) -> 6.21 | D26: =VLOOKUP(B26,'DCA corr'!$A:$F,4,0) -> 6.26 | E26: =VLOOKUP(B26,'DCA fantagazz'!$A:$F,4,0) -> 6.31 | I26: GRANQVIST | J26: =VLOOKUP(I26,'DCA gazz'!$A:$F,4,0) -> 6.03 | K26: =VLOOKUP(I26,'DCA corr'!$A:$F,4,0) -> 5.91 | L26: =VLOOKUP(I26,'DCA fantagazz'!$A:$F,4,0) -> 6.01 | P26: RANOCCHIA | Q26: =VLOOKUP(P26,'DCA gazz'!$A:$F,4,0) -> 6 | R26: =VLOOKUP(P26,'DCA corr'!$A:$F,4,0) -> 6.03 | S26: =VLOOKUP(P26,'DCA fantagazz'!$A:$F,4,0) -> 5.81 | W26: BARZAGLI | X26: =VLOOKUP(W26,'DCA gazz'!$A:$F,4,0) -> 6.26 | Y26: =VLOOKUP(W26,'DCA corr'!$A:$F,4,0) -> 6.26 | Z26: =VLOOKUP(W26,'DCA fantagazz'!$A:$F,4,0) -> 6.29 | AD26: BIAVA | AE26: =VLOOKUP(AD26,'DCA gazz'!$A:$F,4,0) -> 5.87 | AF26: =VLOOKUP(AD26,'DCA corr'!$A:$F,4,0) -> 6.22 | AG26: =VLOOKUP(AD26,'DCA fantagazz'!$A:$F,4,0) -> 5.95
B27: RODRIGUEZ GO. | C27: =VLOOKUP(B27,'DCA gazz'!$A:$F,4,0) -> 5.97 | D27: =VLOOKUP(B27,'DCA corr'!$A:$F,4,0) -> 6.17 | E27: =VLOOKUP(B27,'DCA fantagazz'!$A:$F,4,0) -> 6.1 | I27: ANTONELLI | J27: =VLOOKUP(I27,'DCA gazz'!$A:$F,4,0) -> 5.88 | K27: =VLOOKUP(I27,'DCA corr'!$A:$F,4,0) -> 5.97 | L27: =VLOOKUP(I27,'DCA fantagazz'!$A:$F,4,0) -> 6 | P27: JUAN JESUS | Q27: =VLOOKUP(P27,'DCA gazz'!$A:$F,4,0) -> 5.69 | R27: =VLOOKUP(P27,'DCA corr'!$A:$F,4,0) -> 5.63 | S27: =VLOOKUP(P27,'DCA fantagazz'!$A:$F,4,0) -> 5.68 | W27: BONUCCI | X27: =VLOOKUP(W27,'DCA gazz'!$A:$F,4,0) -> 6.24 | Y27: =VLOOKUP(W27,'DCA corr'!$A:$F,4,0) -> 6.15 | Z27: =VLOOKUP(W27,'DCA fantagazz'!$A:$F,4,0) -> 6.11 | AD27: DIAS | AE27: =VLOOKUP(AD27,'DCA gazz'!$A:$F,4,0) -> 5.71 | AF27: =VLOOKUP(AD27,'DCA corr'!$A:$F,4,0) -> 5.85 | AG27: =VLOOKUP(AD27,'DCA fantagazz'!$A:$F,4,0) -> 5.79
B28: SAVIC | C28: =VLOOKUP(B28,'DCA gazz'!$A:$F,4,0) -> 5.94 | D28: =VLOOKUP(B28,'DCA corr'!$A:$F,4,0) -> 6.23 | E28: =VLOOKUP(B28,'DCA fantagazz'!$A:$F,4,0) -> 6.06 | I28: MORETTI E. | J28: =VLOOKUP(I28,'DCA gazz'!$A:$F,4,0) -> 5.93 | K28: =VLOOKUP(I28,'DCA corr'!$A:$F,4,0) -> 5.88 | L28: =VLOOKUP(I28,'DCA fantagazz'!$A:$F,4,0) -> 5.88 | P28: ALVARO PEREIRA | Q28: =VLOOKUP(P28,'DCA gazz'!$A:$F,4,0) -> 5.54 | R28: =VLOOKUP(P28,'DCA corr'!$A:$F,4,0) -> 5.62 | S28: =VLOOKUP(P28,'DCA fantagazz'!$A:$F,4,0) -> 5.76 | W28: LICHTSTEINER | X28: =VLOOKUP(W28,'DCA gazz'!$A:$F,4,0) -> 6.2 | Y28: =VLOOKUP(W28,'DCA corr'!$A:$F,4,0) -> 6.08 | Z28: =VLOOKUP(W28,'DCA fantagazz'!$A:$F,4,0) -> 5.98 | AD28: KONKO | AE28: =VLOOKUP(AD28,'DCA gazz'!$A:$F,4,0) -> 6 | AF28: =VLOOKUP(AD28,'DCA corr'!$A:$F,4,0) -> 6.02 | AG28: =VLOOKUP(AD28,'DCA fantagazz'!$A:$F,4,0) -> 5.98
B29: TOMOVIC | C29: =VLOOKUP(B29,'DCA gazz'!$A:$F,4,0) -> 5.8 | D29: =VLOOKUP(B29,'DCA corr'!$A:$F,4,0) -> 5.96 | E29: =VLOOKUP(B29,'DCA fantagazz'!$A:$F,4,0) -> 5.9 | I29: MANFREDINI | J29: =VLOOKUP(I29,'DCA gazz'!$A:$F,4,0) -> 6.09 | K29: =VLOOKUP(I29,'DCA corr'!$A:$F,4,0) -> 6.19 | L29: =VLOOKUP(I29,'DCA fantagazz'!$A:$F,4,0) -> 6.12 | P29: NAGATOMO | Q29: =VLOOKUP(P29,'DCA gazz'!$A:$F,4,0) -> 5.65 | R29: =VLOOKUP(P29,'DCA corr'!$A:$F,4,0) -> 5.6 | S29: =VLOOKUP(P29,'DCA fantagazz'!$A:$F,4,0) -> 5.77 | W29: CHIELLINI | X29: =VLOOKUP(W29,'DCA gazz'!$A:$F,4,0) -> 6.17 | Y29: =VLOOKUP(W29,'DCA corr'!$A:$F,4,0) -> 6.39 | Z29: =VLOOKUP(W29,'DCA fantagazz'!$A:$F,4,0) -> 6.4 | AD29: RADU | AE29: =VLOOKUP(AD29,'DCA gazz'!$A:$F,4,0) -> 6.07 | AF29: =VLOOKUP(AD29,'DCA corr'!$A:$F,4,0) -> 6.15 | AG29: =VLOOKUP(AD29,'DCA fantagazz'!$A:$F,4,0) -> 6.02
B30: RONCAGLIA | C30: =VLOOKUP(B30,'DCA gazz'!$A:$F,4,0) -> 5.85 | D30: =VLOOKUP(B30,'DCA corr'!$A:$F,4,0) -> 6.13 | E30: =VLOOKUP(B30,'DCA fantagazz'!$A:$F,4,0) -> 6.08 | I30: PORTANOVA | J30: =VLOOKUP(I30,'DCA gazz'!$A:$F,4,0) -> 6 | K30: =VLOOKUP(I30,'DCA corr'!$A:$F,4,0) -> 5.97 | L30: =VLOOKUP(I30,'DCA fantagazz'!$A:$F,4,0) -> 5.97 | P30: SAMUEL | Q30: =VLOOKUP(P30,'DCA gazz'!$A:$F,4,0) -> 6.16 | R30: =VLOOKUP(P30,'DCA corr'!$A:$F,4,0) -> 6 | S30: =VLOOKUP(P30,'DCA fantagazz'!$A:$F,4,0) -> 5.97 | W30: PIRLO | X30: =VLOOKUP(W30,'DCA gazz'!$A:$F,4,0) -> 6.27 | Y30: =VLOOKUP(W30,'DCA corr'!$A:$F,4,0) -> 6.34 | Z30: =VLOOKUP(W30,'DCA fantagazz'!$A:$F,4,0) -> 6.2 | AD30: LEDESMA | AE30: =VLOOKUP(AD30,'DCA gazz'!$A:$F,4,0) -> 6.18 | AF30: =VLOOKUP(AD30,'DCA corr'!$A:$F,4,0) -> 6.19 | AG30: =VLOOKUP(AD30,'DCA fantagazz'!$A:$F,4,0) -> 5.85
B31: BORJA VALERO | C31: =VLOOKUP(B31,'DCA gazz'!$A:$F,4,0) -> 6.47 | D31: =VLOOKUP(B31,'DCA corr'!$A:$F,4,0) -> 6.42 | E31: =VLOOKUP(B31,'DCA fantagazz'!$A:$F,4,0) -> 6.42 | I31: KUCKA | J31: =VLOOKUP(I31,'DCA gazz'!$A:$F,4,0) -> 6.17 | K31: =VLOOKUP(I31,'DCA corr'!$A:$F,4,0) -> 6.08 | L31: =VLOOKUP(I31,'DCA fantagazz'!$A:$F,4,0) -> 6.08 | P31: CAMBIASSO | Q31: =VLOOKUP(P31,'DCA gazz'!$A:$F,4,0) -> 5.92 | R31: =VLOOKUP(P31,'DCA corr'!$A:$F,4,0) -> 6 | S31: =VLOOKUP(P31,'DCA fantagazz'!$A:$F,4,0) -> 6.05 | W31: VIDAL | X31: =VLOOKUP(W31,'DCA gazz'!$A:$F,4,0) -> 6.24 | Y31: =VLOOKUP(W31,'DCA corr'!$A:$F,4,0) -> 6.35 | Z31: =VLOOKUP(W31,'DCA fantagazz'!$A:$F,4,0) -> 6.32 | AD31: CANDREVA | AE31: =VLOOKUP(AD31,'DCA gazz'!$A:$F,4,0) -> 6.24 | AF31: =VLOOKUP(AD31,'DCA corr'!$A:$F,4,0) -> 6.29 | AG31: =VLOOKUP(AD31,'DCA fantagazz'!$A:$F,4,0) -> 6.19
B32: CUADRADO | C32: =VLOOKUP(B32,'DCA gazz'!$A:$F,4,0) -> 6.39 | D32: =VLOOKUP(B32,'DCA corr'!$A:$F,4,0) -> 6.39 | E32: =VLOOKUP(B32,'DCA fantagazz'!$A:$F,4,0) -> 6.47 | I32: BERTOLACCI | J32: =VLOOKUP(I32,'DCA gazz'!$A:$F,4,0) -> 5.86 | K32: =VLOOKUP(I32,'DCA corr'!$A:$F,4,0) -> 5.93 | L32: =VLOOKUP(I32,'DCA fantagazz'!$A:$F,4,0) -> 5.83 | P32: ZANETTI | Q32: =VLOOKUP(P32,'DCA gazz'!$A:$F,4,0) -> 5.91 | R32: =VLOOKUP(P32,'DCA corr'!$A:$F,4,0) -> 6.02 | S32: =VLOOKUP(P32,'DCA fantagazz'!$A:$F,4,0) -> 6 | W32: MARCHISIO | X32: =VLOOKUP(W32,'DCA gazz'!$A:$F,4,0) -> 6.3 | Y32: =VLOOKUP(W32,'DCA corr'!$A:$F,4,0) -> 6.29 | Z32: =VLOOKUP(W32,'DCA fantagazz'!$A:$F,4,0) -> 6.29 | AD32: HERNANES | AE32: =VLOOKUP(AD32,'DCA gazz'!$A:$F,4,0) -> 6.03 | AF32: =VLOOKUP(AD32,'DCA corr'!$A:$F,4,0) -> 6.15 | AG32: =VLOOKUP(AD32,'DCA fantagazz'!$A:$F,4,0) -> 5.76
B33: PIZARRO | C33: =VLOOKUP(B33,'DCA gazz'!$A:$F,4,0) -> 6.47 | D33: =VLOOKUP(B33,'DCA corr'!$A:$F,4,0) -> 6.52 | E33: =VLOOKUP(B33,'DCA fantagazz'!$A:$F,4,0) -> 6.36 | I33: TOZSER | J33: =VLOOKUP(I33,'DCA gazz'!$A:$F,4,0) -> 5.67 | K33: =VLOOKUP(I33,'DCA corr'!$A:$F,4,0) -> 5.53 | L33: =VLOOKUP(I33,'DCA fantagazz'!$A:$F,4,0) -> 5.57 | P33: GUARIN | Q33: =VLOOKUP(P33,'DCA gazz'!$A:$F,4,0) -> 5.82 | R33: =VLOOKUP(P33,'DCA corr'!$A:$F,4,0) -> 5.71 | S33: =VLOOKUP(P33,'DCA fantagazz'!$A:$F,4,0) -> 5.92 | W33: ASAMOAH | X33: =VLOOKUP(W33,'DCA gazz'!$A:$F,4,0) -> 6.02 | Y33: =VLOOKUP(W33,'DCA corr'!$A:$F,4,0) -> 6.04 | Z33: =VLOOKUP(W33,'DCA fantagazz'!$A:$F,4,0) -> 6.08 | AD33: GONZALEZ | AE33: =VLOOKUP(AD33,'DCA gazz'!$A:$F,4,0) -> 5.99 | AF33: =VLOOKUP(AD33,'DCA corr'!$A:$F,4,0) -> 6.17 | AG33: =VLOOKUP(AD33,'DCA fantagazz'!$A:$F,4,0) -> 5.87
B34: LJAJIC | C34: =VLOOKUP(B34,'DCA gazz'!$A:$F,4,0) -> 6.29 | D34: =VLOOKUP(B34,'DCA corr'!$A:$F,4,0) -> 6.36 | E34: =VLOOKUP(B34,'DCA fantagazz'!$A:$F,4,0) -> 6.33 | I34: JANKOVIC | J34: =VLOOKUP(I34,'DCA gazz'!$A:$F,4,0) -> 5.92 | K34: =VLOOKUP(I34,'DCA corr'!$A:$F,4,0) -> 5.94 | L34: =VLOOKUP(I34,'DCA fantagazz'!$A:$F,4,0) -> 5.89 | P34: GARGANO | Q34: =VLOOKUP(P34,'DCA gazz'!$A:$F,4,0) -> 5.71 | R34: =VLOOKUP(P34,'DCA corr'!$A:$F,4,0) -> 5.81 | S34: =VLOOKUP(P34,'DCA fantagazz'!$A:$F,4,0) -> 5.67 | W34: POGBA | X34: =VLOOKUP(W34,'DCA gazz'!$A:$F,4,0) -> 6.35 | Y34: =VLOOKUP(W34,'DCA corr'!$A:$F,4,0) -> 6.39 | Z34: =VLOOKUP(W34,'DCA fantagazz'!$A:$F,4,0) -> 6.38 | AD34: LULIC | AE34: =VLOOKUP(AD34,'DCA gazz'!$A:$F,4,0) -> 6.02 | AF34: =VLOOKUP(AD34,'DCA corr'!$A:$F,4,0) -> 5.79 | AG34: =VLOOKUP(AD34,'DCA fantagazz'!$A:$F,4,0) -> 5.77
B35: AQUILANI | C35: =VLOOKUP(B35,'DCA gazz'!$A:$F,4,0) -> 6.1 | D35: =VLOOKUP(B35,'DCA corr'!$A:$F,4,0) -> 6.19 | E35: =VLOOKUP(B35,'DCA fantagazz'!$A:$F,4,0) -> 5.94 | I35: MATUZALEM | J35: =VLOOKUP(I35,'DCA gazz'!$A:$F,4,0) -> 6.17 | K35: =VLOOKUP(I35,'DCA corr'!$A:$F,4,0) -> 5.97 | L35: =VLOOKUP(I35,'DCA fantagazz'!$A:$F,4,0) -> 5.9 | P35: KOVACIC | Q35: =VLOOKUP(P35,'DCA gazz'!$A:$F,4,0) -> 6.04 | R35: =VLOOKUP(P35,'DCA corr'!$A:$F,4,0) -> 6.15 | S35: =VLOOKUP(P35,'DCA fantagazz'!$A:$F,4,0) -> 6.04 | W35: GIACCHERINI | X35: =VLOOKUP(W35,'DCA gazz'!$A:$F,4,0) -> 6.09 | Y35: =VLOOKUP(W35,'DCA corr'!$A:$F,4,0) -> 6.2 | Z35: =VLOOKUP(W35,'DCA fantagazz'!$A:$F,4,0) -> 6.16 | AD35: MAURI | AE35: =VLOOKUP(AD35,'DCA gazz'!$A:$F,4,0) -> 5.96 | AF35: =VLOOKUP(AD35,'DCA corr'!$A:$F,4,0) -> 6.1 | AG35: =VLOOKUP(AD35,'DCA fantagazz'!$A:$F,4,0) -> 5.86
B36: FERNANDEZ M. | C36: =VLOOKUP(B36,'DCA gazz'!$A:$F,4,0) -> 5.95 | D36: =VLOOKUP(B36,'DCA corr'!$A:$F,4,0) -> 6 | E36: =VLOOKUP(B36,'DCA fantagazz'!$A:$F,4,0) -> 5.83 | I36: ROSSI | J36: =VLOOKUP(I36,'DCA gazz'!$A:$F,4,0) -> 5.96 | K36: =VLOOKUP(I36,'DCA corr'!$A:$F,4,0) -> 5.95 | L36: =VLOOKUP(I36,'DCA fantagazz'!$A:$F,4,0) -> 5.96 | P36: CASSANO | Q36: =VLOOKUP(P36,'DCA gazz'!$A:$F,4,0) -> 6.13 | R36: =VLOOKUP(P36,'DCA corr'!$A:$F,4,0) -> 6.32 | S36: =VLOOKUP(P36,'DCA fantagazz'!$A:$F,4,0) -> 6.2 | W36: VUCINIC | X36: =VLOOKUP(W36,'DCA gazz'!$A:$F,4,0) -> 6.02 | Y36: =VLOOKUP(W36,'DCA corr'!$A:$F,4,0) -> 6.13 | Z36: =VLOOKUP(W36,'DCA fantagazz'!$A:$F,4,0) -> 6.11 | AD36: CANA | AE36: =VLOOKUP(AD36,'DCA gazz'!$A:$F,4,0) -> 5.92 | AF36: =VLOOKUP(AD36,'DCA corr'!$A:$F,4,0) -> 5.92 | AG36: =VLOOKUP(AD36,'DCA fantagazz'!$A:$F,4,0) -> 5.92
B37: JOVETIC | C37: =VLOOKUP(B37,'DCA gazz'!$A:$F,4,0) -> 6.18 | D37: =VLOOKUP(B37,'DCA corr'!$A:$F,4,0) -> 6.19 | E37: =VLOOKUP(B37,'DCA fantagazz'!$A:$F,4,0) -> 6.06 | I37: BORRIELLO | J37: =VLOOKUP(I37,'DCA gazz'!$A:$F,4,0) -> 6.11 | K37: =VLOOKUP(I37,'DCA corr'!$A:$F,4,0) -> 6.29 | L37: =VLOOKUP(I37,'DCA fantagazz'!$A:$F,4,0) -> 6.2 | P37: PALACIO | Q37: =VLOOKUP(P37,'DCA gazz'!$A:$F,4,0) -> 6.1 | R37: =VLOOKUP(P37,'DCA corr'!$A:$F,4,0) -> 6.08 | S37: =VLOOKUP(P37,'DCA fantagazz'!$A:$F,4,0) -> 5.98 | W37: GIOVINCO | X37: =VLOOKUP(W37,'DCA gazz'!$A:$F,4,0) -> 5.83 | Y37: =VLOOKUP(W37,'DCA corr'!$A:$F,4,0) -> 6.12 | Z37: =VLOOKUP(W37,'DCA fantagazz'!$A:$F,4,0) -> 6 | AD37: KLOSE | AE37: =VLOOKUP(AD37,'DCA gazz'!$A:$F,4,0) -> 6.16 | AF37: =VLOOKUP(AD37,'DCA corr'!$A:$F,4,0) -> 6.41 | AG37: =VLOOKUP(AD37,'DCA fantagazz'!$A:$F,4,0) -> 6.15
B38: TONI | C38: =VLOOKUP(B38,'DCA gazz'!$A:$F,4,0) -> 5.94 | D38: =VLOOKUP(B38,'DCA corr'!$A:$F,4,0) -> 6.17 | E38: =VLOOKUP(B38,'DCA fantagazz'!$A:$F,4,0) -> 6.04 | I38: IMMOBILE | J38: =VLOOKUP(I38,'DCA gazz'!$A:$F,4,0) -> 5.59 | K38: =VLOOKUP(I38,'DCA corr'!$A:$F,4,0) -> 5.84 | L38: =VLOOKUP(I38,'DCA fantagazz'!$A:$F,4,0) -> 5.81 | P38: MILITO | Q38: =VLOOKUP(P38,'DCA gazz'!$A:$F,4,0) -> 5.95 | R38: =VLOOKUP(P38,'DCA corr'!$A:$F,4,0) -> 6 | S38: =VLOOKUP(P38,'DCA fantagazz'!$A:$F,4,0) -> 5.97 | W38: QUAGLIARELLA | X38: =VLOOKUP(W38,'DCA gazz'!$A:$F,4,0) -> 6.05 | Y38: =VLOOKUP(W38,'DCA corr'!$A:$F,4,0) -> 6.06 | Z38: =VLOOKUP(W38,'DCA fantagazz'!$A:$F,4,0) -> 6.07 | AD38: FLOCCARI | AE38: =VLOOKUP(AD38,'DCA gazz'!$A:$F,4,0) -> 6.08 | AF38: =VLOOKUP(AD38,'DCA corr'!$A:$F,4,0) -> 6.09 | AG38: =VLOOKUP(AD38,'DCA fantagazz'!$A:$F,4,0) -> 6
B40: p | C40: =C25 -> 6.07 | D40: =D25 -> 6.17 | E40: =E25 -> 6.06 | F40: =F25 -> 0 | I40: p | J40: =J25 -> 6.17 | K40: =K25 -> 6.13 | L40: =L25 -> 6.18 | M40: =M25 -> 0 | P40: p | Q40: =Q25 -> 6.29 | R40: =R25 -> 6.39 | S40: =S25 -> 6.21 | T40: =T25 -> 0 | W40: p | X40: =X25 -> 6.15 | Y40: =Y25 -> 6.13 | Z40: =Z25 -> 6.13 | AA40: =AA25 -> 0 | AD40: p | AE40: =AE25 -> 6.32 | AF40: =AF25 -> 6.23 | AG40: =AG25 -> 6.2 | AH40: =AH25 -> 0
B41: d | C41: =SUM(C26:C30) -> 29.77 | D41: =SUM(D26:D30) -> 30.75 | E41: =SUM(E26:E30) -> 30.45 | F41: =SUM(F26:F30) -> 0 | I41: d | J41: =SUM(J26:J30) -> 29.93 | K41: =SUM(K26:K30) -> 29.92 | L41: =SUM(L26:L30) -> 29.98 | M41: =SUM(M26:M30) -> 0 | P41: d | Q41: =SUM(Q26:Q30) -> 29.04 | R41: =SUM(R26:R30) -> 28.88 | S41: =SUM(S26:S30) -> 28.99 | T41: =SUM(T26:T30) -> 0 | W41: d | X41: =SUM(X26:X29) -> 24.87 | Y41: =SUM(Y26:Y29) -> 24.88 | Z41: =SUM(Z26:Z29) -> 24.78 | AA41: =SUM(AA26:AA29) -> 0 | AD41: d | AE41: =SUM(AE26:AE29) -> 23.65 | AF41: =SUM(AF26:AF29) -> 24.24 | AG41: =SUM(AG26:AG29) -> 23.74 | AH41: =SUM(AH26:AH29) -> 0
B42: c | C42: =SUM(C31:C36) -> 37.67 | D42: =SUM(D31:D36) -> 37.88 | E42: =SUM(E31:E36) -> 37.35 | F42: =SUM(F31:F36) -> 0 | I42: c | J42: =SUM(J31:J36) -> 35.75 | K42: =SUM(K31:K36) -> 35.4 | L42: =SUM(L31:L36) -> 35.23 | M42: =SUM(M31:M36) -> 0 | P42: c | Q42: =SUM(Q31:Q35) -> 29.4 | R42: =SUM(R31:R35) -> 29.69 | S42: =SUM(S31:S35) -> 29.68 | T42: =SUM(T31:T35) -> 0 | W42: c | X42: =SUM(X30:X35) -> 37.27 | Y42: =SUM(Y30:Y35) -> 37.61 | Z42: =SUM(Z30:Z35) -> 37.43 | AA42: =SUM(AA30:AA35) -> 0 | AD42: c | AE42: =SUM(AE30:AE36) -> 42.34 | AF42: =SUM(AF30:AF36) -> 42.61 | AG42: =SUM(AG30:AG36) -> 41.22 | AH42: =SUM(AH30:AH36) -> 0
B43: a | C43: =SUM(C37:C38) -> 12.12 | D43: =SUM(D37:D38) -> 12.36 | E43: =SUM(E37:E38) -> 12.1 | F43: =SUM(F37:F38) -> 0 | I43: a | J43: =SUM(J37:J38) -> 11.7 | K43: =SUM(K37:K38) -> 12.13 | L43: =SUM(L37:L38) -> 12.01 | M43: =SUM(M37:M38) -> 0 | P43: a | Q43: =SUM(Q36:Q38) -> 18.18 | R43: =SUM(R36:R38) -> 18.4 | S43: =SUM(S36:S38) -> 18.15 | T43: =SUM(T36:T38) -> 0 | W43: a | X43: =SUM(X36:X38) -> 17.9 | Y43: =SUM(Y36:Y38) -> 18.31 | Z43: =SUM(Z36:Z38) -> 18.18 | AA43: =SUM(AA36:AA38) -> 0 | AD43: a | AE43: =SUM(AE37:AE38) -> 12.24 | AF43: =SUM(AF37:AF38) -> 12.5 | AG43: =SUM(AG37:AG38) -> 12.15 | AH43: =SUM(AH37:AH38) -> 0
B44: tot | C44: =SUM(C40:C43) -> 85.63 | D44: =SUM(D40:D43) -> 87.16 | E44: =SUM(E40:E43) -> 85.96 | F44: =SUM(F40:F43) -> 0 | I44: tot | J44: =SUM(J40:J43) -> 83.55 | K44: =SUM(K40:K43) -> 83.58 | L44: =SUM(L40:L43) -> 83.4 | M44: =SUM(M40:M43) -> 0 | P44: tot | Q44: =SUM(Q40:Q43) -> 82.91 | R44: =SUM(R40:R43) -> 83.36 | S44: =SUM(S40:S43) -> 83.03 | T44: =SUM(T40:T43) -> 0 | W44: tot | X44: =SUM(X40:X43) -> 86.19 | Y44: =SUM(Y40:Y43) -> 86.93 | Z44: =SUM(Z40:Z43) -> 86.52 | AA44: =SUM(AA40:AA43) -> 0 | AD44: tot | AE44: =SUM(AE40:AE43) -> 84.55 | AF44: =SUM(AF40:AF43) -> 85.58 | AG44: =SUM(AG40:AG43) -> 83.31 | AH44: =SUM(AH40:AH43) -> 0
B46: MIL | C46: g | D46: c | E46: f | F46: s | I46: NAP | J46: g | K46: c | L46: f | M46: s | P46: PAL | Q46: g | R46: c | S46: f | T46: s | W46: PAR | X46: g | Y46: c | Z46: f | AA46: s | AD46: PES | AE46: g | AF46: c | AG46: f | AH46: s
B47: ABBIATI | C47: =VLOOKUP(B47,'P gazz'!$A:$E,4,0) -> 6.07 | D47: =VLOOKUP(B47,'P corr'!$A:$E,4,0) -> 6.07 | E47: =VLOOKUP(B47,'P fantagazz'!$A:$E,4,0) -> 6.09 | I47: DE SANCTIS | J47: =VLOOKUP(I47,'P gazz'!$A:$E,4,0) -> 6 | K47: =VLOOKUP(I47,'P corr'!$A:$E,4,0) -> 6.07 | L47: =VLOOKUP(I47,'P fantagazz'!$A:$E,4,0) -> 6.09 | P47: SORRENTINO | Q47: =VLOOKUP(P47,'P gazz'!$A:$E,4,0) -> 6.14 | R47: =VLOOKUP(P47,'P corr'!$A:$E,4,0) -> 6.16 | S47: =VLOOKUP(P47,'P fantagazz'!$A:$E,4,0) -> 6.17 | W47: MIRANTE | X47: =VLOOKUP(W47,'P gazz'!$A:$E,4,0) -> 6.27 | Y47: =VLOOKUP(W47,'P corr'!$A:$E,4,0) -> 6.23 | Z47: =VLOOKUP(W47,'P fantagazz'!$A:$E,4,0) -> 6.2 | AD47: PELIZZOLI | AE47: =VLOOKUP(AD47,'P gazz'!$A:$E,4,0) -> 6.55 | AF47: =VLOOKUP(AD47,'P corr'!$A:$E,4,0) -> 6.64 | AG47: =VLOOKUP(AD47,'P fantagazz'!$A:$E,4,0) -> 6.77
B48: ABATE | C48: =VLOOKUP(B48,'DCA gazz'!$A:$F,4,0) -> 5.96 | D48: =VLOOKUP(B48,'DCA corr'!$A:$F,4,0) -> 6 | E48: =VLOOKUP(B48,'DCA fantagazz'!$A:$F,4,0) -> 5.89 | I48: CANNAVARO | J48: =VLOOKUP(I48,'DCA gazz'!$A:$F,4,0) -> 6.2 | K48: =VLOOKUP(I48,'DCA corr'!$A:$F,4,0) -> 6.23 | L48: =VLOOKUP(I48,'DCA fantagazz'!$A:$F,4,0) -> 6.02 | P48: VON BERGEN | Q48: =VLOOKUP(P48,'DCA gazz'!$A:$F,4,0) -> 5.83 | R48: =VLOOKUP(P48,'DCA corr'!$A:$F,4,0) -> 5.9 | S48: =VLOOKUP(P48,'DCA fantagazz'!$A:$F,4,0) -> 5.87 | W48: PALETTA | X48: =VLOOKUP(W48,'DCA gazz'!$A:$F,4,0) -> 6.03 | Y48: =VLOOKUP(W48,'DCA corr'!$A:$F,4,0) -> 6.04 | Z48: =VLOOKUP(W48,'DCA fantagazz'!$A:$F,4,0) -> 6.07 | AD48: CAPUANO M. | AE48: =VLOOKUP(AD48,'DCA gazz'!$A:$F,4,0) -> 5.17 | AF48: =VLOOKUP(AD48,'DCA corr'!$A:$F,4,0) -> 5.4 | AG48: =VLOOKUP(AD48,'DCA fantagazz'!$A:$F,4,0) -> 5.44
B49: DE SCIGLIO | C49: =VLOOKUP(B49,'DCA gazz'!$A:$F,4,0) -> 6.12 | D49: =VLOOKUP(B49,'DCA corr'!$A:$F,4,0) -> 6 | E49: =VLOOKUP(B49,'DCA fantagazz'!$A:$F,4,0) -> 6.12 | I49: CAMPAGNARO | J49: =VLOOKUP(I49,'DCA gazz'!$A:$F,4,0) -> 6.27 | K49: =VLOOKUP(I49,'DCA corr'!$A:$F,4,0) -> 6.27 | L49: =VLOOKUP(I49,'DCA fantagazz'!$A:$F,4,0) -> 6.11 | P49: GARCIA SANTIAGO | Q49: =VLOOKUP(P49,'DCA gazz'!$A:$F,4,0) -> 5.67 | R49: =VLOOKUP(P49,'DCA corr'!$A:$F,4,0) -> 5.75 | S49: =VLOOKUP(P49,'DCA fantagazz'!$A:$F,4,0) -> 5.59 | W49: LUCARELLI | X49: =VLOOKUP(W49,'DCA gazz'!$A:$F,4,0) -> 5.86 | Y49: =VLOOKUP(W49,'DCA corr'!$A:$F,4,0) -> 5.77 | Z49: =VLOOKUP(W49,'DCA fantagazz'!$A:$F,4,0) -> 5.81 | AD49: BALZANO | AE49: =VLOOKUP(AD49,'DCA gazz'!$A:$F,4,0) -> 5.52 | AF49: =VLOOKUP(AD49,'DCA corr'!$A:$F,4,0) -> 5.5 | AG49: =VLOOKUP(AD49,'DCA fantagazz'!$A:$F,4,0) -> 5.85
B50: MEXES | C50: =VLOOKUP(B50,'DCA gazz'!$A:$F,4,0) -> 5.94 | D50: =VLOOKUP(B50,'DCA corr'!$A:$F,4,0) -> 5.76 | E50: =VLOOKUP(B50,'DCA fantagazz'!$A:$F,4,0) -> 5.88 | I50: GAMBERINI | J50: =VLOOKUP(I50,'DCA gazz'!$A:$F,4,0) -> 5.92 | K50: =VLOOKUP(I50,'DCA corr'!$A:$F,4,0) -> 5.8 | L50: =VLOOKUP(I50,'DCA fantagazz'!$A:$F,4,0) -> 5.92 | P50: MUNOZ | Q50: =VLOOKUP(P50,'DCA gazz'!$A:$F,4,0) -> 5.73 | R50: =VLOOKUP(P50,'DCA corr'!$A:$F,4,0) -> 5.97 | S50: =VLOOKUP(P50,'DCA fantagazz'!$A:$F,4,0) -> 5.73 | W50: ZACCARDO | X50: =VLOOKUP(W50,'DCA gazz'!$A:$F,4,0) -> 5.78 | Y50: =VLOOKUP(W50,'DCA corr'!$A:$F,4,0) -> 6 | Z50: =VLOOKUP(W50,'DCA fantagazz'!$A:$F,4,0) -> 5.94 | AD50: ZANON | AE50: =VLOOKUP(AD50,'DCA gazz'!$A:$F,4,0) -> 5.5 | AF50: =VLOOKUP(AD50,'DCA corr'!$A:$F,4,0) -> 5.5 | AG50: =VLOOKUP(AD50,'DCA fantagazz'!$A:$F,4,0) -> 5.52
B51: ZAPATA | C51: =VLOOKUP(B51,'DCA gazz'!$A:$F,4,0) -> 5.93 | D51: =VLOOKUP(B51,'DCA corr'!$A:$F,4,0) -> 5.76 | E51: =VLOOKUP(B51,'DCA fantagazz'!$A:$F,4,0) -> 5.91 | I51: BRITOS | J51: =VLOOKUP(I51,'DCA gazz'!$A:$F,4,0) -> 5.89 | K51: =VLOOKUP(I51,'DCA corr'!$A:$F,4,0) -> 5.89 | L51: =VLOOKUP(I51,'DCA fantagazz'!$A:$F,4,0) -> 5.86 | P51: MORGANELLA | Q51: =VLOOKUP(P51,'DCA gazz'!$A:$F,4,0) -> 5.78 | R51: =VLOOKUP(P51,'DCA corr'!$A:$F,4,0) -> 5.83 | S51: =VLOOKUP(P51,'DCA fantagazz'!$A:$F,4,0) -> 5.74 | W51: ROSI | X51: =VLOOKUP(W51,'DCA gazz'!$A:$F,4,0) -> 5.83 | Y51: =VLOOKUP(W51,'DCA corr'!$A:$F,4,0) -> 5.85 | Z51: =VLOOKUP(W51,'DCA fantagazz'!$A:$F,4,0) -> 5.85 | AD51: BOCCHETTI | AE51: =VLOOKUP(AD51,'DCA gazz'!$A:$F,4,0) -> 5.46 | AF51: =VLOOKUP(AD51,'DCA corr'!$A:$F,4,0) -> 5.48 | AG51: =VLOOKUP(AD51,'DCA fantagazz'!$A:$F,4,0) -> 5.26
B52: MONTOLIVO | C52: =VLOOKUP(B52,'DCA gazz'!$A:$F,4,0) -> 6.08 | D52: =VLOOKUP(B52,'DCA corr'!$A:$F,4,0) -> 6.11 | E52: =VLOOKUP(B52,'DCA fantagazz'!$A:$F,4,0) -> 6.16 | I52: HAMSIK | J52: =VLOOKUP(I52,'DCA gazz'!$A:$F,4,0) -> 6.45 | K52: =VLOOKUP(I52,'DCA corr'!$A:$F,4,0) -> 6.51 | L52: =VLOOKUP(I52,'DCA fantagazz'!$A:$F,4,0) -> 6.41 | P52: ARONICA | Q52: =VLOOKUP(P52,'DCA gazz'!$A:$F,4,0) -> 5.7 | R52: =VLOOKUP(P52,'DCA corr'!$A:$F,4,0) -> 5.7 | S52: =VLOOKUP(P52,'DCA fantagazz'!$A:$F,4,0) -> 5.6 | W52: BENALOUANE | X52: =VLOOKUP(W52,'DCA gazz'!$A:$F,4,0) -> 5.83 | Y52: =VLOOKUP(W52,'DCA corr'!$A:$F,4,0) -> 5.78 | Z52: =VLOOKUP(W52,'DCA fantagazz'!$A:$F,4,0) -> 6.03 | AD52: COSIC | AE52: =VLOOKUP(AD52,'DCA gazz'!$A:$F,4,0) -> 5.1 | AF52: =VLOOKUP(AD52,'DCA corr'!$A:$F,4,0) -> 5.42 | AG52: =VLOOKUP(AD52,'DCA fantagazz'!$A:$F,4,0) -> 5.5
B53: BOATENG | C53: =VLOOKUP(B53,'DCA gazz'!$A:$F,4,0) -> 5.53 | D53: =VLOOKUP(B53,'DCA corr'!$A:$F,4,0) -> 5.62 | E53: =VLOOKUP(B53,'DCA fantagazz'!$A:$F,4,0) -> 5.72 | I53: BEHRAMI | J53: =VLOOKUP(I53,'DCA gazz'!$A:$F,4,0) -> 6.18 | K53: =VLOOKUP(I53,'DCA corr'!$A:$F,4,0) -> 6.3 | L53: =VLOOKUP(I53,'DCA fantagazz'!$A:$F,4,0) -> 6.17 | P53: ILICIC | Q53: =VLOOKUP(P53,'DCA gazz'!$A:$F,4,0) -> 5.94 | R53: =VLOOKUP(P53,'DCA corr'!$A:$F,4,0) -> 6.06 | S53: =VLOOKUP(P53,'DCA fantagazz'!$A:$F,4,0) -> 6.18 | W53: PAROLO | X53: =VLOOKUP(W53,'DCA gazz'!$A:$F,4,0) -> 5.92 | Y53: =VLOOKUP(W53,'DCA corr'!$A:$F,4,0) -> 5.89 | Z53: =VLOOKUP(W53,'DCA fantagazz'!$A:$F,4,0) -> 5.9 | AD53: CASCIONE | AE53: =VLOOKUP(AD53,'DCA gazz'!$A:$F,4,0) -> 5.67 | AF53: =VLOOKUP(AD53,'DCA corr'!$A:$F,4,0) -> 5.78 | AG53: =VLOOKUP(AD53,'DCA fantagazz'!$A:$F,4,0) -> 5.88
B54: NOCERINO | C54: =VLOOKUP(B54,'DCA gazz'!$A:$F,4,0) -> 5.58 | D54: =VLOOKUP(B54,'DCA corr'!$A:$F,4,0) -> 5.66 | E54: =VLOOKUP(B54,'DCA fantagazz'!$A:$F,4,0) -> 5.68 | I54: INLER | J54: =VLOOKUP(I54,'DCA gazz'!$A:$F,4,0) -> 6.11 | K54: =VLOOKUP(I54,'DCA corr'!$A:$F,4,0) -> 6.09 | L54: =VLOOKUP(I54,'DCA fantagazz'!$A:$F,4,0) -> 6.03 | P54: BARRETO E. | Q54: =VLOOKUP(P54,'DCA gazz'!$A:$F,4,0) -> 6.03 | R54: =VLOOKUP(P54,'DCA corr'!$A:$F,4,0) -> 6.08 | S54: =VLOOKUP(P54,'DCA fantagazz'!$A:$F,4,0) -> 5.85 | W54: BIABIANY | X54: =VLOOKUP(W54,'DCA gazz'!$A:$F,4,0) -> 6.09 | Y54: =VLOOKUP(W54,'DCA corr'!$A:$F,4,0) -> 6.11 | Z54: =VLOOKUP(W54,'DCA fantagazz'!$A:$F,4,0) -> 6.18 | AD54: WEISS | AE54: =VLOOKUP(AD54,'DCA gazz'!$A:$F,4,0) -> 5.8 | AF54: =VLOOKUP(AD54,'DCA corr'!$A:$F,4,0) -> 5.8 | AG54: =VLOOKUP(AD54,'DCA fantagazz'!$A:$F,4,0) -> 6.07
B55: CONSTANT | C55: =VLOOKUP(B55,'DCA gazz'!$A:$F,4,0) -> 6.04 | D55: =VLOOKUP(B55,'DCA corr'!$A:$F,4,0) -> 5.63 | E55: =VLOOKUP(B55,'DCA fantagazz'!$A:$F,4,0) -> 5.98 | I55: MAGGIO | J55: =VLOOKUP(I55,'DCA gazz'!$A:$F,4,0) -> 5.95 | K55: =VLOOKUP(I55,'DCA corr'!$A:$F,4,0) -> 5.92 | L55: =VLOOKUP(I55,'DCA fantagazz'!$A:$F,4,0) -> 5.77 | P55: KURTIC | Q55: =VLOOKUP(P55,'DCA gazz'!$A:$F,4,0) -> 5.78 | R55: =VLOOKUP(P55,'DCA corr'!$A:$F,4,0) -> 5.83 | S55: =VLOOKUP(P55,'DCA fantagazz'!$A:$F,4,0) -> 5.83 | W55: GOBBI | X55: =VLOOKUP(W55,'DCA gazz'!$A:$F,4,0) -> 5.92 | Y55: =VLOOKUP(W55,'DCA corr'!$A:$F,4,0) -> 5.89 | Z55: =VLOOKUP(W55,'DCA fantagazz'!$A:$F,4,0) -> 5.68 | AD55: BJARNASON | AE55: =VLOOKUP(AD55,'DCA gazz'!$A:$F,4,0) -> 5.75 | AF55: =VLOOKUP(AD55,'DCA corr'!$A:$F,4,0) -> 5.73 | AG55: =VLOOKUP(AD55,'DCA fantagazz'!$A:$F,4,0) -> 5.93
B56: FLAMINI | C56: =VLOOKUP(B56,'DCA gazz'!$A:$F,4,0) -> 5.97 | D56: =VLOOKUP(B56,'DCA corr'!$A:$F,4,0) -> 5.97 | E56: =VLOOKUP(B56,'DCA fantagazz'!$A:$F,4,0) -> 5.91 | I56: ZUNIGA | J56: =VLOOKUP(I56,'DCA gazz'!$A:$F,4,0) -> 5.85 | K56: =VLOOKUP(I56,'DCA corr'!$A:$F,4,0) -> 5.97 | L56: =VLOOKUP(I56,'DCA fantagazz'!$A:$F,4,0) -> 5.95 | P56: DONATI | Q56: =VLOOKUP(P56,'DCA gazz'!$A:$F,4,0) -> 5.81 | R56: =VLOOKUP(P56,'DCA corr'!$A:$F,4,0) -> 5.88 | S56: =VLOOKUP(P56,'DCA fantagazz'!$A:$F,4,0) -> 5.75 | W56: VALDES | X56: =VLOOKUP(W56,'DCA gazz'!$A:$F,4,0) -> 6.03 | Y56: =VLOOKUP(W56,'DCA corr'!$A:$F,4,0) -> 5.93 | Z56: =VLOOKUP(W56,'DCA fantagazz'!$A:$F,4,0) -> 6 | AD56: MODESTO | AE56: =VLOOKUP(AD56,'DCA gazz'!$A:$F,4,0) -> 5.32 | AF56: =VLOOKUP(AD56,'DCA corr'!$A:$F,4,0) -> 5.61 | AG56: =VLOOKUP(AD56,'DCA fantagazz'!$A:$F,4,0) -> 5.5
B57: DE JONG | C57: =VLOOKUP(B57,'DCA gazz'!$A:$F,4,0) -> 6.04 | D57: =VLOOKUP(B57,'DCA corr'!$A:$F,4,0) -> 5.85 | E57: =VLOOKUP(B57,'DCA fantagazz'!$A:$F,4,0) -> 5.77 | I57: DZEMAILI | J57: =VLOOKUP(I57,'DCA gazz'!$A:$F,4,0) -> 5.95 | K57: =VLOOKUP(I57,'DCA corr'!$A:$F,4,0) -> 6.13 | L57: =VLOOKUP(I57,'DCA fantagazz'!$A:$F,4,0) -> 6.16 | P57: RIOS | Q57: =VLOOKUP(P57,'DCA gazz'!$A:$F,4,0) -> 5.62 | R57: =VLOOKUP(P57,'DCA corr'!$A:$F,4,0) -> 5.76 | S57: =VLOOKUP(P57,'DCA fantagazz'!$A:$F,4,0) -> 5.83 | W57: MARCHIONNI | X57: =VLOOKUP(W57,'DCA gazz'!$A:$F,4,0) -> 6.11 | Y57: =VLOOKUP(W57,'DCA corr'!$A:$F,4,0) -> 6 | Z57: =VLOOKUP(W57,'DCA fantagazz'!$A:$F,4,0) -> 6.04 | AD57: QUINTERO | AE57: =VLOOKUP(AD57,'DCA gazz'!$A:$F,4,0) -> 5.88 | AF57: =VLOOKUP(AD57,'DCA corr'!$A:$F,4,0) -> 5.81 | AG57: =VLOOKUP(AD57,'DCA fantagazz'!$A:$F,4,0) -> 5.94
B58: EL SHAARAWY | C58: =VLOOKUP(B58,'DCA gazz'!$A:$F,4,0) -> 6.23 | D58: =VLOOKUP(B58,'DCA corr'!$A:$F,4,0) -> 6.25 | E58: =VLOOKUP(B58,'DCA fantagazz'!$A:$F,4,0) -> 6.16 | I58: CAVANI | J58: =VLOOKUP(I58,'DCA gazz'!$A:$F,4,0) -> 6.41 | K58: =VLOOKUP(I58,'DCA corr'!$A:$F,4,0) -> 6.57 | L58: =VLOOKUP(I58,'DCA fantagazz'!$A:$F,4,0) -> 6.38 | P58: MICCOLI | Q58: =VLOOKUP(P58,'DCA gazz'!$A:$F,4,0) -> 6.11 | R58: =VLOOKUP(P58,'DCA corr'!$A:$F,4,0) -> 5.94 | S58: =VLOOKUP(P58,'DCA fantagazz'!$A:$F,4,0) -> 6.09 | W58: AMAURI | X58: =VLOOKUP(W58,'DCA gazz'!$A:$F,4,0) -> 6.08 | Y58: =VLOOKUP(W58,'DCA corr'!$A:$F,4,0) -> 6.05 | Z58: =VLOOKUP(W58,'DCA fantagazz'!$A:$F,4,0) -> 6 | AD58: CAPRARI | AE58: =VLOOKUP(AD58,'DCA gazz'!$A:$F,4,0) -> 5.68 | AF58: =VLOOKUP(AD58,'DCA corr'!$A:$F,4,0) -> 5.8 | AG58: =VLOOKUP(AD58,'DCA fantagazz'!$A:$F,4,0) -> 5.81
B59: PAZZINI | C59: =VLOOKUP(B59,'DCA gazz'!$A:$F,4,0) -> 6.17 | D59: =VLOOKUP(B59,'DCA corr'!$A:$F,4,0) -> 6.22 | E59: =VLOOKUP(B59,'DCA fantagazz'!$A:$F,4,0) -> 6.12 | I59: INSIGNE | J59: =VLOOKUP(I59,'DCA gazz'!$A:$F,4,0) -> 6.01 | K59: =VLOOKUP(I59,'DCA corr'!$A:$F,4,0) -> 6.31 | L59: =VLOOKUP(I59,'DCA fantagazz'!$A:$F,4,0) -> 6.26 | P59: DYBALA | Q59: =VLOOKUP(P59,'DCA gazz'!$A:$F,4,0) -> 5.65 | R59: =VLOOKUP(P59,'DCA corr'!$A:$F,4,0) -> 5.74 | S59: =VLOOKUP(P59,'DCA fantagazz'!$A:$F,4,0) -> 5.73 | W59: BELFODIL | X59: =VLOOKUP(W59,'DCA gazz'!$A:$F,4,0) -> 5.92 | Y59: =VLOOKUP(W59,'DCA corr'!$A:$F,4,0) -> 6 | Z59: =VLOOKUP(W59,'DCA fantagazz'!$A:$F,4,0) -> 5.83 | AD59: CELIK | AE59: =VLOOKUP(AD59,'DCA gazz'!$A:$F,4,0) -> 5.55 | AF59: =VLOOKUP(AD59,'DCA corr'!$A:$F,4,0) -> 5.59 | AG59: =VLOOKUP(AD59,'DCA fantagazz'!$A:$F,4,0) -> 5.82
B60: BALOTELLI | C60: =VLOOKUP(B60,'DCA gazz'!$A:$F,4,0) -> 6.46 | D60: =VLOOKUP(B60,'DCA corr'!$A:$F,4,0) -> 6.69 | E60: =VLOOKUP(B60,'DCA fantagazz'!$A:$F,4,0) -> 6.58 | I60: PANDEV | J60: =VLOOKUP(I60,'DCA gazz'!$A:$F,4,0) -> 5.95 | K60: =VLOOKUP(I60,'DCA corr'!$A:$F,4,0) -> 5.97 | L60: =VLOOKUP(I60,'DCA fantagazz'!$A:$F,4,0) -> 6.08 | P60: HERNANDEZ | Q60: =VLOOKUP(P60,'DCA gazz'!$A:$F,4,0) -> 5.58 | R60: =VLOOKUP(P60,'DCA corr'!$A:$F,4,0) -> 5.63 | S60: =VLOOKUP(P60,'DCA fantagazz'!$A:$F,4,0) -> 5.67 | W60: SANSONE N. | X60: =VLOOKUP(W60,'DCA gazz'!$A:$F,4,0) -> 6 | Y60: =VLOOKUP(W60,'DCA corr'!$A:$F,4,0) -> 6.09 | Z60: =VLOOKUP(W60,'DCA fantagazz'!$A:$F,4,0) -> 5.98 | AD60: ABBRUSCATO | AE60: =VLOOKUP(AD60,'DCA gazz'!$A:$F,4,0) -> 5.42 | AF60: =VLOOKUP(AD60,'DCA corr'!$A:$F,4,0) -> 5.42 | AG60: =VLOOKUP(AD60,'DCA fantagazz'!$A:$F,4,0) -> 5.42
B62: p | C62: =C47 -> 6.07 | D62: =D47 -> 6.07 | E62: =E47 -> 6.09 | F62: =F47 -> 0 | I62: p | J62: =J47 -> 6 | K62: =K47 -> 6.07 | L62: =L47 -> 6.09 | M62: =M47 -> 0 | P62: p | Q62: =Q47 -> 6.14 | R62: =R47 -> 6.16 | S62: =S47 -> 6.17 | T62: =T47 -> 0 | W62: p | X62: =X47 -> 6.27 | Y62: =Y47 -> 6.23 | Z62: =Z47 -> 6.2 | AA62: =AA47 -> 0 | AD62: p | AE62: =AE47 -> 6.55 | AF62: =AF47 -> 6.64 | AG62: =AG47 -> 6.77 | AH62: =AH47 -> 0
B63: d | C63: =SUM(C48:C51) -> 23.95 | D63: =SUM(D48:D51) -> 23.52 | E63: =SUM(E48:E51) -> 23.8 | F63: =SUM(F48:F51) -> 0 | I63: d | J63: =SUM(J48:J51) -> 24.28 | K63: =SUM(K48:K51) -> 24.19 | L63: =SUM(L48:L51) -> 23.91 | M63: =SUM(M48:M51) -> 0 | P63: d | Q63: =SUM(Q48:Q52) -> 28.71 | R63: =SUM(R48:R52) -> 29.15 | S63: =SUM(S48:S52) -> 28.53 | T63: =SUM(T48:T52) -> 0 | W63: d | X63: =SUM(X48:X52) -> 29.33 | Y63: =SUM(Y48:Y52) -> 29.44 | Z63: =SUM(Z48:Z52) -> 29.7 | AA63: =SUM(AA48:AA52) -> 0 | AD63: d | AE63: =SUM(AE48:AE52) -> 26.75 | AF63: =SUM(AF48:AF52) -> 27.3 | AG63: =SUM(AG48:AG52) -> 27.57 | AH63: =SUM(AH48:AH51) -> 0
B64: c | C64: =SUM(C52:C57) -> 35.24 | D64: =SUM(D52:D57) -> 34.84 | E64: =SUM(E52:E57) -> 35.22 | F64: =SUM(F52:F57) -> 0 | I64: c | J64: =SUM(J52:J57) -> 36.49 | K64: =SUM(K52:K57) -> 36.92 | L64: =SUM(L52:L57) -> 36.49 | M64: =SUM(M52:M57) -> 0 | P64: c | Q64: =SUM(Q53:Q57) -> 29.18 | R64: =SUM(R53:R57) -> 29.61 | S64: =SUM(S53:S57) -> 29.44 | T64: =SUM(T53:T57) -> 0 | W64: c | X64: =SUM(X53:X57) -> 30.07 | Y64: =SUM(Y53:Y57) -> 29.82 | Z64: =SUM(Z53:Z57) -> 29.8 | AA64: =SUM(AA53:AA57) -> 0 | AD64: c | AE64: =SUM(AE53:AE57) -> 28.42 | AF64: =SUM(AF53:AF57) -> 28.73 | AG64: =SUM(AG53:AG57) -> 29.32 | AH64: =SUM(AH52:AH58) -> 0
B65: a | C65: =SUM(C58:C60) -> 18.86 | D65: =SUM(D58:D60) -> 19.16 | E65: =SUM(E58:E60) -> 18.86 | F65: =SUM(F58:F60) -> 0 | I65: a | J65: =SUM(J58:J60) -> 18.37 | K65: =SUM(K58:K60) -> 18.85 | L65: =SUM(L58:L60) -> 18.72 | M65: =SUM(M58:M60) -> 0 | P65: a | Q65: =SUM(Q58:Q60) -> 17.34 | R65: =SUM(R58:R60) -> 17.31 | S65: =SUM(S58:S60) -> 17.49 | T65: =SUM(T58:T60) -> 0 | W65: a | X65: =SUM(X58:X60) -> 18 | Y65: =SUM(Y58:Y60) -> 18.14 | Z65: =SUM(Z58:Z60) -> 17.81 | AA65: =SUM(AA58:AA60) -> 0 | AD65: a | AE65: =SUM(AE58:AE60) -> 16.65 | AF65: =SUM(AF58:AF60) -> 16.81 | AG65: =SUM(AG58:AG60) -> 17.05 | AH65: =SUM(AH59:AH60) -> 0
B66: tot | C66: =SUM(C62:C65) -> 84.12 | D66: =SUM(D62:D65) -> 83.59 | E66: =SUM(E62:E65) -> 83.97 | F66: =SUM(F62:F65) -> 0 | I66: tot | J66: =SUM(J62:J65) -> 85.14 | K66: =SUM(K62:K65) -> 86.03 | L66: =SUM(L62:L65) -> 85.21 | M66: =SUM(M62:M65) -> 0 | P66: tot | Q66: =SUM(Q62:Q65) -> 81.37 | R66: =SUM(R62:R65) -> 82.23 | S66: =SUM(S62:S65) -> 81.63 | T66: =SUM(T62:T65) -> 0 | W66: tot | X66: =SUM(X62:X65) -> 83.67 | Y66: =SUM(Y62:Y65) -> 83.63 | Z66: =SUM(Z62:Z65) -> 83.51 | AA66: =SUM(AA62:AA65) -> 0 | AD66: tot | AE66: =SUM(AE62:AE65) -> 78.37 | AF66: =SUM(AF62:AF65) -> 79.48 | AG66: =SUM(AG62:AG65) -> 80.71 | AH66: =SUM(AH62:AH65) -> 0
B68: ROM | C68: g | D68: c | E68: f | F68: s | I68: SAM | J68: g | K68: c | L68: f | M68: s | P68: SIE | Q68: g | R68: c | S68: f | T68: s | W68: TOR | X68: g | Y68: c | Z68: f | AA68: s | AD68: UDI | AE68: g | AF68: c | AG68: f | AH68: s
B69: STEKELENBURG | C69: =VLOOKUP(B69,'P gazz'!$A:$E,4,0) -> 5.89 | D69: =VLOOKUP(B69,'P corr'!$A:$E,4,0) -> 5.97 | E69: =VLOOKUP(B69,'P fantagazz'!$A:$E,4,0) -> 6.05 | I69: ROMERO | J69: =VLOOKUP(I69,'P gazz'!$A:$E,4,0) -> 5.9 | K69: =VLOOKUP(I69,'P corr'!$A:$E,4,0) -> 6.09 | L69: =VLOOKUP(I69,'P fantagazz'!$A:$E,4,0) -> 5.95 | P69: PEGOLO | Q69: =VLOOKUP(P69,'P gazz'!$A:$E,4,0) -> 6.26 | R69: =VLOOKUP(P69,'P corr'!$A:$E,4,0) -> 6.26 | S69: =VLOOKUP(P69,'P fantagazz'!$A:$E,4,0) -> 6.26 | W69: GILLET | X69: =VLOOKUP(W69,'P gazz'!$A:$E,4,0) -> 6.11 | Y69: =VLOOKUP(W69,'P corr'!$A:$E,4,0) -> 6.15 | Z69: =VLOOKUP(W69,'P fantagazz'!$A:$E,4,0) -> 6.07 | AD69: BRKIC | AE69: =VLOOKUP(AD69,'P gazz'!$A:$E,4,0) -> 6.02 | AF69: =VLOOKUP(AD69,'P corr'!$A:$E,4,0) -> 6 | AG69: =VLOOKUP(AD69,'P fantagazz'!$A:$E,4,0) -> 6.12
B70: CASTAN | C70: =VLOOKUP(B70,'DCA gazz'!$A:$F,4,0) -> 5.82 | D70: =VLOOKUP(B70,'DCA corr'!$A:$F,4,0) -> 5.85 | E70: =VLOOKUP(B70,'DCA fantagazz'!$A:$F,4,0) -> 5.82 | I70: GASTALDELLO | J70: =VLOOKUP(I70,'DCA gazz'!$A:$F,4,0) -> 5.89 | K70: =VLOOKUP(I70,'DCA corr'!$A:$F,4,0) -> 5.98 | L70: =VLOOKUP(I70,'DCA fantagazz'!$A:$F,4,0) -> 6.06 | P70: FELIPE | Q70: =VLOOKUP(P70,'DCA gazz'!$A:$F,4,0) -> 5.65 | R70: =VLOOKUP(P70,'DCA corr'!$A:$F,4,0) -> 5.72 | S70: =VLOOKUP(P70,'DCA fantagazz'!$A:$F,4,0) -> 5.78 | W70: GLIK | X70: =VLOOKUP(W70,'DCA gazz'!$A:$F,4,0) -> 5.83 | Y70: =VLOOKUP(W70,'DCA corr'!$A:$F,4,0) -> 5.88 | Z70: =VLOOKUP(W70,'DCA fantagazz'!$A:$F,4,0) -> 5.88 | AD70: DANILO | AE70: =VLOOKUP(AD70,'DCA gazz'!$A:$F,4,0) -> 5.98 | AF70: =VLOOKUP(AD70,'DCA corr'!$A:$F,4,0) -> 6.02 | AG70: =VLOOKUP(AD70,'DCA fantagazz'!$A:$F,4,0) -> 6
B71: PIRIS | C71: =VLOOKUP(B71,'DCA gazz'!$A:$F,4,0) -> 5.6 | D71: =VLOOKUP(B71,'DCA corr'!$A:$F,4,0) -> 5.88 | E71: =VLOOKUP(B71,'DCA fantagazz'!$A:$F,4,0) -> 5.47 | I71: COSTA | J71: =VLOOKUP(I71,'DCA gazz'!$A:$F,4,0) -> 5.78 | K71: =VLOOKUP(I71,'DCA corr'!$A:$F,4,0) -> 5.81 | L71: =VLOOKUP(I71,'DCA fantagazz'!$A:$F,4,0) -> 5.83 | P71: RUBIN | Q71: =VLOOKUP(P71,'DCA gazz'!$A:$F,4,0) -> 5.9 | R71: =VLOOKUP(P71,'DCA corr'!$A:$F,4,0) -> 5.83 | S71: =VLOOKUP(P71,'DCA fantagazz'!$A:$F,4,0) -> 5.92 | W71: DARMIAN | X71: =VLOOKUP(W71,'DCA gazz'!$A:$F,4,0) -> 5.8 | Y71: =VLOOKUP(W71,'DCA corr'!$A:$F,4,0) -> 5.92 | Z71: =VLOOKUP(W71,'DCA fantagazz'!$A:$F,4,0) -> 5.85 | AD71: DOMIZZI | AE71: =VLOOKUP(AD71,'DCA gazz'!$A:$F,4,0) -> 6.05 | AF71: =VLOOKUP(AD71,'DCA corr'!$A:$F,4,0) -> 6.04 | AG71: =VLOOKUP(AD71,'DCA fantagazz'!$A:$F,4,0) -> 6
B72: MARQUINHOS | C72: =VLOOKUP(B72,'DCA gazz'!$A:$F,4,0) -> 6.02 | D72: =VLOOKUP(B72,'DCA corr'!$A:$F,4,0) -> 5.96 | E72: =VLOOKUP(B72,'DCA fantagazz'!$A:$F,4,0) -> 5.9 | I72: DE SILVESTRI | J72: =VLOOKUP(I72,'DCA gazz'!$A:$F,4,0) -> 5.88 | K72: =VLOOKUP(I72,'DCA corr'!$A:$F,4,0) -> 5.96 | L72: =VLOOKUP(I72,'DCA fantagazz'!$A:$F,4,0) -> 5.92 | P72: PACI | Q72: =VLOOKUP(P72,'DCA gazz'!$A:$F,4,0) -> 5.68 | R72: =VLOOKUP(P72,'DCA corr'!$A:$F,4,0) -> 5.8 | S72: =VLOOKUP(P72,'DCA fantagazz'!$A:$F,4,0) -> 5.74 | W72: D'AMBROSIO | X72: =VLOOKUP(W72,'DCA gazz'!$A:$F,4,0) -> 5.94 | Y72: =VLOOKUP(W72,'DCA corr'!$A:$F,4,0) -> 6.04 | Z72: =VLOOKUP(W72,'DCA fantagazz'!$A:$F,4,0) -> 5.98 | AD72: BASTA | AE72: =VLOOKUP(AD72,'DCA gazz'!$A:$F,4,0) -> 6.25 | AF72: =VLOOKUP(AD72,'DCA corr'!$A:$F,4,0) -> 6.21 | AG72: =VLOOKUP(AD72,'DCA fantagazz'!$A:$F,4,0) -> 6.3
B73: BURDISSO | C73: =VLOOKUP(B73,'DCA gazz'!$A:$F,4,0) -> 5.88 | D73: =VLOOKUP(B73,'DCA corr'!$A:$F,4,0) -> 5.6 | E73: =VLOOKUP(B73,'DCA fantagazz'!$A:$F,4,0) -> 5.62 | I73: ROSSINI | J73: =VLOOKUP(I73,'DCA gazz'!$A:$F,4,0) -> 5.65 | K73: =VLOOKUP(I73,'DCA corr'!$A:$F,4,0) -> 5.73 | L73: =VLOOKUP(I73,'DCA fantagazz'!$A:$F,4,0) -> 5.73 | P73: NETO L. | Q73: =VLOOKUP(P73,'DCA gazz'!$A:$F,4,0) -> 5.92 | R73: =VLOOKUP(P73,'DCA corr'!$A:$F,4,0) -> 5.97 | S73: =VLOOKUP(P73,'DCA fantagazz'!$A:$F,4,0) -> 5.97 | W73: MASIELLO S. | X73: =VLOOKUP(W73,'DCA gazz'!$A:$F,4,0) -> 5.63 | Y73: =VLOOKUP(W73,'DCA corr'!$A:$F,4,0) -> 5.74 | Z73: =VLOOKUP(W73,'DCA fantagazz'!$A:$F,4,0) -> 5.76 | AD73: BENATIA | AE73: =VLOOKUP(AD73,'DCA gazz'!$A:$F,4,0) -> 6.16 | AF73: =VLOOKUP(AD73,'DCA corr'!$A:$F,4,0) -> 6.29 | AG73: =VLOOKUP(AD73,'DCA fantagazz'!$A:$F,4,0) -> 6.18
B74: BALZARETTI | C74: =VLOOKUP(B74,'DCA gazz'!$A:$F,4,0) -> 5.65 | D74: =VLOOKUP(B74,'DCA corr'!$A:$F,4,0) -> 5.6 | E74: =VLOOKUP(B74,'DCA fantagazz'!$A:$F,4,0) -> 5.92 | I74: OBIANG | J74: =VLOOKUP(I74,'DCA gazz'!$A:$F,4,0) -> 5.99 | K74: =VLOOKUP(I74,'DCA corr'!$A:$F,4,0) -> 6.3 | L74: =VLOOKUP(I74,'DCA fantagazz'!$A:$F,4,0) -> 6.18 | P74: ROSINA | Q74: =VLOOKUP(P74,'DCA gazz'!$A:$F,4,0) -> 5.94 | R74: =VLOOKUP(P74,'DCA corr'!$A:$F,4,0) -> 5.89 | S74: =VLOOKUP(P74,'DCA fantagazz'!$A:$F,4,0) -> 5.97 | W74: OGBONNA | X74: =VLOOKUP(W74,'DCA gazz'!$A:$F,4,0) -> 5.75 | Y74: =VLOOKUP(W74,'DCA corr'!$A:$F,4,0) -> 6 | Z74: =VLOOKUP(W74,'DCA fantagazz'!$A:$F,4,0) -> 6.09 | AD74: PASQUALE | AE74: =VLOOKUP(AD74,'DCA gazz'!$A:$F,4,0) -> 5.81 | AF74: =VLOOKUP(AD74,'DCA corr'!$A:$F,4,0) -> 6 | AG74: =VLOOKUP(AD74,'DCA fantagazz'!$A:$F,4,0) -> 6.03
B75: FLORENZI | C75: =VLOOKUP(B75,'DCA gazz'!$A:$F,4,0) -> 6.12 | D75: =VLOOKUP(B75,'DCA corr'!$A:$F,4,0) -> 5.97 | E75: =VLOOKUP(B75,'DCA fantagazz'!$A:$F,4,0) -> 6.1 | I75: ESTIGARRIBIA | J75: =VLOOKUP(I75,'DCA gazz'!$A:$F,4,0) -> 5.59 | K75: =VLOOKUP(I75,'DCA corr'!$A:$F,4,0) -> 5.63 | L75: =VLOOKUP(I75,'DCA fantagazz'!$A:$F,4,0) -> 5.63 | P75: VERGASSOLA | Q75: =VLOOKUP(P75,'DCA gazz'!$A:$F,4,0) -> 5.95 | R75: =VLOOKUP(P75,'DCA corr'!$A:$F,4,0) -> 6.08 | S75: =VLOOKUP(P75,'DCA fantagazz'!$A:$F,4,0) -> 6 | W75: CERCI | X75: =VLOOKUP(W75,'DCA gazz'!$A:$F,4,0) -> 6.36 | Y75: =VLOOKUP(W75,'DCA corr'!$A:$F,4,0) -> 6.44 | Z75: =VLOOKUP(W75,'DCA fantagazz'!$A:$F,4,0) -> 6.33 | AD75: HEURTAUX | AE75: =VLOOKUP(AD75,'DCA gazz'!$A:$F,4,0) -> 5.84 | AF75: =VLOOKUP(AD75,'DCA corr'!$A:$F,4,0) -> 5.78 | AG75: =VLOOKUP(AD75,'DCA fantagazz'!$A:$F,4,0) -> 5.78
B76: LAMELA | C76: =VLOOKUP(B76,'DCA gazz'!$A:$F,4,0) -> 6.02 | D76: =VLOOKUP(B76,'DCA corr'!$A:$F,4,0) -> 6.05 | E76: =VLOOKUP(B76,'DCA fantagazz'!$A:$F,4,0) -> 6.11 | I76: POLI | J76: =VLOOKUP(I76,'DCA gazz'!$A:$F,4,0) -> 6.1 | K76: =VLOOKUP(I76,'DCA corr'!$A:$F,4,0) -> 6.15 | L76: =VLOOKUP(I76,'DCA fantagazz'!$A:$F,4,0) -> 6.16 | P76: ANGELO | Q76: =VLOOKUP(P76,'DCA gazz'!$A:$F,4,0) -> 5.64 | R76: =VLOOKUP(P76,'DCA corr'!$A:$F,4,0) -> 5.7 | S76: =VLOOKUP(P76,'DCA fantagazz'!$A:$F,4,0) -> 5.91 | W76: GAZZI | X76: =VLOOKUP(W76,'DCA gazz'!$A:$F,4,0) -> 6.01 | Y76: =VLOOKUP(W76,'DCA corr'!$A:$F,4,0) -> 6.07 | Z76: =VLOOKUP(W76,'DCA fantagazz'!$A:$F,4,0) -> 5.93 | AD76: PEREYRA | AE76: =VLOOKUP(AD76,'DCA gazz'!$A:$F,4,0) -> 6.16 | AF76: =VLOOKUP(AD76,'DCA corr'!$A:$F,4,0) -> 6 | AG76: =VLOOKUP(AD76,'DCA fantagazz'!$A:$F,4,0) -> 6.09
B77: BRADLEY | C77: =VLOOKUP(B77,'DCA gazz'!$A:$F,4,0) -> 6 | D77: =VLOOKUP(B77,'DCA corr'!$A:$F,4,0) -> 6.02 | E77: =VLOOKUP(B77,'DCA fantagazz'!$A:$F,4,0) -> 5.95 | I77: KRSTICIC | J77: =VLOOKUP(I77,'DCA gazz'!$A:$F,4,0) -> 5.98 | K77: =VLOOKUP(I77,'DCA corr'!$A:$F,4,0) -> 6.02 | L77: =VLOOKUP(I77,'DCA fantagazz'!$A:$F,4,0) -> 5.75 | P77: SESTU | Q77: =VLOOKUP(P77,'DCA gazz'!$A:$F,4,0) -> 6.09 | R77: =VLOOKUP(P77,'DCA corr'!$A:$F,4,0) -> 6.04 | S77: =VLOOKUP(P77,'DCA fantagazz'!$A:$F,4,0) -> 6.13 | W77: SANTANA | X77: =VLOOKUP(W77,'DCA gazz'!$A:$F,4,0) -> 5.96 | Y77: =VLOOKUP(W77,'DCA corr'!$A:$F,4,0) -> 5.94 | Z77: =VLOOKUP(W77,'DCA fantagazz'!$A:$F,4,0) -> 5.92 | AD77: ALLAN | AE77: =VLOOKUP(AD77,'DCA gazz'!$A:$F,4,0) -> 6.1 | AF77: =VLOOKUP(AD77,'DCA corr'!$A:$F,4,0) -> 6.21 | AG77: =VLOOKUP(AD77,'DCA fantagazz'!$A:$F,4,0) -> 6.23
B78: PJANIC | C78: =VLOOKUP(B78,'DCA gazz'!$A:$F,4,0) -> 6 | D78: =VLOOKUP(B78,'DCA corr'!$A:$F,4,0) -> 6.08 | E78: =VLOOKUP(B78,'DCA fantagazz'!$A:$F,4,0) -> 6.14 | I78: MUNARI | J78: =VLOOKUP(I78,'DCA gazz'!$A:$F,4,0) -> 5.84 | K78: =VLOOKUP(I78,'DCA corr'!$A:$F,4,0) -> 5.83 | L78: =VLOOKUP(I78,'DCA fantagazz'!$A:$F,4,0) -> 5.8 | P78: VALIANI | Q78: =VLOOKUP(P78,'DCA gazz'!$A:$F,4,0) -> 5.92 | R78: =VLOOKUP(P78,'DCA corr'!$A:$F,4,0) -> 5.9 | S78: =VLOOKUP(P78,'DCA fantagazz'!$A:$F,4,0) -> 5.92 | W78: VIVES | X78: =VLOOKUP(W78,'DCA gazz'!$A:$F,4,0) -> 5.89 | Y78: =VLOOKUP(W78,'DCA corr'!$A:$F,4,0) -> 5.72 | Z78: =VLOOKUP(W78,'DCA fantagazz'!$A:$F,4,0) -> 5.7 | AD78: LAZZARI | AE78: =VLOOKUP(AD78,'DCA gazz'!$A:$F,4,0) -> 5.93 | AF78: =VLOOKUP(AD78,'DCA corr'!$A:$F,4,0) -> 6 | AG78: =VLOOKUP(AD78,'DCA fantagazz'!$A:$F,4,0) -> 5.83
B79: DE ROSSI | C79: =VLOOKUP(B79,'DCA gazz'!$A:$F,4,0) -> 5.54 | D79: =VLOOKUP(B79,'DCA corr'!$A:$F,4,0) -> 5.6 | E79: =VLOOKUP(B79,'DCA fantagazz'!$A:$F,4,0) -> 5.7 | I79: PALOMBO | J79: =VLOOKUP(I79,'DCA gazz'!$A:$F,4,0) -> 6.2 | K79: =VLOOKUP(I79,'DCA corr'!$A:$F,4,0) -> 6.2 | L79: =VLOOKUP(I79,'DCA fantagazz'!$A:$F,4,0) -> 6 | P79: BOLZONI | Q79: =VLOOKUP(P79,'DCA gazz'!$A:$F,4,0) -> 5.68 | R79: =VLOOKUP(P79,'DCA corr'!$A:$F,4,0) -> 5.82 | S79: =VLOOKUP(P79,'DCA fantagazz'!$A:$F,4,0) -> 5.58 | W79: BRIGHI | X79: =VLOOKUP(W79,'DCA gazz'!$A:$F,4,0) -> 6.16 | Y79: =VLOOKUP(W79,'DCA corr'!$A:$F,4,0) -> 6.24 | Z79: =VLOOKUP(W79,'DCA fantagazz'!$A:$F,4,0) -> 6.12 | AD79: BADU | AE79: =VLOOKUP(AD79,'DCA gazz'!$A:$F,4,0) -> 5.91 | AF79: =VLOOKUP(AD79,'DCA corr'!$A:$F,4,0) -> 5.95 | AG79: =VLOOKUP(AD79,'DCA fantagazz'!$A:$F,4,0) -> 5.98
B80: TOTTI | C80: =VLOOKUP(B80,'DCA gazz'!$A:$F,4,0) -> 6.56 | D80: =VLOOKUP(B80,'DCA corr'!$A:$F,4,0) -> 6.5 | E80: =VLOOKUP(B80,'DCA fantagazz'!$A:$F,4,0) -> 6.47 | I80: EDER | J80: =VLOOKUP(I80,'DCA gazz'!$A:$F,4,0) -> 6.18 | K80: =VLOOKUP(I80,'DCA corr'!$A:$F,4,0) -> 6.08 | L80: =VLOOKUP(I80,'DCA fantagazz'!$A:$F,4,0) -> 6.15 | P80: EMEGHARA | Q80: =VLOOKUP(P80,'DCA gazz'!$A:$F,4,0) -> 6.21 | R80: =VLOOKUP(P80,'DCA corr'!$A:$F,4,0) -> 6.26 | S80: =VLOOKUP(P80,'DCA fantagazz'!$A:$F,4,0) -> 6.15 | W80: BIANCHI | X80: =VLOOKUP(W80,'DCA gazz'!$A:$F,4,0) -> 5.91 | Y80: =VLOOKUP(W80,'DCA corr'!$A:$F,4,0) -> 5.84 | Z80: =VLOOKUP(W80,'DCA fantagazz'!$A:$F,4,0) -> 5.94 | AD80: PINZI | AE80: =VLOOKUP(AD80,'DCA gazz'!$A:$F,4,0) -> 6.09 | AF80: =VLOOKUP(AD80,'DCA corr'!$A:$F,4,0) -> 6.06 | AG80: =VLOOKUP(AD80,'DCA fantagazz'!$A:$F,4,0) -> 6.18
B81: OSVALDO | C81: =VLOOKUP(B81,'DCA gazz'!$A:$F,4,0) -> 6 | D81: =VLOOKUP(B81,'DCA corr'!$A:$F,4,0) -> 5.95 | E81: =VLOOKUP(B81,'DCA fantagazz'!$A:$F,4,0) -> 5.91 | I81: ICARDI | J81: =VLOOKUP(I81,'DCA gazz'!$A:$F,4,0) -> 5.79 | K81: =VLOOKUP(I81,'DCA corr'!$A:$F,4,0) -> 5.86 | L81: =VLOOKUP(I81,'DCA fantagazz'!$A:$F,4,0) -> 5.84 | P81: REGINALDO | Q81: =VLOOKUP(P81,'DCA gazz'!$A:$F,4,0) -> 5.56 | R81: =VLOOKUP(P81,'DCA corr'!$A:$F,4,0) -> 5.67 | S81: =VLOOKUP(P81,'DCA fantagazz'!$A:$F,4,0) -> 5.8 | W81: MEGGIORINI | X81: =VLOOKUP(W81,'DCA gazz'!$A:$F,4,0) -> 5.72 | Y81: =VLOOKUP(W81,'DCA corr'!$A:$F,4,0) -> 5.6 | Z81: =VLOOKUP(W81,'DCA fantagazz'!$A:$F,4,0) -> 5.67 | AD81: DI NATALE | AE81: =VLOOKUP(AD81,'DCA gazz'!$A:$F,4,0) -> 6.29 | AF81: =VLOOKUP(AD81,'DCA corr'!$A:$F,4,0) -> 6.52 | AG81: =VLOOKUP(AD81,'DCA fantagazz'!$A:$F,4,0) -> 6.32
B82: DESTRO | C82: =VLOOKUP(B82,'DCA gazz'!$A:$F,4,0) -> 5.69 | D82: =VLOOKUP(B82,'DCA corr'!$A:$F,4,0) -> 5.85 | E82: =VLOOKUP(B82,'DCA fantagazz'!$A:$F,4,0) -> 5.78 | I82: SANSONE G. | J82: =VLOOKUP(I82,'DCA gazz'!$A:$F,4,0) -> 6.07 | K82: =VLOOKUP(I82,'DCA corr'!$A:$F,4,0) -> 6.05 | L82: =VLOOKUP(I82,'DCA fantagazz'!$A:$F,4,0) -> 5.93 | P82: CALAIO' | Q82: =VLOOKUP(P82,'DCA gazz'!$A:$F,4,0) -> 5.81 | R82: =VLOOKUP(P82,'DCA corr'!$A:$F,4,0) -> 5.53 | S82: =VLOOKUP(P82,'DCA fantagazz'!$A:$F,4,0) -> 5.67 | W82: BARRETO D.S. | X82: =VLOOKUP(W82,'DCA gazz'!$A:$F,4,0) -> 5.74 | Y82: =VLOOKUP(W82,'DCA corr'!$A:$F,4,0) -> 5.85 | Z82: =VLOOKUP(W82,'DCA fantagazz'!$A:$F,4,0) -> 5.81 | AD82: MURIEL | AE82: =VLOOKUP(AD82,'DCA gazz'!$A:$F,4,0) -> 6.25 | AF82: =VLOOKUP(AD82,'DCA corr'!$A:$F,4,0) -> 6.36 | AG82: =VLOOKUP(AD82,'DCA fantagazz'!$A:$F,4,0) -> 6.25
B84: p | C84: =C69 -> 5.89 | D84: =D69 -> 5.97 | E84: =E69 -> 6.05 | F84: =F69 -> 0 | I84: p | J84: =J69 -> 5.9 | K84: =K69 -> 6.09 | L84: =L69 -> 5.95 | M84: =M69 -> 0 | P84: p | Q84: =Q69 -> 6.26 | R84: =R69 -> 6.26 | S84: =S69 -> 6.26 | T84: =T69 -> 0 | W84: p | X84: =X69 -> 6.11 | Y84: =Y69 -> 6.15 | Z84: =Z69 -> 6.07 | AA84: =AA69 -> 0 | AD84: p | AE84: =AE69 -> 6.02 | AF84: =AF69 -> 6 | AG84: =AG69 -> 6.12 | AH84: =AH69 -> 0
B85: d | C85: =SUM(C70:C74) -> 28.97 | D85: =SUM(D70:D74) -> 28.89 | E85: =SUM(E70:E74) -> 28.73 | F85: =SUM(F70:F74) -> 0 | I85: d | J85: =SUM(J70:J73) -> 23.2 | K85: =SUM(K70:K73) -> 23.48 | L85: =SUM(L70:L73) -> 23.54 | M85: =SUM(M70:M73) -> 0 | P85: d | Q85: =SUM(Q70:Q73) -> 23.15 | R85: =SUM(R70:R73) -> 23.32 | S85: =SUM(S70:S73) -> 23.41 | T85: =SUM(T70:T73) -> 0 | W85: d | X85: =SUM(X70:X74) -> 28.95 | Y85: =SUM(Y70:Y74) -> 29.58 | Z85: =SUM(Z70:Z74) -> 29.56 | AA85: =SUM(AA70:AA74) -> 0 | AD85: d | AE85: =SUM(AE70:AE75) -> 36.09 | AF85: =SUM(AF70:AF75) -> 36.34 | AG85: =SUM(AG70:AG75) -> 36.29 | AH85: =SUM(AH70:AH75) -> 0
B86: c | C86: =SUM(C75:C79) -> 29.68 | D86: =SUM(D75:D79) -> 29.72 | E86: =SUM(E75:E79) -> 30 | F86: =SUM(F75:F79) -> 0 | I86: c | J86: =SUM(J74:J79) -> 35.7 | K86: =SUM(K74:K79) -> 36.13 | L86: =SUM(L74:L79) -> 35.52 | M86: =SUM(M74:M79) -> 0 | P86: c | Q86: =SUM(Q74:Q79) -> 35.22 | R86: =SUM(R74:R79) -> 35.43 | S86: =SUM(S74:S79) -> 35.51 | T86: =SUM(T74:T81) -> 0 | W86: c | X86: =SUM(X75:X79) -> 30.38 | Y86: =SUM(Y75:Y79) -> 30.41 | Z86: =SUM(Z75:Z79) -> 30 | AA86: =SUM(AA75:AA79) -> 0 | AD86: c | AE86: =SUM(AE76:AE80) -> 30.19 | AF86: =SUM(AF76:AF80) -> 30.22 | AG86: =SUM(AG76:AG80) -> 30.31 | AH86: =SUM(AH76:AH80) -> 0
B87: a | C87: =SUM(C80:C82) -> 18.25 | D87: =SUM(D80:D82) -> 18.3 | E87: =SUM(E80:E82) -> 18.16 | F87: =SUM(F80:F82) -> 0 | I87: a | J87: =SUM(J80:J82) -> 18.04 | K87: =SUM(K80:K82) -> 17.99 | L87: =SUM(L80:L82) -> 17.92 | M87: =SUM(M80:M82) -> 0 | P87: a | Q87: =SUM(Q80:Q82) -> 17.58 | R87: =SUM(R80:R82) -> 17.46 | S87: =SUM(S80:S82) -> 17.62 | T87: =SUM(T82) -> 0 | W87: a | X87: =SUM(X80:X82) -> 17.37 | Y87: =SUM(Y80:Y82) -> 17.29 | Z87: =SUM(Z80:Z82) -> 17.42 | AA87: =SUM(AA80:AA82) -> 0 | AD87: a | AE87: =SUM(AE81:AE82) -> 12.54 | AF87: =SUM(AF81:AF82) -> 12.88 | AG87: =SUM(AG81:AG82) -> 12.57 | AH87: =SUM(AH81:AH82) -> 0
B88: tot | C88: =SUM(C84:C87) -> 82.79 | D88: =SUM(D84:D87) -> 82.88 | E88: =SUM(E84:E87) -> 82.94 | F88: =SUM(F84:F87) -> 0 | I88: tot | J88: =SUM(J84:J87) -> 82.84 | K88: =SUM(K84:K87) -> 83.69 | L88: =SUM(L84:L87) -> 82.93 | M88: =SUM(M84:M87) -> 0 | P88: tot | Q88: =SUM(Q84:Q87) -> 82.21 | R88: =SUM(R84:R87) -> 82.47 | S88: =SUM(S84:S87) -> 82.8 | T88: =SUM(T84:T87) -> 0 | W88: tot | X88: =SUM(X84:X87) -> 82.81 | Y88: =SUM(Y84:Y87) -> 83.43 | Z88: =SUM(Z84:Z87) -> 83.05 | AA88: =SUM(AA84:AA87) -> 0 | AD88: tot | AE88: =SUM(AE84:AE87) -> 84.84 | AF88: =SUM(AF84:AF87) -> 85.44 | AG88: =SUM(AG84:AG87) -> 85.29 | AH88: =SUM(AH84:AH87) -> 0

Sheet up 38a
B2: ATA | C2: g | D2: c | E2: f | G2: BOL | H2: g | I2: c | J2: f | L2: CAG | M2: g | N2: c | O2: f | Q2: CAT | R2: g | S2: c | T2: f
B3: CONSIGLI | C3: 6.13 | D3: 6.2 | E3: 6.13 | G3: CURCI | H3: 6.14 | I3: 6.25 | J3: 6.11 | L3: AGAZZI | M3: 6.21 | N3: 6.19 | O3: 6.01 | Q3: ANDUJAR | R3: 6.09 | S3: 6.12 | T3: 6.12
B4: STENDARDO | C4: 5.95 | D4: 6.07 | E4: 6 | G4: MORLEO | H4: 5.84 | I4: 5.84 | J4: 6.06 | L4: ASTORI | M4: 5.84 | N4: 6.06 | O4: 5.94 | Q4: MARCHESE | R4: 6.1 | S4: 6.15 | T4: 6.07
B5: DEL GROSSO | C5: 5.73 | D5: 5.66 | E5: 5.82 | G5: ANTONSSON | H5: 5.71 | I5: 5.77 | J5: 5.74 | L5: ROSSETTINI | M5: 5.91 | N5: 6.04 | O5: 5.93 | Q5: SPOLLI | R5: 6.16 | S5: 6.07 | T5: 6.29
B6: CANINI | C6: 5.65 | D6: 5.75 | E6: 5.71 | G6: CHERUBIN | H6: 5.79 | I6: 5.91 | J6: 5.83 | L6: PISANO F. | M6: 5.88 | N6: 6.02 | O6: 5.89 | Q6: ALVAREZ P.S. | R6: 5.87 | S6: 5.74 | T6: 5.91
B7: RAIMONDI | C7: 5.9 | D7: 5.79 | E7: 5.85 | G7: GARICS | H7: 5.67 | I7: 5.68 | J7: 5.91 | L7: AVELAR | M7: 5.9 | N7: 5.88 | O7: 6.1 | Q7: LEGROTTAGLIE | R7: 6.08 | S7: 6 | T7: 6.08
B8: LUCCHINI | C8: 5.9 | D8: 5.87 | E8: 5.78 | G8: SORENSEN | H8: 5.83 | I8: 5.93 | J8: 5.98 | L8: ARIAUDO | M8: 5.5 | N8: 5.72 | O8: 5.68 | Q8: BELLUSCI | R8: 5.92 | S8: 5.9 | T8: 5.85
B9: BRIVIO | C9: 5.55 | D9: 5.72 | E9: 5.75 | G9: DIAMANTI | H9: 6.31 | I9: 6.13 | J9: 6.4 | L9: NAINGGOLAN | M9: 6.15 | N9: 6.21 | O9: 6.18 | Q9: GOMEZ | R9: 6.21 | S9: 6.25 | T9: 6.29
B10: BONAVENTURA | C10: 6.18 | D10: 6.15 | E10: 6.1 | G10: TAIDER | H10: 5.75 | I10: 5.84 | J10: 5.94 | L10: EKDAL | M10: 6.03 | N10: 6.09 | O10: 5.98 | Q10: IZCO | R10: 6.22 | S10: 6.12 | T10: 6.16
B11: MORALEZ | C11: 5.74 | D11: 5.66 | E11: 5.74 | G11: KONE | H11: 6.03 | I11: 5.79 | J11: 5.97 | L11: DESSENA | M11: 5.85 | N11: 5.9 | O11: 5.85 | Q11: LODI | R11: 6.18 | S11: 6.15 | T11: 6.29
B12: CIGARINI | C12: 6.06 | D12: 6.2 | E12: 6.17 | G12: PEREZ | H12: 6 | I12: 6.07 | J12: 5.72 | L12: CONTI | M12: 6.14 | N12: 6.26 | O12: 6.07 | Q12: CASTRO | R12: 6.14 | S12: 6.12 | T12: 6.15
B13: GIORGI | C13: 5.67 | D13: 5.74 | E13: 5.83 | G13: PAZIENZA | H13: 5.54 | I13: 5.38 | J13: 5.65 | L13: COSSU | M13: 6.16 | N13: 6.02 | O13: 6.14 | Q13: BARRIENTOS | R13: 6.08 | S13: 6 | T13: 6.12
B14: BIONDINI | C14: 5.93 | D14: 5.89 | E14: 5.85 | G14: CHRISTODOULOPOULOS | H14: 5.88 | I14: 5.75 | J14: 5.79 | L14: IBARBO | M14: 6.19 | N14: 6.23 | O14: 6.15 | Q14: ALMIRON | R14: 6.14 | S14: 6.02 | T14: 5.98
... B16: DENIS | C16: 5.93 | D16: 6.01 | E16: 6.08 | G16: GABBIADINI | H16: 5.84 | I16: 5.95 | J16: 5.8 | L16: PINILLA | M16: 5.89 | N16: 6 | O16: 5.9 | Q16: BERGESSIO | R16: 6.2 | S16: 6.14 | T16: 6.27
B18: CHI | C18: g | D18: c | E18: f | G18: FIO | H18: g | I18: c | J18: f | L18: GEN | M18: g | N18: c | O18: f | Q18: INT | R18: g | S18: c | T18: f
B19: PUGGIONI | C19: 6.18 | D19: 6.12 | E19: 6.12 | G19: VIVIANO | H19: 6.07 | I19: 6.17 | J19: 6.06 | L19: FREY S. | M19: 6.17 | N19: 6.13 | O19: 6.18 | Q19: HANDANOVIC | R19: 6.29 | S19: 6.39 | T19: 6.21
B20: DAINELLI | C20: 5.91 | D20: 5.9 | E20: 5.96 | G20: PASQUAL | H20: 6.21 | I20: 6.26 | J20: 6.31 | L20: GRANQVIST | M20: 6.03 | N20: 5.91 | O20: 6.01 | Q20: RANOCCHIA | R20: 6 | S20: 6.03 | T20: 5.81
B21: ANDREOLLI | C21: 5.89 | D21: 5.98 | E21: 5.82 | G21: RODRIGUEZ GO. | H21: 5.97 | I21: 6.17 | J21: 6.1 | L21: ANTONELLI | M21: 5.88 | N21: 5.97 | O21: 6 | Q21: JUAN JESUS | R21: 5.69 | S21: 5.63 | T21: 5.68
B22: DRAME' | C22: 6.02 | D22: 5.8 | E22: 5.86 | G22: SAVIC | H22: 5.94 | I22: 6.23 | J22: 6.06 | L22: MORETTI E. | M22: 5.93 | N22: 5.88 | O22: 5.88 | Q22: PEREIRA | R22: 5.54 | S22: 5.62 | T22: 5.76
B23: CESAR | C23: 5.86 | D23: 5.86 | E23: 5.74 | G23: TOMOVIC | H23: 5.8 | I23: 5.96 | J23: 5.9 | L23: MANFREDINI | M23: 6.09 | N23: 6.19 | O23: 6.12 | Q23: NAGATOMO | R23: 5.65 | S23: 5.6 | T23: 5.77
B24: SARDO | C24: 5.66 | D24: 5.67 | E24: 5.86 | G24: RONCAGLIA | H24: 5.85 | I24: 6.13 | J24: 6.08 | L24: PORTANOVA | M24: 6 | N24: 5.97 | O24: 5.97 | Q24: SAMUEL | R24: 6.16 | S24: 6 | T24: 5.97
B25: RIGONI L. | C25: 6.02 | D25: 6.11 | E25: 6.03 | G25: BORJA VALERO | H25: 6.47 | I25: 6.42 | J25: 6.42 | L25: KUCKA | M25: 6.17 | N25: 6.08 | O25: 6.08 | Q25: CAMBIASSO | R25: 5.92 | S25: 6 | T25: 6.05
B26: HETEMAJ | C26: 5.95 | D26: 5.8 | E26: 5.88 | G26: CUADRADO | H26: 6.39 | I26: 6.39 | J26: 6.47 | L26: BERTOLACCI | M26: 5.86 | N26: 5.93 | O26: 5.83 | Q26: ZANETTI | R26: 5.91 | S26: 6.02 | T26: 6
B27: COFIE | C27: 5.84 | D27: 5.94 | E27: 5.83 | G27: PIZARRO | H27: 6.47 | I27: 6.52 | J27: 6.36 | L27: TOZSER | M27: 5.67 | N27: 5.53 | O27: 5.57 | Q27: GUARIN | R27: 5.82 | S27: 5.71 | T27: 5.92
B28: LUCIANO | C28: 5.96 | D28: 5.98 | E28: 5.98 | G28: LJAJIC | H28: 6.29 | I28: 6.36 | J28: 6.33 | L28: JANKOVIC | M28: 5.92 | N28: 5.94 | O28: 5.89 | Q28: GARGANO | R28: 5.71 | S28: 5.81 | T28: 5.67
B29: GUANA | C29: 6.05 | D29: 6.1 | E29: 6.07 | G29: AQUILANI | H29: 6.1 | I29: 6.19 | J29: 5.94 | L29: MATUZALEM | M29: 6.17 | N29: 5.97 | O29: 5.9 | Q29: KOVACIC | R29: 6.04 | S29: 6.15 | T29: 6.04
B30: THEREAU | C30: 6.07 | D30: 5.96 | E30: 6.11 | G30: FERNANDEZ M. | H30: 5.95 | I30: 6 | J30: 5.83 | L30: ROSSI | M30: 5.96 | N30: 5.95 | O30: 5.96 | Q30: CASSANO | R30: 6.13 | S30: 6.32 | T30: 6.2
... B32: PALOSCHI | C32: 5.83 | D32: 5.83 | E32: 5.83 | G32: TONI | H32: 5.94 | I32: 6.17 | J32: 6.04 | L32: IMMOBILE | M32: 5.59 | N32: 5.84 | O32: 5.81 | Q32: MILITO | R32: 5.95 | S32: 6 | T32: 5.97
B34: JUV | C34: g | D34: c | E34: f | G34: LAZ | H34: g | I34: c | J34: f | L34: MIL | M34: g | N34: c | O34: f | Q34: NAP | R34: g | S34: c | T34: f
B35: BUFFON | C35: 6.15 | D35: 6.13 | E35: 6.13 | G35: MARCHETTI | H35: 6.32 | I35: 6.23 | J35: 6.2 | L35: ABBIATI | M35: 6.07 | N35: 6.07 | O35: 6.09 | Q35: DE SANCTIS | R35: 6 | S35: 6.07 | T35: 6.09
B36: BARZAGLI | C36: 6.26 | D36: 6.26 | E36: 6.29 | G36: BIAVA | H36: 5.87 | I36: 6.22 | J36: 5.95 | L36: ABATE | M36: 5.96 | N36: 6 | O36: 5.89 | Q36: CANNAVARO | R36: 6.2 | S36: 6.23 | T36: 6.02
B37: BONUCCI | C37: 6.24 | D37: 6.15 | E37: 6.11 | G37: DIAS | H37: 5.71 | I37: 5.85 | J37: 5.79 | L37: DE SCIGLIO | M37: 6.12 | N37: 6 | O37: 6.12 | Q37: CAMPAGNARO | R37: 6.27 | S37: 6.27 | T37: 6.11
B38: LICHTSTEINER | C38: 6.2 | D38: 6.08 | E38: 5.98 | G38: KONKO | H38: 6 | I38: 6.02 | J38: 5.98 | L38: MEXES | M38: 5.94 | N38: 5.76 | O38: 5.88 | Q38: GAMBERINI | R38: 5.92 | S38: 5.8 | T38: 5.92
B39: CHIELLINI | C39: 6.17 | D39: 6.39 | E39: 6.4 | G39: RADU | H39: 6.07 | I39: 6.15 | J39: 6.02 | L39: ZAPATA | M39: 5.93 | N39: 5.76 | O39: 5.91 | Q39: BRITOS | R39: 5.89 | S39: 5.89 | T39: 5.86
B40: PIRLO | C40: 6.27 | D40: 6.34 | E40: 6.2 | G40: LEDESMA | H40: 6.18 | I40: 6.19 | J40: 5.85 | L40: MONTOLIVO | M40: 6.08 | N40: 6.11 | O40: 6.16 | Q40: HAMSIK | R40: 6.45 | S40: 6.51 | T40: 6.41
B41: VIDAL | C41: 6.24 | D41: 6.35 | E41: 6.32 | G41: CANDREVA | H41: 6.24 | I41: 6.29 | J41: 6.19 | L41: BOATENG | M41: 5.53 | N41: 5.62 | O41: 5.72 | Q41: BEHRAMI | R41: 6.18 | S41: 6.3 | T41: 6.17
B42: MARCHISIO | C42: 6.3 | D42: 6.29 | E42: 6.29 | G42: HERNANES | H42: 6.03 | I42: 6.15 | J42: 5.76 | L42: NOCERINO | M42: 5.58 | N42: 5.66 | O42: 5.68 | Q42: INLER | R42: 6.11 | S42: 6.09 | T42: 6.03
B43: ASAMOAH | C43: 6.02 | D43: 6.04 | E43: 6.08 | G43: GONZALEZ | H43: 5.99 | I43: 6.17 | J43: 5.87 | L43: CONSTANT | M43: 6.04 | N43: 5.63 | O43: 5.98 | Q43: MAGGIO | R43: 5.95 | S43: 5.92 | T43: 5.77
B44: POGBA | C44: 6.35 | D44: 6.39 | E44: 6.38 | G44: LULIC | H44: 6.02 | I44: 5.79 | J44: 5.77 | L44: FLAMINI | M44: 5.97 | N44: 5.97 | O44: 5.91 | Q44: ZUNIGA | R44: 5.85 | S44: 5.97 | T44: 5.95
B45: GIACCHERINI | C45: 6.09 | D45: 6.2 | E45: 6.16 | G45: MAURI | H45: 5.96 | I45: 6.1 | J45: 5.86 | L45: DE JONG | M45: 6.04 | N45: 5.85 | O45: 5.77 | Q45: DZEMAILI | R45: 5.95 | S45: 6.13 | T45: 6.16
B46: VUCINIC | C46: 6.02 | D46: 6.13 | E46: 6.11 | G46: CANA | H46: 5.92 | I46: 5.92 | J46: 5.92 | L46: EL SHAARAWY | M46: 6.23 | N46: 6.25 | O46: 6.16 | Q46: CAVANI | R46: 6.41 | S46: 6.57 | T46: 6.38
... B48: QUAGLIARELLA | C48: 6.05 | D48: 6.06 | E48: 6.07 | G48: FLOCCARI | H48: 6.08 | I48: 6.09 | J48: 6 | L48: BALOTELLI | M48: 6.46 | N48: 6.69 | O48: 6.58 | Q48: PANDEV | R48: 5.95 | S48: 5.97 | T48: 6.08
B50: PAL | C50: g | D50: c | E50: f | G50: PAR | H50: g | I50: c | J50: f | L50: PES | M50: g | N50: c | O50: f | Q50: ROM | R50: g | S50: c | T50: f
B51: SORRENTINO | C51: 6.14 | D51: 6.16 | E51: 6.17 | G51: MIRANTE | H51: 6.27 | I51: 6.23 | J51: 6.2 | L51: PELIZZOLI | M51: 6.55 | N51: 6.64 | O51: 6.77 | Q51: STEKELENBURG | R51: 5.89 | S51: 5.97 | T51: 6.05
B52: VON BERGEN | C52: 5.83 | D52: 5.9 | E52: 5.87 | G52: PALETTA | H52: 6.03 | I52: 6.04 | J52: 6.07 | L52: CAPUANO M. | M52: 5.17 | N52: 5.4 | O52: 5.44 | Q52: CASTAN | R52: 5.82 | S52: 5.85 | T52: 5.82
B53: GARCIA SANTIAGO | C53: 5.67 | D53: 5.75 | E53: 5.59 | G53: LUCARELLI | H53: 5.86 | I53: 5.77 | J53: 5.81 | L53: BALZANO | M53: 5.52 | N53: 5.5 | O53: 5.85 | Q53: PIRIS | R53: 5.6 | S53: 5.88 | T53: 5.47
B54: MUNOZ | C54: 5.73 | D54: 5.97 | E54: 5.73 | G54: ZACCARDO | H54: 5.78 | I54: 6 | J54: 5.94 | L54: ZANON | M54: 5.5 | N54: 5.5 | O54: 5.52 | Q54: MARQUINHOS | R54: 6.02 | S54: 5.96 | T54: 5.9
B55: MORGANELLA | C55: 5.78 | D55: 5.83 | E55: 5.74 | G55: ROSI | H55: 5.83 | I55: 5.85 | J55: 5.85 | L55: BOCCHETTI | M55: 5.46 | N55: 5.48 | O55: 5.26 | Q55: BURDISSO | R55: 5.88 | S55: 5.6 | T55: 5.62
B56: ARONICA | C56: 5.7 | D56: 5.7 | E56: 5.6 | G56: BENALOUANE | H56: 5.83 | I56: 5.78 | J56: 6.03 | L56: COSIC | M56: 5.1 | N56: 5.42 | O56: 5.5 | Q56: BALZARETTI | R56: 5.65 | S56: 5.6 | T56: 5.92
B57: ILICIC | C57: 5.94 | D57: 6.06 | E57: 6.18 | G57: PAROLO | H57: 5.92 | I57: 5.89 | J57: 5.9 | L57: CASCIONE | M57: 5.67 | N57: 5.78 | O57: 5.88 | Q57: FLORENZI | R57: 6.12 | S57: 5.97 | T57: 6.1
B58: BARRETO E. | C58: 6.03 | D58: 6.08 | E58: 5.85 | G58: BIABIANY | H58: 6.09 | I58: 6.11 | J58: 6.18 | L58: WEISS | M58: 5.8 | N58: 5.8 | O58: 6.07 | Q58: LAMELA | R58: 6.02 | S58: 6.05 | T58: 6.11
B59: KURTIC | C59: 5.78 | D59: 5.83 | E59: 5.83 | G59: GOBBI | H59: 5.92 | I59: 5.89 | J59: 5.68 | L59: BJARNASON | M59: 5.75 | N59: 5.73 | O59: 5.93 | Q59: BRADLEY | R59: 6 | S59: 6.02 | T59: 5.95
B60: DONATI | C60: 5.81 | D60: 5.88 | E60: 5.75 | G60: VALDES | H60: 6.03 | I60: 5.93 | J60: 6 | L60: MODESTO | M60: 5.32 | N60: 5.61 | O60: 5.5 | Q60: PJANIC | R60: 6 | S60: 6.08 | T60: 6.14
B61: RIOS | C61: 5.62 | D61: 5.76 | E61: 5.83 | G61: MARCHIONNI | H61: 6.11 | I61: 6 | J61: 6.04 | L61: QUINTERO | M61: 5.88 | N61: 5.81 | O61: 5.94 | Q61: DE ROSSI | R61: 5.54 | S61: 5.6 | T61: 5.7
B62: MICCOLI | C62: 6.11 | D62: 5.94 | E62: 6.09 | G62: AMAURI | H62: 6.08 | I62: 6.05 | J62: 6 | L62: CAPRARI | M62: 5.68 | N62: 5.8 | O62: 5.81 | Q62: TOTTI | R62: 6.56 | S62: 6.5 | T62: 6.47
... B64: HERNANDEZ | C64: 5.58 | D64: 5.63 | E64: 5.67 | G64: SANSONE N. | H64: 6 | I64: 6.09 | J64: 5.98 | L64: ABBRUSCATO | M64: 5.42 | N64: 5.42 | O64: 5.42 | Q64: DESTRO | R64: 5.69 | S64: 5.85 | T64: 5.78
B66: SAM | C66: g | D66: c | E66: f | G66: SIE | H66: g | I66: c | J66: f | L66: TOR | M66: g | N66: c | O66: f | Q66: UDI | R66: g | S66: c | T66: f
B67: ROMERO | C67: 5.9 | D67: 6.09 | E67: 5.95 | G67: PEGOLO | H67: 6.26 | I67: 6.26 | J67: 6.26 | L67: GILLET | M67: 6.11 | N67: 6.15 | O67: 6.07 | Q67: BRKIC | R67: 6.02 | S67: 6 | T67: 6.12
B68: GASTALDELLO | C68: 5.89 | D68: 5.98 | E68: 6.06 | G68: FELIPE | H68: 5.65 | I68: 5.72 | J68: 5.78 | L68: GLIK | M68: 5.83 | N68: 5.88 | O68: 5.88 | Q68: DANILO | R68: 5.98 | S68: 6.02 | T68: 6
B69: COSTA | C69: 5.78 | D69: 5.81 | E69: 5.83 | G69: RUBIN | H69: 5.9 | I69: 5.83 | J69: 5.92 | L69: DARMIAN | M69: 5.8 | N69: 5.92 | O69: 5.85 | Q69: DOMIZZI | R69: 6.05 | S69: 6.04 | T69: 6
B70: DE SILVESTRI | C70: 5.88 | D70: 5.96 | E70: 5.92 | G70: PACI | H70: 5.68 | I70: 5.8 | J70: 5.74 | L70: D'AMBROSIO | M70: 5.94 | N70: 6.04 | O70: 5.98 | Q70: BASTA | R70: 6.25 | S70: 6.21 | T70: 6.3
B71: ROSSINI | C71: 5.65 | D71: 5.73 | E71: 5.73 | G71: NETO L. | H71: 5.92 | I71: 5.97 | J71: 5.97 | L71: MASIELLO S. | M71: 5.63 | N71: 5.74 | O71: 5.76 | Q71: BENATIA | R71: 6.16 | S71: 6.29 | T71: 6.18
B72: OBIANG | C72: 5.99 | D72: 6.3 | E72: 6.18 | G72: ROSINA | H72: 5.94 | I72: 5.89 | J72: 5.97 | L72: OGBONNA | M72: 5.75 | N72: 6 | O72: 6.09 | Q72: PASQUALE | R72: 5.81 | S72: 6 | T72: 6.03
B73: ESTIGARRIBIA | C73: 5.59 | D73: 5.63 | E73: 5.63 | G73: VERGASSOLA | H73: 5.95 | I73: 6.08 | J73: 6 | L73: CERCI | M73: 6.36 | N73: 6.44 | O73: 6.33 | Q73: HEURTAUX | R73: 5.84 | S73: 5.78 | T73: 5.78
B74: POLI | C74: 6.1 | D74: 6.15 | E74: 6.16 | G74: ANGELO | H74: 5.64 | I74: 5.7 | J74: 5.91 | L74: GAZZI | M74: 6.01 | N74: 6.07 | O74: 5.93 | Q74: PEREYRA | R74: 6.16 | S74: 6 | T74: 6.09
B75: KRSTICIC | C75: 5.98 | D75: 6.02 | E75: 5.75 | G75: SESTU | H75: 6.09 | I75: 6.04 | J75: 6.13 | L75: SANTANA | M75: 5.96 | N75: 5.94 | O75: 5.92 | Q75: ALLAN | R75: 6.1 | S75: 6.21 | T75: 6.23
B76: MUNARI | C76: 5.84 | D76: 5.83 | E76: 5.8 | G76: VALIANI | H76: 5.92 | I76: 5.9 | J76: 5.92 | L76: VIVES | M76: 5.89 | N76: 5.72 | O76: 5.7 | Q76: LAZZARI | R76: 5.93 | S76: 6 | T76: 5.83
B77: PALOMBO | C77: 6.2 | D77: 6.2 | E77: 6 | G77: BOLZONI | H77: 5.68 | I77: 5.82 | J77: 5.58 | L77: BRIGHI | M77: 6.16 | N77: 6.24 | O77: 6.12 | Q77: BADU | R77: 5.91 | S77: 5.95 | T77: 5.98
B78: EDER | C78: 6.18 | D78: 6.08 | E78: 6.15 | G78: EMEGHARA | H78: 6.21 | I78: 6.26 | J78: 6.15 | L78: BIANCHI | M78: 5.91 | N78: 5.84 | O78: 5.94 | Q78: PINZI | R78: 6.09 | S78: 6.06 | T78: 6.18
... B80: SANSONE G. | C80: 6.07 | D80: 6.05 | E80: 5.93 | G80: CALAIO' | H80: 5.81 | I80: 5.53 | J80: 5.67 | L80: BARRETO D.S. | M80: 5.74 | N80: 5.85 | O80: 5.81 | Q80: MURIEL | R80: 6.25 | S80: 6.36 | T80: 6.25

Sheet up 18a
B2: ATA | C2: g | D2: c | E2: f | G2: BOL | H2: g | I2: c | J2: f | L2: CAG | M2: g | N2: c | O2: f | Q2: CAT | R2: g | S2: c | T2: f
B3: CONSIGLI | C3: 6.12 | D3: 6.21 | E3: 6.12 | G3: AGLIARDI | H3: 5.91 | I3: 6 | J3: 6.19 | L3: AGAZZI | M3: 6.17 | N3: 6.19 | O3: 5.97 | Q3: ANDUJAR | R3: 6.08 | S3: 6.08 | T3: 6.11
B4: MANFREDINI | C4: 6 | D4: 6.17 | E4: 6.17 | G4: ANTONSSON | H4: 5.66 | I4: 5.78 | J4: 5.81 | L4: PISANO F. | M4: 5.76 | N4: 5.91 | O4: 5.82 | Q4: LEGROTTAGLIE | R4: 6.09 | S4: 6 | T4: 6
B5: PELUSO | C5: 5.62 | D5: 5.92 | E5: 5.77 | G5: CHERUBIN | H5: 5.91 | I5: 5.81 | J5: 5.84 | L5: ASTORI | M5: 5.57 | N5: 5.73 | O5: 5.63 | Q5: MARCHESE | R5: 6.13 | S5: 6.19 | T5: 6.09
B6: RAIMONDI | C6: 6.04 | D6: 6 | E6: 5.92 | G6: MORLEO | H6: 5.68 | I6: 5.68 | J6: 6 | L6: ARIAUDO | M6: 5.35 | N6: 5.65 | O6: 5.65 | Q6: ALVAREZ P.S. | R6: 5.8 | S6: 5.67 | T6: 5.63
B7: STENDARDO | C7: 6 | D7: 6.09 | E7: 5.96 | G7: GARICS | H7: 5.73 | I7: 5.7 | J7: 6.15 | L7: NAINGGOLAN | M7: 6.13 | N7: 6.25 | O7: 6.13 | Q7: SPOLLI | R7: 6.13 | S7: 6.08 | T7: 6.13
B8: LUCCHINI | C8: 5.75 | D8: 5.8 | E8: 5.65 | G8: MOTTA | H8: 5.64 | I8: 5.55 | J8: 5.91 | L8: DESSENA | M8: 5.75 | N8: 5.82 | O8: 5.89 | Q8: LODI | R8: 6.22 | S8: 6.22 | T8: 6.44
B9: BRIVIO | C9: 5.69 | D9: 5.88 | E9: 6 | G9: DIAMANTI | H9: 6.28 | I9: 6.19 | J9: 6.34 | L9: EKDAL | M9: 6 | N9: 5.92 | O9: 6.07 | Q9: ALMIRON | R9: 6.13 | S9: 6.09 | T9: 5.97
B10: MORALEZ | C10: 5.89 | D10: 5.83 | E10: 5.94 | G10: TAIDER | H10: 5.69 | I10: 5.59 | J10: 5.94 | L10: CONTI | M10: 5.96 | N10: 6.12 | O10: 5.92 | Q10: BARRIENTOS | R10: 5.81 | S10: 5.71 | T10: 5.89
B11: BONAVENTURA | C11: 6.15 | D11: 6.03 | E11: 5.97 | G11: KONE | H11: 6.08 | I11: 5.77 | J11: 6 | L11: COSSU | M11: 6.05 | N11: 5.95 | O11: 6.23 | Q11: CASTRO | R11: 6.09 | S11: 6.04 | T11: 6.11
B12: CIGARINI | C12: 6 | D12: 6.28 | E12: 6.25 | G12: GUARENTE | H12: 5.73 | I12: 5.86 | J12: 5.77 | L12: SAU | M12: 6.19 | N12: 6.19 | O12: 6.27 | Q12: GOMEZ | R12: 6.34 | S12: 6.31 | T12: 6.38
B13: SCHELOTTO | C13: 5.8 | D13: 5.68 | E13: 5.68 | G13: GILARDINO | H13: 6 | I13: 6.18 | J13: 6.06 | L13: THIAGO RIBEIRO | M13: 5.62 | N13: 5.58 | O13: 5.71 | Q13: IZCO | R13: 6.07 | S13: 6 | T13: 5.89
B14: DENIS | C14: 5.89 | D14: 6.06 | E14: 6.03 | G14: GABBIADINI | H14: 5.92 | I14: 6.04 | J14: 5.92 | L14: PINILLA | M14: 5.95 | N14: 6 | O14: 5.9 | Q14: BERGESSIO | R14: 6.23 | S14: 6.1 | T14: 6.3
B16: CHI | C16: g | D16: c | E16: f | G16: FIO | H16: g | I16: c | J16: f | L16: GEN | M16: g | N16: c | O16: f | Q16: INT | R16: g | S16: c | T16: f
B17: SORRENTINO | C17: 6.22 | D17: 6.08 | E17: 6.14 | G17: VIVIANO | H17: 6.07 | I17: 6.06 | J17: 6.03 | L17: FREY S. | M17: 6.11 | N17: 6.22 | O17: 6.19 | Q17: HANDANOVIC | R17: 6.38 | S17: 6.53 | T17: 6.31
B18: DAINELLI | C18: 5.69 | D18: 5.89 | E18: 5.81 | G18: RODRIGUEZ GO. | H18: 6.12 | I18: 6.29 | J18: 6.26 | L18: GRANQVIST | M18: 6 | N18: 5.97 | O18: 6 | Q18: RANOCCHIA | R18: 6.44 | S18: 6.44 | T18: 6.18
B19: SARDO | C19: 5.5 | D19: 5.73 | E19: 5.77 | G19: PASQUAL | H19: 6.28 | I19: 6.31 | J19: 6.31 | L19: ANTONELLI | M19: 5.77 | N19: 6.03 | O19: 5.9 | Q19: NAGATOMO | R19: 5.91 | S19: 5.72 | T19: 5.97
B20: DRAME' | C20: 5.88 | D20: 5.75 | E20: 5.71 | G20: RONCAGLIA | H20: 6.07 | I20: 6.47 | J20: 6.33 | L20: CANINI | M20: 5.73 | N20: 5.69 | O20: 5.73 | Q20: JUAN JESUS | R20: 6.11 | S20: 6 | T20: 6.11
B21: ANDREOLLI | C21: 5.95 | D21: 6.3 | E21: 5.7 | G21: TOMOVIC | H21: 6.05 | I21: 6.18 | J21: 6.05 | L21: MORETTI E. | M21: 5.71 | N21: 5.71 | O21: 5.75 | Q21: SAMUEL | R21: 6.33 | S21: 6.21 | T21: 6.13
B22: HETEMAJ | C22: 5.91 | D22: 5.74 | E22: 5.88 | G22: BORJA VALERO | H22: 6.53 | I22: 6.44 | J22: 6.44 | L22: KUCKA | M22: 6.24 | N22: 6 | O22: 6 | Q22: CAMBIASSO | R22: 6.17 | S22: 6.31 | T22: 6.19
B23: RIGONI L. | C23: 5.93 | D23: 6.07 | E23: 5.97 | G23: CUADRADO | H23: 6.44 | I23: 6.34 | J23: 6.28 | L23: SAMPIRISI | M23: 5.43 | N23: 5.5 | O23: 5.43 | Q23: ZANETTI | R23: 5.94 | S23: 6.15 | T23: 6.09
B24: GUANA | C24: 6 | D24: 6.04 | E24: 6 | G24: PIZARRO | H24: 6.61 | I24: 6.57 | J24: 6.57 | L24: TOZSER | M24: 5.64 | N24: 5.5 | O24: 5.54 | Q24: GARGANO | R24: 5.97 | S24: 5.84 | T24: 5.75
B25: LUCIANO | C25: 6.05 | D25: 5.9 | E25: 6 | G25: FERNANDEZ M. | H25: 6 | I25: 5.9 | J25: 5.79 | L25: BERTOLACCI | M25: 5.73 | N25: 5.77 | O25: 5.73 | Q25: GUARIN | R25: 6.29 | S25: 6.14 | T25: 6.14
B26: THEREAU | C26: 5.85 | D26: 5.76 | E26: 5.88 | G26: AQUILANI | H26: 6.15 | I26: 6.45 | J26: 6.09 | L26: JANKOVIC | M26: 5.96 | N26: 6 | O26: 5.88 | Q26: MILITO | R26: 5.89 | S26: 5.94 | T26: 5.94
B27: PELLISSIER | C27: 5.69 | D27: 5.65 | E27: 5.81 | G27: JOVETIC | H27: 6.42 | I27: 6.38 | J27: 6.27 | L27: IMMOBILE | M27: 5.59 | N27: 5.94 | O27: 5.85 | Q27: CASSANO | R27: 6.19 | S27: 6.31 | T27: 6.34
B28: PALOSCHI | C28: 6 | D28: 6.17 | E28: 6.17 | G28: TONI | H28: 6.31 | I28: 6.46 | J28: 6.23 | L28: BORRIELLO | M28: 6.05 | N28: 6.14 | O28: 6.05 | Q28: PALACIO | R28: 6.15 | S28: 6.08 | T28: 5.92
B30: JUV | C30: g | D30: c | E30: f | G30: LAZ | H30: g | I30: c | J30: f | L30: MIL | M30: g | N30: c | O30: f | Q30: NAP | R30: g | S30: c | T30: f
B31: BUFFON | C31: 6.14 | D31: 6.09 | E31: 6.06 | G31: MARCHETTI | H31: 6.46 | I31: 6.42 | J31: 6.23 | L31: ABBIATI | M31: 5.55 | N31: 5.3 | O31: 5.6 | Q31: DE SANCTIS | R31: 6 | S31: 6.08 | T31: 6.03
B32: BARZAGLI | C32: 6.18 | D32: 6.18 | E32: 6.29 | G32: BIAVA | H32: 6.06 | I32: 6.5 | J32: 6.18 | L32: DE SCIGLIO | M32: 6.25 | N32: 5.92 | O32: 6.21 | Q32: CANNAVARO | R32: 6.16 | S32: 6.22 | T32: 5.91
B33: BONUCCI | C33: 6.13 | D33: 6.16 | E33: 6.16 | G33: KONKO | H33: 6.04 | I33: 6.04 | J33: 5.86 | L33: MEXES | M33: 5.64 | N33: 5.64 | O33: 5.59 | Q33: CAMPAGNARO | R33: 6.17 | S33: 6.07 | T33: 6.03
B34: CHIELLINI | C34: 6.04 | D34: 6.27 | E34: 6.31 | G34: DIAS | H34: 5.81 | I34: 6 | J34: 5.96 | L34: ABATE | M34: 5.8 | N34: 5.75 | O34: 5.75 | Q34: GAMBERINI | R34: 5.9 | S34: 5.83 | T34: 5.93
B35: LICHTSTEINER | C35: 5.96 | D35: 6.04 | E35: 5.81 | G35: CAVANDA | H35: 5.75 | I35: 5.85 | J35: 5.85 | L35: YEPES | M35: 6.1 | N35: 5.85 | O35: 6 | Q35: HAMSIK | R35: 6.47 | S35: 6.53 | T35: 6.42
B36: ASAMOAH | C36: 6.17 | D36: 6.24 | E36: 6.18 | G36: CANDREVA | H36: 6.18 | I36: 6.15 | J36: 6.32 | L36: MONTOLIVO | M36: 5.78 | N36: 5.91 | O36: 5.97 | Q36: MAGGIO | R36: 5.82 | S36: 5.94 | T36: 5.76
B37: PIRLO | C37: 6.34 | D37: 6.44 | E37: 6.13 | G37: HERNANES | H37: 6.24 | I37: 6.35 | J37: 6 | L37: BOATENG | M37: 5.36 | N37: 5.46 | O37: 5.54 | Q37: INLER | R37: 6.21 | S37: 6.22 | T37: 6.16
B38: MARCHISIO | C38: 6.43 | D38: 6.47 | E38: 6.43 | G38: LEDESMA | H38: 6.41 | I38: 6.35 | J38: 5.94 | L38: NOCERINO | M38: 5.5 | N38: 5.62 | O38: 5.73 | Q38: BEHRAMI | R38: 6.09 | S38: 6.22 | T38: 6.09
B39: VIDAL | C39: 6.1 | D39: 6.2 | E39: 6.17 | G39: MAURI | H39: 6.12 | I39: 6.24 | J39: 5.97 | L39: EMANUELSON | M39: 5.88 | N39: 5.79 | O39: 6.04 | Q39: ZUNIGA | R39: 5.57 | S39: 5.79 | T39: 5.82
B40: GIOVINCO | C40: 6.16 | D40: 6.41 | E40: 6.16 | G40: GONZALEZ | H40: 6.13 | I40: 6.41 | J40: 6.09 | L40: EL SHAARAWY | M40: 6.5 | N40: 6.56 | O40: 6.44 | Q40: INSIGNE | R40: 6.03 | S40: 6.38 | T40: 6.29
B41: VUCINIC | C41: 6.23 | D41: 6.3 | E41: 6.17 | G41: LULIC | H41: 5.87 | I41: 5.71 | J41: 5.63 | L41: PAZZINI | M41: 6.03 | N41: 6 | O41: 6 | Q41: CAVANI | R41: 6.5 | S41: 6.57 | T41: 6.53
B42: QUAGLIARELLA | C42: 6.05 | D42: 6.11 | E42: 6.2 | G42: KLOSE | H42: 6.32 | I42: 6.7 | J42: 6.4 | L42: ROBINHO | M42: 5.91 | N42: 5.75 | O42: 5.85 | Q42: PANDEV | R42: 5.65 | S42: 5.73 | T42: 5.77
B44: PAL | C44: g | D44: c | E44: f | G44: PAR | H44: g | I44: c | J44: f | L44: PES | M44: g | N44: c | O44: f | Q44: ROM | R44: g | S44: c | T44: f
B45: UJKANI | C45: 5.91 | D45: 5.91 | E45: 5.82 | G45: MIRANTE | H45: 6.27 | I45: 6.27 | J45: 6.3 | L45: PERIN | M45: 6.12 | N45: 6.15 | O45: 6.18 | Q45: GOICOECHEA | R45: 6.17 | S45: 6 | T45: 6.06
B46: MUNOZ | C46: 5.68 | D46: 6.03 | E46: 5.69 | G46: PALETTA | H46: 6.09 | I46: 6.21 | J46: 6.06 | L46: BALZANO | M46: 5.77 | N46: 5.67 | O46: 6.08 | Q46: BALZARETTI | R46: 5.73 | S46: 5.57 | T46: 6.03
B47: GARCIA SANTIAGO | C47: 5.72 | D47: 5.69 | E47: 5.66 | G47: LUCARELLI | H47: 5.9 | I47: 5.77 | J47: 5.67 | L47: BOCCHETTI | M47: 5.58 | N47: 5.42 | O47: 5.5 | Q47: PIRIS | R47: 5.6 | S47: 6 | T47: 5.57
B48: VON BERGEN | C48: 5.75 | D48: 5.78 | E48: 5.81 | G48: ZACCARDO | H48: 5.73 | I48: 5.92 | J48: 5.92 | L48: ZANON | M48: 5.58 | N48: 5.58 | O48: 5.5 | Q48: CASTAN | R48: 5.93 | S48: 5.93 | T48: 5.79
B49: MORGANELLA | C49: 5.73 | D49: 5.83 | E49: 5.87 | G49: ROSI | H49: 6.04 | I49: 5.92 | J49: 6.13 | L49: CAPUANO M. | M49: 5.29 | N49: 5.42 | O49: 5.54 | Q49: MARQUINHOS | R49: 6.07 | S49: 6 | T49: 5.96
B50: BARRETO E. | C50: 6.03 | D50: 6.25 | E50: 5.94 | G50: GOBBI | H50: 5.94 | I50: 6 | J50: 5.76 | L50: WEISS | M50: 5.97 | N50: 5.9 | O50: 6.13 | Q50: FLORENZI | R50: 6.21 | S50: 6 | T50: 6.18
B51: ILICIC | C51: 5.81 | D51: 6 | E51: 6.09 | G51: PAROLO | H51: 5.91 | I51: 5.97 | J51: 5.91 | L51: CASCIONE | M51: 5.79 | N51: 5.88 | O51: 5.92 | Q51: LAMELA | R51: 6.32 | S51: 6.31 | T51: 6.43
B52: DONATI | C52: 5.93 | D52: 6.07 | E52: 5.86 | G52: BIABIANY | H52: 6.2 | I52: 6.37 | J52: 6.23 | L52: LUND NIELSEN | M52: 5.75 | N52: 5.96 | O52: 5.75 | Q52: BRADLEY | R52: 5.95 | S52: 6 | T52: 5.91
B53: BRIENZA | C53: 5.77 | D53: 5.96 | E53: 6 | G53: VALDES | H53: 6.12 | I53: 6.27 | J53: 6.27 | L53: QUINTERO | M53: 6.07 | N53: 5.92 | O53: 6.04 | Q53: DE ROSSI | R53: 5.68 | S53: 5.45 | T53: 5.68
B54: KURTIC | C54: 5.69 | D54: 5.73 | E54: 5.81 | G54: BELFODIL | H54: 5.93 | I54: 6.21 | J54: 5.83 | L54: MODESTO | M54: 5.46 | N54: 5.58 | O54: 5.54 | Q54: TOTTI | R54: 6.79 | S54: 6.62 | T54: 6.62
B55: MICCOLI | C55: 6.21 | D55: 5.89 | E55: 6.11 | G55: AMAURI | H55: 5.96 | I55: 5.95 | J55: 5.95 | L55: ABBRUSCATO | M55: 5.64 | N55: 5.46 | O55: 5.5 | Q55: OSVALDO | R55: 6.42 | S55: 6.15 | T55: 6.15
B56: DYBALA | C56: 5.75 | D56: 5.83 | E56: 5.85 | G56: SANSONE N. | H56: 5.94 | I56: 6.31 | J56: 6 | L56: VUKUSIC | M56: 5.42 | N56: 5.58 | O56: 5.65 | Q56: DESTRO | R56: 5.83 | S56: 5.91 | T56: 5.96
B58: SAM | C58: g | D58: c | E58: f | G58: SIE | H58: g | I58: c | J58: f | L58: TOR | M58: g | N58: c | O58: f | Q58: UDI | R58: g | S58: c | T58: f
B59: ROMERO | C59: 5.93 | D59: 6.1 | E59: 5.93 | G59: PEGOLO | H59: 6.32 | I59: 6.25 | J59: 6.22 | L59: GILLET | M59: 6.16 | N59: 6.28 | O59: 6.11 | Q59: BRKIC | R59: 5.94 | S59: 6.03 | T59: 6.16
B60: ROSSINI | C60: 5.64 | D60: 5.78 | E60: 5.75 | G60: FELIPE | H60: 5.66 | I60: 5.78 | J60: 5.78 | L60: DARMIAN | M60: 5.68 | N60: 5.85 | O60: 5.88 | Q60: DANILO | R60: 5.77 | S60: 5.9 | T60: 5.83
B61: COSTA | C61: 5.67 | D61: 5.63 | E61: 5.77 | G61: NETO L. | H61: 5.91 | I61: 5.97 | J61: 5.94 | L61: GLIK | M61: 5.81 | N61: 5.75 | O61: 5.97 | Q61: DOMIZZI | R61: 5.68 | S61: 5.9 | T61: 5.68
B62: GASTALDELLO | C62: 5.93 | D62: 6.03 | E62: 6.13 | G62: DEL GROSSO | H62: 5.62 | I62: 5.54 | J62: 5.69 | L62: D'AMBROSIO | M62: 5.95 | N62: 5.91 | O62: 5.95 | Q62: BASTA | R62: 6.2 | S62: 6.35 | T62: 6.4
B63: BERARDI G. | C63: 5.79 | D63: 5.89 | E63: 5.64 | G63: PACI | H63: 5.91 | I63: 6.09 | J63: 5.86 | L63: OGBONNA | M63: 6.18 | N63: 6.18 | O63: 6.36 | Q63: PASQUALE | R63: 5.95 | S63: 6.1 | T63: 6.1
B64: OBIANG | C64: 5.9 | D64: 6.4 | E64: 6.3 | G64: VERGASSOLA | H64: 5.94 | I64: 6.15 | J64: 6.06 | L64: GAZZI | M64: 6 | N64: 6.06 | O64: 5.89 | Q64: PEREYRA | R64: 6.12 | S64: 6.03 | T64: 6.03
B65: ESTIGARRIBIA | C65: 5.57 | D65: 5.61 | E65: 5.5 | G65: SESTU | H65: 5.93 | I65: 5.93 | J65: 6.1 | L65: CERCI | M65: 6 | N65: 6.2 | O65: 6.03 | Q65: ALLAN | R65: 6.07 | S65: 6.21 | T65: 6.13
B66: KRSTICIC | C66: 5.73 | D66: 5.92 | E66: 5.65 | G66: VALIANI | H66: 6 | I66: 6.04 | J66: 5.96 | L66: SANTANA | M66: 5.92 | N66: 6 | O66: 5.81 | Q66: LAZZARI | R66: 5.81 | S66: 5.88 | T66: 5.62
B67: MARESCA | C67: 6.04 | D67: 6.31 | E67: 6.15 | G67: ANGELO | H67: 5.65 | I67: 5.54 | J67: 5.85 | L67: STEVANOVIC | M67: 5.59 | N67: 5.64 | O67: 5.73 | Q67: BADU | R67: 5.83 | S67: 5.75 | T67: 6
B68: POLI | C68: 6.04 | D68: 6.09 | E68: 6.04 | G68: BOLZONI | H68: 5.79 | I68: 5.83 | J68: 5.58 | L68: BRIGHI | M68: 6.05 | N68: 6.22 | O68: 6.06 | Q68: ARMERO | R68: 5.4 | S68: 5.65 | T68: 5.4
B69: EDER | C69: 6.18 | D69: 6.11 | E69: 6.25 | G69: ROSINA | H69: 5.96 | I69: 5.79 | J69: 5.75 | L69: BIANCHI | M69: 5.88 | N69: 5.82 | O69: 5.97 | Q69: PINZI | R69: 5.94 | S69: 6 | T69: 6.22
B70: ICARDI | C70: 5.85 | D70: 6 | E70: 6.06 | G70: CALAIO' | H70: 5.81 | I70: 5.5 | J70: 5.67 | L70: MEGGIORINI | M70: 5.61 | N70: 5.46 | O70: 5.5 | Q70: DI NATALE | R70: 6.2 | S70: 6.39 | T70: 6.3

Sheet P gazz
A1: Calciatore | B1: Ruolo | C1: P | D1: M | E1: F | F1: Gs | G1: Rp | H1: A | I1: E | J1: Sq
A2: Consigli | B2: P | C2: 35 | D2: 6.13 | E2: 4.84 | F2: 49 | G2: 2 | H2: 4 | I2: - | J2: Ata.
A3: Polito | B3: P | C3: 4 | D3: 6 | E3: 4.25 | F3: 7 | G3: - | H3: - | I3: - | J3: Ata.
A4: Curci | B4: P | C4: 14 | D4: 6.14 | E4: 5.5 | F4: 12 | G4: 1 | H4: - | I4: - | J4: Bol.
A5: Agliardi | B5: P | C5: 21 | D5: 5.95 | E5: 4.45 | F5: 31 | G5: - | H5: 1 | I5: - | J5: Bol.
A6: Stojanovic | B6: P | C6: 4 | D6: 5.88 | E6: 3.63 | F6: 9 | G6: - | H6: - | I6: - | J6: Bol.
A7: Agazzi | B7: P | C7: 33 | D7: 6.21 | E7: 4.88 | F7: 45 | G7: 1 | H7: 2 | I7: 1 | J7: Cag.
A8: Avramov | B8: P | C8: 4 | D8: 6.13 | E8: 4.63 | F8: 6 | G8: - | H8: - | I8: - | J8: Cag.
A9: Frison | B9: P | C9: 4 | D9: 6.38 | E9: 4.38 | F9: 7 | G9: - | H9: 2 | I9: - | J9: Cat.
A10: Andujar | B10: P | C10: 34 | D10: 6.09 | E10: 4.91 | F10: 39 | G10: - | H10: - | I10: 1 | J10: Cat.
A11: Puggioni | B11: P | C11: 17 | D11: 6.18 | E11: 5.32 | F11: 17 | G11: 1 | H11: 1 | I11: - | J11: Chi.
A12: Squizzi | B12: P | C12: 1 | D12: 6 | E12: 4 | F12: 2 | G12: - | H12: - | I12: - | J12: Chi.
A13: Ujkani | B13: P | C13: 19 | D13: 5.89 | E13: 4.26 | F13: 30 | G13: - | H13: - | I13: 1 | J13: Chi.
A14: Viviano | B14: P | C14: 30 | D14: 6.07 | E14: 5.05 | F14: 33 | G14: 1 | H14: 1 | I14: - | J14: Fio.
A15: Neto | B15: P | C15: 6 | D15: 5.58 | E15: 4 | F15: 9 | G15: - | H15: 1 | I15: - | J15: Fio.
A16: Lupatelli | B16: P | C16: 1 | D16: 5.5 | E16: 4.5 | F16: 1 | G16: - | H16: - | I16: - | J16: Fio.
A17: Donnarumma | B17: P | C17: 1 | D17: 7 | E17: 7 | F17: - | G17: - | H17: - | I17: - | J17: Gen.
A18: Frey S. | B18: P | C18: 36 | D18: 6.17 | E18: 4.89 | F18: 49 | G18: 1 | H18: - | I18: - | J18: Gen.
A19: Tzorvas | B19: P | C19: 1 | D19: 4 | E19: 1 | F19: 3 | G19: - | H19: - | I19: - | J19: Gen.
A20: Handanovic | B20: P | C20: 35 | D20: 6.29 | E20: 4.63 | F20: 53 | G20: - | H20: 6 | I20: - | J20: Int.
A21: Castellazzi | B21: P | C21: 2 | D21: 6.25 | E21: 4.75 | F21: 3 | G21: - | H21: - | I21: - | J21: Int.
A22: Carrizo | B22: P | C22: 1 | D22: 6 | E22: 5 | F22: 1 | G22: - | H22: - | I22: - | J22: Int.
A23: Buffon | B23: P | C23: 30 | D23: 6.15 | E23: 5.55 | F23: 18 | G23: - | H23: - | I23: - | J23: Juv.
A24: Storari | B24: P | C24: 6 | D24: 6 | E24: 5.17 | F24: 5 | G24: - | H24: - | I24: - | J24: Juv.
A25: Marchetti | B25: P | C25: 33 | D25: 6.32 | E25: 5.32 | F25: 32 | G25: - | H25: 2 | I25: - | J25: Laz.
A26: Bizzarri | B26: P | C26: 5 | D26: 5.9 | E26: 4.5 | F26: 10 | G26: 1 | H26: - | I26: - | J26: Laz.
A27: Abbiati | B27: P | C27: 28 | D27: 6.07 | E27: 5.25 | F27: 22 | G27: - | H27: 2 | I27: - | J27: Mil.
A28: Amelia | B28: P | C28: 11 | D28: 5.73 | E28: 4.09 | F28: 17 | G28: - | H28: 2 | I28: - | J28: Mil.
A29: De Sanctis | B29: P | C29: 34 | D29: 6 | E29: 5.12 | F29: 28 | G29: - | H29: 4 | I29: - | J29: Nap.
A30: Rosati | B30: P | C30: 4 | D30: 6 | E30: 4 | F30: 8 | G30: - | H30: - | I30: - | J30: Nap.
A31: Sorrentino | B31: P | C31: 35 | D31: 6.14 | E31: 4.8 | F31: 49 | G31: 1 | H31: 2 | I31: - | J31: Pal.
A32: Benussi | B32: P | C32: 5 | D32: 5.8 | E32: 4.2 | F32: 8 | G32: - | H32: - | I32: - | J32: Pal.
A33: Mirante | B33: P | C33: 33 | D33: 6.27 | E33: 5.26 | F33: 40 | G33: 3 | H33: 5 | I33: - | J33: Par.
A34: Pavarini | B34: P | C34: 6 | D34: 6.08 | E34: 5.17 | F34: 5 | G34: - | H34: 1 | I34: - | J34: Par.
A35: Bajza | B35: P | C35: 1 | D35: 6 | E35: 5 | F35: 1 | G35: - | H35: - | I35: - | J35: Par.
A36: Pelizzoli | B36: P | C36: 11 | D36: 6.55 | E36: 5.18 | F36: 18 | G36: 1 | H36: - | I36: - | J36: Pes.
A37: Perin | B37: P | C37: 29 | D37: 6.05 | E37: 3.84 | F37: 66 | G37: 1 | H37: - | I37: 1 | J37: Pes.
A38: Lobont | B38: P | C38: 5 | D38: 6.1 | E38: 5.7 | F38: 2 | G38: - | H38: - | I38: - | J38: Rom.
A39: Stekelenburg | B39: P | C39: 19 | D39: 5.89 | E39: 4.29 | F39: 30 | G39: - | H39: 1 | I39: - | J39: Rom.
A40: Goicoechea | B40: P | C40: 15 | D40: 5.77 | E40: 4 | F40: 24 | G40: - | H40: 1 | I40: - | J40: Rom.
A41: Berni | B41: P | C41: 3 | D41: 6.17 | E41: 4.5 | F41: 5 | G41: - | H41: - | I41: - | J41: Sam.
A42: Da Costa | B42: P | C42: 4 | D42: 6.13 | E42: 4.38 | F42: 7 | G42: - | H42: - | I42: - | J42: Sam.
A43: Romero | B43: P | C43: 30 | D43: 5.9 | E43: 4.67 | F43: 38 | G43: 1 | H43: 2 | I43: 1 | J43: Sam.
A44: Pegolo | B44: P | C44: 37 | D44: 6.26 | E44: 4.84 | F44: 57 | G44: 2 | H44: 3 | I44: - | J44: Sie.
A45: Gillet | B45: P | C45: 35 | D45: 6.11 | E45: 4.66 | F45: 53 | G45: 1 | H45: 2 | I45: - | J45: Tor.
A46: Coppola | B46: P | C46: 1 | D46: 6 | E46: 4 | F46: 2 | G46: - | H46: - | I46: - | J46: Tor.
A47: Padelli | B47: P | C47: 9 | D47: 6.11 | E47: 4.67 | F47: 13 | G47: - | H47: - | I47: - | J47: Udi.
A48: Brkic | B48: P | C48: 30 | D48: 6.02 | E48: 5.03 | F48: 32 | G48: 2 | H48: 1 | I48: 1 | J48: Udi.

Sheet DCA gazz
A1: Calciatore | B1: ruolo | C1: P | D1: M | E1: F | F1: F+ | G1: G | H1: R+ | I1: R- | J1: As | K1: Af | L1: A | M1: E | N1: Sq
A2: Totti | B2: A | C2: 34 | D2: 6.56 | E2: 7.41 | F2: 7.74 | G2: 9 | H2: 3 | I2: 1 | J2: 11 | K2: - | L2: 6 | M2: 1 | N2: Rom.
A3: Barzagli | B3: D | C3: 33 | D3: 6.26 | E3: 6.18 | F3: 6.21 | G3: - | H3: - | I3: - | J3: 1 | K3: - | L3: 5 | M3: - | N3: Juv.
A4: Denis | B4: A | C4: 36 | D4: 5.93 | E4: 7.11 | F4: 7.19 | G4: 10 | H4: 5 | I4: - | J4: 3 | K4: - | L4: 3 | M4: 1 | N4: Ata.
A5: Felipe | B5: D | C5: 34 | D5: 5.65 | E5: 5.44 | F5: 5.44 | G5: - | H5: - | I5: - | J5: - | K5: - | L5: 10 | M5: 2 | N5: Sie.
A6: Borja Valero | B6: C | C6: 37 | D6: 6.47 | E6: 6.5 | F6: 6.74 | G6: 1 | H6: - | I6: - | J6: 9 | K6: - | L6: 4 | M6: - | N6: Fio.
A7: Hamsik | B7: C | C7: 38 | D7: 6.45 | E7: 7.29 | F7: 7.55 | G7: 12 | H7: - | I7: 1 | J7: 10 | K7: - | L7: 2 | M7: - | N7: Nap.
A8: Bonucci | B8: D | C8: 33 | D8: 6.24 | E8: 6.09 | F8: 6.09 | G8: - | H8: - | I8: - | J8: - | K8: - | L8: 10 | M8: - | N8: Juv.
A9: Pereyra | B9: C | C9: 37 | D9: 6.16 | E9: 6.54 | F9: 6.57 | G9: 5 | H9: - | I9: - | J9: 1 | K9: - | L9: 2 | M9: - | N9: Udi.
A10: Gomez | B10: C | C10: 35 | D10: 6.21 | E10: 6.83 | F10: 7.03 | G10: 8 | H10: - | I10: - | J10: 7 | K10: - | L10: 5 | M10: - | N10: Cat.
A11: Pirlo | B11: C | C11: 32 | D11: 6.27 | E11: 6.52 | F11: 6.7 | G11: 5 | H11: - | I11: 1 | J11: 6 | K11: - | L11: 8 | M11: - | N11: Juv.
A12: Pasqual | B12: D | C12: 35 | D12: 6.21 | E12: 6.33 | F12: 6.5 | G12: 2 | H12: - | I12: - | J12: 6 | K12: - | L12: 4 | M12: - | N12: Fio.
A13: Vidal | B13: C | C13: 31 | D13: 6.24 | E13: 6.84 | F13: 7.03 | G13: 5 | H13: 5 | I13: 2 | J13: 6 | K13: - | L13: 11 | M13: - | N13: Juv.
A14: Cavani | B14: A | C14: 34 | D14: 6.41 | E14: 8.6 | F14: 8.63 | G14: 22 | H14: 7 | I14: 3 | J14: 1 | K14: - | L14: 7 | M14: - | N14: Nap.
A15: Vucinic | B15: A | C15: 31 | D15: 6.02 | E15: 6.9 | F15: 7.1 | G15: 8 | H15: 2 | I15: - | J15: 6 | K15: - | L15: 5 | M15: - | N15: Juv.
A16: Allan | B16: C | C16: 35 | D16: 6.1 | E16: 6.01 | F16: 6.1 | G16: - | H16: - | I16: - | J16: 3 | K16: - | L16: 6 | M16: - | N16: Udi.
A17: Cambiasso | B17: C | C17: 33 | D17: 5.92 | E17: 6.12 | F17: 6.27 | G17: 3 | H17: - | I17: - | J17: 5 | K17: - | L17: 3 | M17: 1 | N17: Int.
A18: Izco | B18: C | C18: 34 | D18: 6.22 | E18: 6.26 | F18: 6.35 | G18: 1 | H18: - | I18: - | J18: 3 | K18: - | L18: 3 | M18: - | N18: Cat.
A19: El Shaarawy | B19: A | C19: 37 | D19: 6.23 | E19: 7.49 | F19: 7.54 | G19: 16 | H19: - | I19: - | J19: 2 | K19: - | L19: 3 | M19: - | N19: Mil.
A20: Lodi | B20: C | C20: 33 | D20: 6.18 | E20: 6.68 | F20: 6.89 | G20: 5 | H20: 1 | I20: - | J20: 7 | K20: - | L20: 1 | M20: 1 | N20: Cat.
A21: Granqvist | B21: D | C21: 35 | D21: 6.03 | E21: 6.01 | F21: 6.04 | G21: 1 | H21: - | I21: - | J21: 1 | K21: - | L21: 7 | M21: - | N21: Gen.
A22: Castro | B22: C | C22: 32 | D22: 6.14 | E22: 6.44 | F22: 6.59 | G22: 4 | H22: - | I22: - | J22: 5 | K22: - | L22: 5 | M22: - | N22: Cat.
A23: Ledesma | B23: C | C23: 36 | D23: 6.18 | E23: 6.06 | F23: 6.08 | G23: - | H23: 1 | I23: 1 | J23: 1 | K23: - | L23: 7 | M23: 1 | N23: Laz.
A24: Montolivo | B24: C | C24: 32 | D24: 6.08 | E24: 6.36 | F24: 6.42 | G24: 4 | H24: - | I24: - | J24: 2 | K24: - | L24: 6 | M24: - | N24: Mil.
A25: Di Natale | B25: A | C25: 33 | D25: 6.29 | E25: 8.14 | F25: 8.26 | G25: 19 | H25: 4 | I25: 2 | J25: 4 | K25: - | L25: 4 | M25: - | N25: Udi.
A26: Danilo | B26: D | C26: 32 | D26: 5.98 | E26: 5.98 | F26: 6.02 | G26: 2 | H26: - | I26: - | J26: 1 | K26: - | L26: 8 | M26: 2 | N26: Udi.
A27: Parolo | B27: C | C27: 36 | D27: 5.92 | E27: 6.03 | F27: 6.08 | G27: 3 | H27: - | I27: - | J27: 2 | K27: - | L27: 10 | M27: - | N27: Par.
A28: Antonelli | B28: D | C28: 33 | D28: 5.88 | E28: 5.86 | F28: 5.95 | G28: 1 | H28: - | I28: - | J28: 3 | K28: - | L28: 7 | M28: - | N28: Gen.
A29: Thereau | B29: A | C29: 37 | D29: 6.07 | E29: 6.92 | F29: 7 | G29: 10 | H29: 1 | I29: - | J29: 3 | K29: - | L29: 3 | M29: - | N29: Chi.
A30: Florenzi | B30: C | C30: 33 | D30: 6.12 | E30: 6.35 | F30: 6.44 | G30: 3 | H30: - | I30: - | J30: 3 | K30: - | L30: 3 | M30: - | N30: Rom.
A31: Dainelli | B31: D | C31: 34 | D31: 5.91 | E31: 5.79 | F31: 5.79 | G31: - | H31: - | I31: - | J31: - | K31: - | L31: 6 | M31: 1 | N31: Chi.
A32: Cascione | B32: C | C32: 29 | D32: 5.67 | E32: 5.79 | F32: 5.79 | G32: 2 | H32: - | I32: - | J32: - | K32: - | L32: 5 | M32: - | N32: Pes.
A33: Ranocchia | B33: D | C33: 32 | D33: 6 | E33: 6.02 | F33: 6.05 | G33: 2 | H33: - | I33: - | J33: 1 | K33: - | L33: 11 | M33: - | N33: Int.
A34: Cerci | B34: C | C34: 35 | D34: 6.36 | E34: 6.97 | F34: 7.2 | G34: 7 | H34: 1 | I34: - | J34: 8 | K34: - | L34: 5 | M34: - | N34: Tor.
A35: Bergessio | B35: A | C35: 32 | D35: 6.2 | E35: 7.22 | F35: 7.41 | G35: 13 | H35: - | I35: 1 | J35: 6 | K35: - | L35: 7 | M35: - | N35: Cat.
A36: Candreva | B36: C | C36: 35 | D36: 6.24 | E36: 6.64 | F36: 6.79 | G36: 3 | H36: 3 | I36: - | J36: 5 | K36: - | L36: 6 | M36: 1 | N36: Laz.
A37: Rodriguez Go. | B37: D | C37: 35 | D37: 5.97 | E37: 6.29 | F37: 6.34 | G37: 4 | H37: 2 | I37: - | J37: 2 | K37: - | L37: 8 | M37: 1 | N37: Fio.
A38: Cuadrado | B38: C | C38: 35 | D38: 6.39 | E38: 6.66 | F38: 6.83 | G38: 5 | H38: - | I38: - | J38: 6 | K38: - | L38: 11 | M38: - | N38: Fio.
A39: Kucka | B39: C | C39: 33 | D39: 6.17 | E39: 6.32 | F39: 6.35 | G39: 3 | H39: - | I39: - | J39: 1 | K39: - | L39: 6 | M39: 1 | N39: Gen.
A40: Zanetti | B40: C | C40: 32 | D40: 5.91 | E40: 5.89 | F40: 5.92 | G40: - | H40: - | I40: - | J40: 1 | K40: - | L40: 1 | M40: - | N40: Int.
A41: Domizzi | B41: D | C41: 29 | D41: 6.05 | E41: 6.05 | F41: 6.16 | G41: 2 | H41: - | I41: - | J41: 3 | K41: - | L41: 12 | M41: - | N41: Udi.
A42: Jovetic | B42: A | C42: 31 | D42: 6.18 | E42: 7.29 | F42: 7.42 | G42: 12 | H42: 1 | I42: 1 | J42: 4 | K42: - | L42: 3 | M42: - | N42: Fio.
A43: Pizarro | B43: C | C43: 29 | D43: 6.47 | E43: 6.55 | F43: 6.59 | G43: - | H43: 3 | I43: - | J43: 1 | K43: - | L43: 13 | M43: - | N43: Fio.
A44: Boateng | B44: C | C44: 29 | D44: 5.53 | E44: 5.6 | F44: 5.71 | G44: 2 | H44: - | I44: - | J44: 3 | K44: - | L44: 4 | M44: 2 | N44: Mil.
A45: Bonaventura | B45: C | C45: 34 | D45: 6.18 | E45: 6.68 | F45: 6.71 | G45: 7 | H45: - | I45: - | J45: 1 | K45: - | L45: 8 | M45: - | N45: Ata.
A46: Abate | B46: D | C46: 27 | D46: 5.96 | E46: 5.93 | F46: 6 | G46: - | H46: - | I46: - | J46: 2 | K46: - | L46: 2 | M46: - | N46: Mil.
A47: Gazzi | B47: C | C47: 34 | D47: 6.01 | E47: 6.09 | F47: 6.09 | G47: 2 | H47: - | I47: - | J47: - | K47: - | L47: 7 | M47: - | N47: Tor.
A48: Savic | B48: D | C48: 26 | D48: 5.94 | E48: 6.08 | F48: 6.08 | G48: 2 | H48: - | I48: - | J48: - | K48: - | L48: 5 | M48: - | N48: Fio.
A49: Von Bergen | B49: D | C49: 35 | D49: 5.83 | E49: 5.8 | F49: 5.8 | G49: 1 | H49: - | I49: - | J49: - | K49: - | L49: 6 | M49: 1 | N49: Pal.
A50: Pazzini | B50: A | C50: 27 | D50: 6.17 | E50: 7.7 | F50: 7.74 | G50: 12 | H50: 3 | I50: - | J50: 1 | K50: - | L50: 7 | M50: - | N50: Mil.
A51: Moretti E. | B51: D | C51: 30 | D51: 5.93 | E51: 5.78 | F51: 5.78 | G51: - | H51: - | I51: - | J51: - | K51: - | L51: 7 | M51: 1 | N51: Gen.
A52: Garcia Santiago | B52: D | C52: 32 | D52: 5.67 | E52: 5.58 | F52: 5.58 | G52: 1 | H52: - | I52: - | J52: - | K52: - | L52: 8 | M52: - | N52: Pal.
A53: Rosina | B53: C | C53: 31 | D53: 5.94 | E53: 6.26 | F53: 6.29 | G53: 2 | H53: 3 | I53: 1 | J53: 1 | K53: - | L53: 4 | M53: - | N53: Sie.
A54: Insigne | B54: A | C54: 34 | D54: 6.01 | E54: 6.4 | F54: 6.51 | G54: 5 | H54: - | I54: - | J54: 4 | K54: - | L54: 4 | M54: - | N54: Nap.
A55: Barrientos | B55: C | C55: 31 | D55: 6.08 | E55: 6.45 | F55: 6.61 | G55: 5 | H55: - | I55: - | J55: 5 | K55: - | L55: 5 | M55: 1 | N55: Cat.
A56: Rigoni L. | B56: C | C56: 31 | D56: 6.02 | E56: 5.94 | F56: 6 | G56: 1 | H56: - | I56: - | J56: 2 | K56: - | L56: 11 | M56: - | N56: Chi.
A57: Nainggolan | B57: C | C57: 34 | D57: 6.15 | E57: 6.12 | F57: 6.15 | G57: 2 | H57: - | I57: - | J57: 1 | K57: - | L57: 14 | M57: - | N57: Cag.
A58: Vergassola | B58: C | C58: 30 | D58: 5.95 | E58: 6 | F58: 6.03 | G58: 2 | H58: - | I58: - | J58: 1 | K58: - | L58: 9 | M58: - | N58: Sie.
A59: Stendardo | B59: D | C59: 32 | D59: 5.95 | E59: 6 | F59: 6.03 | G59: 2 | H59: - | I59: - | J59: 1 | K59: - | L59: 9 | M59: - | N59: Ata.
A60: Moralez | B60: C | C60: 29 | D60: 5.74 | E60: 5.79 | F60: 5.83 | G60: 1 | H60: - | I60: - | J60: 1 | K60: - | L60: 3 | M60: - | N60: Ata.
A61: Astori | B61: D | C61: 32 | D61: 5.84 | E61: 5.64 | F61: 5.64 | G61: - | H61: - | I61: - | J61: - | K61: - | L61: 5 | M61: 2 | N61: Cag.
A62: Hetemaj | B62: C | C62: 30 | D62: 5.95 | E62: 5.77 | F62: 5.8 | G62: - | H62: - | I62: - | J62: 1 | K62: - | L62: 11 | M62: - | N62: Chi.
A63: Behrami | B63: C | C63: 33 | D63: 6.18 | E63: 5.98 | F63: 5.98 | G63: - | H63: - | I63: - | J63: - | K63: - | L63: 13 | M63: - | N63: Nap.
A64: Obiang | B64: C | C64: 34 | D64: 5.99 | E64: 5.99 | F64: 6.1 | G64: 1 | H64: - | I64: - | J64: 4 | K64: - | L64: 6 | M64: - | N64: Sam.
A65: Glik | B65: D | C65: 32 | D65: 5.83 | E65: 5.77 | F65: 5.77 | G65: 1 | H65: - | I65: - | J65: - | K65: - | L65: 6 | M65: 2 | N65: Tor.
A66: Ibarbo | B66: A | C66: 32 | D66: 6.19 | E66: 6.73 | F66: 6.77 | G66: 6 | H66: - | I66: - | J66: 1 | K66: - | L66: 1 | M66: - | N66: Cag.
A67: Lamela | B67: C | C67: 33 | D67: 6.02 | E67: 7.27 | F67: 7.39 | G67: 15 | H67: - | I67: - | J67: 4 | K67: - | L67: 7 | M67: - | N67: Rom.
A68: Manfredini | B68: D | C68: 29 | D68: 6.09 | E68: 5.93 | F68: 5.97 | G68: - | H68: - | I68: - | J68: 1 | K68: - | L68: 7 | M68: 1 | N68: Gen.
A69: Gastaldello | B69: D | C69: 33 | D69: 5.89 | E69: 5.74 | F69: 5.74 | G69: 1 | H69: - | I69: - | J69: - | K69: - | L69: 12 | M69: 2 | N69: Sam.
A70: Gilardino | B70: A | C70: 36 | D70: 5.9 | E70: 6.94 | F70: 6.94 | G70: 13 | H70: - | I70: - | J70: - | K70: - | L70: 3 | M70: - | N70: Bol.
A71: Marchese | B71: D | C71: 30 | D71: 6.1 | E71: 6.18 | F71: 6.25 | G71: 2 | H71: - | I71: - | J71: 2 | K71: - | L71: 5 | M71: 1 | N71: Cat.
A72: Hernanes | B72: C | C72: 34 | D72: 6.03 | E72: 6.82 | F72: 6.85 | G72: 9 | H72: 2 | I72: 1 | J72: 1 | K72: - | L72: 4 | M72: 1 | N72: Laz.
A73: Angelo | B73: C | C73: 28 | D73: 5.64 | E73: 5.68 | F73: 5.79 | G73: 1 | H73: - | I73: - | J73: 3 | K73: - | L73: 4 | M73: - | N73: Sie.
A74: Andreolli | B74: D | C74: 28 | D74: 5.89 | E74: 6 | F74: 6 | G74: 2 | H74: - | I74: - | J74: - | K74: - | L74: 4 | M74: 1 | N74: Chi.
A75: Basta | B75: D | C75: 28 | D75: 6.25 | E75: 6.32 | F75: 6.43 | G75: 1 | H75: - | I75: - | J75: 3 | K75: - | L75: 2 | M75: - | N75: Udi.
A76: Estigarribia | B76: C | C76: 32 | D76: 5.59 | E76: 5.75 | F76: 5.84 | G76: 2 | H76: - | I76: - | J76: 3 | K76: - | L76: 2 | M76: - | N76: Sam.
A77: Cofie | B77: C | C77: 25 | D77: 5.84 | E77: 5.98 | F77: 5.98 | G77: 2 | H77: - | I77: - | J77: - | K77: - | L77: 5 | M77: - | N77: Chi.
A78: Paletta | B78: D | C78: 35 | D78: 6.03 | E78: 5.94 | F78: 5.97 | G78: 1 | H78: - | I78: - | J78: 1 | K78: - | L78: 8 | M78: - | N78: Par.
A79: Ljajic | B79: C | C79: 26 | D79: 6.29 | E79: 7.52 | F79: 7.63 | G79: 10 | H79: 1 | I79: - | J79: 3 | K79: - | L79: 2 | M79: - | N79: Fio.
A80: De Sciglio | B80: D | C80: 25 | D80: 6.12 | E80: 6.08 | F80: 6.12 | G80: - | H80: - | I80: - | J80: 1 | K80: - | L80: 2 | M80: - | N80: Mil.
A81: Ekdal | B81: C | C81: 30 | D81: 6.03 | E81: 6 | F81: 6.03 | G81: 1 | H81: - | I81: - | J81: 1 | K81: - | L81: 8 | M81: - | N81: Cag.
A82: Lazzari | B82: C | C82: 23 | D82: 5.93 | E82: 5.91 | F82: 6.04 | G82: 1 | H82: - | I82: - | J82: 3 | K82: - | L82: 5 | M82: 1 | N82: Udi.
A83: Diamanti | B83: C | C83: 34 | D83: 6.31 | E83: 6.69 | F83: 6.9 | G83: 4 | H83: 3 | I83: 1 | J83: 7 | K83: - | L83: 10 | M83: - | N83: Bol.
A84: Bianchi | B84: A | C84: 32 | D84: 5.91 | E84: 6.75 | F84: 6.78 | G84: 8 | H84: 3 | I84: 1 | J84: 1 | K84: - | L84: 6 | M84: - | N84: Tor.
A85: Biabiany | B85: C | C85: 33 | D85: 6.09 | E85: 6.18 | F85: 6.27 | G85: 2 | H85: - | I85: - | J85: 3 | K85: - | L85: 6 | M85: - | N85: Par.
A86: Del Grosso | B86: D | C86: 28 | D86: 5.73 | E86: 5.77 | F86: 5.77 | G86: 1 | H86: - | I86: - | J86: - | K86: - | L86: 4 | M86: - | N86: Ata.
A87: Dessena | B87: C | C87: 30 | D87: 5.85 | E87: 5.93 | F87: 5.93 | G87: 3 | H87: - | I87: - | J87: - | K87: - | L87: 13 | M87: - | N87: Cag.
A88: Cannavaro | B88: D | C88: 32 | D88: 6.2 | E88: 6.05 | F88: 6.08 | G88: 1 | H88: - | I88: - | J88: 1 | K88: - | L88: 8 | M88: - | N88: Nap.
A89: Taider | B89: C | C89: 34 | D89: 5.75 | E89: 5.93 | F89: 5.96 | G89: 3 | H89: - | I89: - | J89: 1 | K89: - | L89: 4 | M89: 1 | N89: Bol.
A90: Munoz | B90: D | C90: 31 | D90: 5.73 | E90: 5.58 | F90: 5.61 | G90: - | H90: - | I90: - | J90: 1 | K90: - | L90: 9 | M90: - | N90: Pal.
A91: Gobbi | B91: C | C91: 33 | D91: 5.92 | E91: 5.95 | F91: 5.98 | G91: 1 | H91: - | I91: - | J91: 1 | K91: - | L91: 4 | M91: - | N91: Par.
A92: Cigarini | B92: C | C92: 27 | D92: 6.06 | E92: 6.09 | F92: 6.24 | G92: 2 | H92: - | I92: - | J92: 4 | K92: - | L92: 8 | M92: 1 | N92: Ata.
A93: Castan | B93: D | C93: 30 | D93: 5.82 | E93: 5.82 | F93: 5.82 | G93: 1 | H93: - | I93: - | J93: - | K93: - | L93: 6 | M93: - | N93: Rom.
A94: Badu | B94: C | C94: 23 | D94: 5.91 | E94: 5.87 | F94: 5.87 | G94: - | H94: - | I94: - | J94: - | K94: - | L94: 2 | M94: - | N94: Udi.
A95: Sestu | B95: C | C95: 27 | D95: 6.09 | E95: 6.15 | F95: 6.3 | G95: 1 | H95: - | I95: - | J95: 4 | K95: - | L95: 3 | M95: - | N95: Sie.
A96: Toni | B96: A | C96: 26 | D96: 5.94 | E96: 6.81 | F96: 6.85 | G96: 8 | H96: - | I96: - | J96: 1 | K96: - | L96: 3 | M96: - | N96: Fio.
A97: Darmian | B97: D | C97: 30 | D97: 5.8 | E97: 5.62 | F97: 5.65 | G97: - | H97: - | I97: - | J97: 1 | K97: - | L97: 9 | M97: 1 | N97: Tor.
A98: Morleo | B98: D | C98: 31 | D98: 5.84 | E98: 5.66 | F98: 5.73 | G98: - | H98: - | I98: - | J98: 2 | K98: - | L98: 9 | M98: 1 | N98: Bol.
A99: Poli | B99: C | C99: 31 | D99: 6.1 | E99: 6.31 | F99: 6.31 | G99: 3 | H99: - | I99: - | J99: - | K99: - | L99: 5 | M99: - | N99: Sam.
A100: Ilicic | B100: C | C100: 31 | D100: 5.94 | E100: 6.79 | F100: 6.85 | G100: 10 | H100: - | I100: - | J100: 2 | K100: - | L100: 7 | M100: - | N100: Pal.
...

Sheet P corr
A1: Calciatore | B1: Ruolo | C1: P | D1: M | E1: F | F1: Gs | G1: Rp | H1: A | I1: E | J1: Squadra
A2: Donnarumma | B2: P | C2: 1 | D2: 7 | E2: 7 | F2: - | G2: - | H2: - | I2: - | J2: Genoa
A3: Pelizzoli | B3: P | C3: 11 | D3: 6.64 | E3: 5.27 | F3: 18 | G3: 1 | H3: - | I3: - | J3: Pescara
A4: Frison | B4: P | C4: 4 | D4: 6.63 | E4: 4.75 | F4: 7 | G4: - | H4: 1 | I4: - | J4: Catania
A5: Pavarini | B5: P | C5: 6 | D5: 6.42 | E5: 5.5 | F5: 5 | G5: - | H5: 1 | I5: - | J5: Parma
A6: Handanovic | B6: P | C6: 35 | D6: 6.39 | E6: 4.79 | F6: 53 | G6: - | H6: 6 | I6: - | J6: Inter
A7: Berni | B7: P | C7: 3 | D7: 6.33 | E7: 4.67 | F7: 5 | G7: - | H7: - | I7: - | J7: Sampdoria
A8: Pegolo | B8: P | C8: 38 | D8: 6.26 | E8: 4.91 | F8: 56 | G8: 2 | H8: 3 | I8: - | J8: Siena
A9: Curci | B9: P | C9: 14 | D9: 6.25 | E9: 5.61 | F9: 12 | G9: 1 | H9: - | I9: - | J9: Bologna
A10: Marchetti | B10: P | C10: 33 | D10: 6.23 | E10: 5.23 | F10: 32 | G10: - | H10: 2 | I10: - | J10: Lazio
A11: Mirante | B11: P | C11: 33 | D11: 6.23 | E11: 5.21 | F11: 40 | G11: 3 | H11: 5 | I11: - | J11: Parma
A12: Lobont | B12: P | C12: 5 | D12: 6.2 | E12: 5.8 | F12: 2 | G12: - | H12: - | I12: - | J12: Roma
A13: Consigli | B13: P | C13: 35 | D13: 6.2 | E13: 4.91 | F13: 49 | G13: 2 | H13: 4 | I13: - | J13: Atalanta
A14: Agazzi | B14: P | C14: 34 | D14: 6.19 | E14: 4.9 | F14: 45 | G14: 1 | H14: 2 | I14: 1 | J14: Cagliari
A15: Viviano | B15: P | C15: 32 | D15: 6.17 | E15: 5.19 | F15: 34 | G15: 1 | H15: 1 | I15: - | J15: Fiorentina
A16: Sorrentino | B16: P | C16: 35 | D16: 6.16 | E16: 4.83 | F16: 49 | G16: 1 | H16: 1 | I16: - | J16: Palermo
A17: Gillet | B17: P | C17: 37 | D17: 6.15 | E17: 4.77 | F17: 53 | G17: 1 | H17: 2 | I17: - | J17: Torino
A18: Buffon | B18: P | C18: 32 | D18: 6.13 | E18: 5.53 | F18: 19 | G18: - | H18: - | I18: - | J18: Juventus
A19: Frey S. | B19: P | C19: 36 | D19: 6.13 | E19: 4.85 | F19: 49 | G19: 1 | H19: - | I19: - | J19: Genoa
A20: Rosati | B20: P | C20: 4 | D20: 6.13 | E20: 4.13 | F20: 8 | G20: - | H20: - | I20: - | J20: Napoli
A21: Puggioni | B21: P | C21: 17 | D21: 6.12 | E21: 5.15 | F21: 17 | G21: 1 | H21: 1 | I21: - | J21: Chievo
A22: Andujar | B22: P | C22: 34 | D22: 6.12 | E22: 4.94 | F22: 39 | G22: - | H22: - | I22: 1 | J22: Catania
A23: Romero | B23: P | C23: 32 | D23: 6.09 | E23: 4.91 | F23: 39 | G23: 1 | H23: 2 | I23: 1 | J23: Sampdoria
A24: Abbiati | B24: P | C24: 28 | D24: 6.07 | E24: 5.25 | F24: 22 | G24: - | H24: 2 | I24: - | J24: Milan
A25: De Sanctis | B25: P | C25: 34 | D25: 6.07 | E25: 5.19 | F25: 28 | G25: - | H25: 4 | I25: - | J25: Napoli
A26: Padelli | B26: P | C26: 9 | D26: 6.06 | E26: 4.61 | F26: 13 | G26: - | H26: - | I26: - | J26: Udinese
A27: Perin | B27: P | C27: 29 | D27: 6.03 | E27: 3.83 | F27: 66 | G27: 1 | H27: - | I27: 1 | J27: Pescara
A28: Stojanovic | B28: P | C28: 4 | D28: 6 | E28: 3.75 | F28: 9 | G28: - | H28: - | I28: - | J28: Bologna
A29: Carrizo | B29: P | C29: 1 | D29: 6 | E29: 5 | F29: 1 | G29: - | H29: - | I29: - | J29: Inter
A30: Brkic | B30: P | C30: 31 | D30: 6 | E30: 5.05 | F30: 32 | G30: 2 | H30: 1 | I30: 1 | J30: Udinese
A31: Bajza | B31: P | C31: 1 | D31: 6 | E31: 5 | F31: 1 | G31: - | H31: - | I31: - | J31: Parma
A32: Coppola | B32: P | C32: 1 | D32: 6 | E32: 4 | F32: 2 | G32: - | H32: - | I32: - | J32: Torino
A33: Agliardi | B33: P | C33: 22 | D33: 5.98 | E33: 4.52 | F33: 31 | G33: - | H33: 2 | I33: - | J33: Bologna
A34: Stekelenburg | B34: P | C34: 19 | D34: 5.97 | E34: 4.37 | F34: 30 | G34: - | H34: 1 | I34: - | J34: Roma
A35: Storari | B35: P | C35: 6 | D35: 5.92 | E35: 5.08 | F35: 5 | G35: - | H35: - | I35: - | J35: Juventus
A36: Avramov | B36: P | C36: 4 | D36: 5.88 | E36: 4.38 | F36: 6 | G36: - | H36: - | I36: - | J36: Cagliari
A37: Da Costa | B37: P | C37: 4 | D37: 5.88 | E37: 4.13 | F37: 7 | G37: - | H37: - | I37: - | J37: Sampdoria
A38: Polito | B38: P | C38: 4 | D38: 5.88 | E38: 4.13 | F38: 7 | G38: - | H38: - | I38: - | J38: Atalanta
A39: Ujkani | B39: P | C39: 19 | D39: 5.84 | E39: 4.21 | F39: 30 | G39: - | H39: - | I39: 1 | J39: Chievo
A40: Benussi | B40: P | C40: 5 | D40: 5.8 | E40: 4.2 | F40: 8 | G40: - | H40: - | I40: - | J40: Palermo
A41: Bizzarri | B41: P | C41: 5 | D41: 5.8 | E41: 4.4 | F41: 10 | G41: 1 | H41: - | I41: - | J41: Lazio
A42: Castellazzi | B42: P | C42: 2 | D42: 5.75 | E42: 4.25 | F42: 3 | G42: - | H42: - | I42: - | J42: Inter
A43: Neto | B43: P | C43: 6 | D43: 5.75 | E43: 4.17 | F43: 9 | G43: - | H43: 1 | I43: - | J43: Fiorentina
A44: Goicoechea | B44: P | C44: 15 | D44: 5.7 | E44: 3.93 | F44: 24 | G44: - | H44: 1 | I44: - | J44: Roma
A45: Amelia | B45: P | C45: 11 | D45: 5.68 | E45: 4.09 | F45: 17 | G45: - | H45: 1 | I45: - | J45: Milan
A46: Squizzi | B46: P | C46: 1 | D46: 5.5 | E46: 3.5 | F46: 2 | G46: - | H46: - | I46: - | J46: Chievo
A47: Tzorvas | B47: P | C47: 1 | D47: 4.5 | E47: 1.5 | F47: 3 | G47: - | H47: - | I47: - | J47: Genoa

Sheet DCA corr
A1: Calciatore | B1: Ruolo | C1: P | D1: M | E1: F | F1: F+ | G1: G | H1: R+ | I1: R- | J1: As | K1: A | L1: E | M1: Sq
A2: Romagnoli A. | B2: D | C2: 1 | D2: 7.5 | E2: 10.5 | F2: 10.5 | G2: 1 | H2: - | I2: - | J2: - | K2: - | L2: - | M2: Roma
A3: Nastasic | B3: D | C3: 1 | D3: 6.5 | E3: 6.5 | F3: 6.5 | G3: - | H3: - | I3: - | J3: - | K3: - | L3: - | M3: Fiorentina
A4: Lucio | B4: D | C4: 1 | D4: 6.5 | E4: 6.5 | F4: 6.5 | G4: - | H4: - | I4: - | J4: - | K4: - | L4: - | M4: Juventus
A5: Capelli | B5: D | C5: 1 | D5: 6.5 | E5: 6.5 | F5: 6.5 | G5: - | H5: - | I5: - | J5: - | K5: - | L5: - | M5: Atalanta
A6: Compper | B6: D | C6: 7 | D6: 6.5 | E6: 6.43 | F6: 6.43 | G6: - | H6: - | I6: - | J6: - | K6: 1 | L6: - | M6: Fiorentina
A7: Grillo | B7: D | C7: 1 | D7: 6.5 | E7: 9.5 | F7: 9.5 | G7: 1 | H7: - | I7: - | J7: - | K7: - | L7: - | M7: Siena
A8: Chiellini | B8: D | C8: 23 | D8: 6.39 | E8: 6.41 | F8: 6.5 | G8: 1 | H8: - | I8: - | J8: 2 | K8: 5 | L8: - | M8: Juventus
A9: Benatia | B9: D | C9: 19 | D9: 6.29 | E9: 6.45 | F9: 6.5 | G9: 2 | H9: - | I9: - | J9: 1 | K9: 6 | L9: - | M9: Udinese
A10: Campagnaro | B10: D | C10: 28 | D10: 6.27 | E10: 6.23 | F10: 6.23 | G10: 1 | H10: - | I10: - | J10: - | K10: 8 | L10: - | M10: Napoli
A11: Barzagli | B11: D | C11: 33 | D11: 6.26 | E11: 6.18 | F11: 6.21 | G11: - | H11: - | I11: - | J11: 1 | K11: 5 | L11: - | M11: Juventus
A12: Pasqual | B12: D | C12: 35 | D12: 6.26 | E12: 6.37 | F12: 6.46 | G12: 2 | H12: - | I12: - | J12: 3 | K12: 4 | L12: - | M12: Fiorentina
A13: Cannavaro | B13: D | C13: 32 | D13: 6.23 | E13: 6.09 | F13: 6.13 | G13: 1 | H13: - | I13: - | J13: 1 | K13: 7 | L13: - | M13: Napoli
A14: Savic | B14: D | C14: 26 | D14: 6.23 | E14: 6.37 | F14: 6.37 | G14: 2 | H14: - | I14: - | J14: - | K14: 5 | L14: - | M14: Fiorentina
A15: Biava | B15: D | C15: 30 | D15: 6.22 | E15: 6.17 | F15: 6.2 | G15: 1 | H15: - | I15: - | J15: 1 | K15: 5 | L15: 2 | M15: Lazio
A16: Basta | B16: D | C16: 28 | D16: 6.21 | E16: 6.3 | F16: 6.52 | G16: 1 | H16: - | I16: - | J16: 6 | K16: 1 | L16: - | M16: Udinese
A17: Manfredini | B17: D | C17: 29 | D17: 6.19 | E17: 6.05 | F17: 6.09 | G17: - | H17: - | I17: - | J17: 1 | K17: 6 | L17: 1 | M17: Genoa
A18: Rodriguez Go. | B18: D | C18: 35 | D18: 6.17 | E18: 6.47 | F18: 6.53 | G18: 4 | H18: 2 | I18: - | J18: 2 | K18: 9 | L18: 1 | M18: Fiorentina
A19: Farkas | B19: D | C19: 3 | D19: 6.17 | E19: 6.17 | F19: 6.17 | G19: - | H19: - | I19: - | J19: - | K19: - | L19: - | M19: Chievo
A20: Torosidis | B20: D | C20: 9 | D20: 6.17 | E20: 6.33 | F20: 6.33 | G20: 1 | H20: - | I20: - | J20: - | K20: 3 | L20: - | M20: Roma
A21: Bonucci | B21: D | C21: 33 | D21: 6.15 | E21: 6.02 | F21: 6.02 | G21: - | H21: - | I21: - | J21: - | K21: 9 | L21: - | M21: Juventus
A22: Radu | B22: D | C22: 23 | D22: 6.15 | E22: 6.2 | F22: 6.2 | G22: 1 | H22: - | I22: - | J22: - | K22: 4 | L22: - | M22: Lazio
A23: Marchese | B23: D | C23: 30 | D23: 6.15 | E23: 6.23 | F23: 6.3 | G23: 2 | H23: - | I23: - | J23: 2 | K23: 5 | L23: 1 | M23: Catania
A24: Roncaglia | B24: D | C24: 24 | D24: 6.13 | E24: 6.31 | F24: 6.31 | G24: 3 | H24: - | I24: - | J24: - | K24: 9 | L24: - | M24: Fiorentina
A25: Naldo | B25: D | C25: 4 | D25: 6.13 | E25: 5.88 | F25: 5.88 | G25: - | H25: - | I25: - | J25: - | K25: 2 | L25: - | M25: Bologna
A26: Lichtsteiner | B26: D | C26: 26 | D26: 6.08 | E26: 6.42 | F26: 6.46 | G26: 4 | H26: - | I26: - | J26: 1 | K26: 6 | L26: - | M26: Juventus
A27: Rodriguez Gu. | B27: D | C27: 21 | D27: 6.07 | E27: 5.98 | F27: 5.98 | G27: - | H27: - | I27: - | J27: - | K27: 4 | L27: - | M27: Torino
A28: Spolli | B28: D | C28: 29 | D28: 6.07 | E28: 6.12 | F28: 6.12 | G28: 2 | H28: - | I28: - | J28: - | K28: 9 | L28: - | M28: Catania
A29: Stendardo | B29: D | C29: 30 | D29: 6.07 | E29: 6.12 | F29: 6.15 | G29: 2 | H29: - | I29: - | J29: 1 | K29: 9 | L29: - | M29: Atalanta
A30: Astori | B30: D | C30: 32 | D30: 6.06 | E30: 5.8 | F30: 5.8 | G30: - | H30: - | I30: - | J30: - | K30: 5 | L30: 2 | M30: Cagliari
A31: Domizzi | B31: D | C31: 28 | D31: 6.04 | E31: 6.07 | F31: 6.14 | G31: 2 | H31: - | I31: - | J31: 2 | K31: 10 | L31: - | M31: Udinese
A32: D'ambrosio | B32: D | C32: 24 | D32: 6.04 | E32: 6.21 | F32: 6.29 | G32: 2 | H32: - | I32: - | J32: 2 | K32: 4 | L32: - | M32: Torino
A33: Rossettini | B33: D | C33: 28 | D33: 6.04 | E33: 5.95 | F33: 5.95 | G33: - | H33: - | I33: - | J33: - | K33: 1 | L33: 2 | M33: Cagliari
A34: Paletta | B34: D | C34: 35 | D34: 6.04 | E34: 5.96 | F34: 5.99 | G34: 1 | H34: - | I34: - | J34: 1 | K34: 8 | L34: - | M34: Parma
A35: Gabriel Silva | B35: D | C35: 13 | D35: 6.04 | E35: 6.23 | F35: 6.31 | G35: 1 | H35: - | I35: - | J35: 1 | K35: 1 | L35: - | M35: Udinese
A36: Ranocchia | B36: D | C36: 32 | D36: 6.03 | E36: 6 | F36: 6.03 | G36: 2 | H36: - | I36: - | J36: 1 | K36: 10 | L36: - | M36: Inter
A37: Pisano F. | B37: D | C37: 28 | D37: 6.02 | E37: 5.96 | F37: 5.96 | G37: 1 | H37: - | I37: - | J37: - | K37: 7 | L37: 1 | M37: Cagliari
A38: Konko | B38: D | C38: 24 | D38: 6.02 | E38: 6.06 | F38: 6.15 | G38: 1 | H38: - | I38: - | J38: 2 | K38: 4 | L38: - | M38: Lazio
A39: Danilo | B39: D | C39: 32 | D39: 6.02 | E39: 6.02 | F39: 6.05 | G39: 2 | H39: - | I39: - | J39: 1 | K39: 8 | L39: 2 | M39: Udinese
A40: Fernandez F. | B40: D | C40: 1 | D40: 6 | E40: 6 | F40: 6 | G40: - | H40: - | I40: - | J40: - | K40: - | L40: - | M40: Napoli
A41: De Sciglio | B41: D | C41: 25 | D41: 6 | E41: 5.98 | F41: 6.02 | G41: - | H41: - | I41: - | J41: 1 | K41: 1 | L41: - | M41: Milan
A42: Dellafiore | B42: D | C42: 2 | D42: 6 | E42: 5.75 | F42: 5.75 | G42: - | H42: - | I42: - | J42: - | K42: 1 | L42: - | M42: Siena
A43: Augustyn | B43: D | C43: 1 | D43: 6 | E43: 5.5 | F43: 5.5 | G43: - | H43: - | I43: - | J43: - | K43: 1 | L43: - | M43: Catania
A44: Abate | B44: D | C44: 27 | D44: 6 | E44: 5.96 | F44: 6.07 | G44: - | H44: - | I44: - | J44: 3 | K44: 2 | L44: - | M44: Milan
A45: Caceres P. | B45: D | C45: 2 | D45: 6 | E45: 6 | F45: 6 | G45: - | H45: - | I45: - | J45: - | K45: - | L45: - | M45: Torino
A46: Grava | B46: D | C46: 2 | D46: 6 | E46: 5.75 | F46: 5.75 | G46: - | H46: - | I46: - | J46: - | K46: 1 | L46: - | M46: Napoli
A47: Legrottaglie | B47: D | C47: 26 | D47: 6 | E47: 6.06 | F47: 6.06 | G47: 3 | H47: - | I47: - | J47: - | K47: 9 | L47: 1 | M47: Catania
A48: Mesto | B48: D | C48: 12 | D48: 6 | E48: 6.21 | F48: 6.29 | G48: 1 | H48: - | I48: - | J48: 1 | K48: 1 | L48: - | M48: Napoli
A49: Potenza | B49: D | C49: 1 | D49: 6 | E49: 6 | F49: 6 | G49: - | H49: - | I49: - | J49: - | K49: - | L49: - | M49: Catania
A50: Pasquale | B50: D | C50: 17 | D50: 6 | E50: 6.15 | F50: 6.21 | G50: 1 | H50: - | I50: - | J50: 1 | K50: 1 | L50: - | M50: Udinese
A51: Ogbonna | B51: D | C51: 22 | D51: 6 | E51: 5.91 | F51: 5.91 | G51: - | H51: - | I51: - | J51: - | K51: 2 | L51: 1 | M51: Torino
A52: Samuel | B52: D | C52: 15 | D52: 6 | E52: 6 | F52: 6 | G52: 1 | H52: - | I52: - | J52: - | K52: 6 | L52: - | M52: Inter
A53: Vitiello | B53: D | C53: 2 | D53: 6 | E53: 5.75 | F53: 5.75 | G53: - | H53: - | I53: - | J53: - | K53: 1 | L53: - | M53: Siena
A54: Zaccardo | B54: D | C54: 15 | D54: 6 | E54: 6.1 | F54: 6.17 | G54: 1 | H54: - | I54: - | J54: 1 | K54: 3 | L54: - | M54: Milan
A55: Spyropoulos | B55: D | C55: 1 | D55: 6 | E55: 6 | F55: 6 | G55: - | H55: - | I55: - | J55: - | K55: - | L55: - | M55: Chievo
A56: Angella | B56: D | C56: 13 | D56: 6 | E56: 6.77 | F56: 6.77 | G56: 4 | H56: - | I56: - | J56: - | K56: 4 | L56: - | M56: Udinese
A57: Kroldrup | B57: D | C57: 5 | D57: 6 | E57: 6 | F57: 6 | G57: - | H57: - | I57: - | J57: - | K57: - | L57: - | M57: Pescara
A58: Vittiglio | B58: D | C58: 1 | D58: 6 | E58: 9 | F58: 9 | G58: 1 | H58: - | I58: - | J58: - | K58: - | L58: - | M58: Pescara
A59: Gastaldello | B59: D | C59: 33 | D59: 5.98 | E59: 5.83 | F59: 5.86 | G59: 1 | H59: - | I59: - | J59: 1 | K59: 12 | L59: 2 | M59: Sampdoria
A60: Andreolli | B60: D | C60: 28 | D60: 5.98 | E60: 6.09 | F60: 6.09 | G60: 2 | H60: - | I60: - | J60: - | K60: 4 | L60: 1 | M60: Chievo
A61: Antonelli | B61: D | C61: 33 | D61: 5.97 | E61: 5.98 | F61: 6.08 | G61: 1 | H61: - | I61: - | J61: 3 | K61: 5 | L61: - | M61: Genoa
A62: Munoz | B62: D | C62: 30 | D62: 5.97 | E62: 5.82 | F62: 5.85 | G62: - | H62: - | I62: - | J62: 1 | K62: 9 | L62: - | M62: Palermo
A63: Neto L. | B63: D | C63: 20 | D63: 5.97 | E63: 5.92 | F63: 5.92 | G63: 1 | H63: - | I63: - | J63: - | K63: 6 | L63: 1 | M63: Siena
A64: Portanova | B64: D | C64: 20 | D64: 5.97 | E64: 6.2 | F64: 6.2 | G64: 2 | H64: - | I64: - | J64: - | K64: 3 | L64: - | M64: Genoa
A65: Romulo | B65: D | C65: 14 | D65: 5.96 | E65: 6.39 | F65: 6.46 | G65: 2 | H65: - | I65: - | J65: 1 | K65: - | L65: - | M65: Fiorentina
A66: De Silvestri | B66: D | C66: 23 | D66: 5.96 | E66: 6.11 | F66: 6.11 | G66: 2 | H66: - | I66: - | J66: - | K66: 5 | L66: - | M66: Sampdoria
A67: Tomovic | B67: D | C67: 24 | D67: 5.96 | E67: 5.83 | F67: 5.83 | G67: - | H67: - | I67: - | J67: - | K67: 4 | L67: 1 | M67: Fiorentina
A68: Marquinhos | B68: D | C68: 24 | D68: 5.96 | E68: 5.92 | F68: 5.92 | G68: - | H68: - | I68: - | J68: - | K68: - | L68: 1 | M68: Roma
A69: Cassani | B69: D | C69: 10 | D69: 5.95 | E69: 5.7 | F69: 5.7 | G69: - | H69: - | I69: - | J69: - | K69: 1 | L69: - | M69: Genoa
A70: Faraoni | B70: D | C70: 8 | D70: 5.94 | E70: 5.94 | F70: 6.06 | G70: - | H70: - | I70: - | J70: 1 | K70: - | L70: - | M70: Udinese
A71: Santacroce | B71: D | C71: 7 | D71: 5.93 | E71: 5.79 | F71: 5.79 | G71: - | H71: - | I71: - | J71: - | K71: 2 | L71: - | M71: Parma
A72: Yepes | B72: D | C72: 14 | D72: 5.93 | E72: 5.68 | F72: 5.68 | G72: - | H72: - | I72: - | J72: - | K72: 7 | L72: - | M72: Milan
A73: Sorensen | B73: D | C73: 22 | D73: 5.93 | E73: 5.93 | F73: 5.98 | G73: 1 | H73: - | I73: - | J73: 1 | K73: 6 | L73: - | M73: Bologna
A74: Mantovani | B74: D | C74: 6 | D74: 5.92 | E74: 5.75 | F74: 5.75 | G74: - | H74: - | I74: - | J74: - | K74: 2 | L74: - | M74: Palermo
A75: Darmian | B75: D | C75: 30 | D75: 5.92 | E75: 5.73 | F75: 5.77 | G75: - | H75: - | I75: - | J75: 1 | K75: 9 | L75: 1 | M75: Torino
A76: Cherubin | B76: D | C76: 28 | D76: 5.91 | E76: 5.95 | F76: 5.98 | G76: 1 | H76: - | I76: - | J76: 1 | K76: 4 | L76: - | M76: Bologna
A77: Bellini | B77: D | C77: 11 | D77: 5.91 | E77: 5.91 | F77: 5.91 | G77: - | H77: - | I77: - | J77: - | K77: - | L77: - | M77: Atalanta
A78: Granqvist | B78: D | C78: 35 | D78: 5.91 | E78: 5.9 | F78: 5.93 | G78: 1 | H78: - | I78: - | J78: 1 | K78: 7 | L78: - | M78: Genoa
A79: Peluso | B79: D | C79: 22 | D79: 5.91 | E79: 5.7 | F79: 5.75 | G79: 1 | H79: - | I79: - | J79: 1 | K79: 11 | L79: 2 | M79: Juventus
A80: Bellusci | B80: D | C80: 25 | D80: 5.9 | E80: 5.66 | F80: 5.66 | G80: - | H80: - | I80: - | J80: - | K80: 12 | L80: - | M80: Catania
A81: Dainelli | B81: D | C81: 34 | D81: 5.9 | E81: 5.78 | F81: 5.78 | G81: - | H81: - | I81: - | J81: - | K81: 6 | L81: 1 | M81: Chievo
A82: Von Bergen | B82: D | C82: 35 | D82: 5.9 | E82: 5.87 | F82: 5.87 | G82: 1 | H82: - | I82: - | J82: - | K82: 6 | L82: 1 | M82: Palermo
A83: Britos | B83: D | C83: 22 | D83: 5.89 | E83: 5.77 | F83: 5.77 | G83: - | H83: - | I83: - | J83: - | K83: 5 | L83: - | M83: Napoli
A84: Jokic | B84: D | C84: 18 | D84: 5.89 | E84: 5.78 | F84: 5.83 | G84: - | H84: - | I84: - | J84: 1 | K84: 4 | L84: - | M84: Chievo
A85: Glik | B85: D | C85: 32 | D85: 5.88 | E85: 5.81 | F85: 5.81 | G85: 1 | H85: - | I85: - | J85: - | K85: 6 | L85: 2 | M85: Torino
A86: Moretti E. | B86: D | C86: 30 | D86: 5.88 | E86: 5.72 | F86: 5.72 | G86: - | H86: - | I86: - | J86: - | K86: 8 | L86: 1 | M86: Genoa
A87: Piris | B87: D | C87: 29 | D87: 5.88 | E87: 5.79 | F87: 5.86 | G87: - | H87: - | I87: - | J87: 2 | K87: 5 | L87: - | M87: Roma
A88: Avelar | B88: D | C88: 20 | D88: 5.88 | E88: 5.78 | F88: 5.78 | G88: - | H88: - | I88: - | J88: - | K88: 4 | L88: - | M88: Cagliari
A89: Lucchini | B89: D | C89: 19 | D89: 5.87 | E89: 5.68 | F89: 5.74 | G89: - | H89: - | I89: - | J89: 1 | K89: 5 | L89: 1 | M89: Atalanta
A90: Cesar | B90: D | C90: 21 | D90: 5.86 | E90: 5.62 | F90: 5.62 | G90: - | H90: - | I90: - | J90: - | K90: 10 | L90: - | M90: Chievo
A91: Castan | B91: D | C91: 30 | D91: 5.85 | E91: 5.85 | F91: 5.85 | G91: 1 | H91: - | I91: - | J91: - | K91: 6 | L91: - | M91: Roma
A92: Dias | B92: D | C92: 26 | D92: 5.85 | E92: 5.73 | F92: 5.73 | G92: - | H92: - | I92: - | J92: - | K92: 6 | L92: - | M92: Lazio
A93: Rosi | B93: D | C93: 24 | D93: 5.85 | E93: 6.08 | F93: 6.08 | G93: 3 | H93: - | I93: - | J93: - | K93: 5 | L93: 1 | M93: Parma
A94: Morleo | B94: D | C94: 31 | D94: 5.84 | E94: 5.66 | F94: 5.76 | G94: - | H94: - | I94: - | J94: 3 | K94: 9 | L94: 1 | M94: Bologna
A95: Caceres M. | B95: D | C95: 16 | D95: 5.84 | E95: 6 | F95: 6 | G95: 1 | H95: - | I95: - | J95: - | K95: 1 | L95: - | M95: Juventus
A96: Castellini | B96: D | C96: 6 | D96: 5.83 | E96: 5.83 | F96: 5.83 | G96: - | H96: - | I96: - | J96: - | K96: - | L96: - | M96: Sampdoria
A97: Morganella | B97: D | C97: 29 | D97: 5.83 | E97: 5.71 | F97: 5.78 | G97: - | H97: - | I97: - | J97: 2 | K97: 5 | L97: 1 | M97: Palermo
A98: Rubin | B98: D | C98: 24 | D98: 5.83 | E98: 5.75 | F98: 5.88 | G98: - | H98: - | I98: - | J98: 3 | K98: 4 | L98: - | M98: Siena
A99: Murru | B99: D | C99: 13 | D99: 5.81 | E99: 5.54 | F99: 5.54 | G99: - | H99: - | I99: - | J99: - | K99: 7 | L99: - | M99: Cagliari
A100: Coda | B100: D | C100: 18 | D100: 5.81 | E100: 5.72 | F100: 5.72 | G100: - | H100: - | I100: - | J100: - | K100: 3 | L100: - | M100: Parma
...

Sheet P fantagazz
A1: Calciatore | B1: Ruolo | C1: P | D1: M | E1: F | F1: Gs | G1: Rp | H1: A | I1: E | J1: Squadra
A2: Pelizzoli | B2: P | C2: 11 | D2: 6.77 | E2: 5.41 | F2: 18 | G2: 1 | H2: - | I2: - | J2: Pescara
A3: Donnarumma | B3: P | C3: 1 | D3: 6.5 | E3: 6.5 | F3: - | G3: - | H3: - | I3: - | J3: Genoa
A4: Pavarini | B4: P | C4: 6 | D4: 6.5 | E4: 5.58 | F4: 5 | G4: - | H4: 1 | I4: - | J4: Parma
A5: Berni | B5: P | C5: 3 | D5: 6.33 | E5: 4.67 | F5: 5 | G5: - | H5: - | I5: - | J5: Sampdoria
A6: Pegolo | B6: P | C6: 38 | D6: 6.26 | E6: 4.88 | F6: 57 | G6: 2 | H6: 3 | I6: - | J6: Siena
A7: Agliardi | B7: P | C7: 22 | D7: 6.23 | E7: 4.8 | F7: 31 | G7: - | H7: 1 | I7: - | J7: Bologna
A8: Handanovic | B8: P | C8: 35 | D8: 6.21 | E8: 4.57 | F8: 53 | G8: - | H8: 5 | I8: - | J8: Inter
A9: Marchetti | B9: P | C9: 33 | D9: 6.2 | E9: 5.2 | F9: 32 | G9: - | H9: 2 | I9: - | J9: Lazio
A10: Mirante | B10: P | C10: 33 | D10: 6.2 | E10: 5.18 | F10: 40 | G10: 3 | H10: 5 | I10: - | J10: Parma
A11: Frey S. | B11: P | C11: 36 | D11: 6.18 | E11: 4.9 | F11: 49 | G11: 1 | H11: - | I11: - | J11: Genoa
A12: Perin | B12: P | C12: 29 | D12: 6.17 | E12: 3.97 | F12: 66 | G12: 1 | H12: - | I12: 1 | J12: Pescara
A13: Sorrentino | B13: P | C13: 35 | D13: 6.17 | E13: 4.84 | F13: 49 | G13: 1 | H13: 1 | I13: - | J13: Palermo
A14: Frison | B14: P | C14: 4 | D14: 6.13 | E14: 4.13 | F14: 7 | G14: - | H14: 2 | I14: - | J14: Catania
A15: Da Costa | B15: P | C15: 4 | D15: 6.13 | E15: 4.38 | F15: 7 | G15: - | H15: - | I15: - | J15: Sampdoria
A16: Buffon | B16: P | C16: 32 | D16: 6.13 | E16: 5.53 | F16: 19 | G16: - | H16: - | I16: - | J16: Juventus
A17: Consigli | B17: P | C17: 35 | D17: 6.13 | E17: 4.87 | F17: 49 | G17: 2 | H17: 2 | I17: - | J17: Atalanta
A18: Avramov | B18: P | C18: 4 | D18: 6.13 | E18: 4.63 | F18: 6 | G18: - | H18: - | I18: - | J18: Cagliari
A19: Andujar | B19: P | C19: 34 | D19: 6.12 | E19: 4.94 | F19: 39 | G19: - | H19: - | I19: 1 | J19: Catania
A20: Brkic | B20: P | C20: 30 | D20: 6.12 | E20: 5.17 | F20: 32 | G20: 2 | H20: 1 | I20: - | J20: Udinese
A21: Puggioni | B21: P | C21: 17 | D21: 6.12 | E21: 5.15 | F21: 17 | G21: 1 | H21: 1 | I21: - | J21: Chievo
A22: Curci | B22: P | C22: 14 | D22: 6.11 | E22: 5.46 | F22: 12 | G22: 1 | H22: - | I22: - | J22: Bologna
A23: De Sanctis | B23: P | C23: 34 | D23: 6.09 | E23: 5.21 | F23: 28 | G23: - | H23: 4 | I23: - | J23: Napoli
A24: Abbiati | B24: P | C24: 28 | D24: 6.09 | E24: 5.27 | F24: 22 | G24: - | H24: 2 | I24: - | J24: Milan
A25: Gillet | B25: P | C25: 37 | D25: 6.07 | E25: 4.69 | F25: 53 | G25: 1 | H25: 2 | I25: - | J25: Torino
A26: Viviano | B26: P | C26: 32 | D26: 6.06 | E26: 5.08 | F26: 34 | G26: 1 | H26: 1 | I26: - | J26: Fiorentina
A27: Stekelenburg | B27: P | C27: 19 | D27: 6.05 | E27: 4.45 | F27: 30 | G27: - | H27: 1 | I27: - | J27: Roma
A28: Agazzi | B28: P | C28: 34 | D28: 6.01 | E28: 4.74 | F28: 45 | G28: 1 | H28: 1 | I28: 1 | J28: Cagliari
A29: Bizzarri | B29: P | C29: 5 | D29: 6 | E29: 4.6 | F29: 10 | G29: 1 | H29: - | I29: - | J29: Lazio
A30: Bajza | B30: P | C30: 1 | D30: 6 | E30: 5 | F30: 1 | G30: - | H30: - | I30: - | J30: Parma
A31: Carrizo | B31: P | C31: 1 | D31: 6 | E31: 5 | F31: 1 | G31: - | H31: - | I31: - | J31: Inter
A32: Squizzi | B32: P | C32: 1 | D32: 6 | E32: 4 | F32: 2 | G32: - | H32: - | I32: - | J32: Chievo
A33: Lobont | B33: P | C33: 5 | D33: 6 | E33: 5.6 | F33: 2 | G33: - | H33: - | I33: - | J33: Roma
A34: Padelli | B34: P | C34: 9 | D34: 6 | E34: 4.56 | F34: 13 | G34: - | H34: - | I34: - | J34: Udinese
A35: Coppola | B35: P | C35: 1 | D35: 6 | E35: 4 | F35: 2 | G35: - | H35: - | I35: - | J35: Torino
A36: Romero | B36: P | C36: 32 | D36: 5.95 | E36: 4.77 | F36: 39 | G36: 1 | H36: 2 | I36: 1 | J36: Sampdoria
A37: Neto | B37: P | C37: 6 | D37: 5.92 | E37: 4.42 | F37: 9 | G37: - | H37: - | I37: - | J37: Fiorentina
A38: Benussi | B38: P | C38: 5 | D38: 5.9 | E38: 4.3 | F38: 8 | G38: - | H38: - | I38: - | J38: Palermo
A39: Polito | B39: P | C39: 4 | D39: 5.88 | E39: 4.13 | F39: 7 | G39: - | H39: - | I39: - | J39: Atalanta
A40: Storari | B40: P | C40: 6 | D40: 5.83 | E40: 5 | F40: 5 | G40: - | H40: - | I40: - | J40: Juventus
A41: Ujkani | B41: P | C41: 19 | D41: 5.82 | E41: 4.18 | F41: 30 | G41: - | H41: - | I41: 1 | J41: Chievo
A42: Stojanovic | B42: P | C42: 4 | D42: 5.75 | E42: 3.5 | F42: 9 | G42: - | H42: - | I42: - | J42: Bologna
A43: Rosati | B43: P | C43: 4 | D43: 5.75 | E43: 3.75 | F43: 8 | G43: - | H43: - | I43: - | J43: Napoli
A44: Castellazzi | B44: P | C44: 2 | D44: 5.75 | E44: 4.25 | F44: 3 | G44: - | H44: - | I44: - | J44: Inter
A45: Goicoechea | B45: P | C45: 15 | D45: 5.73 | E45: 3.97 | F45: 24 | G45: - | H45: 1 | I45: - | J45: Roma
A46: Amelia | B46: P | C46: 11 | D46: 5.55 | E46: 3.91 | F46: 17 | G46: - | H46: 2 | I46: - | J46: Milan
A47: Lupatelli | B47: P | C47: 1 | D47: 5.5 | E47: 4.5 | F47: 1 | G47: - | H47: - | I47: - | J47: Fiorentina
A48: Tzorvas | B48: P | C48: 1 | D48: 4.5 | E48: 1.5 | F48: 3 | G48: - | H48: - | I48: - | J48: Genoa

Sheet DCA fantagazz
A1: Calciatore | B1: Ruolo | C1: P | D1: M | E1: F | F1: F+ | G1: G | H1: R+ | I1: R- | J1: As | K1: A | L1: E | M1: Sq
A2: Romagnoli A. | B2: D | C2: 1 | D2: 7 | E2: 10 | F2: 10 | G2: 1 | H2: - | I2: - | J2: - | K2: - | L2: - | M2: Roma
A3: Lucio | B3: D | C3: 1 | D3: 6.5 | E3: 6.5 | F3: 6.5 | G3: - | H3: - | I3: - | J3: - | K3: - | L3: - | M3: Juventus
A4: Vittiglio | B4: D | C4: 1 | D4: 6.5 | E4: 9.5 | F4: 9.5 | G4: 1 | H4: - | I4: - | J4: - | K4: - | L4: - | M4: Pescara
A5: Chiellini | B5: D | C5: 24 | D5: 6.4 | E5: 6.42 | F5: 6.42 | G5: 1 | H5: - | I5: - | J5: - | K5: 5 | L5: - | M5: Juventus
A6: Torosidis | B6: D | C6: 9 | D6: 6.39 | E6: 6.56 | F6: 6.56 | G6: 1 | H6: - | I6: - | J6: - | K6: 3 | L6: - | M6: Roma
A7: Pasqual | B7: D | C7: 35 | D7: 6.31 | E7: 6.43 | F7: 6.6 | G7: 2 | H7: - | I7: - | J7: 6 | K7: 4 | L7: - | M7: Fiorentina
A8: Basta | B8: D | C8: 28 | D8: 6.3 | E8: 6.38 | F8: 6.48 | G8: 1 | H8: - | I8: - | J8: 3 | K8: 2 | L8: - | M8: Udinese
A9: Barzagli | B9: D | C9: 34 | D9: 6.29 | E9: 6.22 | F9: 6.25 | G9: - | H9: - | I9: - | J9: 1 | K9: 5 | L9: - | M9: Juventus
A10: Spolli | B10: D | C10: 29 | D10: 6.29 | E10: 6.34 | F10: 6.34 | G10: 2 | H10: - | I10: - | J10: - | K10: 9 | L10: - | M10: Catania
A11: Benatia | B11: D | C11: 19 | D11: 6.18 | E11: 6.37 | F11: 6.42 | G11: 2 | H11: - | I11: - | J11: 1 | K11: 5 | L11: - | M11: Udinese
A12: De Sciglio | B12: D | C12: 25 | D12: 6.12 | E12: 6.08 | F12: 6.12 | G12: - | H12: - | I12: - | J12: 1 | K12: 2 | L12: - | M12: Milan
A13: Manfredini | B13: D | C13: 29 | D13: 6.12 | E13: 5.98 | F13: 6.02 | G13: - | H13: - | I13: - | J13: 1 | K13: 6 | L13: 1 | M13: Genoa
A14: Bonucci | B14: D | C14: 33 | D14: 6.11 | E14: 5.95 | F14: 5.95 | G14: - | H14: - | I14: - | J14: - | K14: 10 | L14: - | M14: Juventus
A15: Campagnaro | B15: D | C15: 28 | D15: 6.11 | E15: 6.07 | F15: 6.11 | G15: 1 | H15: - | I15: - | J15: 1 | K15: 8 | L15: - | M15: Napoli
A16: Avelar | B16: D | C16: 20 | D16: 6.1 | E16: 6 | F16: 6.1 | G16: - | H16: - | I16: - | J16: 2 | K16: 4 | L16: - | M16: Cagliari
A17: Rodriguez Go. | B17: D | C17: 35 | D17: 6.1 | E17: 6.4 | F17: 6.46 | G17: 4 | H17: 2 | I17: - | J17: 2 | K17: 9 | L17: 1 | M17: Fiorentina
A18: Ogbonna | B18: D | C18: 22 | D18: 6.09 | E18: 6 | F18: 6 | G18: - | H18: - | I18: - | J18: - | K18: 2 | L18: 1 | M18: Torino
A19: Roncaglia | B19: D | C19: 24 | D19: 6.08 | E19: 6.27 | F19: 6.27 | G19: 3 | H19: - | I19: - | J19: - | K19: 9 | L19: - | M19: Fiorentina
A20: Legrottaglie | B20: D | C20: 26 | D20: 6.08 | E20: 6.15 | F20: 6.15 | G20: 3 | H20: - | I20: - | J20: - | K20: 8 | L20: 1 | M20: Catania
A21: Marchese | B21: D | C21: 30 | D21: 6.07 | E21: 6.15 | F21: 6.22 | G21: 2 | H21: - | I21: - | J21: 2 | K21: 5 | L21: 1 | M21: Catania
A22: Paletta | B22: D | C22: 35 | D22: 6.07 | E22: 5.99 | F22: 6.01 | G22: 1 | H22: - | I22: - | J22: 1 | K22: 8 | L22: - | M22: Parma
A23: Compper | B23: D | C23: 7 | D23: 6.07 | E23: 6 | F23: 6 | G23: - | H23: - | I23: - | J23: - | K23: 1 | L23: - | M23: Fiorentina
A24: Savic | B24: D | C24: 26 | D24: 6.06 | E24: 6.19 | F24: 6.19 | G24: 2 | H24: - | I24: - | J24: - | K24: 5 | L24: - | M24: Fiorentina
A25: Morleo | B25: D | C25: 31 | D25: 6.06 | E25: 5.89 | F25: 5.95 | G25: - | H25: - | I25: - | J25: 2 | K25: 9 | L25: 1 | M25: Bologna
A26: Gastaldello | B26: D | C26: 33 | D26: 6.06 | E26: 5.89 | F26: 5.89 | G26: 1 | H26: - | I26: - | J26: - | K26: 13 | L26: 2 | M26: Sampdoria
A27: Angella | B27: D | C27: 13 | D27: 6.04 | E27: 6.81 | F27: 6.81 | G27: 4 | H27: - | I27: - | J27: - | K27: 4 | L27: - | M27: Udinese
A28: Yepes | B28: D | C28: 14 | D28: 6.04 | E28: 5.79 | F28: 5.79 | G28: - | H28: - | I28: - | J28: - | K28: 7 | L28: - | M28: Milan
A29: Benalouane | B29: D | C29: 20 | D29: 6.03 | E29: 5.95 | F29: 5.95 | G29: 1 | H29: - | I29: - | J29: - | K29: 7 | L29: 1 | M29: Parma
A30: Pasquale | B30: D | C30: 17 | D30: 6.03 | E30: 6.18 | F30: 6.24 | G30: 1 | H30: - | I30: - | J30: 1 | K30: 1 | L30: - | M30: Udinese
A31: Caceres M. | B31: D | C31: 17 | D31: 6.03 | E31: 6.18 | F31: 6.18 | G31: 1 | H31: - | I31: - | J31: - | K31: 1 | L31: - | M31: Juventus
A32: Cannavaro | B32: D | C32: 32 | D32: 6.02 | E32: 5.86 | F32: 5.89 | G32: 1 | H32: - | I32: - | J32: 1 | K32: 8 | L32: - | M32: Napoli
A33: Radu | B33: D | C33: 23 | D33: 6.02 | E33: 6.07 | F33: 6.07 | G33: 1 | H33: - | I33: - | J33: - | K33: 4 | L33: - | M33: Lazio
A34: Granqvist | B34: D | C34: 35 | D34: 6.01 | E34: 6 | F34: 6.03 | G34: 1 | H34: - | I34: - | J34: 1 | K34: 7 | L34: - | M34: Genoa
A35: Hegazy | B35: D | C35: 1 | D35: 6 | E35: 6 | F35: 6 | G35: - | H35: - | I35: - | J35: - | K35: - | L35: - | M35: Fiorentina
A36: Jokic | B36: D | C36: 18 | D36: 6 | E36: 5.89 | F36: 5.94 | G36: - | H36: - | I36: - | J36: 1 | K36: 4 | L36: - | M36: Chievo
A37: Mantovani | B37: D | C37: 6 | D37: 6 | E37: 5.83 | F37: 5.83 | G37: - | H37: - | I37: - | J37: - | K37: 2 | L37: - | M37: Palermo
A38: Potenza | B38: D | C38: 1 | D38: 6 | E38: 6 | F38: 6 | G38: - | H38: - | I38: - | J38: - | K38: - | L38: - | M38: Catania
A39: Capelli | B39: D | C39: 1 | D39: 6 | E39: 6 | F39: 6 | G39: - | H39: - | I39: - | J39: - | K39: - | L39: - | M39: Atalanta
A40: Danilo | B40: D | C40: 32 | D40: 6 | E40: 6 | F40: 6.03 | G40: 2 | H40: - | I40: - | J40: 1 | K40: 8 | L40: 2 | M40: Udinese
A41: Domizzi | B41: D | C41: 29 | D41: 6 | E41: 6 | F41: 6.1 | G41: 2 | H41: - | I41: - | J41: 3 | K41: 12 | L41: - | M41: Udinese
A42: Antonelli | B42: D | C42: 33 | D42: 6 | E42: 5.98 | F42: 6.08 | G42: 1 | H42: - | I42: - | J42: 3 | K42: 7 | L42: - | M42: Genoa
A43: Stendardo | B43: D | C43: 31 | D43: 6 | E43: 6.05 | F43: 6.08 | G43: 2 | H43: - | I43: - | J43: 1 | K43: 9 | L43: - | M43: Atalanta
A44: Vitiello | B44: D | C44: 2 | D44: 6 | E44: 5.75 | F44: 5.75 | G44: - | H44: - | I44: - | J44: - | K44: 1 | L44: - | M44: Siena
A45: Spyropoulos | B45: D | C45: 1 | D45: 6 | E45: 6 | F45: 6 | G45: - | H45: - | I45: - | J45: - | K45: - | L45: - | M45: Chievo
A46: Grillo | B46: D | C46: 1 | D46: 6 | E46: 9 | F46: 9 | G46: 1 | H46: - | I46: - | J46: - | K46: - | L46: - | M46: Siena
A47: Sorensen | B47: D | C47: 23 | D47: 5.98 | E47: 5.98 | F47: 6.02 | G47: 1 | H47: - | I47: - | J47: 1 | K47: 6 | L47: - | M47: Bologna
A48: D'ambrosio | B48: D | C48: 25 | D48: 5.98 | E48: 6.14 | F48: 6.22 | G48: 2 | H48: - | I48: - | J48: 2 | K48: 4 | L48: - | M48: Torino
A49: Lichtsteiner | B49: D | C49: 28 | D49: 5.98 | E49: 6.3 | F49: 6.38 | G49: 4 | H49: - | I49: - | J49: 2 | K49: 6 | L49: - | M49: Juventus
A50: Konko | B50: D | C50: 24 | D50: 5.98 | E50: 6.04 | F50: 6.13 | G50: 1 | H50: - | I50: - | J50: 2 | K50: 3 | L50: - | M50: Lazio
A51: Samuel | B51: D | C51: 15 | D51: 5.97 | E51: 5.97 | F51: 5.97 | G51: 1 | H51: - | I51: - | J51: - | K51: 6 | L51: - | M51: Inter
A52: Neto L. | B52: D | C52: 20 | D52: 5.97 | E52: 5.9 | F52: 5.9 | G52: 1 | H52: - | I52: - | J52: - | K52: 7 | L52: 1 | M52: Siena
A53: Portanova | B53: D | C53: 20 | D53: 5.97 | E53: 6.17 | F53: 6.17 | G53: 2 | H53: - | I53: - | J53: - | K53: 4 | L53: - | M53: Genoa
A54: Dainelli | B54: D | C54: 34 | D54: 5.96 | E54: 5.84 | F54: 5.84 | G54: - | H54: - | I54: - | J54: - | K54: 6 | L54: 1 | M54: Chievo
A55: Biava | B55: D | C55: 31 | D55: 5.95 | E55: 5.9 | F55: 5.94 | G55: 1 | H55: - | I55: - | J55: 1 | K55: 5 | L55: 2 | M55: Lazio
A56: Astori | B56: D | C56: 32 | D56: 5.94 | E56: 5.73 | F56: 5.73 | G56: - | H56: - | I56: - | J56: - | K56: 5 | L56: 2 | M56: Cagliari
A57: Zaccardo | B57: D | C57: 16 | D57: 5.94 | E57: 6.03 | F57: 6.09 | G57: 1 | H57: - | I57: - | J57: 1 | K57: 3 | L57: - | M57: Milan
A58: Belmonte | B58: D | C58: 7 | D58: 5.93 | E58: 5.86 | F58: 5.86 | G58: - | H58: - | I58: - | J58: - | K58: 1 | L58: - | M58: Siena
A59: Rossettini | B59: D | C59: 28 | D59: 5.93 | E59: 5.84 | F59: 5.84 | G59: - | H59: - | I59: - | J59: - | K59: 1 | L59: 2 | M59: Cagliari
A60: Gamberini | B60: D | C60: 25 | D60: 5.92 | E60: 5.98 | F60: 5.98 | G60: 1 | H60: - | I60: - | J60: - | K60: 3 | L60: - | M60: Napoli
A61: Balzaretti | B61: D | C61: 24 | D61: 5.92 | E61: 5.79 | F61: 5.88 | G61: - | H61: - | I61: - | J61: 2 | K61: 4 | L61: 1 | M61: Roma
A62: De Silvestri | B62: D | C62: 24 | D62: 5.92 | E62: 6.08 | F62: 6.08 | G62: 2 | H62: - | I62: - | J62: - | K62: 4 | L62: - | M62: Sampdoria
A63: Rubin | B63: D | C63: 24 | D63: 5.92 | E63: 5.83 | F63: 5.96 | G63: - | H63: - | I63: - | J63: 3 | K63: 4 | L63: - | M63: Siena
A64: Zapata | B64: D | C64: 23 | D64: 5.91 | E64: 5.78 | F64: 5.83 | G64: - | H64: - | I64: - | J64: 1 | K64: 4 | L64: 1 | M64: Milan
A65: Alvarez P.S. | B65: D | C65: 27 | D65: 5.91 | E65: 5.72 | F65: 5.72 | G65: - | H65: - | I65: - | J65: - | K65: 8 | L65: 1 | M65: Catania
A66: Garics | B66: D | C66: 23 | D66: 5.91 | E66: 5.78 | F66: 5.91 | G66: - | H66: - | I66: - | J66: 3 | K66: 6 | L66: - | M66: Bologna
A67: Frey N. | B67: D | C67: 21 | D67: 5.9 | E67: 5.81 | F67: 5.86 | G67: - | H67: - | I67: - | J67: 1 | K67: 4 | L67: - | M67: Chievo
A68: Gabriel Silva | B68: D | C68: 15 | D68: 5.9 | E68: 6.07 | F68: 6.13 | G68: 1 | H68: - | I68: - | J68: 1 | K68: 1 | L68: - | M68: Udinese
A69: Marquinhos | B69: D | C69: 25 | D69: 5.9 | E69: 5.86 | F69: 5.86 | G69: - | H69: - | I69: - | J69: - | K69: - | L69: 1 | M69: Roma
A70: Tomovic | B70: D | C70: 24 | D70: 5.9 | E70: 5.77 | F70: 5.77 | G70: - | H70: - | I70: - | J70: - | K70: 4 | L70: 1 | M70: Fiorentina
A71: Rodriguez Gu. | B71: D | C71: 22 | D71: 5.89 | E71: 5.8 | F71: 5.8 | G71: - | H71: - | I71: - | J71: - | K71: 4 | L71: - | M71: Torino
A72: Pisano F. | B72: D | C72: 28 | D72: 5.89 | E72: 5.84 | F72: 5.88 | G72: 1 | H72: - | I72: - | J72: 1 | K72: 7 | L72: 1 | M72: Cagliari
A73: Peluso | B73: D | C73: 23 | D73: 5.89 | E73: 5.7 | F73: 5.74 | G73: 1 | H73: - | I73: - | J73: 1 | K73: 11 | L73: 2 | M73: Juventus
A74: Abate | B74: D | C74: 27 | D74: 5.89 | E74: 5.85 | F74: 5.93 | G74: - | H74: - | I74: - | J74: 2 | K74: 2 | L74: - | M74: Milan
A75: Ferri | B75: D | C75: 8 | D75: 5.88 | E75: 5.81 | F75: 5.81 | G75: - | H75: - | I75: - | J75: - | K75: 1 | L75: - | M75: Atalanta
A76: Glik | B76: D | C76: 32 | D76: 5.88 | E76: 5.81 | F76: 5.84 | G76: 1 | H76: - | I76: - | J76: 1 | K76: 6 | L76: 2 | M76: Torino
A77: Mesto | B77: D | C77: 13 | D77: 5.88 | E77: 6.08 | F77: 6.15 | G77: 1 | H77: - | I77: - | J77: 1 | K77: 1 | L77: - | M77: Napoli
A78: Mexes | B78: D | C78: 25 | D78: 5.88 | E78: 5.7 | F78: 5.74 | G78: 1 | H78: - | I78: - | J78: 1 | K78: 11 | L78: - | M78: Milan
A79: Moretti E. | B79: D | C79: 29 | D79: 5.88 | E79: 5.71 | F79: 5.71 | G79: - | H79: - | I79: - | J79: - | K79: 8 | L79: 1 | M79: Genoa
A80: Naldo | B80: D | C80: 4 | D80: 5.88 | E80: 5.63 | F80: 5.63 | G80: - | H80: - | I80: - | J80: - | K80: 2 | L80: - | M80: Bologna
A81: Von Bergen | B81: D | C81: 35 | D81: 5.87 | E81: 5.84 | F81: 5.84 | G81: 1 | H81: - | I81: - | J81: - | K81: 6 | L81: 1 | M81: Palermo
A82: Romulo | B82: D | C82: 15 | D82: 5.87 | E82: 6.27 | F82: 6.33 | G82: 2 | H82: - | I82: - | J82: 1 | K82: - | L82: - | M82: Fiorentina
A83: Sardo | B83: D | C83: 22 | D83: 5.86 | E83: 5.61 | F83: 5.61 | G83: - | H83: - | I83: - | J83: - | K83: 7 | L83: - | M83: Chievo
A84: Drame' | B84: D | C84: 22 | D84: 5.86 | E84: 5.91 | F84: 5.95 | G84: 1 | H84: - | I84: - | J84: 1 | K84: 4 | L84: - | M84: Chievo
A85: Britos | B85: D | C85: 22 | D85: 5.86 | E85: 5.75 | F85: 5.75 | G85: - | H85: - | I85: - | J85: - | K85: 5 | L85: - | M85: Napoli
A86: Nelson Tomar | B86: D | C86: 7 | D86: 5.86 | E86: 6.29 | F86: 6.29 | G86: 1 | H86: - | I86: - | J86: - | K86: - | L86: - | M86: Palermo
A87: Murru | B87: D | C87: 13 | D87: 5.85 | E87: 5.62 | F87: 5.62 | G87: - | H87: - | I87: - | J87: - | K87: 6 | L87: - | M87: Cagliari
A88: Bellusci | B88: D | C88: 26 | D88: 5.85 | E88: 5.6 | F88: 5.6 | G88: - | H88: - | I88: - | J88: - | K88: 13 | L88: - | M88: Catania
A89: Balzano | B89: D | C89: 24 | D89: 5.85 | E89: 5.73 | F89: 5.73 | G89: - | H89: - | I89: - | J89: - | K89: 6 | L89: - | M89: Pescara
A90: Darmian | B90: D | C90: 30 | D90: 5.85 | E90: 5.67 | F90: 5.7 | G90: - | H90: - | I90: - | J90: 1 | K90: 9 | L90: 1 | M90: Torino
A91: Rosi | B91: D | C91: 24 | D91: 5.85 | E91: 6.08 | F91: 6.08 | G91: 3 | H91: - | I91: - | J91: - | K91: 5 | L91: 1 | M91: Parma
A92: Raimondi | B92: D | C92: 24 | D92: 5.85 | E92: 5.79 | F92: 5.88 | G92: 1 | H92: - | I92: - | J92: 2 | K92: 7 | L92: 1 | M92: Atalanta
A93: Costa | B93: D | C93: 27 | D93: 5.83 | E93: 5.8 | F93: 5.8 | G93: 1 | H93: - | I93: - | J93: - | K93: 4 | L93: 2 | M93: Sampdoria
A94: Farkas | B94: D | C94: 3 | D94: 5.83 | E94: 5.83 | F94: 5.83 | G94: - | H94: - | I94: - | J94: - | K94: - | L94: - | M94: Chievo
A95: Castellini | B95: D | C95: 6 | D95: 5.83 | E95: 5.83 | F95: 5.83 | G95: - | H95: - | I95: - | J95: - | K95: - | L95: - | M95: Sampdoria
A96: Cassani | B96: D | C96: 9 | D96: 5.83 | E96: 5.56 | F96: 5.56 | G96: - | H96: - | I96: - | J96: - | K96: 1 | L96: - | M96: Genoa
A97: Cherubin | B97: D | C97: 29 | D97: 5.83 | E97: 5.86 | F97: 5.9 | G97: 1 | H97: - | I97: - | J97: 1 | K97: 4 | L97: - | M97: Bologna
A98: Rolin | B98: D | C98: 9 | D98: 5.83 | E98: 5.61 | F98: 5.61 | G98: - | H98: - | I98: - | J98: - | K98: 4 | L98: - | M98: Catania
A99: Castan | B99: D | C99: 30 | D99: 5.82 | E99: 5.82 | F99: 5.82 | G99: 1 | H99: - | I99: - | J99: - | K99: 6 | L99: - | M99: Roma
A100: Cavanda | B100: D | C100: 11 | D100: 5.82 | E100: 5.59 | F100: 5.59 | G100: - | H100: - | I100: - | J100: - | K100: 5 | L100: - | M100: Lazio
...
