Workbook

Sheet ordine conf
D2: STAGIONE 12-13 | L2: ANDATA | T2: RITORNO
B4: PORTIERI | E4: MV | F4: MV | G4: MV | H4: GOL | I4: sub | J4: GOL s | M4: MV | N4: MV | O4: MV | P4: GOL | Q4: sub | R4: GOL s | U4: MV | V4: MV | W4: MV | X4: GOL | Y4: sub | Z4: GOL s
C5: i | D5: PUNTI | E5: tot | F5: casa | G5: fuori | H5: sub | I5: casa | J5: fuori | K5: i | L5: PUNTI | M5: tot | N5: casa | O5: fuori | P5: sub | Q5: casa | R5: fuori | S5: i | T5: PUNTI | U5: tot | V5: casa | W5: fuori | X5: sub | Y5: casa | Z5: fuori
B6: JUV | D6: =HLOOKUP($B6,incroci!$AW$58:$BP$67,10,0) -> 208.5 | E6: =HLOOKUP($B6,portieri!$C$2:$V$43,42,0) -> 6.1184211 | F6: =HLOOKUP($B6,portieri!$C$63:$V$103,41,0) -> 6.0263158 | G6: =HLOOKUP($B6,portieri!$C$122:$V$162,41,0) -> 6.2105263 | H6: =HLOOKUP($B6,portieri!$AC$2:$AV$43,42,0) -> 24 | I6: =HLOOKUP($B6,portieri!$AC$2:$AV$48,46,0) -> 10 | J6: =HLOOKUP($B6,portieri!$AC$2:$AV$48,47,0) -> 14 | L6: =HLOOKUP($B6,incroci!$AW$58:$BP$68,11,0) -> 102 | M6: =HLOOKUP($B6,portieri!$C$2:$V$43,41,0) -> 6.0526316 | N6: =HLOOKUP($B6,portieri!$C$63:$V$103,40,0) -> 6.1111111 | O6: =HLOOKUP($B6,portieri!$C$122:$V$162,40,0) -> 6.1666667 | P6: =HLOOKUP($B6,portieri!$AC$2:$AV$53,49,0) -> 13 | Q6: =HLOOKUP($B6,portieri!$AC$2:$AV$53,51,0) -> 7 | R6: =HLOOKUP($B6,portieri!$AC$2:$AV$53,52,0) -> 6 | T6: =D6-L6 -> 106.5 | U6: =(E6*38-M6*18)/20 -> 6.1776316 | V6: =(F6*38-N6*18)/20 -> 5.95 | W6: =(G6*38-O6*18)/20 -> 6.25 | X6: =H6-P6 -> 11 | Y6: =I6-Q6 -> 3 | Z6: =J6-R6 -> 8
B7: LAZ-SIE | D7: =HLOOKUP($B7,incroci!$C$58:$V$70,13,0) -> 207.5 | E7: =HLOOKUP($B7,incroci!$C$44:$V$46,3,0) -> 6.3026316 | H7: =HLOOKUP($B7,incroci!$C$58:$V$67,2,0) -> 32 | L7: =HLOOKUP($B7,incroci!$C$58:$V$70,12,0) -> 102 | M7: =HLOOKUP($B7,incroci!$C$44:$V$46,2,0) -> 6.3157895 | P7: =HLOOKUP($B7,incroci!$C$58:$V$67,10,0) -> 18 | T7: =D7-L7 -> 105.5 | U7: =(E7*38-M7*18)/20 -> 6.2907895 | X7: =H7-P7 -> 14
B8: PAR-SIE | D8: =HLOOKUP($B8,incroci!$C$58:$V$70,13,0) -> 204.5 | E8: =HLOOKUP($B8,incroci!$C$44:$V$46,3,0) -> 6.3552632 | H8: =HLOOKUP($B8,incroci!$C$58:$V$67,2,0) -> 37 | L8: =HLOOKUP($B8,incroci!$C$58:$V$70,12,0) -> 102.5 | M8: =HLOOKUP($B8,incroci!$C$44:$V$46,2,0) -> 6.3947368 | P8: =HLOOKUP($B8,incroci!$C$58:$V$67,10,0) -> 19 | T8: =D8-L8 -> 102 | U8: =(E8*38-M8*18)/20 -> 6.3197368 | X8: =H8-P8 -> 18
B9: LAZ | D9: =HLOOKUP($B9,incroci!$AW$58:$BP$67,10,0) -> 196 | E9: =HLOOKUP($B9,portieri!$C$2:$V$43,42,0) -> 6.2631579 | F9: =HLOOKUP($B9,portieri!$C$63:$V$103,41,0) -> 6.2368421 | G9: =HLOOKUP($B9,portieri!$C$122:$V$162,41,0) -> 6.2894737 | H9: =HLOOKUP($B9,portieri!$AC$2:$AV$43,42,0) -> 42 | I9: =HLOOKUP($B9,portieri!$AC$2:$AV$48,46,0) -> 16 | J9: =HLOOKUP($B9,portieri!$AC$2:$AV$48,47,0) -> 26 | L9: =HLOOKUP($B9,incroci!$AW$58:$BP$68,11,0) -> 101 | M9: =HLOOKUP($B9,portieri!$C$2:$V$43,41,0) -> 6.3157895 | N9: =HLOOKUP($B9,portieri!$C$63:$V$103,40,0) -> 6.2777778 | O9: =HLOOKUP($B9,portieri!$C$122:$V$162,40,0) -> 6.3333333 | P9: =HLOOKUP($B9,portieri!$AC$2:$AV$53,49,0) -> 19 | Q9: =HLOOKUP($B9,portieri!$AC$2:$AV$53,51,0) -> 9 | R9: =HLOOKUP($B9,portieri!$AC$2:$AV$53,52,0) -> 10 | T9: =D9-L9 -> 95 | U9: =(E9*38-M9*18)/20 -> 6.2157895 | V9: =(F9*38-N9*18)/20 -> 6.2 | W9: =(G9*38-O9*18)/20 -> 6.25 | X9: =H9-P9 -> 23 | Y9: =I9-Q9 -> 7 | Z9: =J9-R9 -> 16
B10: CAT-PAL | D10: =HLOOKUP($B10,incroci!$C$58:$V$70,13,0) -> 193.5 | E10: =HLOOKUP($B10,incroci!$C$44:$V$46,3,0) -> 6.1710526 | H10: =HLOOKUP($B10,incroci!$C$58:$V$67,2,0) -> 41 | L10: =HLOOKUP($B10,incroci!$C$58:$V$70,12,0) -> 98.5 | M10: =HLOOKUP($B10,incroci!$C$44:$V$46,2,0) -> 6.2894737 | P10: =HLOOKUP($B10,incroci!$C$58:$V$67,10,0) -> 21 | T10: =D10-L10 -> 95 | U10: =(E10*38-M10*18)/20 -> 6.0644737 | X10: =H10-P10 -> 20
B11: JUV-TOR | D11: =HLOOKUP($B11,incroci!$C$58:$V$70,13,0) -> 193 | E11: =HLOOKUP($B11,incroci!$C$44:$V$46,3,0) -> 6.0263158 | H11: =HLOOKUP($B11,incroci!$C$58:$V$67,2,0) -> 36 | L11: =HLOOKUP($B11,incroci!$C$58:$V$70,12,0) -> 94 | M11: =HLOOKUP($B11,incroci!$C$44:$V$46,2,0) -> 5.9473684 | P11: =HLOOKUP($B11,incroci!$C$58:$V$67,10,0) -> 19 | T11: =D11-L11 -> 99 | U11: =(E11*38-M11*18)/20 -> 6.0973684 | X11: =H11-P11 -> 17
B12: ATA-CAT | D12: =HLOOKUP($B12,incroci!$C$58:$V$70,13,0) -> 193 | E12: =HLOOKUP($B12,incroci!$C$44:$V$46,3,0) -> 6.1052632 | H12: =HLOOKUP($B12,incroci!$C$58:$V$67,2,0) -> 39 | L12: =HLOOKUP($B12,incroci!$C$58:$V$70,12,0) -> 96 | M12: =HLOOKUP($B12,incroci!$C$44:$V$46,2,0) -> 6.1578947 | P12: =HLOOKUP($B12,incroci!$C$58:$V$67,10,0) -> 21 | T12: =D12-L12 -> 97 | U12: =(E12*38-M12*18)/20 -> 6.0578947 | X12: =H12-P12 -> 18
B13: SAM-CHI | D13: =HLOOKUP($B13,incroci!$C$58:$V$70,13,0) -> 193 | E13: =HLOOKUP($B13,incroci!$C$44:$V$46,3,0) -> 6.1315789 | H13: =HLOOKUP($B13,incroci!$C$58:$V$67,2,0) -> 40 | L13: =HLOOKUP($B13,incroci!$C$58:$V$70,12,0) -> 95.5 | M13: =HLOOKUP($B13,incroci!$C$44:$V$46,2,0) -> 6.1315789 | P13: =HLOOKUP($B13,incroci!$C$58:$V$67,10,0) -> 21 | T13: =D13-L13 -> 97.5 | U13: =(E13*38-M13*18)/20 -> 6.1315789 | X13: =H13-P13 -> 19
B14: NAP | D14: =HLOOKUP($B14,incroci!$AW$58:$BP$67,10,0) -> 192 | E14: =HLOOKUP($B14,portieri!$C$2:$V$43,42,0) -> 6 | F14: =HLOOKUP($B14,portieri!$C$63:$V$103,41,0) -> 5.9736842 | G14: =HLOOKUP($B14,portieri!$C$122:$V$162,41,0) -> 6.0263158 | H14: =HLOOKUP($B14,portieri!$AC$2:$AV$43,42,0) -> 36 | I14: =HLOOKUP($B14,portieri!$AC$2:$AV$48,46,0) -> 18 | J14: =HLOOKUP($B14,portieri!$AC$2:$AV$48,47,0) -> 18 | L14: =HLOOKUP($B14,incroci!$AW$58:$BP$68,11,0) -> 96.5 | M14: =HLOOKUP($B14,portieri!$C$2:$V$43,41,0) -> 6.0263158 | N14: =HLOOKUP($B14,portieri!$C$63:$V$103,40,0) -> 5.8333333 | O14: =HLOOKUP($B14,portieri!$C$122:$V$162,40,0) -> 6.1666667 | P14: =HLOOKUP($B14,portieri!$AC$2:$AV$53,49,0) -> 18 | Q14: =HLOOKUP($B14,portieri!$AC$2:$AV$53,51,0) -> 11 | R14: =HLOOKUP($B14,portieri!$AC$2:$AV$53,52,0) -> 7 | T14: =D14-L14 -> 95.5 | U14: =(E14*38-M14*18)/20 -> 5.9763158 | V14: =(F14*38-N14*18)/20 -> 6.1 | W14: =(G14*38-O14*18)/20 -> 5.9 | X14: =H14-P14 -> 18 | Y14: =I14-Q14 -> 7 | Z14: =J14-R14 -> 11
B15: PAR | D15: =HLOOKUP($B15,incroci!$AW$58:$BP$67,10,0) -> 191.5 | E15: =HLOOKUP($B15,portieri!$C$2:$V$43,42,0) -> 6.25 | F15: =HLOOKUP($B15,portieri!$C$63:$V$103,41,0) -> 6.3157895 | G15: =HLOOKUP($B15,portieri!$C$122:$V$162,41,0) -> 6.1842105 | H15: =HLOOKUP($B15,portieri!$AC$2:$AV$43,42,0) -> 46 | I15: =HLOOKUP($B15,portieri!$AC$2:$AV$48,46,0) -> 18 | J15: =HLOOKUP($B15,portieri!$AC$2:$AV$48,47,0) -> 28 | L15: =HLOOKUP($B15,incroci!$AW$58:$BP$68,11,0) -> 94 | M15: =HLOOKUP($B15,portieri!$C$2:$V$43,41,0) -> 6.2631579 | N15: =HLOOKUP($B15,portieri!$C$63:$V$103,40,0) -> 6.375 | O15: =HLOOKUP($B15,portieri!$C$122:$V$162,40,0) -> 6.1 | P15: =HLOOKUP($B15,portieri!$AC$2:$AV$53,49,0) -> 25 | Q15: =HLOOKUP($B15,portieri!$AC$2:$AV$53,51,0) -> 7 | R15: =HLOOKUP($B15,portieri!$AC$2:$AV$53,52,0) -> 18 | T15: =D15-L15 -> 97.5 | U15: =(E15*38-M15*18)/20 -> 6.2381579 | V15: =(F15*38-N15*18)/20 -> 6.2625 | W15: =(G15*38-O15*18)/20 -> 6.26 | X15: =H15-P15 -> 21 | Y15: =I15-Q15 -> 11 | Z15: =J15-R15 -> 10
B16: LAZ-ROM | D16: =HLOOKUP($B16,incroci!$C$58:$V$70,13,0) -> 190 | E16: =HLOOKUP($B16,incroci!$C$44:$V$46,3,0) -> 6.0526316 | H16: =HLOOKUP($B16,incroci!$C$58:$V$67,2,0) -> 40 | L16: =HLOOKUP($B16,incroci!$C$58:$V$70,12,0) -> 94 | M16: =HLOOKUP($B16,incroci!$C$44:$V$46,2,0) -> 6.1578947 | P16: =HLOOKUP($B16,incroci!$C$58:$V$67,10,0) -> 23 | T16: =D16-L16 -> 96 | U16: =(E16*38-M16*18)/20 -> 5.9578947 | X16: =H16-P16 -> 17
B17: TOR-UDI | D17: =HLOOKUP($B17,incroci!$C$58:$V$70,13,0) -> 190 | E17: =HLOOKUP($B17,incroci!$C$44:$V$46,3,0) -> 6 | H17: =HLOOKUP($B17,incroci!$C$58:$V$67,2,0) -> 38 | L17: =HLOOKUP($B17,incroci!$C$58:$V$70,12,0) -> 92 | M17: =HLOOKUP($B17,incroci!$C$44:$V$46,2,0) -> 5.8947368 | P17: =HLOOKUP($B17,incroci!$C$58:$V$67,10,0) -> 20 | T17: =D17-L17 -> 98 | U17: =(E17*38-M17*18)/20 -> 6.0947368 | X17: =H17-P17 -> 18
B18: FIO-CAG | D18: =HLOOKUP($B18,incroci!$C$58:$V$70,13,0) -> 190 | E18: =HLOOKUP($B18,incroci!$C$44:$V$46,3,0) -> 6.1315789 | H18: =HLOOKUP($B18,incroci!$C$58:$V$67,2,0) -> 43 | L18: =HLOOKUP($B18,incroci!$C$58:$V$70,12,0) -> 94 | M18: =HLOOKUP($B18,incroci!$C$44:$V$46,2,0) -> 6.1052632 | P18: =HLOOKUP($B18,incroci!$C$58:$V$67,10,0) -> 22 | T18: =D18-L18 -> 96 | U18: =(E18*38-M18*18)/20 -> 6.1552632 | X18: =H18-P18 -> 21
B19: MIL | D19: =HLOOKUP($B19,incroci!$AW$58:$BP$67,10,0) -> 188.5 | E19: =HLOOKUP($B19,portieri!$C$2:$V$43,42,0) -> 5.9868421 | F19: =HLOOKUP($B19,portieri!$C$63:$V$103,41,0) -> 6 | G19: =HLOOKUP($B19,portieri!$C$122:$V$162,41,0) -> 5.9736842 | H19: =HLOOKUP($B19,portieri!$AC$2:$AV$43,42,0) -> 39 | I19: =HLOOKUP($B19,portieri!$AC$2:$AV$48,46,0) -> 15 | J19: =HLOOKUP($B19,portieri!$AC$2:$AV$48,47,0) -> 24 | L19: =HLOOKUP($B19,incroci!$AW$58:$BP$68,11,0) -> 81 | M19: =HLOOKUP($B19,portieri!$C$2:$V$43,41,0) -> 5.6842105 | N19: =HLOOKUP($B19,portieri!$C$63:$V$103,40,0) -> 5.7777778 | O19: =HLOOKUP($B19,portieri!$C$122:$V$162,40,0) -> 5.5 | P19: =HLOOKUP($B19,portieri!$AC$2:$AV$53,49,0) -> 27 | Q19: =HLOOKUP($B19,portieri!$AC$2:$AV$53,51,0) -> 9 | R19: =HLOOKUP($B19,portieri!$AC$2:$AV$53,52,0) -> 18 | T19: =D19-L19 -> 107.5 | U19: =(E19*38-M19*18)/20 -> 6.2592105 | V19: =(F19*38-N19*18)/20 -> 6.2 | W19: =(G19*38-O19*18)/20 -> 6.4 | X19: =H19-P19 -> 12 | Y19: =I19-Q19 -> 6 | Z19: =J19-R19 -> 6
B20: NAP-PAL | D20: =HLOOKUP($B20,incroci!$C$58:$V$70,13,0) -> 188.5 | E20: =HLOOKUP($B20,incroci!$C$44:$V$46,3,0) -> 6.0657895 | H20: =HLOOKUP($B20,incroci!$C$58:$V$67,2,0) -> 42 | L20: =HLOOKUP($B20,incroci!$C$58:$V$70,12,0) -> 94 | M20: =HLOOKUP($B20,incroci!$C$44:$V$46,2,0) -> 6.1052632 | P20: =HLOOKUP($B20,incroci!$C$58:$V$67,10,0) -> 22 | T20: =D20-L20 -> 94.5 | U20: =(E20*38-M20*18)/20 -> 6.0302632 | X20: =H20-P20 -> 20
B21: NAP-CAG | D21: =HLOOKUP($B21,incroci!$C$58:$V$70,13,0) -> 187 | E21: =HLOOKUP($B21,incroci!$C$44:$V$46,3,0) -> 6 | H21: =HLOOKUP($B21,incroci!$C$58:$V$67,2,0) -> 41 | L21: =HLOOKUP($B21,incroci!$C$58:$V$70,12,0) -> 90 | M21: =HLOOKUP($B21,incroci!$C$44:$V$46,2,0) -> 6 | P21: =HLOOKUP($B21,incroci!$C$58:$V$67,10,0) -> 24 | T21: =D21-L21 -> 97 | U21: =(E21*38-M21*18)/20 -> 6 | X21: =H21-P21 -> 17
B22: CAT | D22: =HLOOKUP($B22,incroci!$AW$58:$BP$67,10,0) -> 186.5 | E22: =HLOOKUP($B22,portieri!$C$2:$V$43,42,0) -> 6.1184211 | F22: =HLOOKUP($B22,portieri!$C$63:$V$103,41,0) -> 6.2368421 | G22: =HLOOKUP($B22,portieri!$C$122:$V$162,41,0) -> 6 | H22: =HLOOKUP($B22,portieri!$AC$2:$AV$43,42,0) -> 46 | I22: =HLOOKUP($B22,portieri!$AC$2:$AV$48,46,0) -> 15 | J22: =HLOOKUP($B22,portieri!$AC$2:$AV$48,47,0) -> 31 | L22: =HLOOKUP($B22,incroci!$AW$58:$BP$68,11,0) -> 88.5 | M22: =HLOOKUP($B22,portieri!$C$2:$V$43,41,0) -> 6.0789474 | N22: =HLOOKUP($B22,portieri!$C$63:$V$103,40,0) -> 6.3333333 | O22: =HLOOKUP($B22,portieri!$C$122:$V$162,40,0) -> 5.8333333 | P22: =HLOOKUP($B22,portieri!$AC$2:$AV$53,49,0) -> 27 | Q22: =HLOOKUP($B22,portieri!$AC$2:$AV$53,51,0) -> 9 | R22: =HLOOKUP($B22,portieri!$AC$2:$AV$53,52,0) -> 18 | T22: =D22-L22 -> 98 | U22: =(E22*38-M22*18)/20 -> 6.1539474 | V22: =(F22*38-N22*18)/20 -> 6.15 | W22: =(G22*38-O22*18)/20 -> 6.15 | X22: =H22-P22 -> 19 | Y22: =I22-Q22 -> 6 | Z22: =J22-R22 -> 13
B23: BOL-CHI | D23: =HLOOKUP($B23,incroci!$C$58:$V$70,13,0) -> 186.5 | E23: =HLOOKUP($B23,incroci!$C$44:$V$46,3,0) -> 5.9605263 | H23: =HLOOKUP($B23,incroci!$C$58:$V$67,2,0) -> 40 | L23: =HLOOKUP($B23,incroci!$C$58:$V$70,12,0) -> 91.5 | M23: =HLOOKUP($B23,incroci!$C$44:$V$46,2,0) -> 5.8684211 | P23: =HLOOKUP($B23,incroci!$C$58:$V$67,10,0) -> 20 | T23: =D23-L23 -> 95 | U23: =(E23*38-M23*18)/20 -> 6.0434211 | X23: =H23-P23 -> 20
B24: PAR-ROM | D24: =HLOOKUP($B24,incroci!$C$58:$V$70,13,0) -> 186.5 | E24: =HLOOKUP($B24,incroci!$C$44:$V$46,3,0) -> 6.0657895 | H24: =HLOOKUP($B24,incroci!$C$58:$V$67,2,0) -> 44 | L24: =HLOOKUP($B24,incroci!$C$58:$V$70,12,0) -> 95 | M24: =HLOOKUP($B24,incroci!$C$44:$V$46,2,0) -> 6.2105263 | P24: =HLOOKUP($B24,incroci!$C$58:$V$67,10,0) -> 23 | T24: =D24-L24 -> 91.5 | U24: =(E24*38-M24*18)/20 -> 5.9355263 | X24: =H24-P24 -> 21
B25: INT-MIL | D25: =HLOOKUP($B25,incroci!$C$58:$V$70,13,0) -> 185 | E25: =HLOOKUP($B25,incroci!$C$44:$V$46,3,0) -> 6.0789474 | H25: =HLOOKUP($B25,incroci!$C$58:$V$67,2,0) -> 46 | L25: =HLOOKUP($B25,incroci!$C$58:$V$70,12,0) -> 93.5 | M25: =HLOOKUP($B25,incroci!$C$44:$V$46,2,0) -> 6.0263158 | P25: =HLOOKUP($B25,incroci!$C$58:$V$67,10,0) -> 21 | T25: =D25-L25 -> 91.5 | U25: =(E25*38-M25*18)/20 -> 6.1263158 | X25: =H25-P25 -> 25
B26: UDI | D26: =HLOOKUP($B26,incroci!$AW$58:$BP$67,10,0) -> 184.5 | E26: =HLOOKUP($B26,portieri!$C$2:$V$43,42,0) -> 6.0394737 | F26: =HLOOKUP($B26,portieri!$C$63:$V$103,41,0) -> 5.9736842 | G26: =HLOOKUP($B26,portieri!$C$122:$V$162,41,0) -> 6.1052632 | H26: =HLOOKUP($B26,portieri!$AC$2:$AV$43,42,0) -> 45 | I26: =HLOOKUP($B26,portieri!$AC$2:$AV$48,46,0) -> 16 | J26: =HLOOKUP($B26,portieri!$AC$2:$AV$48,47,0) -> 29 | L26: =HLOOKUP($B26,incroci!$AW$58:$BP$68,11,0) -> 88.5 | M26: =HLOOKUP($B26,portieri!$C$2:$V$43,41,0) -> 6.0263158 | N26: =HLOOKUP($B26,portieri!$C$63:$V$103,40,0) -> 5.75 | O26: =HLOOKUP($B26,portieri!$C$122:$V$162,40,0) -> 6.15 | P26: =HLOOKUP($B26,portieri!$AC$2:$AV$53,49,0) -> 26 | Q26: =HLOOKUP($B26,portieri!$AC$2:$AV$53,51,0) -> 11 | R26: =HLOOKUP($B26,portieri!$AC$2:$AV$53,52,0) -> 15 | T26: =D26-L26 -> 96 | U26: =(E26*38-M26*18)/20 -> 6.0513158 | V26: =(F26*38-N26*18)/20 -> 6.175 | W26: =(G26*38-O26*18)/20 -> 6.065 | X26: =H26-P26 -> 19 | Y26: =I26-Q26 -> 5 | Z26: =J26-R26 -> 14
B27: NAP-ATA | D27: =HLOOKUP($B27,incroci!$C$58:$V$70,13,0) -> 184.5 | E27: =HLOOKUP($B27,incroci!$C$44:$V$46,3,0) -> 5.9605263 | H27: =HLOOKUP($B27,incroci!$C$58:$V$67,2,0) -> 42 | L27: =HLOOKUP($B27,incroci!$C$58:$V$70,12,0) -> 90 | M27: =HLOOKUP($B27,incroci!$C$44:$V$46,2,0) -> 5.9473684 | P27: =HLOOKUP($B27,incroci!$C$58:$V$67,10,0) -> 23 | T27: =D27-L27 -> 94.5 | U27: =(E27*38-M27*18)/20 -> 5.9723684 | X27: =H27-P27 -> 19
B28: BOL-MIL | D28: =HLOOKUP($B28,incroci!$C$58:$V$70,13,0) -> 184 | E28: =HLOOKUP($B28,incroci!$C$44:$V$46,3,0) -> 5.9210526 | H28: =HLOOKUP($B28,incroci!$C$58:$V$67,2,0) -> 41 | L28: =HLOOKUP($B28,incroci!$C$58:$V$70,12,0) -> 87.5 | M28: =HLOOKUP($B28,incroci!$C$44:$V$46,2,0) -> 5.7631579 | P28: =HLOOKUP($B28,incroci!$C$58:$V$67,10,0) -> 22 | T28: =D28-L28 -> 96.5 | U28: =(E28*38-M28*18)/20 -> 6.0631579 | X28: =H28-P28 -> 19
B29: CHI | D29: =HLOOKUP($B29,incroci!$AW$58:$BP$67,10,0) -> 182.5 | E29: =HLOOKUP($B29,portieri!$C$2:$V$43,42,0) -> 6.1710526 | F29: =HLOOKUP($B29,portieri!$C$63:$V$103,41,0) -> 6.2105263 | G29: =HLOOKUP($B29,portieri!$C$122:$V$162,41,0) -> 6.1315789 | H29: =HLOOKUP($B29,portieri!$AC$2:$AV$43,42,0) -> 52 | I29: =HLOOKUP($B29,portieri!$AC$2:$AV$48,46,0) -> 16 | J29: =HLOOKUP($B29,portieri!$AC$2:$AV$48,47,0) -> 36 | L29: =HLOOKUP($B29,incroci!$AW$58:$BP$68,11,0) -> 89.5 | M29: =HLOOKUP($B29,portieri!$C$2:$V$43,41,0) -> 6.2368421 | N29: =HLOOKUP($B29,portieri!$C$63:$V$103,40,0) -> 6.0555556 | O29: =HLOOKUP($B29,portieri!$C$122:$V$162,40,0) -> 6.3888889 | P29: =HLOOKUP($B29,portieri!$AC$2:$AV$53,49,0) -> 29 | Q29: =HLOOKUP($B29,portieri!$AC$2:$AV$53,51,0) -> 9 | R29: =HLOOKUP($B29,portieri!$AC$2:$AV$53,52,0) -> 20 | T29: =D29-L29 -> 93 | U29: =(E29*38-M29*18)/20 -> 6.1118421 | V29: =(F29*38-N29*18)/20 -> 6.35 | W29: =(G29*38-O29*18)/20 -> 5.9 | X29: =H29-P29 -> 23 | Y29: =I29-Q29 -> 7 | Z29: =J29-R29 -> 16
B30: FIO | D30: =HLOOKUP($B30,incroci!$AW$58:$BP$67,10,0) -> 182 | E30: =HLOOKUP($B30,portieri!$C$2:$V$43,42,0) -> 5.9473684 | F30: =HLOOKUP($B30,portieri!$C$63:$V$103,41,0) -> 6.1052632 | G30: =HLOOKUP($B30,portieri!$C$122:$V$162,41,0) -> 5.7894737 | H30: =HLOOKUP($B30,portieri!$AC$2:$AV$43,42,0) -> 44 | I30: =HLOOKUP($B30,portieri!$AC$2:$AV$48,46,0) -> 19 | J30: =HLOOKUP($B30,portieri!$AC$2:$AV$48,47,0) -> 25 | L30: =HLOOKUP($B30,incroci!$AW$58:$BP$68,11,0) -> 94.5 | M30: =HLOOKUP($B30,portieri!$C$2:$V$43,41,0) -> 6.0789474 | N30: =HLOOKUP($B30,portieri!$C$63:$V$103,40,0) -> 6.1111111 | O30: =HLOOKUP($B30,portieri!$C$122:$V$162,40,0) -> 6.0555556 | P30: =HLOOKUP($B30,portieri!$AC$2:$AV$53,49,0) -> 21 | Q30: =HLOOKUP($B30,portieri!$AC$2:$AV$53,51,0) -> 8 | R30: =HLOOKUP($B30,portieri!$AC$2:$AV$53,52,0) -> 13 | T30: =D30-L30 -> 87.5 | U30: =(E30*38-M30*18)/20 -> 5.8289474 | V30: =(F30*38-N30*18)/20 -> 6.1 | W30: =(G30*38-O30*18)/20 -> 5.55 | X30: =H30-P30 -> 23 | Y30: =I30-Q30 -> 11 | Z30: =J30-R30 -> 12
B31: UDI-ROM | D31: =HLOOKUP($B31,incroci!$C$58:$V$70,13,0) -> 182 | E31: =HLOOKUP($B31,incroci!$C$44:$V$46,3,0) -> 5.9210526 | H31: =HLOOKUP($B31,incroci!$C$58:$V$67,2,0) -> 43 | L31: =HLOOKUP($B31,incroci!$C$58:$V$70,12,0) -> 82 | M31: =HLOOKUP($B31,incroci!$C$44:$V$46,2,0) -> 5.8947368 | P31: =HLOOKUP($B31,incroci!$C$58:$V$67,10,0) -> 30 | T31: =D31-L31 -> 100 | U31: =(E31*38-M31*18)/20 -> 5.9447368 | X31: =H31-P31 -> 13
B32: INT | D32: =HLOOKUP($B32,incroci!$AW$58:$BP$67,10,0) -> 181.5 | E32: =HLOOKUP($B32,portieri!$C$2:$V$43,42,0) -> 6.2763158 | F32: =HLOOKUP($B32,portieri!$C$63:$V$103,41,0) -> 6.1578947 | G32: =HLOOKUP($B32,portieri!$C$122:$V$162,41,0) -> 6.3947368 | H32: =HLOOKUP($B32,portieri!$AC$2:$AV$43,42,0) -> 57 | I32: =HLOOKUP($B32,portieri!$AC$2:$AV$48,46,0) -> 31 | J32: =HLOOKUP($B32,portieri!$AC$2:$AV$48,47,0) -> 26 | L32: =HLOOKUP($B32,incroci!$AW$58:$BP$68,11,0) -> 98 | M32: =HLOOKUP($B32,portieri!$C$2:$V$43,41,0) -> 6.3157895 | N32: =HLOOKUP($B32,portieri!$C$63:$V$103,40,0) -> 6.2222222 | O32: =HLOOKUP($B32,portieri!$C$122:$V$162,40,0) -> 6.5 | P32: =HLOOKUP($B32,portieri!$AC$2:$AV$53,49,0) -> 22 | Q32: =HLOOKUP($B32,portieri!$AC$2:$AV$53,51,0) -> 12 | R32: =HLOOKUP($B32,portieri!$AC$2:$AV$53,52,0) -> 10 | T32: =D32-L32 -> 83.5 | U32: =(E32*38-M32*18)/20 -> 6.2407895 | V32: =(F32*38-N32*18)/20 -> 6.1 | W32: =(G32*38-O32*18)/20 -> 6.3 | X32: =H32-P32 -> 35 | Y32: =I32-Q32 -> 19 | Z32: =J32-R32 -> 16
B33: SIE | D33: =HLOOKUP($B33,incroci!$AW$58:$BP$67,10,0) -> 180.5 | E33: =HLOOKUP($B33,portieri!$C$2:$V$43,42,0) -> 6.25 | F33: =HLOOKUP($B33,portieri!$C$63:$V$103,41,0) -> 6.3947368 | G33: =HLOOKUP($B33,portieri!$C$122:$V$162,41,0) -> 6.1052632 | H33: =HLOOKUP($B33,portieri!$AC$2:$AV$43,42,0) -> 57 | I33: =HLOOKUP($B33,portieri!$AC$2:$AV$48,46,0) -> 19 | J33: =HLOOKUP($B33,portieri!$AC$2:$AV$48,47,0) -> 38 | L33: =HLOOKUP($B33,incroci!$AW$58:$BP$68,11,0) -> 91.5 | M33: =HLOOKUP($B33,portieri!$C$2:$V$43,41,0) -> 6.2894737 | N33: =HLOOKUP($B33,portieri!$C$63:$V$103,40,0) -> 6.35 | O33: =HLOOKUP($B33,portieri!$C$122:$V$162,40,0) -> 6.25 | P33: =HLOOKUP($B33,portieri!$AC$2:$AV$53,49,0) -> 28 | Q33: =HLOOKUP($B33,portieri!$AC$2:$AV$53,51,0) -> 12 | R33: =HLOOKUP($B33,portieri!$AC$2:$AV$53,52,0) -> 16 | T33: =D33-L33 -> 89 | U33: =(E33*38-M33*18)/20 -> 6.2144737 | V33: =(F33*38-N33*18)/20 -> 6.435 | W33: =(G33*38-O33*18)/20 -> 5.975 | X33: =H33-P33 -> 29 | Y33: =I33-Q33 -> 7 | Z33: =J33-R33 -> 22
B34: CAG | D34: =HLOOKUP($B34,incroci!$AW$58:$BP$67,10,0) -> 180.5 | E34: =HLOOKUP($B34,portieri!$C$2:$V$43,42,0) -> 6.1973684 | F34: =HLOOKUP($B34,portieri!$C$63:$V$103,41,0) -> 6.1578947 | G34: =HLOOKUP($B34,portieri!$C$122:$V$162,41,0) -> 6.2368421 | H34: =HLOOKUP($B34,portieri!$AC$2:$AV$43,42,0) -> 55 | I34: =HLOOKUP($B34,portieri!$AC$2:$AV$48,46,0) -> 24 | J34: =HLOOKUP($B34,portieri!$AC$2:$AV$48,47,0) -> 31 | L34: =HLOOKUP($B34,incroci!$AW$58:$BP$68,11,0) -> 80.5 | M34: =HLOOKUP($B34,portieri!$C$2:$V$43,41,0) -> 6.0789474 | N34: =HLOOKUP($B34,portieri!$C$63:$V$103,40,0) -> 6.1111111 | O34: =HLOOKUP($B34,portieri!$C$122:$V$162,40,0) -> 6.1111111 | P34: =HLOOKUP($B34,portieri!$AC$2:$AV$53,49,0) -> 35 | Q34: =HLOOKUP($B34,portieri!$AC$2:$AV$53,51,0) -> 14 | R34: =HLOOKUP($B34,portieri!$AC$2:$AV$53,52,0) -> 21 | T34: =D34-L34 -> 100 | U34: =(E34*38-M34*18)/20 -> 6.3039474 | V34: =(F34*38-N34*18)/20 -> 6.2 | W34: =(G34*38-O34*18)/20 -> 6.35 | X34: =H34-P34 -> 20 | Y34: =I34-Q34 -> 10 | Z34: =J34-R34 -> 10
B35: FIO-ATA | D35: =HLOOKUP($B35,incroci!$C$58:$V$70,13,0) -> 180.5 | E35: =HLOOKUP($B35,incroci!$C$44:$V$46,3,0) -> 5.9605263 | H35: =HLOOKUP($B35,incroci!$C$58:$V$67,2,0) -> 46 | L35: =HLOOKUP($B35,incroci!$C$58:$V$70,12,0) -> 93.5 | M35: =HLOOKUP($B35,incroci!$C$44:$V$46,2,0) -> 6.0263158 | P35: =HLOOKUP($B35,incroci!$C$58:$V$67,10,0) -> 21 | T35: =D35-L35 -> 87 | U35: =(E35*38-M35*18)/20 -> 5.9013158 | X35: =H35-P35 -> 25
B36: GEN | D36: =HLOOKUP($B36,incroci!$AW$58:$BP$67,10,0) -> 180 | E36: =HLOOKUP($B36,portieri!$C$2:$V$43,42,0) -> 6.1052632 | F36: =HLOOKUP($B36,portieri!$C$63:$V$103,41,0) -> 6.0526316 | G36: =HLOOKUP($B36,portieri!$C$122:$V$162,41,0) -> 6.1578947 | H36: =HLOOKUP($B36,portieri!$AC$2:$AV$43,42,0) -> 52 | I36: =HLOOKUP($B36,portieri!$AC$2:$AV$48,46,0) -> 30 | J36: =HLOOKUP($B36,portieri!$AC$2:$AV$48,47,0) -> 22 | L36: =HLOOKUP($B36,incroci!$AW$58:$BP$68,11,0) -> 86.5 | M36: =HLOOKUP($B36,portieri!$C$2:$V$43,41,0) -> 6.1315789 | N36: =HLOOKUP($B36,portieri!$C$63:$V$103,40,0) -> 6.0555556 | O36: =HLOOKUP($B36,portieri!$C$122:$V$162,40,0) -> 6.1666667 | P36: =HLOOKUP($B36,portieri!$AC$2:$AV$53,49,0) -> 30 | Q36: =HLOOKUP($B36,portieri!$AC$2:$AV$53,51,0) -> 19 | R36: =HLOOKUP($B36,portieri!$AC$2:$AV$53,52,0) -> 11 | T36: =D36-L36 -> 93.5 | U36: =(E36*38-M36*18)/20 -> 6.0815789 | V36: =(F36*38-N36*18)/20 -> 6.05 | W36: =(G36*38-O36*18)/20 -> 6.15 | X36: =H36-P36 -> 22 | Y36: =I36-Q36 -> 11 | Z36: =J36-R36 -> 11
B37: GEN-SAM | D37: =HLOOKUP($B37,incroci!$C$58:$V$70,13,0) -> 178.5 | E37: =HLOOKUP($B37,incroci!$C$44:$V$46,3,0) -> 6.0657895 | H37: =HLOOKUP($B37,incroci!$C$58:$V$67,2,0) -> 52 | L37: =HLOOKUP($B37,incroci!$C$58:$V$70,12,0) -> 88 | M37: =HLOOKUP($B37,incroci!$C$44:$V$46,2,0) -> 6.1578947 | P37: =HLOOKUP($B37,incroci!$C$58:$V$67,10,0) -> 29 | T37: =D37-L37 -> 90.5 | U37: =(E37*38-M37*18)/20 -> 5.9828947 | X37: =H37-P37 -> 23
B38: TOR | D38: =HLOOKUP($B38,incroci!$AW$58:$BP$67,10,0) -> 177 | E38: =HLOOKUP($B38,portieri!$C$2:$V$43,42,0) -> 6.1052632 | F38: =HLOOKUP($B38,portieri!$C$63:$V$103,41,0) -> 6.0263158 | G38: =HLOOKUP($B38,portieri!$C$122:$V$162,41,0) -> 6.1842105 | H38: =HLOOKUP($B38,portieri!$AC$2:$AV$43,42,0) -> 55 | I38: =HLOOKUP($B38,portieri!$AC$2:$AV$48,46,0) -> 26 | J38: =HLOOKUP($B38,portieri!$AC$2:$AV$48,47,0) -> 29 | L38: =HLOOKUP($B38,incroci!$AW$58:$BP$68,11,0) -> 95.5 | M38: =HLOOKUP($B38,portieri!$C$2:$V$43,41,0) -> 6.1842105 | N38: =HLOOKUP($B38,portieri!$C$63:$V$103,40,0) -> 5.9444444 | O38: =HLOOKUP($B38,portieri!$C$122:$V$162,40,0) -> 6.3333333 | P38: =HLOOKUP($B38,portieri!$AC$2:$AV$53,49,0) -> 22 | Q38: =HLOOKUP($B38,portieri!$AC$2:$AV$53,51,0) -> 12 | R38: =HLOOKUP($B38,portieri!$AC$2:$AV$53,52,0) -> 10 | T38: =D38-L38 -> 81.5 | U38: =(E38*38-M38*18)/20 -> 6.0342105 | V38: =(F38*38-N38*18)/20 -> 6.1 | W38: =(G38*38-O38*18)/20 -> 6.05 | X38: =H38-P38 -> 33 | Y38: =I38-Q38 -> 14 | Z38: =J38-R38 -> 19
B39: ATA | D39: =HLOOKUP($B39,incroci!$AW$58:$BP$67,10,0) -> 176 | E39: =HLOOKUP($B39,portieri!$C$2:$V$43,42,0) -> 6.1052632 | F39: =HLOOKUP($B39,portieri!$C$63:$V$103,41,0) -> 5.9473684 | G39: =HLOOKUP($B39,portieri!$C$122:$V$162,41,0) -> 6.2631579 | H39: =HLOOKUP($B39,portieri!$AC$2:$AV$43,42,0) -> 56 | I39: =HLOOKUP($B39,portieri!$AC$2:$AV$48,46,0) -> 24 | J39: =HLOOKUP($B39,portieri!$AC$2:$AV$48,47,0) -> 32 | L39: =HLOOKUP($B39,incroci!$AW$58:$BP$68,11,0) -> 88 | M39: =HLOOKUP($B39,portieri!$C$2:$V$43,41,0) -> 6.1052632 | N39: =HLOOKUP($B39,portieri!$C$63:$V$103,40,0) -> 6 | O39: =HLOOKUP($B39,portieri!$C$122:$V$162,40,0) -> 6.2222222 | P39: =HLOOKUP($B39,portieri!$AC$2:$AV$53,49,0) -> 28 | Q39: =HLOOKUP($B39,portieri!$AC$2:$AV$53,51,0) -> 12 | R39: =HLOOKUP($B39,portieri!$AC$2:$AV$53,52,0) -> 16 | T39: =D39-L39 -> 88 | U39: =(E39*38-M39*18)/20 -> 6.1052632 | V39: =(F39*38-N39*18)/20 -> 5.9 | W39: =(G39*38-O39*18)/20 -> 6.3 | X39: =H39-P39 -> 28 | Y39: =I39-Q39 -> 12 | Z39: =J39-R39 -> 16
B40: BOL | D40: =HLOOKUP($B40,incroci!$AW$58:$BP$67,10,0) -> 176 | E40: =HLOOKUP($B40,portieri!$C$2:$V$43,42,0) -> 6 | F40: =HLOOKUP($B40,portieri!$C$63:$V$103,41,0) -> 5.7105263 | G40: =HLOOKUP($B40,portieri!$C$122:$V$162,41,0) -> 6.2894737 | H40: =HLOOKUP($B40,portieri!$AC$2:$AV$43,42,0) -> 52 | I40: =HLOOKUP($B40,portieri!$AC$2:$AV$48,46,0) -> 24 | J40: =HLOOKUP($B40,portieri!$AC$2:$AV$48,47,0) -> 28 | L40: =HLOOKUP($B40,incroci!$AW$58:$BP$68,11,0) -> 85.5 | M40: =HLOOKUP($B40,portieri!$C$2:$V$43,41,0) -> 5.8684211 | N40: =HLOOKUP($B40,portieri!$C$63:$V$103,40,0) -> 5.6111111 | O40: =HLOOKUP($B40,portieri!$C$122:$V$162,40,0) -> 6.1111111 | P40: =HLOOKUP($B40,portieri!$AC$2:$AV$53,49,0) -> 26 | Q40: =HLOOKUP($B40,portieri!$AC$2:$AV$53,51,0) -> 11 | R40: =HLOOKUP($B40,portieri!$AC$2:$AV$53,52,0) -> 15 | T40: =D40-L40 -> 90.5 | U40: =(E40*38-M40*18)/20 -> 6.1184211 | V40: =(F40*38-N40*18)/20 -> 5.8 | W40: =(G40*38-O40*18)/20 -> 6.45 | X40: =H40-P40 -> 26 | Y40: =I40-Q40 -> 13 | Z40: =J40-R40 -> 13
B41: SAM | D41: =HLOOKUP($B41,incroci!$AW$58:$BP$67,10,0) -> 174.5 | E41: =HLOOKUP($B41,portieri!$C$2:$V$43,42,0) -> 5.9342105 | F41: =HLOOKUP($B41,portieri!$C$63:$V$103,41,0) -> 6.0789474 | G41: =HLOOKUP($B41,portieri!$C$122:$V$162,41,0) -> 5.7894737 | H41: =HLOOKUP($B41,portieri!$AC$2:$AV$43,42,0) -> 51 | I41: =HLOOKUP($B41,portieri!$AC$2:$AV$48,46,0) -> 22 | J41: =HLOOKUP($B41,portieri!$AC$2:$AV$48,47,0) -> 29 | L41: =HLOOKUP($B41,incroci!$AW$58:$BP$68,11,0) -> 85.5 | M41: =HLOOKUP($B41,portieri!$C$2:$V$43,41,0) -> 5.9736842 | N41: =HLOOKUP($B41,portieri!$C$63:$V$103,40,0) -> 6.2222222 | O41: =HLOOKUP($B41,portieri!$C$122:$V$162,40,0) -> 5.6666667 | P41: =HLOOKUP($B41,portieri!$AC$2:$AV$53,49,0) -> 28 | Q41: =HLOOKUP($B41,portieri!$AC$2:$AV$53,51,0) -> 10 | R41: =HLOOKUP($B41,portieri!$AC$2:$AV$53,52,0) -> 18 | T41: =D41-L41 -> 89 | U41: =(E41*38-M41*18)/20 -> 5.8986842 | V41: =(F41*38-N41*18)/20 -> 5.95 | W41: =(G41*38-O41*18)/20 -> 5.9 | X41: =H41-P41 -> 23 | Y41: =I41-Q41 -> 12 | Z41: =J41-R41 -> 11
B42: BOL-GEN | D42: =HLOOKUP($B42,incroci!$C$58:$V$70,13,0) -> 174 | E42: =HLOOKUP($B42,incroci!$C$44:$V$46,3,0) -> 5.9210526 | H42: =HLOOKUP($B42,incroci!$C$58:$V$67,2,0) -> 51 | L42: =HLOOKUP($B42,incroci!$C$58:$V$70,12,0) -> 85.5 | M42: =HLOOKUP($B42,incroci!$C$44:$V$46,2,0) -> 5.9210526 | P42: =HLOOKUP($B42,incroci!$C$58:$V$67,10,0) -> 27 | T42: =D42-L42 -> 88.5 | U42: =(E42*38-M42*18)/20 -> 5.9210526 | X42: =H42-P42 -> 24
B43: PAL | D43: =HLOOKUP($B43,incroci!$AW$58:$BP$67,10,0) -> 173 | E43: =HLOOKUP($B43,portieri!$C$2:$V$43,42,0) -> 5.9736842 | F43: =HLOOKUP($B43,portieri!$C$63:$V$103,41,0) -> 6.1052632 | G43: =HLOOKUP($B43,portieri!$C$122:$V$162,41,0) -> 5.8421053 | H43: =HLOOKUP($B43,portieri!$AC$2:$AV$43,42,0) -> 54 | I43: =HLOOKUP($B43,portieri!$AC$2:$AV$48,46,0) -> 26 | J43: =HLOOKUP($B43,portieri!$AC$2:$AV$48,47,0) -> 28 | L43: =HLOOKUP($B43,incroci!$AW$58:$BP$68,11,0) -> 83.5 | M43: =HLOOKUP($B43,portieri!$C$2:$V$43,41,0) -> 5.9210526 | N43: =HLOOKUP($B43,portieri!$C$63:$V$103,40,0) -> 6.2777778 | O43: =HLOOKUP($B43,portieri!$C$122:$V$162,40,0) -> 5.6666667 | P43: =HLOOKUP($B43,portieri!$AC$2:$AV$53,49,0) -> 29 | Q43: =HLOOKUP($B43,portieri!$AC$2:$AV$53,51,0) -> 12 | R43: =HLOOKUP($B43,portieri!$AC$2:$AV$53,52,0) -> 17 | T43: =D43-L43 -> 89.5 | U43: =(E43*38-M43*18)/20 -> 6.0210526 | V43: =(F43*38-N43*18)/20 -> 5.95 | W43: =(G43*38-O43*18)/20 -> 6 | X43: =H43-P43 -> 25 | Y43: =I43-Q43 -> 14 | Z43: =J43-R43 -> 11
B44: ROM | D44: =HLOOKUP($B44,incroci!$AW$58:$BP$67,10,0) -> 167 | E44: =HLOOKUP($B44,portieri!$C$2:$V$43,42,0) -> 5.8684211 | F44: =HLOOKUP($B44,portieri!$C$63:$V$103,41,0) -> 5.8684211 | G44: =HLOOKUP($B44,portieri!$C$122:$V$162,41,0) -> 5.8684211 | H44: =HLOOKUP($B44,portieri!$AC$2:$AV$43,42,0) -> 56 | I44: =HLOOKUP($B44,portieri!$AC$2:$AV$48,46,0) -> 24 | J44: =HLOOKUP($B44,portieri!$AC$2:$AV$48,47,0) -> 32 | L44: =HLOOKUP($B44,incroci!$AW$58:$BP$68,11,0) -> 80 | M44: =HLOOKUP($B44,portieri!$C$2:$V$43,41,0) -> 5.9473684 | N44: =HLOOKUP($B44,portieri!$C$63:$V$103,40,0) -> 6 | O44: =HLOOKUP($B44,portieri!$C$122:$V$162,40,0) -> 5.9444444 | P44: =HLOOKUP($B44,portieri!$AC$2:$AV$53,49,0) -> 33 | Q44: =HLOOKUP($B44,portieri!$AC$2:$AV$53,51,0) -> 14 | R44: =HLOOKUP($B44,portieri!$AC$2:$AV$53,52,0) -> 19 | T44: =D44-L44 -> 87 | U44: =(E44*38-M44*18)/20 -> 5.7973684 | V44: =(F44*38-N44*18)/20 -> 5.75 | W44: =(G44*38-O44*18)/20 -> 5.8 | X44: =H44-P44 -> 23 | Y44: =I44-Q44 -> 10 | Z44: =J44-R44 -> 13
B45: PES | D45: =HLOOKUP($B45,incroci!$AW$58:$BP$67,10,0) -> 150 | E45: =HLOOKUP($B45,portieri!$C$2:$V$43,42,0) -> 6.1578947 | F45: =HLOOKUP($B45,portieri!$C$63:$V$103,41,0) -> 5.8421053 | G45: =HLOOKUP($B45,portieri!$C$122:$V$162,41,0) -> 6.4736842 | H45: =HLOOKUP($B45,portieri!$AC$2:$AV$43,42,0) -> 84 | I45: =HLOOKUP($B45,portieri!$AC$2:$AV$48,46,0) -> 42 | J45: =HLOOKUP($B45,portieri!$AC$2:$AV$48,47,0) -> 42 | L45: =HLOOKUP($B45,incroci!$AW$58:$BP$68,11,0) -> 84 | M45: =HLOOKUP($B45,portieri!$C$2:$V$43,41,0) -> 6.2631579 | N45: =HLOOKUP($B45,portieri!$C$63:$V$103,40,0) -> 5.95 | O45: =HLOOKUP($B45,portieri!$C$122:$V$162,40,0) -> 6.4375 | P45: =HLOOKUP($B45,portieri!$AC$2:$AV$53,49,0) -> 35 | Q45: =HLOOKUP($B45,portieri!$AC$2:$AV$53,51,0) -> 17 | R45: =HLOOKUP($B45,portieri!$AC$2:$AV$53,52,0) -> 18 | T45: =D45-L45 -> 66 | U45: =(E45*38-M45*18)/20 -> 6.0631579 | V45: =(F45*38-N45*18)/20 -> 5.745 | W45: =(G45*38-O45*18)/20 -> 6.50625 | X45: =H45-P45 -> 49 | Y45: =I45-Q45 -> 25 | Z45: =J45-R45 -> 24

Sheet ordine tot
B2: PORTIERI | D2: MV | E2: MV | F2: MV | G2: GOL | H2: sub | I2: sub | M2: totale | S2: casa | Y2: fuori
C3: PUNTI | D3: tot | E3: casa | F3: fuori | G3: sub | H3: casa | I3: fuori | J3: i | K3: <5 | L3: 5.5 | M3: 6 | N3: 6.5 | O3: >7 | P3: i | Q3: <5 | R3: 5.5 | S3: 6 | T3: 6.5 | U3: >7 | V3: i | W3: <5 | X3: 5.5 | Y3: 6 | Z3: 6.5 | AA3: >7
B4: JUV | C4: =VLOOKUP($B4,'ordine conf'!$B:$K,3,0) -> 208.5 | D4: =VLOOKUP($B4,'ordine conf'!$B:$K,4,0) -> 6.1184211 | E4: =VLOOKUP($B4,'ordine conf'!$B:$K,5,0) -> 6.0263158 | F4: =VLOOKUP($B4,'ordine conf'!$B:$K,6,0) -> 6.2105263 | G4: =VLOOKUP($B4,'ordine conf'!$B:$K,7,0) -> 24 | H4: =VLOOKUP($B4,'ordine conf'!$B:$K,8,0) -> 10 | I4: =VLOOKUP($B4,'ordine conf'!$B:$K,9,0) -> 14 | K4: =IF(HLOOKUP($B4,portieri!$C$53:$V$60,K$47,0)>0,HLOOKUP($B4,portieri!$C$53:$V$60,K$47,0),"") -> 1 | L4: =IF(HLOOKUP($B4,portieri!$C$53:$V$60,L$47,0)>0,HLOOKUP($B4,portieri!$C$53:$V$60,L$47,0),"") -> 3 | M4: =IF(HLOOKUP($B4,portieri!$C$53:$V$60,M$47,0)>0,HLOOKUP($B4,portieri!$C$53:$V$60,M$47,0),"") -> 23 | N4: =IF(HLOOKUP($B4,portieri!$C$53:$V$60,N$47,0)>0,HLOOKUP($B4,portieri!$C$53:$V$60,N$47,0),"") -> 7 | O4: =IF(HLOOKUP($B4,portieri!$C$53:$V$60,O$47,0)>0,HLOOKUP($B4,portieri!$C$53:$V$60,O$47,0),"") -> 4 | Q4: =IF(HLOOKUP($B4,portieri!$C$113:$V$120,Q$47,0)>0,HLOOKUP($B4,portieri!$C$113:$V$120,Q$47,0),0) -> 1 | R4: =IF(HLOOKUP($B4,portieri!$C$113:$V$120,R$47,0)>0,HLOOKUP($B4,portieri!$C$113:$V$120,R$47,0),0) -> 1 | S4: =IF(HLOOKUP($B4,portieri!$C$113:$V$120,S$47,0)>0,HLOOKUP($B4,portieri!$C$113:$V$120,S$47,0),0) -> 13 | T4: =IF(HLOOKUP($B4,portieri!$C$113:$V$120,T$47,0)>0,HLOOKUP($B4,portieri!$C$113:$V$120,T$47,0),0) -> 3 | U4: =IF(HLOOKUP($B4,portieri!$C$113:$V$120,U$47,0)>0,HLOOKUP($B4,portieri!$C$113:$V$120,U$47,0),0) -> 1 | W4: =IF(HLOOKUP($B4,portieri!$C$172:$V$179,W$47,0)>0,HLOOKUP($B4,portieri!$C$172:$V$179,W$47,0),0) -> 0 | X4: =IF(HLOOKUP($B4,portieri!$C$172:$V$179,X$47,0)>0,HLOOKUP($B4,portieri!$C$172:$V$179,X$47,0),0) -> 2 | Y4: =IF(HLOOKUP($B4,portieri!$C$172:$V$179,Y$47,0)>0,HLOOKUP($B4,portieri!$C$172:$V$179,Y$47,0),0) -> 10 | Z4: =IF(HLOOKUP($B4,portieri!$C$172:$V$179,Z$47,0)>0,HLOOKUP($B4,portieri!$C$172:$V$179,Z$47,0),0) -> 4 | AA4: =IF(HLOOKUP($B4,portieri!$C$172:$V$179,AA$47,0)>0,HLOOKUP($B4,portieri!$C$172:$V$179,AA$47,0),0) -> 3 | AD4: =SUM(K4:O4) -> 38 | AE4: =SUM(Q4:U4) -> 19 | AF4: =SUM(W4:AA4) -> 19
B5: LAZ-SIE | C5: =VLOOKUP($B5,'ordine conf'!$B:$K,3,0) -> 207.5 | D5: =VLOOKUP($B5,'ordine conf'!$B:$K,4,0) -> 6.3026316 | G5: =VLOOKUP($B5,'ordine conf'!$B:$K,7,0) -> 32 | K5: =IF(HLOOKUP($B5,incroci!$C$58:$V$64,K$47,0)>0,HLOOKUP($B5,incroci!$C$58:$V$64,K$47,0),0) -> 2 | L5: =IF(HLOOKUP($B5,incroci!$C$58:$V$64,L$47,0)>0,HLOOKUP($B5,incroci!$C$58:$V$64,L$47,0),0) -> 2 | M5: =IF(HLOOKUP($B5,incroci!$C$58:$V$64,M$47,0)>0,HLOOKUP($B5,incroci!$C$58:$V$64,M$47,0),0) -> 14 | N5: =IF(HLOOKUP($B5,incroci!$C$58:$V$64,N$47,0)>0,HLOOKUP($B5,incroci!$C$58:$V$64,N$47,0),0) -> 12 | O5: =IF(HLOOKUP($B5,incroci!$C$58:$V$64,O$47,0)>0,HLOOKUP($B5,incroci!$C$58:$V$64,O$47,0),0) -> 8 | AD5: =SUM(K5:O5) -> 38 | AE5: =SUM(Q5:U5) -> 0 | AF5: =SUM(W5:AA5) -> 0
B6: PAR-SIE | C6: =VLOOKUP($B6,'ordine conf'!$B:$K,3,0) -> 204.5 | D6: =VLOOKUP($B6,'ordine conf'!$B:$K,4,0) -> 6.3552632 | G6: =VLOOKUP($B6,'ordine conf'!$B:$K,7,0) -> 37 | K6: =IF(HLOOKUP($B6,incroci!$C$58:$V$64,K$47,0)>0,HLOOKUP($B6,incroci!$C$58:$V$64,K$47,0),0) -> 3 | L6: =IF(HLOOKUP($B6,incroci!$C$58:$V$64,L$47,0)>0,HLOOKUP($B6,incroci!$C$58:$V$64,L$47,0),0) -> 0 | M6: =IF(HLOOKUP($B6,incroci!$C$58:$V$64,M$47,0)>0,HLOOKUP($B6,incroci!$C$58:$V$64,M$47,0),0) -> 12 | N6: =IF(HLOOKUP($B6,incroci!$C$58:$V$64,N$47,0)>0,HLOOKUP($B6,incroci!$C$58:$V$64,N$47,0),0) -> 15 | O6: =IF(HLOOKUP($B6,incroci!$C$58:$V$64,O$47,0)>0,HLOOKUP($B6,incroci!$C$58:$V$64,O$47,0),0) -> 8 | AD6: =SUM(K6:O6) -> 38 | AE6: =SUM(Q6:U6) -> 0 | AF6: =SUM(W6:AA6) -> 0
B7: LAZ | C7: =VLOOKUP($B7,'ordine conf'!$B:$K,3,0) -> 196 | D7: =VLOOKUP($B7,'ordine conf'!$B:$K,4,0) -> 6.2631579 | E7: =VLOOKUP($B7,'ordine conf'!$B:$K,5,0) -> 6.2368421 | F7: =VLOOKUP($B7,'ordine conf'!$B:$K,6,0) -> 6.2894737 | G7: =VLOOKUP($B7,'ordine conf'!$B:$K,7,0) -> 42 | H7: =VLOOKUP($B7,'ordine conf'!$B:$K,8,0) -> 16 | I7: =VLOOKUP($B7,'ordine conf'!$B:$K,9,0) -> 26 | K7: =IF(HLOOKUP($B7,portieri!$C$53:$V$60,K$47,0)>0,HLOOKUP($B7,portieri!$C$53:$V$60,K$47,0),"") -> 3 | L7: =IF(HLOOKUP($B7,portieri!$C$53:$V$60,L$47,0)>0,HLOOKUP($B7,portieri!$C$53:$V$60,L$47,0),"") -> 3 | M7: =IF(HLOOKUP($B7,portieri!$C$53:$V$60,M$47,0)>0,HLOOKUP($B7,portieri!$C$53:$V$60,M$47,0),"") -> 12 | N7: =IF(HLOOKUP($B7,portieri!$C$53:$V$60,N$47,0)>0,HLOOKUP($B7,portieri!$C$53:$V$60,N$47,0),"") -> 13 | O7: =IF(HLOOKUP($B7,portieri!$C$53:$V$60,O$47,0)>0,HLOOKUP($B7,portieri!$C$53:$V$60,O$47,0),"") -> 7 | Q7: =IF(HLOOKUP($B7,portieri!$C$113:$V$120,Q$47,0)>0,HLOOKUP($B7,portieri!$C$113:$V$120,Q$47,0),0) -> 1 | R7: =IF(HLOOKUP($B7,portieri!$C$113:$V$120,R$47,0)>0,HLOOKUP($B7,portieri!$C$113:$V$120,R$47,0),0) -> 2 | S7: =IF(HLOOKUP($B7,portieri!$C$113:$V$120,S$47,0)>0,HLOOKUP($B7,portieri!$C$113:$V$120,S$47,0),0) -> 7 | T7: =IF(HLOOKUP($B7,portieri!$C$113:$V$120,T$47,0)>0,HLOOKUP($B7,portieri!$C$113:$V$120,T$47,0),0) -> 5 | U7: =IF(HLOOKUP($B7,portieri!$C$113:$V$120,U$47,0)>0,HLOOKUP($B7,portieri!$C$113:$V$120,U$47,0),0) -> 4 | W7: =IF(HLOOKUP($B7,portieri!$C$172:$V$179,W$47,0)>0,HLOOKUP($B7,portieri!$C$172:$V$179,W$47,0),0) -> 2 | X7: =IF(HLOOKUP($B7,portieri!$C$172:$V$179,X$47,0)>0,HLOOKUP($B7,portieri!$C$172:$V$179,X$47,0),0) -> 1 | Y7: =IF(HLOOKUP($B7,portieri!$C$172:$V$179,Y$47,0)>0,HLOOKUP($B7,portieri!$C$172:$V$179,Y$47,0),0) -> 5 | Z7: =IF(HLOOKUP($B7,portieri!$C$172:$V$179,Z$47,0)>0,HLOOKUP($B7,portieri!$C$172:$V$179,Z$47,0),0) -> 8 | AA7: =IF(HLOOKUP($B7,portieri!$C$172:$V$179,AA$47,0)>0,HLOOKUP($B7,portieri!$C$172:$V$179,AA$47,0),0) -> 3 | AD7: =SUM(K7:O7) -> 38 | AE7: =SUM(Q7:U7) -> 19 | AF7: =SUM(W7:AA7) -> 19
B8: CAT-PAL | C8: =VLOOKUP($B8,'ordine conf'!$B:$K,3,0) -> 193.5 | D8: =VLOOKUP($B8,'ordine conf'!$B:$K,4,0) -> 6.1710526 | G8: =VLOOKUP($B8,'ordine conf'!$B:$K,7,0) -> 41 | K8: =IF(HLOOKUP($B8,incroci!$C$58:$V$64,K$47,0)>0,HLOOKUP($B8,incroci!$C$58:$V$64,K$47,0),0) -> 3 | L8: =IF(HLOOKUP($B8,incroci!$C$58:$V$64,L$47,0)>0,HLOOKUP($B8,incroci!$C$58:$V$64,L$47,0),0) -> 5 | M8: =IF(HLOOKUP($B8,incroci!$C$58:$V$64,M$47,0)>0,HLOOKUP($B8,incroci!$C$58:$V$64,M$47,0),0) -> 13 | N8: =IF(HLOOKUP($B8,incroci!$C$58:$V$64,N$47,0)>0,HLOOKUP($B8,incroci!$C$58:$V$64,N$47,0),0) -> 12 | O8: =IF(HLOOKUP($B8,incroci!$C$58:$V$64,O$47,0)>0,HLOOKUP($B8,incroci!$C$58:$V$64,O$47,0),0) -> 5 | AD8: =SUM(K8:O8) -> 38 | AE8: =SUM(Q8:U8) -> 0 | AF8: =SUM(W8:AA8) -> 0
B9: SAM-CHI | C9: =VLOOKUP($B9,'ordine conf'!$B:$K,3,0) -> 193 | D9: =VLOOKUP($B9,'ordine conf'!$B:$K,4,0) -> 6.1315789 | G9: =VLOOKUP($B9,'ordine conf'!$B:$K,7,0) -> 40 | K9: =IF(HLOOKUP($B9,incroci!$C$58:$V$64,K$47,0)>0,HLOOKUP($B9,incroci!$C$58:$V$64,K$47,0),0) -> 3 | L9: =IF(HLOOKUP($B9,incroci!$C$58:$V$64,L$47,0)>0,HLOOKUP($B9,incroci!$C$58:$V$64,L$47,0),0) -> 4 | M9: =IF(HLOOKUP($B9,incroci!$C$58:$V$64,M$47,0)>0,HLOOKUP($B9,incroci!$C$58:$V$64,M$47,0),0) -> 16 | N9: =IF(HLOOKUP($B9,incroci!$C$58:$V$64,N$47,0)>0,HLOOKUP($B9,incroci!$C$58:$V$64,N$47,0),0) -> 11 | O9: =IF(HLOOKUP($B9,incroci!$C$58:$V$64,O$47,0)>0,HLOOKUP($B9,incroci!$C$58:$V$64,O$47,0),0) -> 4 | AD9: =SUM(K9:O9) -> 38 | AE9: =SUM(Q9:U9) -> 0 | AF9: =SUM(W9:AA9) -> 0
B10: ATA-CAT | C10: =VLOOKUP($B10,'ordine conf'!$B:$K,3,0) -> 193 | D10: =VLOOKUP($B10,'ordine conf'!$B:$K,4,0) -> 6.1052632 | G10: =VLOOKUP($B10,'ordine conf'!$B:$K,7,0) -> 39 | K10: =IF(HLOOKUP($B10,incroci!$C$58:$V$64,K$47,0)>0,HLOOKUP($B10,incroci!$C$58:$V$64,K$47,0),0) -> 3 | L10: =IF(HLOOKUP($B10,incroci!$C$58:$V$64,L$47,0)>0,HLOOKUP($B10,incroci!$C$58:$V$64,L$47,0),0) -> 4 | M10: =IF(HLOOKUP($B10,incroci!$C$58:$V$64,M$47,0)>0,HLOOKUP($B10,incroci!$C$58:$V$64,M$47,0),0) -> 18 | N10: =IF(HLOOKUP($B10,incroci!$C$58:$V$64,N$47,0)>0,HLOOKUP($B10,incroci!$C$58:$V$64,N$47,0),0) -> 10 | O10: =IF(HLOOKUP($B10,incroci!$C$58:$V$64,O$47,0)>0,HLOOKUP($B10,incroci!$C$58:$V$64,O$47,0),0) -> 3 | AD10: =SUM(K10:O10) -> 38 | AE10: =SUM(Q10:U10) -> 0 | AF10: =SUM(W10:AA10) -> 0
B11: JUV-TOR | C11: =VLOOKUP($B11,'ordine conf'!$B:$K,3,0) -> 193 | D11: =VLOOKUP($B11,'ordine conf'!$B:$K,4,0) -> 6.0263158 | G11: =VLOOKUP($B11,'ordine conf'!$B:$K,7,0) -> 36 | K11: =IF(HLOOKUP($B11,incroci!$C$58:$V$64,K$47,0)>0,HLOOKUP($B11,incroci!$C$58:$V$64,K$47,0),0) -> 2 | L11: =IF(HLOOKUP($B11,incroci!$C$58:$V$64,L$47,0)>0,HLOOKUP($B11,incroci!$C$58:$V$64,L$47,0),0) -> 2 | M11: =IF(HLOOKUP($B11,incroci!$C$58:$V$64,M$47,0)>0,HLOOKUP($B11,incroci!$C$58:$V$64,M$47,0),0) -> 26 | N11: =IF(HLOOKUP($B11,incroci!$C$58:$V$64,N$47,0)>0,HLOOKUP($B11,incroci!$C$58:$V$64,N$47,0),0) -> 6 | O11: =IF(HLOOKUP($B11,incroci!$C$58:$V$64,O$47,0)>0,HLOOKUP($B11,incroci!$C$58:$V$64,O$47,0),0) -> 2 | AD11: =SUM(K11:O11) -> 38 | AE11: =SUM(Q11:U11) -> 0 | AF11: =SUM(W11:AA11) -> 0
B12: NAP | C12: =VLOOKUP($B12,'ordine conf'!$B:$K,3,0) -> 192 | D12: =VLOOKUP($B12,'ordine conf'!$B:$K,4,0) -> 6 | E12: =VLOOKUP($B12,'ordine conf'!$B:$K,5,0) -> 5.9736842 | F12: =VLOOKUP($B12,'ordine conf'!$B:$K,6,0) -> 6.0263158 | G12: =VLOOKUP($B12,'ordine conf'!$B:$K,7,0) -> 36 | H12: =VLOOKUP($B12,'ordine conf'!$B:$K,8,0) -> 18 | I12: =VLOOKUP($B12,'ordine conf'!$B:$K,9,0) -> 18 | K12: =IF(HLOOKUP($B12,portieri!$C$53:$V$60,K$47,0)>0,HLOOKUP($B12,portieri!$C$53:$V$60,K$47,0),"") -> 4 | L12: =IF(HLOOKUP($B12,portieri!$C$53:$V$60,L$47,0)>0,HLOOKUP($B12,portieri!$C$53:$V$60,L$47,0),"") -> 1 | M12: =IF(HLOOKUP($B12,portieri!$C$53:$V$60,M$47,0)>0,HLOOKUP($B12,portieri!$C$53:$V$60,M$47,0),"") -> 22 | N12: =IF(HLOOKUP($B12,portieri!$C$53:$V$60,N$47,0)>0,HLOOKUP($B12,portieri!$C$53:$V$60,N$47,0),"") -> 9 | O12: =IF(HLOOKUP($B12,portieri!$C$53:$V$60,O$47,0)>0,HLOOKUP($B12,portieri!$C$53:$V$60,O$47,0),"") -> 2 | Q12: =IF(HLOOKUP($B12,portieri!$C$113:$V$120,Q$47,0)>0,HLOOKUP($B12,portieri!$C$113:$V$120,Q$47,0),0) -> 2 | R12: =IF(HLOOKUP($B12,portieri!$C$113:$V$120,R$47,0)>0,HLOOKUP($B12,portieri!$C$113:$V$120,R$47,0),0) -> 1 | S12: =IF(HLOOKUP($B12,portieri!$C$113:$V$120,S$47,0)>0,HLOOKUP($B12,portieri!$C$113:$V$120,S$47,0),0) -> 13 | T12: =IF(HLOOKUP($B12,portieri!$C$113:$V$120,T$47,0)>0,HLOOKUP($B12,portieri!$C$113:$V$120,T$47,0),0) -> 2 | U12: =IF(HLOOKUP($B12,portieri!$C$113:$V$120,U$47,0)>0,HLOOKUP($B12,portieri!$C$113:$V$120,U$47,0),0) -> 1 | W12: =IF(HLOOKUP($B12,portieri!$C$172:$V$179,W$47,0)>0,HLOOKUP($B12,portieri!$C$172:$V$179,W$47,0),0) -> 2 | X12: =IF(HLOOKUP($B12,portieri!$C$172:$V$179,X$47,0)>0,HLOOKUP($B12,portieri!$C$172:$V$179,X$47,0),0) -> 0 | Y12: =IF(HLOOKUP($B12,portieri!$C$172:$V$179,Y$47,0)>0,HLOOKUP($B12,portieri!$C$172:$V$179,Y$47,0),0) -> 9 | Z12: =IF(HLOOKUP($B12,portieri!$C$172:$V$179,Z$47,0)>0,HLOOKUP($B12,portieri!$C$172:$V$179,Z$47,0),0) -> 7 | AA12: =IF(HLOOKUP($B12,portieri!$C$172:$V$179,AA$47,0)>0,HLOOKUP($B12,portieri!$C$172:$V$179,AA$47,0),0) -> 1 | AD12: =SUM(K12:O12) -> 38 | AE12: =SUM(Q12:U12) -> 19 | AF12: =SUM(W12:AA12) -> 19
B13: PAR | C13: =VLOOKUP($B13,'ordine conf'!$B:$K,3,0) -> 191.5 | D13: =VLOOKUP($B13,'ordine conf'!$B:$K,4,0) -> 6.25 | E13: =VLOOKUP($B13,'ordine conf'!$B:$K,5,0) -> 6.3157895 | F13: =VLOOKUP($B13,'ordine conf'!$B:$K,6,0) -> 6.1842105 | G13: =VLOOKUP($B13,'ordine conf'!$B:$K,7,0) -> 46 | H13: =VLOOKUP($B13,'ordine conf'!$B:$K,8,0) -> 18 | I13: =VLOOKUP($B13,'ordine conf'!$B:$K,9,0) -> 28 | K13: =IF(HLOOKUP($B13,portieri!$C$53:$V$60,K$47,0)>0,HLOOKUP($B13,portieri!$C$53:$V$60,K$47,0),"") -> 2 | L13: =IF(HLOOKUP($B13,portieri!$C$53:$V$60,L$47,0)>0,HLOOKUP($B13,portieri!$C$53:$V$60,L$47,0),"") -> 2 | M13: =IF(HLOOKUP($B13,portieri!$C$53:$V$60,M$47,0)>0,HLOOKUP($B13,portieri!$C$53:$V$60,M$47,0),"") -> 16 | N13: =IF(HLOOKUP($B13,portieri!$C$53:$V$60,N$47,0)>0,HLOOKUP($B13,portieri!$C$53:$V$60,N$47,0),"") -> 12 | O13: =IF(HLOOKUP($B13,portieri!$C$53:$V$60,O$47,0)>0,HLOOKUP($B13,portieri!$C$53:$V$60,O$47,0),"") -> 6 | Q13: =IF(HLOOKUP($B13,portieri!$C$113:$V$120,Q$47,0)>0,HLOOKUP($B13,portieri!$C$113:$V$120,Q$47,0),0) -> 2 | R13: =IF(HLOOKUP($B13,portieri!$C$113:$V$120,R$47,0)>0,HLOOKUP($B13,portieri!$C$113:$V$120,R$47,0),0) -> 0 | S13: =IF(HLOOKUP($B13,portieri!$C$113:$V$120,S$47,0)>0,HLOOKUP($B13,portieri!$C$113:$V$120,S$47,0),0) -> 6 | T13: =IF(HLOOKUP($B13,portieri!$C$113:$V$120,T$47,0)>0,HLOOKUP($B13,portieri!$C$113:$V$120,T$47,0),0) -> 7 | U13: =IF(HLOOKUP($B13,portieri!$C$113:$V$120,U$47,0)>0,HLOOKUP($B13,portieri!$C$113:$V$120,U$47,0),0) -> 4 | W13: =IF(HLOOKUP($B13,portieri!$C$172:$V$179,W$47,0)>0,HLOOKUP($B13,portieri!$C$172:$V$179,W$47,0),0) -> 0 | X13: =IF(HLOOKUP($B13,portieri!$C$172:$V$179,X$47,0)>0,HLOOKUP($B13,portieri!$C$172:$V$179,X$47,0),0) -> 2 | Y13: =IF(HLOOKUP($B13,portieri!$C$172:$V$179,Y$47,0)>0,HLOOKUP($B13,portieri!$C$172:$V$179,Y$47,0),0) -> 10 | Z13: =IF(HLOOKUP($B13,portieri!$C$172:$V$179,Z$47,0)>0,HLOOKUP($B13,portieri!$C$172:$V$179,Z$47,0),0) -> 5 | AA13: =IF(HLOOKUP($B13,portieri!$C$172:$V$179,AA$47,0)>0,HLOOKUP($B13,portieri!$C$172:$V$179,AA$47,0),0) -> 2 | AD13: =SUM(K13:O13) -> 38 | AE13: =SUM(Q13:U13) -> 19 | AF13: =SUM(W13:AA13) -> 19
B14: LAZ-ROM | C14: =VLOOKUP($B14,'ordine conf'!$B:$K,3,0) -> 190 | D14: =VLOOKUP($B14,'ordine conf'!$B:$K,4,0) -> 6.0526316 | G14: =VLOOKUP($B14,'ordine conf'!$B:$K,7,0) -> 40 | K14: =IF(HLOOKUP($B14,incroci!$C$58:$V$64,K$47,0)>0,HLOOKUP($B14,incroci!$C$58:$V$64,K$47,0),0) -> 5 | L14: =IF(HLOOKUP($B14,incroci!$C$58:$V$64,L$47,0)>0,HLOOKUP($B14,incroci!$C$58:$V$64,L$47,0),0) -> 7 | M14: =IF(HLOOKUP($B14,incroci!$C$58:$V$64,M$47,0)>0,HLOOKUP($B14,incroci!$C$58:$V$64,M$47,0),0) -> 9 | N14: =IF(HLOOKUP($B14,incroci!$C$58:$V$64,N$47,0)>0,HLOOKUP($B14,incroci!$C$58:$V$64,N$47,0),0) -> 9 | O14: =IF(HLOOKUP($B14,incroci!$C$58:$V$64,O$47,0)>0,HLOOKUP($B14,incroci!$C$58:$V$64,O$47,0),0) -> 8 | AD14: =SUM(K14:O14) -> 38 | AE14: =SUM(Q14:U14) -> 0 | AF14: =SUM(W14:AA14) -> 0
B15: FIO-CAG | C15: =VLOOKUP($B15,'ordine conf'!$B:$K,3,0) -> 190 | D15: =VLOOKUP($B15,'ordine conf'!$B:$K,4,0) -> 6.1315789 | G15: =VLOOKUP($B15,'ordine conf'!$B:$K,7,0) -> 43 | K15: =IF(HLOOKUP($B15,incroci!$C$58:$V$64,K$47,0)>0,HLOOKUP($B15,incroci!$C$58:$V$64,K$47,0),0) -> 2 | L15: =IF(HLOOKUP($B15,incroci!$C$58:$V$64,L$47,0)>0,HLOOKUP($B15,incroci!$C$58:$V$64,L$47,0),0) -> 4 | M15: =IF(HLOOKUP($B15,incroci!$C$58:$V$64,M$47,0)>0,HLOOKUP($B15,incroci!$C$58:$V$64,M$47,0),0) -> 19 | N15: =IF(HLOOKUP($B15,incroci!$C$58:$V$64,N$47,0)>0,HLOOKUP($B15,incroci!$C$58:$V$64,N$47,0),0) -> 10 | O15: =IF(HLOOKUP($B15,incroci!$C$58:$V$64,O$47,0)>0,HLOOKUP($B15,incroci!$C$58:$V$64,O$47,0),0) -> 3 | AD15: =SUM(K15:O15) -> 38 | AE15: =SUM(Q15:U15) -> 0 | AF15: =SUM(W15:AA15) -> 0
B16: TOR-UDI | C16: =VLOOKUP($B16,'ordine conf'!$B:$K,3,0) -> 190 | D16: =VLOOKUP($B16,'ordine conf'!$B:$K,4,0) -> 6 | G16: =VLOOKUP($B16,'ordine conf'!$B:$K,7,0) -> 38 | K16: =IF(HLOOKUP($B16,incroci!$C$58:$V$64,K$47,0)>0,HLOOKUP($B16,incroci!$C$58:$V$64,K$47,0),0) -> 4 | L16: =IF(HLOOKUP($B16,incroci!$C$58:$V$64,L$47,0)>0,HLOOKUP($B16,incroci!$C$58:$V$64,L$47,0),0) -> 2 | M16: =IF(HLOOKUP($B16,incroci!$C$58:$V$64,M$47,0)>0,HLOOKUP($B16,incroci!$C$58:$V$64,M$47,0),0) -> 22 | N16: =IF(HLOOKUP($B16,incroci!$C$58:$V$64,N$47,0)>0,HLOOKUP($B16,incroci!$C$58:$V$64,N$47,0),0) -> 8 | O16: =IF(HLOOKUP($B16,incroci!$C$58:$V$64,O$47,0)>0,HLOOKUP($B16,incroci!$C$58:$V$64,O$47,0),0) -> 2 | AD16: =SUM(K16:O16) -> 38 | AE16: =SUM(Q16:U16) -> 0 | AF16: =SUM(W16:AA16) -> 0
B17: MIL | C17: =VLOOKUP($B17,'ordine conf'!$B:$K,3,0) -> 188.5 | D17: =VLOOKUP($B17,'ordine conf'!$B:$K,4,0) -> 5.9868421 | E17: =VLOOKUP($B17,'ordine conf'!$B:$K,5,0) -> 6 | F17: =VLOOKUP($B17,'ordine conf'!$B:$K,6,0) -> 5.9736842 | G17: =VLOOKUP($B17,'ordine conf'!$B:$K,7,0) -> 39 | H17: =VLOOKUP($B17,'ordine conf'!$B:$K,8,0) -> 15 | I17: =VLOOKUP($B17,'ordine conf'!$B:$K,9,0) -> 24 | K17: =IF(HLOOKUP($B17,portieri!$C$53:$V$60,K$47,0)>0,HLOOKUP($B17,portieri!$C$53:$V$60,K$47,0),"") -> 4 | L17: =IF(HLOOKUP($B17,portieri!$C$53:$V$60,L$47,0)>0,HLOOKUP($B17,portieri!$C$53:$V$60,L$47,0),"") -> 3 | M17: =IF(HLOOKUP($B17,portieri!$C$53:$V$60,M$47,0)>0,HLOOKUP($B17,portieri!$C$53:$V$60,M$47,0),"") -> 23 | N17: =IF(HLOOKUP($B17,portieri!$C$53:$V$60,N$47,0)>0,HLOOKUP($B17,portieri!$C$53:$V$60,N$47,0),"") -> 4 | O17: =IF(HLOOKUP($B17,portieri!$C$53:$V$60,O$47,0)>0,HLOOKUP($B17,portieri!$C$53:$V$60,O$47,0),"") -> 4 | Q17: =IF(HLOOKUP($B17,portieri!$C$113:$V$120,Q$47,0)>0,HLOOKUP($B17,portieri!$C$113:$V$120,Q$47,0),0) -> 1 | R17: =IF(HLOOKUP($B17,portieri!$C$113:$V$120,R$47,0)>0,HLOOKUP($B17,portieri!$C$113:$V$120,R$47,0),0) -> 1 | S17: =IF(HLOOKUP($B17,portieri!$C$113:$V$120,S$47,0)>0,HLOOKUP($B17,portieri!$C$113:$V$120,S$47,0),0) -> 13 | T17: =IF(HLOOKUP($B17,portieri!$C$113:$V$120,T$47,0)>0,HLOOKUP($B17,portieri!$C$113:$V$120,T$47,0),0) -> 3 | U17: =IF(HLOOKUP($B17,portieri!$C$113:$V$120,U$47,0)>0,HLOOKUP($B17,portieri!$C$113:$V$120,U$47,0),0) -> 1 | W17: =IF(HLOOKUP($B17,portieri!$C$172:$V$179,W$47,0)>0,HLOOKUP($B17,portieri!$C$172:$V$179,W$47,0),0) -> 3 | X17: =IF(HLOOKUP($B17,portieri!$C$172:$V$179,X$47,0)>0,HLOOKUP($B17,portieri!$C$172:$V$179,X$47,0),0) -> 2 | Y17: =IF(HLOOKUP($B17,portieri!$C$172:$V$179,Y$47,0)>0,HLOOKUP($B17,portieri!$C$172:$V$179,Y$47,0),0) -> 10 | Z17: =IF(HLOOKUP($B17,portieri!$C$172:$V$179,Z$47,0)>0,HLOOKUP($B17,portieri!$C$172:$V$179,Z$47,0),0) -> 1 | AA17: =IF(HLOOKUP($B17,portieri!$C$172:$V$179,AA$47,0)>0,HLOOKUP($B17,portieri!$C$172:$V$179,AA$47,0),0) -> 3 | AD17: =SUM(K17:O17) -> 38 | AE17: =SUM(Q17:U17) -> 19 | AF17: =SUM(W17:AA17) -> 19
B18: NAP-PAL | C18: =VLOOKUP($B18,'ordine conf'!$B:$K,3,0) -> 188.5 | D18: =VLOOKUP($B18,'ordine conf'!$B:$K,4,0) -> 6.0657895 | G18: =VLOOKUP($B18,'ordine conf'!$B:$K,7,0) -> 42 | K18: =IF(HLOOKUP($B18,incroci!$C$58:$V$64,K$47,0)>0,HLOOKUP($B18,incroci!$C$58:$V$64,K$47,0),0) -> 3 | L18: =IF(HLOOKUP($B18,incroci!$C$58:$V$64,L$47,0)>0,HLOOKUP($B18,incroci!$C$58:$V$64,L$47,0),0) -> 5 | M18: =IF(HLOOKUP($B18,incroci!$C$58:$V$64,M$47,0)>0,HLOOKUP($B18,incroci!$C$58:$V$64,M$47,0),0) -> 18 | N18: =IF(HLOOKUP($B18,incroci!$C$58:$V$64,N$47,0)>0,HLOOKUP($B18,incroci!$C$58:$V$64,N$47,0),0) -> 8 | O18: =IF(HLOOKUP($B18,incroci!$C$58:$V$64,O$47,0)>0,HLOOKUP($B18,incroci!$C$58:$V$64,O$47,0),0) -> 4 | AD18: =SUM(K18:O18) -> 38 | AE18: =SUM(Q18:U18) -> 0 | AF18: =SUM(W18:AA18) -> 0
B19: NAP-CAG | C19: =VLOOKUP($B19,'ordine conf'!$B:$K,3,0) -> 187 | D19: =VLOOKUP($B19,'ordine conf'!$B:$K,4,0) -> 6 | G19: =VLOOKUP($B19,'ordine conf'!$B:$K,7,0) -> 41 | K19: =IF(HLOOKUP($B19,incroci!$C$58:$V$64,K$47,0)>0,HLOOKUP($B19,incroci!$C$58:$V$64,K$47,0),0) -> 5 | L19: =IF(HLOOKUP($B19,incroci!$C$58:$V$64,L$47,0)>0,HLOOKUP($B19,incroci!$C$58:$V$64,L$47,0),0) -> 3 | M19: =IF(HLOOKUP($B19,incroci!$C$58:$V$64,M$47,0)>0,HLOOKUP($B19,incroci!$C$58:$V$64,M$47,0),0) -> 20 | N19: =IF(HLOOKUP($B19,incroci!$C$58:$V$64,N$47,0)>0,HLOOKUP($B19,incroci!$C$58:$V$64,N$47,0),0) -> 7 | O19: =IF(HLOOKUP($B19,incroci!$C$58:$V$64,O$47,0)>0,HLOOKUP($B19,incroci!$C$58:$V$64,O$47,0),0) -> 3 | AD19: =SUM(K19:O19) -> 38 | AE19: =SUM(Q19:U19) -> 0 | AF19: =SUM(W19:AA19) -> 0
B20: CAT | C20: =VLOOKUP($B20,'ordine conf'!$B:$K,3,0) -> 186.5 | D20: =VLOOKUP($B20,'ordine conf'!$B:$K,4,0) -> 6.1184211 | E20: =VLOOKUP($B20,'ordine conf'!$B:$K,5,0) -> 6.2368421 | F20: =VLOOKUP($B20,'ordine conf'!$B:$K,6,0) -> 6 | G20: =VLOOKUP($B20,'ordine conf'!$B:$K,7,0) -> 46 | H20: =VLOOKUP($B20,'ordine conf'!$B:$K,8,0) -> 15 | I20: =VLOOKUP($B20,'ordine conf'!$B:$K,9,0) -> 31 | K20: =IF(HLOOKUP($B20,portieri!$C$53:$V$60,K$47,0)>0,HLOOKUP($B20,portieri!$C$53:$V$60,K$47,0),"") -> 4 | L20: =IF(HLOOKUP($B20,portieri!$C$53:$V$60,L$47,0)>0,HLOOKUP($B20,portieri!$C$53:$V$60,L$47,0),"") -> 3 | M20: =IF(HLOOKUP($B20,portieri!$C$53:$V$60,M$47,0)>0,HLOOKUP($B20,portieri!$C$53:$V$60,M$47,0),"") -> 16 | N20: =IF(HLOOKUP($B20,portieri!$C$53:$V$60,N$47,0)>0,HLOOKUP($B20,portieri!$C$53:$V$60,N$47,0),"") -> 12 | O20: =IF(HLOOKUP($B20,portieri!$C$53:$V$60,O$47,0)>0,HLOOKUP($B20,portieri!$C$53:$V$60,O$47,0),"") -> 3 | Q20: =IF(HLOOKUP($B20,portieri!$C$113:$V$120,Q$47,0)>0,HLOOKUP($B20,portieri!$C$113:$V$120,Q$47,0),0) -> 2 | R20: =IF(HLOOKUP($B20,portieri!$C$113:$V$120,R$47,0)>0,HLOOKUP($B20,portieri!$C$113:$V$120,R$47,0),0) -> 1 | S20: =IF(HLOOKUP($B20,portieri!$C$113:$V$120,S$47,0)>0,HLOOKUP($B20,portieri!$C$113:$V$120,S$47,0),0) -> 6 | T20: =IF(HLOOKUP($B20,portieri!$C$113:$V$120,T$47,0)>0,HLOOKUP($B20,portieri!$C$113:$V$120,T$47,0),0) -> 8 | U20: =IF(HLOOKUP($B20,portieri!$C$113:$V$120,U$47,0)>0,HLOOKUP($B20,portieri!$C$113:$V$120,U$47,0),0) -> 2 | W20: =IF(HLOOKUP($B20,portieri!$C$172:$V$179,W$47,0)>0,HLOOKUP($B20,portieri!$C$172:$V$179,W$47,0),0) -> 2 | X20: =IF(HLOOKUP($B20,portieri!$C$172:$V$179,X$47,0)>0,HLOOKUP($B20,portieri!$C$172:$V$179,X$47,0),0) -> 2 | Y20: =IF(HLOOKUP($B20,portieri!$C$172:$V$179,Y$47,0)>0,HLOOKUP($B20,portieri!$C$172:$V$179,Y$47,0),0) -> 10 | Z20: =IF(HLOOKUP($B20,portieri!$C$172:$V$179,Z$47,0)>0,HLOOKUP($B20,portieri!$C$172:$V$179,Z$47,0),0) -> 4 | AA20: =IF(HLOOKUP($B20,portieri!$C$172:$V$179,AA$47,0)>0,HLOOKUP($B20,portieri!$C$172:$V$179,AA$47,0),0) -> 1 | AD20: =SUM(K20:O20) -> 38 | AE20: =SUM(Q20:U20) -> 19 | AF20: =SUM(W20:AA20) -> 19
B21: BOL-CHI | C21: =VLOOKUP($B21,'ordine conf'!$B:$K,3,0) -> 186.5 | D21: =VLOOKUP($B21,'ordine conf'!$B:$K,4,0) -> 5.9605263 | G21: =VLOOKUP($B21,'ordine conf'!$B:$K,7,0) -> 40 | K21: =IF(HLOOKUP($B21,incroci!$C$58:$V$64,K$47,0)>0,HLOOKUP($B21,incroci!$C$58:$V$64,K$47,0),0) -> 3 | L21: =IF(HLOOKUP($B21,incroci!$C$58:$V$64,L$47,0)>0,HLOOKUP($B21,incroci!$C$58:$V$64,L$47,0),0) -> 8 | M21: =IF(HLOOKUP($B21,incroci!$C$58:$V$64,M$47,0)>0,HLOOKUP($B21,incroci!$C$58:$V$64,M$47,0),0) -> 18 | N21: =IF(HLOOKUP($B21,incroci!$C$58:$V$64,N$47,0)>0,HLOOKUP($B21,incroci!$C$58:$V$64,N$47,0),0) -> 7 | O21: =IF(HLOOKUP($B21,incroci!$C$58:$V$64,O$47,0)>0,HLOOKUP($B21,incroci!$C$58:$V$64,O$47,0),0) -> 2 | AD21: =SUM(K21:O21) -> 38 | AE21: =SUM(Q21:U21) -> 0 | AF21: =SUM(W21:AA21) -> 0
B22: PAR-ROM | C22: =VLOOKUP($B22,'ordine conf'!$B:$K,3,0) -> 186.5 | D22: =VLOOKUP($B22,'ordine conf'!$B:$K,4,0) -> 6.0657895 | G22: =VLOOKUP($B22,'ordine conf'!$B:$K,7,0) -> 44 | K22: =IF(HLOOKUP($B22,incroci!$C$58:$V$64,K$47,0)>0,HLOOKUP($B22,incroci!$C$58:$V$64,K$47,0),0) -> 6 | L22: =IF(HLOOKUP($B22,incroci!$C$58:$V$64,L$47,0)>0,HLOOKUP($B22,incroci!$C$58:$V$64,L$47,0),0) -> 5 | M22: =IF(HLOOKUP($B22,incroci!$C$58:$V$64,M$47,0)>0,HLOOKUP($B22,incroci!$C$58:$V$64,M$47,0),0) -> 9 | N22: =IF(HLOOKUP($B22,incroci!$C$58:$V$64,N$47,0)>0,HLOOKUP($B22,incroci!$C$58:$V$64,N$47,0),0) -> 11 | O22: =IF(HLOOKUP($B22,incroci!$C$58:$V$64,O$47,0)>0,HLOOKUP($B22,incroci!$C$58:$V$64,O$47,0),0) -> 7 | AD22: =SUM(K22:O22) -> 38 | AE22: =SUM(Q22:U22) -> 0 | AF22: =SUM(W22:AA22) -> 0
B23: INT-MIL | C23: =VLOOKUP($B23,'ordine conf'!$B:$K,3,0) -> 185 | D23: =VLOOKUP($B23,'ordine conf'!$B:$K,4,0) -> 6.0789474 | G23: =VLOOKUP($B23,'ordine conf'!$B:$K,7,0) -> 46 | K23: =IF(HLOOKUP($B23,incroci!$C$58:$V$64,K$47,0)>0,HLOOKUP($B23,incroci!$C$58:$V$64,K$47,0),0) -> 3 | L23: =IF(HLOOKUP($B23,incroci!$C$58:$V$64,L$47,0)>0,HLOOKUP($B23,incroci!$C$58:$V$64,L$47,0),0) -> 4 | M23: =IF(HLOOKUP($B23,incroci!$C$58:$V$64,M$47,0)>0,HLOOKUP($B23,incroci!$C$58:$V$64,M$47,0),0) -> 21 | N23: =IF(HLOOKUP($B23,incroci!$C$58:$V$64,N$47,0)>0,HLOOKUP($B23,incroci!$C$58:$V$64,N$47,0),0) -> 4 | O23: =IF(HLOOKUP($B23,incroci!$C$58:$V$64,O$47,0)>0,HLOOKUP($B23,incroci!$C$58:$V$64,O$47,0),0) -> 6 | AD23: =SUM(K23:O23) -> 38 | AE23: =SUM(Q23:U23) -> 0 | AF23: =SUM(W23:AA23) -> 0
B24: UDI | C24: =VLOOKUP($B24,'ordine conf'!$B:$K,3,0) -> 184.5 | D24: =VLOOKUP($B24,'ordine conf'!$B:$K,4,0) -> 6.0394737 | E24: =VLOOKUP($B24,'ordine conf'!$B:$K,5,0) -> 5.9736842 | F24: =VLOOKUP($B24,'ordine conf'!$B:$K,6,0) -> 6.1052632 | G24: =VLOOKUP($B24,'ordine conf'!$B:$K,7,0) -> 45 | H24: =VLOOKUP($B24,'ordine conf'!$B:$K,8,0) -> 16 | I24: =VLOOKUP($B24,'ordine conf'!$B:$K,9,0) -> 29 | K24: =IF(HLOOKUP($B24,portieri!$C$53:$V$60,K$47,0)>0,HLOOKUP($B24,portieri!$C$53:$V$60,K$47,0),"") -> 4 | L24: =IF(HLOOKUP($B24,portieri!$C$53:$V$60,L$47,0)>0,HLOOKUP($B24,portieri!$C$53:$V$60,L$47,0),"") -> 4 | M24: =IF(HLOOKUP($B24,portieri!$C$53:$V$60,M$47,0)>0,HLOOKUP($B24,portieri!$C$53:$V$60,M$47,0),"") -> 16 | N24: =IF(HLOOKUP($B24,portieri!$C$53:$V$60,N$47,0)>0,HLOOKUP($B24,portieri!$C$53:$V$60,N$47,0),"") -> 12 | O24: =IF(HLOOKUP($B24,portieri!$C$53:$V$60,O$47,0)>0,HLOOKUP($B24,portieri!$C$53:$V$60,O$47,0),"") -> 2 | Q24: =IF(HLOOKUP($B24,portieri!$C$113:$V$120,Q$47,0)>0,HLOOKUP($B24,portieri!$C$113:$V$120,Q$47,0),0) -> 2 | R24: =IF(HLOOKUP($B24,portieri!$C$113:$V$120,R$47,0)>0,HLOOKUP($B24,portieri!$C$113:$V$120,R$47,0),0) -> 2 | S24: =IF(HLOOKUP($B24,portieri!$C$113:$V$120,S$47,0)>0,HLOOKUP($B24,portieri!$C$113:$V$120,S$47,0),0) -> 10 | T24: =IF(HLOOKUP($B24,portieri!$C$113:$V$120,T$47,0)>0,HLOOKUP($B24,portieri!$C$113:$V$120,T$47,0),0) -> 4 | U24: =IF(HLOOKUP($B24,portieri!$C$113:$V$120,U$47,0)>0,HLOOKUP($B24,portieri!$C$113:$V$120,U$47,0),0) -> 1 | W24: =IF(HLOOKUP($B24,portieri!$C$172:$V$179,W$47,0)>0,HLOOKUP($B24,portieri!$C$172:$V$179,W$47,0),0) -> 2 | X24: =IF(HLOOKUP($B24,portieri!$C$172:$V$179,X$47,0)>0,HLOOKUP($B24,portieri!$C$172:$V$179,X$47,0),0) -> 2 | Y24: =IF(HLOOKUP($B24,portieri!$C$172:$V$179,Y$47,0)>0,HLOOKUP($B24,portieri!$C$172:$V$179,Y$47,0),0) -> 6 | Z24: =IF(HLOOKUP($B24,portieri!$C$172:$V$179,Z$47,0)>0,HLOOKUP($B24,portieri!$C$172:$V$179,Z$47,0),0) -> 8 | AA24: =IF(HLOOKUP($B24,portieri!$C$172:$V$179,AA$47,0)>0,HLOOKUP($B24,portieri!$C$172:$V$179,AA$47,0),0) -> 1 | AD24: =SUM(K24:O24) -> 38
B25: NAP-ATA | C25: =VLOOKUP($B25,'ordine conf'!$B:$K,3,0) -> 184.5 | D25: =VLOOKUP($B25,'ordine conf'!$B:$K,4,0) -> 5.9605263 | G25: =VLOOKUP($B25,'ordine conf'!$B:$K,7,0) -> 42 | K25: =IF(HLOOKUP($B25,incroci!$C$58:$V$64,K$47,0)>0,HLOOKUP($B25,incroci!$C$58:$V$64,K$47,0),0) -> 3 | L25: =IF(HLOOKUP($B25,incroci!$C$58:$V$64,L$47,0)>0,HLOOKUP($B25,incroci!$C$58:$V$64,L$47,0),0) -> 4 | M25: =IF(HLOOKUP($B25,incroci!$C$58:$V$64,M$47,0)>0,HLOOKUP($B25,incroci!$C$58:$V$64,M$47,0),0) -> 26 | N25: =IF(HLOOKUP($B25,incroci!$C$58:$V$64,N$47,0)>0,HLOOKUP($B25,incroci!$C$58:$V$64,N$47,0),0) -> 3 | O25: =IF(HLOOKUP($B25,incroci!$C$58:$V$64,O$47,0)>0,HLOOKUP($B25,incroci!$C$58:$V$64,O$47,0),0) -> 2 | AD25: =SUM(K25:O25) -> 38
B26: BOL-MIL | C26: =VLOOKUP($B26,'ordine conf'!$B:$K,3,0) -> 184 | D26: =VLOOKUP($B26,'ordine conf'!$B:$K,4,0) -> 5.9210526 | G26: =VLOOKUP($B26,'ordine conf'!$B:$K,7,0) -> 41 | K26: =IF(HLOOKUP($B26,incroci!$C$58:$V$64,K$47,0)>0,HLOOKUP($B26,incroci!$C$58:$V$64,K$47,0),0) -> 4 | L26: =IF(HLOOKUP($B26,incroci!$C$58:$V$64,L$47,0)>0,HLOOKUP($B26,incroci!$C$58:$V$64,L$47,0),0) -> 7 | M26: =IF(HLOOKUP($B26,incroci!$C$58:$V$64,M$47,0)>0,HLOOKUP($B26,incroci!$C$58:$V$64,M$47,0),0) -> 18 | N26: =IF(HLOOKUP($B26,incroci!$C$58:$V$64,N$47,0)>0,HLOOKUP($B26,incroci!$C$58:$V$64,N$47,0),0) -> 6 | O26: =IF(HLOOKUP($B26,incroci!$C$58:$V$64,O$47,0)>0,HLOOKUP($B26,incroci!$C$58:$V$64,O$47,0),0) -> 3 | AD26: =SUM(K26:O26) -> 38
B27: CHI | C27: =VLOOKUP($B27,'ordine conf'!$B:$K,3,0) -> 182.5 | D27: =VLOOKUP($B27,'ordine conf'!$B:$K,4,0) -> 6.1710526 | E27: =VLOOKUP($B27,'ordine conf'!$B:$K,5,0) -> 6.2105263 | F27: =VLOOKUP($B27,'ordine conf'!$B:$K,6,0) -> 6.1315789 | G27: =VLOOKUP($B27,'ordine conf'!$B:$K,7,0) -> 52 | H27: =VLOOKUP($B27,'ordine conf'!$B:$K,8,0) -> 16 | I27: =VLOOKUP($B27,'ordine conf'!$B:$K,9,0) -> 36 | K27: =IF(HLOOKUP($B27,portieri!$C$53:$V$60,K$47,0)>0,HLOOKUP($B27,portieri!$C$53:$V$60,K$47,0),"") -> 4 | L27: =IF(HLOOKUP($B27,portieri!$C$53:$V$60,L$47,0)>0,HLOOKUP($B27,portieri!$C$53:$V$60,L$47,0),"") -> 3 | M27: =IF(HLOOKUP($B27,portieri!$C$53:$V$60,M$47,0)>0,HLOOKUP($B27,portieri!$C$53:$V$60,M$47,0),"") -> 19 | N27: =IF(HLOOKUP($B27,portieri!$C$53:$V$60,N$47,0)>0,HLOOKUP($B27,portieri!$C$53:$V$60,N$47,0),"") -> 6 | O27: =IF(HLOOKUP($B27,portieri!$C$53:$V$60,O$47,0)>0,HLOOKUP($B27,portieri!$C$53:$V$60,O$47,0),"") -> 6 | Q27: =IF(HLOOKUP($B27,portieri!$C$113:$V$120,Q$47,0)>0,HLOOKUP($B27,portieri!$C$113:$V$120,Q$47,0),0) -> 0 | R27: =IF(HLOOKUP($B27,portieri!$C$113:$V$120,R$47,0)>0,HLOOKUP($B27,portieri!$C$113:$V$120,R$47,0),0) -> 2 | S27: =IF(HLOOKUP($B27,portieri!$C$113:$V$120,S$47,0)>0,HLOOKUP($B27,portieri!$C$113:$V$120,S$47,0),0) -> 11 | T27: =IF(HLOOKUP($B27,portieri!$C$113:$V$120,T$47,0)>0,HLOOKUP($B27,portieri!$C$113:$V$120,T$47,0),0) -> 4 | U27: =IF(HLOOKUP($B27,portieri!$C$113:$V$120,U$47,0)>0,HLOOKUP($B27,portieri!$C$113:$V$120,U$47,0),0) -> 2 | W27: =IF(HLOOKUP($B27,portieri!$C$172:$V$179,W$47,0)>0,HLOOKUP($B27,portieri!$C$172:$V$179,W$47,0),0) -> 4 | X27: =IF(HLOOKUP($B27,portieri!$C$172:$V$179,X$47,0)>0,HLOOKUP($B27,portieri!$C$172:$V$179,X$47,0),0) -> 1 | Y27: =IF(HLOOKUP($B27,portieri!$C$172:$V$179,Y$47,0)>0,HLOOKUP($B27,portieri!$C$172:$V$179,Y$47,0),0) -> 8 | Z27: =IF(HLOOKUP($B27,portieri!$C$172:$V$179,Z$47,0)>0,HLOOKUP($B27,portieri!$C$172:$V$179,Z$47,0),0) -> 2 | AA27: =IF(HLOOKUP($B27,portieri!$C$172:$V$179,AA$47,0)>0,HLOOKUP($B27,portieri!$C$172:$V$179,AA$47,0),0) -> 4 | AD27: =SUM(K27:O27) -> 38
B28: FIO | C28: =VLOOKUP($B28,'ordine conf'!$B:$K,3,0) -> 182 | D28: =VLOOKUP($B28,'ordine conf'!$B:$K,4,0) -> 5.9473684 | E28: =VLOOKUP($B28,'ordine conf'!$B:$K,5,0) -> 6.1052632 | F28: =VLOOKUP($B28,'ordine conf'!$B:$K,6,0) -> 5.7894737 | G28: =VLOOKUP($B28,'ordine conf'!$B:$K,7,0) -> 44 | H28: =VLOOKUP($B28,'ordine conf'!$B:$K,8,0) -> 19 | I28: =VLOOKUP($B28,'ordine conf'!$B:$K,9,0) -> 25 | K28: =IF(HLOOKUP($B28,portieri!$C$53:$V$60,K$47,0)>0,HLOOKUP($B28,portieri!$C$53:$V$60,K$47,0),"") -> 4 | L28: =IF(HLOOKUP($B28,portieri!$C$53:$V$60,L$47,0)>0,HLOOKUP($B28,portieri!$C$53:$V$60,L$47,0),"") -> 6 | M28: =IF(HLOOKUP($B28,portieri!$C$53:$V$60,M$47,0)>0,HLOOKUP($B28,portieri!$C$53:$V$60,M$47,0),"") -> 19 | N28: =IF(HLOOKUP($B28,portieri!$C$53:$V$60,N$47,0)>0,HLOOKUP($B28,portieri!$C$53:$V$60,N$47,0),"") -> 5 | O28: =IF(HLOOKUP($B28,portieri!$C$53:$V$60,O$47,0)>0,HLOOKUP($B28,portieri!$C$53:$V$60,O$47,0),"") -> 4 | Q28: =IF(HLOOKUP($B28,portieri!$C$113:$V$120,Q$47,0)>0,HLOOKUP($B28,portieri!$C$113:$V$120,Q$47,0),0) -> 0 | R28: =IF(HLOOKUP($B28,portieri!$C$113:$V$120,R$47,0)>0,HLOOKUP($B28,portieri!$C$113:$V$120,R$47,0),0) -> 2 | S28: =IF(HLOOKUP($B28,portieri!$C$113:$V$120,S$47,0)>0,HLOOKUP($B28,portieri!$C$113:$V$120,S$47,0),0) -> 12 | T28: =IF(HLOOKUP($B28,portieri!$C$113:$V$120,T$47,0)>0,HLOOKUP($B28,portieri!$C$113:$V$120,T$47,0),0) -> 4 | U28: =IF(HLOOKUP($B28,portieri!$C$113:$V$120,U$47,0)>0,HLOOKUP($B28,portieri!$C$113:$V$120,U$47,0),0) -> 1 | W28: =IF(HLOOKUP($B28,portieri!$C$172:$V$179,W$47,0)>0,HLOOKUP($B28,portieri!$C$172:$V$179,W$47,0),0) -> 4 | X28: =IF(HLOOKUP($B28,portieri!$C$172:$V$179,X$47,0)>0,HLOOKUP($B28,portieri!$C$172:$V$179,X$47,0),0) -> 4 | Y28: =IF(HLOOKUP($B28,portieri!$C$172:$V$179,Y$47,0)>0,HLOOKUP($B28,portieri!$C$172:$V$179,Y$47,0),0) -> 7 | Z28: =IF(HLOOKUP($B28,portieri!$C$172:$V$179,Z$47,0)>0,HLOOKUP($B28,portieri!$C$172:$V$179,Z$47,0),0) -> 1 | AA28: =IF(HLOOKUP($B28,portieri!$C$172:$V$179,AA$47,0)>0,HLOOKUP($B28,portieri!$C$172:$V$179,AA$47,0),0) -> 3 | AD28: =SUM(K28:O28) -> 38
B29: UDI-ROM | C29: =VLOOKUP($B29,'ordine conf'!$B:$K,3,0) -> 182 | D29: =VLOOKUP($B29,'ordine conf'!$B:$K,4,0) -> 5.9210526 | G29: =VLOOKUP($B29,'ordine conf'!$B:$K,7,0) -> 43 | K29: =IF(HLOOKUP($B29,incroci!$C$58:$V$64,K$47,0)>0,HLOOKUP($B29,incroci!$C$58:$V$64,K$47,0),0) -> 6 | L29: =IF(HLOOKUP($B29,incroci!$C$58:$V$64,L$47,0)>0,HLOOKUP($B29,incroci!$C$58:$V$64,L$47,0),0) -> 7 | M29: =IF(HLOOKUP($B29,incroci!$C$58:$V$64,M$47,0)>0,HLOOKUP($B29,incroci!$C$58:$V$64,M$47,0),0) -> 12 | N29: =IF(HLOOKUP($B29,incroci!$C$58:$V$64,N$47,0)>0,HLOOKUP($B29,incroci!$C$58:$V$64,N$47,0),0) -> 8 | O29: =IF(HLOOKUP($B29,incroci!$C$58:$V$64,O$47,0)>0,HLOOKUP($B29,incroci!$C$58:$V$64,O$47,0),0) -> 5 | AD29: =SUM(K29:O29) -> 38
B30: INT | C30: =VLOOKUP($B30,'ordine conf'!$B:$K,3,0) -> 181.5 | D30: =VLOOKUP($B30,'ordine conf'!$B:$K,4,0) -> 6.2763158 | E30: =VLOOKUP($B30,'ordine conf'!$B:$K,5,0) -> 6.1578947 | F30: =VLOOKUP($B30,'ordine conf'!$B:$K,6,0) -> 6.3947368 | G30: =VLOOKUP($B30,'ordine conf'!$B:$K,7,0) -> 57 | H30: =VLOOKUP($B30,'ordine conf'!$B:$K,8,0) -> 31 | I30: =VLOOKUP($B30,'ordine conf'!$B:$K,9,0) -> 26 | K30: =IF(HLOOKUP($B30,portieri!$C$53:$V$60,K$47,0)>0,HLOOKUP($B30,portieri!$C$53:$V$60,K$47,0),"") -> 2 | L30: =IF(HLOOKUP($B30,portieri!$C$53:$V$60,L$47,0)>0,HLOOKUP($B30,portieri!$C$53:$V$60,L$47,0),"") -> 8 | M30: =IF(HLOOKUP($B30,portieri!$C$53:$V$60,M$47,0)>0,HLOOKUP($B30,portieri!$C$53:$V$60,M$47,0),"") -> 11 | N30: =IF(HLOOKUP($B30,portieri!$C$53:$V$60,N$47,0)>0,HLOOKUP($B30,portieri!$C$53:$V$60,N$47,0),"") -> 5 | O30: =IF(HLOOKUP($B30,portieri!$C$53:$V$60,O$47,0)>0,HLOOKUP($B30,portieri!$C$53:$V$60,O$47,0),"") -> 12 | Q30: =IF(HLOOKUP($B30,portieri!$C$113:$V$120,Q$47,0)>0,HLOOKUP($B30,portieri!$C$113:$V$120,Q$47,0),0) -> 2 | R30: =IF(HLOOKUP($B30,portieri!$C$113:$V$120,R$47,0)>0,HLOOKUP($B30,portieri!$C$113:$V$120,R$47,0),0) -> 3 | S30: =IF(HLOOKUP($B30,portieri!$C$113:$V$120,S$47,0)>0,HLOOKUP($B30,portieri!$C$113:$V$120,S$47,0),0) -> 8 | T30: =IF(HLOOKUP($B30,portieri!$C$113:$V$120,T$47,0)>0,HLOOKUP($B30,portieri!$C$113:$V$120,T$47,0),0) -> 1 | U30: =IF(HLOOKUP($B30,portieri!$C$113:$V$120,U$47,0)>0,HLOOKUP($B30,portieri!$C$113:$V$120,U$47,0),0) -> 5 | W30: =IF(HLOOKUP($B30,portieri!$C$172:$V$179,W$47,0)>0,HLOOKUP($B30,portieri!$C$172:$V$179,W$47,0),0) -> 0 | X30: =IF(HLOOKUP($B30,portieri!$C$172:$V$179,X$47,0)>0,HLOOKUP($B30,portieri!$C$172:$V$179,X$47,0),0) -> 5 | Y30: =IF(HLOOKUP($B30,portieri!$C$172:$V$179,Y$47,0)>0,HLOOKUP($B30,portieri!$C$172:$V$179,Y$47,0),0) -> 3 | Z30: =IF(HLOOKUP($B30,portieri!$C$172:$V$179,Z$47,0)>0,HLOOKUP($B30,portieri!$C$172:$V$179,Z$47,0),0) -> 4 | AA30: =IF(HLOOKUP($B30,portieri!$C$172:$V$179,AA$47,0)>0,HLOOKUP($B30,portieri!$C$172:$V$179,AA$47,0),0) -> 7 | AD30: =SUM(K30:O30) -> 38
B31: CAG | C31: =VLOOKUP($B31,'ordine conf'!$B:$K,3,0) -> 180.5 | D31: =VLOOKUP($B31,'ordine conf'!$B:$K,4,0) -> 6.1973684 | E31: =VLOOKUP($B31,'ordine conf'!$B:$K,5,0) -> 6.1578947 | F31: =VLOOKUP($B31,'ordine conf'!$B:$K,6,0) -> 6.2368421 | G31: =VLOOKUP($B31,'ordine conf'!$B:$K,7,0) -> 55 | H31: =VLOOKUP($B31,'ordine conf'!$B:$K,8,0) -> 24 | I31: =VLOOKUP($B31,'ordine conf'!$B:$K,9,0) -> 31 | K31: =IF(HLOOKUP($B31,portieri!$C$53:$V$60,K$47,0)>0,HLOOKUP($B31,portieri!$C$53:$V$60,K$47,0),"") -> 2 | L31: =IF(HLOOKUP($B31,portieri!$C$53:$V$60,L$47,0)>0,HLOOKUP($B31,portieri!$C$53:$V$60,L$47,0),"") -> 5 | M31: =IF(HLOOKUP($B31,portieri!$C$53:$V$60,M$47,0)>0,HLOOKUP($B31,portieri!$C$53:$V$60,M$47,0),"") -> 14 | N31: =IF(HLOOKUP($B31,portieri!$C$53:$V$60,N$47,0)>0,HLOOKUP($B31,portieri!$C$53:$V$60,N$47,0),"") -> 13 | O31: =IF(HLOOKUP($B31,portieri!$C$53:$V$60,O$47,0)>0,HLOOKUP($B31,portieri!$C$53:$V$60,O$47,0),"") -> 4 | Q31: =IF(HLOOKUP($B31,portieri!$C$113:$V$120,Q$47,0)>0,HLOOKUP($B31,portieri!$C$113:$V$120,Q$47,0),0) -> 2 | R31: =IF(HLOOKUP($B31,portieri!$C$113:$V$120,R$47,0)>0,HLOOKUP($B31,portieri!$C$113:$V$120,R$47,0),0) -> 2 | S31: =IF(HLOOKUP($B31,portieri!$C$113:$V$120,S$47,0)>0,HLOOKUP($B31,portieri!$C$113:$V$120,S$47,0),0) -> 7 | T31: =IF(HLOOKUP($B31,portieri!$C$113:$V$120,T$47,0)>0,HLOOKUP($B31,portieri!$C$113:$V$120,T$47,0),0) -> 6 | U31: =IF(HLOOKUP($B31,portieri!$C$113:$V$120,U$47,0)>0,HLOOKUP($B31,portieri!$C$113:$V$120,U$47,0),0) -> 2 | W31: =IF(HLOOKUP($B31,portieri!$C$172:$V$179,W$47,0)>0,HLOOKUP($B31,portieri!$C$172:$V$179,W$47,0),0) -> 0 | X31: =IF(HLOOKUP($B31,portieri!$C$172:$V$179,X$47,0)>0,HLOOKUP($B31,portieri!$C$172:$V$179,X$47,0),0) -> 3 | Y31: =IF(HLOOKUP($B31,portieri!$C$172:$V$179,Y$47,0)>0,HLOOKUP($B31,portieri!$C$172:$V$179,Y$47,0),0) -> 7 | Z31: =IF(HLOOKUP($B31,portieri!$C$172:$V$179,Z$47,0)>0,HLOOKUP($B31,portieri!$C$172:$V$179,Z$47,0),0) -> 7 | AA31: =IF(HLOOKUP($B31,portieri!$C$172:$V$179,AA$47,0)>0,HLOOKUP($B31,portieri!$C$172:$V$179,AA$47,0),0) -> 2 | AD31: =SUM(K31:O31) -> 38
B32: SIE | C32: =VLOOKUP($B32,'ordine conf'!$B:$K,3,0) -> 180.5 | D32: =VLOOKUP($B32,'ordine conf'!$B:$K,4,0) -> 6.25 | E32: =VLOOKUP($B32,'ordine conf'!$B:$K,5,0) -> 6.3947368 | F32: =VLOOKUP($B32,'ordine conf'!$B:$K,6,0) -> 6.1052632 | G32: =VLOOKUP($B32,'ordine conf'!$B:$K,7,0) -> 57 | H32: =VLOOKUP($B32,'ordine conf'!$B:$K,8,0) -> 19 | I32: =VLOOKUP($B32,'ordine conf'!$B:$K,9,0) -> 38 | K32: =IF(HLOOKUP($B32,portieri!$C$53:$V$60,K$47,0)>0,HLOOKUP($B32,portieri!$C$53:$V$60,K$47,0),"") -> 4 | L32: =IF(HLOOKUP($B32,portieri!$C$53:$V$60,L$47,0)>0,HLOOKUP($B32,portieri!$C$53:$V$60,L$47,0),"") -> 1 | M32: =IF(HLOOKUP($B32,portieri!$C$53:$V$60,M$47,0)>0,HLOOKUP($B32,portieri!$C$53:$V$60,M$47,0),"") -> 14 | N32: =IF(HLOOKUP($B32,portieri!$C$53:$V$60,N$47,0)>0,HLOOKUP($B32,portieri!$C$53:$V$60,N$47,0),"") -> 12 | O32: =IF(HLOOKUP($B32,portieri!$C$53:$V$60,O$47,0)>0,HLOOKUP($B32,portieri!$C$53:$V$60,O$47,0),"") -> 7 | Q32: =IF(HLOOKUP($B32,portieri!$C$113:$V$120,Q$47,0)>0,HLOOKUP($B32,portieri!$C$113:$V$120,Q$47,0),0) -> 1 | R32: =IF(HLOOKUP($B32,portieri!$C$113:$V$120,R$47,0)>0,HLOOKUP($B32,portieri!$C$113:$V$120,R$47,0),0) -> 0 | S32: =IF(HLOOKUP($B32,portieri!$C$113:$V$120,S$47,0)>0,HLOOKUP($B32,portieri!$C$113:$V$120,S$47,0),0) -> 6 | T32: =IF(HLOOKUP($B32,portieri!$C$113:$V$120,T$47,0)>0,HLOOKUP($B32,portieri!$C$113:$V$120,T$47,0),0) -> 8 | U32: =IF(HLOOKUP($B32,portieri!$C$113:$V$120,U$47,0)>0,HLOOKUP($B32,portieri!$C$113:$V$120,U$47,0),0) -> 4 | W32: =IF(HLOOKUP($B32,portieri!$C$172:$V$179,W$47,0)>0,HLOOKUP($B32,portieri!$C$172:$V$179,W$47,0),0) -> 3 | X32: =IF(HLOOKUP($B32,portieri!$C$172:$V$179,X$47,0)>0,HLOOKUP($B32,portieri!$C$172:$V$179,X$47,0),0) -> 1 | Y32: =IF(HLOOKUP($B32,portieri!$C$172:$V$179,Y$47,0)>0,HLOOKUP($B32,portieri!$C$172:$V$179,Y$47,0),0) -> 8 | Z32: =IF(HLOOKUP($B32,portieri!$C$172:$V$179,Z$47,0)>0,HLOOKUP($B32,portieri!$C$172:$V$179,Z$47,0),0) -> 4 | AA32: =IF(HLOOKUP($B32,portieri!$C$172:$V$179,AA$47,0)>0,HLOOKUP($B32,portieri!$C$172:$V$179,AA$47,0),0) -> 3 | AD32: =SUM(K32:O32) -> 38
B33: FIO-ATA | C33: =VLOOKUP($B33,'ordine conf'!$B:$K,3,0) -> 180.5 | D33: =VLOOKUP($B33,'ordine conf'!$B:$K,4,0) -> 5.9605263 | G33: =VLOOKUP($B33,'ordine conf'!$B:$K,7,0) -> 46 | K33: =IF(HLOOKUP($B33,incroci!$C$58:$V$64,K$47,0)>0,HLOOKUP($B33,incroci!$C$58:$V$64,K$47,0),0) -> 2 | L33: =IF(HLOOKUP($B33,incroci!$C$58:$V$64,L$47,0)>0,HLOOKUP($B33,incroci!$C$58:$V$64,L$47,0),0) -> 6 | M33: =IF(HLOOKUP($B33,incroci!$C$58:$V$64,M$47,0)>0,HLOOKUP($B33,incroci!$C$58:$V$64,M$47,0),0) -> 23 | N33: =IF(HLOOKUP($B33,incroci!$C$58:$V$64,N$47,0)>0,HLOOKUP($B33,incroci!$C$58:$V$64,N$47,0),0) -> 5 | O33: =IF(HLOOKUP($B33,incroci!$C$58:$V$64,O$47,0)>0,HLOOKUP($B33,incroci!$C$58:$V$64,O$47,0),0) -> 2 | AD33: =SUM(K33:O33) -> 38
B34: GEN | C34: =VLOOKUP($B34,'ordine conf'!$B:$K,3,0) -> 180 | D34: =VLOOKUP($B34,'ordine conf'!$B:$K,4,0) -> 6.1052632 | E34: =VLOOKUP($B34,'ordine conf'!$B:$K,5,0) -> 6.0526316 | F34: =VLOOKUP($B34,'ordine conf'!$B:$K,6,0) -> 6.1578947 | G34: =VLOOKUP($B34,'ordine conf'!$B:$K,7,0) -> 52 | H34: =VLOOKUP($B34,'ordine conf'!$B:$K,8,0) -> 30 | I34: =VLOOKUP($B34,'ordine conf'!$B:$K,9,0) -> 22 | K34: =IF(HLOOKUP($B34,portieri!$C$53:$V$60,K$47,0)>0,HLOOKUP($B34,portieri!$C$53:$V$60,K$47,0),"") -> 4 | L34: =IF(HLOOKUP($B34,portieri!$C$53:$V$60,L$47,0)>0,HLOOKUP($B34,portieri!$C$53:$V$60,L$47,0),"") -> 4 | M34: =IF(HLOOKUP($B34,portieri!$C$53:$V$60,M$47,0)>0,HLOOKUP($B34,portieri!$C$53:$V$60,M$47,0),"") -> 14 | N34: =IF(HLOOKUP($B34,portieri!$C$53:$V$60,N$47,0)>0,HLOOKUP($B34,portieri!$C$53:$V$60,N$47,0),"") -> 10 | O34: =IF(HLOOKUP($B34,portieri!$C$53:$V$60,O$47,0)>0,HLOOKUP($B34,portieri!$C$53:$V$60,O$47,0),"") -> 6 | Q34: =IF(HLOOKUP($B34,portieri!$C$113:$V$120,Q$47,0)>0,HLOOKUP($B34,portieri!$C$113:$V$120,Q$47,0),0) -> 1 | R34: =IF(HLOOKUP($B34,portieri!$C$113:$V$120,R$47,0)>0,HLOOKUP($B34,portieri!$C$113:$V$120,R$47,0),0) -> 2 | S34: =IF(HLOOKUP($B34,portieri!$C$113:$V$120,S$47,0)>0,HLOOKUP($B34,portieri!$C$113:$V$120,S$47,0),0) -> 11 | T34: =IF(HLOOKUP($B34,portieri!$C$113:$V$120,T$47,0)>0,HLOOKUP($B34,portieri!$C$113:$V$120,T$47,0),0) -> 4 | U34: =IF(HLOOKUP($B34,portieri!$C$113:$V$120,U$47,0)>0,HLOOKUP($B34,portieri!$C$113:$V$120,U$47,0),0) -> 1 | W34: =IF(HLOOKUP($B34,portieri!$C$172:$V$179,W$47,0)>0,HLOOKUP($B34,portieri!$C$172:$V$179,W$47,0),0) -> 3 | X34: =IF(HLOOKUP($B34,portieri!$C$172:$V$179,X$47,0)>0,HLOOKUP($B34,portieri!$C$172:$V$179,X$47,0),0) -> 2 | Y34: =IF(HLOOKUP($B34,portieri!$C$172:$V$179,Y$47,0)>0,HLOOKUP($B34,portieri!$C$172:$V$179,Y$47,0),0) -> 3 | Z34: =IF(HLOOKUP($B34,portieri!$C$172:$V$179,Z$47,0)>0,HLOOKUP($B34,portieri!$C$172:$V$179,Z$47,0),0) -> 6 | AA34: =IF(HLOOKUP($B34,portieri!$C$172:$V$179,AA$47,0)>0,HLOOKUP($B34,portieri!$C$172:$V$179,AA$47,0),0) -> 5 | AD34: =SUM(K34:O34) -> 38
B35: GEN-SAM | C35: =VLOOKUP($B35,'ordine conf'!$B:$K,3,0) -> 178.5 | D35: =VLOOKUP($B35,'ordine conf'!$B:$K,4,0) -> 6.0657895 | G35: =VLOOKUP($B35,'ordine conf'!$B:$K,7,0) -> 52 | K35: =IF(HLOOKUP($B35,incroci!$C$58:$V$64,K$47,0)>0,HLOOKUP($B35,incroci!$C$58:$V$64,K$47,0),0) -> 4 | L35: =IF(HLOOKUP($B35,incroci!$C$58:$V$64,L$47,0)>0,HLOOKUP($B35,incroci!$C$58:$V$64,L$47,0),0) -> 4 | M35: =IF(HLOOKUP($B35,incroci!$C$58:$V$64,M$47,0)>0,HLOOKUP($B35,incroci!$C$58:$V$64,M$47,0),0) -> 15 | N35: =IF(HLOOKUP($B35,incroci!$C$58:$V$64,N$47,0)>0,HLOOKUP($B35,incroci!$C$58:$V$64,N$47,0),0) -> 12 | O35: =IF(HLOOKUP($B35,incroci!$C$58:$V$64,O$47,0)>0,HLOOKUP($B35,incroci!$C$58:$V$64,O$47,0),0) -> 3 | AD35: =SUM(K35:O35) -> 38
B36: TOR | C36: =VLOOKUP($B36,'ordine conf'!$B:$K,3,0) -> 177 | D36: =VLOOKUP($B36,'ordine conf'!$B:$K,4,0) -> 6.1052632 | E36: =VLOOKUP($B36,'ordine conf'!$B:$K,5,0) -> 6.0263158 | F36: =VLOOKUP($B36,'ordine conf'!$B:$K,6,0) -> 6.1842105 | G36: =VLOOKUP($B36,'ordine conf'!$B:$K,7,0) -> 55 | H36: =VLOOKUP($B36,'ordine conf'!$B:$K,8,0) -> 26 | I36: =VLOOKUP($B36,'ordine conf'!$B:$K,9,0) -> 29 | K36: =IF(HLOOKUP($B36,portieri!$C$53:$V$60,K$47,0)>0,HLOOKUP($B36,portieri!$C$53:$V$60,K$47,0),"") -> 4 | L36: =IF(HLOOKUP($B36,portieri!$C$53:$V$60,L$47,0)>0,HLOOKUP($B36,portieri!$C$53:$V$60,L$47,0),"") -> 1 | M36: =IF(HLOOKUP($B36,portieri!$C$53:$V$60,M$47,0)>0,HLOOKUP($B36,portieri!$C$53:$V$60,M$47,0),"") -> 21 | N36: =IF(HLOOKUP($B36,portieri!$C$53:$V$60,N$47,0)>0,HLOOKUP($B36,portieri!$C$53:$V$60,N$47,0),"") -> 8 | O36: =IF(HLOOKUP($B36,portieri!$C$53:$V$60,O$47,0)>0,HLOOKUP($B36,portieri!$C$53:$V$60,O$47,0),"") -> 4 | Q36: =IF(HLOOKUP($B36,portieri!$C$113:$V$120,Q$47,0)>0,HLOOKUP($B36,portieri!$C$113:$V$120,Q$47,0),0) -> 1 | R36: =IF(HLOOKUP($B36,portieri!$C$113:$V$120,R$47,0)>0,HLOOKUP($B36,portieri!$C$113:$V$120,R$47,0),0) -> 1 | S36: =IF(HLOOKUP($B36,portieri!$C$113:$V$120,S$47,0)>0,HLOOKUP($B36,portieri!$C$113:$V$120,S$47,0),0) -> 13 | T36: =IF(HLOOKUP($B36,portieri!$C$113:$V$120,T$47,0)>0,HLOOKUP($B36,portieri!$C$113:$V$120,T$47,0),0) -> 3 | U36: =IF(HLOOKUP($B36,portieri!$C$113:$V$120,U$47,0)>0,HLOOKUP($B36,portieri!$C$113:$V$120,U$47,0),0) -> 1 | W36: =IF(HLOOKUP($B36,portieri!$C$172:$V$179,W$47,0)>0,HLOOKUP($B36,portieri!$C$172:$V$179,W$47,0),0) -> 3 | X36: =IF(HLOOKUP($B36,portieri!$C$172:$V$179,X$47,0)>0,HLOOKUP($B36,portieri!$C$172:$V$179,X$47,0),0) -> 0 | Y36: =IF(HLOOKUP($B36,portieri!$C$172:$V$179,Y$47,0)>0,HLOOKUP($B36,portieri!$C$172:$V$179,Y$47,0),0) -> 8 | Z36: =IF(HLOOKUP($B36,portieri!$C$172:$V$179,Z$47,0)>0,HLOOKUP($B36,portieri!$C$172:$V$179,Z$47,0),0) -> 5 | AA36: =IF(HLOOKUP($B36,portieri!$C$172:$V$179,AA$47,0)>0,HLOOKUP($B36,portieri!$C$172:$V$179,AA$47,0),0) -> 3 | AD36: =SUM(K36:O36) -> 38
B37: BOL | C37: =VLOOKUP($B37,'ordine conf'!$B:$K,3,0) -> 176 | D37: =VLOOKUP($B37,'ordine conf'!$B:$K,4,0) -> 6 | E37: =VLOOKUP($B37,'ordine conf'!$B:$K,5,0) -> 5.7105263 | F37: =VLOOKUP($B37,'ordine conf'!$B:$K,6,0) -> 6.2894737 | G37: =VLOOKUP($B37,'ordine conf'!$B:$K,7,0) -> 52 | H37: =VLOOKUP($B37,'ordine conf'!$B:$K,8,0) -> 24 | I37: =VLOOKUP($B37,'ordine conf'!$B:$K,9,0) -> 28 | K37: =IF(HLOOKUP($B37,portieri!$C$53:$V$60,K$47,0)>0,HLOOKUP($B37,portieri!$C$53:$V$60,K$47,0),"") -> 4 | L37: =IF(HLOOKUP($B37,portieri!$C$53:$V$60,L$47,0)>0,HLOOKUP($B37,portieri!$C$53:$V$60,L$47,0),"") -> 9 | M37: =IF(HLOOKUP($B37,portieri!$C$53:$V$60,M$47,0)>0,HLOOKUP($B37,portieri!$C$53:$V$60,M$47,0),"") -> 12 | N37: =IF(HLOOKUP($B37,portieri!$C$53:$V$60,N$47,0)>0,HLOOKUP($B37,portieri!$C$53:$V$60,N$47,0),"") -> 8 | O37: =IF(HLOOKUP($B37,portieri!$C$53:$V$60,O$47,0)>0,HLOOKUP($B37,portieri!$C$53:$V$60,O$47,0),"") -> 5 | Q37: =IF(HLOOKUP($B37,portieri!$C$113:$V$120,Q$47,0)>0,HLOOKUP($B37,portieri!$C$113:$V$120,Q$47,0),0) -> 3 | R37: =IF(HLOOKUP($B37,portieri!$C$113:$V$120,R$47,0)>0,HLOOKUP($B37,portieri!$C$113:$V$120,R$47,0),0) -> 6 | S37: =IF(HLOOKUP($B37,portieri!$C$113:$V$120,S$47,0)>0,HLOOKUP($B37,portieri!$C$113:$V$120,S$47,0),0) -> 7 | T37: =IF(HLOOKUP($B37,portieri!$C$113:$V$120,T$47,0)>0,HLOOKUP($B37,portieri!$C$113:$V$120,T$47,0),0) -> 3 | U37: =IF(HLOOKUP($B37,portieri!$C$113:$V$120,U$47,0)>0,HLOOKUP($B37,portieri!$C$113:$V$120,U$47,0),0) -> 0 | W37: =IF(HLOOKUP($B37,portieri!$C$172:$V$179,W$47,0)>0,HLOOKUP($B37,portieri!$C$172:$V$179,W$47,0),0) -> 1 | X37: =IF(HLOOKUP($B37,portieri!$C$172:$V$179,X$47,0)>0,HLOOKUP($B37,portieri!$C$172:$V$179,X$47,0),0) -> 3 | Y37: =IF(HLOOKUP($B37,portieri!$C$172:$V$179,Y$47,0)>0,HLOOKUP($B37,portieri!$C$172:$V$179,Y$47,0),0) -> 5 | Z37: =IF(HLOOKUP($B37,portieri!$C$172:$V$179,Z$47,0)>0,HLOOKUP($B37,portieri!$C$172:$V$179,Z$47,0),0) -> 5 | AA37: =IF(HLOOKUP($B37,portieri!$C$172:$V$179,AA$47,0)>0,HLOOKUP($B37,portieri!$C$172:$V$179,AA$47,0),0) -> 5 | AD37: =SUM(K37:O37) -> 38
B38: ATA | C38: =VLOOKUP($B38,'ordine conf'!$B:$K,3,0) -> 176 | D38: =VLOOKUP($B38,'ordine conf'!$B:$K,4,0) -> 6.1052632 | E38: =VLOOKUP($B38,'ordine conf'!$B:$K,5,0) -> 5.9473684 | F38: =VLOOKUP($B38,'ordine conf'!$B:$K,6,0) -> 6.2631579 | G38: =VLOOKUP($B38,'ordine conf'!$B:$K,7,0) -> 56 | H38: =VLOOKUP($B38,'ordine conf'!$B:$K,8,0) -> 24 | I38: =VLOOKUP($B38,'ordine conf'!$B:$K,9,0) -> 32 | K38: =IF(HLOOKUP($B38,portieri!$C$53:$V$60,K$47,0)>0,HLOOKUP($B38,portieri!$C$53:$V$60,K$47,0),"") -> 3 | L38: =IF(HLOOKUP($B38,portieri!$C$53:$V$60,L$47,0)>0,HLOOKUP($B38,portieri!$C$53:$V$60,L$47,0),"") -> 3 | M38: =IF(HLOOKUP($B38,portieri!$C$53:$V$60,M$47,0)>0,HLOOKUP($B38,portieri!$C$53:$V$60,M$47,0),"") -> 22 | N38: =IF(HLOOKUP($B38,portieri!$C$53:$V$60,N$47,0)>0,HLOOKUP($B38,portieri!$C$53:$V$60,N$47,0),"") -> 6 | O38: =IF(HLOOKUP($B38,portieri!$C$53:$V$60,O$47,0)>0,HLOOKUP($B38,portieri!$C$53:$V$60,O$47,0),"") -> 4 | Q38: =IF(HLOOKUP($B38,portieri!$C$113:$V$120,Q$47,0)>0,HLOOKUP($B38,portieri!$C$113:$V$120,Q$47,0),0) -> 1 | R38: =IF(HLOOKUP($B38,portieri!$C$113:$V$120,R$47,0)>0,HLOOKUP($B38,portieri!$C$113:$V$120,R$47,0),0) -> 3 | S38: =IF(HLOOKUP($B38,portieri!$C$113:$V$120,S$47,0)>0,HLOOKUP($B38,portieri!$C$113:$V$120,S$47,0),0) -> 13 | T38: =IF(HLOOKUP($B38,portieri!$C$113:$V$120,T$47,0)>0,HLOOKUP($B38,portieri!$C$113:$V$120,T$47,0),0) -> 1 | U38: =IF(HLOOKUP($B38,portieri!$C$113:$V$120,U$47,0)>0,HLOOKUP($B38,portieri!$C$113:$V$120,U$47,0),0) -> 1 | W38: =IF(HLOOKUP($B38,portieri!$C$172:$V$179,W$47,0)>0,HLOOKUP($B38,portieri!$C$172:$V$179,W$47,0),0) -> 2 | X38: =IF(HLOOKUP($B38,portieri!$C$172:$V$179,X$47,0)>0,HLOOKUP($B38,portieri!$C$172:$V$179,X$47,0),0) -> 0 | Y38: =IF(HLOOKUP($B38,portieri!$C$172:$V$179,Y$47,0)>0,HLOOKUP($B38,portieri!$C$172:$V$179,Y$47,0),0) -> 9 | Z38: =IF(HLOOKUP($B38,portieri!$C$172:$V$179,Z$47,0)>0,HLOOKUP($B38,portieri!$C$172:$V$179,Z$47,0),0) -> 5 | AA38: =IF(HLOOKUP($B38,portieri!$C$172:$V$179,AA$47,0)>0,HLOOKUP($B38,portieri!$C$172:$V$179,AA$47,0),0) -> 3 | AD38: =SUM(K38:O38) -> 38
B39: SAM | C39: =VLOOKUP($B39,'ordine conf'!$B:$K,3,0) -> 174.5 | D39: =VLOOKUP($B39,'ordine conf'!$B:$K,4,0) -> 5.9342105 | E39: =VLOOKUP($B39,'ordine conf'!$B:$K,5,0) -> 6.0789474 | F39: =VLOOKUP($B39,'ordine conf'!$B:$K,6,0) -> 5.7894737 | G39: =VLOOKUP($B39,'ordine conf'!$B:$K,7,0) -> 51 | H39: =VLOOKUP($B39,'ordine conf'!$B:$K,8,0) -> 22 | I39: =VLOOKUP($B39,'ordine conf'!$B:$K,9,0) -> 29 | K39: =IF(HLOOKUP($B39,portieri!$C$53:$V$60,K$47,0)>0,HLOOKUP($B39,portieri!$C$53:$V$60,K$47,0),"") -> 7 | L39: =IF(HLOOKUP($B39,portieri!$C$53:$V$60,L$47,0)>0,HLOOKUP($B39,portieri!$C$53:$V$60,L$47,0),"") -> 6 | M39: =IF(HLOOKUP($B39,portieri!$C$53:$V$60,M$47,0)>0,HLOOKUP($B39,portieri!$C$53:$V$60,M$47,0),"") -> 9 | N39: =IF(HLOOKUP($B39,portieri!$C$53:$V$60,N$47,0)>0,HLOOKUP($B39,portieri!$C$53:$V$60,N$47,0),"") -> 13 | O39: =IF(HLOOKUP($B39,portieri!$C$53:$V$60,O$47,0)>0,HLOOKUP($B39,portieri!$C$53:$V$60,O$47,0),"") -> 3 | Q39: =IF(HLOOKUP($B39,portieri!$C$113:$V$120,Q$47,0)>0,HLOOKUP($B39,portieri!$C$113:$V$120,Q$47,0),0) -> 3 | R39: =IF(HLOOKUP($B39,portieri!$C$113:$V$120,R$47,0)>0,HLOOKUP($B39,portieri!$C$113:$V$120,R$47,0),0) -> 2 | S39: =IF(HLOOKUP($B39,portieri!$C$113:$V$120,S$47,0)>0,HLOOKUP($B39,portieri!$C$113:$V$120,S$47,0),0) -> 4 | T39: =IF(HLOOKUP($B39,portieri!$C$113:$V$120,T$47,0)>0,HLOOKUP($B39,portieri!$C$113:$V$120,T$47,0),0) -> 8 | U39: =IF(HLOOKUP($B39,portieri!$C$113:$V$120,U$47,0)>0,HLOOKUP($B39,portieri!$C$113:$V$120,U$47,0),0) -> 2 | W39: =IF(HLOOKUP($B39,portieri!$C$172:$V$179,W$47,0)>0,HLOOKUP($B39,portieri!$C$172:$V$179,W$47,0),0) -> 4 | X39: =IF(HLOOKUP($B39,portieri!$C$172:$V$179,X$47,0)>0,HLOOKUP($B39,portieri!$C$172:$V$179,X$47,0),0) -> 4 | Y39: =IF(HLOOKUP($B39,portieri!$C$172:$V$179,Y$47,0)>0,HLOOKUP($B39,portieri!$C$172:$V$179,Y$47,0),0) -> 5 | Z39: =IF(HLOOKUP($B39,portieri!$C$172:$V$179,Z$47,0)>0,HLOOKUP($B39,portieri!$C$172:$V$179,Z$47,0),0) -> 5 | AA39: =IF(HLOOKUP($B39,portieri!$C$172:$V$179,AA$47,0)>0,HLOOKUP($B39,portieri!$C$172:$V$179,AA$47,0),0) -> 1 | AD39: =SUM(K39:O39) -> 38
B40: BOL-GEN | C40: =VLOOKUP($B40,'ordine conf'!$B:$K,3,0) -> 174 | D40: =VLOOKUP($B40,'ordine conf'!$B:$K,4,0) -> 5.9210526 | G40: =VLOOKUP($B40,'ordine conf'!$B:$K,7,0) -> 51 | K40: =IF(HLOOKUP($B40,incroci!$C$58:$V$64,K$47,0)>0,HLOOKUP($B40,incroci!$C$58:$V$64,K$47,0),0) -> 3 | L40: =IF(HLOOKUP($B40,incroci!$C$58:$V$64,L$47,0)>0,HLOOKUP($B40,incroci!$C$58:$V$64,L$47,0),0) -> 8 | M40: =IF(HLOOKUP($B40,incroci!$C$58:$V$64,M$47,0)>0,HLOOKUP($B40,incroci!$C$58:$V$64,M$47,0),0) -> 18 | N40: =IF(HLOOKUP($B40,incroci!$C$58:$V$64,N$47,0)>0,HLOOKUP($B40,incroci!$C$58:$V$64,N$47,0),0) -> 8 | O40: =IF(HLOOKUP($B40,incroci!$C$58:$V$64,O$47,0)>0,HLOOKUP($B40,incroci!$C$58:$V$64,O$47,0),0) -> 1 | AD40: =SUM(K40:O40) -> 38
B41: PAL | C41: =VLOOKUP($B41,'ordine conf'!$B:$K,3,0) -> 173 | D41: =VLOOKUP($B41,'ordine conf'!$B:$K,4,0) -> 5.9736842 | E41: =VLOOKUP($B41,'ordine conf'!$B:$K,5,0) -> 6.1052632 | F41: =VLOOKUP($B41,'ordine conf'!$B:$K,6,0) -> 5.8421053 | G41: =VLOOKUP($B41,'ordine conf'!$B:$K,7,0) -> 54 | H41: =VLOOKUP($B41,'ordine conf'!$B:$K,8,0) -> 26 | I41: =VLOOKUP($B41,'ordine conf'!$B:$K,9,0) -> 28 | K41: =IF(HLOOKUP($B41,portieri!$C$53:$V$60,K$47,0)>0,HLOOKUP($B41,portieri!$C$53:$V$60,K$47,0),"") -> 7 | L41: =IF(HLOOKUP($B41,portieri!$C$53:$V$60,L$47,0)>0,HLOOKUP($B41,portieri!$C$53:$V$60,L$47,0),"") -> 5 | M41: =IF(HLOOKUP($B41,portieri!$C$53:$V$60,M$47,0)>0,HLOOKUP($B41,portieri!$C$53:$V$60,M$47,0),"") -> 14 | N41: =IF(HLOOKUP($B41,portieri!$C$53:$V$60,N$47,0)>0,HLOOKUP($B41,portieri!$C$53:$V$60,N$47,0),"") -> 7 | O41: =IF(HLOOKUP($B41,portieri!$C$53:$V$60,O$47,0)>0,HLOOKUP($B41,portieri!$C$53:$V$60,O$47,0),"") -> 5 | Q41: =IF(HLOOKUP($B41,portieri!$C$113:$V$120,Q$47,0)>0,HLOOKUP($B41,portieri!$C$113:$V$120,Q$47,0),0) -> 1 | R41: =IF(HLOOKUP($B41,portieri!$C$113:$V$120,R$47,0)>0,HLOOKUP($B41,portieri!$C$113:$V$120,R$47,0),0) -> 4 | S41: =IF(HLOOKUP($B41,portieri!$C$113:$V$120,S$47,0)>0,HLOOKUP($B41,portieri!$C$113:$V$120,S$47,0),0) -> 7 | T41: =IF(HLOOKUP($B41,portieri!$C$113:$V$120,T$47,0)>0,HLOOKUP($B41,portieri!$C$113:$V$120,T$47,0),0) -> 4 | U41: =IF(HLOOKUP($B41,portieri!$C$113:$V$120,U$47,0)>0,HLOOKUP($B41,portieri!$C$113:$V$120,U$47,0),0) -> 3 | W41: =IF(HLOOKUP($B41,portieri!$C$172:$V$179,W$47,0)>0,HLOOKUP($B41,portieri!$C$172:$V$179,W$47,0),0) -> 6 | X41: =IF(HLOOKUP($B41,portieri!$C$172:$V$179,X$47,0)>0,HLOOKUP($B41,portieri!$C$172:$V$179,X$47,0),0) -> 1 | Y41: =IF(HLOOKUP($B41,portieri!$C$172:$V$179,Y$47,0)>0,HLOOKUP($B41,portieri!$C$172:$V$179,Y$47,0),0) -> 7 | Z41: =IF(HLOOKUP($B41,portieri!$C$172:$V$179,Z$47,0)>0,HLOOKUP($B41,portieri!$C$172:$V$179,Z$47,0),0) -> 3 | AA41: =IF(HLOOKUP($B41,portieri!$C$172:$V$179,AA$47,0)>0,HLOOKUP($B41,portieri!$C$172:$V$179,AA$47,0),0) -> 2 | AD41: =SUM(K41:O41) -> 38
B42: ROM | C42: =VLOOKUP($B42,'ordine conf'!$B:$K,3,0) -> 167 | D42: =VLOOKUP($B42,'ordine conf'!$B:$K,4,0) -> 5.8684211 | E42: =VLOOKUP($B42,'ordine conf'!$B:$K,5,0) -> 5.8684211 | F42: =VLOOKUP($B42,'ordine conf'!$B:$K,6,0) -> 5.8684211 | G42: =VLOOKUP($B42,'ordine conf'!$B:$K,7,0) -> 56 | H42: =VLOOKUP($B42,'ordine conf'!$B:$K,8,0) -> 24 | I42: =VLOOKUP($B42,'ordine conf'!$B:$K,9,0) -> 32 | K42: =IF(HLOOKUP($B42,portieri!$C$53:$V$60,K$47,0)>0,HLOOKUP($B42,portieri!$C$53:$V$60,K$47,0),"") -> 6 | L42: =IF(HLOOKUP($B42,portieri!$C$53:$V$60,L$47,0)>0,HLOOKUP($B42,portieri!$C$53:$V$60,L$47,0),"") -> 8 | M42: =IF(HLOOKUP($B42,portieri!$C$53:$V$60,M$47,0)>0,HLOOKUP($B42,portieri!$C$53:$V$60,M$47,0),"") -> 12 | N42: =IF(HLOOKUP($B42,portieri!$C$53:$V$60,N$47,0)>0,HLOOKUP($B42,portieri!$C$53:$V$60,N$47,0),"") -> 8 | O42: =IF(HLOOKUP($B42,portieri!$C$53:$V$60,O$47,0)>0,HLOOKUP($B42,portieri!$C$53:$V$60,O$47,0),"") -> 4 | Q42: =IF(HLOOKUP($B42,portieri!$C$113:$V$120,Q$47,0)>0,HLOOKUP($B42,portieri!$C$113:$V$120,Q$47,0),0) -> 4 | R42: =IF(HLOOKUP($B42,portieri!$C$113:$V$120,R$47,0)>0,HLOOKUP($B42,portieri!$C$113:$V$120,R$47,0),0) -> 5 | S42: =IF(HLOOKUP($B42,portieri!$C$113:$V$120,S$47,0)>0,HLOOKUP($B42,portieri!$C$113:$V$120,S$47,0),0) -> 2 | T42: =IF(HLOOKUP($B42,portieri!$C$113:$V$120,T$47,0)>0,HLOOKUP($B42,portieri!$C$113:$V$120,T$47,0),0) -> 4 | U42: =IF(HLOOKUP($B42,portieri!$C$113:$V$120,U$47,0)>0,HLOOKUP($B42,portieri!$C$113:$V$120,U$47,0),0) -> 4 | W42: =IF(HLOOKUP($B42,portieri!$C$172:$V$179,W$47,0)>0,HLOOKUP($B42,portieri!$C$172:$V$179,W$47,0),0) -> 2 | X42: =IF(HLOOKUP($B42,portieri!$C$172:$V$179,X$47,0)>0,HLOOKUP($B42,portieri!$C$172:$V$179,X$47,0),0) -> 3 | Y42: =IF(HLOOKUP($B42,portieri!$C$172:$V$179,Y$47,0)>0,HLOOKUP($B42,portieri!$C$172:$V$179,Y$47,0),0) -> 10 | Z42: =IF(HLOOKUP($B42,portieri!$C$172:$V$179,Z$47,0)>0,HLOOKUP($B42,portieri!$C$172:$V$179,Z$47,0),0) -> 4 | AA42: =IF(HLOOKUP($B42,portieri!$C$172:$V$179,AA$47,0)>0,HLOOKUP($B42,portieri!$C$172:$V$179,AA$47,0),0) -> 0 | AD42: =SUM(K42:O42) -> 38
B43: PES | C43: =VLOOKUP($B43,'ordine conf'!$B:$K,3,0) -> 150 | D43: =VLOOKUP($B43,'ordine conf'!$B:$K,4,0) -> 6.1578947 | E43: =VLOOKUP($B43,'ordine conf'!$B:$K,5,0) -> 5.8421053 | F43: =VLOOKUP($B43,'ordine conf'!$B:$K,6,0) -> 6.4736842 | G43: =VLOOKUP($B43,'ordine conf'!$B:$K,7,0) -> 84 | H43: =VLOOKUP($B43,'ordine conf'!$B:$K,8,0) -> 42 | I43: =VLOOKUP($B43,'ordine conf'!$B:$K,9,0) -> 42 | K43: =IF(HLOOKUP($B43,portieri!$C$53:$V$60,K$47,0)>0,HLOOKUP($B43,portieri!$C$53:$V$60,K$47,0),"") -> 5 | L43: =IF(HLOOKUP($B43,portieri!$C$53:$V$60,L$47,0)>0,HLOOKUP($B43,portieri!$C$53:$V$60,L$47,0),"") -> 7 | M43: =IF(HLOOKUP($B43,portieri!$C$53:$V$60,M$47,0)>0,HLOOKUP($B43,portieri!$C$53:$V$60,M$47,0),"") -> 10 | N43: =IF(HLOOKUP($B43,portieri!$C$53:$V$60,N$47,0)>0,HLOOKUP($B43,portieri!$C$53:$V$60,N$47,0),"") -> 8 | O43: =IF(HLOOKUP($B43,portieri!$C$53:$V$60,O$47,0)>0,HLOOKUP($B43,portieri!$C$53:$V$60,O$47,0),"") -> 8 | Q43: =IF(HLOOKUP($B43,portieri!$C$113:$V$120,Q$47,0)>0,HLOOKUP($B43,portieri!$C$113:$V$120,Q$47,0),0) -> 5 | R43: =IF(HLOOKUP($B43,portieri!$C$113:$V$120,R$47,0)>0,HLOOKUP($B43,portieri!$C$113:$V$120,R$47,0),0) -> 4 | S43: =IF(HLOOKUP($B43,portieri!$C$113:$V$120,S$47,0)>0,HLOOKUP($B43,portieri!$C$113:$V$120,S$47,0),0) -> 3 | T43: =IF(HLOOKUP($B43,portieri!$C$113:$V$120,T$47,0)>0,HLOOKUP($B43,portieri!$C$113:$V$120,T$47,0),0) -> 6 | U43: =IF(HLOOKUP($B43,portieri!$C$113:$V$120,U$47,0)>0,HLOOKUP($B43,portieri!$C$113:$V$120,U$47,0),0) -> 1 | W43: =IF(HLOOKUP($B43,portieri!$C$172:$V$179,W$47,0)>0,HLOOKUP($B43,portieri!$C$172:$V$179,W$47,0),0) -> 0 | X43: =IF(HLOOKUP($B43,portieri!$C$172:$V$179,X$47,0)>0,HLOOKUP($B43,portieri!$C$172:$V$179,X$47,0),0) -> 3 | Y43: =IF(HLOOKUP($B43,portieri!$C$172:$V$179,Y$47,0)>0,HLOOKUP($B43,portieri!$C$172:$V$179,Y$47,0),0) -> 7 | Z43: =IF(HLOOKUP($B43,portieri!$C$172:$V$179,Z$47,0)>0,HLOOKUP($B43,portieri!$C$172:$V$179,Z$47,0),0) -> 2 | AA43: =IF(HLOOKUP($B43,portieri!$C$172:$V$179,AA$47,0)>0,HLOOKUP($B43,portieri!$C$172:$V$179,AA$47,0),0) -> 7 | AD43: =SUM(K43:O43) -> 38
K45: =SUM(K4:K43) -> 147 | L45: =SUM(L4:L43) -> 176 | M45: =SUM(M4:M43) -> 666 | N45: =SUM(N4:N43) -> 350 | O45: =SUM(O4:O43) -> 181 | Q45: =SUM(Q4:Q43) -> 35 | R45: =SUM(R4:R43) -> 44 | S45: =SUM(S4:S43) -> 172 | T45: =SUM(T4:T43) -> 88 | U45: =SUM(U4:U43) -> 41 | V45: =SUM(V4:V43) -> 0 | W45: =SUM(W4:W43) -> 43 | X45: =SUM(X4:X43) -> 41 | ... AA45: =SUM(AA4:AA43) -> 59
K47: 3 | L47: 4 | M47: 5 | N47: 6 | O47: 7 | Q47: 2 | R47: 3 | S47: 4 | T47: 5 | U47: 6 | W47: 2 | X47: 3 | Y47: 4 | Z47: 5 | AA47: 6

Sheet incroci
C1: d-g | D1: h-e | E1: i-s | F1: f-o | G1: p-t | H1: c-f | I1: d-i | J1: h-c | K1: s-g | L1: u-v | M1: n-c | N1: k-u | O1: l-r | P1: j-m | Q1: l-t | R1: p-r | S1: n-e | T1: n-o | U1: v-r | V1: d-m | Z1: =C1 -> d-g | AA1: =D1 -> h-e | AB1: =E1 -> i-s | AC1: =F1 -> f-o | AD1: =G1 -> p-t | AE1: =H1 -> c-f | AF1: =I1 -> d-i | AG1: =J1 -> h-c | ... AS1: =V1 -> d-m
C2: BOL | D2: FIO | E2: GEN | F2: CAT | G2: PAR | H2: ATA | I2: BOL | J2: FIO | K2: SAM | L2: TOR | M2: NAP | N2: JUV | O2: LAZ | P2: INT | Q2: LAZ | R2: PAR | S2: NAP | T2: NAP | U2: UDI | V2: BOL | Z2: =C2 -> BOL | AA2: =D2 -> FIO | AB2: =E2 -> GEN | AC2: =F2 -> CAT | AD2: =G2 -> PAR | AE2: =H2 -> ATA | AF2: =I2 -> BOL | AG2: =J2 -> FIO | ... AS2: =V2 -> BOL
C3: CHI | D3: CAG | E3: SAM | F3: PAL | G3: SIE | H3: CAT | I3: GEN | J3: ATA | K3: CHI | L3: UDI | M3: ATA | N3: TOR | O3: ROM | P3: MIL | Q3: SIE | R3: ROM | S3: CAG | T3: PAL | U3: ROM | V3: MIL | Z3: =C3 -> CHI | AA3: =D3 -> CAG | AB3: =E3 -> SAM | AC3: =F3 -> PAL | AD3: =G3 -> SIE | AE3: =H3 -> CAT | AF3: =I3 -> GEN | AG3: =J3 -> ATA | ... AS3: =V3 -> MIL
C4: 38 | D4: 38 | E4: 38 | F4: 38 | G4: 38 | H4: 34 | I4: 34 | J4: 34 | K4: 34 | L4: 32 | M4: 38 | N4: 38 | O4: 38 | P4: 38 | Q4: 36 | R4: 36 | S4: 34 | T4: 34 | U4: 32 | V4: 30 | Y4: T | Z4: =C4 -> 38 | AA4: =D4 -> 38 | AB4: =E4 -> 38 | AC4: =F4 -> 38 | AD4: =G4 -> 38 | AE4: =H4 -> 34 | AF4: =I4 -> 34 | AG4: =J4 -> 34 | ... AS4: =V4 -> 30 | AW4: ATA | AX4: BOL | AY4: CAG | AZ4: CAT | BA4: CHI | BB4: FIO | BC4: GEN | BD4: INT | BE4: JUV | BF4: LAZ | BG4: MIL | BH4: NAP | BI4: PAL | BJ4: PAR | BK4: PES | BL4: ROM | BM4: SAM | BN4: SIE | BO4: TOR | BP4: UDI | BS4: T | BT4: ATA | BU4: BOL | BV4: CAG | BW4: CAT | BX4: CHI | BY4: FIO | BZ4: GEN | CA4: INT | CB4: JUV | CC4: LAZ | CD4: MIL | CE4: NAP | CF4: PAL | CG4: PAR | CH4: PES | CI4: ROM | CJ4: SAM | CK4: SIE | CL4: TOR | CM4: UDI | CP4: C | CQ4: ATA | CR4: BOL | CS4: CAG | CT4: CAT | CU4: CHI | CV4: FIO | CW4: GEN | CX4: INT | CY4: JUV | CZ4: LAZ | DA4: MIL | DB4: NAP | DC4: PAL | DD4: PAR | DE4: PES | DF4: ROM | DG4: SAM | DH4: SIE | DI4: TOR | DJ4: UDI | DM4: F | DN4: ATA | DO4: BOL | DP4: CAG | DQ4: CAT | DR4: CHI | DS4: FIO | DT4: GEN | DU4: INT | DV4: JUV | DW4: LAZ | DX4: MIL | DY4: NAP | DZ4: PAL | EA4: PAR | EB4: PES | EC4: ROM | ED4: SAM | EE4: SIE | EF4: TOR | EG4: UDI
B5: 1 | C5: =IF(squadre!$D3=1,portieri!$D3,IF(squadre!$G3=1,portieri!$G3,portieri!$D3)) -> 6 | D5: =IF(squadre!$H3=1,portieri!$H3,IF(squadre!$E3=1,portieri!$E3,portieri!$H3)) -> 6 | E5: =IF(squadre!$I3=1,portieri!$I3,IF(squadre!$S3=1,portieri!$S3,portieri!$I3)) -> 7 | F5: =IF(squadre!$F3=1,portieri!$F3,IF(squadre!$O3=1,portieri!$O3,portieri!$F3)) -> 5.5 | G5: =IF(squadre!$P3=1,portieri!$P3,IF(squadre!$T3=1,portieri!$T3,portieri!$P3)) -> 6 | H5: =IF(squadre!$C3=1,portieri!$C3,IF(squadre!$F3=1,portieri!$F3,portieri!$C3)) -> 6 | I5: =IF(squadre!$D3=1,portieri!$D3,IF(squadre!$I3=1,portieri!$I3,portieri!$D3)) -> 7 | J5: =IF(squadre!$H3=1,portieri!$H3,IF(squadre!$C3=1,portieri!$C3,portieri!$H3)) -> 6 | K5: =IF(squadre!$S3=1,portieri!$S3,IF(squadre!$G3=1,portieri!$G3,portieri!$S3)) -> 6 | L5: =IF(squadre!$U3=1,portieri!$U3,IF(squadre!$V3=1,portieri!$V3,portieri!$U3)) -> 6 | M5: =IF(squadre!$N3=1,portieri!$N3,IF(squadre!$C3=1,portieri!$C3,portieri!$N3)) -> 6 | N5: =IF(squadre!$U3=1,portieri!$U3,IF(squadre!$K3=1,portieri!$K3,portieri!$U3)) -> 6.5 | O5: =IF(squadre!$L3=1,portieri!$L3,IF(squadre!$R3=1,portieri!$R3,portieri!$L3)) -> 6 | P5: =IF(squadre!$J3=1,portieri!$J3,IF(squadre!$M3=1,portieri!$M3,portieri!$J3)) -> 6 | Q5: =IF(squadre!$L3=1,portieri!$L3,IF(squadre!$T3=1,portieri!$T3,portieri!$L3)) -> 6 | R5: =IF(squadre!$P3=1,portieri!$P3,IF(squadre!$R3=1,portieri!$R3,portieri!$P3)) -> 6 | S5: =IF(squadre!$N3=1,portieri!$N3,IF(squadre!$E3=1,portieri!$E3,portieri!$N3)) -> 6.5 | T5: =IF(squadre!$N3=1,portieri!$N3,IF(squadre!$O3=1,portieri!$O3,portieri!$N3)) -> 5.5 | U5: =IF(squadre!$V3=1,portieri!$V3,IF(squadre!$R3=1,portieri!$R3,portieri!$V3)) -> 6 | V5: =IF(squadre!$D3=1,portieri!$D3,IF(squadre!$M3=1,portieri!$M3,portieri!$D3)) -> 6 | Y5: 1 | Z5: =IF(squadre!$D3=1,portieri!$AD3,IF(squadre!$G3=1,portieri!$AG3,portieri!$AD3)) -> 0 | AA5: =IF(squadre!$H3=1,portieri!$AH3,IF(squadre!$E3=1,portieri!$AE3,portieri!$AH3)) -> 1 | AB5: =IF(squadre!$I3=1,portieri!$AI3,IF(squadre!$S3=1,portieri!$AS3,portieri!$AI3)) -> 0 | AC5: =IF(squadre!$F3=1,portieri!$AF3,IF(squadre!$O3=1,portieri!$AO3,portieri!$AF3)) -> 3 | AD5: =IF(squadre!$P3=1,portieri!AP3,IF(squadre!$T3=1,portieri!$AT3,portieri!$AP3)) -> 0 | AE5: =IF(squadre!$C3=1,portieri!$AC3,IF(squadre!$F3=1,portieri!$AF3,portieri!$AC3)) -> 1 | AF5: =IF(squadre!$D3=1,portieri!$AD3,IF(squadre!$I3=1,portieri!$AI3,portieri!$AD3)) -> 0 | AG5: =IF(squadre!$H3=1,portieri!$AH3,IF(squadre!$C3=1,portieri!$AC3,portieri!$AH3)) -> 1 | AH5: =IF(squadre!$S3=1,portieri!$AS3,IF(squadre!$G3=1,portieri!$AG3,portieri!$AS3)) -> 0 | AI5: =IF(squadre!$U3=1,portieri!$AU3,IF(squadre!$V3=1,portieri!$AV3,portieri!$AU3)) -> 0 | AJ5: =IF(squadre!$N3=1,portieri!$AN3,IF(squadre!$C3=1,portieri!$AC3,portieri!$AN3)) -> 1 | AK5: =IF(squadre!$U3=1,portieri!$AU3,IF(squadre!$K3=1,portieri!$AK3,portieri!$AU3)) -> 0 | AL5: =IF(squadre!$L3=1,portieri!$AL3,IF(squadre!$R3=1,portieri!$AR3,portieri!$AL3)) -> 2 | AM5: =IF(squadre!$J3=1,portieri!$AJ3,IF(squadre!$M3=1,portieri!$AM3,portieri!$AJ3)) -> 1 | AN5: =IF(squadre!$L3=1,portieri!$AL3,IF(squadre!$T3=1,portieri!$AT3,portieri!$AL3)) -> 0 | AO5: =IF(squadre!$P3=1,portieri!$AP3,IF(squadre!$R3=1,portieri!$AR3,portieri!$AP3)) -> 2 | AP5: =IF(squadre!$N3=1,portieri!$AN3,IF(squadre!$E3=1,portieri!$AE3,portieri!$AN3)) -> 0 | AQ5: =IF(squadre!$N3=1,portieri!$AN3,IF(squadre!$O3=1,portieri!$AO3,portieri!$AN3)) -> 3 | AR5: =IF(squadre!$V3=1,portieri!$AV3,IF(squadre!$R3=1,portieri!$AR3,portieri!$AV3)) -> 2 | AS5: =IF(squadre!$D3=1,portieri!$AD3,IF(squadre!$M3=1,portieri!$AM3,portieri!$AD3)) -> 1 | AV5: 1 | AW5: =portieri!C3 -> 6 | AX5: =portieri!D3 -> 5.5 | AY5: =portieri!E3 -> 6.5 | AZ5: =portieri!F3 -> 6 | BA5: =portieri!G3 -> 6 | BB5: =portieri!H3 -> 6 | BC5: =portieri!I3 -> 7 | BD5: =portieri!J3 -> 7 | ... BP5: =portieri!V3 -> 6.5 | BS5: 1 | BT5: =portieri!AC3 -> 1 | BU5: =portieri!AD3 -> 2 | BV5: =portieri!AE3 -> 2 | BW5: =portieri!AF3 -> 2 | BX5: =portieri!AG3 -> 0 | BY5: =portieri!AH3 -> 1 | BZ5: =portieri!AI3 -> 0 | CA5: =portieri!AJ3 -> 0 | ... CM5: =portieri!AV3 -> 2 | CP5: 1 | CQ5: =IF(squadre!C3=1, BT5, "-") -> 1 | CR5: =IF(squadre!D3=1, BU5, "-") -> - | CS5: =IF(squadre!E3=1, BV5, "-") -> - | CT5: =IF(squadre!F3=1, BW5, "-") -> - | CU5: =IF(squadre!G3=1, BX5, "-") -> 0 | CV5: =IF(squadre!H3=1, BY5, "-") -> 1 | CW5: =IF(squadre!I3=1, BZ5, "-") -> 0 | CX5: =IF(squadre!J3=1, CA5, "-") -> - | ... DJ5: =IF(squadre!V3=1, CM5, "-") -> - | DM5: 1 | DN5: =IF(squadre!C3=0, BT5, "-") -> - | DO5: =IF(squadre!D3=0, BU5, "-") -> 2 | DP5: =IF(squadre!E3=0, BV5, "-") -> 2 | DQ5: =IF(squadre!F3=0, BW5, "-") -> 2 | DR5: =IF(squadre!G3=0, BX5, "-") -> - | DS5: =IF(squadre!H3=0, BY5, "-") -> - | DT5: =IF(squadre!I3=0, BZ5, "-") -> - | DU5: =IF(squadre!J3=0, CA5, "-") -> 0 | ... EG5: =IF(squadre!V3=0, CM5, "-") -> 2
B6: 2 | C6: =IF(squadre!$D4=1,portieri!$D4,IF(squadre!$G4=1,portieri!$G4,portieri!$D4)) -> 4 | D6: =IF(squadre!$H4=1,portieri!$H4,IF(squadre!$E4=1,portieri!$E4,portieri!$H4)) -> 6.5 | E6: =IF(squadre!$I4=1,portieri!$I4,IF(squadre!$S4=1,portieri!$S4,portieri!$I4)) -> 6.5 | F6: =IF(squadre!$F4=1,portieri!$F4,IF(squadre!$O4=1,portieri!$O4,portieri!$F4)) -> 7.5 | G6: =IF(squadre!$P4=1,portieri!$P4,IF(squadre!$T4=1,portieri!$T4,portieri!$P4)) -> 6 | H6: =IF(squadre!$C4=1,portieri!$C4,IF(squadre!$F4=1,portieri!$F4,portieri!$C4)) -> 7.5 | I6: =IF(squadre!$D4=1,portieri!$D4,IF(squadre!$I4=1,portieri!$I4,portieri!$D4)) -> 4 | J6: =IF(squadre!$H4=1,portieri!$H4,IF(squadre!$C4=1,portieri!$C4,portieri!$H4)) -> 5.5 | K6: =IF(squadre!$S4=1,portieri!$S4,IF(squadre!$G4=1,portieri!$G4,portieri!$S4)) -> 6.5 | L6: =IF(squadre!$U4=1,portieri!$U4,IF(squadre!$V4=1,portieri!$V4,portieri!$U4)) -> 6 | M6: =IF(squadre!$N4=1,portieri!$N4,IF(squadre!$C4=1,portieri!$C4,portieri!$N4)) -> 5.5 | N6: =IF(squadre!$U4=1,portieri!$U4,IF(squadre!$K4=1,portieri!$K4,portieri!$U4)) -> 6 | O6: =IF(squadre!$L4=1,portieri!$L4,IF(squadre!$R4=1,portieri!$R4,portieri!$L4)) -> 6.5 | P6: =IF(squadre!$J4=1,portieri!$J4,IF(squadre!$M4=1,portieri!$M4,portieri!$J4)) -> 5.5 | Q6: =IF(squadre!$L4=1,portieri!$L4,IF(squadre!$T4=1,portieri!$T4,portieri!$L4)) -> 6.5 | R6: =IF(squadre!$P4=1,portieri!$P4,IF(squadre!$R4=1,portieri!$R4,portieri!$P4)) -> 6 | S6: =IF(squadre!$N4=1,portieri!$N4,IF(squadre!$E4=1,portieri!$E4,portieri!$N4)) -> 5.5 | T6: =IF(squadre!$N4=1,portieri!$N4,IF(squadre!$O4=1,portieri!$O4,portieri!$N4)) -> 5.5 | U6: =IF(squadre!$V4=1,portieri!$V4,IF(squadre!$R4=1,portieri!$R4,portieri!$V4)) -> 5.5 | V6: =IF(squadre!$D4=1,portieri!$D4,IF(squadre!$M4=1,portieri!$M4,portieri!$D4)) -> 4 | Y6: 2 | Z6: =IF(squadre!$D4=1,portieri!$AD4,IF(squadre!$G4=1,portieri!$AG4,portieri!$AD4)) -> 3 | AA6: =IF(squadre!$H4=1,portieri!$AH4,IF(squadre!$E4=1,portieri!$AE4,portieri!$AH4)) -> 1 | AB6: =IF(squadre!$I4=1,portieri!$AI4,IF(squadre!$S4=1,portieri!$AS4,portieri!$AI4)) -> 1 | AC6: =IF(squadre!$F4=1,portieri!$AF4,IF(squadre!$O4=1,portieri!$AO4,portieri!$AF4)) -> 2 | AD6: =IF(squadre!$P4=1,portieri!AP4,IF(squadre!$T4=1,portieri!$AT4,portieri!$AP4)) -> 0 | AE6: =IF(squadre!$C4=1,portieri!$AC4,IF(squadre!$F4=1,portieri!$AF4,portieri!$AC4)) -> 2 | AF6: =IF(squadre!$D4=1,portieri!$AD4,IF(squadre!$I4=1,portieri!$AI4,portieri!$AD4)) -> 3 | AG6: =IF(squadre!$H4=1,portieri!$AH4,IF(squadre!$C4=1,portieri!$AC4,portieri!$AH4)) -> 2 | AH6: =IF(squadre!$S4=1,portieri!$AS4,IF(squadre!$G4=1,portieri!$AG4,portieri!$AS4)) -> 1 | AI6: =IF(squadre!$U4=1,portieri!$AU4,IF(squadre!$V4=1,portieri!$AV4,portieri!$AU4)) -> 0 | AJ6: =IF(squadre!$N4=1,portieri!$AN4,IF(squadre!$C4=1,portieri!$AC4,portieri!$AN4)) -> 1 | AK6: =IF(squadre!$U4=1,portieri!$AU4,IF(squadre!$K4=1,portieri!$AK4,portieri!$AU4)) -> 0 | AL6: =IF(squadre!$L4=1,portieri!$AL4,IF(squadre!$R4=1,portieri!$AR4,portieri!$AL4)) -> 0 | AM6: =IF(squadre!$J4=1,portieri!$AJ4,IF(squadre!$M4=1,portieri!$AM4,portieri!$AJ4)) -> 3 | AN6: =IF(squadre!$L4=1,portieri!$AL4,IF(squadre!$T4=1,portieri!$AT4,portieri!$AL4)) -> 0 | AO6: =IF(squadre!$P4=1,portieri!$AP4,IF(squadre!$R4=1,portieri!$AR4,portieri!$AP4)) -> 0 | AP6: =IF(squadre!$N4=1,portieri!$AN4,IF(squadre!$E4=1,portieri!$AE4,portieri!$AN4)) -> 1 | AQ6: =IF(squadre!$N4=1,portieri!$AN4,IF(squadre!$O4=1,portieri!$AO4,portieri!$AN4)) -> 1 | AR6: =IF(squadre!$V4=1,portieri!$AV4,IF(squadre!$R4=1,portieri!$AR4,portieri!$AV4)) -> 4 | AS6: =IF(squadre!$D4=1,portieri!$AD4,IF(squadre!$M4=1,portieri!$AM4,portieri!$AD4)) -> 3 | AV6: 2 | AW6: =portieri!C4 -> 8.5 | AX6: =portieri!D4 -> 4 | AY6: =portieri!E4 -> 6.5 | AZ6: =portieri!F4 -> 7.5 | BA6: =portieri!G4 -> 6 | BB6: =portieri!H4 -> 5.5 | BC6: =portieri!I4 -> 5.5 | BD6: =portieri!J4 -> 5.5 | ... BP6: =portieri!V4 -> 5.5 | BS6: 2 | BT6: =portieri!AC4 -> 1 | BU6: =portieri!AD4 -> 3 | BV6: =portieri!AE4 -> 1 | BW6: =portieri!AF4 -> 2 | BX6: =portieri!AG4 -> 2 | BY6: =portieri!AH4 -> 2 | BZ6: =portieri!AI4 -> 3 | CA6: =portieri!AJ4 -> 3 | ... CM6: =portieri!AV4 -> 4 | CP6: 2 | CQ6: =IF(squadre!C4=1, BT6, "-") -> - | CR6: =IF(squadre!D4=1, BU6, "-") -> 3 | CS6: =IF(squadre!E4=1, BV6, "-") -> 1 | CT6: =IF(squadre!F4=1, BW6, "-") -> 2 | CU6: =IF(squadre!G4=1, BX6, "-") -> - | CV6: =IF(squadre!H4=1, BY6, "-") -> - | CW6: =IF(squadre!I4=1, BZ6, "-") -> - | CX6: =IF(squadre!J4=1, CA6, "-") -> 3 | ... DJ6: =IF(squadre!V4=1, CM6, "-") -> 4 | DM6: 2 | DN6: =IF(squadre!C4=0, BT6, "-") -> 1 | DO6: =IF(squadre!D4=0, BU6, "-") -> - | DP6: =IF(squadre!E4=0, BV6, "-") -> - | DQ6: =IF(squadre!F4=0, BW6, "-") -> - | DR6: =IF(squadre!G4=0, BX6, "-") -> 2 | DS6: =IF(squadre!H4=0, BY6, "-") -> 2 | DT6: =IF(squadre!I4=0, BZ6, "-") -> 3 | DU6: =IF(squadre!J4=0, CA6, "-") -> - | ... EG6: =IF(squadre!V4=0, CM6, "-") -> -
B7: 3 | C7: =IF(squadre!$D5=1,portieri!$D5,IF(squadre!$G5=1,portieri!$G5,portieri!$D5)) -> 5.5 | D7: =IF(squadre!$H5=1,portieri!$H5,IF(squadre!$E5=1,portieri!$E5,portieri!$H5)) -> 6.5 | E7: =IF(squadre!$I5=1,portieri!$I5,IF(squadre!$S5=1,portieri!$S5,portieri!$I5)) -> 6 | F7: =IF(squadre!$F5=1,portieri!$F5,IF(squadre!$O5=1,portieri!$O5,portieri!$F5)) -> 6 | G7: =IF(squadre!$P5=1,portieri!$P5,IF(squadre!$T5=1,portieri!$T5,portieri!$P5)) -> 6 | H7: =IF(squadre!$C5=1,portieri!$C5,IF(squadre!$F5=1,portieri!$F5,portieri!$C5)) -> 6.5 | I7: =IF(squadre!$D5=1,portieri!$D5,IF(squadre!$I5=1,portieri!$I5,portieri!$D5)) -> 6 | J7: =IF(squadre!$H5=1,portieri!$H5,IF(squadre!$C5=1,portieri!$C5,portieri!$H5)) -> 6.5 | K7: =IF(squadre!$S5=1,portieri!$S5,IF(squadre!$G5=1,portieri!$G5,portieri!$S5)) -> 5.5 | L7: =IF(squadre!$U5=1,portieri!$U5,IF(squadre!$V5=1,portieri!$V5,portieri!$U5)) -> 6 | M7: =IF(squadre!$N5=1,portieri!$N5,IF(squadre!$C5=1,portieri!$C5,portieri!$N5)) -> 6 | N7: =IF(squadre!$U5=1,portieri!$U5,IF(squadre!$K5=1,portieri!$K5,portieri!$U5)) -> 6 | O7: =IF(squadre!$L5=1,portieri!$L5,IF(squadre!$R5=1,portieri!$R5,portieri!$L5)) -> 5 | P7: =IF(squadre!$J5=1,portieri!$J5,IF(squadre!$M5=1,portieri!$M5,portieri!$J5)) -> 6 | Q7: =IF(squadre!$L5=1,portieri!$L5,IF(squadre!$T5=1,portieri!$T5,portieri!$L5)) -> 6 | R7: =IF(squadre!$P5=1,portieri!$P5,IF(squadre!$R5=1,portieri!$R5,portieri!$P5)) -> 5 | S7: =IF(squadre!$N5=1,portieri!$N5,IF(squadre!$E5=1,portieri!$E5,portieri!$N5)) -> 6 | T7: =IF(squadre!$N5=1,portieri!$N5,IF(squadre!$O5=1,portieri!$O5,portieri!$N5)) -> 6 | U7: =IF(squadre!$V5=1,portieri!$V5,IF(squadre!$R5=1,portieri!$R5,portieri!$V5)) -> 5 | V7: =IF(squadre!$D5=1,portieri!$D5,IF(squadre!$M5=1,portieri!$M5,portieri!$D5)) -> 6 | Y7: 3 | Z7: =IF(squadre!$D5=1,portieri!$AD5,IF(squadre!$G5=1,portieri!$AG5,portieri!$AD5)) -> 3 | AA7: =IF(squadre!$H5=1,portieri!$AH5,IF(squadre!$E5=1,portieri!$AE5,portieri!$AH5)) -> 0 | AB7: =IF(squadre!$I5=1,portieri!$AI5,IF(squadre!$S5=1,portieri!$AS5,portieri!$AI5)) -> 3 | AC7: =IF(squadre!$F5=1,portieri!$AF5,IF(squadre!$O5=1,portieri!$AO5,portieri!$AF5)) -> 1 | AD7: =IF(squadre!$P5=1,portieri!AP5,IF(squadre!$T5=1,portieri!$AT5,portieri!$AP5)) -> 2 | AE7: =IF(squadre!$C5=1,portieri!$AC5,IF(squadre!$F5=1,portieri!$AF5,portieri!$AC5)) -> 0 | AF7: =IF(squadre!$D5=1,portieri!$AD5,IF(squadre!$I5=1,portieri!$AI5,portieri!$AD5)) -> 3 | AG7: =IF(squadre!$H5=1,portieri!$AH5,IF(squadre!$C5=1,portieri!$AC5,portieri!$AH5)) -> 0 | AH7: =IF(squadre!$S5=1,portieri!$AS5,IF(squadre!$G5=1,portieri!$AG5,portieri!$AS5)) -> 3 | AI7: =IF(squadre!$U5=1,portieri!$AU5,IF(squadre!$V5=1,portieri!$AV5,portieri!$AU5)) -> 2 | AJ7: =IF(squadre!$N5=1,portieri!$AN5,IF(squadre!$C5=1,portieri!$AC5,portieri!$AN5)) -> 1 | AK7: =IF(squadre!$U5=1,portieri!$AU5,IF(squadre!$K5=1,portieri!$AK5,portieri!$AU5)) -> 2 | AL7: =IF(squadre!$L5=1,portieri!$AL5,IF(squadre!$R5=1,portieri!$AR5,portieri!$AL5)) -> 3 | AM7: =IF(squadre!$J5=1,portieri!$AJ5,IF(squadre!$M5=1,portieri!$AM5,portieri!$AJ5)) -> 1 | AN7: =IF(squadre!$L5=1,portieri!$AL5,IF(squadre!$T5=1,portieri!$AT5,portieri!$AL5)) -> 2 | AO7: =IF(squadre!$P5=1,portieri!$AP5,IF(squadre!$R5=1,portieri!$AR5,portieri!$AP5)) -> 3 | AP7: =IF(squadre!$N5=1,portieri!$AN5,IF(squadre!$E5=1,portieri!$AE5,portieri!$AN5)) -> 1 | AQ7: =IF(squadre!$N5=1,portieri!$AN5,IF(squadre!$O5=1,portieri!$AO5,portieri!$AN5)) -> 1 | AR7: =IF(squadre!$V5=1,portieri!$AV5,IF(squadre!$R5=1,portieri!$AR5,portieri!$AV5)) -> 3 | AS7: =IF(squadre!$D5=1,portieri!$AD5,IF(squadre!$M5=1,portieri!$AM5,portieri!$AD5)) -> 1 | AV7: 3 | AW7: =portieri!C5 -> 6.5 | AX7: =portieri!D5 -> 7 | AY7: =portieri!E5 -> 6 | AZ7: =portieri!F5 -> 5.5 | BA7: =portieri!G5 -> 5.5 | BB7: =portieri!H5 -> 6.5 | BC7: =portieri!I5 -> 6 | BD7: =portieri!J5 -> 6.5 | ... BP7: =portieri!V5 -> 6.5 | BS7: 3 | BT7: =portieri!AC5 -> 0 | BU7: =portieri!AD5 -> 2 | BV7: =portieri!AE5 -> 1 | BW7: =portieri!AF5 -> 2 | BX7: =portieri!AG5 -> 3 | BY7: =portieri!AH5 -> 0 | BZ7: =portieri!AI5 -> 3 | CA7: =portieri!AJ5 -> 0 | ... CM7: =portieri!AV5 -> 2 | CP7: 3 | CQ7: =IF(squadre!C5=1, BT7, "-") -> - | CR7: =IF(squadre!D5=1, BU7, "-") -> - | CS7: =IF(squadre!E5=1, BV7, "-") -> - | CT7: =IF(squadre!F5=1, BW7, "-") -> - | CU7: =IF(squadre!G5=1, BX7, "-") -> 3 | CV7: =IF(squadre!H5=1, BY7, "-") -> 0 | CW7: =IF(squadre!I5=1, BZ7, "-") -> 3 | CX7: =IF(squadre!J5=1, CA7, "-") -> - | ... DJ7: =IF(squadre!V5=1, CM7, "-") -> - | DM7: 3 | DN7: =IF(squadre!C5=0, BT7, "-") -> 0 | DO7: =IF(squadre!D5=0, BU7, "-") -> 2 | DP7: =IF(squadre!E5=0, BV7, "-") -> 1 | DQ7: =IF(squadre!F5=0, BW7, "-") -> 2 | DR7: =IF(squadre!G5=0, BX7, "-") -> - | DS7: =IF(squadre!H5=0, BY7, "-") -> - | DT7: =IF(squadre!I5=0, BZ7, "-") -> - | DU7: =IF(squadre!J5=0, CA7, "-") -> 0 | ... EG7: =IF(squadre!V5=0, CM7, "-") -> 2
B8: 4 | C8: =IF(squadre!$D6=1,portieri!$D6,IF(squadre!$G6=1,portieri!$G6,portieri!$D6)) -> 5.5 | D8: =IF(squadre!$H6=1,portieri!$H6,IF(squadre!$E6=1,portieri!$E6,portieri!$H6)) -> 6 | E8: =IF(squadre!$I6=1,portieri!$I6,IF(squadre!$S6=1,portieri!$S6,portieri!$I6)) -> 6 | F8: =IF(squadre!$F6=1,portieri!$F6,IF(squadre!$O6=1,portieri!$O6,portieri!$F6)) -> 6.5 | G8: =IF(squadre!$P6=1,portieri!$P6,IF(squadre!$T6=1,portieri!$T6,portieri!$P6)) -> 6.5 | H8: =IF(squadre!$C6=1,portieri!$C6,IF(squadre!$F6=1,portieri!$F6,portieri!$C6)) -> 6 | I8: =IF(squadre!$D6=1,portieri!$D6,IF(squadre!$I6=1,portieri!$I6,portieri!$D6)) -> 5.5 | J8: =IF(squadre!$H6=1,portieri!$H6,IF(squadre!$C6=1,portieri!$C6,portieri!$H6)) -> 6 | K8: =IF(squadre!$S6=1,portieri!$S6,IF(squadre!$G6=1,portieri!$G6,portieri!$S6)) -> 6 | L8: =IF(squadre!$U6=1,portieri!$U6,IF(squadre!$V6=1,portieri!$V6,portieri!$U6)) -> 6.5 | M8: =IF(squadre!$N6=1,portieri!$N6,IF(squadre!$C6=1,portieri!$C6,portieri!$N6)) -> 6 | N8: =IF(squadre!$U6=1,portieri!$U6,IF(squadre!$K6=1,portieri!$K6,portieri!$U6)) -> 6 | O8: =IF(squadre!$L6=1,portieri!$L6,IF(squadre!$R6=1,portieri!$R6,portieri!$L6)) -> 6.5 | P8: =IF(squadre!$J6=1,portieri!$J6,IF(squadre!$M6=1,portieri!$M6,portieri!$J6)) -> 6 | Q8: =IF(squadre!$L6=1,portieri!$L6,IF(squadre!$T6=1,portieri!$T6,portieri!$L6)) -> 6.5 | R8: =IF(squadre!$P6=1,portieri!$P6,IF(squadre!$R6=1,portieri!$R6,portieri!$P6)) -> 6.5 | S8: =IF(squadre!$N6=1,portieri!$N6,IF(squadre!$E6=1,portieri!$E6,portieri!$N6)) -> 6 | T8: =IF(squadre!$N6=1,portieri!$N6,IF(squadre!$O6=1,portieri!$O6,portieri!$N6)) -> 6.5 | U8: =IF(squadre!$V6=1,portieri!$V6,IF(squadre!$R6=1,portieri!$R6,portieri!$V6)) -> 6.5 | V8: =IF(squadre!$D6=1,portieri!$D6,IF(squadre!$M6=1,portieri!$M6,portieri!$D6)) -> 5.5 | Y8: 4 | Z8: =IF(squadre!$D6=1,portieri!$AD6,IF(squadre!$G6=1,portieri!$AG6,portieri!$AD6)) -> 1 | AA8: =IF(squadre!$H6=1,portieri!$AH6,IF(squadre!$E6=1,portieri!$AE6,portieri!$AH6)) -> 3 | AB8: =IF(squadre!$I6=1,portieri!$AI6,IF(squadre!$S6=1,portieri!$AS6,portieri!$AI6)) -> 1 | AC8: =IF(squadre!$F6=1,portieri!$AF6,IF(squadre!$O6=1,portieri!$AO6,portieri!$AF6)) -> 0 | AD8: =IF(squadre!$P6=1,portieri!AP6,IF(squadre!$T6=1,portieri!$AT6,portieri!$AP6)) -> 1 | AE8: =IF(squadre!$C6=1,portieri!$AC6,IF(squadre!$F6=1,portieri!$AF6,portieri!$AC6)) -> 0 | AF8: =IF(squadre!$D6=1,portieri!$AD6,IF(squadre!$I6=1,portieri!$AI6,portieri!$AD6)) -> 1 | AG8: =IF(squadre!$H6=1,portieri!$AH6,IF(squadre!$C6=1,portieri!$AC6,portieri!$AH6)) -> 0 | AH8: =IF(squadre!$S6=1,portieri!$AS6,IF(squadre!$G6=1,portieri!$AG6,portieri!$AS6)) -> 1 | AI8: =IF(squadre!$U6=1,portieri!$AU6,IF(squadre!$V6=1,portieri!$AV6,portieri!$AU6)) -> 1 | AJ8: =IF(squadre!$N6=1,portieri!$AN6,IF(squadre!$C6=1,portieri!$AC6,portieri!$AN6)) -> 0 | AK8: =IF(squadre!$U6=1,portieri!$AU6,IF(squadre!$K6=1,portieri!$AK6,portieri!$AU6)) -> 0 | AL8: =IF(squadre!$L6=1,portieri!$AL6,IF(squadre!$R6=1,portieri!$AR6,portieri!$AL6)) -> 1 | AM8: =IF(squadre!$J6=1,portieri!$AJ6,IF(squadre!$M6=1,portieri!$AM6,portieri!$AJ6)) -> 2 | AN8: =IF(squadre!$L6=1,portieri!$AL6,IF(squadre!$T6=1,portieri!$AT6,portieri!$AL6)) -> 1 | AO8: =IF(squadre!$P6=1,portieri!$AP6,IF(squadre!$R6=1,portieri!$AR6,portieri!$AP6)) -> 1 | AP8: =IF(squadre!$N6=1,portieri!$AN6,IF(squadre!$E6=1,portieri!$AE6,portieri!$AN6)) -> 3 | AQ8: =IF(squadre!$N6=1,portieri!$AN6,IF(squadre!$O6=1,portieri!$AO6,portieri!$AN6)) -> 0 | AR8: =IF(squadre!$V6=1,portieri!$AV6,IF(squadre!$R6=1,portieri!$AR6,portieri!$AV6)) -> 1 | AS8: =IF(squadre!$D6=1,portieri!$AD6,IF(squadre!$M6=1,portieri!$AM6,portieri!$AD6)) -> 1 | AV8: 4 | AW8: =portieri!C6 -> 6 | AX8: =portieri!D6 -> 5.5 | AY8: =portieri!E6 -> 6 | AZ8: =portieri!F6 -> 6.5 | BA8: =portieri!G6 -> 7.5 | BB8: =portieri!H6 -> 7 | BC8: =portieri!I6 -> 7 | BD8: =portieri!J6 -> 6 | ... BP8: =portieri!V6 -> 6.5 | BS8: 4 | BT8: =portieri!AC6 -> 0 | BU8: =portieri!AD6 -> 1 | BV8: =portieri!AE6 -> 3 | BW8: =portieri!AF6 -> 0 | BX8: =portieri!AG6 -> 2 | BY8: =portieri!AH6 -> 1 | BZ8: =portieri!AI6 -> 0 | CA8: =portieri!AJ6 -> 2 | ... CM8: =portieri!AV6 -> 1 | CP8: 4 | CQ8: =IF(squadre!C6=1, BT8, "-") -> 0 | CR8: =IF(squadre!D6=1, BU8, "-") -> 1 | CS8: =IF(squadre!E6=1, BV8, "-") -> 3 | CT8: =IF(squadre!F6=1, BW8, "-") -> 0 | CU8: =IF(squadre!G6=1, BX8, "-") -> - | CV8: =IF(squadre!H6=1, BY8, "-") -> - | CW8: =IF(squadre!I6=1, BZ8, "-") -> - | CX8: =IF(squadre!J6=1, CA8, "-") -> 2 | ... DJ8: =IF(squadre!V6=1, CM8, "-") -> 1 | DM8: 4 | DN8: =IF(squadre!C6=0, BT8, "-") -> - | DO8: =IF(squadre!D6=0, BU8, "-") -> - | DP8: =IF(squadre!E6=0, BV8, "-") -> - | DQ8: =IF(squadre!F6=0, BW8, "-") -> - | DR8: =IF(squadre!G6=0, BX8, "-") -> 2 | DS8: =IF(squadre!H6=0, BY8, "-") -> 1 | DT8: =IF(squadre!I6=0, BZ8, "-") -> 0 | DU8: =IF(squadre!J6=0, CA8, "-") -> - | ... EG8: =IF(squadre!V6=0, CM8, "-") -> -
B9: 5 | C9: =IF(squadre!$D7=1,portieri!$D7,IF(squadre!$G7=1,portieri!$G7,portieri!$D7)) -> 6 | D9: =IF(squadre!$H7=1,portieri!$H7,IF(squadre!$E7=1,portieri!$E7,portieri!$H7)) -> 6 | E9: =IF(squadre!$I7=1,portieri!$I7,IF(squadre!$S7=1,portieri!$S7,portieri!$I7)) -> 6.5 | F9: =IF(squadre!$F7=1,portieri!$F7,IF(squadre!$O7=1,portieri!$O7,portieri!$F7)) -> 5 | G9: =IF(squadre!$P7=1,portieri!$P7,IF(squadre!$T7=1,portieri!$T7,portieri!$P7)) -> 7 | H9: =IF(squadre!$C7=1,portieri!$C7,IF(squadre!$F7=1,portieri!$F7,portieri!$C7)) -> 5 | I9: =IF(squadre!$D7=1,portieri!$D7,IF(squadre!$I7=1,portieri!$I7,portieri!$D7)) -> 6.5 | J9: =IF(squadre!$H7=1,portieri!$H7,IF(squadre!$C7=1,portieri!$C7,portieri!$H7)) -> 6 | K9: =IF(squadre!$S7=1,portieri!$S7,IF(squadre!$G7=1,portieri!$G7,portieri!$S7)) -> 6 | L9: =IF(squadre!$U7=1,portieri!$U7,IF(squadre!$V7=1,portieri!$V7,portieri!$U7)) -> 6 | M9: =IF(squadre!$N7=1,portieri!$N7,IF(squadre!$C7=1,portieri!$C7,portieri!$N7)) -> 6 | N9: =IF(squadre!$U7=1,portieri!$U7,IF(squadre!$K7=1,portieri!$K7,portieri!$U7)) -> 6 | O9: =IF(squadre!$L7=1,portieri!$L7,IF(squadre!$R7=1,portieri!$R7,portieri!$L7)) -> 4 | P9: =IF(squadre!$J7=1,portieri!$J7,IF(squadre!$M7=1,portieri!$M7,portieri!$J7)) -> 6 | Q9: =IF(squadre!$L7=1,portieri!$L7,IF(squadre!$T7=1,portieri!$T7,portieri!$L7)) -> 7 | R9: =IF(squadre!$P7=1,portieri!$P7,IF(squadre!$R7=1,portieri!$R7,portieri!$P7)) -> 4 | S9: =IF(squadre!$N7=1,portieri!$N7,IF(squadre!$E7=1,portieri!$E7,portieri!$N7)) -> 6 | T9: =IF(squadre!$N7=1,portieri!$N7,IF(squadre!$O7=1,portieri!$O7,portieri!$N7)) -> 6 | U9: =IF(squadre!$V7=1,portieri!$V7,IF(squadre!$R7=1,portieri!$R7,portieri!$V7)) -> 4 | V9: =IF(squadre!$D7=1,portieri!$D7,IF(squadre!$M7=1,portieri!$M7,portieri!$D7)) -> 6 | Y9: 5 | Z9: =IF(squadre!$D7=1,portieri!$AD7,IF(squadre!$G7=1,portieri!$AG7,portieri!$AD7)) -> 2 | AA9: =IF(squadre!$H7=1,portieri!$AH7,IF(squadre!$E7=1,portieri!$AE7,portieri!$AH7)) -> 0 | AB9: =IF(squadre!$I7=1,portieri!$AI7,IF(squadre!$S7=1,portieri!$AS7,portieri!$AI7)) -> 1 | AC9: =IF(squadre!$F7=1,portieri!$AF7,IF(squadre!$O7=1,portieri!$AO7,portieri!$AF7)) -> 1 | AD9: =IF(squadre!$P7=1,portieri!AP7,IF(squadre!$T7=1,portieri!$AT7,portieri!$AP7)) -> 0 | AE9: =IF(squadre!$C7=1,portieri!$AC7,IF(squadre!$F7=1,portieri!$AF7,portieri!$AC7)) -> 1 | AF9: =IF(squadre!$D7=1,portieri!$AD7,IF(squadre!$I7=1,portieri!$AI7,portieri!$AD7)) -> 1 | AG9: =IF(squadre!$H7=1,portieri!$AH7,IF(squadre!$C7=1,portieri!$AC7,portieri!$AH7)) -> 0 | AH9: =IF(squadre!$S7=1,portieri!$AS7,IF(squadre!$G7=1,portieri!$AG7,portieri!$AS7)) -> 2 | AI9: =IF(squadre!$U7=1,portieri!$AU7,IF(squadre!$V7=1,portieri!$AV7,portieri!$AU7)) -> 0 | AJ9: =IF(squadre!$N7=1,portieri!$AN7,IF(squadre!$C7=1,portieri!$AC7,portieri!$AN7)) -> 0 | AK9: =IF(squadre!$U7=1,portieri!$AU7,IF(squadre!$K7=1,portieri!$AK7,portieri!$AU7)) -> 0 | AL9: =IF(squadre!$L7=1,portieri!$AL7,IF(squadre!$R7=1,portieri!$AR7,portieri!$AL7)) -> 1 | AM9: =IF(squadre!$J7=1,portieri!$AJ7,IF(squadre!$M7=1,portieri!$AM7,portieri!$AJ7)) -> 0 | AN9: =IF(squadre!$L7=1,portieri!$AL7,IF(squadre!$T7=1,portieri!$AT7,portieri!$AL7)) -> 0 | AO9: =IF(squadre!$P7=1,portieri!$AP7,IF(squadre!$R7=1,portieri!$AR7,portieri!$AP7)) -> 1 | AP9: =IF(squadre!$N7=1,portieri!$AN7,IF(squadre!$E7=1,portieri!$AE7,portieri!$AN7)) -> 0 | AQ9: =IF(squadre!$N7=1,portieri!$AN7,IF(squadre!$O7=1,portieri!$AO7,portieri!$AN7)) -> 0 | AR9: =IF(squadre!$V7=1,portieri!$AV7,IF(squadre!$R7=1,portieri!$AR7,portieri!$AV7)) -> 1 | AS9: =IF(squadre!$D7=1,portieri!$AD7,IF(squadre!$M7=1,portieri!$AM7,portieri!$AD7)) -> 0 | AV9: 5 | AW9: =portieri!C7 -> 6 | AX9: =portieri!D7 -> 6 | AY9: =portieri!E7 -> 6 | AZ9: =portieri!F7 -> 5 | BA9: =portieri!G7 -> 6 | BB9: =portieri!H7 -> 6 | BC9: =portieri!I7 -> 6.5 | BD9: =portieri!J7 -> 7.5 | ... BP9: =portieri!V7 -> 6.5 | BS9: 5 | BT9: =portieri!AC7 -> 2 | BU9: =portieri!AD7 -> 1 | BV9: =portieri!AE7 -> 2 | BW9: =portieri!AF7 -> 1 | BX9: =portieri!AG7 -> 2 | BY9: =portieri!AH7 -> 0 | BZ9: =portieri!AI7 -> 1 | CA9: =portieri!AJ7 -> 0 | ... CM9: =portieri!AV7 -> 0 | CP9: 5 | CQ9: =IF(squadre!C7=1, BT9, "-") -> - | CR9: =IF(squadre!D7=1, BU9, "-") -> - | CS9: =IF(squadre!E7=1, BV9, "-") -> - | CT9: =IF(squadre!F7=1, BW9, "-") -> 1 | CU9: =IF(squadre!G7=1, BX9, "-") -> 2 | CV9: =IF(squadre!H7=1, BY9, "-") -> 0 | CW9: =IF(squadre!I7=1, BZ9, "-") -> 1 | CX9: =IF(squadre!J7=1, CA9, "-") -> - | ... DJ9: =IF(squadre!V7=1, CM9, "-") -> - | DM9: 5 | DN9: =IF(squadre!C7=0, BT9, "-") -> 2 | DO9: =IF(squadre!D7=0, BU9, "-") -> 1 | DP9: =IF(squadre!E7=0, BV9, "-") -> 2 | DQ9: =IF(squadre!F7=0, BW9, "-") -> - | DR9: =IF(squadre!G7=0, BX9, "-") -> - | DS9: =IF(squadre!H7=0, BY9, "-") -> - | DT9: =IF(squadre!I7=0, BZ9, "-") -> - | DU9: =IF(squadre!J7=0, CA9, "-") -> 0 | ... EG9: =IF(squadre!V7=0, CM9, "-") -> 0
B10: 6 | C10: =IF(squadre!$D8=1,portieri!$D8,IF(squadre!$G8=1,portieri!$G8,portieri!$D8)) -> 5.5 | D10: =IF(squadre!$H8=1,portieri!$H8,IF(squadre!$E8=1,portieri!$E8,portieri!$H8)) -> 5.5 | E10: =IF(squadre!$I8=1,portieri!$I8,IF(squadre!$S8=1,portieri!$S8,portieri!$I8)) -> 6 | F10: =IF(squadre!$F8=1,portieri!$F8,IF(squadre!$O8=1,portieri!$O8,portieri!$F8)) -> 5.5 | G10: =IF(squadre!$P8=1,portieri!$P8,IF(squadre!$T8=1,portieri!$T8,portieri!$P8)) -> 6.5 | H10: =IF(squadre!$C8=1,portieri!$C8,IF(squadre!$F8=1,portieri!$F8,portieri!$C8)) -> 5 | I10: =IF(squadre!$D8=1,portieri!$D8,IF(squadre!$I8=1,portieri!$I8,portieri!$D8)) -> 5.5 | J10: =IF(squadre!$H8=1,portieri!$H8,IF(squadre!$C8=1,portieri!$C8,portieri!$H8)) -> 5 | K10: =IF(squadre!$S8=1,portieri!$S8,IF(squadre!$G8=1,portieri!$G8,portieri!$S8)) -> 6 | L10: =IF(squadre!$U8=1,portieri!$U8,IF(squadre!$V8=1,portieri!$V8,portieri!$U8)) -> 6 | M10: =IF(squadre!$N8=1,portieri!$N8,IF(squadre!$C8=1,portieri!$C8,portieri!$N8)) -> 5 | N10: =IF(squadre!$U8=1,portieri!$U8,IF(squadre!$K8=1,portieri!$K8,portieri!$U8)) -> 6 | O10: =IF(squadre!$L8=1,portieri!$L8,IF(squadre!$R8=1,portieri!$R8,portieri!$L8)) -> 7 | P10: =IF(squadre!$J8=1,portieri!$J8,IF(squadre!$M8=1,portieri!$M8,portieri!$J8)) -> 6.5 | Q10: =IF(squadre!$L8=1,portieri!$L8,IF(squadre!$T8=1,portieri!$T8,portieri!$L8)) -> 7 | R10: =IF(squadre!$P8=1,portieri!$P8,IF(squadre!$R8=1,portieri!$R8,portieri!$P8)) -> 6.5 | S10: =IF(squadre!$N8=1,portieri!$N8,IF(squadre!$E8=1,portieri!$E8,portieri!$N8)) -> 5.5 | T10: =IF(squadre!$N8=1,portieri!$N8,IF(squadre!$O8=1,portieri!$O8,portieri!$N8)) -> 5.5 | U10: =IF(squadre!$V8=1,portieri!$V8,IF(squadre!$R8=1,portieri!$R8,portieri!$V8)) -> 6 | V10: =IF(squadre!$D8=1,portieri!$D8,IF(squadre!$M8=1,portieri!$M8,portieri!$D8)) -> 5.5 | Y10: 6 | Z10: =IF(squadre!$D8=1,portieri!$AD8,IF(squadre!$G8=1,portieri!$AG8,portieri!$AD8)) -> 0 | AA10: =IF(squadre!$H8=1,portieri!$AH8,IF(squadre!$E8=1,portieri!$AE8,portieri!$AH8)) -> 2 | AB10: =IF(squadre!$I8=1,portieri!$AI8,IF(squadre!$S8=1,portieri!$AS8,portieri!$AI8)) -> 1 | AC10: =IF(squadre!$F8=1,portieri!$AF8,IF(squadre!$O8=1,portieri!$AO8,portieri!$AF8)) -> 1 | AD10: =IF(squadre!$P8=1,portieri!AP8,IF(squadre!$T8=1,portieri!$AT8,portieri!$AP8)) -> 1 | AE10: =IF(squadre!$C8=1,portieri!$AC8,IF(squadre!$F8=1,portieri!$AF8,portieri!$AC8)) -> 5 | AF10: =IF(squadre!$D8=1,portieri!$AD8,IF(squadre!$I8=1,portieri!$AI8,portieri!$AD8)) -> 0 | AG10: =IF(squadre!$H8=1,portieri!$AH8,IF(squadre!$C8=1,portieri!$AC8,portieri!$AH8)) -> 5 | AH10: =IF(squadre!$S8=1,portieri!$AS8,IF(squadre!$G8=1,portieri!$AG8,portieri!$AS8)) -> 1 | AI10: =IF(squadre!$U8=1,portieri!$AU8,IF(squadre!$V8=1,portieri!$AV8,portieri!$AU8)) -> 0 | AJ10: =IF(squadre!$N8=1,portieri!$AN8,IF(squadre!$C8=1,portieri!$AC8,portieri!$AN8)) -> 5 | AK10: =IF(squadre!$U8=1,portieri!$AU8,IF(squadre!$K8=1,portieri!$AK8,portieri!$AU8)) -> 1 | AL10: =IF(squadre!$L8=1,portieri!$AL8,IF(squadre!$R8=1,portieri!$AR8,portieri!$AL8)) -> 1 | AM10: =IF(squadre!$J8=1,portieri!$AJ8,IF(squadre!$M8=1,portieri!$AM8,portieri!$AJ8)) -> 1 | AN10: =IF(squadre!$L8=1,portieri!$AL8,IF(squadre!$T8=1,portieri!$AT8,portieri!$AL8)) -> 1 | AO10: =IF(squadre!$P8=1,portieri!$AP8,IF(squadre!$R8=1,portieri!$AR8,portieri!$AP8)) -> 1 | AP10: =IF(squadre!$N8=1,portieri!$AN8,IF(squadre!$E8=1,portieri!$AE8,portieri!$AN8)) -> 2 | AQ10: =IF(squadre!$N8=1,portieri!$AN8,IF(squadre!$O8=1,portieri!$AO8,portieri!$AN8)) -> 1 | AR10: =IF(squadre!$V8=1,portieri!$AV8,IF(squadre!$R8=1,portieri!$AR8,portieri!$AV8)) -> 0 | AS10: =IF(squadre!$D8=1,portieri!$AD8,IF(squadre!$M8=1,portieri!$AM8,portieri!$AD8)) -> 0 | AV10: 6 | AW10: =portieri!C8 -> 5 | AX10: =portieri!D8 -> 5.5 | AY10: =portieri!E8 -> 5.5 | AZ10: =portieri!F8 -> 5 | BA10: =portieri!G8 -> 5.5 | BB10: =portieri!H8 -> 7.5 | BC10: =portieri!I8 -> 6 | BD10: =portieri!J8 -> 6.5 | ... BP10: =portieri!V8 -> 6 | BS10: 6 | BT10: =portieri!AC8 -> 5 | BU10: =portieri!AD8 -> 0 | BV10: =portieri!AE8 -> 2 | BW10: =portieri!AF8 -> 4 | BX10: =portieri!AG8 -> 4 | BY10: =portieri!AH8 -> 2 | BZ10: =portieri!AI8 -> 0 | CA10: =portieri!AJ8 -> 1 | ... CM10: =portieri!AV8 -> 0 | CP10: 6 | CQ10: =IF(squadre!C8=1, BT10, "-") -> 5 | CR10: =IF(squadre!D8=1, BU10, "-") -> 0 | CS10: =IF(squadre!E8=1, BV10, "-") -> 2 | CT10: =IF(squadre!F8=1, BW10, "-") -> - | CU10: =IF(squadre!G8=1, BX10, "-") -> - | CV10: =IF(squadre!H8=1, BY10, "-") -> - | CW10: =IF(squadre!I8=1, BZ10, "-") -> - | CX10: =IF(squadre!J8=1, CA10, "-") -> 1 | ... DJ10: =IF(squadre!V8=1, CM10, "-") -> 0 | DM10: 6 | DN10: =IF(squadre!C8=0, BT10, "-") -> - | DO10: =IF(squadre!D8=0, BU10, "-") -> - | DP10: =IF(squadre!E8=0, BV10, "-") -> - | DQ10: =IF(squadre!F8=0, BW10, "-") -> 4 | DR10: =IF(squadre!G8=0, BX10, "-") -> 4 | DS10: =IF(squadre!H8=0, BY10, "-") -> 2 | DT10: =IF(squadre!I8=0, BZ10, "-") -> 0 | DU10: =IF(squadre!J8=0, CA10, "-") -> - | ... EG10: =IF(squadre!V8=0, CM10, "-") -> -
B11: 7 | C11: =IF(squadre!$D9=1,portieri!$D9,IF(squadre!$G9=1,portieri!$G9,portieri!$D9)) -> 6 | D11: =IF(squadre!$H9=1,portieri!$H9,IF(squadre!$E9=1,portieri!$E9,portieri!$H9)) -> 6 | E11: =IF(squadre!$I9=1,portieri!$I9,IF(squadre!$S9=1,portieri!$S9,portieri!$I9)) -> 6.5 | F11: =IF(squadre!$F9=1,portieri!$F9,IF(squadre!$O9=1,portieri!$O9,portieri!$F9)) -> 6.5 | G11: =IF(squadre!$P9=1,portieri!$P9,IF(squadre!$T9=1,portieri!$T9,portieri!$P9)) -> 6 | H11: =IF(squadre!$C9=1,portieri!$C9,IF(squadre!$F9=1,portieri!$F9,portieri!$C9)) -> 6.5 | I11: =IF(squadre!$D9=1,portieri!$D9,IF(squadre!$I9=1,portieri!$I9,portieri!$D9)) -> 6.5 | J11: =IF(squadre!$H9=1,portieri!$H9,IF(squadre!$C9=1,portieri!$C9,portieri!$H9)) -> 6 | K11: =IF(squadre!$S9=1,portieri!$S9,IF(squadre!$G9=1,portieri!$G9,portieri!$S9)) -> 6 | L11: =IF(squadre!$U9=1,portieri!$U9,IF(squadre!$V9=1,portieri!$V9,portieri!$U9)) -> 6.5 | M11: =IF(squadre!$N9=1,portieri!$N9,IF(squadre!$C9=1,portieri!$C9,portieri!$N9)) -> 6 | N11: =IF(squadre!$U9=1,portieri!$U9,IF(squadre!$K9=1,portieri!$K9,portieri!$U9)) -> 6.5 | O11: =IF(squadre!$L9=1,portieri!$L9,IF(squadre!$R9=1,portieri!$R9,portieri!$L9)) -> 7 | P11: =IF(squadre!$J9=1,portieri!$J9,IF(squadre!$M9=1,portieri!$M9,portieri!$J9)) -> 4 | Q11: =IF(squadre!$L9=1,portieri!$L9,IF(squadre!$T9=1,portieri!$T9,portieri!$L9)) -> 6 | R11: =IF(squadre!$P9=1,portieri!$P9,IF(squadre!$R9=1,portieri!$R9,portieri!$P9)) -> 7 | S11: =IF(squadre!$N9=1,portieri!$N9,IF(squadre!$E9=1,portieri!$E9,portieri!$N9)) -> 6 | T11: =IF(squadre!$N9=1,portieri!$N9,IF(squadre!$O9=1,portieri!$O9,portieri!$N9)) -> 6 | U11: =IF(squadre!$V9=1,portieri!$V9,IF(squadre!$R9=1,portieri!$R9,portieri!$V9)) -> 7 | V11: =IF(squadre!$D9=1,portieri!$D9,IF(squadre!$M9=1,portieri!$M9,portieri!$D9)) -> 4 | Y11: 7 | Z11: =IF(squadre!$D9=1,portieri!$AD9,IF(squadre!$G9=1,portieri!$AG9,portieri!$AD9)) -> 1 | AA11: =IF(squadre!$H9=1,portieri!$AH9,IF(squadre!$E9=1,portieri!$AE9,portieri!$AH9)) -> 0 | AB11: =IF(squadre!$I9=1,portieri!$AI9,IF(squadre!$S9=1,portieri!$AS9,portieri!$AI9)) -> 1 | AC11: =IF(squadre!$F9=1,portieri!$AF9,IF(squadre!$O9=1,portieri!$AO9,portieri!$AF9)) -> 0 | AD11: =IF(squadre!$P9=1,portieri!AP9,IF(squadre!$T9=1,portieri!$AT9,portieri!$AP9)) -> 2 | AE11: =IF(squadre!$C9=1,portieri!$AC9,IF(squadre!$F9=1,portieri!$AF9,portieri!$AC9)) -> 0 | AF11: =IF(squadre!$D9=1,portieri!$AD9,IF(squadre!$I9=1,portieri!$AI9,portieri!$AD9)) -> 1 | AG11: =IF(squadre!$H9=1,portieri!$AH9,IF(squadre!$C9=1,portieri!$AC9,portieri!$AH9)) -> 0 | AH11: =IF(squadre!$S9=1,portieri!$AS9,IF(squadre!$G9=1,portieri!$AG9,portieri!$AS9)) -> 1 | AI11: =IF(squadre!$U9=1,portieri!$AU9,IF(squadre!$V9=1,portieri!$AV9,portieri!$AU9)) -> 1 | AJ11: =IF(squadre!$N9=1,portieri!$AN9,IF(squadre!$C9=1,portieri!$AC9,portieri!$AN9)) -> 1 | AK11: =IF(squadre!$U9=1,portieri!$AU9,IF(squadre!$K9=1,portieri!$AK9,portieri!$AU9)) -> 1 | AL11: =IF(squadre!$L9=1,portieri!$AL9,IF(squadre!$R9=1,portieri!$AR9,portieri!$AL9)) -> 0 | AM11: =IF(squadre!$J9=1,portieri!$AJ9,IF(squadre!$M9=1,portieri!$AM9,portieri!$AJ9)) -> 1 | AN11: =IF(squadre!$L9=1,portieri!$AL9,IF(squadre!$T9=1,portieri!$AT9,portieri!$AL9)) -> 2 | AO11: =IF(squadre!$P9=1,portieri!$AP9,IF(squadre!$R9=1,portieri!$AR9,portieri!$AP9)) -> 0 | AP11: =IF(squadre!$N9=1,portieri!$AN9,IF(squadre!$E9=1,portieri!$AE9,portieri!$AN9)) -> 1 | AQ11: =IF(squadre!$N9=1,portieri!$AN9,IF(squadre!$O9=1,portieri!$AO9,portieri!$AN9)) -> 1 | AR11: =IF(squadre!$V9=1,portieri!$AV9,IF(squadre!$R9=1,portieri!$AR9,portieri!$AV9)) -> 0 | AS11: =IF(squadre!$D9=1,portieri!$AD9,IF(squadre!$M9=1,portieri!$AM9,portieri!$AD9)) -> 1 | AV11: 7 | AW11: =portieri!C9 -> 5 | AX11: =portieri!D9 -> 6 | AY11: =portieri!E9 -> 6 | AZ11: =portieri!F9 -> 6.5 | BA11: =portieri!G9 -> 6 | BB11: =portieri!H9 -> 6 | BC11: =portieri!I9 -> 6.5 | BD11: =portieri!J9 -> 6.5 | ... BP11: =portieri!V9 -> 5.5 | BS11: 7 | BT11: =portieri!AC9 -> 2 | BU11: =portieri!AD9 -> 1 | BV11: =portieri!AE9 -> 0 | BW11: =portieri!AF9 -> 0 | BX11: =portieri!AG9 -> 1 | BY11: =portieri!AH9 -> 0 | BZ11: =portieri!AI9 -> 1 | CA11: =portieri!AJ9 -> 0 | ... CM11: =portieri!AV9 -> 2 | CP11: 7 | CQ11: =IF(squadre!C9=1, BT11, "-") -> - | CR11: =IF(squadre!D9=1, BU11, "-") -> - | CS11: =IF(squadre!E9=1, BV11, "-") -> - | CT11: =IF(squadre!F9=1, BW11, "-") -> 0 | CU11: =IF(squadre!G9=1, BX11, "-") -> 1 | CV11: =IF(squadre!H9=1, BY11, "-") -> 0 | CW11: =IF(squadre!I9=1, BZ11, "-") -> 1 | CX11: =IF(squadre!J9=1, CA11, "-") -> - | ... DJ11: =IF(squadre!V9=1, CM11, "-") -> - | DM11: 7 | DN11: =IF(squadre!C9=0, BT11, "-") -> 2 | DO11: =IF(squadre!D9=0, BU11, "-") -> 1 | DP11: =IF(squadre!E9=0, BV11, "-") -> 0 | DQ11: =IF(squadre!F9=0, BW11, "-") -> - | DR11: =IF(squadre!G9=0, BX11, "-") -> - | DS11: =IF(squadre!H9=0, BY11, "-") -> - | DT11: =IF(squadre!I9=0, BZ11, "-") -> - | DU11: =IF(squadre!J9=0, CA11, "-") -> 0 | ... EG11: =IF(squadre!V9=0, CM11, "-") -> 2
B12: 8 | C12: =IF(squadre!$D10=1,portieri!$D10,IF(squadre!$G10=1,portieri!$G10,portieri!$D10)) -> 6 | D12: =IF(squadre!$H10=1,portieri!$H10,IF(squadre!$E10=1,portieri!$E10,portieri!$H10)) -> 6 | E12: =IF(squadre!$I10=1,portieri!$I10,IF(squadre!$S10=1,portieri!$S10,portieri!$I10)) -> 5.5 | F12: =IF(squadre!$F10=1,portieri!$F10,IF(squadre!$O10=1,portieri!$O10,portieri!$F10)) -> 7 | G12: =IF(squadre!$P10=1,portieri!$P10,IF(squadre!$T10=1,portieri!$T10,portieri!$P10)) -> 6 | H12: =IF(squadre!$C10=1,portieri!$C10,IF(squadre!$F10=1,portieri!$F10,portieri!$C10)) -> 6 | I12: =IF(squadre!$D10=1,portieri!$D10,IF(squadre!$I10=1,portieri!$I10,portieri!$D10)) -> 5.5 | J12: =IF(squadre!$H10=1,portieri!$H10,IF(squadre!$C10=1,portieri!$C10,portieri!$H10)) -> 6 | K12: =IF(squadre!$S10=1,portieri!$S10,IF(squadre!$G10=1,portieri!$G10,portieri!$S10)) -> 6 | L12: =IF(squadre!$U10=1,portieri!$U10,IF(squadre!$V10=1,portieri!$V10,portieri!$U10)) -> 6 | M12: =IF(squadre!$N10=1,portieri!$N10,IF(squadre!$C10=1,portieri!$C10,portieri!$N10)) -> 6 | N12: =IF(squadre!$U10=1,portieri!$U10,IF(squadre!$K10=1,portieri!$K10,portieri!$U10)) -> 6 | O12: =IF(squadre!$L10=1,portieri!$L10,IF(squadre!$R10=1,portieri!$R10,portieri!$L10)) -> 5.5 | P12: =IF(squadre!$J10=1,portieri!$J10,IF(squadre!$M10=1,portieri!$M10,portieri!$J10)) -> 6 | Q12: =IF(squadre!$L10=1,portieri!$L10,IF(squadre!$T10=1,portieri!$T10,portieri!$L10)) -> 5.5 | R12: =IF(squadre!$P10=1,portieri!$P10,IF(squadre!$R10=1,portieri!$R10,portieri!$P10)) -> 6 | S12: =IF(squadre!$N10=1,portieri!$N10,IF(squadre!$E10=1,portieri!$E10,portieri!$N10)) -> 6 | T12: =IF(squadre!$N10=1,portieri!$N10,IF(squadre!$O10=1,portieri!$O10,portieri!$N10)) -> 7 | U12: =IF(squadre!$V10=1,portieri!$V10,IF(squadre!$R10=1,portieri!$R10,portieri!$V10)) -> 6 | V12: =IF(squadre!$D10=1,portieri!$D10,IF(squadre!$M10=1,portieri!$M10,portieri!$D10)) -> 6 | Y12: 8 | Z12: =IF(squadre!$D10=1,portieri!$AD10,IF(squadre!$G10=1,portieri!$AG10,portieri!$AD10)) -> 1 | AA12: =IF(squadre!$H10=1,portieri!$AH10,IF(squadre!$E10=1,portieri!$AE10,portieri!$AH10)) -> 0 | AB12: =IF(squadre!$I10=1,portieri!$AI10,IF(squadre!$S10=1,portieri!$AS10,portieri!$AI10)) -> 4 | AC12: =IF(squadre!$F10=1,portieri!$AF10,IF(squadre!$O10=1,portieri!$AO10,portieri!$AF10)) -> 0 | AD12: =IF(squadre!$P10=1,portieri!AP10,IF(squadre!$T10=1,portieri!$AT10,portieri!$AP10)) -> 1 | AE12: =IF(squadre!$C10=1,portieri!$AC10,IF(squadre!$F10=1,portieri!$AF10,portieri!$AC10)) -> 1 | AF12: =IF(squadre!$D10=1,portieri!$AD10,IF(squadre!$I10=1,portieri!$AI10,portieri!$AD10)) -> 4 | AG12: =IF(squadre!$H10=1,portieri!$AH10,IF(squadre!$C10=1,portieri!$AC10,portieri!$AH10)) -> 1 | AH12: =IF(squadre!$S10=1,portieri!$AS10,IF(squadre!$G10=1,portieri!$AG10,portieri!$AS10)) -> 1 | AI12: =IF(squadre!$U10=1,portieri!$AU10,IF(squadre!$V10=1,portieri!$AV10,portieri!$AU10)) -> 0 | AJ12: =IF(squadre!$N10=1,portieri!$AN10,IF(squadre!$C10=1,portieri!$AC10,portieri!$AN10)) -> 1 | AK12: =IF(squadre!$U10=1,portieri!$AU10,IF(squadre!$K10=1,portieri!$AK10,portieri!$AU10)) -> 0 | AL12: =IF(squadre!$L10=1,portieri!$AL10,IF(squadre!$R10=1,portieri!$AR10,portieri!$AL10)) -> 2 | AM12: =IF(squadre!$J10=1,portieri!$AJ10,IF(squadre!$M10=1,portieri!$AM10,portieri!$AJ10)) -> 0 | AN12: =IF(squadre!$L10=1,portieri!$AL10,IF(squadre!$T10=1,portieri!$AT10,portieri!$AL10)) -> 2 | AO12: =IF(squadre!$P10=1,portieri!$AP10,IF(squadre!$R10=1,portieri!$AR10,portieri!$AP10)) -> 1 | AP12: =IF(squadre!$N10=1,portieri!$AN10,IF(squadre!$E10=1,portieri!$AE10,portieri!$AN10)) -> 0 | AQ12: =IF(squadre!$N10=1,portieri!$AN10,IF(squadre!$O10=1,portieri!$AO10,portieri!$AN10)) -> 0 | AR12: =IF(squadre!$V10=1,portieri!$AV10,IF(squadre!$R10=1,portieri!$AR10,portieri!$AV10)) -> 0 | AS12: =IF(squadre!$D10=1,portieri!$AD10,IF(squadre!$M10=1,portieri!$AM10,portieri!$AD10)) -> 1 | AV12: 8 | AW12: =portieri!C10 -> 6 | AX12: =portieri!D10 -> 6 | AY12: =portieri!E10 -> 6 | AZ12: =portieri!F10 -> 6 | BA12: =portieri!G10 -> 6 | BB12: =portieri!H10 -> 6 | BC12: =portieri!I10 -> 5.5 | BD12: =portieri!J10 -> 6 | ... BP12: =portieri!V10 -> 6 | BS12: 8 | BT12: =portieri!AC10 -> 1 | BU12: =portieri!AD10 -> 1 | BV12: =portieri!AE10 -> 0 | BW12: =portieri!AF10 -> 2 | BX12: =portieri!AG10 -> 1 | BY12: =portieri!AH10 -> 1 | BZ12: =portieri!AI10 -> 4 | CA12: =portieri!AJ10 -> 0 | ... CM12: =portieri!AV10 -> 0 | CP12: 8 | CQ12: =IF(squadre!C10=1, BT12, "-") -> 1 | CR12: =IF(squadre!D10=1, BU12, "-") -> - | CS12: =IF(squadre!E10=1, BV12, "-") -> 0 | CT12: =IF(squadre!F10=1, BW12, "-") -> - | CU12: =IF(squadre!G10=1, BX12, "-") -> 1 | CV12: =IF(squadre!H10=1, BY12, "-") -> - | CW12: =IF(squadre!I10=1, BZ12, "-") -> 4 | CX12: =IF(squadre!J10=1, CA12, "-") -> 0 | ... DJ12: =IF(squadre!V10=1, CM12, "-") -> 0 | DM12: 8 | DN12: =IF(squadre!C10=0, BT12, "-") -> - | DO12: =IF(squadre!D10=0, BU12, "-") -> 1 | DP12: =IF(squadre!E10=0, BV12, "-") -> - | DQ12: =IF(squadre!F10=0, BW12, "-") -> 2 | DR12: =IF(squadre!G10=0, BX12, "-") -> - | DS12: =IF(squadre!H10=0, BY12, "-") -> 1 | DT12: =IF(squadre!I10=0, BZ12, "-") -> - | DU12: =IF(squadre!J10=0, CA12, "-") -> - | ... EG12: =IF(squadre!V10=0, CM12, "-") -> -
B13: 9 | C13: =IF(squadre!$D11=1,portieri!$D11,IF(squadre!$G11=1,portieri!$G11,portieri!$D11)) -> 5.5 | D13: =IF(squadre!$H11=1,portieri!$H11,IF(squadre!$E11=1,portieri!$E11,portieri!$H11)) -> 6 | E13: =IF(squadre!$I11=1,portieri!$I11,IF(squadre!$S11=1,portieri!$S11,portieri!$I11)) -> 6.5 | F13: =IF(squadre!$F11=1,portieri!$F11,IF(squadre!$O11=1,portieri!$O11,portieri!$F11)) -> 7.5 | G13: =IF(squadre!$P11=1,portieri!$P11,IF(squadre!$T11=1,portieri!$T11,portieri!$P11)) -> 6.5 | H13: =IF(squadre!$C11=1,portieri!$C11,IF(squadre!$F11=1,portieri!$F11,portieri!$C11)) -> 7.5 | I13: =IF(squadre!$D11=1,portieri!$D11,IF(squadre!$I11=1,portieri!$I11,portieri!$D11)) -> 5.5 | J13: =IF(squadre!$H11=1,portieri!$H11,IF(squadre!$C11=1,portieri!$C11,portieri!$H11)) -> 6 | K13: =IF(squadre!$S11=1,portieri!$S11,IF(squadre!$G11=1,portieri!$G11,portieri!$S11)) -> 6.5 | L13: =IF(squadre!$U11=1,portieri!$U11,IF(squadre!$V11=1,portieri!$V11,portieri!$U11)) -> 6 | M13: =IF(squadre!$N11=1,portieri!$N11,IF(squadre!$C11=1,portieri!$C11,portieri!$N11)) -> 6 | N13: =IF(squadre!$U11=1,portieri!$U11,IF(squadre!$K11=1,portieri!$K11,portieri!$U11)) -> 6 | O13: =IF(squadre!$L11=1,portieri!$L11,IF(squadre!$R11=1,portieri!$R11,portieri!$L11)) -> 5.5 | P13: =IF(squadre!$J11=1,portieri!$J11,IF(squadre!$M11=1,portieri!$M11,portieri!$J11)) -> 6 | Q13: =IF(squadre!$L11=1,portieri!$L11,IF(squadre!$T11=1,portieri!$T11,portieri!$L11)) -> 6.5 | R13: =IF(squadre!$P11=1,portieri!$P11,IF(squadre!$R11=1,portieri!$R11,portieri!$P11)) -> 5.5 | S13: =IF(squadre!$N11=1,portieri!$N11,IF(squadre!$E11=1,portieri!$E11,portieri!$N11)) -> 6 | T13: =IF(squadre!$N11=1,portieri!$N11,IF(squadre!$O11=1,portieri!$O11,portieri!$N11)) -> 6 | U13: =IF(squadre!$V11=1,portieri!$V11,IF(squadre!$R11=1,portieri!$R11,portieri!$V11)) -> 5.5 | V13: =IF(squadre!$D11=1,portieri!$D11,IF(squadre!$M11=1,portieri!$M11,portieri!$D11)) -> 5.5 | Y13: 9 | Z13: =IF(squadre!$D11=1,portieri!$AD11,IF(squadre!$G11=1,portieri!$AG11,portieri!$AD11)) -> 3 | AA13: =IF(squadre!$H11=1,portieri!$AH11,IF(squadre!$E11=1,portieri!$AE11,portieri!$AH11)) -> 0 | AB13: =IF(squadre!$I11=1,portieri!$AI11,IF(squadre!$S11=1,portieri!$AS11,portieri!$AI11)) -> 1 | AC13: =IF(squadre!$F11=1,portieri!$AF11,IF(squadre!$O11=1,portieri!$AO11,portieri!$AF11)) -> 1 | AD13: =IF(squadre!$P11=1,portieri!AP11,IF(squadre!$T11=1,portieri!$AT11,portieri!$AP11)) -> 0 | AE13: =IF(squadre!$C11=1,portieri!$AC11,IF(squadre!$F11=1,portieri!$AF11,portieri!$AC11)) -> 1 | AF13: =IF(squadre!$D11=1,portieri!$AD11,IF(squadre!$I11=1,portieri!$AI11,portieri!$AD11)) -> 3 | AG13: =IF(squadre!$H11=1,portieri!$AH11,IF(squadre!$C11=1,portieri!$AC11,portieri!$AH11)) -> 0 | AH13: =IF(squadre!$S11=1,portieri!$AS11,IF(squadre!$G11=1,portieri!$AG11,portieri!$AS11)) -> 1 | AI13: =IF(squadre!$U11=1,portieri!$AU11,IF(squadre!$V11=1,portieri!$AV11,portieri!$AU11)) -> 3 | AJ13: =IF(squadre!$N11=1,portieri!$AN11,IF(squadre!$C11=1,portieri!$AC11,portieri!$AN11)) -> 0 | AK13: =IF(squadre!$U11=1,portieri!$AU11,IF(squadre!$K11=1,portieri!$AK11,portieri!$AU11)) -> 3 | AL13: =IF(squadre!$L11=1,portieri!$AL11,IF(squadre!$R11=1,portieri!$AR11,portieri!$AL11)) -> 3 | AM13: =IF(squadre!$J11=1,portieri!$AJ11,IF(squadre!$M11=1,portieri!$AM11,portieri!$AJ11)) -> 0 | AN13: =IF(squadre!$L11=1,portieri!$AL11,IF(squadre!$T11=1,portieri!$AT11,portieri!$AL11)) -> 0 | AO13: =IF(squadre!$P11=1,portieri!$AP11,IF(squadre!$R11=1,portieri!$AR11,portieri!$AP11)) -> 3 | AP13: =IF(squadre!$N11=1,portieri!$AN11,IF(squadre!$E11=1,portieri!$AE11,portieri!$AN11)) -> 0 | AQ13: =IF(squadre!$N11=1,portieri!$AN11,IF(squadre!$O11=1,portieri!$AO11,portieri!$AN11)) -> 0 | AR13: =IF(squadre!$V11=1,portieri!$AV11,IF(squadre!$R11=1,portieri!$AR11,portieri!$AV11)) -> 3 | AS13: =IF(squadre!$D11=1,portieri!$AD11,IF(squadre!$M11=1,portieri!$AM11,portieri!$AD11)) -> 3 | AV13: 9 | AW13: =portieri!C11 -> 7 | AX13: =portieri!D11 -> 5.5 | AY13: =portieri!E11 -> 6 | AZ13: =portieri!F11 -> 7.5 | BA13: =portieri!G11 -> 6.5 | BB13: =portieri!H11 -> 6 | BC13: =portieri!I11 -> 6 | BD13: =portieri!J11 -> 5.5 | ... BP13: =portieri!V11 -> 6 | BS13: 9 | BT13: =portieri!AC11 -> 0 | BU13: =portieri!AD11 -> 3 | BV13: =portieri!AE11 -> 0 | BW13: =portieri!AF11 -> 1 | BX13: =portieri!AG11 -> 1 | BY13: =portieri!AH11 -> 0 | BZ13: =portieri!AI11 -> 1 | CA13: =portieri!AJ11 -> 1 | ... CM13: =portieri!AV11 -> 2 | CP13: 9 | CQ13: =IF(squadre!C11=1, BT13, "-") -> - | CR13: =IF(squadre!D11=1, BU13, "-") -> 3 | CS13: =IF(squadre!E11=1, BV13, "-") -> - | CT13: =IF(squadre!F11=1, BW13, "-") -> 1 | CU13: =IF(squadre!G11=1, BX13, "-") -> - | CV13: =IF(squadre!H11=1, BY13, "-") -> 0 | CW13: =IF(squadre!I11=1, BZ13, "-") -> - | CX13: =IF(squadre!J11=1, CA13, "-") -> - | ... DJ13: =IF(squadre!V11=1, CM13, "-") -> - | DM13: 9 | DN13: =IF(squadre!C11=0, BT13, "-") -> 0 | DO13: =IF(squadre!D11=0, BU13, "-") -> - | DP13: =IF(squadre!E11=0, BV13, "-") -> 0 | DQ13: =IF(squadre!F11=0, BW13, "-") -> - | DR13: =IF(squadre!G11=0, BX13, "-") -> 1 | DS13: =IF(squadre!H11=0, BY13, "-") -> - | DT13: =IF(squadre!I11=0, BZ13, "-") -> 1 | DU13: =IF(squadre!J11=0, CA13, "-") -> 1 | ... EG13: =IF(squadre!V11=0, CM13, "-") -> 2
B14: 10 | C14: =IF(squadre!$D12=1,portieri!$D12,IF(squadre!$G12=1,portieri!$G12,portieri!$D12)) -> 6 | D14: =IF(squadre!$H12=1,portieri!$H12,IF(squadre!$E12=1,portieri!$E12,portieri!$H12)) -> 6.5 | E14: =IF(squadre!$I12=1,portieri!$I12,IF(squadre!$S12=1,portieri!$S12,portieri!$I12)) -> 6 | F14: =IF(squadre!$F12=1,portieri!$F12,IF(squadre!$O12=1,portieri!$O12,portieri!$F12)) -> 6 | G14: =IF(squadre!$P12=1,portieri!$P12,IF(squadre!$T12=1,portieri!$T12,portieri!$P12)) -> 6.5 | H14: =IF(squadre!$C12=1,portieri!$C12,IF(squadre!$F12=1,portieri!$F12,portieri!$C12)) -> 7 | I14: =IF(squadre!$D12=1,portieri!$D12,IF(squadre!$I12=1,portieri!$I12,portieri!$D12)) -> 6 | J14: =IF(squadre!$H12=1,portieri!$H12,IF(squadre!$C12=1,portieri!$C12,portieri!$H12)) -> 7 | K14: =IF(squadre!$S12=1,portieri!$S12,IF(squadre!$G12=1,portieri!$G12,portieri!$S12)) -> 6 | L14: =IF(squadre!$U12=1,portieri!$U12,IF(squadre!$V12=1,portieri!$V12,portieri!$U12)) -> 4.5 | M14: =IF(squadre!$N12=1,portieri!$N12,IF(squadre!$C12=1,portieri!$C12,portieri!$N12)) -> 7 | N14: =IF(squadre!$U12=1,portieri!$U12,IF(squadre!$K12=1,portieri!$K12,portieri!$U12)) -> 6 | O14: =IF(squadre!$L12=1,portieri!$L12,IF(squadre!$R12=1,portieri!$R12,portieri!$L12)) -> 6 | P14: =IF(squadre!$J12=1,portieri!$J12,IF(squadre!$M12=1,portieri!$M12,portieri!$J12)) -> 6 | Q14: =IF(squadre!$L12=1,portieri!$L12,IF(squadre!$T12=1,portieri!$T12,portieri!$L12)) -> 6 | R14: =IF(squadre!$P12=1,portieri!$P12,IF(squadre!$R12=1,portieri!$R12,portieri!$P12)) -> 6.5 | S14: =IF(squadre!$N12=1,portieri!$N12,IF(squadre!$E12=1,portieri!$E12,portieri!$N12)) -> 6.5 | T14: =IF(squadre!$N12=1,portieri!$N12,IF(squadre!$O12=1,portieri!$O12,portieri!$N12)) -> 6 | U14: =IF(squadre!$V12=1,portieri!$V12,IF(squadre!$R12=1,portieri!$R12,portieri!$V12)) -> 4.5 | V14: =IF(squadre!$D12=1,portieri!$D12,IF(squadre!$M12=1,portieri!$M12,portieri!$D12)) -> 6.5 | Y14: 10 | Z14: =IF(squadre!$D12=1,portieri!$AD12,IF(squadre!$G12=1,portieri!$AG12,portieri!$AD12)) -> 0 | AA14: =IF(squadre!$H12=1,portieri!$AH12,IF(squadre!$E12=1,portieri!$AE12,portieri!$AH12)) -> 2 | AB14: =IF(squadre!$I12=1,portieri!$AI12,IF(squadre!$S12=1,portieri!$AS12,portieri!$AI12)) -> 1 | AC14: =IF(squadre!$F12=1,portieri!$AF12,IF(squadre!$O12=1,portieri!$AO12,portieri!$AF12)) -> 2 | AD14: =IF(squadre!$P12=1,portieri!AP12,IF(squadre!$T12=1,portieri!$AT12,portieri!$AP12)) -> 2 | AE14: =IF(squadre!$C12=1,portieri!$AC12,IF(squadre!$F12=1,portieri!$AF12,portieri!$AC12)) -> 0 | AF14: =IF(squadre!$D12=1,portieri!$AD12,IF(squadre!$I12=1,portieri!$AI12,portieri!$AD12)) -> 1 | AG14: =IF(squadre!$H12=1,portieri!$AH12,IF(squadre!$C12=1,portieri!$AC12,portieri!$AH12)) -> 0 | AH14: =IF(squadre!$S12=1,portieri!$AS12,IF(squadre!$G12=1,portieri!$AG12,portieri!$AS12)) -> 0 | AI14: =IF(squadre!$U12=1,portieri!$AU12,IF(squadre!$V12=1,portieri!$AV12,portieri!$AU12)) -> 2 | AJ14: =IF(squadre!$N12=1,portieri!$AN12,IF(squadre!$C12=1,portieri!$AC12,portieri!$AN12)) -> 0 | AK14: =IF(squadre!$U12=1,portieri!$AU12,IF(squadre!$K12=1,portieri!$AK12,portieri!$AU12)) -> 1 | AL14: =IF(squadre!$L12=1,portieri!$AL12,IF(squadre!$R12=1,portieri!$AR12,portieri!$AL12)) -> 1 | AM14: =IF(squadre!$J12=1,portieri!$AJ12,IF(squadre!$M12=1,portieri!$AM12,portieri!$AJ12)) -> 2 | AN14: =IF(squadre!$L12=1,portieri!$AL12,IF(squadre!$T12=1,portieri!$AT12,portieri!$AL12)) -> 1 | AO14: =IF(squadre!$P12=1,portieri!$AP12,IF(squadre!$R12=1,portieri!$AR12,portieri!$AP12)) -> 2 | AP14: =IF(squadre!$N12=1,portieri!$AN12,IF(squadre!$E12=1,portieri!$AE12,portieri!$AN12)) -> 2 | AQ14: =IF(squadre!$N12=1,portieri!$AN12,IF(squadre!$O12=1,portieri!$AO12,portieri!$AN12)) -> 2 | AR14: =IF(squadre!$V12=1,portieri!$AV12,IF(squadre!$R12=1,portieri!$AR12,portieri!$AV12)) -> 2 | AS14: =IF(squadre!$D12=1,portieri!$AD12,IF(squadre!$M12=1,portieri!$AM12,portieri!$AD12)) -> 2 | AV14: 10 | AW14: =portieri!C12 -> 7 | AX14: =portieri!D12 -> 6.5 | AY14: =portieri!E12 -> 6.5 | AZ14: =portieri!F12 -> 6 | BA14: =portieri!G12 -> 6 | BB14: =portieri!H12 -> 6 | BC14: =portieri!I12 -> 6 | BD14: =portieri!J12 -> 6 | ... BP14: =portieri!V12 -> 4.5 | BS14: 10 | BT14: =portieri!AC12 -> 0 | BU14: =portieri!AD12 -> 2 | BV14: =portieri!AE12 -> 2 | BW14: =portieri!AF12 -> 2 | BX14: =portieri!AG12 -> 0 | BY14: =portieri!AH12 -> 0 | BZ14: =portieri!AI12 -> 1 | CA14: =portieri!AJ12 -> 2 | ... CM14: =portieri!AV12 -> 2 | CP14: 10 | CQ14: =IF(squadre!C12=1, BT14, "-") -> 0 | CR14: =IF(squadre!D12=1, BU14, "-") -> - | CS14: =IF(squadre!E12=1, BV14, "-") -> 2 | CT14: =IF(squadre!F12=1, BW14, "-") -> - | CU14: =IF(squadre!G12=1, BX14, "-") -> 0 | CV14: =IF(squadre!H12=1, BY14, "-") -> - | CW14: =IF(squadre!I12=1, BZ14, "-") -> 1 | CX14: =IF(squadre!J12=1, CA14, "-") -> 2 | ... DJ14: =IF(squadre!V12=1, CM14, "-") -> 2 | DM14: 10 | DN14: =IF(squadre!C12=0, BT14, "-") -> - | DO14: =IF(squadre!D12=0, BU14, "-") -> 2 | DP14: =IF(squadre!E12=0, BV14, "-") -> - | DQ14: =IF(squadre!F12=0, BW14, "-") -> 2 | DR14: =IF(squadre!G12=0, BX14, "-") -> - | DS14: =IF(squadre!H12=0, BY14, "-") -> 0 | DT14: =IF(squadre!I12=0, BZ14, "-") -> - | DU14: =IF(squadre!J12=0, CA14, "-") -> - | ... EG14: =IF(squadre!V12=0, CM14, "-") -> -
B15: 11 | C15: =IF(squadre!$D13=1,portieri!$D13,IF(squadre!$G13=1,portieri!$G13,portieri!$D13)) -> 6 | D15: =IF(squadre!$H13=1,portieri!$H13,IF(squadre!$E13=1,portieri!$E13,portieri!$H13)) -> 6 | E15: =IF(squadre!$I13=1,portieri!$I13,IF(squadre!$S13=1,portieri!$S13,portieri!$I13)) -> 6 | F15: =IF(squadre!$F13=1,portieri!$F13,IF(squadre!$O13=1,portieri!$O13,portieri!$F13)) -> 6.5 | G15: =IF(squadre!$P13=1,portieri!$P13,IF(squadre!$T13=1,portieri!$T13,portieri!$P13)) -> 6 | H15: =IF(squadre!$C13=1,portieri!$C13,IF(squadre!$F13=1,portieri!$F13,portieri!$C13)) -> 6.5 | I15: =IF(squadre!$D13=1,portieri!$D13,IF(squadre!$I13=1,portieri!$I13,portieri!$D13)) -> 6 | J15: =IF(squadre!$H13=1,portieri!$H13,IF(squadre!$C13=1,portieri!$C13,portieri!$H13)) -> 6 | K15: =IF(squadre!$S13=1,portieri!$S13,IF(squadre!$G13=1,portieri!$G13,portieri!$S13)) -> 6 | L15: =IF(squadre!$U13=1,portieri!$U13,IF(squadre!$V13=1,portieri!$V13,portieri!$U13)) -> 5 | M15: =IF(squadre!$N13=1,portieri!$N13,IF(squadre!$C13=1,portieri!$C13,portieri!$N13)) -> 6 | N15: =IF(squadre!$U13=1,portieri!$U13,IF(squadre!$K13=1,portieri!$K13,portieri!$U13)) -> 5.5 | O15: =IF(squadre!$L13=1,portieri!$L13,IF(squadre!$R13=1,portieri!$R13,portieri!$L13)) -> 6.5 | P15: =IF(squadre!$J13=1,portieri!$J13,IF(squadre!$M13=1,portieri!$M13,portieri!$J13)) -> 6 | Q15: =IF(squadre!$L13=1,portieri!$L13,IF(squadre!$T13=1,portieri!$T13,portieri!$L13)) -> 6 | R15: =IF(squadre!$P13=1,portieri!$P13,IF(squadre!$R13=1,portieri!$R13,portieri!$P13)) -> 6.5 | S15: =IF(squadre!$N13=1,portieri!$N13,IF(squadre!$E13=1,portieri!$E13,portieri!$N13)) -> 6 | T15: =IF(squadre!$N13=1,portieri!$N13,IF(squadre!$O13=1,portieri!$O13,portieri!$N13)) -> 6 | U15: =IF(squadre!$V13=1,portieri!$V13,IF(squadre!$R13=1,portieri!$R13,portieri!$V13)) -> 6.5 | V15: =IF(squadre!$D13=1,portieri!$D13,IF(squadre!$M13=1,portieri!$M13,portieri!$D13)) -> 6 | Y15: 11 | Z15: =IF(squadre!$D13=1,portieri!$AD13,IF(squadre!$G13=1,portieri!$AG13,portieri!$AD13)) -> 1 | AA15: =IF(squadre!$H13=1,portieri!$AH13,IF(squadre!$E13=1,portieri!$AE13,portieri!$AH13)) -> 1 | AB15: =IF(squadre!$I13=1,portieri!$AI13,IF(squadre!$S13=1,portieri!$AS13,portieri!$AI13)) -> 2 | AC15: =IF(squadre!$F13=1,portieri!$AF13,IF(squadre!$O13=1,portieri!$AO13,portieri!$AF13)) -> 0 | AD15: =IF(squadre!$P13=1,portieri!AP13,IF(squadre!$T13=1,portieri!$AT13,portieri!$AP13)) -> 0 | AE15: =IF(squadre!$C13=1,portieri!$AC13,IF(squadre!$F13=1,portieri!$AF13,portieri!$AC13)) -> 0 | AF15: =IF(squadre!$D13=1,portieri!$AD13,IF(squadre!$I13=1,portieri!$AI13,portieri!$AD13)) -> 1 | AG15: =IF(squadre!$H13=1,portieri!$AH13,IF(squadre!$C13=1,portieri!$AC13,portieri!$AH13)) -> 1 | AH15: =IF(squadre!$S13=1,portieri!$AS13,IF(squadre!$G13=1,portieri!$AG13,portieri!$AS13)) -> 2 | AI15: =IF(squadre!$U13=1,portieri!$AU13,IF(squadre!$V13=1,portieri!$AV13,portieri!$AU13)) -> 1 | AJ15: =IF(squadre!$N13=1,portieri!$AN13,IF(squadre!$C13=1,portieri!$AC13,portieri!$AN13)) -> 1 | AK15: =IF(squadre!$U13=1,portieri!$AU13,IF(squadre!$K13=1,portieri!$AK13,portieri!$AU13)) -> 3 | AL15: =IF(squadre!$L13=1,portieri!$AL13,IF(squadre!$R13=1,portieri!$AR13,portieri!$AL13)) -> 1 | AM15: =IF(squadre!$J13=1,portieri!$AJ13,IF(squadre!$M13=1,portieri!$AM13,portieri!$AJ13)) -> 1 | AN15: =IF(squadre!$L13=1,portieri!$AL13,IF(squadre!$T13=1,portieri!$AT13,portieri!$AL13)) -> 0 | AO15: =IF(squadre!$P13=1,portieri!$AP13,IF(squadre!$R13=1,portieri!$AR13,portieri!$AP13)) -> 1 | AP15: =IF(squadre!$N13=1,portieri!$AN13,IF(squadre!$E13=1,portieri!$AE13,portieri!$AN13)) -> 1 | AQ15: =IF(squadre!$N13=1,portieri!$AN13,IF(squadre!$O13=1,portieri!$AO13,portieri!$AN13)) -> 1 | AR15: =IF(squadre!$V13=1,portieri!$AV13,IF(squadre!$R13=1,portieri!$AR13,portieri!$AV13)) -> 1 | AS15: =IF(squadre!$D13=1,portieri!$AD13,IF(squadre!$M13=1,portieri!$AM13,portieri!$AD13)) -> 1 | AV15: 11 | AW15: =portieri!C13 -> 6 | AX15: =portieri!D13 -> 6 | AY15: =portieri!E13 -> 5.5 | AZ15: =portieri!F13 -> 6.5 | BA15: =portieri!G13 -> 5 | BB15: =portieri!H13 -> 6 | BC15: =portieri!I13 -> 6 | BD15: =portieri!J13 -> 7 | ... BP15: =portieri!V13 -> 6 | BS15: 11 | BT15: =portieri!AC13 -> 1 | BU15: =portieri!AD13 -> 1 | BV15: =portieri!AE13 -> 4 | BW15: =portieri!AF13 -> 0 | BX15: =portieri!AG13 -> 5 | BY15: =portieri!AH13 -> 1 | BZ15: =portieri!AI13 -> 1 | CA15: =portieri!AJ13 -> 1 | ... CM15: =portieri!AV13 -> 1 | CP15: 11 | CQ15: =IF(squadre!C13=1, BT15, "-") -> - | CR15: =IF(squadre!D13=1, BU15, "-") -> 1 | CS15: =IF(squadre!E13=1, BV15, "-") -> - | CT15: =IF(squadre!F13=1, BW15, "-") -> 0 | CU15: =IF(squadre!G13=1, BX15, "-") -> - | CV15: =IF(squadre!H13=1, BY15, "-") -> 1 | CW15: =IF(squadre!I13=1, BZ15, "-") -> - | CX15: =IF(squadre!J13=1, CA15, "-") -> - | ... DJ15: =IF(squadre!V13=1, CM15, "-") -> - | DM15: 11 | DN15: =IF(squadre!C13=0, BT15, "-") -> 1 | DO15: =IF(squadre!D13=0, BU15, "-") -> - | DP15: =IF(squadre!E13=0, BV15, "-") -> 4 | DQ15: =IF(squadre!F13=0, BW15, "-") -> - | DR15: =IF(squadre!G13=0, BX15, "-") -> 5 | DS15: =IF(squadre!H13=0, BY15, "-") -> - | DT15: =IF(squadre!I13=0, BZ15, "-") -> 1 | DU15: =IF(squadre!J13=0, CA15, "-") -> 1 | ... EG15: =IF(squadre!V13=0, CM15, "-") -> 1
B16: 12 | C16: =IF(squadre!$D14=1,portieri!$D14,IF(squadre!$G14=1,portieri!$G14,portieri!$D14)) -> 6 | D16: =IF(squadre!$H14=1,portieri!$H14,IF(squadre!$E14=1,portieri!$E14,portieri!$H14)) -> 6 | E16: =IF(squadre!$I14=1,portieri!$I14,IF(squadre!$S14=1,portieri!$S14,portieri!$I14)) -> 6.5 | F16: =IF(squadre!$F14=1,portieri!$F14,IF(squadre!$O14=1,portieri!$O14,portieri!$F14)) -> 6 | G16: =IF(squadre!$P14=1,portieri!$P14,IF(squadre!$T14=1,portieri!$T14,portieri!$P14)) -> 6.5 | H16: =IF(squadre!$C14=1,portieri!$C14,IF(squadre!$F14=1,portieri!$F14,portieri!$C14)) -> 6.5 | I16: =IF(squadre!$D14=1,portieri!$D14,IF(squadre!$I14=1,portieri!$I14,portieri!$D14)) -> 6.5 | J16: =IF(squadre!$H14=1,portieri!$H14,IF(squadre!$C14=1,portieri!$C14,portieri!$H14)) -> 6.5 | K16: =IF(squadre!$S14=1,portieri!$S14,IF(squadre!$G14=1,portieri!$G14,portieri!$S14)) -> 6 | L16: =IF(squadre!$U14=1,portieri!$U14,IF(squadre!$V14=1,portieri!$V14,portieri!$U14)) -> 6 | M16: =IF(squadre!$N14=1,portieri!$N14,IF(squadre!$C14=1,portieri!$C14,portieri!$N14)) -> 6.5 | N16: =IF(squadre!$U14=1,portieri!$U14,IF(squadre!$K14=1,portieri!$K14,portieri!$U14)) -> 6 | O16: =IF(squadre!$L14=1,portieri!$L14,IF(squadre!$R14=1,portieri!$R14,portieri!$L14)) -> 5 | P16: =IF(squadre!$J14=1,portieri!$J14,IF(squadre!$M14=1,portieri!$M14,portieri!$J14)) -> 6 | Q16: =IF(squadre!$L14=1,portieri!$L14,IF(squadre!$T14=1,portieri!$T14,portieri!$L14)) -> 5 | R16: =IF(squadre!$P14=1,portieri!$P14,IF(squadre!$R14=1,portieri!$R14,portieri!$P14)) -> 6.5 | S16: =IF(squadre!$N14=1,portieri!$N14,IF(squadre!$E14=1,portieri!$E14,portieri!$N14)) -> 6 | T16: =IF(squadre!$N14=1,portieri!$N14,IF(squadre!$O14=1,portieri!$O14,portieri!$N14)) -> 6 | U16: =IF(squadre!$V14=1,portieri!$V14,IF(squadre!$R14=1,portieri!$R14,portieri!$V14)) -> 5 | V16: =IF(squadre!$D14=1,portieri!$D14,IF(squadre!$M14=1,portieri!$M14,portieri!$D14)) -> 6 | Y16: 12 | Z16: =IF(squadre!$D14=1,portieri!$AD14,IF(squadre!$G14=1,portieri!$AG14,portieri!$AD14)) -> 2 | AA16: =IF(squadre!$H14=1,portieri!$AH14,IF(squadre!$E14=1,portieri!$AE14,portieri!$AH14)) -> 0 | AB16: =IF(squadre!$I14=1,portieri!$AI14,IF(squadre!$S14=1,portieri!$AS14,portieri!$AI14)) -> 4 | AC16: =IF(squadre!$F14=1,portieri!$AF14,IF(squadre!$O14=1,portieri!$AO14,portieri!$AF14)) -> 0 | AD16: =IF(squadre!$P14=1,portieri!AP14,IF(squadre!$T14=1,portieri!$AT14,portieri!$AP14)) -> 0 | AE16: =IF(squadre!$C14=1,portieri!$AC14,IF(squadre!$F14=1,portieri!$AF14,portieri!$AC14)) -> 2 | AF16: =IF(squadre!$D14=1,portieri!$AD14,IF(squadre!$I14=1,portieri!$AI14,portieri!$AD14)) -> 4 | AG16: =IF(squadre!$H14=1,portieri!$AH14,IF(squadre!$C14=1,portieri!$AC14,portieri!$AH14)) -> 2 | AH16: =IF(squadre!$S14=1,portieri!$AS14,IF(squadre!$G14=1,portieri!$AG14,portieri!$AS14)) -> 2 | AI16: =IF(squadre!$U14=1,portieri!$AU14,IF(squadre!$V14=1,portieri!$AV14,portieri!$AU14)) -> 0 | AJ16: =IF(squadre!$N14=1,portieri!$AN14,IF(squadre!$C14=1,portieri!$AC14,portieri!$AN14)) -> 2 | AK16: =IF(squadre!$U14=1,portieri!$AU14,IF(squadre!$K14=1,portieri!$AK14,portieri!$AU14)) -> 0 | AL16: =IF(squadre!$L14=1,portieri!$AL14,IF(squadre!$R14=1,portieri!$AR14,portieri!$AL14)) -> 2 | AM16: =IF(squadre!$J14=1,portieri!$AJ14,IF(squadre!$M14=1,portieri!$AM14,portieri!$AJ14)) -> 3 | AN16: =IF(squadre!$L14=1,portieri!$AL14,IF(squadre!$T14=1,portieri!$AT14,portieri!$AL14)) -> 2 | AO16: =IF(squadre!$P14=1,portieri!$AP14,IF(squadre!$R14=1,portieri!$AR14,portieri!$AP14)) -> 0 | AP16: =IF(squadre!$N14=1,portieri!$AN14,IF(squadre!$E14=1,portieri!$AE14,portieri!$AN14)) -> 0 | AQ16: =IF(squadre!$N14=1,portieri!$AN14,IF(squadre!$O14=1,portieri!$AO14,portieri!$AN14)) -> 0 | AR16: =IF(squadre!$V14=1,portieri!$AV14,IF(squadre!$R14=1,portieri!$AR14,portieri!$AV14)) -> 2 | AS16: =IF(squadre!$D14=1,portieri!$AD14,IF(squadre!$M14=1,portieri!$AM14,portieri!$AD14)) -> 3 | AV16: 12 | AW16: =portieri!C14 -> 6.5 | AX16: =portieri!D14 -> 5.5 | AY16: =portieri!E14 -> 6 | AZ16: =portieri!F14 -> 7 | BA16: =portieri!G14 -> 6 | BB16: =portieri!H14 -> 6 | BC16: =portieri!I14 -> 6.5 | BD16: =portieri!J14 -> 6 | ... BP16: =portieri!V14 -> 5 | BS16: 12 | BT16: =portieri!AC14 -> 2 | BU16: =portieri!AD14 -> 1 | BV16: =portieri!AE14 -> 0 | BW16: =portieri!AF14 -> 0 | BX16: =portieri!AG14 -> 2 | BY16: =portieri!AH14 -> 1 | BZ16: =portieri!AI14 -> 4 | CA16: =portieri!AJ14 -> 3 | ... CM16: =portieri!AV14 -> 2 | CP16: 12 | CQ16: =IF(squadre!C14=1, BT16, "-") -> 2 | CR16: =IF(squadre!D14=1, BU16, "-") -> - | CS16: =IF(squadre!E14=1, BV16, "-") -> 0 | CT16: =IF(squadre!F14=1, BW16, "-") -> - | CU16: =IF(squadre!G14=1, BX16, "-") -> 2 | CV16: =IF(squadre!H14=1, BY16, "-") -> - | CW16: =IF(squadre!I14=1, BZ16, "-") -> 4 | CX16: =IF(squadre!J14=1, CA16, "-") -> - | ... DJ16: =IF(squadre!V14=1, CM16, "-") -> - | DM16: 12 | DN16: =IF(squadre!C14=0, BT16, "-") -> - | DO16: =IF(squadre!D14=0, BU16, "-") -> 1 | DP16: =IF(squadre!E14=0, BV16, "-") -> - | DQ16: =IF(squadre!F14=0, BW16, "-") -> 0 | DR16: =IF(squadre!G14=0, BX16, "-") -> - | DS16: =IF(squadre!H14=0, BY16, "-") -> 1 | DT16: =IF(squadre!I14=0, BZ16, "-") -> - | DU16: =IF(squadre!J14=0, CA16, "-") -> 3 | ... EG16: =IF(squadre!V14=0, CM16, "-") -> 2
... B42: 38 | C42: =IF(squadre!$D40=1,portieri!$D40,IF(squadre!$G40=1,portieri!$G40,portieri!$D40)) -> 6.5 | D42: =IF(squadre!$H40=1,portieri!$H40,IF(squadre!$E40=1,portieri!$E40,portieri!$H40)) -> 6.5 | E42: =IF(squadre!$I40=1,portieri!$I40,IF(squadre!$S40=1,portieri!$S40,portieri!$I40)) -> 7 | F42: =IF(squadre!$F40=1,portieri!$F40,IF(squadre!$O40=1,portieri!$O40,portieri!$F40)) -> 5.5 | G42: =IF(squadre!$P40=1,portieri!$P40,IF(squadre!$T40=1,portieri!$T40,portieri!$P40)) -> 7.5 | H42: =IF(squadre!$C40=1,portieri!$C40,IF(squadre!$F40=1,portieri!$F40,portieri!$C40)) -> 5.5 | I42: =IF(squadre!$D40=1,portieri!$D40,IF(squadre!$I40=1,portieri!$I40,portieri!$D40)) -> 6.5 | J42: =IF(squadre!$H40=1,portieri!$H40,IF(squadre!$C40=1,portieri!$C40,portieri!$H40)) -> 5.5 | K42: =IF(squadre!$S40=1,portieri!$S40,IF(squadre!$G40=1,portieri!$G40,portieri!$S40)) -> 7 | L42: =IF(squadre!$U40=1,portieri!$U40,IF(squadre!$V40=1,portieri!$V40,portieri!$U40)) -> 6 | M42: =IF(squadre!$N40=1,portieri!$N40,IF(squadre!$C40=1,portieri!$C40,portieri!$N40)) -> 5.5 | N42: =IF(squadre!$U40=1,portieri!$U40,IF(squadre!$K40=1,portieri!$K40,portieri!$U40)) -> 6 | O42: =IF(squadre!$L40=1,portieri!$L40,IF(squadre!$R40=1,portieri!$R40,portieri!$L40)) -> 5.5 | P42: =IF(squadre!$J40=1,portieri!$J40,IF(squadre!$M40=1,portieri!$M40,portieri!$J40)) -> 5 | Q42: =IF(squadre!$L40=1,portieri!$L40,IF(squadre!$T40=1,portieri!$T40,portieri!$L40)) -> 7.5 | R42: =IF(squadre!$P40=1,portieri!$P40,IF(squadre!$R40=1,portieri!$R40,portieri!$P40)) -> 5.5 | S42: =IF(squadre!$N40=1,portieri!$N40,IF(squadre!$E40=1,portieri!$E40,portieri!$N40)) -> 6.5 | T42: =IF(squadre!$N40=1,portieri!$N40,IF(squadre!$O40=1,portieri!$O40,portieri!$N40)) -> 5.5 | U42: =IF(squadre!$V40=1,portieri!$V40,IF(squadre!$R40=1,portieri!$R40,portieri!$V40)) -> 5.5 | V42: =IF(squadre!$D40=1,portieri!$D40,IF(squadre!$M40=1,portieri!$M40,portieri!$D40)) -> 6.5 | Y42: 38 | Z42: =IF(squadre!$D40=1,portieri!$AD40,IF(squadre!$G40=1,portieri!$AG40,portieri!$AD40)) -> 0 | AA42: =IF(squadre!$H40=1,portieri!$AH40,IF(squadre!$E40=1,portieri!$AE40,portieri!$AH40)) -> 0 | AB42: =IF(squadre!$I40=1,portieri!$AI40,IF(squadre!$S40=1,portieri!$AS40,portieri!$AI40)) -> 2 | AC42: =IF(squadre!$F40=1,portieri!$AF40,IF(squadre!$O40=1,portieri!$AO40,portieri!$AF40)) -> 3 | AD42: =IF(squadre!$P40=1,portieri!AP40,IF(squadre!$T40=1,portieri!$AT40,portieri!$AP40)) -> 2 | AE42: =IF(squadre!$C40=1,portieri!$AC40,IF(squadre!$F40=1,portieri!$AF40,portieri!$AC40)) -> 2 | AF42: =IF(squadre!$D40=1,portieri!$AD40,IF(squadre!$I40=1,portieri!$AI40,portieri!$AD40)) -> 0 | AG42: =IF(squadre!$H40=1,portieri!$AH40,IF(squadre!$C40=1,portieri!$AC40,portieri!$AH40)) -> 2 | AH42: =IF(squadre!$S40=1,portieri!$AS40,IF(squadre!$G40=1,portieri!$AG40,portieri!$AS40)) -> 2 | AI42: =IF(squadre!$U40=1,portieri!$AU40,IF(squadre!$V40=1,portieri!$AV40,portieri!$AU40)) -> 2 | AJ42: =IF(squadre!$N40=1,portieri!$AN40,IF(squadre!$C40=1,portieri!$AC40,portieri!$AN40)) -> 2 | AK42: =IF(squadre!$U40=1,portieri!$AU40,IF(squadre!$K40=1,portieri!$AK40,portieri!$AU40)) -> 2 | AL42: =IF(squadre!$L40=1,portieri!$AL40,IF(squadre!$R40=1,portieri!$AR40,portieri!$AL40)) -> 1 | AM42: =IF(squadre!$J40=1,portieri!$AJ40,IF(squadre!$M40=1,portieri!$AM40,portieri!$AJ40)) -> 5 | AN42: =IF(squadre!$L40=1,portieri!$AL40,IF(squadre!$T40=1,portieri!$AT40,portieri!$AL40)) -> 2 | AO42: =IF(squadre!$P40=1,portieri!$AP40,IF(squadre!$R40=1,portieri!$AR40,portieri!$AP40)) -> 1 | AP42: =IF(squadre!$N40=1,portieri!$AN40,IF(squadre!$E40=1,portieri!$AE40,portieri!$AN40)) -> 0 | AQ42: =IF(squadre!$N40=1,portieri!$AN40,IF(squadre!$O40=1,portieri!$AO40,portieri!$AN40)) -> 3 | AR42: =IF(squadre!$V40=1,portieri!$AV40,IF(squadre!$R40=1,portieri!$AR40,portieri!$AV40)) -> 1 | AS42: =IF(squadre!$D40=1,portieri!$AD40,IF(squadre!$M40=1,portieri!$AM40,portieri!$AD40)) -> 0 | AV42: 38 | AW42: =portieri!C40 -> 5.5 | AX42: =portieri!D40 -> 6.5 | AY42: =portieri!E40 -> 6.5 | AZ42: =portieri!F40 -> 6.5 | BA42: =portieri!G40 -> 6 | BB42: =portieri!H40 -> 5.5 | BC42: =portieri!I40 -> 7 | BD42: =portieri!J40 -> 5 | ... BP42: =portieri!V40 -> 6 | BS42: 38 | BT42: =portieri!AC40 -> 2 | BU42: =portieri!AD40 -> 0 | BV42: =portieri!AE40 -> 0 | BW42: =portieri!AF40 -> 2 | BX42: =portieri!AG40 -> 2 | BY42: =portieri!AH40 -> 1 | BZ42: =portieri!AI40 -> 0 | CA42: =portieri!AJ40 -> 5 | ... CM42: =portieri!AV40 -> 2 | CP42: 38 | CQ42: =IF(squadre!C40=1, BT42, "-") -> 2 | CR42: =IF(squadre!D40=1, BU42, "-") -> 0 | CS42: =IF(squadre!E40=1, BV42, "-") -> 0 | CT42: =IF(squadre!F40=1, BW42, "-") -> - | CU42: =IF(squadre!G40=1, BX42, "-") -> - | CV42: =IF(squadre!H40=1, BY42, "-") -> - | CW42: =IF(squadre!I40=1, BZ42, "-") -> - | CX42: =IF(squadre!J40=1, CA42, "-") -> 5 | ... DJ42: =IF(squadre!V40=1, CM42, "-") -> - | DM42: 38 | DN42: =IF(squadre!C40=0, BT42, "-") -> - | DO42: =IF(squadre!D40=0, BU42, "-") -> - | DP42: =IF(squadre!E40=0, BV42, "-") -> - | DQ42: =IF(squadre!F40=0, BW42, "-") -> 2 | DR42: =IF(squadre!G40=0, BX42, "-") -> 2 | DS42: =IF(squadre!H40=0, BY42, "-") -> 1 | DT42: =IF(squadre!I40=0, BZ42, "-") -> 0 | DU42: =IF(squadre!J40=0, CA42, "-") -> - | ... EG42: =IF(squadre!V40=0, CM42, "-") -> 2
C44: =CONCATENATE(C56,"-",C57) -> BOL-CHI | D44: =CONCATENATE(D56,"-",D57) -> FIO-CAG | E44: =CONCATENATE(E56,"-",E57) -> GEN-SAM | F44: =CONCATENATE(F56,"-",F57) -> CAT-PAL | G44: =CONCATENATE(G56,"-",G57) -> PAR-SIE | H44: =CONCATENATE(H56,"-",H57) -> ATA-CAT | I44: =CONCATENATE(I56,"-",I57) -> BOL-GEN | J44: =CONCATENATE(J56,"-",J57) -> FIO-ATA | ... V44: =CONCATENATE(V56,"-",V57) -> BOL-MIL
B45: 19a | C45: =SUM(C5:C23)/COUNTIF(C5:C23,">0") -> 5.8684211 | D45: =SUM(D5:D23)/COUNTIF(D5:D23,">0") -> 6.1052632 | E45: =SUM(E5:E23)/COUNTIF(E5:E23,">0") -> 6.1578947 | F45: =SUM(F5:F23)/COUNTIF(F5:F23,">0") -> 6.2894737 | G45: =SUM(G5:G23)/COUNTIF(G5:G23,">0") -> 6.3947368 | H45: =SUM(H5:H23)/COUNTIF(H5:H23,">0") -> 6.1578947 | I45: =SUM(I5:I23)/COUNTIF(I5:I23,">0") -> 5.9210526 | J45: =SUM(J5:J23)/COUNTIF(J5:J23,">0") -> 6.0263158 | ... V45: =SUM(V5:V23)/COUNTIF(V5:V23,">0") -> 5.7631579 | W45: =SUM(W5:W42) -> 0 | Y45: 19a | Z45: =SUM(Z5:Z23) -> 20 | AA45: =SUM(AA5:AA23) -> 22 | AB45: =SUM(AB5:AB23) -> 29 | AC45: =SUM(AC5:AC23) -> 21 | AD45: =SUM(AD5:AD23) -> 19 | AE45: =SUM(AE5:AE23) -> 21 | AF45: =SUM(AF5:AF23) -> 27 | AG45: =SUM(AG5:AG23) -> 21 | ... AS45: =SUM(AS5:AS23) -> 22 | AU45: =SUM(AU5:AU42) -> 0 | AW45: =SUM(AW5:AW42) -> 232 | AX45: =SUM(AX5:AX42) -> 228 | AY45: =SUM(AY5:AY42) -> 235.5 | AZ45: =SUM(AZ5:AZ42) -> 232.5 | BA45: =SUM(BA5:BA42) -> 234.5 | BB45: =SUM(BB5:BB42) -> 226 | BC45: =SUM(BC5:BC42) -> 232 | BD45: =SUM(BD5:BD42) -> 238.5 | ... BP45: =SUM(BP5:BP42) -> 229.5
B46: 38a | C46: =SUM(C5:C42)/COUNTIF(C5:C42,">0") -> 5.9605263 | D46: =SUM(D5:D42)/COUNTIF(D5:D42,">0") -> 6.1315789 | E46: =SUM(E5:E42)/COUNTIF(E5:E42,">0") -> 6.0657895 | F46: =SUM(F5:F42)/COUNTIF(F5:F42,">0") -> 6.1710526 | G46: =SUM(G5:G42)/COUNTIF(G5:G42,">0") -> 6.3552632 | H46: =SUM(H5:H42)/COUNTIF(H5:H42,">0") -> 6.1052632 | I46: =SUM(I5:I42)/COUNTIF(I5:I42,">0") -> 5.9210526 | J46: =SUM(J5:J42)/COUNTIF(J5:J42,">0") -> 5.9605263 | ... V46: =SUM(V5:V42)/COUNTIF(V5:V42,">0") -> 5.9210526 | Y46: tot | Z46: =SUM(Z5:Z42) -> 40 | AA46: =SUM(AA5:AA42) -> 43 | AB46: =SUM(AB5:AB42) -> 52 | AC46: =SUM(AC5:AC42) -> 41 | AD46: =SUM(AD5:AD42) -> 37 | AE46: =SUM(AE5:AE42) -> 39 | AF46: =SUM(AF5:AF42) -> 51 | AG46: =SUM(AG5:AG42) -> 46 | ... AS46: =SUM(AS5:AS42) -> 41 | AW46: =SUM(AW5:AW42)/COUNTIF(AW5:AW42,">0") -> 6.1052632 | AX46: =SUM(AX5:AX42)/COUNTIF(AX5:AX42,">0") -> 6 | AY46: =SUM(AY5:AY42)/COUNTIF(AY5:AY42,">0") -> 6.1973684 | AZ46: =SUM(AZ5:AZ42)/COUNTIF(AZ5:AZ42,">0") -> 6.1184211 | BA46: =SUM(BA5:BA42)/COUNTIF(BA5:BA42,">0") -> 6.1710526 | BB46: =SUM(BB5:BB42)/COUNTIF(BB5:BB42,">0") -> 5.9473684 | BC46: =SUM(BC5:BC42)/COUNTIF(BC5:BC42,">0") -> 6.1052632 | BD46: =SUM(BD5:BD42)/COUNTIF(BD5:BD42,">0") -> 6.2763158 | ... BP46: =SUM(BP5:BP42)/COUNTIF(BP5:BP42,">0") -> 6.0394737 | BS46: tot | BT46: =SUM(BT5:BT42) -> 56 | BU46: =SUM(BU5:BU42) -> 52 | BV46: =SUM(BV5:BV42) -> 55 | BW46: =SUM(BW5:BW42) -> 46 | BX46: =SUM(BX5:BX42) -> 52 | BY46: =SUM(BY5:BY42) -> 44 | BZ46: =SUM(BZ5:BZ42) -> 52 | CA46: =SUM(CA5:CA42) -> 57 | ... CM46: =SUM(CM5:CM42) -> 45 | CP46: tot | CQ46: =SUM(CQ5:CQ42) -> 24 | CR46: =SUM(CR5:CR42) -> 24 | CS46: =SUM(CS5:CS42) -> 24 | CT46: =SUM(CT5:CT42) -> 15 | CU46: =SUM(CU5:CU42) -> 16 | CV46: =SUM(CV5:CV42) -> 19 | CW46: =SUM(CW5:CW42) -> 30 | CX46: =SUM(CX5:CX42) -> 31 | ... DJ46: =SUM(DJ5:DJ42) -> 16 | DM46: tot | DN46: =SUM(DN5:DN42) -> 32 | DO46: =SUM(DO5:DO42) -> 28 | DP46: =SUM(DP5:DP42) -> 31 | DQ46: =SUM(DQ5:DQ42) -> 31 | DR46: =SUM(DR5:DR42) -> 36 | DS46: =SUM(DS5:DS42) -> 25 | DT46: =SUM(DT5:DT42) -> 22 | DU46: =SUM(DU5:DU42) -> 26 | ... EG46: =SUM(EG5:EG42) -> 29
BT47: 43 | BU47: 43 | BV47: 46 | BW47: 52 | BX47: 60 | BY47: 45 | BZ47: 43 | CA47: 69 | CB47: 55 | CC47: 20 | CD47: 47 | CE47: 56 | CF47: 33 | CG47: 46 | CH47: 65 | CI47: 62 | CJ47: 53 | CK47: 54 | CL47: 45 | CM47: 35
AW48: ATA | AX48: BOL | AY48: CAG | AZ48: CAT | BA48: CHI | BB48: FIO | BC48: GEN | BD48: INT | BE48: JUV | BF48: LAZ | BG48: MIL | BH48: NAP | BI48: PAL | BJ48: PAR | BK48: PES | BL48: ROM | BM48: SAM | BN48: SIE | BO48: TOR | BP48: UDI | BT48: =CQ46+DN46 -> 56 | BU48: =CR46+DO46 -> 52 | BV48: =CS46+DP46 -> 55 | BW48: =CT46+DQ46 -> 46 | BX48: =CU46+DR46 -> 52 | BY48: =CV46+DS46 -> 44 | BZ48: =CW46+DT46 -> 52 | CA48: =CX46+DU46 -> 57 | ... CM48: =DJ46+EG46 -> 45
B49: <5 | C49: =C60/C$65 -> 0.078947368 | D49: =D60/D$65 -> 0.052631579 | E49: =E60/E$65 -> 0.10526316 | F49: =F60/F$65 -> 0.078947368 | G49: =G60/G$65 -> 0.078947368 | H49: =H60/H$65 -> 0.078947368 | I49: =I60/I$65 -> 0.078947368 | J49: =J60/J$65 -> 0.052631579 | ... V49: =V60/V$65 -> 0.10526316 | Z49: ATA | AA49: BOL | AB49: CAG | AC49: CAT | AD49: CHI | AE49: FIO | AF49: GEN | AG49: INT | AH49: JUV | AI49: LAZ | AJ49: MIL | AK49: NAP | AL49: PAL | AM49: PAR | AN49: PES | AO49: ROM | AP49: SAM | AQ49: SIE | AR49: TOR | AS49: UDI | AV49: <5 | AW49: =AW60/AW$65 -> 0.078947368 | AX49: =AX60/AX$65 -> 0.10526316 | AY49: =AY60/AY$65 -> 0.052631579 | AZ49: =AZ60/AZ$65 -> 0.10526316 | BA49: =BA60/BA$65 -> 0.10526316 | BB49: =BB60/BB$65 -> 0.10526316 | BC49: =BC60/BC$65 -> 0.10526316 | BD49: =BD60/BD$65 -> 0.052631579 | ... BP49: =BP60/BP$65 -> 0.10526316 | BT49: ATA | BU49: BOL | BV49: CAG | BW49: CAT | BX49: CHI | BY49: FIO | BZ49: GEN | CA49: INT | CB49: JUV | CC49: LAZ | CD49: MIL | CE49: NAP | CF49: PAL | CG49: PAR | CH49: PES | CI49: ROM | CJ49: SAM | CK49: SIE | CL49: TOR | CM49: UDI
B50: 5.5 | C50: =C61/C$65 -> 0.21052632 | D50: =D61/D$65 -> 0.10526316 | E50: =E61/E$65 -> 0.10526316 | F50: =F61/F$65 -> 0.13157895 | G50: =G61/G$65 -> 0 | H50: =H61/H$65 -> 0.10526316 | I50: =I61/I$65 -> 0.21052632 | J50: =J61/J$65 -> 0.15789474 | ... V50: =V61/V$65 -> 0.18421053 | Z50: =AW50 -> 0.078947368 | AA50: =AX50 -> 0.23684211 | AB50: =AY50 -> 0.13157895 | AC50: =AZ50 -> 0.078947368 | AD50: =BA50 -> 0.078947368 | AE50: =BB50 -> 0.15789474 | AF50: =BC50 -> 0.10526316 | AG50: =BD50 -> 0.21052632 | ... AS50: =BP50 -> 0.10526316 | AV50: 5.5 | AW50: =AW61/AW$65 -> 0.078947368 | AX50: =AX61/AX$65 -> 0.23684211 | AY50: =AY61/AY$65 -> 0.13157895 | AZ50: =AZ61/AZ$65 -> 0.078947368 | BA50: =BA61/BA$65 -> 0.078947368 | BB50: =BB61/BB$65 -> 0.15789474 | BC50: =BC61/BC$65 -> 0.10526316 | BD50: =BD61/BD$65 -> 0.21052632 | ... BP50: =BP61/BP$65 -> 0.10526316 | BT50: =CQ46 -> 24 | BU50: =CR46 -> 24 | BV50: =CS46 -> 24 | BW50: =CT46 -> 15 | BX50: =CU46 -> 16 | BY50: =CV46 -> 19 | BZ50: =CW46 -> 30 | CA50: =CX46 -> 31 | ... CM50: =DJ46 -> 16
B51: 6 | C51: =C62/C$65 -> 0.47368421 | D51: =D62/D$65 -> 0.5 | E51: =E62/E$65 -> 0.39473684 | F51: =F62/F$65 -> 0.34210526 | G51: =G62/G$65 -> 0.31578947 | H51: =H62/H$65 -> 0.47368421 | I51: =I62/I$65 -> 0.47368421 | J51: =J62/J$65 -> 0.60526316 | ... V51: =V62/V$65 -> 0.47368421 | Z51: =AW51 -> 0.57894737 | AA51: =AX51 -> 0.31578947 | AB51: =AY51 -> 0.36842105 | AC51: =AZ51 -> 0.42105263 | AD51: =BA51 -> 0.5 | AE51: =BB51 -> 0.5 | AF51: =BC51 -> 0.36842105 | AG51: =BD51 -> 0.28947368 | ... AS51: =BP51 -> 0.42105263 | AV51: 6 | AW51: =AW62/AW$65 -> 0.57894737 | AX51: =AX62/AX$65 -> 0.31578947 | AY51: =AY62/AY$65 -> 0.36842105 | AZ51: =AZ62/AZ$65 -> 0.42105263 | BA51: =BA62/BA$65 -> 0.5 | BB51: =BB62/BB$65 -> 0.5 | BC51: =BC62/BC$65 -> 0.36842105 | BD51: =BD62/BD$65 -> 0.28947368 | ... BP51: =BP62/BP$65 -> 0.42105263 | BT51: =DN46 -> 32 | BU51: =DO46 -> 28 | BV51: =DP46 -> 31 | BW51: =DQ46 -> 31 | BX51: =DR46 -> 36 | BY51: =DS46 -> 25 | BZ51: =DT46 -> 22 | CA51: =DU46 -> 26 | ... CM51: =EG46 -> 29
B52: 6.5 | C52: =C63/C$65 -> 0.18421053 | D52: =D63/D$65 -> 0.26315789 | E52: =E63/E$65 -> 0.31578947 | F52: =F63/F$65 -> 0.31578947 | G52: =G63/G$65 -> 0.39473684 | H52: =H63/H$65 -> 0.26315789 | I52: =I63/I$65 -> 0.21052632 | J52: =J63/J$65 -> 0.13157895 | ... V52: =V63/V$65 -> 0.15789474 | Z52: =Z50+Z51 -> 0.65789474 | AA52: =AA50+AA51 -> 0.55263158 | AB52: =AB50+AB51 -> 0.5 | AC52: =AC50+AC51 -> 0.5 | AD52: =AD50+AD51 -> 0.57894737 | AE52: =AE50+AE51 -> 0.65789474 | AF52: =AF50+AF51 -> 0.47368421 | AG52: =AG50+AG51 -> 0.5 | ... AS52: =AS50+AS51 -> 0.52631579 | AV52: 6.5 | AW52: =AW63/AW$65 -> 0.15789474 | AX52: =AX63/AX$65 -> 0.21052632 | AY52: =AY63/AY$65 -> 0.34210526 | AZ52: =AZ63/AZ$65 -> 0.31578947 | BA52: =BA63/BA$65 -> 0.15789474 | BB52: =BB63/BB$65 -> 0.13157895 | BC52: =BC63/BC$65 -> 0.26315789 | BD52: =BD63/BD$65 -> 0.13157895 | ... BP52: =BP63/BP$65 -> 0.31578947
B53: >7 | C53: =C64/C$65 -> 0.052631579 | D53: =D64/D$65 -> 0.078947368 | E53: =E64/E$65 -> 0.078947368 | F53: =F64/F$65 -> 0.13157895 | G53: =G64/G$65 -> 0.21052632 | H53: =H64/H$65 -> 0.078947368 | I53: =I64/I$65 -> 0.026315789 | J53: =J64/J$65 -> 0.052631579 | ... V53: =V64/V$65 -> 0.078947368 | AV53: >7 | AW53: =AW64/AW$65 -> 0.10526316 | AX53: =AX64/AX$65 -> 0.13157895 | AY53: =AY64/AY$65 -> 0.10526316 | AZ53: =AZ64/AZ$65 -> 0.078947368 | BA53: =BA64/BA$65 -> 0.15789474 | BB53: =BB64/BB$65 -> 0.10526316 | BC53: =BC64/BC$65 -> 0.15789474 | BD53: =BD64/BD$65 -> 0.31578947 | ... BP53: =BP64/BP$65 -> 0.052631579
C54: =SUM(C49:C53) -> 1 | D54: =SUM(D49:D53) -> 1 | E54: =SUM(E49:E53) -> 1 | F54: =SUM(F49:F53) -> 1 | G54: =SUM(G49:G53) -> 1 | H54: =SUM(H49:H53) -> 1 | I54: =SUM(I49:I53) -> 1 | J54: =SUM(J49:J53) -> 1 | ... V54: =SUM(V49:V53) -> 1 | AW54: =SUM(AW49:AW53) -> 1 | AX54: =SUM(AX49:AX53) -> 1 | AY54: =SUM(AY49:AY53) -> 1 | AZ54: =SUM(AZ49:AZ53) -> 1 | BA54: =SUM(BA49:BA53) -> 1 | BB54: =SUM(BB49:BB53) -> 1 | BC54: =SUM(BC49:BC53) -> 1 | BD54: =SUM(BD49:BD53) -> 1 | ... BP54: =SUM(BP49:BP53) -> 1
C56: =C2 -> BOL | D56: =D2 -> FIO | E56: =E2 -> GEN | F56: =F2 -> CAT | G56: =G2 -> PAR | H56: =H2 -> ATA | I56: =I2 -> BOL | J56: =J2 -> FIO | ... V56: =V2 -> BOL
C57: =C3 -> CHI | D57: =D3 -> CAG | E57: =E3 -> SAM | F57: =F3 -> PAL | G57: =G3 -> SIE | H57: =H3 -> CAT | I57: =I3 -> GEN | J57: =J3 -> ATA | ... V57: =V3 -> MIL
C58: =CONCATENATE(C56,"-",C57) -> BOL-CHI | D58: =CONCATENATE(D56,"-",D57) -> FIO-CAG | E58: =CONCATENATE(E56,"-",E57) -> GEN-SAM | F58: =CONCATENATE(F56,"-",F57) -> CAT-PAL | G58: =CONCATENATE(G56,"-",G57) -> PAR-SIE | H58: =CONCATENATE(H56,"-",H57) -> ATA-CAT | I58: =CONCATENATE(I56,"-",I57) -> BOL-GEN | J58: =CONCATENATE(J56,"-",J57) -> FIO-ATA | ... V58: =CONCATENATE(V56,"-",V57) -> BOL-MIL | AW58: ATA | AX58: BOL | AY58: CAG | AZ58: CAT | BA58: CHI | BB58: FIO | BC58: GEN | BD58: INT | BE58: JUV | BF58: LAZ | BG58: MIL | BH58: NAP | BI58: PAL | BJ58: PAR | BK58: PES | BL58: ROM | BM58: SAM | BN58: SIE | BO58: TOR | BP58: UDI
B59: GS | C59: =Z46 -> 40 | D59: =AA46 -> 43 | E59: =AB46 -> 52 | F59: =AC46 -> 41 | G59: =AD46 -> 37 | H59: =AE46 -> 39 | I59: =AF46 -> 51 | J59: =AG46 -> 46 | ... V59: =AS46 -> 41 | AV59: GS | AW59: =BT46 -> 56 | AX59: =BU46 -> 52 | AY59: =BV46 -> 55 | AZ59: =BW46 -> 46 | BA59: =BX46 -> 52 | BB59: =BY46 -> 44 | BC59: =BZ46 -> 52 | BD59: =CA46 -> 57 | ... BP59: =CM46 -> 45
C60: =COUNTIFS(C5:C42, ">=2",C5:C42, "<=5,4") -> 3 | D60: =COUNTIFS(D5:D42, ">=2",D5:D42, "<=5,4") -> 2 | E60: =COUNTIFS(E5:E42, ">=2",E5:E42, "<=5,4") -> 4 | F60: =COUNTIFS(F5:F42, ">=2",F5:F42, "<=5,4") -> 3 | G60: =COUNTIFS(G5:G42, ">=2",G5:G42, "<=5,4") -> 3 | H60: =COUNTIFS(H5:H42, ">=2",H5:H42, "<=5,4") -> 3 | I60: =COUNTIFS(I5:I42, ">=2",I5:I42, "<=5,4") -> 3 | J60: =COUNTIFS(J5:J42, ">=2",J5:J42, "<=5,4") -> 2 | ... V60: =COUNTIFS(V5:V42, ">=2",V5:V42, "<=5,4") -> 4 | AW60: =COUNTIFS(AW5:AW42, ">=2",AW5:AW42, "<=5,4") -> 3 | AX60: =COUNTIFS(AX5:AX42, ">=2",AX5:AX42, "<=5,4") -> 4 | AY60: =COUNTIFS(AY5:AY42, ">=2",AY5:AY42, "<=5,4") -> 2 | AZ60: =COUNTIFS(AZ5:AZ42, ">=2",AZ5:AZ42, "<=5,4") -> 4 | BA60: =COUNTIFS(BA5:BA42, ">=2",BA5:BA42, "<=5,4") -> 4 | BB60: =COUNTIFS(BB5:BB42, ">=2",BB5:BB42, "<=5,4") -> 4 | BC60: =COUNTIFS(BC5:BC42, ">=2",BC5:BC42, "<=5,4") -> 4 | BD60: =COUNTIFS(BD5:BD42, ">=2",BD5:BD42, "<=5,4") -> 2 | ... BP60: =COUNTIFS(BP5:BP42, ">=2",BP5:BP42, "<=5,4") -> 4
C61: =COUNTIFS(C5:C42, "=5,5") -> 8 | D61: =COUNTIFS(D5:D42, "=5,5") -> 4 | E61: =COUNTIFS(E5:E42, "=5,5") -> 4 | F61: =COUNTIFS(F5:F42, "=5,5") -> 5 | G61: =COUNTIFS(G5:G42, "=5,5") -> 0 | H61: =COUNTIFS(H5:H42, "=5,5") -> 4 | I61: =COUNTIFS(I5:I42, "=5,5") -> 8 | J61: =COUNTIFS(J5:J42, "=5,5") -> 6 | ... V61: =COUNTIFS(V5:V42, "=5,5") -> 7 | AW61: =COUNTIFS(AW5:AW42, "=5,5") -> 3 | AX61: =COUNTIFS(AX5:AX42, "=5,5") -> 9 | AY61: =COUNTIFS(AY5:AY42, "=5,5") -> 5 | AZ61: =COUNTIFS(AZ5:AZ42, "=5,5") -> 3 | BA61: =COUNTIFS(BA5:BA42, "=5,5") -> 3 | BB61: =COUNTIFS(BB5:BB42, "=5,5") -> 6 | BC61: =COUNTIFS(BC5:BC42, "=5,5") -> 4 | BD61: =COUNTIFS(BD5:BD42, "=5,5") -> 8 | ... BP61: =COUNTIFS(BP5:BP42, "=5,5") -> 4
C62: =COUNTIFS(C5:C42, "=6") -> 18 | D62: =COUNTIFS(D5:D42, "=6") -> 19 | E62: =COUNTIFS(E5:E42, "=6") -> 15 | F62: =COUNTIFS(F5:F42, "=6") -> 13 | G62: =COUNTIFS(G5:G42, "=6") -> 12 | H62: =COUNTIFS(H5:H42, "=6") -> 18 | I62: =COUNTIFS(I5:I42, "=6") -> 18 | J62: =COUNTIFS(J5:J42, "=6") -> 23 | ... V62: =COUNTIFS(V5:V42, "=6") -> 18 | AW62: =COUNTIFS(AW5:AW42, "=6") -> 22 | AX62: =COUNTIFS(AX5:AX42, "=6") -> 12 | AY62: =COUNTIFS(AY5:AY42, "=6") -> 14 | AZ62: =COUNTIFS(AZ5:AZ42, "=6") -> 16 | BA62: =COUNTIFS(BA5:BA42, "=6") -> 19 | BB62: =COUNTIFS(BB5:BB42, "=6") -> 19 | BC62: =COUNTIFS(BC5:BC42, "=6") -> 14 | BD62: =COUNTIFS(BD5:BD42, "=6") -> 11 | ... BP62: =COUNTIFS(BP5:BP42, "=6") -> 16
C63: =COUNTIFS(C5:C42, "=6,5") -> 7 | D63: =COUNTIFS(D5:D42, "=6,5") -> 10 | E63: =COUNTIFS(E5:E42, "=6,5") -> 12 | F63: =COUNTIFS(F5:F42, "=6,5") -> 12 | G63: =COUNTIFS(G5:G42, "=6,5") -> 15 | H63: =COUNTIFS(H5:H42, "=6,5") -> 10 | I63: =COUNTIFS(I5:I42, "=6,5") -> 8 | J63: =COUNTIFS(J5:J42, "=6,5") -> 5 | ... V63: =COUNTIFS(V5:V42, "=6,5") -> 6 | AW63: =COUNTIFS(AW5:AW42, "=6,5") -> 6 | AX63: =COUNTIFS(AX5:AX42, "=6,5") -> 8 | AY63: =COUNTIFS(AY5:AY42, "=6,5") -> 13 | AZ63: =COUNTIFS(AZ5:AZ42, "=6,5") -> 12 | BA63: =COUNTIFS(BA5:BA42, "=6,5") -> 6 | BB63: =COUNTIFS(BB5:BB42, "=6,5") -> 5 | BC63: =COUNTIFS(BC5:BC42, "=6,5") -> 10 | BD63: =COUNTIFS(BD5:BD42, "=6,5") -> 5 | ... BP63: =COUNTIFS(BP5:BP42, "=6,5") -> 12
C64: =COUNTIFS(C5:C42, ">=6,6") -> 2 | D64: =COUNTIFS(D5:D42, ">=6,6") -> 3 | E64: =COUNTIFS(E5:E42, ">=6,6") -> 3 | F64: =COUNTIFS(F5:F42, ">=6,6") -> 5 | G64: =COUNTIFS(G5:G42, ">=6,6") -> 8 | H64: =COUNTIFS(H5:H42, ">=6,6") -> 3 | I64: =COUNTIFS(I5:I42, ">=6,6") -> 1 | J64: =COUNTIFS(J5:J42, ">=6,6") -> 2 | ... V64: =COUNTIFS(V5:V42, ">=6,6") -> 3 | AW64: =COUNTIFS(AW5:AW42, ">=6,6") -> 4 | AX64: =COUNTIFS(AX5:AX42, ">=6,6") -> 5 | AY64: =COUNTIFS(AY5:AY42, ">=6,6") -> 4 | AZ64: =COUNTIFS(AZ5:AZ42, ">=6,6") -> 3 | BA64: =COUNTIFS(BA5:BA42, ">=6,6") -> 6 | BB64: =COUNTIFS(BB5:BB42, ">=6,6") -> 4 | BC64: =COUNTIFS(BC5:BC42, ">=6,6") -> 6 | BD64: =COUNTIFS(BD5:BD42, ">=6,6") -> 12 | ... BP64: =COUNTIFS(BP5:BP42, ">=6,6") -> 2
C65: =SUM(C60:C64) -> 38 | D65: =SUM(D60:D64) -> 38 | E65: =SUM(E60:E64) -> 38 | F65: =SUM(F60:F64) -> 38 | G65: =SUM(G60:G64) -> 38 | H65: =SUM(H60:H64) -> 38 | I65: =SUM(I60:I64) -> 38 | J65: =SUM(J60:J64) -> 38 | ... V65: =SUM(V60:V64) -> 38 | AW65: =SUM(AW60:AW64) -> 38 | AX65: =SUM(AX60:AX64) -> 38 | AY65: =SUM(AY60:AY64) -> 38 | AZ65: =SUM(AZ60:AZ64) -> 38 | BA65: =SUM(BA60:BA64) -> 38 | BB65: =SUM(BB60:BB64) -> 38 | BC65: =SUM(BC60:BC64) -> 38 | BD65: =SUM(BD60:BD64) -> 38 | ... BP65: =SUM(BP60:BP64) -> 38
B67: 19a | C67: =Z45 -> 20 | D67: =AA45 -> 22 | E67: =AB45 -> 29 | F67: =AC45 -> 21 | G67: =AD45 -> 19 | H67: =AE45 -> 21 | I67: =AF45 -> 27 | J67: =AG45 -> 21 | ... V67: =AS45 -> 22 | W67: =W45-W59 -> 0 | AU67: =AU45-AU59 -> 0 | AW67: =AW45-AW59 -> 176 | AX67: =AX45-AX59 -> 176 | AY67: =AY45-AY59 -> 180.5 | AZ67: =AZ45-AZ59 -> 186.5 | BA67: =BA45-BA59 -> 182.5 | BB67: =BB45-BB59 -> 182 | BC67: =BC45-BC59 -> 180 | BD67: =BD45-BD59 -> 181.5 | ... BP67: =BP45-BP59 -> 184.5
AV68: 19a | AW68: =SUM(AW5:AW23)-SUM(BT5:BT23) -> 88 | AX68: =SUM(AX5:AX23)-SUM(BU5:BU23) -> 85.5 | AY68: =SUM(AY5:AY23)-SUM(BV5:BV23) -> 80.5 | AZ68: =SUM(AZ5:AZ23)-SUM(BW5:BW23) -> 88.5 | BA68: =SUM(BA5:BA23)-SUM(BX5:BX23) -> 89.5 | BB68: =SUM(BB5:BB23)-SUM(BY5:BY23) -> 94.5 | BC68: =SUM(BC5:BC23)-SUM(BZ5:BZ23) -> 86.5 | BD68: =SUM(BD5:BD23)-SUM(CA5:CA23) -> 98 | ... BP68: =SUM(BP5:BP23)-SUM(CM5:CM23) -> 88.5
B69: 19a | C69: =SUM(C5:C23)-C67 -> 91.5 | D69: =SUM(D5:D23)-D67 -> 94 | E69: =SUM(E5:E23)-E67 -> 88 | F69: =SUM(F5:F23)-F67 -> 98.5 | G69: =SUM(G5:G23)-G67 -> 102.5 | H69: =SUM(H5:H23)-H67 -> 96 | I69: =SUM(I5:I23)-I67 -> 85.5 | J69: =SUM(J5:J23)-J67 -> 93.5 | ... V69: =SUM(V5:V23)-V67 -> 87.5 | W69: =SUM(W5:W22)-W67 -> 0
B70: 38a | C70: =SUM(C5:C42)-C59 -> 186.5 | D70: =SUM(D5:D42)-D59 -> 190 | E70: =SUM(E5:E42)-E59 -> 178.5 | F70: =SUM(F5:F42)-F59 -> 193.5 | G70: =SUM(G5:G42)-G59 -> 204.5 | H70: =SUM(H5:H42)-H59 -> 193 | I70: =SUM(I5:I42)-I59 -> 174 | J70: =SUM(J5:J42)-J59 -> 180.5 | ... V70: =SUM(V5:V42)-V59 -> 184
D72: NAP-ATA | E72: JUV-TOR | F72: LAZ-ROM | G72: INT-MIL | H72: LAZ-SIE | I72: PAR-ROM | J72: NAP-CAG | K72: NAP-PAL | L72: UDI-ROM
D73: NAP-ATA
D74: JUV-TOR
D75: LAZ-ROM
D76: INT-MIL
D77: LAZ-SIE
D78: PAR-ROM
D79: NAP-CAG
D80: NAP-PAL
D81: UDI-ROM

Sheet portieri
C2: ATA | D2: BOL | E2: CAG | F2: CAT | G2: CHI | H2: FIO | I2: GEN | J2: INT | K2: JUV | L2: LAZ | M2: MIL | N2: NAP | O2: PAL | P2: PAR | Q2: PES | R2: ROM | S2: SAM | T2: SIE | U2: TOR | V2: UDI | AB2: T | AC2: ATA | AD2: BOL | AE2: CAG | AF2: CAT | AG2: CHI | AH2: FIO | AI2: GEN | AJ2: INT | AK2: JUV | AL2: LAZ | AM2: MIL | AN2: NAP | AO2: PAL | AP2: PAR | AQ2: PES | AR2: ROM | AS2: SAM | AT2: SIE | AU2: TOR | AV2: UDI | AY2: C | AZ2: ATA | BA2: BOL | BB2: CAG | BC2: CAT | BD2: CHI | BE2: FIO | BF2: GEN | BG2: INT | BH2: JUV | BI2: LAZ | BJ2: MIL | BK2: NAP | BL2: PAL | BM2: PAR | BN2: PES | BO2: ROM | BP2: SAM | BQ2: SIE | BR2: TOR | BS2: UDI | BV2: F | BW2: ATA | BX2: BOL | BY2: CAG | BZ2: CAT | CA2: CHI | CB2: FIO | CC2: GEN | CD2: INT | CE2: JUV | CF2: LAZ | CG2: MIL | CH2: NAP | CI2: PAL | CJ2: PAR | CK2: PES | CL2: ROM | CM2: SAM | CN2: SIE | CO2: TOR | CP2: UDI
B3: 1 | C3: 6 | D3: 5.5 | E3: 6.5 | F3: 6 | G3: 6 | H3: 6 | I3: 7 | J3: 7 | K3: 6.5 | L3: 7 | M3: 6 | N3: 6.5 | O3: 5.5 | P3: 6.5 | Q3: 6.5 | R3: 6 | S3: 6.5 | T3: 6 | U3: 6 | V3: 6.5 | AB3: 1 | AC3: 1 | AD3: 2 | AE3: 2 | AF3: 2 | AG3: 0 | AH3: 1 | AI3: 0 | AJ3: 0 | AK3: 0 | AL3: 0 | AM3: 1 | AN3: 0 | AO3: 3 | AP3: 2 | AQ3: 3 | AR3: 2 | AS3: 0 | AT3: 0 | AU3: 0 | AV3: 2 | AY3: 1 | AZ3: =IF(squadre!C3=1, AC3, "-") -> 1 | BA3: =IF(squadre!D3=1, AD3, "-") -> - | BB3: =IF(squadre!E3=1, AE3, "-") -> - | BC3: =IF(squadre!F3=1, AF3, "-") -> - | BD3: =IF(squadre!G3=1, AG3, "-") -> 0 | BE3: =IF(squadre!H3=1, AH3, "-") -> 1 | BF3: =IF(squadre!I3=1, AI3, "-") -> 0 | BG3: =IF(squadre!J3=1, AJ3, "-") -> - | ... BS3: =IF(squadre!V3=1, AV3, "-") -> - | BV3: 1 | BW3: =IF(squadre!C3=0, AC3, "-") -> - | BX3: =IF(squadre!D3=0, AD3, "-") -> 2 | BY3: =IF(squadre!E3=0, AE3, "-") -> 2 | BZ3: =IF(squadre!F3=0, AF3, "-") -> 2 | CA3: =IF(squadre!G3=0, AG3, "-") -> - | CB3: =IF(squadre!H3=0, AH3, "-") -> - | CC3: =IF(squadre!I3=0, AI3, "-") -> - | CD3: =IF(squadre!J3=0, AJ3, "-") -> 0 | ... CP3: =IF(squadre!V3=0, AV3, "-") -> 2
B4: 2 | C4: 8.5 | D4: 4 | E4: 6.5 | F4: 7.5 | G4: 6 | H4: 5.5 | I4: 5.5 | J4: 5.5 | K4: 6 | L4: 6.5 | M4: 6 | N4: 5.5 | O4: 5 | P4: 6 | Q4: 7 | R4: 6.5 | S4: 6.5 | T4: 6.5 | U4: 6 | V4: 5.5 | AB4: 2 | AC4: 1 | AD4: 3 | AE4: 1 | AF4: 2 | AG4: 2 | AH4: 2 | AI4: 3 | AJ4: 3 | AK4: 1 | AL4: 0 | AM4: 1 | AN4: 1 | AO4: 3 | AP4: 0 | AQ4: 3 | AR4: 1 | AS4: 1 | AT4: 2 | AU4: 0 | AV4: 4 | AY4: 2 | AZ4: =IF(squadre!C4=1, AC4, "-") -> - | BA4: =IF(squadre!D4=1, AD4, "-") -> 3 | BB4: =IF(squadre!E4=1, AE4, "-") -> 1 | BC4: =IF(squadre!F4=1, AF4, "-") -> 2 | BD4: =IF(squadre!G4=1, AG4, "-") -> - | BE4: =IF(squadre!H4=1, AH4, "-") -> - | BF4: =IF(squadre!I4=1, AI4, "-") -> - | BG4: =IF(squadre!J4=1, AJ4, "-") -> 3 | ... BS4: =IF(squadre!V4=1, AV4, "-") -> 4 | BV4: 2 | BW4: =IF(squadre!C4=0, AC4, "-") -> 1 | BX4: =IF(squadre!D4=0, AD4, "-") -> - | BY4: =IF(squadre!E4=0, AE4, "-") -> - | BZ4: =IF(squadre!F4=0, AF4, "-") -> - | CA4: =IF(squadre!G4=0, AG4, "-") -> 2 | CB4: =IF(squadre!H4=0, AH4, "-") -> 2 | CC4: =IF(squadre!I4=0, AI4, "-") -> 3 | CD4: =IF(squadre!J4=0, AJ4, "-") -> - | ... CP4: =IF(squadre!V4=0, AV4, "-") -> -
B5: 3 | C5: 6.5 | D5: 7 | E5: 6 | F5: 5.5 | G5: 5.5 | H5: 6.5 | I5: 6 | J5: 6.5 | K5: 7 | L5: 6.5 | M5: 6 | N5: 6 | O5: 6 | P5: 6 | Q5: 5.5 | R5: 5 | S5: 5.5 | T5: 6 | U5: 6 | V5: 6.5 | AB5: 3 | AC5: 0 | AD5: 2 | AE5: 1 | AF5: 2 | AG5: 3 | AH5: 0 | AI5: 3 | AJ5: 0 | AK5: 1 | AL5: 1 | AM5: 1 | AN5: 1 | AO5: 1 | AP5: 3 | AQ5: 3 | AR5: 3 | AS5: 2 | AT5: 2 | AU5: 2 | AV5: 2 | AY5: 3 | AZ5: =IF(squadre!C5=1, AC5, "-") -> - | BA5: =IF(squadre!D5=1, AD5, "-") -> - | BB5: =IF(squadre!E5=1, AE5, "-") -> - | BC5: =IF(squadre!F5=1, AF5, "-") -> - | BD5: =IF(squadre!G5=1, AG5, "-") -> 3 | BE5: =IF(squadre!H5=1, AH5, "-") -> 0 | BF5: =IF(squadre!I5=1, AI5, "-") -> 3 | BG5: =IF(squadre!J5=1, AJ5, "-") -> - | ... BS5: =IF(squadre!V5=1, AV5, "-") -> - | BV5: 3 | BW5: =IF(squadre!C5=0, AC5, "-") -> 0 | BX5: =IF(squadre!D5=0, AD5, "-") -> 2 | BY5: =IF(squadre!E5=0, AE5, "-") -> 1 | BZ5: =IF(squadre!F5=0, AF5, "-") -> 2 | CA5: =IF(squadre!G5=0, AG5, "-") -> - | CB5: =IF(squadre!H5=0, AH5, "-") -> - | CC5: =IF(squadre!I5=0, AI5, "-") -> - | CD5: =IF(squadre!J5=0, AJ5, "-") -> 0 | ... CP5: =IF(squadre!V5=0, AV5, "-") -> 2
B6: 4 | C6: 6 | D6: 5.5 | E6: 6 | F6: 6.5 | G6: 7.5 | H6: 7 | I6: 7 | J6: 6 | K6: 6 | L6: 6.5 | M6: 5 | N6: 6.5 | O6: 6 | P6: 6.5 | Q6: 5.5 | R6: 6 | S6: 6 | T6: 7.5 | U6: 7.5 | V6: 6.5 | AB6: 4 | AC6: 0 | AD6: 1 | AE6: 3 | AF6: 0 | AG6: 2 | AH6: 1 | AI6: 0 | AJ6: 2 | AK6: 0 | AL6: 1 | AM6: 2 | AN6: 0 | AO6: 1 | AP6: 1 | AQ6: 1 | AR6: 0 | AS6: 1 | AT6: 0 | AU6: 1 | AV6: 1 | AY6: 4 | AZ6: =IF(squadre!C6=1, AC6, "-") -> 0 | BA6: =IF(squadre!D6=1, AD6, "-") -> 1 | BB6: =IF(squadre!E6=1, AE6, "-") -> 3 | BC6: =IF(squadre!F6=1, AF6, "-") -> 0 | BD6: =IF(squadre!G6=1, AG6, "-") -> - | BE6: =IF(squadre!H6=1, AH6, "-") -> - | BF6: =IF(squadre!I6=1, AI6, "-") -> - | BG6: =IF(squadre!J6=1, AJ6, "-") -> 2 | ... BS6: =IF(squadre!V6=1, AV6, "-") -> 1 | BV6: 4 | BW6: =IF(squadre!C6=0, AC6, "-") -> - | BX6: =IF(squadre!D6=0, AD6, "-") -> - | BY6: =IF(squadre!E6=0, AE6, "-") -> - | BZ6: =IF(squadre!F6=0, AF6, "-") -> - | CA6: =IF(squadre!G6=0, AG6, "-") -> 2 | CB6: =IF(squadre!H6=0, AH6, "-") -> 1 | CC6: =IF(squadre!I6=0, AI6, "-") -> 0 | CD6: =IF(squadre!J6=0, AJ6, "-") -> - | ... CP6: =IF(squadre!V6=0, AV6, "-") -> -
B7: 5 | C7: 6 | D7: 6 | E7: 6 | F7: 5 | G7: 6 | H7: 6 | I7: 6.5 | J7: 7.5 | K7: 6 | L7: 5.5 | M7: 6 | N7: 6 | O7: 6 | P7: 6.5 | Q7: 7 | R7: 4 | S7: 7 | T7: 7 | U7: 6 | V7: 6.5 | AB7: 5 | AC7: 2 | AD7: 1 | AE7: 2 | AF7: 1 | AG7: 2 | AH7: 0 | AI7: 1 | AJ7: 0 | AK7: 0 | AL7: 3 | AM7: 0 | AN7: 0 | AO7: 1 | AP7: 1 | AQ7: 0 | AR7: 1 | AS7: 1 | AT7: 0 | AU7: 0 | AV7: 0 | AY7: 5 | AZ7: =IF(squadre!C7=1, AC7, "-") -> - | BA7: =IF(squadre!D7=1, AD7, "-") -> - | BB7: =IF(squadre!E7=1, AE7, "-") -> - | BC7: =IF(squadre!F7=1, AF7, "-") -> 1 | BD7: =IF(squadre!G7=1, AG7, "-") -> 2 | BE7: =IF(squadre!H7=1, AH7, "-") -> 0 | BF7: =IF(squadre!I7=1, AI7, "-") -> 1 | BG7: =IF(squadre!J7=1, AJ7, "-") -> - | ... BS7: =IF(squadre!V7=1, AV7, "-") -> - | BV7: 5 | BW7: =IF(squadre!C7=0, AC7, "-") -> 2 | BX7: =IF(squadre!D7=0, AD7, "-") -> 1 | BY7: =IF(squadre!E7=0, AE7, "-") -> 2 | BZ7: =IF(squadre!F7=0, AF7, "-") -> - | CA7: =IF(squadre!G7=0, AG7, "-") -> - | CB7: =IF(squadre!H7=0, AH7, "-") -> - | CC7: =IF(squadre!I7=0, AI7, "-") -> - | CD7: =IF(squadre!J7=0, AJ7, "-") -> 0 | ... CP7: =IF(squadre!V7=0, AV7, "-") -> 0
B8: 6 | C8: 5 | D8: 5.5 | E8: 5.5 | F8: 5 | G8: 5.5 | H8: 7.5 | I8: 6 | J8: 6.5 | K8: 6 | L8: 7 | M8: 5.5 | N8: 6 | O8: 5.5 | P8: 6.5 | Q8: 7.5 | R8: 6 | S8: 6 | T8: 5 | U8: 6.5 | V8: 6 | AB8: 6 | AC8: 5 | AD8: 0 | AE8: 2 | AF8: 4 | AG8: 4 | AH8: 2 | AI8: 0 | AJ8: 1 | AK8: 1 | AL8: 1 | AM8: 1 | AN8: 0 | AO8: 1 | AP8: 1 | AQ8: 1 | AR8: 4 | AS8: 1 | AT8: 2 | AU8: 1 | AV8: 0 | AY8: 6 | AZ8: =IF(squadre!C8=1, AC8, "-") -> 5 | BA8: =IF(squadre!D8=1, AD8, "-") -> 0 | BB8: =IF(squadre!E8=1, AE8, "-") -> 2 | BC8: =IF(squadre!F8=1, AF8, "-") -> - | BD8: =IF(squadre!G8=1, AG8, "-") -> - | BE8: =IF(squadre!H8=1, AH8, "-") -> - | BF8: =IF(squadre!I8=1, AI8, "-") -> - | BG8: =IF(squadre!J8=1, AJ8, "-") -> 1 | ... BS8: =IF(squadre!V8=1, AV8, "-") -> 0 | BV8: 6 | BW8: =IF(squadre!C8=0, AC8, "-") -> - | BX8: =IF(squadre!D8=0, AD8, "-") -> - | BY8: =IF(squadre!E8=0, AE8, "-") -> - | BZ8: =IF(squadre!F8=0, AF8, "-") -> 4 | CA8: =IF(squadre!G8=0, AG8, "-") -> 4 | CB8: =IF(squadre!H8=0, AH8, "-") -> 2 | CC8: =IF(squadre!I8=0, AI8, "-") -> 0 | CD8: =IF(squadre!J8=0, AJ8, "-") -> - | ... CP8: =IF(squadre!V8=0, AV8, "-") -> -
B9: 7 | C9: 5 | D9: 6 | E9: 6 | F9: 6.5 | G9: 6 | H9: 6 | I9: 6.5 | J9: 6.5 | K9: 6.5 | L9: 6.5 | M9: 4 | N9: 6 | O9: 7 | P9: 6.5 | Q9: 5 | R9: 7 | S9: 4 | T9: 6 | U9: 6.5 | V9: 5.5 | AB9: 7 | AC9: 2 | AD9: 1 | AE9: 0 | AF9: 0 | AG9: 1 | AH9: 0 | AI9: 1 | AJ9: 0 | AK9: 1 | AL9: 0 | AM9: 1 | AN9: 1 | AO9: 1 | AP9: 2 | AQ9: 3 | AR9: 0 | AS9: 2 | AT9: 2 | AU9: 1 | AV9: 2 | AY9: 7 | AZ9: =IF(squadre!C9=1, AC9, "-") -> - | BA9: =IF(squadre!D9=1, AD9, "-") -> - | BB9: =IF(squadre!E9=1, AE9, "-") -> - | BC9: =IF(squadre!F9=1, AF9, "-") -> 0 | BD9: =IF(squadre!G9=1, AG9, "-") -> 1 | BE9: =IF(squadre!H9=1, AH9, "-") -> 0 | BF9: =IF(squadre!I9=1, AI9, "-") -> 1 | BG9: =IF(squadre!J9=1, AJ9, "-") -> - | ... BS9: =IF(squadre!V9=1, AV9, "-") -> - | BV9: 7 | BW9: =IF(squadre!C9=0, AC9, "-") -> 2 | BX9: =IF(squadre!D9=0, AD9, "-") -> 1 | BY9: =IF(squadre!E9=0, AE9, "-") -> 0 | BZ9: =IF(squadre!F9=0, AF9, "-") -> - | CA9: =IF(squadre!G9=0, AG9, "-") -> - | CB9: =IF(squadre!H9=0, AH9, "-") -> - | CC9: =IF(squadre!I9=0, AI9, "-") -> - | CD9: =IF(squadre!J9=0, AJ9, "-") -> 0 | ... CP9: =IF(squadre!V9=0, AV9, "-") -> 2
B10: 8 | C10: 6 | D10: 6 | E10: 6 | F10: 6 | G10: 6 | H10: 6 | I10: 5.5 | J10: 6 | K10: 6 | L10: 5.5 | M10: 4.5 | N10: 6 | O10: 7 | P10: 6 | Q10: 6 | R10: 6 | S10: 6 | T10: 6.5 | U10: 7.5 | V10: 6 | AB10: 8 | AC10: 1 | AD10: 1 | AE10: 0 | AF10: 2 | AG10: 1 | AH10: 1 | AI10: 4 | AJ10: 0 | AK10: 0 | AL10: 2 | AM10: 3 | AN10: 2 | AO10: 0 | AP10: 1 | AQ10: 1 | AR10: 2 | AS10: 2 | AT10: 2 | AU10: 0 | AV10: 0 | AY10: 8 | AZ10: =IF(squadre!C10=1, AC10, "-") -> 1 | BA10: =IF(squadre!D10=1, AD10, "-") -> - | BB10: =IF(squadre!E10=1, AE10, "-") -> 0 | BC10: =IF(squadre!F10=1, AF10, "-") -> - | BD10: =IF(squadre!G10=1, AG10, "-") -> 1 | BE10: =IF(squadre!H10=1, AH10, "-") -> - | BF10: =IF(squadre!I10=1, AI10, "-") -> 4 | BG10: =IF(squadre!J10=1, AJ10, "-") -> 0 | ... BS10: =IF(squadre!V10=1, AV10, "-") -> 0 | BV10: 8 | BW10: =IF(squadre!C10=0, AC10, "-") -> - | BX10: =IF(squadre!D10=0, AD10, "-") -> 1 | BY10: =IF(squadre!E10=0, AE10, "-") -> - | BZ10: =IF(squadre!F10=0, AF10, "-") -> 2 | CA10: =IF(squadre!G10=0, AG10, "-") -> - | CB10: =IF(squadre!H10=0, AH10, "-") -> 1 | CC10: =IF(squadre!I10=0, AI10, "-") -> - | CD10: =IF(squadre!J10=0, AJ10, "-") -> - | ... CP10: =IF(squadre!V10=0, AV10, "-") -> -
B11: 9 | C11: 7 | D11: 5.5 | E11: 6 | F11: 7.5 | G11: 6.5 | H11: 6 | I11: 6 | J11: 5.5 | K11: 6 | L11: 6.5 | M11: 6 | N11: 6 | O11: 6 | P11: 6 | Q11: 6.5 | R11: 5.5 | S11: 6.5 | T11: 6.5 | U11: 6 | V11: 6 | AB11: 9 | AC11: 0 | AD11: 3 | AE11: 0 | AF11: 1 | AG11: 1 | AH11: 0 | AI11: 1 | AJ11: 1 | AK11: 0 | AL11: 2 | AM11: 0 | AN11: 0 | AO11: 0 | AP11: 1 | AQ11: 0 | AR11: 3 | AS11: 1 | AT11: 0 | AU11: 3 | AV11: 2 | AY11: 9 | AZ11: =IF(squadre!C11=1, AC11, "-") -> - | BA11: =IF(squadre!D11=1, AD11, "-") -> 3 | BB11: =IF(squadre!E11=1, AE11, "-") -> - | BC11: =IF(squadre!F11=1, AF11, "-") -> 1 | BD11: =IF(squadre!G11=1, AG11, "-") -> - | BE11: =IF(squadre!H11=1, AH11, "-") -> 0 | BF11: =IF(squadre!I11=1, AI11, "-") -> - | BG11: =IF(squadre!J11=1, AJ11, "-") -> - | ... BS11: =IF(squadre!V11=1, AV11, "-") -> - | BV11: 9 | BW11: =IF(squadre!C11=0, AC11, "-") -> 0 | BX11: =IF(squadre!D11=0, AD11, "-") -> - | BY11: =IF(squadre!E11=0, AE11, "-") -> 0 | BZ11: =IF(squadre!F11=0, AF11, "-") -> - | CA11: =IF(squadre!G11=0, AG11, "-") -> 1 | CB11: =IF(squadre!H11=0, AH11, "-") -> - | CC11: =IF(squadre!I11=0, AI11, "-") -> 1 | CD11: =IF(squadre!J11=0, AJ11, "-") -> 1 | ... CP11: =IF(squadre!V11=0, AV11, "-") -> 2
B12: 10 | C12: 7 | D12: 6.5 | E12: 6.5 | F12: 6 | G12: 6 | H12: 6 | I12: 6 | J12: 6 | K12: 6 | L12: 6 | M12: 5.5 | N12: 6 | O12: 6 | P12: 6.5 | Q12: 7 | R12: 6.5 | S12: 5 | T12: 7 | U12: 6 | V12: 4.5 | AB12: 10 | AC12: 0 | AD12: 2 | AE12: 2 | AF12: 2 | AG12: 0 | AH12: 0 | AI12: 1 | AJ12: 2 | AK12: 1 | AL12: 1 | AM12: 2 | AN12: 1 | AO12: 2 | AP12: 2 | AQ12: 2 | AR12: 3 | AS12: 3 | AT12: 4 | AU12: 1 | AV12: 2 | AY12: 10 | AZ12: =IF(squadre!C12=1, AC12, "-") -> 0 | BA12: =IF(squadre!D12=1, AD12, "-") -> - | BB12: =IF(squadre!E12=1, AE12, "-") -> 2 | BC12: =IF(squadre!F12=1, AF12, "-") -> - | BD12: =IF(squadre!G12=1, AG12, "-") -> 0 | BE12: =IF(squadre!H12=1, AH12, "-") -> - | BF12: =IF(squadre!I12=1, AI12, "-") -> 1 | BG12: =IF(squadre!J12=1, AJ12, "-") -> 2 | ... BS12: =IF(squadre!V12=1, AV12, "-") -> 2 | BV12: 10 | BW12: =IF(squadre!C12=0, AC12, "-") -> - | BX12: =IF(squadre!D12=0, AD12, "-") -> 2 | BY12: =IF(squadre!E12=0, AE12, "-") -> - | BZ12: =IF(squadre!F12=0, AF12, "-") -> 2 | CA12: =IF(squadre!G12=0, AG12, "-") -> - | CB12: =IF(squadre!H12=0, AH12, "-") -> 0 | CC12: =IF(squadre!I12=0, AI12, "-") -> - | CD12: =IF(squadre!J12=0, AJ12, "-") -> - | ... CP12: =IF(squadre!V12=0, AV12, "-") -> -
B13: 11 | C13: 6 | D13: 6 | E13: 5.5 | F13: 6.5 | G13: 5 | H13: 6 | I13: 6 | J13: 7 | K13: 5.5 | L13: 4.5 | M13: 6 | N13: 6 | O13: 5 | P13: 6 | Q13: 6.5 | R13: 6.5 | S13: 6 | T13: 6 | U13: 5 | V13: 6 | AB13: 11 | AC13: 1 | AD13: 1 | AE13: 4 | AF13: 0 | AG13: 5 | AH13: 1 | AI13: 1 | AJ13: 1 | AK13: 3 | AL13: 4 | AM13: 1 | AN13: 1 | AO13: 4 | AP13: 2 | AQ13: 0 | AR13: 1 | AS13: 2 | AT13: 0 | AU13: 1 | AV13: 1 | AY13: 11 | AZ13: =IF(squadre!C13=1, AC13, "-") -> - | BA13: =IF(squadre!D13=1, AD13, "-") -> 1 | BB13: =IF(squadre!E13=1, AE13, "-") -> - | BC13: =IF(squadre!F13=1, AF13, "-") -> 0 | BD13: =IF(squadre!G13=1, AG13, "-") -> - | BE13: =IF(squadre!H13=1, AH13, "-") -> 1 | BF13: =IF(squadre!I13=1, AI13, "-") -> - | BG13: =IF(squadre!J13=1, AJ13, "-") -> - | ... BS13: =IF(squadre!V13=1, AV13, "-") -> - | BV13: 11 | BW13: =IF(squadre!C13=0, AC13, "-") -> 1 | BX13: =IF(squadre!D13=0, AD13, "-") -> - | BY13: =IF(squadre!E13=0, AE13, "-") -> 4 | BZ13: =IF(squadre!F13=0, AF13, "-") -> - | CA13: =IF(squadre!G13=0, AG13, "-") -> 5 | CB13: =IF(squadre!H13=0, AH13, "-") -> - | CC13: =IF(squadre!I13=0, AI13, "-") -> 1 | CD13: =IF(squadre!J13=0, AJ13, "-") -> 1 | ... CP13: =IF(squadre!V13=0, AV13, "-") -> 1
B14: 12 | C14: 6.5 | D14: 5.5 | E14: 6 | F14: 7 | G14: 6 | H14: 6 | I14: 6.5 | J14: 6 | K14: 6 | L14: 5 | M14: 6 | N14: 6.5 | O14: 6 | P14: 6.5 | Q14: 5 | R14: 4.5 | S14: 5.5 | T14: 6.5 | U14: 6 | V14: 5 | AB14: 12 | AC14: 2 | AD14: 1 | AE14: 0 | AF14: 0 | AG14: 2 | AH14: 1 | AI14: 4 | AJ14: 3 | AK14: 1 | AL14: 2 | AM14: 3 | AN14: 2 | AO14: 0 | AP14: 0 | AQ14: 6 | AR14: 3 | AS14: 2 | AT14: 0 | AU14: 0 | AV14: 2 | AY14: 12 | AZ14: =IF(squadre!C14=1, AC14, "-") -> 2 | BA14: =IF(squadre!D14=1, AD14, "-") -> - | BB14: =IF(squadre!E14=1, AE14, "-") -> 0 | BC14: =IF(squadre!F14=1, AF14, "-") -> - | BD14: =IF(squadre!G14=1, AG14, "-") -> 2 | BE14: =IF(squadre!H14=1, AH14, "-") -> - | BF14: =IF(squadre!I14=1, AI14, "-") -> 4 | BG14: =IF(squadre!J14=1, AJ14, "-") -> - | ... BS14: =IF(squadre!V14=1, AV14, "-") -> - | BV14: 12 | BW14: =IF(squadre!C14=0, AC14, "-") -> - | BX14: =IF(squadre!D14=0, AD14, "-") -> 1 | BY14: =IF(squadre!E14=0, AE14, "-") -> - | BZ14: =IF(squadre!F14=0, AF14, "-") -> 0 | CA14: =IF(squadre!G14=0, AG14, "-") -> - | CB14: =IF(squadre!H14=0, AH14, "-") -> 1 | CC14: =IF(squadre!I14=0, AI14, "-") -> - | CD14: =IF(squadre!J14=0, AJ14, "-") -> 3 | ... CP14: =IF(squadre!V14=0, AV14, "-") -> 2
... B40: 38 | C40: 5.5 | D40: 6.5 | E40: 6.5 | F40: 6.5 | G40: 6 | H40: 5.5 | I40: 7 | J40: 5 | K40: 5.5 | L40: 6 | M40: 6 | N40: 6 | O40: 5.5 | P40: 7 | Q40: 5 | R40: 5.5 | S40: 7 | T40: 7.5 | U40: 6 | V40: 6 | AB40: 38 | AC40: 2 | AD40: 0 | AE40: 0 | AF40: 2 | AG40: 2 | AH40: 1 | AI40: 0 | AJ40: 5 | AK40: 3 | AL40: 1 | AM40: 1 | AN40: 2 | AO40: 3 | AP40: 1 | AQ40: 5 | AR40: 1 | AS40: 2 | AT40: 2 | AU40: 2 | AV40: 2 | AY40: 38 | AZ40: =IF(squadre!C40=1, AC40, "-") -> 2 | BA40: =IF(squadre!D40=1, AD40, "-") -> 0 | BB40: =IF(squadre!E40=1, AE40, "-") -> 0 | BC40: =IF(squadre!F40=1, AF40, "-") -> - | BD40: =IF(squadre!G40=1, AG40, "-") -> - | BE40: =IF(squadre!H40=1, AH40, "-") -> - | BF40: =IF(squadre!I40=1, AI40, "-") -> - | BG40: =IF(squadre!J40=1, AJ40, "-") -> 5 | ... BS40: =IF(squadre!V40=1, AV40, "-") -> - | BV40: 38 | BW40: =IF(squadre!C40=0, AC40, "-") -> - | BX40: =IF(squadre!D40=0, AD40, "-") -> - | BY40: =IF(squadre!E40=0, AE40, "-") -> - | BZ40: =IF(squadre!F40=0, AF40, "-") -> 2 | CA40: =IF(squadre!G40=0, AG40, "-") -> 2 | CB40: =IF(squadre!H40=0, AH40, "-") -> 1 | CC40: =IF(squadre!I40=0, AI40, "-") -> 0 | CD40: =IF(squadre!J40=0, AJ40, "-") -> - | ... CP40: =IF(squadre!V40=0, AV40, "-") -> 2
B42: 19a | C42: =SUM(C3:C21)/COUNTIF(C3:C21,">0") -> 6.1052632 | D42: =SUM(D3:D21)/COUNTIF(D3:D21,">0") -> 5.8684211 | E42: =SUM(E3:E21)/COUNTIF(E3:E21,">0") -> 6.0789474 | F42: =SUM(F3:F21)/COUNTIF(F3:F21,">0") -> 6.0789474 | G42: =SUM(G3:G21)/COUNTIF(G3:G21,">0") -> 6.2368421 | H42: =SUM(H3:H21)/COUNTIF(H3:H21,">0") -> 6.0789474 | I42: =SUM(I3:I21)/COUNTIF(I3:I21,">0") -> 6.1315789 | J42: =SUM(J3:J21)/COUNTIF(J3:J21,">0") -> 6.3157895 | ... V42: =SUM(V3:V21)/COUNTIF(V3:V21,">0") -> 6.0263158 | AE42: 3(4^) | AY42: 19a | AZ42: =SUM(AZ3:AZ21) -> 12 | BA42: =SUM(BA3:BA21) -> 11 | BB42: =SUM(BB3:BB21) -> 14 | BC42: =SUM(BC3:BC21) -> 9 | BD42: =SUM(BD3:BD21) -> 9 | BE42: =SUM(BE3:BE21) -> 8 | BF42: =SUM(BF3:BF21) -> 19 | BG42: =SUM(BG3:BG21) -> 12 | ... BS42: =SUM(BS3:BS21) -> 11 | BV42: 19a | BW42: =SUM(BW3:BW21) -> 16 | BX42: =SUM(BX3:BX21) -> 15 | BY42: =SUM(BY3:BY21) -> 21 | BZ42: =SUM(BZ3:BZ21) -> 18 | CA42: =SUM(CA3:CA21) -> 20 | CB42: =SUM(CB3:CB21) -> 13 | CC42: =SUM(CC3:CC21) -> 11 | CD42: =SUM(CD3:CD21) -> 10 | ... CP42: =SUM(CP3:CP21) -> 15
B43: 38a | C43: =SUM(C3:C40)/COUNTIF(C3:C40,">0") -> 6.1052632 | D43: =SUM(D3:D40)/COUNTIF(D3:D40,">0") -> 6 | E43: =SUM(E3:E40)/COUNTIF(E3:E40,">0") -> 6.1973684 | F43: =SUM(F3:F40)/COUNTIF(F3:F40,">0") -> 6.1184211 | G43: =SUM(G3:G40)/COUNTIF(G3:G40,">0") -> 6.1710526 | H43: =SUM(H3:H40)/COUNTIF(H3:H40,">0") -> 5.9473684 | I43: =SUM(I3:I40)/COUNTIF(I3:I40,">0") -> 6.1052632 | J43: =SUM(J3:J40)/COUNTIF(J3:J40,">0") -> 6.2763158 | ... V43: =SUM(V3:V40)/COUNTIF(V3:V40,">0") -> 6.0394737 | AB43: tot | AC43: =SUM(AC3:AC40) -> 56 | AD43: =SUM(AD3:AD40) -> 52 | AE43: =SUM(AE3:AE40) -> 55 | AF43: =SUM(AF3:AF40) -> 46 | AG43: =SUM(AG3:AG40) -> 52 | AH43: =SUM(AH3:AH40) -> 44 | AI43: =SUM(AI3:AI40) -> 52 | AJ43: =SUM(AJ3:AJ40) -> 57 | ... AV43: =SUM(AV3:AV40) -> 45 | AY43: tot | AZ43: =SUM(AZ3:AZ40) -> 24 | BA43: =SUM(BA3:BA40) -> 24 | BB43: =SUM(BB3:BB40) -> 24 | BC43: =SUM(BC3:BC40) -> 15 | BD43: =SUM(BD3:BD40) -> 16 | BE43: =SUM(BE3:BE40) -> 19 | BF43: =SUM(BF3:BF40) -> 30 | BG43: =SUM(BG3:BG40) -> 31 | ... BS43: =SUM(BS3:BS40) -> 16 | BV43: tot | BW43: =SUM(BW3:BW40) -> 32 | BX43: =SUM(BX3:BX40) -> 28 | BY43: =SUM(BY3:BY40) -> 31 | BZ43: =SUM(BZ3:BZ40) -> 31 | CA43: =SUM(CA3:CA40) -> 36 | CB43: =SUM(CB3:CB40) -> 25 | CC43: =SUM(CC3:CC40) -> 22 | CD43: =SUM(CD3:CD40) -> 26 | ... CP43: =SUM(CP3:CP40) -> 29
C45: ATA | D45: BOL | E45: CAG | F45: CAT | G45: CHI | H45: FIO | I45: GEN | J45: INT | K45: JUV | L45: LAZ | M45: MIL | N45: NAP | O45: PAL | P45: PAR | Q45: PES | R45: ROM | S45: SAM | T45: SIE | U45: TOR | V45: UDI | AC45: =AZ43+BW43 -> 56 | AD45: =BA43+BX43 -> 52 | AE45: =BB43+BY43 -> 55 | AF45: =BC43+BZ43 -> 46 | AG45: =BD43+CA43 -> 52 | AH45: =BE43+CB43 -> 44 | AI45: =BF43+CC43 -> 52 | AJ45: =BG43+CD43 -> 57 | ... AV45: =BS43+CP43 -> 45
B46: <5 | C46: =C55/C$60 -> 0.078947368 | D46: =D55/D$60 -> 0.10526316 | E46: =E55/E$60 -> 0.052631579 | F46: =F55/F$60 -> 0.10526316 | G46: =G55/G$60 -> 0.10526316 | H46: =H55/H$60 -> 0.10526316 | I46: =I55/I$60 -> 0.10526316 | J46: =J55/J$60 -> 0.052631579 | ... V46: =V55/V$60 -> 0.10526316 | AC46: ATA | AD46: BOL | AE46: CAG | AF46: CAT | AG46: CHI | AH46: FIO | AI46: GEN | AJ46: INT | AK46: JUV | AL46: LAZ | AM46: MIL | AN46: NAP | AO46: PAL | AP46: PAR | AQ46: PES | AR46: ROM | AS46: SAM | AT46: SIE | AU46: TOR | AV46: UDI
B47: 5.5 | C47: =C56/C$60 -> 0.078947368 | D47: =D56/D$60 -> 0.23684211 | E47: =E56/E$60 -> 0.13157895 | F47: =F56/F$60 -> 0.078947368 | G47: =G56/G$60 -> 0.078947368 | H47: =H56/H$60 -> 0.15789474 | I47: =I56/I$60 -> 0.10526316 | J47: =J56/J$60 -> 0.21052632 | ... V47: =V56/V$60 -> 0.10526316 | AB47: C | AC47: =AZ43 -> 24 | AD47: =BA43 -> 24 | AE47: =BB43 -> 24 | AF47: =BC43 -> 15 | AG47: =BD43 -> 16 | AH47: =BE43 -> 19 | AI47: =BF43 -> 30 | AJ47: =BG43 -> 31 | ... AV47: =BS43 -> 16
B48: 6 | C48: =C57/C$60 -> 0.57894737 | D48: =D57/D$60 -> 0.31578947 | E48: =E57/E$60 -> 0.36842105 | F48: =F57/F$60 -> 0.42105263 | G48: =G57/G$60 -> 0.5 | H48: =H57/H$60 -> 0.5 | I48: =I57/I$60 -> 0.36842105 | J48: =J57/J$60 -> 0.28947368 | ... V48: =V57/V$60 -> 0.42105263 | AB48: F | AC48: =BW43 -> 32 | AD48: =BX43 -> 28 | AE48: =BY43 -> 31 | AF48: =BZ43 -> 31 | AG48: =CA43 -> 36 | AH48: =CB43 -> 25 | AI48: =CC43 -> 22 | AJ48: =CD43 -> 26 | ... AV48: =CP43 -> 29
B49: 6.5 | C49: =C58/C$60 -> 0.15789474 | D49: =D58/D$60 -> 0.21052632 | E49: =E58/E$60 -> 0.34210526 | F49: =F58/F$60 -> 0.31578947 | G49: =G58/G$60 -> 0.15789474 | H49: =H58/H$60 -> 0.13157895 | I49: =I58/I$60 -> 0.26315789 | J49: =J58/J$60 -> 0.13157895 | ... V49: =V58/V$60 -> 0.31578947
B50: >7 | C50: =C59/C$60 -> 0.10526316 | D50: =D59/D$60 -> 0.13157895 | E50: =E59/E$60 -> 0.10526316 | F50: =F59/F$60 -> 0.078947368 | G50: =G59/G$60 -> 0.15789474 | H50: =H59/H$60 -> 0.10526316 | I50: =I59/I$60 -> 0.15789474 | J50: =J59/J$60 -> 0.31578947 | ... V50: =V59/V$60 -> 0.052631579 | AB50: 19a | AC50: =AC52+AC53 -> 28 | AD50: =AD52+AD53 -> 26 | AE50: =AE52+AE53 -> 35 | AF50: =AF52+AF53 -> 27 | AG50: =AG52+AG53 -> 29 | AH50: =AH52+AH53 -> 21 | AI50: =AI52+AI53 -> 30 | AJ50: =AJ52+AJ53 -> 22 | ... AV50: =AV52+AV53 -> 26
C51: =SUM(C46:C50) -> 1 | D51: =SUM(D46:D50) -> 1 | E51: =SUM(E46:E50) -> 1 | F51: =SUM(F46:F50) -> 1 | G51: =SUM(G46:G50) -> 1 | H51: =SUM(H46:H50) -> 1 | I51: =SUM(I46:I50) -> 1 | J51: =SUM(J46:J50) -> 1 | ... V51: =SUM(V46:V50) -> 1 | AC51: ATA | AD51: BOL | AE51: CAG | AF51: CAT | AG51: CHI | AH51: FIO | AI51: GEN | AJ51: INT | AK51: JUV | AL51: LAZ | AM51: MIL | AN51: NAP | AO51: PAL | AP51: PAR | AQ51: PES | AR51: ROM | AS51: SAM | AT51: SIE | AU51: TOR | AV51: UDI
AB52: C | AC52: =AZ42 -> 12 | AD52: =BA42 -> 11 | AE52: =BB42 -> 14 | AF52: =BC42 -> 9 | AG52: =BD42 -> 9 | AH52: =BE42 -> 8 | AI52: =BF42 -> 19 | AJ52: =BG42 -> 12 | ... AV52: =BS42 -> 11
C53: ATA | D53: BOL | E53: CAG | F53: CAT | G53: CHI | H53: FIO | I53: GEN | J53: INT | K53: JUV | L53: LAZ | M53: MIL | N53: NAP | O53: PAL | P53: PAR | Q53: PES | R53: ROM | S53: SAM | T53: SIE | U53: TOR | V53: UDI | AB53: F | AC53: =BW42 -> 16 | AD53: =BX42 -> 15 | AE53: =BY42 -> 21 | AF53: =BZ42 -> 18 | AG53: =CA42 -> 20 | AH53: =CB42 -> 13 | AI53: =CC42 -> 11 | AJ53: =CD42 -> 10 | ... AV53: =CP42 -> 15 | AW53: =AW47-AW50 -> 0 | AX53: =AX47-AX50 -> 0
B54: GS | C54: =AC43 -> 56 | D54: =AD43 -> 52 | E54: =AE43 -> 55 | F54: =AF43 -> 46 | G54: =AG43 -> 52 | H54: =AH43 -> 44 | I54: =AI43 -> 52 | J54: =AJ43 -> 57 | ... V54: =AV43 -> 45 | AW54: =AW48-AW51 -> 0 | AX54: =AX48-AX51 -> 0
B55: <5 | C55: =COUNTIFS(C3:C40, ">=2",C3:C40, "<=5,4") -> 3 | D55: =COUNTIF(D3:D40, "<=5,3") -> 4 | E55: =COUNTIF(E3:E40, "<=5,3") -> 2 | F55: =COUNTIF(F3:F40, "<=5,3") -> 4 | G55: =COUNTIF(G3:G40, "<=5,3") -> 4 | H55: =COUNTIF(H3:H40, "<=5,3") -> 4 | I55: =COUNTIF(I3:I40, "<=5,3") -> 4 | J55: =COUNTIF(J3:J40, "<=5,3") -> 2 | K55: =COUNTIF(K3:K40, "<=5,3") -> 1 | ... V55: =COUNTIF(V3:V40, "<=5,3") -> 4
B56: 5.5 | C56: =COUNTIFS(C3:C40, "=5,5") -> 3 | D56: =COUNTIFS(D3:D40, ">=5,4",D3:D40, "<=5,7") -> 9 | E56: =COUNTIFS(E3:E40, ">=5,4",E3:E40, "<=5,7") -> 5 | F56: =COUNTIFS(F3:F40, ">=5,4",F3:F40, "<=5,7") -> 3 | G56: =COUNTIFS(G3:G40, ">=5,4",G3:G40, "<=5,7") -> 3 | H56: =COUNTIFS(H3:H40, ">=5,4",H3:H40, "<=5,7") -> 6 | I56: =COUNTIFS(I3:I40, ">=5,4",I3:I40, "<=5,7") -> 4 | J56: =COUNTIFS(J3:J40, ">=5,4",J3:J40, "<=5,7") -> 8 | K56: =COUNTIFS(K3:K40, ">=5,4",K3:K40, "<=5,7") -> 3 | ... V56: =COUNTIFS(V3:V40, ">=5,4",V3:V40, "<=5,7") -> 4
B57: 6 | C57: =COUNTIFS(C3:C40, "=6") -> 22 | D57: =COUNTIFS(D3:D40, ">=5,8",D3:D40, "<=6,1") -> 12 | E57: =COUNTIFS(E3:E40, ">=5,8",E3:E40, "<=6,1") -> 14 | F57: =COUNTIFS(F3:F40, ">=5,8",F3:F40, "<=6,1") -> 16 | G57: =COUNTIFS(G3:G40, ">=5,8",G3:G40, "<=6,1") -> 19 | H57: =COUNTIFS(H3:H40, ">=5,8",H3:H40, "<=6,1") -> 19 | I57: =COUNTIFS(I3:I40, ">=5,8",I3:I40, "<=6,1") -> 14 | J57: =COUNTIFS(J3:J40, ">=5,8",J3:J40, "<=6,1") -> 11 | K57: =COUNTIFS(K3:K40, ">=5,8",K3:K40, "<=6,1") -> 23 | ... V57: =COUNTIFS(V3:V40, ">=5,8",V3:V40, "<=6,1") -> 16
B58: 6.5 | C58: =COUNTIFS(C3:C40, "=6,5") -> 6 | D58: =COUNTIFS(D3:D40, ">=6,2",D3:D40, "<=6,5") -> 8 | E58: =COUNTIFS(E3:E40, ">=6,2",E3:E40, "<=6,5") -> 13 | F58: =COUNTIFS(F3:F40, ">=6,2",F3:F40, "<=6,5") -> 12 | G58: =COUNTIFS(G3:G40, ">=6,2",G3:G40, "<=6,5") -> 6 | H58: =COUNTIFS(H3:H40, ">=6,2",H3:H40, "<=6,5") -> 5 | I58: =COUNTIFS(I3:I40, ">=6,2",I3:I40, "<=6,5") -> 10 | J58: =COUNTIFS(J3:J40, ">=6,2",J3:J40, "<=6,5") -> 5 | K58: =COUNTIFS(K3:K40, ">=6,2",K3:K40, "<=6,5") -> 7 | ... V58: =COUNTIFS(V3:V40, ">=6,2",V3:V40, "<=6,5") -> 12
B59: >7 | C59: =COUNTIFS(C3:C40, ">=6,6") -> 4 | D59: =COUNTIF(D3:D40, ">=6,6") -> 5 | E59: =COUNTIF(E3:E40, ">=6,6") -> 4 | F59: =COUNTIF(F3:F40, ">=6,6") -> 3 | G59: =COUNTIF(G3:G40, ">=6,6") -> 6 | H59: =COUNTIF(H3:H40, ">=6,6") -> 4 | I59: =COUNTIF(I3:I40, ">=6,6") -> 6 | J59: =COUNTIF(J3:J40, ">=6,6") -> 12 | K59: =COUNTIF(K3:K40, ">=6,6") -> 4 | ... V59: =COUNTIF(V3:V40, ">=6,6") -> 2
C60: =SUM(C55:C59) -> 38 | D60: =SUM(D55:D59) -> 38 | E60: =SUM(E55:E59) -> 38 | F60: =SUM(F55:F59) -> 38 | G60: =SUM(G55:G59) -> 38 | H60: =SUM(H55:H59) -> 38 | I60: =SUM(I55:I59) -> 38 | J60: =SUM(J55:J59) -> 38 | ... V60: =SUM(V55:V59) -> 38
B63: C*T | C63: ATA | D63: BOL | E63: CAG | F63: CAT | G63: CHI | H63: FIO | I63: GEN | J63: INT | K63: JUV | L63: LAZ | M63: MIL | N63: NAP | O63: PAL | P63: PAR | Q63: PES | R63: ROM | S63: SAM | T63: SIE | U63: TOR | V63: UDI | AB63: C*v | AC63: ATA | AD63: BOL | AE63: CAG | AF63: CAT | AG63: CHI | AH63: FIO | AI63: GEN | AJ63: INT | AK63: JUV | AL63: LAZ | AM63: MIL | AN63: NAP | AO63: PAL | AP63: PAR | AQ63: PES | AR63: ROM | AS63: SAM | AT63: SIE | AU63: TOR | AV63: UDI | AY63: C*p | BA63: BOL | BB63: CAG | BC63: CAT | BD63: CHI | BE63: FIO | BF63: GEN | BG63: INT | BH63: JUV | BI63: LAZ | BJ63: MIL | BK63: NAP | BL63: PAL | BM63: PAR | BN63: PES | BO63: ROM | BP63: SAM | BQ63: SIE | BR63: TOR | BS63: UDI | BV63: C*s | BW63: ATA | BX63: BOL | BY63: CAG | BZ63: CAT | CA63: CHI | CB63: FIO | CC63: GEN | CD63: INT | CE63: JUV | CF63: LAZ | CG63: MIL | CH63: NAP | CI63: PAL | CJ63: PAR | CK63: PES | CL63: ROM | CM63: SAM | CN63: SIE | CO63: TOR | CP63: UDI
B64: 1 | C64: =IF(squadre!C3=1, C3, "-") -> 6 | D64: =IF(squadre!D3=1, D3, "-") -> - | E64: =IF(squadre!E3=1, E3, "-") -> - | F64: =IF(squadre!F3=1, F3, "-") -> - | G64: =IF(squadre!G3=1, G3, "-") -> 6 | H64: =IF(squadre!H3=1, H3, "-") -> 6 | I64: =IF(squadre!I3=1, I3, "-") -> 7 | J64: =IF(squadre!J3=1, J3, "-") -> - | ... V64: =IF(squadre!V3=1, V3, "-") -> - | AB64: 1 | AC64: =IF(squadre!BC3="1v", C3, "-") -> - | AD64: =IF(squadre!BD3="1v", D3, "-") -> - | AE64: =IF(squadre!BE3="1v", E3, "-") -> - | AF64: =IF(squadre!BF3="1v", F3, "-") -> - | AG64: =IF(squadre!BG3="1v", G3, "-") -> 6 | AH64: =IF(squadre!BH3="1v", H3, "-") -> 6 | AI64: =IF(squadre!BI3="1v", I3, "-") -> 7 | AJ64: =IF(squadre!BJ3="1v", J3, "-") -> - | ... AV64: =IF(squadre!BV3="1v", V3, "-") -> - | AY64: 1 | AZ64: ATA | BA64: =IF(squadre!BD3="1p", D3, "-") -> - | BB64: =IF(squadre!BE3="1p", E3, "-") -> - | BC64: =IF(squadre!BF3="1p", F3, "-") -> - | BD64: =IF(squadre!BG3="1p", G3, "-") -> - | BE64: =IF(squadre!BH3="1p", H3, "-") -> - | BF64: =IF(squadre!BI3="1p", I3, "-") -> - | BG64: =IF(squadre!BJ3="1p", J3, "-") -> - | BH64: =IF(squadre!BK3="1p", K3, "-") -> - | ... BS64: =IF(squadre!BV3="1p", V3, "-") -> - | BV64: 1 | BW64: =IF(squadre!BC3="1s", C3, "-") -> 6 | BX64: =IF(squadre!BD3="1s", D3, "-") -> - | BY64: =IF(squadre!BE3="1s", E3, "-") -> - | BZ64: =IF(squadre!BF3="1s", F3, "-") -> - | CA64: =IF(squadre!BG3="1s", G3, "-") -> - | CB64: =IF(squadre!BH3="1s", H3, "-") -> - | CC64: =IF(squadre!BI3="1s", I3, "-") -> - | CD64: =IF(squadre!BJ3="1s", J3, "-") -> - | ... CP64: =IF(squadre!BV3="1s", V3, "-") -> -
