Workbook

Sheet ordine conf
D2: STAGIONE 12-13 | L2: ANDATA | T2: RITORNO
B4: PORTIERI | E4: MV | F4: MV | G4: MV | H4: GOL | I4: sub | J4: GOL s | M4: MV | N4: MV | O4: MV | P4: GOL | Q4: sub | R4: GOL s | U4: MV | V4: MV | W4: MV | X4: GOL | Y4: sub | Z4: GOL s
C5: i | D5: PUNTI | E5: tot | F5: casa | G5: fuori | H5: sub | I5: casa | J5: fuori | K5: i | L5: PUNTI | M5: tot | N5: casa | O5: fuori | P5: sub | Q5: casa | R5: fuori | S5: i | T5: PUNTI | U5: tot | V5: casa | W5: fuori | X5: sub | Y5: casa | Z5: fuori
B6: JUV | D6: =HLOOKUP($B6,incroci!$AW$58:$BP$67,10,0) -> 208.5 | E6: =HLOOKUP($B6,portieri!$C$2:$V$43,42,0) -> 6.1184211 | F6: =HLOOKUP($B6,portieri!$C$63:$V$103,41,0) -> 6.0263158 | G6: =HLOOKUP($B6,portieri!$C$122:$V$162,41,0) -> 6.2105263 | H6: =HLOOKUP($B6,portieri!$AC$2:$AV$43,42,0) -> 24 | I6: =HLOOKUP($B6,portieri!$AC$2:$AV$48,46,0) -> 10 | J6: =HLOOKUP($B6,portieri!$AC$2:$AV$48,47,0) -> 14 | L6: =HLOOKUP($B6,incroci!$AW$58:$BP$68,11,0) -> 102 | M6: =HLOOKUP($B6,portieri!$C$2:$V$43,41,0) -> 6.0526316 | N6: =HLOOKUP($B6,portieri!$C$63:$V$103,40,0) -> 6.1111111 | O6: =HLOOKUP($B6,portieri!$C$122:$V$162,40,0) -> 6.1666667 | P6: =HLOOKUP($B6,portieri!$AC$2:$AV$53,49,0) -> 13 | Q6: =HLOOKUP($B6,portieri!$AC$2:$AV$53,51,0) -> 7 | R6: =HLOOKUP($B6,portieri!$AC$2:$AV$53,52,0) -> 6 | T6: =D6-L6 -> 106.5 | U6: =(E6*38-M6*18)/20 -> 6.1776316 | V6: =(F6*38-N6*18)/20 -> 5.95 | W6: =(G6*38-O6*18)/20 -> 6.25 | X6: =H6-P6 -> 11 | Y6: =I6-Q6 -> 3 | Z6: =J6-R6 -> 8
B7: LAZ-SIE | D7: =HLOOKUP($B7,incroci!$C$58:$V$70,13,0) -> 207.5 | E7: =HLOOKUP($B7,incroci!$C$44:$V$46,3,0) -> 6.3026316 | H7: =HLOOKUP($B7,incroci!$C$58:$V$67,2,0) -> 32 | L7: =HLOOKUP($B7,incroci!$C$58:$V$70,12,0) -> 102 | M7: =HLOOKUP($B7,incroci!$C$44:$V$46,2,0) -> 6.3157895 | P7: =HLOOKUP($B7,incroci!$C$58:$V$67,10,0) -> 18 | T7: =D7-L7 -> 105.5 | U7: =(E7*38-M7*18)/20 -> 6.2907895 | X7: =H7-P7 -> 14
B8: PAR-SIE | D8: =HLOOKUP($B8,incroci!$C$58:$V$70,13,0) -> 204.5 | E8: =HLOOKUP($B8,incroci!$C$44:$V$46,3,0) -> 6.3552632 | H8: =HLOOKUP($B8,incroci!$C$58:$V$67,2,0) -> 37 | L8: =HLOOKUP($B8,incroci!$C$58:$V$70,12,0) -> 102.5 | M8: =HLOOKUP($B8,incroci!$C$44:$V$46,2,0) -> 6.3947368 | P8: =HLOOKUP($B8,incroci!$C$58:$V$67,10,0) -> 19 | T8: =D8-L8 -> 102 | U8: =(E8*38-M8*18)/20 -> 6.3197368 | X8: =H8-P8 -> 18
B9: LAZ | D9: =HLOOKUP($B9,incroci!$AW$58:$BP$67,10,0) -> 196 | E9: =HLOOKUP($B9,portieri!$C$2:$V$43,42,0) -> 6.2631579 | F9: =HLOOKUP($B9,portieri!$C$63:$V$103,41,0) -> 6.2368421 | G9: =HLOOKUP($B9,portieri!$C$122:$V$162,41,0) -> 6.2894737 | H9: =HLOOKUP($B9,portieri!$AC$2:$AV$43,42,0) -> 42 | I9: =HLOOKUP($B9,portieri!$AC$2:$AV$48,46,0) -> 16 | J9: =HLOOKUP($B9,portieri!$AC$2:$AV$48,47,0) -> 26 | L9: =HLOOKUP($B9,incroci!$AW$58:$BP$68,11,0) -> 101 | M9: =HLOOKUP($B9,portieri!$C$2:$V$43,41,0) -> 6.3157895 | N9: =HLOOKUP($B9,portieri!$C$63:$V$103,40,0) -> 6.2777778 | O9: =HLOOKUP($B9,portieri!$C$122:$V$162,40,0) -> 6.3333333 | P9: =HLOOKUP($B9,portieri!$AC$2:$AV$53,49,0) -> 19 | Q9: =HLOOKUP($B9,portieri!$AC$2:$AV$53,51,0) -> 9 | R9: =HLOOKUP($B9,portieri!$AC$2:$AV$53,52,0) -> 10 | T9: =D9-L9 -> 95 | U9: =(E9*38-M9*18)/20 -> 6.2157895 | V9: =(F9*38-N9*18)/20 -> 6.2 | W9: =(G9*38-O9*18)/20 -> 6.25 | X9: =H9-P9 -> 23 | Y9: =I9-Q9 -> 7 | Z9: =J9-R9 -> 16
B10: CAT-PAL | D10: =HLOOKUP($B10,incroci!$C$58:$V$70,13,0) -> 193.5 | E10: =HLOOKUP($B10,incroci!$C$44:$V$46,3,0) -> 6.1710526 | H10: =HLOOKUP($B10,incroci!$C$58:$V$67,2,0) -> 41 | L10: =HLOOKUP($B10,incroci!$C$58:$V$70,12,0) -> 98.5 | M10: =HLOOKUP($B10,incroci!$C$44:$V$46,2,0) -> 6.2894737 | P10: =HLOOKUP($B10,incroci!$C$58:$V$67,10,0) -> 21 | T10: =D10-L10 -> 95 | U10: =(E10*38-M10*18)/20 -> 6.0644737 | X10: =H10-P10 -> 20
B11: JUV-TOR | D11: =HLOOKUP($B11,incroci!$C$58:$V$70,13,0) -> 193 | E11: =HLOOKUP($B11,incroci!$C$44:$V$46,3,0) -> 6.0263158 | H11: =HLOOKUP($B11,incroci!$C$58:$V$67,2,0) -> 36 | L11: =HLOOKUP($B11,incroci!$C$58:$V$70,12,0) -> 94 | M11: =HLOOKUP($B11,incroci!$C$44:$V$46,2,0) -> 5.9473684 | P11: =HLOOKUP($B11,incroci!$C$58:$V$67,10,0) -> 19 | T11: =D11-L11 -> 99 | U11: =(E11*38-M11*18)/20 -> 6.0973684 | X11: =H11-P11 -> 17
B12: ATA-CAT | D12: =HLOOKUP($B12,incroci!$C$58:$V$70,13,0) -> 193 | E12: =HLOOKUP($B12,incroci!$C$44:$V$46,3,0) -> 6.1052632 | H12: =HLOOKUP($B12,incroci!$C$58:$V$67,2,0) -> 39 | L12: =HLOOKUP($B12,incroci!$C$58:$V$70,12,0) -> 96 | M12: =HLOOKUP($B12,incroci!$C$44:$V$46,2,0) -> 6.1578947 | P12: =HLOOKUP($B12,incroci!$C$58:$V$67,10,0) -> 21 | T12: =D12-L12 -> 97 | U12: =(E12*38-M12*18)/20 -> 6.0578947 | X12: =H12-P12 -> 18
B13: SAM-CHI | D13: =HLOOKUP($B13,incroci!$C$58:$V$70,13,0) -> 193 | E13: =HLOOKUP($B13,incroci!$C$44:$V$46,3,0) -> 6.1315789 | H13: =HLOOKUP($B13,incroci!$C$58:$V$67,2,0) -> 40 | L13: =HLOOKUP($B13,incroci!$C$58:$V$70,12,0) -> 95.5 | M13: =HLOOKUP($B13,incroci!$C$44:$V$46,2,0) -> 6.1315789 | P13: =HLOOKUP($B13,incroci!$C$58:$V$67,10,0) -> 21 | T13: =D13-L13 -> 97.5 | U13: =(E13*38-M13*18)/20 -> 6.1315789 | X13: =H13-P13 -> 19
B14: NAP | D14: =HLOOKUP($B14,incroci!$AW$58:$BP$67,10,0) -> 192 | E14: =HLOOKUP($B14,portieri!$C$2:$V$43,42,0) -> 6 | F14: =HLOOKUP($B14,portieri!$C$63:$V$103,41,0) -> 5.9736842 | G14: =HLOOKUP($B14,portieri!$C$122:$V$162,41,0) -> 6.0263158 | H14: =HLOOKUP($B14,portieri!$AC$2:$AV$43,42,0) -> 36 | I14: =HLOOKUP($B14,portieri!$AC$2:$AV$48,46,0) -> 18 | J14: =HLOOKUP($B14,portieri!$AC$2:$AV$48,47,0) -> 18 | L14: =HLOOKUP($B14,incroci!$AW$58:$BP$68,11,0) -> 96.5 | M14: =HLOOKUP($B14,portieri!$C$2:$V$43,41,0) -> 6.0263158 | N14: =HLOOKUP($B14,portieri!$C$63:$V$103,40,0) -> 5.8333333 | O14: =HLOOKUP($B14,portieri!$C$122:$V$162,40,0) -> 6.1666667 | P14: =HLOOKUP($B14,portieri!$AC$2:$AV$53,49,0) -> 18 | Q14: =HLOOKUP($B14,portieri!$AC$2:$AV$53,51,0) -> 11 | R14: =HLOOKUP($B14,portieri!$AC$2:$AV$53,52,0) -> 7 | T14: =D14-L14 -> 95.5 | U14: =(E14*38-M14*18)/20 -> 5.9763158 | V14: =(F14*38-N14*18)/20 -> 6.1 | W14: =(G14*38-O14*18)/20 -> 5.9 | X14: =H14-P14 -> 18 | Y14: =I14-Q14 -> 7 | Z14: =J14-R14 -> 11
B15: PAR | D15: =HLOOKUP($B15,incroci!$AW$58:$BP$67,10,0) -> 191.5 | E15: =HLOOKUP($B15,portieri!$C$2:$V$43,42,0) -> 6.25 | F15: =HLOOKUP($B15,portieri!$C$63:$V$103,41,0) -> 6.3157895 | G15: =HLOOKUP($B15,portieri!$C$122:$V$162,41,0) -> 6.1842105 | H15: =HLOOKUP($B15,portieri!$AC$2:$AV$43,42,0) -> 46 | I15: =HLOOKUP($B15,portieri!$AC$2:$AV$48,46,0) -> 18 | J15: =HLOOKUP($B15,portieri!$AC$2:$AV$48,47,0) -> 28 | L15: =HLOOKUP($B15,incroci!$AW$58:$BP$68,11,0) -> 94 | M15: =HLOOKUP($B15,portieri!$C$2:$V$43,41,0) -> 6.2631579 | N15: =HLOOKUP($B15,portieri!$C$63:$V$103,40,0) -> 6.375 | O15: =HLOOKUP($B15,portieri!$C$122:$V$162,40,0) -> 6.1 | P15: =HLOOKUP($B15,portieri!$AC$2:$AV$53,49,0) -> 25 | Q15: =HLOOKUP($B15,portieri!$AC$2:$AV$53,51,0) -> 7 | R15: =HLOOKUP($B15,portieri!$AC$2:$AV$53,52,0) -> 18 | T15: =D15-L15 -> 97.5 | U15: =(E15*38-M15*18)/20 -> 6.2381579 | V15: =(F15*38-N15*18)/20 -> 6.2625 | W15: =(G15*38-O15*18)/20 -> 6.26 | X15: =H15-P15 -> 21 | Y15: =I15-Q15 -> 11 | Z15: =J15-R15 -> 10
B16: LAZ-ROM | D16: =HLOOKUP($B16,incroci!$C$58:$V$70,13,0) -> 190 | E16: =HLOOKUP($B16,incroci!$C$44:$V$46,3,0) -> 6.0526316 | H16: =HLOOKUP($B16,incroci!$C$58:$V$67,2,0) -> 40 | L16: =HLOOKUP($B16,incroci!$C$58:$V$70,12,0) -> 94 | M16: =HLOOKUP($B16,incroci!$C$44:$V$46,2,0) -> 6.1578947 | P16: =HLOOKUP($B16,incroci!$C$58:$V$67,10,0) -> 23 | T16: =D16-L16 -> 96 | U16: =(E16*38-M16*18)/20 -> 5.9578947 | X16: =H16-P16 -> 17
B17: TOR-UDI | D17: =HLOOKUP($B17,incroci!$C$58:$V$70,13,0) -> 190 | E17: =HLOOKUP($B17,incroci!$C$44:$V$46,3,0) -> 6 | H17: =HLOOKUP($B17,incroci!$C$58:$V$67,2,0) -> 38 | L17: =HLOOKUP($B17,incroci!$C$58:$V$70,12,0) -> 92 | M17: =HLOOKUP($B17,incroci!$C$44:$V$46,2,0) -> 5.8947368 | P17: =HLOOKUP($B17,incroci!$C$58:$V$67,10,0) -> 20 | T17: =D17-L17 -> 98 | U17: =(E17*38-M17*18)/20 -> 6.0947368 | X17: =H17-P17 -> 18
B18: FIO-CAG | D18: =HLOOKUP($B18,incroci!$C$58:$V$70,13,0) -> 190 | E18: =HLOOKUP($B18,incroci!$C$44:$V$46,3,0) -> 6.1315789 | H18: =HLOOKUP($B18,incroci!$C$58:$V$67,2,0) -> 43 | L18: =HLOOKUP($B18,incroci!$C$58:$V$70,12,0) -> 94 | M18: =HLOOKUP($B18,incroci!$C$44:$V$46,2,0) -> 6.1052632 | P18: =HLOOKUP($B18,incroci!$C$58:$V$67,10,0) -> 22 | T18: =D18-L18 -> 96 | U18: =(E18*38-M18*18)/20 -> 6.1552632 | X18: =H18-P18 -> 21
B19: MIL | D19: =HLOOKUP($B19,incroci!$AW$58:$BP$67,10,0) -> 188.5 | E19: =HLOOKUP($B19,portieri!$C$2:$V$43,42,0) -> 5.9868421 | F19: =HLOOKUP($B19,portieri!$C$63:$V$103,41,0) -> 6 | G19: =HLOOKUP($B19,portieri!$C$122:$V$162,41,0) -> 5.9736842 | H19: =HLOOKUP($B19,portieri!$AC$2:$AV$43,42,0) -> 39 | I19: =HLOOKUP($B19,portieri!$AC$2:$AV$48,46,0) -> 15 | J19: =HLOOKUP($B19,portieri!$AC$2:$AV$48,47,0) -> 24 | L19: =HLOOKUP($B19,incroci!$AW$58:$BP$68,11,0) -> 81 | M19: =HLOOKUP($B19,portieri!$C$2:$V$43,41,0) -> 5.6842105 | N19: =HLOOKUP($B19,portieri!$C$63:$V$103,40,0) -> 5.7777778 | O19: =HLOOKUP($B19,portieri!$C$122:$V$162,40,0) -> 5.5 | P19: =HLOOKUP($B19,portieri!$AC$2:$AV$53,49,0) -> 27 | Q19: =HLOOKUP($B19,portieri!$AC$2:$AV$53,51,0) -> 9 | R19: =HLOOKUP($B19,portieri!$AC$2:$AV$53,52,0) -> 18 | T19: =D19-L19 -> 107.5 | U19: =(E19*38-M19*18)/20 -> 6.2592105 | V19: =(F19*38-N19*18)/20 -> 6.2 | W19: =(G19*38-O19*18)/20 -> 6.4 | X19: =H19-P19 -> 12 | Y19: =I19-Q19 -> 6 | Z19: =J19-R19 -> 6
B20: NAP-PAL | D20: =HLOOKUP($B20,incroci!$C$58:$V$70,13,0) -> 188.5 | E20: =HLOOKUP($B20,incroci!$C$44:$V$46,3,0) -> 6.0657895 | H20: =HLOOKUP($B20,incroci!$C$58:$V$67,2,0) -> 42 | L20: =HLOOKUP($B20,incroci!$C$58:$V$70,12,0) -> 94 | M20: =HLOOKUP($B20,incroci!$C$44:$V$46,2,0) -> 6.1052632 | P20: =HLOOKUP($B20,incroci!$C$58:$V$67,10,0) -> 22 | T20: =D20-L20 -> 94.5 | U20: =(E20*38-M20*18)/20 -> 6.0302632 | X20: =H20-P20 -> 20
B21: NAP-CAG | D21: =HLOOKUP($B21,incroci!$C$58:$V$70,13,0) -> 187 | E21: =HLOOKUP($B21,incroci!$C$44:$V$46,3,0) -> 6 | H21: =HLOOKUP($B21,incroci!$C$58:$V$67,2,0) -> 41 | L21: =HLOOKUP($B21,incroci!$C$58:$V$70,12,0) -> 90 | M21: =HLOOKUP($B21,incroci!$C$44:$V$46,2,0) -> 6 | P21: =HLOOKUP($B21,incroci!$C$58:$V$67,10,0) -> 24 | T21: =D21-L21 -> 97 | U21: =(E21*38-M21*18)/20 -> 6 | X21: =H21-P21 -> 17
B22: CAT | D22: =HLOOKUP($B22,incroci!$AW$58:$BP$67,10,0) -> 186.5 | E22: =HLOOKUP($B22,portieri!$C$2:$V$43,42,0) -> 6.1184211 | F22: =HLOOKUP($B22,portieri!$C$63:$V$103,41,0) -> 6.2368421 | G22: =HLOOKUP($B22,portieri!$C$122:$V$162,41,0) -> 6 | H22: =HLOOKUP($B22,portieri!$AC$2:$AV$43,42,0) -> 46 | I22: =HLOOKUP($B22,portieri!$AC$2:$AV$48,46,0) -> 15 | J22: =HLOOKUP($B22,portieri!$AC$2:$AV$48,47,0) -> 31 | L22: =HLOOKUP($B22,incroci!$AW$58:$BP$68,11,0) -> 88.5 | M22: =HLOOKUP($B22,portieri!$C$2:$V$43,41,0) -> 6.0789474 | N22: =HLOOKUP($B22,portieri!$C$63:$V$103,40,0) -> 6.3333333 | O22: =HLOOKUP($B22,portieri!$C$122:$V$162,40,0) -> 5.8333333 | P22: =HLOOKUP($B22,portieri!$AC$2:$AV$53,49,0) -> 27 | Q22: =HLOOKUP($B22,portieri!$AC$2:$AV$53,51,0) -> 9 | R22: =HLOOKUP($B22,portieri!$AC$2:$AV$53,52,0) -> 18 | T22: =D22-L22 -> 98 | U22: =(E22*38-M22*18)/20 -> 6.1539474 | V22: =(F22*38-N22*18)/20 -> 6.15 | W22: =(G22*38-O22*18)/20 -> 6.15 | X22: =H22-P22 -> 19 | Y22: =I22-Q22 -> 6 | Z22: =J22-R22 -> 13
B23: BOL-CHI | D23: =HLOOKUP($B23,incroci!$C$58:$V$70,13,0) -> 186.5 | E23: =HLOOKUP($B23,incroci!$C$44:$V$46,3,0) -> 5.9605263 | H23: =HLOOKUP($B23,incroci!$C$58:$V$67,2,0) -> 40 | L23: =HLOOKUP($B23,incroci!$C$58:$V$70,12,0) -> 91.5 | M23: =HLOOKUP($B23,incroci!$C$44:$V$46,2,0) -> 5.8684211 | P23: =HLOOKUP($B23,incroci!$C$58:$V$67,10,0) -> 20 | T23: =D23-L23 -> 95 | U23: =(E23*38-M23*18)/20 -> 6.0434211 | X23: =H23-P23 -> 20
B24: PAR-ROM | D24: =HLOOKUP($B24,incroci!$C$58:$V$70,13,0) -> 186.5 | E24: =HLOOKUP($B24,incroci!$C$44:$V$46,3,0) -> 6.0657895 | H24: =HLOOKUP($B24,incroci!$C$58:$V$67,2,0) -> 44 | L24: =HLOOKUP($B24,incroci!$C$58:$V$70,12,0) -> 95 | M24: =HLOOKUP($B24,incroci!$C$44:$V$46,2,0) -> 6.2105263 | P24: =HLOOKUP($B24,incroci!$C$58:$V$67,10,0) -> 23 | T24: =D24-L24 -> 91.5 | U24: =(E24*38-M24*18)/20 -> 5.9355263 | X24: =H24-P24 -> 21
B25: INT-MIL | D25: =HLOOKUP($B25,incroci!$C$58:$V$70,13,0) -> 185 | E25: =HLOOKUP($B25,incroci!$C$44:$V$46,3,0) -> 6.0789474 | H25: =HLOOKUP($B25,incroci!$C$58:$V$67,2,0) -> 46 | L25: =HLOOKUP($B25,incroci!$C$58:$V$70,12,0) -> 93.5 | M25: =HLOOKUP($B25,incroci!$C$44:$V$46,2,0) -> 6.0263158 | P25: =HLOOKUP($B25,incroci!$C$58:$V$67,10,0) -> 21 | T25: =D25-L25 -> 91.5 | U25: =(E25*38-M25*18)/20 -> 6.1263158 | X25: =H25-P25 -> 25
B26: UDI | D26: =HLOOKUP($B26,incroci!$AW$58:$BP$67,10,0) -> 184.5 | E26: =HLOOKUP($B26,portieri!$C$2:$V$43,42,0) -> 6.0394737 | F26: =HLOOKUP($B26,portieri!$C$63:$V$103,41,0) -> 5.9736842 | G26: =HLOOKUP($B26,portieri!$C$122:$V$162,41,0) -> 6.1052632 | H26: =HLOOKUP($B26,portieri!$AC$2:$AV$43,42,0) -> 45 | I26: =HLOOKUP($B26,portieri!$AC$2:$AV$48,46,0) -> 16 | J26: =HLOOKUP($B26,portieri!$AC$2:$AV$48,47,0) -> 29 | L26: =HLOOKUP($B26,incroci!$AW$58:$BP$68,11,0) -> 88.5 | M26: =HLOOKUP($B26,portieri!$C$2:$V$43,41,0) -> 6.0263158 | N26: =HLOOKUP($B26,portieri!$C$63:$V$103,40,0) -> 5.75 | O26: =HLOOKUP($B26,portieri!$C$122:$V$162,40,0) -> 6.15 | P26: =HLOOKUP($B26,portieri!$AC$2:$AV$53,49,0) -> 26 | Q26: =HLOOKUP($B26,portieri!$AC$2:$AV$53,51,0) -> 11 | R26: =HLOOKUP($B26,portieri!$AC$2:$AV$53,52,0) -> 15 | T26: =D26-L26 -> 96 | U26: =(E26*38-M26*18)/20 -> 6.0513158 | V26: =(F26*38-N26*18)/20 -> 6.175 | W26: =(G26*38-O26*18)/20 -> 6.065 | X26: =H26-P26 -> 19 | Y26: =I26-Q26 -> 5 | Z26: =J26-R26 -> 14
B27: NAP-ATA | D27: =HLOOKUP($B27,incroci!$C$58:$V$70,13,0) -> 184.5 | E27: =HLOOKUP($B27,incroci!$C$44:$V$46,3,0) -> 5.9605263 | H27: =HLOOKUP($B27,incroci!$C$58:$V$67,2,0) -> 42 | L27: =HLOOKUP($B27,incroci!$C$58:$V$70,12,0) -> 90 | M27: =HLOOKUP($B27,incroci!$C$44:$V$46,2,0) -> 5.9473684 | P27: =HLOOKUP($B27,incroci!$C$58:$V$67,10,0) -> 23 | T27: =D27-L27 -> 94.5 | U27: =(E27*38-M27*18)/20 -> 5.9723684 | X27: =H27-P27 -> 19
B28: BOL-MIL | D28: =HLOOKUP($B28,incroci!$C$58:$V$70,13,0) -> 184 | E28: =HLOOKUP($B28,incroci!$C$44:$V$46,3,0) -> 5.9210526 | H28: =HLOOKUP($B28,incroci!$C$58:$V$67,2,0) -> 41 | L28: =HLOOKUP($B28,incroci!$C$58:$V$70,12,0) -> 87.5 | M28: =HLOOKUP($B28,incroci!$C$44:$V$46,2,0) -> 5.7631579 | P28: =HLOOKUP($B28,incroci!$C$58:$V$67,10,0) -> 22 | T28: =D28-L28 -> 96.5 | U28: =(E28*38-M28*18)/20 -> 6.0631579 | X28: =H28-P28 -> 19
B29: CHI | D29: =HLOOKUP($B29,incroci!$AW$58:$BP$67,10,0) -> 182.5 | E29: =HLOOKUP($B29,portieri!$C$2:$V$43,42,0) -> 6.1710526 | F29: =HLOOKUP($B29,portieri!$C$63:$V$103,41,0) -> 6.2105263 | G29: =HLOOKUP($B29,portieri!$C$122:$V$162,41,0) -> 6.1315789 | H29: =HLOOKUP($B29,portieri!$AC$2:$AV$43,42,0) -> 52 | I29: =HLOOKUP($B29,portieri!$AC$2:$AV$48,46,0) -> 16 | J29: =HLOOKUP($B29,portieri!$AC$2:$AV$48,47,0) -> 36 | L29: =HLOOKUP($B29,incroci!$AW$58:$BP$68,11,0) -> 89.5 | M29: =HLOOKUP($B29,portieri!$C$2:$V$43,41,0) -> 6.2368421 | N29: =HLOOKUP($B29,portieri!$C$63:$V$103,40,0) -> 6.0555556 | O29: =HLOOKUP($B29,portieri!$C$122:$V$162,40,0) -> 6.3888889 | P29: =HLOOKUP($B29,portieri!$AC$2:$AV$53,49,0) -> 29 | Q29: =HLOOKUP($B29,portieri!$AC$2:$AV$53,51,0) -> 9 | R29: =HLOOKUP($B29,portieri!$AC$2:$AV$53,52,0) -> 20 | T29: =D29-L29 -> 93 | U29: =(E29*38-M29*18)/20 -> 6.1118421 | V29: =(F29*38-N29*18)/20 -> 6.35 | W29: =(G29*38-O29*18)/20 -> 5.9 | X29: =H29-P29 -> 23 | Y29: =I29-Q29 -> 7 | Z29: =J29-R29 -> 16
B30: FIO | D30: =HLOOKUP($B30,incroci!$AW$58:$BP$67,10,0) -> 182 | E30: =HLOOKUP($B30,portieri!$C$2:$V$43,42,0) -> 5.9473684 | F30: =HLOOKUP($B30,portieri!$C$63:$V$103,41,0) -> 6.1052632 | G30: =HLOOKUP($B30,portieri!$C$122:$V$162,41,0) -> 5.7894737 | H30: =HLOOKUP($B30,portieri!$AC$2:$AV$43,42,0) -> 44 | I30: =HLOOKUP($B30,portieri!$AC$2:$AV$48,46,0) -> 19 | J30: =HLOOKUP($B30,portieri!$AC$2:$AV$48,47,0) -> 25 | L30: =HLOOKUP($B30,incroci!$AW$58:$BP$68,11,0) -> 94.5 | M30: =HLOOKUP($B30,portieri!$C$2:$V$43,41,0) -> 6.0789474 | N30: =HLOOKUP($B30,portieri!$C$63:$V$103,40,0) -> 6.1111111 | O30: =HLOOKUP($B30,portieri!$C$122:$V$162,40,0) -> 6.0555556 | P30: =HLOOKUP($B30,portieri!$AC$2:$AV$53,49,0) -> 21 | Q30: =HLOOKUP($B30,portieri!$AC$2:$AV$53,51,0) -> 8 | R30: =HLOOKUP($B30,portieri!$AC$2:$AV$53,52,0) -> 13 | T30: =D30-L30 -> 87.5 | U30: =(E30*38-M30*18)/20 -> 5.8289474 | V30: =(F30*38-N30*18)/20 -> 6.1 | W30: =(G30*38-O30*18)/20 -> 5.55 | X30: =H30-P30 -> 23 | Y30: =I30-Q30 -> 11 | Z30: =J30-R30 -> 12
B31: UDI-ROM | D31: =HLOOKUP($B31,incroci!$C$58:$V$70,13,0) -> 182 | E31: =HLOOKUP($B31,incroci!$C$44:$V$46,3,0) -> 5.9210526 | H31: =HLOOKUP($B31,incroci!$C$58:$V$67,2,0) -> 43 | L31: =HLOOKUP($B31,incroci!$C$58:$V$70,12,0) -> 82 | M31: =HLOOKUP($B31,incroci!$C$44:$V$46,2,0) -> 5.8947368 | P31: =HLOOKUP($B31,incroci!$C$58:$V$67,10,0) -> 30 | T31: =D31-L31 -> 100 | U31: =(E31*38-M31*18)/20 -> 5.9447368 | X31: =H31-P31 -> 13
B32: INT | D32: =HLOOKUP($B32,incroci!$AW$58:$BP$67,10,0) -> 181.5 | E32: =HLOOKUP($B32,portieri!$C$2:$V$43,42,0) -> 6.2763158 | F32: =HLOOKUP($B32,portieri!$C$63:$V$103,41,0) -> 6.1578947 | G32: =HLOOKUP($B32,portieri!$C$122:$V$162,41,0) -> 6.3947368 | H32: =HLOOKUP($B32,portieri!$AC$2:$AV$43,42,0) -> 57 | I32: =HLOOKUP($B32,portieri!$AC$2:$AV$48,46,0) -> 31 | J32: =HLOOKUP($B32,portieri!$AC$2:$AV$48,47,0) -> 26 | L32: =HLOOKUP($B32,incroci!$AW$58:$BP$68,11,0) -> 98 | M32: =HLOOKUP($B32,portieri!$C$2:$V$43,41,0) -> 6.3157895 | N32: =HLOOKUP($B32,portieri!$C$63:$V$103,40,0) -> 6.2222222 | O32: =HLOOKUP($B32,portieri!$C$122:$V$162,40,0) -> 6.5 | P32: =HLOOKUP($B32,portieri!$AC$2:$AV$53,49,0) -> 22 | Q32: =HLOOKUP($B32,portieri!$AC$2:$AV$53,51,0) -> 12 | R32: =HLOOKUP($B32,portieri!$AC$2:$AV$53,52,0) -> 10 | T32: =D32-L32 -> 83.5 | U32: =(E32*38-M32*18)/20 -> 6.2407895 | V32: =(F32*38-N32*18)/20 -> 6.1 | W32: =(G32*38-O32*18)/20 -> 6.3 | X32: =H32-P32 -> 35 | Y32: =I32-Q32 -> 19 | Z32: =J32-R32 -> 16
B33: SIE | D33: =HLOOKUP($B33,incroci!$AW$58:$BP$67,10,0) -> 180.5 | E33: =HLOOKUP($B33,portieri!$C$2:$V$43,42,0) -> 6.25 | F33: =HLOOKUP($B33,portieri!$C$63:$V$103,41,0) -> 6.3947368 | G33: =HLOOKUP($B33,portieri!$C$122:$V$162,41,0) -> 6.1052632 | H33: =HLOOKUP($B33,portieri!$AC$2:$AV$43,42,0) -> 57 | I33: =HLOOKUP($B33,portieri!$AC$2:$AV$48,46,0) -> 19 | J33: =HLOOKUP($B33,portieri!$AC$2:$AV$48,47,0) -> 38 | L33: =HLOOKUP($B33,incroci!$AW$58:$BP$68,11,0) -> 91.5 | M33: =HLOOKUP($B33,portieri!$C$2:$V$43,41,0) -> 6.2894737 | N33: =HLOOKUP($B33,portieri!$C$63:$V$103,40,0) -> 6.35 | O33: =HLOOKUP($B33,portieri!$C$122:$V$162,40,0) -> 6.25 | P33: =HLOOKUP($B33,portieri!$AC$2:$AV$53,49,0) -> 28 | Q33: =HLOOKUP($B33,portieri!$AC$2:$AV$53,51,0) -> 12 | R33: =HLOOKUP($B33,portieri!$AC$2:$AV$53,52,0) -> 16 | T33: =D33-L33 -> 89 | U33: =(E33*38-M33*18)/20 -> 6.2144737 | V33: =(F33*38-N33*18)/20 -> 6.435 | W33: =(G33*38-O33*18)/20 -> 5.975 | X33: =H33-P33 -> 29 | Y33: =I33-Q33 -> 7 | Z33: =J33-R33 -> 22
B34: CAG | D34: =HLOOKUP($B34,incroci!$AW$58:$BP$67,10,0) -> 180.5 | E34: =HLOOKUP($B34,portieri!$C$2:$V$43,42,0) -> 6.1973684 | F34: =HLOOKUP($B34,portieri!$C$63:$V$103,41,0) -> 6.1578947 | G34: =HLOOKUP($B34,portieri!$C$122:$V$162,41,0) -> 6.2368421 | H34: =HLOOKUP($B34,portieri!$AC$2:$AV$43,42,0) -> 55 | I34: =HLOOKUP($B34,portieri!$AC$2:$AV$48,46,0) -> 24 | J34: =HLOOKUP($B34,portieri!$AC$2:$AV$48,47,0) -> 31 | L34: =HLOOKUP($B34,incroci!$AW$58:$BP$68,11,0) -> 80.5 | M34: =HLOOKUP($B34,portieri!$C$2:$V$43,41,0) -> 6.0789474 | N34: =HLOOKUP($B34,portieri!$C$63:$V$103,40,0) -> 6.1111111 | O34: =HLOOKUP($B34,portieri!$C$122:$V$162,40,0) -> 6.1111111 | P34: =HLOOKUP($B34,portieri!$AC$2:$AV$53,49,0) -> 35 | Q34: =HLOOKUP($B34,portieri!$AC$2:$AV$53,51,0) -> 14 | R34: =HLOOKUP($B34,portieri!$AC$2:$AV$53,52,0) -> 21 | T34: =D34-L34 -> 100 | U34: =(E34*38-M34*18)/20 -> 6.3039474 | V34: =(F34*38-N34*18)/20 -> 6.2 | W34: =(G34*38-O34*18)/20 -> 6.35 | X34: =H34-P34 -> 20 | Y34: =I34-Q34 -> 10 | Z34: =J34-R34 -> 10
B35: FIO-ATA | D35: =HLOOKUP($B35,incroci!$C$58:$V$70,13,0) -> 180.5 | E35: =HLOOKUP($B35,incroci!$C$44:$V$46,3,0) -> 5.9605263 | H35: =HLOOKUP($B35,incroci!$C$58:$V$67,2,0) -> 46 | L35: =HLOOKUP($B35,incroci!$C$58:$V$70,12,0) -> 93.5 | M35: =HLOOKUP($B35,incroci!$C$44:$V$46,2,0) -> 6.0263158 | P35: =HLOOKUP($B35,incroci!$C$58:$V$67,10,0) -> 21 | T35: =D35-L35 -> 87 | U35: =(E35*38-M35*18)/20 -> 5.9013158 | X35: =H35-P35 -> 25
B36: GEN | D36: =HLOOKUP($B36,incroci!$AW$58:$BP$67,10,0) -> 180 | E36: =HLOOKUP($B36,portieri!$C$2:$V$43,42,0) -> 6.1052632 | F36: =HLOOKUP($B36,portieri!$C$63:$V$103,41,0) -> 6.0526316 | G36: =HLOOKUP($B36,portieri!$C$122:$V$162,41,0) -> 6.1578947 | H36: =HLOOKUP($B36,portieri!$AC$2:$AV$43,42,0) -> 52 | I36: =HLOOKUP($B36,portieri!$AC$2:$AV$48,46,0) -> 30 | J36: =HLOOKUP($B36,portieri!$AC$2:$AV$48,47,0) -> 22 | L36: =HLOOKUP($B36,incroci!$AW$58:$BP$68,11,0) -> 86.5 | M36: =HLOOKUP($B36,portieri!$C$2:$V$43,41,0) -> 6.1315789 | N36: =HLOOKUP($B36,portieri!$C$63:$V$103,40,0) -> 6.0555556 | O36: =HLOOKUP($B36,portieri!$C$122:$V$162,40,0) -> 6.1666667 | P36: =HLOOKUP($B36,portieri!$AC$2:$AV$53,49,0) -> 30 | Q36: =HLOOKUP($B36,portieri!$AC$2:$AV$53,51,0) -> 19 | R36: =HLOOKUP($B36,portieri!$AC$2:$AV$53,52,0) -> 11 | T36: =D36-L36 -> 93.5 | U36: =(E36*38-M36*18)/20 -> 6.0815789 | V36: =(F36*38-N36*18)/20 -> 6.05 | W36: =(G36*38-O36*18)/20 -> 6.15 | X36: =H36-P36 -> 22 | Y36: =I36-Q36 -> 11 | Z36: =J36-R36 -> 11
B37: GEN-SAM | D37: =HLOOKUP($B37,incroci!$C$58:$V$70,13,0) -> 178.5 | E37: =HLOOKUP($B37,incroci!$C$44:$V$46,3,0) -> 6.0657895 | H37: =HLOOKUP($B37,incroci!$C$58:$V$67,2,0) -> 52 | L37: =HLOOKUP($B37,incroci!$C$58:$V$70,12,0) -> 88 | M37: =HLOOKUP($B37,incroci!$C$44:$V$46,2,0) -> 6.1578947 | P37: =HLOOKUP($B37,incroci!$C$58:$V$67,10,0) -> 29 | T37: =D37-L37 -> 90.5 | U37: =(E37*38-M37*18)/20 -> 5.9828947 | X37: =H37-P37 -> 23
B38: TOR | D38: =HLOOKUP($B38,incroci!$AW$58:$BP$67,10,0) -> 177 | E38: =HLOOKUP($B38,portieri!$C$2:$V$43,42,0) -> 6.1052632 | F38: =HLOOKUP($B38,portieri!$C$63:$V$103,41,0) -> 6.0263158 | G38: =HLOOKUP($B38,portieri!$C$122:$V$162,41,0) -> 6.1842105 | H38: =HLOOKUP($B38,portieri!$AC$2:$AV$43,42,0) -> 55 | I38: =HLOOKUP($B38,portieri!$AC$2:$AV$48,46,0) -> 26 | J38: =HLOOKUP($B38,portieri!$AC$2:$AV$48,47,0) -> 29 | L38: =HLOOKUP($B38,incroci!$AW$58:$BP$68,11,0) -> 95.5 | M38: =HLOOKUP($B38,portieri!$C$2:$V$43,41,0) -> 6.1842105 | N38: =HLOOKUP($B38,portieri!$C$63:$V$103,40,0) -> 5.9444444 | O38: =HLOOKUP($B38,portieri!$C$122:$V$162,40,0) -> 6.3333333 | P38: =HLOOKUP($B38,portieri!$AC$2:$AV$53,49,0) -> 22 | Q38: =HLOOKUP($B38,portieri!$AC$2:$AV$53,51,0) -> 12 | R38: =HLOOKUP($B38,portieri!$AC$2:$AV$53,52,0) -> 10 | T38: =D38-L38 -> 81.5 | U38: =(E38*38-M38*18)/20 -> 6.0342105 | V38: =(F38*38-N38*18)/20 -> 6.1 | W38: =(G38*38-O38*18)/20 -> 6.05 | X38: =H38-P38 -> 33 | Y38: =I38-Q38 -> 14 | Z38: =J38-R38 -> 19
B39: ATA | D39: =HLOOKUP($B39,incroci!$AW$58:$BP$67,10,0) -> 176 | E39: =HLOOKUP($B39,portieri!$C$2:$V$43,42,0) -> 6.1052632 | F39: =HLOOKUP($B39,portieri!$C$63:$V$103,41,0) -> 5.9473684 | G39: =HLOOKUP($B39,portieri!$C$122:$V$162,41,0) -> 6.2631579 | H39: =HLOOKUP($B39,portieri!$AC$2:$AV$43,42,0) -> 56 | I39: =HLOOKUP($B39,portieri!$AC$2:$AV$48,46,0) -> 24 | J39: =HLOOKUP($B39,portieri!$AC$2:$AV$48,47,0) -> 32 | L39: =HLOOKUP($B39,incroci!$AW$58:$BP$68,11,0) -> 88 | M39: =HLOOKUP($B39,portieri!$C$2:$V$43,41,0) -> 6.1052632 | N39: =HLOOKUP($B39,portieri!$C$63:$V$103,40,0) -> 6 | O39: =HLOOKUP($B39,portieri!$C$122:$V$162,40,0) -> 6.2222222 | P39: =HLOOKUP($B39,portieri!$AC$2:$AV$53,49,0) -> 28 | Q39: =HLOOKUP($B39,portieri!$AC$2:$AV$53,51,0) -> 12 | R39: =HLOOKUP($B39,portieri!$AC$2:$AV$53,52,0) -> 16 | T39: =D39-L39 -> 88 | U39: =(E39*38-M39*18)/20 -> 6.1052632 | V39: =(F39*38-N39*18)/20 -> 5.9 | W39: =(G39*38-O39*18)/20 -> 6.3 | X39: =H39-P39 -> 28 | Y39: =I39-Q39 -> 12 | Z39: =J39-R39 -> 16
B40: BOL | D40: =HLOOKUP($B40,incroci!$AW$58:$BP$67,10,0) -> 176 | E40: =HLOOKUP($B40,portieri!$C$2:$V$43,42,0) -> 6 | F40: =HLOOKUP($B40,portieri!$C$63:$V$103,41,0) -> 5.7105263 | G40: =HLOOKUP($B40,portieri!$C$122:$V$162,41,0) -> 6.2894737 | H40: =HLOOKUP($B40,portieri!$AC$2:$AV$43,42,0) -> 52 | I40: =HLOOKUP($B40,portieri!$AC$2:$AV$48,46,0) -> 24 | J40: =HLOOKUP($B40,portieri!$AC$2:$AV$48,47,0) -> 28 | L40: =HLOOKUP($B40,incroci!$AW$58:$BP$68,11,0) -> 85.5 | M40: =HLOOKUP($B40,portieri!$C$2:$V$43,41,0) -> 5.8684211 | N40: =HLOOKUP($B40,portieri!$C$63:$V$103,40,0) -> 5.6111111 | O40: =HLOOKUP($B40,portieri!$C$122:$V$162,40,0) -> 6.1111111 | P40: =HLOOKUP($B40,portieri!$AC$2:$AV$53,49,0) -> 26 | Q40: =HLOOKUP($B40,portieri!$AC$2:$AV$53,51,0) -> 11 | R40: =HLOOKUP($B40,portieri!$AC$2:$AV$53,52,0) -> 15 | T40: =D40-L40 -> 90.5 | U40: =(E40*38-M40*18)/20 -> 6.1184211 | V40: =(F40*38-N40*18)/20 -> 5.8 | W40: =(G40*38-O40*18)/20 -> 6.45 | X40: =H40-P40 -> 26 | Y40: =I40-Q40 -> 13 | Z40: =J40-R40 -> 13
B41: SAM | D41: =HLOOKUP($B41,incroci!$AW$58:$BP$67,10,0) -> 174.5 | E41: =HLOOKUP($B41,portieri!$C$2:$V$43,42,0) -> 5.9342105 | F41: =HLOOKUP($B41,portieri!$C$63:$V$103,41,0) -> 6.0789474 | G41: =HLOOKUP($B41,portieri!$C$122:$V$162,41,0) -> 5.7894737 | H41: =HLOOKUP($B41,portieri!$AC$2:$AV$43,42,0) -> 51 | I41: =HLOOKUP($B41,portieri!$AC$2:$AV$48,46,0) -> 22 | J41: =HLOOKUP($B41,portieri!$AC$2:$AV$48,47,0) -> 29 | L41: =HLOOKUP($B41,incroci!$AW$58:$BP$68,11,0) -> 85.5 | M41: =HLOOKUP($B41,portieri!$C$2:$V$43,41,0) -> 5.9736842 | N41: =HLOOKUP($B41,portieri!$C$63:$V$103,40,0) -> 6.2222222 | O41: =HLOOKUP($B41,portieri!$C$122:$V$162,40,0) -> 5.6666667 | P41: =HLOOKUP($B41,portieri!$AC$2:$AV$53,49,0) -> 28 | Q41: =HLOOKUP($B41,portieri!$AC$2:$AV$53,51,0) -> 10 | R41: =HLOOKUP($B41,portieri!$AC$2:$AV$53,52,0) -> 18 | T41: =D41-L41 -> 89 | U41: =(E41*38-M41*18)/20 -> 5.8986842 | V41: =(F41*38-N41*18)/20 -> 5.95 | W41: =(G41*38-O41*18)/20 -> 5.9 | X41: =H41-P41 -> 23 | Y41: =I41-Q41 -> 12 | Z41: =J41-R41 -> 11
B42: BOL-GEN | D42: =HLOOKUP($B42,incroci!$C$58:$V$70,13,0) -> 174 | E42: =HLOOKUP($B42,incroci!$C$44:$V$46,3,0) -> 5.9210526 | H42: =HLOOKUP($B42,incroci!$C$58:$V$67,2,0) -> 51 | L42: =HLOOKUP($B42,incroci!$C$58:$V$70,12,0) -> 85.5 | M42: =HLOOKUP($B42,incroci!$C$44:$V$46,2,0) -> 5.9210526 | P42: =HLOOKUP($B42,incroci!$C$58:$V$67,10,0) -> 27 | T42: =D42-L42 -> 88.5 | U42: =(E42*38-M42*18)/20 -> 5.9210526 | X42: =H42-P42 -> 24
...

Sheet ordine tot
B2: PORTIERI | D2: MV | E2: MV | F2: MV | G2: GOL | H2: sub | I2: sub | M2: totale | S2: casa | Y2: fuori
C3: PUNTI | D3: tot | E3: casa | F3: fuori | G3: sub | H3: casa | I3: fuori | J3: i | K3: <5 | L3: 5.5 | M3: 6 | N3: 6.5 | O3: >7 | P3: i | Q3: <5 | R3: 5.5 | S3: 6 | T3: 6.5 | U3: >7 | V3: i | W3: <5 | X3: 5.5 | Y3: 6 | Z3: 6.5 | AA3: >7
B4: JUV | C4: =VLOOKUP($B4,'ordine conf'!$B:$K,3,0) -> 208.5 | D4: =VLOOKUP($B4,'ordine conf'!$B:$K,4,0) -> 6.1184211 | E4: =VLOOKUP($B4,'ordine conf'!$B:$K,5,0) -> 6.0263158 | F4: =VLOOKUP($B4,'ordine conf'!$B:$K,6,0) -> 6.2105263 | G4: =VLOOKUP($B4,'ordine conf'!$B:$K,7,0) -> 24 | H4: =VLOOKUP($B4,'ordine conf'!$B:$K,8,0) -> 10 | I4: =VLOOKUP($B4,'ordine conf'!$B:$K,9,0) -> 14 | K4: =IF(HLOOKUP($B4,portieri!$C$53:$V$60,K$47,0)>0,HLOOKUP($B4,portieri!$C$53:$V$60,K$47,0),"") -> 1 | L4: =IF(HLOOKUP($B4,portieri!$C$53:$V$60,L$47,0)>0,HLOOKUP($B4,portieri!$C$53:$V$60,L$47,0),"") -> 3 | M4: =IF(HLOOKUP($B4,portieri!$C$53:$V$60,M$47,0)>0,HLOOKUP($B4,portieri!$C$53:$V$60,M$47,0),"") -> 23 | N4: =IF(HLOOKUP($B4,portieri!$C$53:$V$60,N$47,0)>0,HLOOKUP($B4,portieri!$C$53:$V$60,N$47,0),"") -> 7 | O4: =IF(HLOOKUP($B4,portieri!$C$53:$V$60,O$47,0)>0,HLOOKUP($B4,portieri!$C$53:$V$60,O$47,0),"") -> 4 | Q4: =IF(HLOOKUP($B4,portieri!$C$113:$V$120,Q$47,0)>0,HLOOKUP($B4,portieri!$C$113:$V$120,Q$47,0),0) -> 1 | R4: =IF(HLOOKUP($B4,portieri!$C$113:$V$120,R$47,0)>0,HLOOKUP($B4,portieri!$C$113:$V$120,R$47,0),0) -> 1 | S4: =IF(HLOOKUP($B4,portieri!$C$113:$V$120,S$47,0)>0,HLOOKUP($B4,portieri!$C$113:$V$120,S$47,0),0) -> 13 | T4: =IF(HLOOKUP($B4,portieri!$C$113:$V$120,T$47,0)>0,HLOOKUP($B4,portieri!$C$113:$V$120,T$47,0),0) -> 3 | U4: =IF(HLOOKUP($B4,portieri!$C$113:$V$120,U$47,0)>0,HLOOKUP($B4,portieri!$C$113:$V$120,U$47,0),0) -> 1 | W4: =IF(HLOOKUP($B4,portieri!$C$172:$V$179,W$47,0)>0,HLOOKUP($B4,portieri!$C$172:$V$179,W$47,0),0) -> 0 | X4: =IF(HLOOKUP($B4,portieri!$C$172:$V$179,X$47,0)>0,HLOOKUP($B4,portieri!$C$172:$V$179,X$47,0),0) -> 2 | Y4: =IF(HLOOKUP($B4,portieri!$C$172:$V$179,Y$47,0)>0,HLOOKUP($B4,portieri!$C$172:$V$179,Y$47,0),0) -> 10 | Z4: =IF(HLOOKUP($B4,portieri!$C$172:$V$179,Z$47,0)>0,HLOOKUP($B4,portieri!$C$172:$V$179,Z$47,0),0) -> 4 | AA4: =IF(HLOOKUP($B4,portieri!$C$172:$V$179,AA$47,0)>0,HLOOKUP($B4,portieri!$C$172:$V$179,AA$47,0),0) -> 3 | AD4: =SUM(K4:O4) -> 38 | AE4: =SUM(Q4:U4) -> 19 | AF4: =SUM(W4:AA4) -> 19
B5: LAZ-SIE | C5: =VLOOKUP($B5,'ordine conf'!$B:$K,3,0) -> 207.5 | D5: =VLOOKUP($B5,'ordine conf'!$B:$K,4,0) -> 6.3026316 | G5: =VLOOKUP($B5,'ordine conf'!$B:$K,7,0) -> 32 | K5: =IF(HLOOKUP($B5,incroci!$C$58:$V$64,K$47,0)>0,HLOOKUP($B5,incroci!$C$58:$V$64,K$47,0),0) -> 2 | L5: =IF(HLOOKUP($B5,incroci!$C$58:$V$64,L$47,0)>0,HLOOKUP($B5,incroci!$C$58:$V$64,L$47,0),0) -> 2 | M5: =IF(HLOOKUP($B5,incroci!$C$58:$V$64,M$47,0)>0,HLOOKUP($B5,incroci!$C$58:$V$64,M$47,0),0) -> 14 | N5: =IF(HLOOKUP($B5,incroci!$C$58:$V$64,N$47,0)>0,HLOOKUP($B5,incroci!$C$58:$V$64,N$47,0),0) -> 12 | O5: =IF(HLOOKUP($B5,incroci!$C$58:$V$64,O$47,0)>0,HLOOKUP($B5,incroci!$C$58:$V$64,O$47,0),0) -> 8 | AD5: =SUM(K5:O5) -> 38 | AE5: =SUM(Q5:U5) -> 0 | AF5: =SUM(W5:AA5) -> 0
B6: PAR-SIE | C6: =VLOOKUP($B6,'ordine conf'!$B:$K,3,0) -> 204.5 | D6: =VLOOKUP($B6,'ordine conf'!$B:$K,4,0) -> 6.3552632 | G6: =VLOOKUP($B6,'ordine conf'!$B:$K,7,0) -> 37 | K6: =IF(HLOOKUP($B6,incroci!$C$58:$V$64,K$47,0)>0,HLOOKUP($B6,incroci!$C$58:$V$64,K$47,0),0) -> 3 | L6: =IF(HLOOKUP($B6,incroci!$C$58:$V$64,L$47,0)>0,HLOOKUP($B6,incroci!$C$58:$V$64,L$47,0),0) -> 0 | M6: =IF(HLOOKUP($B6,incroci!$C$58:$V$64,M$47,0)>0,HLOOKUP($B6,incroci!$C$58:$V$64,M$47,0),0) -> 12 | N6: =IF(HLOOKUP($B6,incroci!$C$58:$V$64,N$47,0)>0,HLOOKUP($B6,incroci!$C$58:$V$64,N$47,0),0) -> 15 | O6: =IF(HLOOKUP($B6,incroci!$C$58:$V$64,O$47,0)>0,HLOOKUP($B6,incroci!$C$58:$V$64,O$47,0),0) -> 8 | AD6: =SUM(K6:O6) -> 38 | AE6: =SUM(Q6:U6) -> 0 | AF6: =SUM(W6:AA6) -> 0
B7: LAZ | C7: =VLOOKUP($B7,'ordine conf'!$B:$K,3,0) -> 196 | D7: =VLOOKUP($B7,'ordine conf'!$B:$K,4,0) -> 6.2631579 | E7: =VLOOKUP($B7,'ordine conf'!$B:$K,5,0) -> 6.2368421 | F7: =VLOOKUP($B7,'ordine conf'!$B:$K,6,0) -> 6.2894737 | G7: =VLOOKUP($B7,'ordine conf'!$B:$K,7,0) -> 42 | H7: =VLOOKUP($B7,'ordine conf'!$B:$K,8,0) -> 16 | I7: =VLOOKUP($B7,'ordine conf'!$B:$K,9,0) -> 26 | K7: =IF(HLOOKUP($B7,portieri!$C$53:$V$60,K$47,0)>0,HLOOKUP($B7,portieri!$C$53:$V$60,K$47,0),"") -> 3 | L7: =IF(HLOOKUP($B7,portieri!$C$53:$V$60,L$47,0)>0,HLOOKUP($B7,portieri!$C$53:$V$60,L$47,0),"") -> 3 | M7: =IF(HLOOKUP($B7,portieri!$C$53:$V$60,M$47,0)>0,HLOOKUP($B7,portieri!$C$53:$V$60,M$47,0),"") -> 12 | N7: =IF(HLOOKUP($B7,portieri!$C$53:$V$60,N$47,0)>0,HLOOKUP($B7,portieri!$C$53:$V$60,N$47,0),"") -> 13 | O7: =IF(HLOOKUP($B7,portieri!$C$53:$V$60,O$47,0)>0,HLOOKUP($B7,portieri!$C$53:$V$60,O$47,0),"") -> 7 | Q7: =IF(HLOOKUP($B7,portieri!$C$113:$V$120,Q$47,0)>0,HLOOKUP($B7,portieri!$C$113:$V$120,Q$47,0),0) -> 1 | R7: =IF(HLOOKUP($B7,portieri!$C$113:$V$120,R$47,0)>0,HLOOKUP($B7,portieri!$C$113:$V$120,R$47,0),0) -> 2 | S7: =IF(HLOOKUP($B7,portieri!$C$113:$V$120,S$47,0)>0,HLOOKUP($B7,portieri!$C$113:$V$120,S$47,0),0) -> 7 | T7: =IF(HLOOKUP($B7,portieri!$C$113:$V$120,T$47,0)>0,HLOOKUP($B7,portieri!$C$113:$V$120,T$47,0),0) -> 5 | U7: =IF(HLOOKUP($B7,portieri!$C$113:$V$120,U$47,0)>0,HLOOKUP($B7,portieri!$C$113:$V$120,U$47,0),0) -> 4 | W7: =IF(HLOOKUP($B7,portieri!$C$172:$V$179,W$47,0)>0,HLOOKUP($B7,portieri!$C$172:$V$179,W$47,0),0) -> 2 | X7: =IF(HLOOKUP($B7,portieri!$C$172:$V$179,X$47,0)>0,HLOOKUP($B7,portieri!$C$172:$V$179,X$47,0),0) -> 1 | Y7: =IF(HLOOKUP($B7,portieri!$C$172:$V$179,Y$47,0)>0,HLOOKUP($B7,portieri!$C$172:$V$179,Y$47,0),0) -> 5 | Z7: =IF(HLOOKUP($B7,portieri!$C$172:$V$179,Z$47,0)>0,HLOOKUP($B7,portieri!$C$172:$V$179,Z$47,0),0) -> 8 | AA7: =IF(HLOOKUP($B7,portieri!$C$172:$V$179,AA$47,0)>0,HLOOKUP($B7,portieri!$C$172:$V$179,AA$47,0),0) -> 3 | AD7: =SUM(K7:O7) -> 38 | AE7: =SUM(Q7:U7) -> 19 | AF7: =SUM(W7:AA7) -> 19
B8: CAT-PAL | C8: =VLOOKUP($B8,'ordine conf'!$B:$K,3,0) -> 193.5 | D8: =VLOOKUP($B8,'ordine conf'!$B:$K,4,0) -> 6.1710526 | G8: =VLOOKUP($B8,'ordine conf'!$B:$K,7,0) -> 41 | K8: =IF(HLOOKUP($B8,incroci!$C$58:$V$64,K$47,0)>0,HLOOKUP($B8,incroci!$C$58:$V$64,K$47,0),0) -> 3 | L8: =IF(HLOOKUP($B8,incroci!$C$58:$V$64,L$47,0)>0,HLOOKUP($B8,incroci!$C$58:$V$64,L$47,0),0) -> 5 | M8: =IF(HLOOKUP($B8,incroci!$C$58:$V$64,M$47,0)>0,HLOOKUP($B8,incroci!$C$58:$V$64,M$47,0),0) -> 13 | N8: =IF(HLOOKUP($B8,incroci!$C$58:$V$64,N$47,0)>0,HLOOKUP($B8,incroci!$C$58:$V$64,N$47,0),0) -> 12 | O8: =IF(HLOOKUP($B8,incroci!$C$58:$V$64,O$47,0)>0,HLOOKUP($B8,incroci!$C$58:$V$64,O$47,0),0) -> 5 | AD8: =SUM(K8:O8) -> 38 | AE8: =SUM(Q8:U8) -> 0 | AF8: =SUM(W8:AA8) -> 0
B9: SAM-CHI | C9: =VLOOKUP($B9,'ordine conf'!$B:$K,3,0) -> 193 | D9: =VLOOKUP($B9,'ordine conf'!$B:$K,4,0) -> 6.1315789 | G9: =VLOOKUP($B9,'ordine conf'!$B:$K,7,0) -> 40 | K9: =IF(HLOOKUP($B9,incroci!$C$58:$V$64,K$47,0)>0,HLOOKUP($B9,incroci!$C$58:$V$64,K$47,0),0) -> 3 | L9: =IF(HLOOKUP($B9,incroci!$C$58:$V$64,L$47,0)>0,HLOOKUP($B9,incroci!$C$58:$V$64,L$47,0),0) -> 4 | M9: =IF(HLOOKUP($B9,incroci!$C$58:$V$64,M$47,0)>0,HLOOKUP($B9,incroci!$C$58:$V$64,M$47,0),0) -> 16 | N9: =IF(HLOOKUP($B9,incroci!$C$58:$V$64,N$47,0)>0,HLOOKUP($B9,incroci!$C$58:$V$64,N$47,0),0) -> 11 | O9: =IF(HLOOKUP($B9,incroci!$C$58:$V$64,O$47,0)>0,HLOOKUP($B9,incroci!$C$58:$V$64,O$47,0),0) -> 4 | AD9: =SUM(K9:O9) -> 38 | AE9: =SUM(Q9:U9) -> 0 | AF9: =SUM(W9:AA9) -> 0
B10: ATA-CAT | C10: =VLOOKUP($B10,'ordine conf'!$B:$K,3,0) -> 193 | D10: =VLOOKUP($B10,'ordine conf'!$B:$K,4,0) -> 6.1052632 | G10: =VLOOKUP($B10,'ordine conf'!$B:$K,7,0) -> 39 | K10: =IF(HLOOKUP($B10,incroci!$C$58:$V$64,K$47,0)>0,HLOOKUP($B10,incroci!$C$58:$V$64,K$47,0),0) -> 3 | L10: =IF(HLOOKUP($B10,incroci!$C$58:$V$64,L$47,0)>0,HLOOKUP($B10,incroci!$C$58:$V$64,L$47,0),0) -> 4 | M10: =IF(HLOOKUP($B10,incroci!$C$58:$V$64,M$47,0)>0,HLOOKUP($B10,incroci!$C$58:$V$64,M$47,0),0) -> 18 | N10: =IF(HLOOKUP($B10,incroci!$C$58:$V$64,N$47,0)>0,HLOOKUP($B10,incroci!$C$58:$V$64,N$47,0),0) -> 10 | O10: =IF(HLOOKUP($B10,incroci!$C$58:$V$64,O$47,0)>0,HLOOKUP($B10,incroci!$C$58:$V$64,O$47,0),0) -> 3 | AD10: =SUM(K10:O10) -> 38 | AE10: =SUM(Q10:U10) -> 0 | AF10: =SUM(W10:AA10) -> 0
B11: JUV-TOR | C11: =VLOOKUP($B11,'ordine conf'!$B:$K,3,0) -> 193 | D11: =VLOOKUP($B11,'ordine conf'!$B:$K,4,0) -> 6.0263158 | G11: =VLOOKUP($B11,'ordine conf'!$B:$K,7,0) -> 36 | K11: =IF(HLOOKUP($B11,incroci!$C$58:$V$64,K$47,0)>0,HLOOKUP($B11,incroci!$C$58:$V$64,K$47,0),0) -> 2 | L11: =IF(HLOOKUP($B11,incroci!$C$58:$V$64,L$47,0)>0,HLOOKUP($B11,incroci!$C$58:$V$64,L$47,0),0) -> 2 | M11: =IF(HLOOKUP($B11,incroci!$C$58:$V$64,M$47,0)>0,HLOOKUP($B11,incroci!$C$58:$V$64,M$47,0),0) -> 26 | N11: =IF(HLOOKUP($B11,incroci!$C$58:$V$64,N$47,0)>0,HLOOKUP($B11,incroci!$C$58:$V$64,N$47,0),0) -> 6 | O11: =IF(HLOOKUP($B11,incroci!$C$58:$V$64,O$47,0)>0,HLOOKUP($B11,incroci!$C$58:$V$64,O$47,0),0) -> 2 | AD11: =SUM(K11:O11) -> 38 | AE11: =SUM(Q11:U11) -> 0 | AF11: =SUM(W11:AA11) -> 0
B12: NAP | C12: =VLOOKUP($B12,'ordine conf'!$B:$K,3,0) -> 192 | D12: =VLOOKUP($B12,'ordine conf'!$B:$K,4,0) -> 6 | E12: =VLOOKUP($B12,'ordine conf'!$B:$K,5,0) -> 5.9736842 | F12: =VLOOKUP($B12,'ordine conf'!$B:$K,6,0) -> 6.0263158 | G12: =VLOOKUP($B12,'ordine conf'!$B:$K,7,0) -> 36 | H12: =VLOOKUP($B12,'ordine conf'!$B:$K,8,0) -> 18 | I12: =VLOOKUP($B12,'ordine conf'!$B:$K,9,0) -> 18 | K12: =IF(HLOOKUP($B12,portieri!$C$53:$V$60,K$47,0)>0,HLOOKUP($B12,portieri!$C$53:$V$60,K$47,0),"") -> 4 | L12: =IF(HLOOKUP($B12,portieri!$C$53:$V$60,L$47,0)>0,HLOOKUP($B12,portieri!$C$53:$V$60,L$47,0),"") -> 1 | M12: =IF(HLOOKUP($B12,portieri!$C$53:$V$60,M$47,0)>0,HLOOKUP($B12,portieri!$C$53:$V$60,M$47,0),"") -> 22 | N12: =IF(HLOOKUP($B12,portieri!$C$53:$V$60,N$47,0)>0,HLOOKUP($B12,portieri!$C$53:$V$60,N$47,0),"") -> 9 | O12: =IF(HLOOKUP($B12,portieri!$C$53:$V$60,O$47,0)>0,HLOOKUP($B12,portieri!$C$53:$V$60,O$47,0),"") -> 2 | Q12: =IF(HLOOKUP($B12,portieri!$C$113:$V$120,Q$47,0)>0,HLOOKUP($B12,portieri!$C$113:$V$120,Q$47,0),0) -> 2 | R12: =IF(HLOOKUP($B12,portieri!$C$113:$V$120,R$47,0)>0,HLOOKUP($B12,portieri!$C$113:$V$120,R$47,0),0) -> 1 | S12: =IF(HLOOKUP($B12,portieri!$C$113:$V$120,S$47,0)>0,HLOOKUP($B12,portieri!$C$113:$V$120,S$47,0),0) -> 13 | T12: =IF(HLOOKUP($B12,portieri!$C$113:$V$120,T$47,0)>0,HLOOKUP($B12,portieri!$C$113:$V$120,T$47,0),0) -> 2 | U12: =IF(HLOOKUP($B12,portieri!$C$113:$V$120,U$47,0)>0,HLOOKUP($B12,portieri!$C$113:$V$120,U$47,0),0) -> 1 | W12: =IF(HLOOKUP($B12,portieri!$C$172:$V$179,W$47,0)>0,HLOOKUP($B12,portieri!$C$172:$V$179,W$47,0),0) -> 2 | X12: =IF(HLOOKUP($B12,portieri!$C$172:$V$179,X$47,0)>0,HLOOKUP($B12,portieri!$C$172:$V$179,X$47,0),0) -> 0 | Y12: =IF(HLOOKUP($B12,portieri!$C$172:$V$179,Y$47,0)>0,HLOOKUP($B12,portieri!$C$172:$V$179,Y$47,0),0) -> 9 | Z12: =IF(HLOOKUP($B12,portieri!$C$172:$V$179,Z$47,0)>0,HLOOKUP($B12,portieri!$C$172:$V$179,Z$47,0),0) -> 7 | AA12: =IF(HLOOKUP($B12,portieri!$C$172:$V$179,AA$47,0)>0,HLOOKUP($B12,portieri!$C$172:$V$179,AA$47,0),0) -> 1 | AD12: =SUM(K12:O12) -> 38 | AE12: =SUM(Q12:U12) -> 19 | AF12: =SUM(W12:AA12) -> 19
B13: PAR | C13: =VLOOKUP($B13,'ordine conf'!$B:$K,3,0) -> 191.5 | D13: =VLOOKUP($B13,'ordine conf'!$B:$K,4,0) -> 6.25 | E13: =VLOOKUP($B13,'ordine conf'!$B:$K,5,0) -> 6.3157895 | F13: =VLOOKUP($B13,'ordine conf'!$B:$K,6,0) -> 6.1842105 | G13: =VLOOKUP($B13,'ordine conf'!$B:$K,7,0) -> 46 | H13: =VLOOKUP($B13,'ordine conf'!$B:$K,8,0) -> 18 | I13: =VLOOKUP($B13,'ordine conf'!$B:$K,9,0) -> 28 | K13: =IF(HLOOKUP($B13,portieri!$C$53:$V$60,K$47,0)>0,HLOOKUP($B13,portieri!$C$53:$V$60,K$47,0),"") -> 2 | L13: =IF(HLOOKUP($B13,portieri!$C$53:$V$60,L$47,0)>0,HLOOKUP($B13,portieri!$C$53:$V$60,L$47,0),"") -> 2 | M13: =IF(HLOOKUP($B13,portieri!$C$53:$V$60,M$47,0)>0,HLOOKUP($B13,portieri!$C$53:$V$60,M$47,0),"") -> 16 | N13: =IF(HLOOKUP($B13,portieri!$C$53:$V$60,N$47,0)>0,HLOOKUP($B13,portieri!$C$53:$V$60,N$47,0),"") -> 12 | O13: =IF(HLOOKUP($B13,portieri!$C$53:$V$60,O$47,0)>0,HLOOKUP($B13,portieri!$C$53:$V$60,O$47,0),"") -> 6 | Q13: =IF(HLOOKUP($B13,portieri!$C$113:$V$120,Q$47,0)>0,HLOOKUP($B13,portieri!$C$113:$V$120,Q$47,0),0) -> 2 | R13: =IF(HLOOKUP($B13,portieri!$C$113:$V$120,R$47,0)>0,HLOOKUP($B13,portieri!$C$113:$V$120,R$47,0),0) -> 0 | S13: =IF(HLOOKUP($B13,portieri!$C$113:$V$120,S$47,0)>0,HLOOKUP($B13,portieri!$C$113:$V$120,S$47,0),0) -> 6 | T13: =IF(HLOOKUP($B13,portieri!$C$113:$V$120,T$47,0)>0,HLOOKUP($B13,portieri!$C$113:$V$120,T$47,0),0) -> 7 | U13: =IF(HLOOKUP($B13,portieri!$C$113:$V$120,U$47,0)>0,HLOOKUP($B13,portieri!$C$113:$V$120,U$47,0),0) -> 4 | W13: =IF(HLOOKUP($B13,portieri!$C$172:$V$179,W$47,0)>0,HLOOKUP($B13,portieri!$C$172:$V$179,W$47,0),0) -> 0 | X13: =IF(HLOOKUP($B13,portieri!$C$172:$V$179,X$47,0)>0,HLOOKUP($B13,portieri!$C$172:$V$179,X$47,0),0) -> 2 | Y13: =IF(HLOOKUP($B13,portieri!$C$172:$V$179,Y$47,0)>0,HLOOKUP($B13,portieri!$C$172:$V$179,Y$47,0),0) -> 10 | Z13: =IF(HLOOKUP($B13,portieri!$C$172:$V$179,Z$47,0)>0,HLOOKUP($B13,portieri!$C$172:$V$179,Z$47,0),0) -> 5 | AA13: =IF(HLOOKUP($B13,portieri!$C$172:$V$179,AA$47,0)>0,HLOOKUP($B13,portieri!$C$172:$V$179,AA$47,0),0) -> 2 | AD13: =SUM(K13:O13) -> 38 | AE13: =SUM(Q13:U13) -> 19 | AF13: =SUM(W13:AA13) -> 19
B14: LAZ-ROM | C14: =VLOOKUP($B14,'ordine conf'!$B:$K,3,0) -> 190 | D14: =VLOOKUP($B14,'ordine conf'!$B:$K,4,0) -> 6.0526316 | G14: =VLOOKUP($B14,'ordine conf'!$B:$K,7,0) -> 40 | K14: =IF(HLOOKUP($B14,incroci!$C$58:$V$64,K$47,0)>0,HLOOKUP($B14,incroci!$C$58:$V$64,K$47,0),0) -> 5 | L14: =IF(HLOOKUP($B14,incroci!$C$58:$V$64,L$47,0)>0,HLOOKUP($B14,incroci!$C$58:$V$64,L$47,0),0) -> 7 | M14: =IF(HLOOKUP($B14,incroci!$C$58:$V$64,M$47,0)>0,HLOOKUP($B14,incroci!$C$58:$V$64,M$47,0),0) -> 9 | N14: =IF(HLOOKUP($B14,incroci!$C$58:$V$64,N$47,0)>0,HLOOKUP($B14,incroci!$C$58:$V$64,N$47,0),0) -> 9 | O14: =IF(HLOOKUP($B14,incroci!$C$58:$V$64,O$47,0)>0,HLOOKUP($B14,incroci!$C$58:$V$64,O$47,0),0) -> 8 | AD14: =SUM(K14:O14) -> 38 | AE14: =SUM(Q14:U14) -> 0 | AF14: =SUM(W14:AA14) -> 0
B15: FIO-CAG | C15: =VLOOKUP($B15,'ordine conf'!$B:$K,3,0) -> 190 | D15: =VLOOKUP($B15,'ordine conf'!$B:$K,4,0) -> 6.1315789 | G15: =VLOOKUP($B15,'ordine conf'!$B:$K,7,0) -> 43 | K15: =IF(HLOOKUP($B15,incroci!$C$58:$V$64,K$47,0)>0,HLOOKUP($B15,incroci!$C$58:$V$64,K$47,0),0) -> 2 | L15: =IF(HLOOKUP($B15,incroci!$C$58:$V$64,L$47,0)>0,HLOOKUP($B15,incroci!$C$58:$V$64,L$47,0),0) -> 4 | M15: =IF(HLOOKUP($B15,incroci!$C$58:$V$64,M$47,0)>0,HLOOKUP($B15,incroci!$C$58:$V$64,M$47,0),0) -> 19 | N15: =IF(HLOOKUP($B15,incroci!$C$58:$V$64,N$47,0)>0,HLOOKUP($B15,incroci!$C$58:$V$64,N$47,0),0) -> 10 | O15: =IF(HLOOKUP($B15,incroci!$C$58:$V$64,O$47,0)>0,HLOOKUP($B15,incroci!$C$58:$V$64,O$47,0),0) -> 3 | AD15: =SUM(K15:O15) -> 38 | AE15: =SUM(Q15:U15) -> 0 | AF15: =SUM(W15:AA15) -> 0
B16: TOR-UDI | C16: =VLOOKUP($B16,'ordine conf'!$B:$K,3,0) -> 190 | D16: =VLOOKUP($B16,'ordine conf'!$B:$K,4,0) -> 6 | G16: =VLOOKUP($B16,'ordine conf'!$B:$K,7,0) -> 38 | K16: =IF(HLOOKUP($B16,incroci!$C$58:$V$64,K$47,0)>0,HLOOKUP($B16,incroci!$C$58:$V$64,K$47,0),0) -> 4 | L16: =IF(HLOOKUP($B16,incroci!$C$58:$V$64,L$47,0)>0,HLOOKUP($B16,incroci!$C$58:$V$64,L$47,0),0) -> 2 | M16: =IF(HLOOKUP($B16,incroci!$C$58:$V$64,M$47,0)>0,HLOOKUP($B16,incroci!$C$58:$V$64,M$47,0),0) -> 22 | N16: =IF(HLOOKUP($B16,incroci!$C$58:$V$64,N$47,0)>0,HLOOKUP($B16,incroci!$C$58:$V$64,N$47,0),0) -> 8 | O16: =IF(HLOOKUP($B16,incroci!$C$58:$V$64,O$47,0)>0,HLOOKUP($B16,incroci!$C$58:$V$64,O$47,0),0) -> 2 | AD16: =SUM(K16:O16) -> 38 | AE16: =SUM(Q16:U16) -> 0 | AF16: =SUM(W16:AA16) -> 0
B17: MIL | C17: =VLOOKUP($B17,'ordine conf'!$B:$K,3,0) -> 188.5 | D17: =VLOOKUP($B17,'ordine conf'!$B:$K,4,0) -> 5.9868421 | E17: =VLOOKUP($B17,'ordine conf'!$B:$K,5,0) -> 6 | F17: =VLOOKUP($B17,'ordine conf'!$B:$K,6,0) -> 5.9736842 | G17: =VLOOKUP($B17,'ordine conf'!$B:$K,7,0) -> 39 | H17: =VLOOKUP($B17,'ordine conf'!$B:$K,8,0) -> 15 | I17: =VLOOKUP($B17,'ordine conf'!$B:$K,9,0) -> 24 | K17: =IF(HLOOKUP($B17,portieri!$C$53:$V$60,K$47,0)>0,HLOOKUP($B17,portieri!$C$53:$V$60,K$47,0),"") -> 4 | L17: =IF(HLOOKUP($B17,portieri!$C$53:$V$60,L$47,0)>0,HLOOKUP($B17,portieri!$C$53:$V$60,L$47,0),"") -> 3 | M17: =IF(HLOOKUP($B17,portieri!$C$53:$V$60,M$47,0)>0,HLOOKUP($B17,portieri!$C$53:$V$60,M$47,0),"") -> 23 | N17: =IF(HLOOKUP($B17,portieri!$C$53:$V$60,N$47,0)>0,HLOOKUP($B17,portieri!$C$53:$V$60,N$47,0),"") -> 4 | O17: =IF(HLOOKUP($B17,portieri!$C$53:$V$60,O$47,0)>0,HLOOKUP($B17,portieri!$C$53:$V$60,O$47,0),"") -> 4 | Q17: =IF(HLOOKUP($B17,portieri!$C$113:$V$120,Q$47,0)>0,HLOOKUP($B17,portieri!$C$113:$V$120,Q$47,0),0) -> 1 | R17: =IF(HLOOKUP($B17,portieri!$C$113:$V$120,R$47,0)>0,HLOOKUP($B17,portieri!$C$113:$V$120,R$47,0),0) -> 1 | S17: =IF(HLOOKUP($B17,portieri!$C$113:$V$120,S$47,0)>0,HLOOKUP($B17,portieri!$C$113:$V$120,S$47,0),0) -> 13 | T17: =IF(HLOOKUP($B17,portieri!$C$113:$V$120,T$47,0)>0,HLOOKUP($B17,portieri!$C$113:$V$120,T$47,0),0) -> 3 | U17: =IF(HLOOKUP($B17,portieri!$C$113:$V$120,U$47,0)>0,HLOOKUP($B17,portieri!$C$113:$V$120,U$47,0),0) -> 1 | W17: =IF(HLOOKUP($B17,portieri!$C$172:$V$179,W$47,0)>0,HLOOKUP($B17,portieri!$C$172:$V$179,W$47,0),0) -> 3 | X17: =IF(HLOOKUP($B17,portieri!$C$172:$V$179,X$47,0)>0,HLOOKUP($B17,portieri!$C$172:$V$179,X$47,0),0) -> 2 | Y17: =IF(HLOOKUP($B17,portieri!$C$172:$V$179,Y$47,0)>0,HLOOKUP($B17,portieri!$C$172:$V$179,Y$47,0),0) -> 10 | Z17: =IF(HLOOKUP($B17,portieri!$C$172:$V$179,Z$47,0)>0,HLOOKUP($B17,portieri!$C$172:$V$179,Z$47,0),0) -> 1 | AA17: =IF(HLOOKUP($B17,portieri!$C$172:$V$179,AA$47,0)>0,HLOOKUP($B17,portieri!$C$172:$V$179,AA$47,0),0) -> 3 | AD17: =SUM(K17:O17) -> 38 | AE17: =SUM(Q17:U17) -> 19 | AF17: =SUM(W17:AA17) -> 19
B18: NAP-PAL | C18: =VLOOKUP($B18,'ordine conf'!$B:$K,3,0) -> 188.5 | D18: =VLOOKUP($B18,'ordine conf'!$B:$K,4,0) -> 6.0657895 | G18: =VLOOKUP($B18,'ordine conf'!$B:$K,7,0) -> 42 | K18: =IF(HLOOKUP($B18,incroci!$C$58:$V$64,K$47,0)>0,HLOOKUP($B18,incroci!$C$58:$V$64,K$47,0),0) -> 3 | L18: =IF(HLOOKUP($B18,incroci!$C$58:$V$64,L$47,0)>0,HLOOKUP($B18,incroci!$C$58:$V$64,L$47,0),0) -> 5 | M18: =IF(HLOOKUP($B18,incroci!$C$58:$V$64,M$47,0)>0,HLOOKUP($B18,incroci!$C$58:$V$64,M$47,0),0) -> 18 | N18: =IF(HLOOKUP($B18,incroci!$C$58:$V$64,N$47,0)>0,HLOOKUP($B18,incroci!$C$58:$V$64,N$47,0),0) -> 8 | O18: =IF(HLOOKUP($B18,incroci!$C$58:$V$64,O$47,0)>0,HLOOKUP($B18,incroci!$C$58:$V$64,O$47,0),0) -> 4 | AD18: =SUM(K18:O18) -> 38 | AE18: =SUM(Q18:U18) -> 0 | AF18: =SUM(W18:AA18) -> 0
B19: NAP-CAG | C19: =VLOOKUP($B19,'ordine conf'!$B:$K,3,0) -> 187 | D19: =VLOOKUP($B19,'ordine conf'!$B:$K,4,0) -> 6 | G19: =VLOOKUP($B19,'ordine conf'!$B:$K,7,0) -> 41 | K19: =IF(HLOOKUP($B19,incroci!$C$58:$V$64,K$47,0)>0,HLOOKUP($B19,incroci!$C$58:$V$64,K$47,0),0) -> 5 | L19: =IF(HLOOKUP($B19,incroci!$C$58:$V$64,L$47,0)>0,HLOOKUP($B19,incroci!$C$58:$V$64,L$47,0),0) -> 3 | M19: =IF(HLOOKUP($B19,incroci!$C$58:$V$64,M$47,0)>0,HLOOKUP($B19,incroci!$C$58:$V$64,M$47,0),0) -> 20 | N19: =IF(HLOOKUP($B19,incroci!$C$58:$V$64,N$47,0)>0,HLOOKUP($B19,incroci!$C$58:$V$64,N$47,0),0) -> 7 | O19: =IF(HLOOKUP($B19,incroci!$C$58:$V$64,O$47,0)>0,HLOOKUP($B19,incroci!$C$58:$V$64,O$47,0),0) -> 3 | AD19: =SUM(K19:O19) -> 38 | AE19: =SUM(Q19:U19) -> 0 | AF19: =SUM(W19:AA19) -> 0
B20: CAT | C20: =VLOOKUP($B20,'ordine conf'!$B:$K,3,0) -> 186.5 | D20: =VLOOKUP($B20,'ordine conf'!$B:$K,4,0) -> 6.1184211 | E20: =VLOOKUP($B20,'ordine conf'!$B:$K,5,0) -> 6.2368421 | F20: =VLOOKUP($B20,'ordine conf'!$B:$K,6,0) -> 6 | G20: =VLOOKUP($B20,'ordine conf'!$B:$K,7,0) -> 46 | H20: =VLOOKUP($B20,'ordine conf'!$B:$K,8,0) -> 15 | I20: =VLOOKUP($B20,'ordine conf'!$B:$K,9,0) -> 31 | K20: =IF(HLOOKUP($B20,portieri!$C$53:$V$60,K$47,0)>0,HLOOKUP($B20,portieri!$C$53:$V$60,K$47,0),"") -> 4 | L20: =IF(HLOOKUP($B20,portieri!$C$53:$V$60,L$47,0)>0,HLOOKUP($B20,portieri!$C$53:$V$60,L$47,0),"") -> 3 | M20: =IF(HLOOKUP($B20,portieri!$C$53:$V$60,M$47,0)>0,HLOOKUP($B20,portieri!$C$53:$V$60,M$47,0),"") -> 16 | N20: =IF(HLOOKUP($B20,portieri!$C$53:$V$60,N$47,0)>0,HLOOKUP($B20,portieri!$C$53:$V$60,N$47,0),"") -> 12 | O20: =IF(HLOOKUP($B20,portieri!$C$53:$V$60,O$47,0)>0,HLOOKUP($B20,portieri!$C$53:$V$60,O$47,0),"") -> 3 | Q20: =IF(HLOOKUP($B20,portieri!$C$113:$V$120,Q$47,0)>0,HLOOKUP($B20,portieri!$C$113:$V$120,Q$47,0),0) -> 2 | R20: =IF(HLOOKUP($B20,portieri!$C$113:$V$120,R$47,0)>0,HLOOKUP($B20,portieri!$C$113:$V$120,R$47,0),0) -> 1 | S20: =IF(HLOOKUP($B20,portieri!$C$113:$V$120,S$47,0)>0,HLOOKUP($B20,portieri!$C$113:$V$120,S$47,0),0) -> 6 | T20: =IF(HLOOKUP($B20,portieri!$C$113:$V$120,T$47,0)>0,HLOOKUP($B20,portieri!$C$113:$V$120,T$47,0),0) -> 8 | U20: =IF(HLOOKUP($B20,portieri!$C$113:$V$120,U$47,0)>0,HLOOKUP($B20,portieri!$C$113:$V$120,U$47,0),0) -> 2 | W20: =IF(HLOOKUP($B20,portieri!$C$172:$V$179,W$47,0)>0,HLOOKUP($B20,portieri!$C$172:$V$179,W$47,0),0) -> 2 | X20: =IF(HLOOKUP($B20,portieri!$C$172:$V$179,X$47,0)>0,HLOOKUP($B20,portieri!$C$172:$V$179,X$47,0),0) -> 2 | Y20: =IF(HLOOKUP($B20,portieri!$C$172:$V$179,Y$47,0)>0,HLOOKUP($B20,portieri!$C$172:$V$179,Y$47,0),0) -> 10 | Z20: =IF(HLOOKUP($B20,portieri!$C$172:$V$179,Z$47,0)>0,HLOOKUP($B20,portieri!$C$172:$V$179,Z$47,0),0) -> 4 | AA20: =IF(HLOOKUP($B20,portieri!$C$172:$V$179,AA$47,0)>0,HLOOKUP($B20,portieri!$C$172:$V$179,AA$47,0),0) -> 1 | AD20: =SUM(K20:O20) -> 38 | AE20: =SUM(Q20:U20) -> 19 | AF20: =SUM(W20:AA20) -> 19
B21: BOL-CHI | C21: =VLOOKUP($B21,'ordine conf'!$B:$K,3,0) -> 186.5 | D21: =VLOOKUP($B21,'ordine conf'!$B:$K,4,0) -> 5.9605263 | G21: =VLOOKUP($B21,'ordine conf'!$B:$K,7,0) -> 40 | K21: =IF(HLOOKUP($B21,incroci!$C$58:$V$64,K$47,0)>0,HLOOKUP($B21,incroci!$C$58:$V$64,K$47,0),0) -> 3 | L21: =IF(HLOOKUP($B21,incroci!$C$58:$V$64,L$47,0)>0,HLOOKUP($B21,incroci!$C$58:$V$64,L$47,0),0) -> 8 | M21: =IF(HLOOKUP($B21,incroci!$C$58:$V$64,M$47,0)>0,HLOOKUP($B21,incroci!$C$58:$V$64,M$47,0),0) -> 18 | N21: =IF(HLOOKUP($B21,incroci!$C$58:$V$64,N$47,0)>0,HLOOKUP($B21,incroci!$C$58:$V$64,N$47,0),0) -> 7 | O21: =IF(HLOOKUP($B21,incroci!$C$58:$V$64,O$47,0)>0,HLOOKUP($B21,incroci!$C$58:$V$64,O$47,0),0) -> 2 | AD21: =SUM(K21:O21) -> 38 | AE21: =SUM(Q21:U21) -> 0 | AF21: =SUM(W21:AA21) -> 0
B22: PAR-ROM | C22: =VLOOKUP($B22,'ordine conf'!$B:$K,3,0) -> 186.5 | D22: =VLOOKUP($B22,'ordine conf'!$B:$K,4,0) -> 6.0657895 | G22: =VLOOKUP($B22,'ordine conf'!$B:$K,7,0) -> 44 | K22: =IF(HLOOKUP($B22,incroci!$C$58:$V$64,K$47,0)>0,HLOOKUP($B22,incroci!$C$58:$V$64,K$47,0),0) -> 6 | L22: =IF(HLOOKUP($B22,incroci!$C$58:$V$64,L$47,0)>0,HLOOKUP($B22,incroci!$C$58:$V$64,L$47,0),0) -> 5 | M22: =IF(HLOOKUP($B22,incroci!$C$58:$V$64,M$47,0)>0,HLOOKUP($B22,incroci!$C$58:$V$64,M$47,0),0) -> 9 | N22: =IF(HLOOKUP($B22,incroci!$C$58:$V$64,N$47,0)>0,HLOOKUP($B22,incroci!$C$58:$V$64,N$47,0),0) -> 11 | O22: =IF(HLOOKUP($B22,incroci!$C$58:$V$64,O$47,0)>0,HLOOKUP($B22,incroci!$C$58:$V$64,O$47,0),0) -> 7 | AD22: =SUM(K22:O22) -> 38 | AE22: =SUM(Q22:U22) -> 0 | AF22: =SUM(W22:AA22) -> 0
B23: INT-MIL | C23: =VLOOKUP($B23,'ordine conf'!$B:$K,3,0) -> 185 | D23: =VLOOKUP($B23,'ordine conf'!$B:$K,4,0) -> 6.0789474 | G23: =VLOOKUP($B23,'ordine conf'!$B:$K,7,0) -> 46 | K23: =IF(HLOOKUP($B23,incroci!$C$58:$V$64,K$47,0)>0,HLOOKUP($B23,incroci!$C$58:$V$64,K$47,0),0) -> 3 | L23: =IF(HLOOKUP($B23,incroci!$C$58:$V$64,L$47,0)>0,HLOOKUP($B23,incroci!$C$58:$V$64,L$47,0),0) -> 4 | M23: =IF(HLOOKUP($B23,incroci!$C$58:$V$64,M$47,0)>0,HLOOKUP($B23,incroci!$C$58:$V$64,M$47,0),0) -> 21 | N23: =IF(HLOOKUP($B23,incroci!$C$58:$V$64,N$47,0)>0,HLOOKUP($B23,incroci!$C$58:$V$64,N$47,0),0) -> 4 | O23: =IF(HLOOKUP($B23,incroci!$C$58:$V$64,O$47,0)>0,HLOOKUP($B23,incroci!$C$58:$V$64,O$47,0),0) -> 6 | AD23: =SUM(K23:O23) -> 38 | AE23: =SUM(Q23:U23) -> 0 | AF23: =SUM(W23:AA23) -> 0
B24: UDI | C24: =VLOOKUP($B24,'ordine conf'!$B:$K,3,0) -> 184.5 | D24: =VLOOKUP($B24,'ordine conf'!$B:$K,4,0) -> 6.0394737 | E24: =VLOOKUP($B24,'ordine conf'!$B:$K,5,0) -> 5.9736842 | F24: =VLOOKUP($B24,'ordine conf'!$B:$K,6,0) -> 6.1052632 | G24: =VLOOKUP($B24,'ordine conf'!$B:$K,7,0) -> 45 | H24: =VLOOKUP($B24,'ordine conf'!$B:$K,8,0) -> 16 | I24: =VLOOKUP($B24,'ordine conf'!$B:$K,9,0) -> 29 | K24: =IF(HLOOKUP($B24,portieri!$C$53:$V$60,K$47,0)>0,HLOOKUP($B24,portieri!$C$53:$V$60,K$47,0),"") -> 4 | L24: =IF(HLOOKUP($B24,portieri!$C$53:$V$60,L$47,0)>0,HLOOKUP($B24,portieri!$C$53:$V$60,L$47,0),"") -> 4 | M24: =IF(HLOOKUP($B24,portieri!$C$53:$V$60,M$47,0)>0,HLOOKUP($B24,portieri!$C$53:$V$60,M$47,0),"") -> 16 | N24: =IF(HLOOKUP($B24,portieri!$C$53:$V$60,N$47,0)>0,HLOOKUP($B24,portieri!$C$53:$V$60,N$47,0),"") -> 12 | O24: =IF(HLOOKUP($B24,portieri!$C$53:$V$60,O$47,0)>0,HLOOKUP($B24,portieri!$C$53:$V$60,O$47,0),"") -> 2 | Q24: =IF(HLOOKUP($B24,portieri!$C$113:$V$120,Q$47,0)>0,HLOOKUP($B24,portieri!$C$113:$V$120,Q$47,0),0) -> 2 | R24: =IF(HLOOKUP($B24,portieri!$C$113:$V$120,R$47,0)>0,HLOOKUP($B24,portieri!$C$113:$V$120,R$47,0),0) -> 2 | S24: =IF(HLOOKUP($B24,portieri!$C$113:$V$120,S$47,0)>0,HLOOKUP($B24,portieri!$C$113:$V$120,S$47,0),0) -> 10 | T24: =IF(HLOOKUP($B24,portieri!$C$113:$V$120,T$47,0)>0,HLOOKUP($B24,portieri!$C$113:$V$120,T$47,0),0) -> 4 | U24: =IF(HLOOKUP($B24,portieri!$C$113:$V$120,U$47,0)>0,HLOOKUP($B24,portieri!$C$113:$V$120,U$47,0),0) -> 1 | W24: =IF(HLOOKUP($B24,portieri!$C$172:$V$179,W$47,0)>0,HLOOKUP($B24,portieri!$C$172:$V$179,W$47,0),0) -> 2 | X24: =IF(HLOOKUP($B24,portieri!$C$172:$V$179,X$47,0)>0,HLOOKUP($B24,portieri!$C$172:$V$179,X$47,0),0) -> 2 | Y24: =IF(HLOOKUP($B24,portieri!$C$172:$V$179,Y$47,0)>0,HLOOKUP($B24,portieri!$C$172:$V$179,Y$47,0),0) -> 6 | Z24: =IF(HLOOKUP($B24,portieri!$C$172:$V$179,Z$47,0)>0,HLOOKUP($B24,portieri!$C$172:$V$179,Z$47,0),0) -> 8 | AA24: =IF(HLOOKUP($B24,portieri!$C$172:$V$179,AA$47,0)>0,HLOOKUP($B24,portieri!$C$172:$V$179,AA$47,0),0) -> 1 | AD24: =SUM(K24:O24) -> 38
B25: NAP-ATA | C25: =VLOOKUP($B25,'ordine conf'!$B:$K,3,0) -> 184.5 | D25: =VLOOKUP($B25,'ordine conf'!$B:$K,4,0) -> 5.9605263 | G25: =VLOOKUP($B25,'ordine conf'!$B:$K,7,0) -> 42 | K25: =IF(HLOOKUP($B25,incroci!$C$58:$V$64,K$47,0)>0,HLOOKUP($B25,incroci!$C$58:$V$64,K$47,0),0) -> 3 | L25: =IF(HLOOKUP($B25,incroci!$C$58:$V$64,L$47,0)>0,HLOOKUP($B25,incroci!$C$58:$V$64,L$47,0),0) -> 4 | M25: =IF(HLOOKUP($B25,incroci!$C$58:$V$64,M$47,0)>0,HLOOKUP($B25,incroci!$C$58:$V$64,M$47,0),0) -> 26 | N25: =IF(HLOOKUP($B25,incroci!$C$58:$V$64,N$47,0)>0,HLOOKUP($B25,incroci!$C$58:$V$64,N$47,0),0) -> 3 | O25: =IF(HLOOKUP($B25,incroci!$C$58:$V$64,O$47,0)>0,HLOOKUP($B25,incroci!$C$58:$V$64,O$47,0),0) -> 2 | AD25: =SUM(K25:O25) -> 38
B26: BOL-MIL | C26: =VLOOKUP($B26,'ordine conf'!$B:$K,3,0) -> 184 | D26: =VLOOKUP($B26,'ordine conf'!$B:$K,4,0) -> 5.9210526 | G26: =VLOOKUP($B26,'ordine conf'!$B:$K,7,0) -> 41 | K26: =IF(HLOOKUP($B26,incroci!$C$58:$V$64,K$47,0)>0,HLOOKUP($B26,incroci!$C$58:$V$64,K$47,0),0) -> 4 | L26: =IF(HLOOKUP($B26,incroci!$C$58:$V$64,L$47,0)>0,HLOOKUP($B26,incroci!$C$58:$V$64,L$47,0),0) -> 7 | M26: =IF(HLOOKUP($B26,incroci!$C$58:$V$64,M$47,0)>0,HLOOKUP($B26,incroci!$C$58:$V$64,M$47,0),0) -> 18 | N26: =IF(HLOOKUP($B26,incroci!$C$58:$V$64,N$47,0)>0,HLOOKUP($B26,incroci!$C$58:$V$64,N$47,0),0) -> 6 | O26: =IF(HLOOKUP($B26,incroci!$C$58:$V$64,O$47,0)>0,HLOOKUP($B26,incroci!$C$58:$V$64,O$47,0),0) -> 3 | AD26: =SUM(K26:O26) -> 38
B27: CHI | C27: =VLOOKUP($B27,'ordine conf'!$B:$K,3,0) -> 182.5 | D27: =VLOOKUP($B27,'ordine conf'!$B:$K,4,0) -> 6.1710526 | E27: =VLOOKUP($B27,'ordine conf'!$B:$K,5,0) -> 6.2105263 | F27: =VLOOKUP($B27,'ordine conf'!$B:$K,6,0) -> 6.1315789 | G27: =VLOOKUP($B27,'ordine conf'!$B:$K,7,0) -> 52 | H27: =VLOOKUP($B27,'ordine conf'!$B:$K,8,0) -> 16 | I27: =VLOOKUP($B27,'ordine conf'!$B:$K,9,0) -> 36 | K27: =IF(HLOOKUP($B27,portieri!$C$53:$V$60,K$47,0)>0,HLOOKUP($B27,portieri!$C$53:$V$60,K$47,0),"") -> 4 | L27: =IF(HLOOKUP($B27,portieri!$C$53:$V$60,L$47,0)>0,HLOOKUP($B27,portieri!$C$53:$V$60,L$47,0),"") -> 3 | M27: =IF(HLOOKUP($B27,portieri!$C$53:$V$60,M$47,0)>0,HLOOKUP($B27,portieri!$C$53:$V$60,M$47,0),"") -> 19 | N27: =IF(HLOOKUP($B27,portieri!$C$53:$V$60,N$47,0)>0,HLOOKUP($B27,portieri!$C$53:$V$60,N$47,0),"") -> 6 | O27: =IF(HLOOKUP($B27,portieri!$C$53:$V$60,O$47,0)>0,HLOOKUP($B27,portieri!$C$53:$V$60,O$47,0),"") -> 6 | Q27: =IF(HLOOKUP($B27,portieri!$C$113:$V$120,Q$47,0)>0,HLOOKUP($B27,portieri!$C$113:$V$120,Q$47,0),0) -> 0 | R27: =IF(HLOOKUP($B27,portieri!$C$113:$V$120,R$47,0)>0,HLOOKUP($B27,portieri!$C$113:$V$120,R$47,0),0) -> 2 | S27: =IF(HLOOKUP($B27,portieri!$C$113:$V$120,S$47,0)>0,HLOOKUP($B27,portieri!$C$113:$V$120,S$47,0),0) -> 11 | T27: =IF(HLOOKUP($B27,portieri!$C$113:$V$120,T$47,0)>0,HLOOKUP($B27,portieri!$C$113:$V$120,T$47,0),0) -> 4 | U27: =IF(HLOOKUP($B27,portieri!$C$113:$V$120,U$47,0)>0,HLOOKUP($B27,portieri!$C$113:$V$120,U$47,0),0) -> 2 | W27: =IF(HLOOKUP($B27,portieri!$C$172:$V$179,W$47,0)>0,HLOOKUP($B27,portieri!$C$172:$V$179,W$47,0),0) -> 4 | X27: =IF(HLOOKUP($B27,portieri!$C$172:$V$179,X$47,0)>0,HLOOKUP($B27,portieri!$C$172:$V$179,X$47,0),0) -> 1 | Y27: =IF(HLOOKUP($B27,portieri!$C$172:$V$179,Y$47,0)>0,HLOOKUP($B27,portieri!$C$172:$V$179,Y$47,0),0) -> 8 | Z27: =IF(HLOOKUP($B27,portieri!$C$172:$V$179,Z$47,0)>0,HLOOKUP($B27,portieri!$C$172:$V$179,Z$47,0),0) -> 2 | AA27: =IF(HLOOKUP($B27,portieri!$C$172:$V$179,AA$47,0)>0,HLOOKUP($B27,portieri!$C$172:$V$179,AA$47,0),0) -> 4 | AD27: =SUM(K27:O27) -> 38
B28: FIO | C28: =VLOOKUP($B28,'ordine conf'!$B:$K,3,0) -> 182 | D28: =VLOOKUP($B28,'ordine conf'!$B:$K,4,0) -> 5.9473684 | E28: =VLOOKUP($B28,'ordine conf'!$B:$K,5,0) -> 6.1052632 | F28: =VLOOKUP($B28,'ordine conf'!$B:$K,6,0) -> 5.7894737 | G28: =VLOOKUP($B28,'ordine conf'!$B:$K,7,0) -> 44 | H28: =VLOOKUP($B28,'ordine conf'!$B:$K,8,0) -> 19 | I28: =VLOOKUP($B28,'ordine conf'!$B:$K,9,0) -> 25 | K28: =IF(HLOOKUP($B28,portieri!$C$53:$V$60,K$47,0)>0,HLOOKUP($B28,portieri!$C$53:$V$60,K$47,0),"") -> 4 | L28: =IF(HLOOKUP($B28,portieri!$C$53:$V$60,L$47,0)>0,HLOOKUP($B28,portieri!$C$53:$V$60,L$47,0),"") -> 6 | M28: =IF(HLOOKUP($B28,portieri!$C$53:$V$60,M$47,0)>0,HLOOKUP($B28,portieri!$C$53:$V$60,M$47,0),"") -> 19 | N28: =IF(HLOOKUP($B28,portieri!$C$53:$V$60,N$47,0)>0,HLOOKUP($B28,portieri!$C$53:$V$60,N$47,0),"") -> 5 | O28: =IF(HLOOKUP($B28,portieri!$C$53:$V$60,O$47,0)>0,HLOOKUP($B28,portieri!$C$53:$V$60,O$47,0),"") -> 4 | Q28: =IF(HLOOKUP($B28,portieri!$C$113:$V$120,Q$47,0)>0,HLOOKUP($B28,portieri!$C$113:$V$120,Q$47,0),0) -> 0 | R28: =IF(HLOOKUP($B28,portieri!$C$113:$V$120,R$47,0)>0,HLOOKUP($B28,portieri!$C$113:$V$120,R$47,0),0) -> 2 | S28: =IF(HLOOKUP($B28,portieri!$C$113:$V$120,S$47,0)>0,HLOOKUP($B28,portieri!$C$113:$V$120,S$47,0),0) -> 12 | T28: =IF(HLOOKUP($B28,portieri!$C$113:$V$120,T$47,0)>0,HLOOKUP($B28,portieri!$C$113:$V$120,T$47,0),0) -> 4 | U28: =IF(HLOOKUP($B28,portieri!$C$113:$V$120,U$47,0)>0,HLOOKUP($B28,portieri!$C$113:$V$120,U$47,0),0) -> 1 | W28: =IF(HLOOKUP($B28,portieri!$C$172:$V$179,W$47,0)>0,HLOOKUP($B28,portieri!$C$172:$V$179,W$47,0),0) -> 4 | X28: =IF(HLOOKUP($B28,portieri!$C$172:$V$179,X$47,0)>0,HLOOKUP($B28,portieri!$C$172:$V$179,X$47,0),0) -> 4 | Y28: =IF(HLOOKUP($B28,portieri!$C$172:$V$179,Y$47,0)>0,HLOOKUP($B28,portieri!$C$172:$V$179,Y$47,0),0) -> 7 | Z28: =IF(HLOOKUP($B28,portieri!$C$172:$V$179,Z$47,0)>0,HLOOKUP($B28,portieri!$C$172:$V$179,Z$47,0),0) -> 1 | AA28: =IF(HLOOKUP($B28,portieri!$C$172:$V$179,AA$47,0)>0,HLOOKUP($B28,portieri!$C$172:$V$179,AA$47,0),0) -> 3 | AD28: =SUM(K28:O28) -> 38
B29: UDI-ROM | C29: =VLOOKUP($B29,'ordine conf'!$B:$K,3,0) -> 182 | D29: =VLOOKUP($B29,'ordine conf'!$B:$K,4,0) -> 5.9210526 | G29: =VLOOKUP($B29,'ordine conf'!$B:$K,7,0) -> 43 | K29: =IF(HLOOKUP($B29,incroci!$C$58:$V$64,K$47,0)>0,HLOOKUP($B29,incroci!$C$58:$V$64,K$47,0),0) -> 6 | L29: =IF(HLOOKUP($B29,incroci!$C$58:$V$64,L$47,0)>0,HLOOKUP($B29,incroci!$C$58:$V$64,L$47,0),0) -> 7 | M29: =IF(HLOOKUP($B29,incroci!$C$58:$V$64,M$47,0)>0,HLOOKUP($B29,incroci!$C$58:$V$64,M$47,0),0) -> 12 | N29: =IF(HLOOKUP($B29,incroci!$C$58:$V$64,N$47,0)>0,HLOOKUP($B29,incroci!$C$58:$V$64,N$47,0),0) -> 8 | O29: =IF(HLOOKUP($B29,incroci!$C$58:$V$64,O$47,0)>0,HLOOKUP($B29,incroci!$C$58:$V$64,O$47,0),0) -> 5 | AD29: =SUM(K29:O29) -> 38
