Workbook

Sheet Foglio1
A2: 19angelo85 | C2: A.C. Javier Pastore | E2: AsiAssonNaty | G2: Atletico Sereno | I2: CollePietre City | K2: Eroi nel vento | M2: Fanta Lightman | O2: Fantacau FC | Q2: Fantacloe | S2: Forza Taranto | U2: Goomba | W2: Grun | Y2: I Velieri | AA2: Lokomotiv RUMePERA | AC2: OnceUponATime | AE2: PowerTeam (potino78) | AG2: REAL COSENZA 1914 | AI2: Santamonica | AK2: Sfus Team | AM2: Sydney FC | AO2: Van Persie sul campo | AQ2: alebolo | AS2: capirexligamilan | AU2: catania | AW2: catania5556 | AY2: ciro51 | BA2: diego89 | BC2: jujula | BE2: maGGica! | BG2: mastrolindo | BI2: meridiano | BK2: molosso | BM2: napule | BO2: piero79 | BQ2: tombecker
A3: 19angelo85 | C3: matteo9502 | E3: clamore22 | G3: andreabrescia | I3: kolao95 | K3: ogeid36 | M3: lightman | O3: flaincau | Q3: merk17 | S3: rossoblu | U3: crash83 | W3: grunluca | Y3: bremec | AA3: rumepera | AC3: alexein11 | AE3: potino78 | AG3: flaviotto | AI3: real santamonica | AK3: sfuscio85 | AM3: ruicosta | AO3: thor01 | AQ3: alebolo | AS3: capirexligamilan | AU3: catania | AW3: catania5556 | AY3: ciro51 | BA3: diego89 | BC3: jujula | BE3: adrian28scbr | BG3: mastrolindo | BI3: meridiano | BK3: molosso | BM3: napule | BO3: piero79 | BQ3: tombecker
A4: Nome | C4: Nome | E4: Nome | G4: Nome | I4: Nome | K4: Nome | M4: Nome | O4: Nome | Q4: Nome | S4: Nome | U4: Nome | W4: Nome | Y4: Nome | AA4: Nome | AC4: Nome | AE4: Nome | AG4: Nome | AI4: Nome | AK4: Nome | AM4: Nome | AO4: Nome | AQ4: Nome | AS4: Nome | AU4: Nome | AW4: Nome | AY4: Nome | BA4: Nome | BC4: Nome | BE4: Nome | BG4: Nome | BI4: Nome | BK4: Nome | BM4: Nome | BO4: Nome | BQ4: Nome
A5: PORTIERI | C5: PORTIERI | E5: PORTIERI | G5: PORTIERI | I5: PORTIERI | K5: PORTIERI | M5: PORTIERI | O5: PORTIERI | Q5: PORTIERI | S5: PORTIERI | U5: PORTIERI | W5: PORTIERI | Y5: PORTIERI | AA5: PORTIERI | AC5: PORTIERI | AE5: PORTIERI | AG5: PORTIERI | AI5: PORTIERI | AK5: PORTIERI | AM5: PORTIERI | AO5: PORTIERI | AQ5: PORTIERI | AS5: PORTIERI | AU5: PORTIERI | AW5: PORTIERI | AY5: PORTIERI | BA5: PORTIERI | BC5: PORTIERI | BE5: PORTIERI | BG5: PORTIERI | BI5: PORTIERI | BK5: PORTIERI | BM5: PORTIERI | BO5: PORTIERI | BQ5: PORTIERI
A6: AGLIARDI | C6: AGLIARDI | E6: ANDUJAR | G6: BUFFON | I6: COLOMBO | K6: AGLIARDI | M6: BUFFON | O6: BUFFON | Q6: BUFFON | S6: AGLIARDI | U6: AGLIARDI | W6: BUFFON | Y6: BUFFON | AA6: AGLIARDI | AC6: AGLIARDI | AE6: AGLIARDI | AG6: BIZZARRI | AI6: PUGGIONI | AK6: AGLIARDI | AM6: AGLIARDI | AO6: AGLIARDI | AQ6: AGLIARDI | AS6: GOICOECHEA Mauro Daniele | AU6: ANDUJAR | AW6: PELIZZOLI Ivo | AY6: BUFFON | BA6: AGLIARDI | BC6: BUFFON | BE6: BUFFON | BG6: AGLIARDI | BI6: BUFFON | BK6: ANDUJAR | BM6: COLOMBO | BO6: AGLIARDI | BQ6: AGLIARDI
A7: BUFFON | C7: DE SANCTIS | E7: STORARI | G7: RUBINHO | I7: DE SANCTIS | K7: BUFFON | M7: RUBINHO | O7: RUBINHO | Q7: RUBINHO | S7: ANDUJAR | U7: ANDUJAR | W7: RUBINHO | Y7: RUBINHO | AA7: BIZZARRI | AC7: ANDUJAR | AE7: DE SANCTIS | AG7: MARCHETTI | AI7: SORRENTINO | AK7: BUFFON | AM7: ANDUJAR | AO7: ANDUJAR | AQ7: ANDUJAR | AS7: LOBONT | AU7: BENUSSI | AW7: PERIN | AY7: RUBINHO | BA7: BUFFON | BC7: RUBINHO | BE7: RUBINHO | BG7: CASTELLAZZI | BI7: RUBINHO | BK7: CASTELLAZZI | BM7: DE SANCTIS | BO7: BUFFON | BQ7: BUFFON
A8: STORARI | C8: ROSATI | E8: AGLIARDI | G8: STORARI | I8: ROSATI | K8: STORARI | M8: STORARI | O8: STORARI | Q8: STORARI | S8: PERIN | U8: PERIN | W8: STORARI | Y8: STORARI | AA8: MARCHETTI | AC8: STORARI | AE8: ROSATI | AG8: ANDUJAR | AI8: SQUIZZI | AK8: STORARI | AM8: PERIN | AO8: PERIN | AQ8: PERIN | AS8: STEKELENBURG | AU8: UJKANI | AW8: AGLIARDI | AY8: STORARI | BA8: STORARI | BC8: STORARI | BE8: STORARI | BG8: HANDANOVIC | BI8: STORARI | BK8: HANDANOVIC | BM8: ROSATI | BO8: STORARI | BQ8: STORARI
A9: DIFENSORI | C9: DIFENSORI | E9: DIFENSORI | G9: DIFENSORI | I9: DIFENSORI | K9: DIFENSORI | M9: DIFENSORI | O9: DIFENSORI | Q9: DIFENSORI | S9: DIFENSORI | U9: DIFENSORI | W9: DIFENSORI | Y9: DIFENSORI | AA9: DIFENSORI | AC9: DIFENSORI | AE9: DIFENSORI | AG9: DIFENSORI | AI9: DIFENSORI | AK9: DIFENSORI | AM9: DIFENSORI | AO9: DIFENSORI | AQ9: DIFENSORI | AS9: DIFENSORI | AU9: DIFENSORI | AW9: DIFENSORI | AY9: DIFENSORI | BA9: DIFENSORI | BC9: DIFENSORI | BE9: DIFENSORI | BG9: DIFENSORI | BI9: DIFENSORI | BK9: DIFENSORI | BM9: DIFENSORI | BO9: DIFENSORI | BQ9: DIFENSORI
A10: BALZARETTI | C10: BALZARETTI | E10: BRITOS | G10: CAMPAGNARO | I10: ANTONSSON | K10: ANTONSSON | M10: COSTA | O10: BRITOS | Q10: BARZAGLI | S10: BELLUSCI | U10: DAINELLI | W10: BELLINI | Y10: BALZARETTI | AA10: BONERA | AC10: BONUCCI | AE10: BASTA | AG10: ABATE | AI10: CAVANDA | AK10: CAMPAGNARO | AM10: BARZAGLI | AO10: BONERA | AQ10: ALVAREZ P.S. | AS10: ACERBI | AU10: BERARDI | AW10: BERARDI | AY10: BRITOS | BA10: ALVAREZ P.S. | BC10: ANTONSSON | BE10: BRITOS | BG10: CAMPAGNARO | BI10: BENATIA | BK10: ANTONSSON | BM10: CIANI Michael | BO10: ALVAREZ P.S. | BQ10: BONERA
A11: CHIELLINI | C11: BRITOS | E11: DEL GROSSO | G11: CANNAVARO | I11: BARZAGLI | K11: DAINELLI | M11: DAINELLI | O11: DAINELLI | Q11: DAINELLI | S11: CANNAVARO | U11: DEL GROSSO | W11: BONERA | Y11: BONERA | AA11: CAMPAGNARO | AC11: DAINELLI | AE11: BERARDI | AG11: CAMPAGNARO | AI11: CESAR | AK11: CETTO | AM11: BRITOS | AO11: BRITOS | AQ11: ANTONSSON | AS11: AUGUSTYN | AU11: CETTO | AW11: CAVANDA | AY11: CAVANDA | BA11: BARZAGLI | BC11: BELLUSCI | BE11: DAINELLI | BG11: CAVANDA | BI11: BRITOS | BK11: COSTA | BM11: VON BERGEN | BO11: ANTONINI | BQ11: BRITOS
A12: DAINELLI | C12: DAINELLI | E12: GLIK | G12: DARMIAN | I12: DAINELLI | K12: DANILO | M12: GLIK | O12: DOMIZZI | Q12: DEL GROSSO | S12: CETTO | U12: DOMIZZI | W12: COSTA | Y12: CAMPAGNARO | AA12: DAINELLI | AC12: DANILO | AE12: BOVO | AG12: CANNAVARO | AI12: COSTA | AK12: CIANI Michael | AM12: CETTO | AO12: CHIELLINI | AQ12: CAVANDA | AS12: BELMONTE | AU12: DAINELLI | AW12: DAINELLI | AY12: DAINELLI | BA12: CAMPAGNARO | BC12: CAVANDA | BE12: DOMIZZI | BG12: DAINELLI | BI12: DAINELLI | BK12: DARMIAN | BM12: COSTA | BO12: CASTAN | BQ12: CAVANDA
A13: DEL GROSSO | C13: DIAS | E13: MANFREDINI | G13: DEL GROSSO | I13: DOMIZZI | K13: DEL GROSSO | M13: NETO Luis | O13: GASTALDELLO | Q13: DOMIZZI | S13: COSTA | U13: PISANO E. | W13: DAINELLI | Y13: DAINELLI | AA13: FELIPE | AC13: GLIK | AE13: DEL GROSSO | AG13: DAINELLI | AI13: DAINELLI | AK13: COSTA | AM13: DAINELLI | AO13: DAINELLI | AQ13: DAINELLI | AS13: BENATIA | AU13: GLIK | AW13: DARMIAN | AY13: KONKO | BA13: DAINELLI | BC13: DAINELLI | BE13: GLIK | BG13: LICHTSTEINER | BI13: LICHTSTEINER | BK13: FERRONETTI | BM13: DAINELLI | BO13: DAINELLI | BQ13: DAINELLI
... A33: SANSONE N. | C33: KLOSE | E33: ROZZI | G33: OSVALDO | I33: TONI Luca | K33: SANSONE N. | M33: ROZZI | O33: BORRIELLO Marco | Q33: PINILLA | S33: PAZZINI | U33: SANSONE N. | W33: SANSONE N. | Y33: PANDEV | AA33: KLOSE | AC33: NICO LOPEZ | AE33: TONI Luca | AG33: SANSONE N. | AI33: NICO LOPEZ | AK33: PAZZINI | AM33: PAZZINI | AO33: SGRIGNA | AQ33: PAZZINI | AS33: TONI Luca | AU33: ROZZI | AW33: SGRIGNA | AY33: ROZZI | BA33: ROZZI | BC33: SANSONE N. | BE33: CAVANI | BG33: PAZZINI | BI33: NICO LOPEZ | BK33: TONI Luca | BM33: LIVAJA Marko | BO33: ROZZI | BQ33: ROZZI

Sheet P
B1: =SUM(B2:B24) -> 105
A2: STORARI | B2: =COUNTIF(Foglio1!$1:$1048576,A2) -> 18
A3: AGLIARDI | B3: =COUNTIF(Foglio1!$1:$1048576,A3) -> 18
A4: BUFFON | B4: =COUNTIF(Foglio1!$1:$1048576,A4) -> 16
A5: rubinho | B5: =COUNTIF(Foglio1!$1:$1048576,A5) -> 10
A6: andujar | B6: =COUNTIF(Foglio1!$1:$1048576,A6) -> 10
A7: perin | B7: =COUNTIF(Foglio1!$1:$1048576,A7) -> 6
A8: de sanctis | B8: =COUNTIF(Foglio1!$1:$1048576,A8) -> 4
A9: rosati | B9: =COUNTIF(Foglio1!$1:$1048576,A9) -> 4
A10: bizzarri | B10: =COUNTIF(Foglio1!$1:$1048576,A10) -> 2
A11: castellazzi | B11: =COUNTIF(Foglio1!$1:$1048576,A11) -> 2
A12: colombo | B12: =COUNTIF(Foglio1!$1:$1048576,A12) -> 2
A13: handanovic | B13: =COUNTIF(Foglio1!$1:$1048576,A13) -> 2
... A24: savelloni | B24: =COUNTIF(Foglio1!$1:$1048576,A24) -> 0

Sheet D
B1: =SUM(B2:B71) -> 280
A2: dainelli | B2: =COUNTIF(Foglio1!$1:$1048576,A2) -> 30
A3: romulo | B3: =COUNTIF(Foglio1!$1:$1048576,A3) -> 27
A4: von bergen | B4: =COUNTIF(Foglio1!$1:$1048576,A4) -> 15
A5: ranocchia | B5: =COUNTIF(Foglio1!$1:$1048576,A5) -> 11
A6: darmian | B6: =COUNTIF(Foglio1!$1:$1048576,A6) -> 10
A7: cavanda | B7: =COUNTIF(Foglio1!$1:$1048576,A7) -> 10
A8: stendardo | B8: =COUNTIF(Foglio1!$1:$1048576,A8) -> 10
A9: britos | B9: =COUNTIF(Foglio1!$1:$1048576,A9) -> 10
A10: NETO Luis | B10: =COUNTIF(Foglio1!$1:$1048576,A10) -> 7
A11: campagnaro | B11: =COUNTIF(Foglio1!$1:$1048576,A11) -> 7
A12: costa | B12: =COUNTIF(Foglio1!$1:$1048576,A12) -> 7
A13: del grosso | B13: =COUNTIF(Foglio1!$1:$1048576,A13) -> 7
... A71: contini | B71: =COUNTIF(Foglio1!$1:$1048576,A71) -> 0

Sheet C
B1: =SUM(B2:B66) -> 280
A2: verre | B2: =COUNTIF(Foglio1!$1:$1048576,A2) -> 26
A3: conti | B3: =COUNTIF(Foglio1!$1:$1048576,A3) -> 23
A4: vidal | B4: =COUNTIF(Foglio1!$1:$1048576,A4) -> 20
A5: sampirisi | B5: =COUNTIF(Foglio1!$1:$1048576,A5) -> 19
A6: taider | B6: =COUNTIF(Foglio1!$1:$1048576,A6) -> 15
A7: mauri | B7: =COUNTIF(Foglio1!$1:$1048576,A7) -> 14
A8: florenzi | B8: =COUNTIF(Foglio1!$1:$1048576,A8) -> 13
A9: diamanti | B9: =COUNTIF(Foglio1!$1:$1048576,A9) -> 11
A10: onazi | B10: =COUNTIF(Foglio1!$1:$1048576,A10) -> 9
A11: seymour | B11: =COUNTIF(Foglio1!$1:$1048576,A11) -> 9
A12: donadel | B12: =COUNTIF(Foglio1!$1:$1048576,A12) -> 8
A13: pjanic | B13: =COUNTIF(Foglio1!$1:$1048576,A13) -> 7
... A66: stankovic | B66: =COUNTIF(Foglio1!$1:$1048576,A66) -> 0

Sheet A
B1: =SUM(B2:B31) -> 210
A2: nico lopez | B2: =COUNTIF(Foglio1!$1:$1048576,A2) -> 30
A3: LIVAJA Marko | B3: =COUNTIF(Foglio1!$1:$1048576,A3) -> 21
A4: milito | B4: =COUNTIF(Foglio1!$1:$1048576,A4) -> 18
A5: cavani | B5: =COUNTIF(Foglio1!$1:$1048576,A5) -> 15
A6: pazzini | B6: =COUNTIF(Foglio1!$1:$1048576,A6) -> 13
A7: rozzi | B7: =COUNTIF(Foglio1!$1:$1048576,A7) -> 13
A8: osvaldo | B8: =COUNTIF(Foglio1!$1:$1048576,A8) -> 13
A9: sansone n. | B9: =COUNTIF(Foglio1!$1:$1048576,A9) -> 13
A10: borriello marco | B10: =COUNTIF(Foglio1!$1:$1048576,A10) -> 12
A11: jovetic | B11: =COUNTIF(Foglio1!$1:$1048576,A11) -> 9
A12: MARTINEZ Jara | B12: =COUNTIF(Foglio1!$1:$1048576,A12) -> 8
A13: pandev | B13: =COUNTIF(Foglio1!$1:$1048576,A13) -> 8
... A31: tallo | B31: =COUNTIF(Foglio1!$1:$1048576,A31) -> 0
