Workbook

Sheet VOTI GAZZETTA SPORT 2013 2014
A1: RUOLO | B1: CALCIATORE | C1: 1à | D1: 2à | E1: 3à | F1: 4à | G1: 5à | H1: 6à | I1: 7à | J1: 8à | K1: 9à | L1: 10à | M1: 11à | N1: 12à | O1: 13à | P1: 14à | Q1: 15à | R1: 16à | S1: 17à | T1: 18à | U1: 19à | V1: 20à | W1: 21à | X1: 22à | Y1: 23à | Z1: 24à | AA1: 25à | AB1: 26à | AC1: 27à | AD1: 28à | AE1: 29à | AF1: 30à | AG1: 31à | AH1: 32à | AI1: 33à | AJ1: 34à | AK1: 35à | AL1: 36à | AM1: 37à | AN1: 38à | AO1: PRESENZE | AP1: PRESENZE IN CASA | AQ1: PRESENZE FUORI CASA | AR1: MEDIA VOTO | AS1: MEDIA VOTO ANDATA | AT1: MEDIA VOTO RITORNO | AU1: MODA | AV1: MEDIA VOTO CASA | AW1: MEDIA VOTO FUORI CASA | AX1: FANTAMEDIA | AY1: FANTAMEDIA CASA | AZ1: FANTAMEDIA FUORI CASA | BA1: Somma Voti | BB1: Somma Bonus\Malus | BC1: Somma Voti e Bonus\Malus | BD1: Somma Voti Casa | BE1: Somma Voti Fuori Casa | BF1: Somma Bonus\Malus Casa | BG1: Somma Bonus\Malus Fuori Casa | BH1: Somma Voti Bonus\Malus Casa | BI1: Somma Voti Bonus\Malus Fuori Casa
A2: ATALANTA
A3: P | B3: CONSIGLI | C3: 6.5 | D3: 7 | E3: 6 | F3: 5.5 | G3: 6 | H3: 6 | I3: 6.5 | J3: 6 | K3: 6 | L3: 6.5 | M3: 5.5 | N3: 6 | O3: 6 | P3: 7 | Q3: 6.5 | R3: 6.5 | S3: 6 | T3: 6 | W3: 6.5 | X3: 6.5 | Y3: 6.5 | Z3: 5.5 | AA3: 6 | AB3: 6.5 | AC3: 6.5 | AD3: 7 | AE3: 6.5 | AF3: 6 | AG3: 6.5 | AH3: 5.5 | AI3: 6 | AJ3: 7 | AK3: 6 | AL3: 6.5 | AM3: 5.5 | AO3: =COUNT(C3:AN3) -> 35 | AP3: =COUNT(D3,F3,H3,J3,L3,N3,P3,S3,U3,V3,X3,Z3,AB3,AD3,AF3,AH3,AJ3,AK3,AM3) -> 17 | AQ3: =COUNT(C3,E3,G3,I3,K3,M3,O3,Q3,R3,T3,W3,Y3,AA3,AC3,AE3,AG3,AI3,AL3,AN3) -> 18 | AR3: =AVERAGE(C3:AN3) -> 6.2285714 | AS3: =AVERAGE(C3:U3) -> 6.1944444 | AT3: =AVERAGE(V3:AN3) -> 6.2647059 | AU3: =MODE(C3:AN3) -> 6.5 | AV3: =AVERAGE(D3,F3,H3,J3,L3,N3,P3,S3,U3,V3,X3,Z3,AB3,AD3,AF3,AH3,AJ3,AK3,AM3) -> 6.2058824 | AW3: =AVERAGE(C3,E3,G3,I3,K3,M3,O3,Q3,R3,T3,W3,Y3,AA3,AC3,AE3,AG3,AI3,AL3,AN3) -> 6.25 | AX3: =BC3/AO3 -> 4.8857143 | AY3: =BH3/AP3 -> 4.9411765 | AZ3: =BI3/AQ3 -> 4.8333333 | BA3: =SUM(C3:AN3) -> 218 | BB3: =SUM('BONUS GAZZETTA 2013 2014'!C3:AN3) -> -47 | BC3: =SUM(BA3:BB3) -> 171 | BD3: =SUM(D3,F3,H3,J3,L3,N3,P3,S3,U3,V3,X3,Z3,AB3,AD3,AF3,AH3,AJ3,AK3,AM3) -> 105.5 | BE3: =SUM(C3,E3,G3,I3,K3,M3,O3,Q3,R3,T3,W3,Y3,AA3,AC3,AE3,AG3,AI3,AL3,AN3) -> 112.5 | BF3: =SUM('BONUS GAZZETTA 2013 2014'!D3,'BONUS GAZZETTA 2013 2014'!F3,'BONUS GAZZETTA 2013 2014'!H3,'BONUS GAZZETTA 2013 2014'!J3,'BONUS GAZZETTA 2013 2014'!L3,'BONUS GAZZETTA 2013 2014'!N3,'BONUS GAZZETTA 2013 2014'!P3,'BONUS GAZZETTA 2013 2014'!S3,'BONUS GAZZETTA 2013 2014'!U3,'BONUS GAZZETTA 2013 2014'!V3,'BONUS GAZZETTA 2013 2014'!X3,'BONUS GAZZETTA 2013 2014'!Z3,'BONUS GAZZETTA 2013 2014'!AB3,'BONUS GAZZETTA 2013 2014'!AD3,'BONUS GAZZETTA 2013 2014'!AF3,'BONUS GAZZETTA 2013 2014'!AH3,'BONUS GAZZETTA 2013 2014'!AJ3,'BONUS GAZZETTA 2013 2014'!AK3,'BONUS GAZZETTA 2013 2014'!AM3) -> -21.5 | BG3: =SUM('BONUS GAZZETTA 2013 2014'!C3,'BONUS GAZZETTA 2013 2014'!E3,'BONUS GAZZETTA 2013 2014'!G3,'BONUS GAZZETTA 2013 2014'!I3,'BONUS GAZZETTA 2013 2014'!K3,'BONUS GAZZETTA 2013 2014'!M3,'BONUS GAZZETTA 2013 2014'!O3,'BONUS GAZZETTA 2013 2014'!Q3,'BONUS GAZZETTA 2013 2014'!R3,'BONUS GAZZETTA 2013 2014'!T3,'BONUS GAZZETTA 2013 2014'!W3,'BONUS GAZZETTA 2013 2014'!Y3,'BONUS GAZZETTA 2013 2014'!AA3,'BONUS GAZZETTA 2013 2014'!AC3,'BONUS GAZZETTA 2013 2014'!AE3,'BONUS GAZZETTA 2013 2014'!AG3,'BONUS GAZZETTA 2013 2014'!AI3,'BONUS GAZZETTA 2013 2014'!AL3,'BONUS GAZZETTA 2013 2014'!AN3) -> -25.5 | BH3: =SUM(BD3,BF3) -> 84 | BI3: =SUM(BE3,BG3) -> 87
A4: P | B4: SPORTIELLO | U4: 7 | V4: 6 | AN4: 6 | AO4: =COUNT(C4:AN4) -> 3 | AP4: =COUNT(D4,F4,H4,J4,L4,N4,P4,S4,U4,V4,X4,Z4,AB4,AD4,AF4,AH4,AJ4,AK4,AM4) -> 2 | AQ4: =COUNT(C4,E4,G4,I4,K4,M4,O4,Q4,R4,T4,W4,Y4,AA4,AC4,AE4,AG4,AI4,AL4,AN4) -> 1 | AR4: =AVERAGE(C4:AN4) -> 6.3333333 | AS4: =AVERAGE(C4:U4) -> 7 | AT4: =AVERAGE(V4:AN4) -> 6 | AU4: =MODE(C4:AN4) -> 6 | AV4: =AVERAGE(D4,F4,H4,J4,L4,N4,P4,S4,U4,V4,X4,Z4,AB4,AD4,AF4,AH4,AJ4,AK4,AM4) -> 6.5 | AW4: =AVERAGE(C4,E4,G4,I4,K4,M4,O4,Q4,R4,T4,W4,Y4,AA4,AC4,AE4,AG4,AI4,AL4,AN4) -> 6 | AX4: =BC4/AO4 -> 5.3333333 | AY4: =BH4/AP4 -> 6 | AZ4: =BI4/AQ4 -> 4 | BA4: =SUM(C4:AN4) -> 19 | BB4: =SUM('BONUS GAZZETTA 2013 2014'!C4:AN4) -> -3 | BC4: =SUM(BA4:BB4) -> 16 | BD4: =SUM(D4,F4,H4,J4,L4,N4,P4,S4,U4,V4,X4,Z4,AB4,AD4,AF4,AH4,AJ4,AK4,AM4) -> 13 | BE4: =SUM(C4,E4,G4,I4,K4,M4,O4,Q4,R4,T4,W4,Y4,AA4,AC4,AE4,AG4,AI4,AL4,AN4) -> 6 | BF4: =SUM('BONUS GAZZETTA 2013 2014'!D4,'BONUS GAZZETTA 2013 2014'!F4,'BONUS GAZZETTA 2013 2014'!H4,'BONUS GAZZETTA 2013 2014'!J4,'BONUS GAZZETTA 2013 2014'!L4,'BONUS GAZZETTA 2013 2014'!N4,'BONUS GAZZETTA 2013 2014'!P4,'BONUS GAZZETTA 2013 2014'!S4,'BONUS GAZZETTA 2013 2014'!U4,'BONUS GAZZETTA 2013 2014'!V4,'BONUS GAZZETTA 2013 2014'!X4,'BONUS GAZZETTA 2013 2014'!Z4,'BONUS GAZZETTA 2013 2014'!AB4,'BONUS GAZZETTA 2013 2014'!AD4,'BONUS GAZZETTA 2013 2014'!AF4,'BONUS GAZZETTA 2013 2014'!AH4,'BONUS GAZZETTA 2013 2014'!AJ4,'BONUS GAZZETTA 2013 2014'!AK4,'BONUS GAZZETTA 2013 2014'!AM4) -> -1 | BG4: =SUM('BONUS GAZZETTA 2013 2014'!C4,'BONUS GAZZETTA 2013 2014'!E4,'BONUS GAZZETTA 2013 2014'!G4,'BONUS GAZZETTA 2013 2014'!I4,'BONUS GAZZETTA 2013 2014'!K4,'BONUS GAZZETTA 2013 2014'!M4,'BONUS GAZZETTA 2013 2014'!O4,'BONUS GAZZETTA 2013 2014'!Q4,'BONUS GAZZETTA 2013 2014'!R4,'BONUS GAZZETTA 2013 2014'!T4,'BONUS GAZZETTA 2013 2014'!W4,'BONUS GAZZETTA 2013 2014'!Y4,'BONUS GAZZETTA 2013 2014'!AA4,'BONUS GAZZETTA 2013 2014'!AC4,'BONUS GAZZETTA 2013 2014'!AE4,'BONUS GAZZETTA 2013 2014'!AG4,'BONUS GAZZETTA 2013 2014'!AI4,'BONUS GAZZETTA 2013 2014'!AL4,'BONUS GAZZETTA 2013 2014'!AN4) -> -2 | BH4: =SUM(BD4,BF4) -> 12 | BI4: =SUM(BE4,BG4) -> 4
A5: D | B5: BELLINI | H5: 6.5 | I5: 6 | J5: 6 | K5: 6 | O5: SV | AD5: 6 | AL5: 6 | AM5: 5.5 | AN5: 6 | AO5: =COUNT(C5:AN5) -> 8 | AP5: =COUNT(D5,F5,H5,J5,L5,N5,P5,S5,U5,V5,X5,Z5,AB5,AD5,AF5,AH5,AJ5,AK5,AM5) -> 4 | AQ5: =COUNT(C5,E5,G5,I5,K5,M5,O5,Q5,R5,T5,W5,Y5,AA5,AC5,AE5,AG5,AI5,AL5,AN5) -> 4 | AR5: =AVERAGE(C5:AN5) -> 6 | AS5: =AVERAGE(C5:U5) -> 6.125 | AT5: =AVERAGE(V5:AN5) -> 5.875 | AU5: =MODE(C5:AN5) -> 6 | AV5: =AVERAGE(D5,F5,H5,J5,L5,N5,P5,S5,U5,V5,X5,Z5,AB5,AD5,AF5,AH5,AJ5,AK5,AM5) -> 6 | AW5: =AVERAGE(C5,E5,G5,I5,K5,M5,O5,Q5,R5,T5,W5,Y5,AA5,AC5,AE5,AG5,AI5,AL5,AN5) -> 6 | AX5: =BC5/AO5 -> 5.75 | AY5: =BH5/AP5 -> 5.5 | AZ5: =BI5/AQ5 -> 6 | BA5: =SUM(C5:AN5) -> 48 | BB5: =SUM('BONUS GAZZETTA 2013 2014'!C5:AN5) -> -2 | BC5: =SUM(BA5:BB5) -> 46 | BD5: =SUM(D5,F5,H5,J5,L5,N5,P5,S5,U5,V5,X5,Z5,AB5,AD5,AF5,AH5,AJ5,AK5,AM5) -> 24 | BE5: =SUM(C5,E5,G5,I5,K5,M5,O5,Q5,R5,T5,W5,Y5,AA5,AC5,AE5,AG5,AI5,AL5,AN5) -> 24 | BF5: =SUM('BONUS GAZZETTA 2013 2014'!D5,'BONUS GAZZETTA 2013 2014'!F5,'BONUS GAZZETTA 2013 2014'!H5,'BONUS GAZZETTA 2013 2014'!J5,'BONUS GAZZETTA 2013 2014'!L5,'BONUS GAZZETTA 2013 2014'!N5,'BONUS GAZZETTA 2013 2014'!P5,'BONUS GAZZETTA 2013 2014'!S5,'BONUS GAZZETTA 2013 2014'!U5,'BONUS GAZZETTA 2013 2014'!V5,'BONUS GAZZETTA 2013 2014'!X5,'BONUS GAZZETTA 2013 2014'!Z5,'BONUS GAZZETTA 2013 2014'!AB5,'BONUS GAZZETTA 2013 2014'!AD5,'BONUS GAZZETTA 2013 2014'!AF5,'BONUS GAZZETTA 2013 2014'!AH5,'BONUS GAZZETTA 2013 2014'!AJ5,'BONUS GAZZETTA 2013 2014'!AK5,'BONUS GAZZETTA 2013 2014'!AM5) -> -2 | BG5: =SUM('BONUS GAZZETTA 2013 2014'!C5,'BONUS GAZZETTA 2013 2014'!E5,'BONUS GAZZETTA 2013 2014'!G5,'BONUS GAZZETTA 2013 2014'!I5,'BONUS GAZZETTA 2013 2014'!K5,'BONUS GAZZETTA 2013 2014'!M5,'BONUS GAZZETTA 2013 2014'!O5,'BONUS GAZZETTA 2013 2014'!Q5,'BONUS GAZZETTA 2013 2014'!R5,'BONUS GAZZETTA 2013 2014'!T5,'BONUS GAZZETTA 2013 2014'!W5,'BONUS GAZZETTA 2013 2014'!Y5,'BONUS GAZZETTA 2013 2014'!AA5,'BONUS GAZZETTA 2013 2014'!AC5,'BONUS GAZZETTA 2013 2014'!AE5,'BONUS GAZZETTA 2013 2014'!AG5,'BONUS GAZZETTA 2013 2014'!AI5,'BONUS GAZZETTA 2013 2014'!AL5,'BONUS GAZZETTA 2013 2014'!AN5) -> 0 | BH5: =SUM(BD5,BF5) -> 22 | BI5: =SUM(BE5,BG5) -> 24
A6: D | B6: BENALOUANE | T6: 6 | U6: 6 | W6: 6 | X6: 7 | Y6: 6.5 | Z6: 4.5 | AA6: 6 | AB6: 6 | AC6: 5.5 | AD6: 5 | AH6: 5 | AI6: 6 | AJ6: 6 | AK6: 6 | AL6: 6 | AM6: 6.5 | AN6: 6 | AO6: =COUNT(C6:AN6) -> 17 | AP6: =COUNT(D6,F6,H6,J6,L6,N6,P6,S6,U6,V6,X6,Z6,AB6,AD6,AF6,AH6,AJ6,AK6,AM6) -> 9 | AQ6: =COUNT(C6,E6,G6,I6,K6,M6,O6,Q6,R6,T6,W6,Y6,AA6,AC6,AE6,AG6,AI6,AL6,AN6) -> 8 | AR6: =AVERAGE(C6:AN6) -> 5.8823529 | AS6: =AVERAGE(C6:U6) -> 6 | AT6: =AVERAGE(V6:AN6) -> 5.8666667 | AU6: =MODE(C6:AN6) -> 6 | AV6: =AVERAGE(D6,F6,H6,J6,L6,N6,P6,S6,U6,V6,X6,Z6,AB6,AD6,AF6,AH6,AJ6,AK6,AM6) -> 5.7777778 | AW6: =AVERAGE(C6,E6,G6,I6,K6,M6,O6,Q6,R6,T6,W6,Y6,AA6,AC6,AE6,AG6,AI6,AL6,AN6) -> 6 | AX6: =BC6/AO6 -> 5.6470588 | AY6: =BH6/AP6 -> 5.3888889 | AZ6: =BI6/AQ6 -> 5.9375 | BA6: =SUM(C6:AN6) -> 100 | BB6: =SUM('BONUS GAZZETTA 2013 2014'!C6:AN6) -> -4 | BC6: =SUM(BA6:BB6) -> 96 | BD6: =SUM(D6,F6,H6,J6,L6,N6,P6,S6,U6,V6,X6,Z6,AB6,AD6,AF6,AH6,AJ6,AK6,AM6) -> 52 | BE6: =SUM(C6,E6,G6,I6,K6,M6,O6,Q6,R6,T6,W6,Y6,AA6,AC6,AE6,AG6,AI6,AL6,AN6) -> 48 | BF6: =SUM('BONUS GAZZETTA 2013 2014'!D6,'BONUS GAZZETTA 2013 2014'!F6,'BONUS GAZZETTA 2013 2014'!H6,'BONUS GAZZETTA 2013 2014'!J6,'BONUS GAZZETTA 2013 2014'!L6,'BONUS GAZZETTA 2013 2014'!N6,'BONUS GAZZETTA 2013 2014'!P6,'BONUS GAZZETTA 2013 2014'!S6,'BONUS GAZZETTA 2013 2014'!U6,'BONUS GAZZETTA 2013 2014'!V6,'BONUS GAZZETTA 2013 2014'!X6,'BONUS GAZZETTA 2013 2014'!Z6,'BONUS GAZZETTA 2013 2014'!AB6,'BONUS GAZZETTA 2013 2014'!AD6,'BONUS GAZZETTA 2013 2014'!AF6,'BONUS GAZZETTA 2013 2014'!AH6,'BONUS GAZZETTA 2013 2014'!AJ6,'BONUS GAZZETTA 2013 2014'!AK6,'BONUS GAZZETTA 2013 2014'!AM6) -> -3.5 | BG6: =SUM('BONUS GAZZETTA 2013 2014'!C6,'BONUS GAZZETTA 2013 2014'!E6,'BONUS GAZZETTA 2013 2014'!G6,'BONUS GAZZETTA 2013 2014'!I6,'BONUS GAZZETTA 2013 2014'!K6,'BONUS GAZZETTA 2013 2014'!M6,'BONUS GAZZETTA 2013 2014'!O6,'BONUS GAZZETTA 2013 2014'!Q6,'BONUS GAZZETTA 2013 2014'!R6,'BONUS GAZZETTA 2013 2014'!T6,'BONUS GAZZETTA 2013 2014'!W6,'BONUS GAZZETTA 2013 2014'!Y6,'BONUS GAZZETTA 2013 2014'!AA6,'BONUS GAZZETTA 2013 2014'!AC6,'BONUS GAZZETTA 2013 2014'!AE6,'BONUS GAZZETTA 2013 2014'!AG6,'BONUS GAZZETTA 2013 2014'!AI6,'BONUS GAZZETTA 2013 2014'!AL6,'BONUS GAZZETTA 2013 2014'!AN6) -> -0.5 | BH6: =SUM(BD6,BF6) -> 48.5 | BI6: =SUM(BE6,BG6) -> 47.5
A7: D | B7: BRIVIO | E7: 5.5 | F7: 5 | I7: 6 | L7: 5.5 | N7: 7 | O7: 5.5 | P7: 6 | Q7: 6 | R7: 5.5 | S7: 6 | T7: 6 | U7: 5.5 | V7: 6 | W7: 6 | Z7: 5 | AA7: 6.5 | AB7: 6 | AC7: 6.5 | AI7: 5.5 | AJ7: 5 | AL7: 6 | AM7: 6.5 | AN7: 5.5 | AO7: =COUNT(C7:AN7) -> 23 | AP7: =COUNT(D7,F7,H7,J7,L7,N7,P7,S7,U7,V7,X7,Z7,AB7,AD7,AF7,AH7,AJ7,AK7,AM7) -> 11 | AQ7: =COUNT(C7,E7,G7,I7,K7,M7,O7,Q7,R7,T7,W7,Y7,AA7,AC7,AE7,AG7,AI7,AL7,AN7) -> 12 | AR7: =AVERAGE(C7:AN7) -> 5.826087 | AS7: =AVERAGE(C7:U7) -> 5.7916667 | AT7: =AVERAGE(V7:AN7) -> 5.8636364 | AU7: =MODE(C7:AN7) -> 6 | AV7: =AVERAGE(D7,F7,H7,J7,L7,N7,P7,S7,U7,V7,X7,Z7,AB7,AD7,AF7,AH7,AJ7,AK7,AM7) -> 5.7727273 | AW7: =AVERAGE(C7,E7,G7,I7,K7,M7,O7,Q7,R7,T7,W7,Y7,AA7,AC7,AE7,AG7,AI7,AL7,AN7) -> 5.875 | AX7: =BC7/AO7 -> 6.173913 | AY7: =BH7/AP7 -> 6.3181818 | AZ7: =BI7/AQ7 -> 6.0416667 | BA7: =SUM(C7:AN7) -> 134 | BB7: =SUM('BONUS GAZZETTA 2013 2014'!C7:AN7) -> 8 | BC7: =SUM(BA7:BB7) -> 142 | BD7: =SUM(D7,F7,H7,J7,L7,N7,P7,S7,U7,V7,X7,Z7,AB7,AD7,AF7,AH7,AJ7,AK7,AM7) -> 63.5 | BE7: =SUM(C7,E7,G7,I7,K7,M7,O7,Q7,R7,T7,W7,Y7,AA7,AC7,AE7,AG7,AI7,AL7,AN7) -> 70.5 | BF7: =SUM('BONUS GAZZETTA 2013 2014'!D7,'BONUS GAZZETTA 2013 2014'!F7,'BONUS GAZZETTA 2013 2014'!H7,'BONUS GAZZETTA 2013 2014'!J7,'BONUS GAZZETTA 2013 2014'!L7,'BONUS GAZZETTA 2013 2014'!N7,'BONUS GAZZETTA 2013 2014'!P7,'BONUS GAZZETTA 2013 2014'!S7,'BONUS GAZZETTA 2013 2014'!U7,'BONUS GAZZETTA 2013 2014'!V7,'BONUS GAZZETTA 2013 2014'!X7,'BONUS GAZZETTA 2013 2014'!Z7,'BONUS GAZZETTA 2013 2014'!AB7,'BONUS GAZZETTA 2013 2014'!AD7,'BONUS GAZZETTA 2013 2014'!AF7,'BONUS GAZZETTA 2013 2014'!AH7,'BONUS GAZZETTA 2013 2014'!AJ7,'BONUS GAZZETTA 2013 2014'!AK7,'BONUS GAZZETTA 2013 2014'!AM7) -> 6 | BG7: =SUM('BONUS GAZZETTA 2013 2014'!C7,'BONUS GAZZETTA 2013 2014'!E7,'BONUS GAZZETTA 2013 2014'!G7,'BONUS GAZZETTA 2013 2014'!I7,'BONUS GAZZETTA 2013 2014'!K7,'BONUS GAZZETTA 2013 2014'!M7,'BONUS GAZZETTA 2013 2014'!O7,'BONUS GAZZETTA 2013 2014'!Q7,'BONUS GAZZETTA 2013 2014'!R7,'BONUS GAZZETTA 2013 2014'!T7,'BONUS GAZZETTA 2013 2014'!W7,'BONUS GAZZETTA 2013 2014'!Y7,'BONUS GAZZETTA 2013 2014'!AA7,'BONUS GAZZETTA 2013 2014'!AC7,'BONUS GAZZETTA 2013 2014'!AE7,'BONUS GAZZETTA 2013 2014'!AG7,'BONUS GAZZETTA 2013 2014'!AI7,'BONUS GAZZETTA 2013 2014'!AL7,'BONUS GAZZETTA 2013 2014'!AN7) -> 2 | BH7: =SUM(BD7,BF7) -> 69.5 | BI7: =SUM(BE7,BG7) -> 72.5
A8: D | B8: CALDARA | AN8: 5.5 | AO8: =COUNT(C8:AN8) -> 1 | AP8: =COUNT(D8,F8,H8,J8,L8,N8,P8,S8,U8,V8,X8,Z8,AB8,AD8,AF8,AH8,AJ8,AK8,AM8) -> 0 | AQ8: =COUNT(C8,E8,G8,I8,K8,M8,O8,Q8,R8,T8,W8,Y8,AA8,AC8,AE8,AG8,AI8,AL8,AN8) -> 1 | AR8: =AVERAGE(C8:AN8) -> 5.5 | AS8: =AVERAGE(C8:U8) -> #DIV/0! | AT8: =AVERAGE(V8:AN8) -> 5.5 | AU8: =MODE(C8:AN8) -> #N/A | AV8: =AVERAGE(D8,F8,H8,J8,L8,N8,P8,S8,U8,V8,X8,Z8,AB8,AD8,AF8,AH8,AJ8,AK8,AM8) -> #DIV/0! | AW8: =AVERAGE(C8,E8,G8,I8,K8,M8,O8,Q8,R8,T8,W8,Y8,AA8,AC8,AE8,AG8,AI8,AL8,AN8) -> 5.5 | AX8: =BC8/AO8 -> 5.5 | AY8: =BH8/AP8 -> #DIV/0! | AZ8: =BI8/AQ8 -> 5.5 | BA8: =SUM(C8:AN8) -> 5.5 | BB8: =SUM('BONUS GAZZETTA 2013 2014'!C8:AN8) -> 0 | BC8: =SUM(BA8:BB8) -> 5.5 | BD8: =SUM(D8,F8,H8,J8,L8,N8,P8,S8,U8,V8,X8,Z8,AB8,AD8,AF8,AH8,AJ8,AK8,AM8) -> 0 | BE8: =SUM(C8,E8,G8,I8,K8,M8,O8,Q8,R8,T8,W8,Y8,AA8,AC8,AE8,AG8,AI8,AL8,AN8) -> 5.5 | BF8: =SUM('BONUS GAZZETTA 2013 2014'!D8,'BONUS GAZZETTA 2013 2014'!F8,'BONUS GAZZETTA 2013 2014'!H8,'BONUS GAZZETTA 2013 2014'!J8,'BONUS GAZZETTA 2013 2014'!L8,'BONUS GAZZETTA 2013 2014'!N8,'BONUS GAZZETTA 2013 2014'!P8,'BONUS GAZZETTA 2013 2014'!S8,'BONUS GAZZETTA 2013 2014'!U8,'BONUS GAZZETTA 2013 2014'!V8,'BONUS GAZZETTA 2013 2014'!X8,'BONUS GAZZETTA 2013 2014'!Z8,'BONUS GAZZETTA 2013 2014'!AB8,'BONUS GAZZETTA 2013 2014'!AD8,'BONUS GAZZETTA 2013 2014'!AF8,'BONUS GAZZETTA 2013 2014'!AH8,'BONUS GAZZETTA 2013 2014'!AJ8,'BONUS GAZZETTA 2013 2014'!AK8,'BONUS GAZZETTA 2013 2014'!AM8) -> 0 | BG8: =SUM('BONUS GAZZETTA 2013 2014'!C8,'BONUS GAZZETTA 2013 2014'!E8,'BONUS GAZZETTA 2013 2014'!G8,'BONUS GAZZETTA 2013 2014'!I8,'BONUS GAZZETTA 2013 2014'!K8,'BONUS GAZZETTA 2013 2014'!M8,'BONUS GAZZETTA 2013 2014'!O8,'BONUS GAZZETTA 2013 2014'!Q8,'BONUS GAZZETTA 2013 2014'!R8,'BONUS GAZZETTA 2013 2014'!T8,'BONUS GAZZETTA 2013 2014'!W8,'BONUS GAZZETTA 2013 2014'!Y8,'BONUS GAZZETTA 2013 2014'!AA8,'BONUS GAZZETTA 2013 2014'!AC8,'BONUS GAZZETTA 2013 2014'!AE8,'BONUS GAZZETTA 2013 2014'!AG8,'BONUS GAZZETTA 2013 2014'!AI8,'BONUS GAZZETTA 2013 2014'!AL8,'BONUS GAZZETTA 2013 2014'!AN8) -> 0 | BH8: =SUM(BD8,BF8) -> 0 | BI8: =SUM(BE8,BG8) -> 5.5
A9: D | B9: CANINI | G9: 5.5 | H9: SV | L9: 6.5 | M9: 5 | N9: 6 | O9: 5.5 | P9: 5.5 | Q9: 5 | AO9: =COUNT(C9:AN9) -> 7 | AP9: =COUNT(D9,F9,H9,J9,L9,N9,P9,S9,U9,V9,X9,Z9,AB9,AD9,AF9,AH9,AJ9,AK9,AM9) -> 3 | AQ9: =COUNT(C9,E9,G9,I9,K9,M9,O9,Q9,R9,T9,W9,Y9,AA9,AC9,AE9,AG9,AI9,AL9,AN9) -> 4 | AR9: =AVERAGE(C9:AN9) -> 5.5714286 | AS9: =AVERAGE(C9:U9) -> 5.5714286 | AT9: =AVERAGE(V9:AN9) -> #DIV/0! | AU9: =MODE(C9:AN9) -> 5.5 | AV9: =AVERAGE(D9,F9,H9,J9,L9,N9,P9,S9,U9,V9,X9,Z9,AB9,AD9,AF9,AH9,AJ9,AK9,AM9) -> 6 | AW9: =AVERAGE(C9,E9,G9,I9,K9,M9,O9,Q9,R9,T9,W9,Y9,AA9,AC9,AE9,AG9,AI9,AL9,AN9) -> 5.25 | AX9: =BC9/AO9 -> 5.3571429 | AY9: =BH9/AP9 -> 5.6666667 | AZ9: =BI9/AQ9 -> 5.125 | BA9: =SUM(C9:AN9) -> 39 | BB9: =SUM('BONUS GAZZETTA 2013 2014'!C9:AN9) -> -1.5 | BC9: =SUM(BA9:BB9) -> 37.5 | BD9: =SUM(D9,F9,H9,J9,L9,N9,P9,S9,U9,V9,X9,Z9,AB9,AD9,AF9,AH9,AJ9,AK9,AM9) -> 18 | BE9: =SUM(C9,E9,G9,I9,K9,M9,O9,Q9,R9,T9,W9,Y9,AA9,AC9,AE9,AG9,AI9,AL9,AN9) -> 21 | BF9: =SUM('BONUS GAZZETTA 2013 2014'!D9,'BONUS GAZZETTA 2013 2014'!F9,'BONUS GAZZETTA 2013 2014'!H9,'BONUS GAZZETTA 2013 2014'!J9,'BONUS GAZZETTA 2013 2014'!L9,'BONUS GAZZETTA 2013 2014'!N9,'BONUS GAZZETTA 2013 2014'!P9,'BONUS GAZZETTA 2013 2014'!S9,'BONUS GAZZETTA 2013 2014'!U9,'BONUS GAZZETTA 2013 2014'!V9,'BONUS GAZZETTA 2013 2014'!X9,'BONUS GAZZETTA 2013 2014'!Z9,'BONUS GAZZETTA 2013 2014'!AB9,'BONUS GAZZETTA 2013 2014'!AD9,'BONUS GAZZETTA 2013 2014'!AF9,'BONUS GAZZETTA 2013 2014'!AH9,'BONUS GAZZETTA 2013 2014'!AJ9,'BONUS GAZZETTA 2013 2014'!AK9,'BONUS GAZZETTA 2013 2014'!AM9) -> -1 | BG9: =SUM('BONUS GAZZETTA 2013 2014'!C9,'BONUS GAZZETTA 2013 2014'!E9,'BONUS GAZZETTA 2013 2014'!G9,'BONUS GAZZETTA 2013 2014'!I9,'BONUS GAZZETTA 2013 2014'!K9,'BONUS GAZZETTA 2013 2014'!M9,'BONUS GAZZETTA 2013 2014'!O9,'BONUS GAZZETTA 2013 2014'!Q9,'BONUS GAZZETTA 2013 2014'!R9,'BONUS GAZZETTA 2013 2014'!T9,'BONUS GAZZETTA 2013 2014'!W9,'BONUS GAZZETTA 2013 2014'!Y9,'BONUS GAZZETTA 2013 2014'!AA9,'BONUS GAZZETTA 2013 2014'!AC9,'BONUS GAZZETTA 2013 2014'!AE9,'BONUS GAZZETTA 2013 2014'!AG9,'BONUS GAZZETTA 2013 2014'!AI9,'BONUS GAZZETTA 2013 2014'!AL9,'BONUS GAZZETTA 2013 2014'!AN9) -> -0.5 | BH9: =SUM(BD9,BF9) -> 17 | BI9: =SUM(BE9,BG9) -> 20.5
A10: D | B10: DEL GROSSO | C10: 5.5 | D10: 6 | E10: 6 | G10: 5 | H10: 6 | J10: 5 | K10: 6 | M10: 5.5 | P10: 6 | S10: 6 | U10: 6 | X10: 7.5 | Y10: 5 | AD10: 6.5 | AE10: 6 | AF10: 6 | AG10: 6 | AH10: 5.5 | AK10: 5.5 | AO10: =COUNT(C10:AN10) -> 19 | AP10: =COUNT(D10,F10,H10,J10,L10,N10,P10,S10,U10,V10,X10,Z10,AB10,AD10,AF10,AH10,AJ10,AK10,AM10) -> 11 | AQ10: =COUNT(C10,E10,G10,I10,K10,M10,O10,Q10,R10,T10,W10,Y10,AA10,AC10,AE10,AG10,AI10,AL10,AN10) -> 8 | AR10: =AVERAGE(C10:AN10) -> 5.8421053 | AS10: =AVERAGE(C10:U10) -> 5.7272727 | AT10: =AVERAGE(V10:AN10) -> 6 | AU10: =MODE(C10:AN10) -> 6 | AV10: =AVERAGE(D10,F10,H10,J10,L10,N10,P10,S10,U10,V10,X10,Z10,AB10,AD10,AF10,AH10,AJ10,AK10,AM10) -> 6 | AW10: =AVERAGE(C10,E10,G10,I10,K10,M10,O10,Q10,R10,T10,W10,Y10,AA10,AC10,AE10,AG10,AI10,AL10,AN10) -> 5.625 | AX10: =BC10/AO10 -> 5.7368421 | AY10: =BH10/AP10 -> 5.9090909 | AZ10: =BI10/AQ10 -> 5.5 | BA10: =SUM(C10:AN10) -> 111 | BB10: =SUM('BONUS GAZZETTA 2013 2014'!C10:AN10) -> -2 | BC10: =SUM(BA10:BB10) -> 109 | BD10: =SUM(D10,F10,H10,J10,L10,N10,P10,S10,U10,V10,X10,Z10,AB10,AD10,AF10,AH10,AJ10,AK10,AM10) -> 66 | BE10: =SUM(C10,E10,G10,I10,K10,M10,O10,Q10,R10,T10,W10,Y10,AA10,AC10,AE10,AG10,AI10,AL10,AN10) -> 45 | BF10: =SUM('BONUS GAZZETTA 2013 2014'!D10,'BONUS GAZZETTA 2013 2014'!F10,'BONUS GAZZETTA 2013 2014'!H10,'BONUS GAZZETTA 2013 2014'!J10,'BONUS GAZZETTA 2013 2014'!L10,'BONUS GAZZETTA 2013 2014'!N10,'BONUS GAZZETTA 2013 2014'!P10,'BONUS GAZZETTA 2013 2014'!S10,'BONUS GAZZETTA 2013 2014'!U10,'BONUS GAZZETTA 2013 2014'!V10,'BONUS GAZZETTA 2013 2014'!X10,'BONUS GAZZETTA 2013 2014'!Z10,'BONUS GAZZETTA 2013 2014'!AB10,'BONUS GAZZETTA 2013 2014'!AD10,'BONUS GAZZETTA 2013 2014'!AF10,'BONUS GAZZETTA 2013 2014'!AH10,'BONUS GAZZETTA 2013 2014'!AJ10,'BONUS GAZZETTA 2013 2014'!AK10,'BONUS GAZZETTA 2013 2014'!AM10) -> -1 | BG10: =SUM('BONUS GAZZETTA 2013 2014'!C10,'BONUS GAZZETTA 2013 2014'!E10,'BONUS GAZZETTA 2013 2014'!G10,'BONUS GAZZETTA 2013 2014'!I10,'BONUS GAZZETTA 2013 2014'!K10,'BONUS GAZZETTA 2013 2014'!M10,'BONUS GAZZETTA 2013 2014'!O10,'BONUS GAZZETTA 2013 2014'!Q10,'BONUS GAZZETTA 2013 2014'!R10,'BONUS GAZZETTA 2013 2014'!T10,'BONUS GAZZETTA 2013 2014'!W10,'BONUS GAZZETTA 2013 2014'!Y10,'BONUS GAZZETTA 2013 2014'!AA10,'BONUS GAZZETTA 2013 2014'!AC10,'BONUS GAZZETTA 2013 2014'!AE10,'BONUS GAZZETTA 2013 2014'!AG10,'BONUS GAZZETTA 2013 2014'!AI10,'BONUS GAZZETTA 2013 2014'!AL10,'BONUS GAZZETTA 2013 2014'!AN10) -> -1 | BH10: =SUM(BD10,BF10) -> 65 | BI10: =SUM(BE10,BG10) -> 44
A11: D | B11: LUCCHINI | D11: 6.5 | E11: 5 | F11: 5.5 | H11: 6 | I11: 6 | J11: 5.5 | P11: 5.5 | Q11: 6.5 | R11: 6.5 | U11: 6 | V11: 6 | X11: 6.5 | AC11: SV | AF11: 6 | AG11: 7 | AH11: 5 | AI11: 6 | AK11: 5 | AL11: 6 | AO11: =COUNT(C11:AN11) -> 18 | AP11: =COUNT(D11,F11,H11,J11,L11,N11,P11,S11,U11,V11,X11,Z11,AB11,AD11,AF11,AH11,AJ11,AK11,AM11) -> 11 | AQ11: =COUNT(C11,E11,G11,I11,K11,M11,O11,Q11,R11,T11,W11,Y11,AA11,AC11,AE11,AG11,AI11,AL11,AN11) -> 7 | AR11: =AVERAGE(C11:AN11) -> 5.9166667 | AS11: =AVERAGE(C11:U11) -> 5.9 | AT11: =AVERAGE(V11:AN11) -> 5.9375 | AU11: =MODE(C11:AN11) -> 6 | AV11: =AVERAGE(D11,F11,H11,J11,L11,N11,P11,S11,U11,V11,X11,Z11,AB11,AD11,AF11,AH11,AJ11,AK11,AM11) -> 5.7727273 | AW11: =AVERAGE(C11,E11,G11,I11,K11,M11,O11,Q11,R11,T11,W11,Y11,AA11,AC11,AE11,AG11,AI11,AL11,AN11) -> 6.1428571 | AX11: =BC11/AO11 -> 5.9444444 | AY11: =BH11/AP11 -> 5.8636364 | AZ11: =BI11/AQ11 -> 6.0714286 | BA11: =SUM(C11:AN11) -> 106.5 | BB11: =SUM('BONUS GAZZETTA 2013 2014'!C11:AN11) -> 0.5 | BC11: =SUM(BA11:BB11) -> 107 | BD11: =SUM(D11,F11,H11,J11,L11,N11,P11,S11,U11,V11,X11,Z11,AB11,AD11,AF11,AH11,AJ11,AK11,AM11) -> 63.5 | BE11: =SUM(C11,E11,G11,I11,K11,M11,O11,Q11,R11,T11,W11,Y11,AA11,AC11,AE11,AG11,AI11,AL11,AN11) -> 43 | BF11: =SUM('BONUS GAZZETTA 2013 2014'!D11,'BONUS GAZZETTA 2013 2014'!F11,'BONUS GAZZETTA 2013 2014'!H11,'BONUS GAZZETTA 2013 2014'!J11,'BONUS GAZZETTA 2013 2014'!L11,'BONUS GAZZETTA 2013 2014'!N11,'BONUS GAZZETTA 2013 2014'!P11,'BONUS GAZZETTA 2013 2014'!S11,'BONUS GAZZETTA 2013 2014'!U11,'BONUS GAZZETTA 2013 2014'!V11,'BONUS GAZZETTA 2013 2014'!X11,'BONUS GAZZETTA 2013 2014'!Z11,'BONUS GAZZETTA 2013 2014'!AB11,'BONUS GAZZETTA 2013 2014'!AD11,'BONUS GAZZETTA 2013 2014'!AF11,'BONUS GAZZETTA 2013 2014'!AH11,'BONUS GAZZETTA 2013 2014'!AJ11,'BONUS GAZZETTA 2013 2014'!AK11,'BONUS GAZZETTA 2013 2014'!AM11) -> 1 | BG11: =SUM('BONUS GAZZETTA 2013 2014'!C11,'BONUS GAZZETTA 2013 2014'!E11,'BONUS GAZZETTA 2013 2014'!G11,'BONUS GAZZETTA 2013 2014'!I11,'BONUS GAZZETTA 2013 2014'!K11,'BONUS GAZZETTA 2013 2014'!M11,'BONUS GAZZETTA 2013 2014'!O11,'BONUS GAZZETTA 2013 2014'!Q11,'BONUS GAZZETTA 2013 2014'!R11,'BONUS GAZZETTA 2013 2014'!T11,'BONUS GAZZETTA 2013 2014'!W11,'BONUS GAZZETTA 2013 2014'!Y11,'BONUS GAZZETTA 2013 2014'!AA11,'BONUS GAZZETTA 2013 2014'!AC11,'BONUS GAZZETTA 2013 2014'!AE11,'BONUS GAZZETTA 2013 2014'!AG11,'BONUS GAZZETTA 2013 2014'!AI11,'BONUS GAZZETTA 2013 2014'!AL11,'BONUS GAZZETTA 2013 2014'!AN11) -> -0.5 | BH11: =SUM(BD11,BF11) -> 64.5 | BI11: =SUM(BE11,BG11) -> 42.5
A12: D | B12: NICA | C12: SV | K12: 6 | AE12: 5.5 | AF12: SV | AG12: 6 | AJ12: 5.5 | AL12: SV | AO12: =COUNT(C12:AN12) -> 4 | AP12: =COUNT(D12,F12,H12,J12,L12,N12,P12,S12,U12,V12,X12,Z12,AB12,AD12,AF12,AH12,AJ12,AK12,AM12) -> 1 | AQ12: =COUNT(C12,E12,G12,I12,K12,M12,O12,Q12,R12,T12,W12,Y12,AA12,AC12,AE12,AG12,AI12,AL12,AN12) -> 3 | AR12: =AVERAGE(C12:AN12) -> 5.75 | AS12: =AVERAGE(C12:U12) -> 6 | AT12: =AVERAGE(V12:AN12) -> 5.6666667 | AU12: =MODE(C12:AN12) -> 6 | AV12: =AVERAGE(D12,F12,H12,J12,L12,N12,P12,S12,U12,V12,X12,Z12,AB12,AD12,AF12,AH12,AJ12,AK12,AM12) -> 5.5 | AW12: =AVERAGE(C12,E12,G12,I12,K12,M12,O12,Q12,R12,T12,W12,Y12,AA12,AC12,AE12,AG12,AI12,AL12,AN12) -> 5.8333333 | AX12: =BC12/AO12 -> 5.375 | AY12: =BH12/AP12 -> 5.5 | AZ12: =BI12/AQ12 -> 5.3333333 | BA12: =SUM(C12:AN12) -> 23 | BB12: =SUM('BONUS GAZZETTA 2013 2014'!C12:AN12) -> -1.5 | BC12: =SUM(BA12:BB12) -> 21.5 | BD12: =SUM(D12,F12,H12,J12,L12,N12,P12,S12,U12,V12,X12,Z12,AB12,AD12,AF12,AH12,AJ12,AK12,AM12) -> 5.5 | BE12: =SUM(C12,E12,G12,I12,K12,M12,O12,Q12,R12,T12,W12,Y12,AA12,AC12,AE12,AG12,AI12,AL12,AN12) -> 17.5 | BF12: =SUM('BONUS GAZZETTA 2013 2014'!D12,'BONUS GAZZETTA 2013 2014'!F12,'BONUS GAZZETTA 2013 2014'!H12,'BONUS GAZZETTA 2013 2014'!J12,'BONUS GAZZETTA 2013 2014'!L12,'BONUS GAZZETTA 2013 2014'!N12,'BONUS GAZZETTA 2013 2014'!P12,'BONUS GAZZETTA 2013 2014'!S12,'BONUS GAZZETTA 2013 2014'!U12,'BONUS GAZZETTA 2013 2014'!V12,'BONUS GAZZETTA 2013 2014'!X12,'BONUS GAZZETTA 2013 2014'!Z12,'BONUS GAZZETTA 2013 2014'!AB12,'BONUS GAZZETTA 2013 2014'!AD12,'BONUS GAZZETTA 2013 2014'!AF12,'BONUS GAZZETTA 2013 2014'!AH12,'BONUS GAZZETTA 2013 2014'!AJ12,'BONUS GAZZETTA 2013 2014'!AK12,'BONUS GAZZETTA 2013 2014'!AM12) -> 0 | BG12: =SUM('BONUS GAZZETTA 2013 2014'!C12,'BONUS GAZZETTA 2013 2014'!E12,'BONUS GAZZETTA 2013 2014'!G12,'BONUS GAZZETTA 2013 2014'!I12,'BONUS GAZZETTA 2013 2014'!K12,'BONUS GAZZETTA 2013 2014'!M12,'BONUS GAZZETTA 2013 2014'!O12,'BONUS GAZZETTA 2013 2014'!Q12,'BONUS GAZZETTA 2013 2014'!R12,'BONUS GAZZETTA 2013 2014'!T12,'BONUS GAZZETTA 2013 2014'!W12,'BONUS GAZZETTA 2013 2014'!Y12,'BONUS GAZZETTA 2013 2014'!AA12,'BONUS GAZZETTA 2013 2014'!AC12,'BONUS GAZZETTA 2013 2014'!AE12,'BONUS GAZZETTA 2013 2014'!AG12,'BONUS GAZZETTA 2013 2014'!AI12,'BONUS GAZZETTA 2013 2014'!AL12,'BONUS GAZZETTA 2013 2014'!AN12) -> -1.5 | BH12: =SUM(BD12,BF12) -> 5.5 | BI12: =SUM(BE12,BG12) -> 16
A13: D | B13: RAIMONDI | C13: 5 | D13: 5.5 | E13: 5.5 | F13: 6.5 | G13: 5.5 | H13: 6.5 | I13: 6.5 | J13: 6 | K13: 6 | L13: 6 | M13: 5 | N13: 6 | S13: 6 | T13: 5.5 | V13: 5.5 | W13: 6 | X13: 6.5 | Y13: 5 | Z13: 5.5 | AA13: 6 | AB13: 5.5 | AC13: SV | AE13: 6 | AF13: 6 | AG13: SV | AJ13: 5 | AK13: SV | AL13: 6 | AM13: 6.5 | AN13: 6 | AO13: =COUNT(C13:AN13) -> 27 | AP13: =COUNT(D13,F13,H13,J13,L13,N13,P13,S13,U13,V13,X13,Z13,AB13,AD13,AF13,AH13,AJ13,AK13,AM13) -> 14 | AQ13: =COUNT(C13,E13,G13,I13,K13,M13,O13,Q13,R13,T13,W13,Y13,AA13,AC13,AE13,AG13,AI13,AL13,AN13) -> 13 | AR13: =AVERAGE(C13:AN13) -> 5.8148148 | AS13: =AVERAGE(C13:U13) -> 5.8214286 | AT13: =AVERAGE(V13:AN13) -> 5.8076923 | AU13: =MODE(C13:AN13) -> 6 | AV13: =AVERAGE(D13,F13,H13,J13,L13,N13,P13,S13,U13,V13,X13,Z13,AB13,AD13,AF13,AH13,AJ13,AK13,AM13) -> 5.9285714 | AW13: =AVERAGE(C13,E13,G13,I13,K13,M13,O13,Q13,R13,T13,W13,Y13,AA13,AC13,AE13,AG13,AI13,AL13,AN13) -> 5.6923077 | AX13: =BC13/AO13 -> 5.6851852 | AY13: =BH13/AP13 -> 5.8571429 | AZ13: =BI13/AQ13 -> 5.5 | BA13: =SUM(C13:AN13) -> 157 | BB13: =SUM('BONUS GAZZETTA 2013 2014'!C13:AN13) -> -3.5 | BC13: =SUM(BA13:BB13) -> 153.5 | BD13: =SUM(D13,F13,H13,J13,L13,N13,P13,S13,U13,V13,X13,Z13,AB13,AD13,AF13,AH13,AJ13,AK13,AM13) -> 83 | BE13: =SUM(C13,E13,G13,I13,K13,M13,O13,Q13,R13,T13,W13,Y13,AA13,AC13,AE13,AG13,AI13,AL13,AN13) -> 74 | BF13: =SUM('BONUS GAZZETTA 2013 2014'!D13,'BONUS GAZZETTA 2013 2014'!F13,'BONUS GAZZETTA 2013 2014'!H13,'BONUS GAZZETTA 2013 2014'!J13,'BONUS GAZZETTA 2013 2014'!L13,'BONUS GAZZETTA 2013 2014'!N13,'BONUS GAZZETTA 2013 2014'!P13,'BONUS GAZZETTA 2013 2014'!S13,'BONUS GAZZETTA 2013 2014'!U13,'BONUS GAZZETTA 2013 2014'!V13,'BONUS GAZZETTA 2013 2014'!X13,'BONUS GAZZETTA 2013 2014'!Z13,'BONUS GAZZETTA 2013 2014'!AB13,'BONUS GAZZETTA 2013 2014'!AD13,'BONUS GAZZETTA 2013 2014'!AF13,'BONUS GAZZETTA 2013 2014'!AH13,'BONUS GAZZETTA 2013 2014'!AJ13,'BONUS GAZZETTA 2013 2014'!AK13,'BONUS GAZZETTA 2013 2014'!AM13) -> -1 | BG13: =SUM('BONUS GAZZETTA 2013 2014'!C13,'BONUS GAZZETTA 2013 2014'!E13,'BONUS GAZZETTA 2013 2014'!G13,'BONUS GAZZETTA 2013 2014'!I13,'BONUS GAZZETTA 2013 2014'!K13,'BONUS GAZZETTA 2013 2014'!M13,'BONUS GAZZETTA 2013 2014'!O13,'BONUS GAZZETTA 2013 2014'!Q13,'BONUS GAZZETTA 2013 2014'!R13,'BONUS GAZZETTA 2013 2014'!T13,'BONUS GAZZETTA 2013 2014'!W13,'BONUS GAZZETTA 2013 2014'!Y13,'BONUS GAZZETTA 2013 2014'!AA13,'BONUS GAZZETTA 2013 2014'!AC13,'BONUS GAZZETTA 2013 2014'!AE13,'BONUS GAZZETTA 2013 2014'!AG13,'BONUS GAZZETTA 2013 2014'!AI13,'BONUS GAZZETTA 2013 2014'!AL13,'BONUS GAZZETTA 2013 2014'!AN13) -> -2.5 | BH13: =SUM(BD13,BF13) -> 82 | BI13: =SUM(BE13,BG13) -> 71.5
A14: D | B14: SCALONI | M14: 6 | N14: 6 | O14: 6 | P14: 6 | R14: 6.5 | AO14: =COUNT(C14:AN14) -> 5 | AP14: =COUNT(D14,F14,H14,J14,L14,N14,P14,S14,U14,V14,X14,Z14,AB14,AD14,AF14,AH14,AJ14,AK14,AM14) -> 2 | AQ14: =COUNT(C14,E14,G14,I14,K14,M14,O14,Q14,R14,T14,W14,Y14,AA14,AC14,AE14,AG14,AI14,AL14,AN14) -> 3 | AR14: =AVERAGE(C14:AN14) -> 6.1 | AS14: =AVERAGE(C14:U14) -> 6.1 | AT14: =AVERAGE(V14:AN14) -> #DIV/0! | AU14: =MODE(C14:AN14) -> 6 | AV14: =AVERAGE(D14,F14,H14,J14,L14,N14,P14,S14,U14,V14,X14,Z14,AB14,AD14,AF14,AH14,AJ14,AK14,AM14) -> 6 | AW14: =AVERAGE(C14,E14,G14,I14,K14,M14,O14,Q14,R14,T14,W14,Y14,AA14,AC14,AE14,AG14,AI14,AL14,AN14) -> 6.1666667 | AX14: =BC14/AO14 -> 6.1 | AY14: =BH14/AP14 -> 6 | AZ14: =BI14/AQ14 -> 6.1666667 | BA14: =SUM(C14:AN14) -> 30.5 | BB14: =SUM('BONUS GAZZETTA 2013 2014'!C14:AN14) -> 0 | BC14: =SUM(BA14:BB14) -> 30.5 | BD14: =SUM(D14,F14,H14,J14,L14,N14,P14,S14,U14,V14,X14,Z14,AB14,AD14,AF14,AH14,AJ14,AK14,AM14) -> 12 | BE14: =SUM(C14,E14,G14,I14,K14,M14,O14,Q14,R14,T14,W14,Y14,AA14,AC14,AE14,AG14,AI14,AL14,AN14) -> 18.5 | BF14: =SUM('BONUS GAZZETTA 2013 2014'!D14,'BONUS GAZZETTA 2013 2014'!F14,'BONUS GAZZETTA 2013 2014'!H14,'BONUS GAZZETTA 2013 2014'!J14,'BONUS GAZZETTA 2013 2014'!L14,'BONUS GAZZETTA 2013 2014'!N14,'BONUS GAZZETTA 2013 2014'!P14,'BONUS GAZZETTA 2013 2014'!S14,'BONUS GAZZETTA 2013 2014'!U14,'BONUS GAZZETTA 2013 2014'!V14,'BONUS GAZZETTA 2013 2014'!X14,'BONUS GAZZETTA 2013 2014'!Z14,'BONUS GAZZETTA 2013 2014'!AB14,'BONUS GAZZETTA 2013 2014'!AD14,'BONUS GAZZETTA 2013 2014'!AF14,'BONUS GAZZETTA 2013 2014'!AH14,'BONUS GAZZETTA 2013 2014'!AJ14,'BONUS GAZZETTA 2013 2014'!AK14,'BONUS GAZZETTA 2013 2014'!AM14) -> 0 | BG14: =SUM('BONUS GAZZETTA 2013 2014'!C14,'BONUS GAZZETTA 2013 2014'!E14,'BONUS GAZZETTA 2013 2014'!G14,'BONUS GAZZETTA 2013 2014'!I14,'BONUS GAZZETTA 2013 2014'!K14,'BONUS GAZZETTA 2013 2014'!M14,'BONUS GAZZETTA 2013 2014'!O14,'BONUS GAZZETTA 2013 2014'!Q14,'BONUS GAZZETTA 2013 2014'!R14,'BONUS GAZZETTA 2013 2014'!T14,'BONUS GAZZETTA 2013 2014'!W14,'BONUS GAZZETTA 2013 2014'!Y14,'BONUS GAZZETTA 2013 2014'!AA14,'BONUS GAZZETTA 2013 2014'!AC14,'BONUS GAZZETTA 2013 2014'!AE14,'BONUS GAZZETTA 2013 2014'!AG14,'BONUS GAZZETTA 2013 2014'!AI14,'BONUS GAZZETTA 2013 2014'!AL14,'BONUS GAZZETTA 2013 2014'!AN14) -> 0 | BH14: =SUM(BD14,BF14) -> 12 | BI14: =SUM(BE14,BG14) -> 18.5
A15: D | B15: STENDARDO | C15: 6.5 | D15: 6.5 | E15: 5.5 | F15: 6 | G15: 5.5 | H15: 6 | I15: 6 | J15: 6 | K15: 4 | L15: 5.5 | N15: 5.5 | O15: 6 | S15: 6 | T15: 5.5 | U15: 6 | V15: 5.5 | W15: 7 | X15: 6.5 | Y15: 6 | Z15: 5 | AA15: 5.5 | AB15: 6 | AC15: 6 | AD15: 6 | AE15: 6 | AG15: 7 | AI15: 4.5 | AK15: 6 | AO15: =COUNT(C15:AN15) -> 28 | AP15: =COUNT(D15,F15,H15,J15,L15,N15,P15,S15,U15,V15,X15,Z15,AB15,AD15,AF15,AH15,AJ15,AK15,AM15) -> 14 | AQ15: =COUNT(C15,E15,G15,I15,K15,M15,O15,Q15,R15,T15,W15,Y15,AA15,AC15,AE15,AG15,AI15,AL15,AN15) -> 14 | AR15: =AVERAGE(C15:AN15) -> 5.8392857 | AS15: =AVERAGE(C15:U15) -> 5.7666667 | AT15: =AVERAGE(V15:AN15) -> 5.9230769 | AU15: =MODE(C15:AN15) -> 6 | AV15: =AVERAGE(D15,F15,H15,J15,L15,N15,P15,S15,U15,V15,X15,Z15,AB15,AD15,AF15,AH15,AJ15,AK15,AM15) -> 5.8928571 | AW15: =AVERAGE(C15,E15,G15,I15,K15,M15,O15,Q15,R15,T15,W15,Y15,AA15,AC15,AE15,AG15,AI15,AL15,AN15) -> 5.7857143 | AX15: =BC15/AO15 -> 5.9107143 | AY15: =BH15/AP15 -> 6.0714286 | AZ15: =BI15/AQ15 -> 5.75 | BA15: =SUM(C15:AN15) -> 163.5 | BB15: =SUM('BONUS GAZZETTA 2013 2014'!C15:AN15) -> 2 | BC15: =SUM(BA15:BB15) -> 165.5 | BD15: =SUM(D15,F15,H15,J15,L15,N15,P15,S15,U15,V15,X15,Z15,AB15,AD15,AF15,AH15,AJ15,AK15,AM15) -> 82.5 | BE15: =SUM(C15,E15,G15,I15,K15,M15,O15,Q15,R15,T15,W15,Y15,AA15,AC15,AE15,AG15,AI15,AL15,AN15) -> 81 | BF15: =SUM('BONUS GAZZETTA 2013 2014'!D15,'BONUS GAZZETTA 2013 2014'!F15,'BONUS GAZZETTA 2013 2014'!H15,'BONUS GAZZETTA 2013 2014'!J15,'BONUS GAZZETTA 2013 2014'!L15,'BONUS GAZZETTA 2013 2014'!N15,'BONUS GAZZETTA 2013 2014'!P15,'BONUS GAZZETTA 2013 2014'!S15,'BONUS GAZZETTA 2013 2014'!U15,'BONUS GAZZETTA 2013 2014'!V15,'BONUS GAZZETTA 2013 2014'!X15,'BONUS GAZZETTA 2013 2014'!Z15,'BONUS GAZZETTA 2013 2014'!AB15,'BONUS GAZZETTA 2013 2014'!AD15,'BONUS GAZZETTA 2013 2014'!AF15,'BONUS GAZZETTA 2013 2014'!AH15,'BONUS GAZZETTA 2013 2014'!AJ15,'BONUS GAZZETTA 2013 2014'!AK15,'BONUS GAZZETTA 2013 2014'!AM15) -> 2.5 | BG15: =SUM('BONUS GAZZETTA 2013 2014'!C15,'BONUS GAZZETTA 2013 2014'!E15,'BONUS GAZZETTA 2013 2014'!G15,'BONUS GAZZETTA 2013 2014'!I15,'BONUS GAZZETTA 2013 2014'!K15,'BONUS GAZZETTA 2013 2014'!M15,'BONUS GAZZETTA 2013 2014'!O15,'BONUS GAZZETTA 2013 2014'!Q15,'BONUS GAZZETTA 2013 2014'!R15,'BONUS GAZZETTA 2013 2014'!T15,'BONUS GAZZETTA 2013 2014'!W15,'BONUS GAZZETTA 2013 2014'!Y15,'BONUS GAZZETTA 2013 2014'!AA15,'BONUS GAZZETTA 2013 2014'!AC15,'BONUS GAZZETTA 2013 2014'!AE15,'BONUS GAZZETTA 2013 2014'!AG15,'BONUS GAZZETTA 2013 2014'!AI15,'BONUS GAZZETTA 2013 2014'!AL15,'BONUS GAZZETTA 2013 2014'!AN15) -> -0.5 | BH15: =SUM(BD15,BF15) -> 85 | BI15: =SUM(BE15,BG15) -> 80.5
A16: D | B16: YEPES | C16: 6 | D16: 5 | E16: 6 | F16: 6 | G16: 5 | I16: SV | J16: 6 | K16: 5 | L16: 6 | V16: 6 | W16: 7 | X16: 6 | Y16: 6 | Z16: 5 | AA16: 6 | AB16: 5.5 | AC16: 6 | AD16: 6.5 | AE16: 6 | AF16: 6.5 | AH16: 6 | AI16: 5 | AJ16: 5 | AL16: 6 | AO16: =COUNT(C16:AN16) -> 23 | AP16: =COUNT(D16,F16,H16,J16,L16,N16,P16,S16,U16,V16,X16,Z16,AB16,AD16,AF16,AH16,AJ16,AK16,AM16) -> 12 | AQ16: =COUNT(C16,E16,G16,I16,K16,M16,O16,Q16,R16,T16,W16,Y16,AA16,AC16,AE16,AG16,AI16,AL16,AN16) -> 11 | AR16: =AVERAGE(C16:AN16) -> 5.8043478 | AS16: =AVERAGE(C16:U16) -> 5.625 | AT16: =AVERAGE(V16:AN16) -> 5.9 | AU16: =MODE(C16:AN16) -> 6 | AV16: =AVERAGE(D16,F16,H16,J16,L16,N16,P16,S16,U16,V16,X16,Z16,AB16,AD16,AF16,AH16,AJ16,AK16,AM16) -> 5.7916667 | AW16: =AVERAGE(C16,E16,G16,I16,K16,M16,O16,Q16,R16,T16,W16,Y16,AA16,AC16,AE16,AG16,AI16,AL16,AN16) -> 5.8181818 | AX16: =BC16/AO16 -> 5.6304348 | AY16: =BH16/AP16 -> 5.625 | AZ16: =BI16/AQ16 -> 5.6363636 | BA16: =SUM(C16:AN16) -> 133.5 | BB16: =SUM('BONUS GAZZETTA 2013 2014'!C16:AN16) -> -4 | BC16: =SUM(BA16:BB16) -> 129.5 | BD16: =SUM(D16,F16,H16,J16,L16,N16,P16,S16,U16,V16,X16,Z16,AB16,AD16,AF16,AH16,AJ16,AK16,AM16) -> 69.5 | BE16: =SUM(C16,E16,G16,I16,K16,M16,O16,Q16,R16,T16,W16,Y16,AA16,AC16,AE16,AG16,AI16,AL16,AN16) -> 64 | BF16: =SUM('BONUS GAZZETTA 2013 2014'!D16,'BONUS GAZZETTA 2013 2014'!F16,'BONUS GAZZETTA 2013 2014'!H16,'BONUS GAZZETTA 2013 2014'!J16,'BONUS GAZZETTA 2013 2014'!L16,'BONUS GAZZETTA 2013 2014'!N16,'BONUS GAZZETTA 2013 2014'!P16,'BONUS GAZZETTA 2013 2014'!S16,'BONUS GAZZETTA 2013 2014'!U16,'BONUS GAZZETTA 2013 2014'!V16,'BONUS GAZZETTA 2013 2014'!X16,'BONUS GAZZETTA 2013 2014'!Z16,'BONUS GAZZETTA 2013 2014'!AB16,'BONUS GAZZETTA 2013 2014'!AD16,'BONUS GAZZETTA 2013 2014'!AF16,'BONUS GAZZETTA 2013 2014'!AH16,'BONUS GAZZETTA 2013 2014'!AJ16,'BONUS GAZZETTA 2013 2014'!AK16,'BONUS GAZZETTA 2013 2014'!AM16) -> -2 | BG16: =SUM('BONUS GAZZETTA 2013 2014'!C16,'BONUS GAZZETTA 2013 2014'!E16,'BONUS GAZZETTA 2013 2014'!G16,'BONUS GAZZETTA 2013 2014'!I16,'BONUS GAZZETTA 2013 2014'!K16,'BONUS GAZZETTA 2013 2014'!M16,'BONUS GAZZETTA 2013 2014'!O16,'BONUS GAZZETTA 2013 2014'!Q16,'BONUS GAZZETTA 2013 2014'!R16,'BONUS GAZZETTA 2013 2014'!T16,'BONUS GAZZETTA 2013 2014'!W16,'BONUS GAZZETTA 2013 2014'!Y16,'BONUS GAZZETTA 2013 2014'!AA16,'BONUS GAZZETTA 2013 2014'!AC16,'BONUS GAZZETTA 2013 2014'!AE16,'BONUS GAZZETTA 2013 2014'!AG16,'BONUS GAZZETTA 2013 2014'!AI16,'BONUS GAZZETTA 2013 2014'!AL16,'BONUS GAZZETTA 2013 2014'!AN16) -> -2 | BH16: =SUM(BD16,BF16) -> 67.5 | BI16: =SUM(BE16,BG16) -> 62
A17: C | B17: BASELLI | D17: 5.5 | E17: 6.5 | F17: 5.5 | I17: 6 | J17: SV | L17: 6 | M17: 5.5 | N17: 6 | Q17: 6.5 | T17: 5 | U17: SV | V17: SV | X17: 6 | Z17: 6.5 | AA17: 7 | AB17: 5.5 | AC17: 6 | AD17: SV | AE17: SV | AF17: 6 | AG17: 6.5 | AH17: 5.5 | AI17: 6 | AJ17: 5 | AK17: 5.5 | AL17: 6 | AM17: 6.5 | AN17: 5.5 | AO17: =COUNT(C17:AN17) -> 23 | AP17: =COUNT(D17,F17,H17,J17,L17,N17,P17,S17,U17,V17,X17,Z17,AB17,AD17,AF17,AH17,AJ17,AK17,AM17) -> 12 | AQ17: =COUNT(C17,E17,G17,I17,K17,M17,O17,Q17,R17,T17,W17,Y17,AA17,AC17,AE17,AG17,AI17,AL17,AN17) -> 11 | AR17: =AVERAGE(C17:AN17) -> 5.9130435 | AS17: =AVERAGE(C17:U17) -> 5.8333333 | AT17: =AVERAGE(V17:AN17) -> 5.9642857 | AU17: =MODE(C17:AN17) -> 6 | AV17: =AVERAGE(D17,F17,H17,J17,L17,N17,P17,S17,U17,V17,X17,Z17,AB17,AD17,AF17,AH17,AJ17,AK17,AM17) -> 5.7916667 | AW17: =AVERAGE(C17,E17,G17,I17,K17,M17,O17,Q17,R17,T17,W17,Y17,AA17,AC17,AE17,AG17,AI17,AL17,AN17) -> 6.0454545 | AX17: =BC17/AO17 -> 5.8913043 | AY17: =BH17/AP17 -> 5.75 | AZ17: =BI17/AQ17 -> 6.0454545 | BA17: =SUM(C17:AN17) -> 136 | BB17: =SUM('BONUS GAZZETTA 2013 2014'!C17:AN17) -> -0.5 | BC17: =SUM(BA17:BB17) -> 135.5 | BD17: =SUM(D17,F17,H17,J17,L17,N17,P17,S17,U17,V17,X17,Z17,AB17,AD17,AF17,AH17,AJ17,AK17,AM17) -> 69.5 | BE17: =SUM(C17,E17,G17,I17,K17,M17,O17,Q17,R17,T17,W17,Y17,AA17,AC17,AE17,AG17,AI17,AL17,AN17) -> 66.5 | BF17: =SUM('BONUS GAZZETTA 2013 2014'!D17,'BONUS GAZZETTA 2013 2014'!F17,'BONUS GAZZETTA 2013 2014'!H17,'BONUS GAZZETTA 2013 2014'!J17,'BONUS GAZZETTA 2013 2014'!L17,'BONUS GAZZETTA 2013 2014'!N17,'BONUS GAZZETTA 2013 2014'!P17,'BONUS GAZZETTA 2013 2014'!S17,'BONUS GAZZETTA 2013 2014'!U17,'BONUS GAZZETTA 2013 2014'!V17,'BONUS GAZZETTA 2013 2014'!X17,'BONUS GAZZETTA 2013 2014'!Z17,'BONUS GAZZETTA 2013 2014'!AB17,'BONUS GAZZETTA 2013 2014'!AD17,'BONUS GAZZETTA 2013 2014'!AF17,'BONUS GAZZETTA 2013 2014'!AH17,'BONUS GAZZETTA 2013 2014'!AJ17,'BONUS GAZZETTA 2013 2014'!AK17,'BONUS GAZZETTA 2013 2014'!AM17) -> -0.5 | BG17: =SUM('BONUS GAZZETTA 2013 2014'!C17,'BONUS GAZZETTA 2013 2014'!E17,'BONUS GAZZETTA 2013 2014'!G17,'BONUS GAZZETTA 2013 2014'!I17,'BONUS GAZZETTA 2013 2014'!K17,'BONUS GAZZETTA 2013 2014'!M17,'BONUS GAZZETTA 2013 2014'!O17,'BONUS GAZZETTA 2013 2014'!Q17,'BONUS GAZZETTA 2013 2014'!R17,'BONUS GAZZETTA 2013 2014'!T17,'BONUS GAZZETTA 2013 2014'!W17,'BONUS GAZZETTA 2013 2014'!Y17,'BONUS GAZZETTA 2013 2014'!AA17,'BONUS GAZZETTA 2013 2014'!AC17,'BONUS GAZZETTA 2013 2014'!AE17,'BONUS GAZZETTA 2013 2014'!AG17,'BONUS GAZZETTA 2013 2014'!AI17,'BONUS GAZZETTA 2013 2014'!AL17,'BONUS GAZZETTA 2013 2014'!AN17) -> 0 | BH17: =SUM(BD17,BF17) -> 69 | BI17: =SUM(BE17,BG17) -> 66.5
A18: C | B18: BONAVENTURA | C18: 5.5 | D18: 5.5 | E18: 6 | F18: 6 | G18: 7 | H18: 6.5 | I18: 6.5 | J18: 6.5 | P18: 6 | R18: 6 | S18: 6.5 | T18: 5 | U18: 7 | V18: 6.5 | W18: 6.5 | X18: 7 | Y18: 6.5 | Z18: 6.5 | AA18: 6 | AB18: 7 | AC18: 6 | AD18: 8 | AE18: 7.5 | AF18: 6.5 | AG18: 7 | AH18: 5 | AI18: 6 | AJ18: 5 | AK18: 5.5 | AL18: 6.5 | AM18: 6.5 | AO18: =COUNT(C18:AN18) -> 31 | AP18: =COUNT(D18,F18,H18,J18,L18,N18,P18,S18,U18,V18,X18,Z18,AB18,AD18,AF18,AH18,AJ18,AK18,AM18) -> 17 | AQ18: =COUNT(C18,E18,G18,I18,K18,M18,O18,Q18,R18,T18,W18,Y18,AA18,AC18,AE18,AG18,AI18,AL18,AN18) -> 14 | AR18: =AVERAGE(C18:AN18) -> 6.3064516 | AS18: =AVERAGE(C18:U18) -> 6.1538462 | AT18: =AVERAGE(V18:AN18) -> 6.4166667 | AU18: =MODE(C18:AN18) -> 6.5 | AV18: =AVERAGE(D18,F18,H18,J18,L18,N18,P18,S18,U18,V18,X18,Z18,AB18,AD18,AF18,AH18,AJ18,AK18,AM18) -> 6.3235294 | AW18: =AVERAGE(C18,E18,G18,I18,K18,M18,O18,Q18,R18,T18,W18,Y18,AA18,AC18,AE18,AG18,AI18,AL18,AN18) -> 6.2857143 | AX18: =BC18/AO18 -> 6.7580645 | AY18: =BH18/AP18 -> 6.6470588 | AZ18: =BI18/AQ18 -> 6.8928571 | BA18: =SUM(C18:AN18) -> 195.5 | BB18: =SUM('BONUS GAZZETTA 2013 2014'!C18:AN18) -> 14 | BC18: =SUM(BA18:BB18) -> 209.5 | BD18: =SUM(D18,F18,H18,J18,L18,N18,P18,S18,U18,V18,X18,Z18,AB18,AD18,AF18,AH18,AJ18,AK18,AM18) -> 107.5 | BE18: =SUM(C18,E18,G18,I18,K18,M18,O18,Q18,R18,T18,W18,Y18,AA18,AC18,AE18,AG18,AI18,AL18,AN18) -> 88 | BF18: =SUM('BONUS GAZZETTA 2013 2014'!D18,'BONUS GAZZETTA 2013 2014'!F18,'BONUS GAZZETTA 2013 2014'!H18,'BONUS GAZZETTA 2013 2014'!J18,'BONUS GAZZETTA 2013 2014'!L18,'BONUS GAZZETTA 2013 2014'!N18,'BONUS GAZZETTA 2013 2014'!P18,'BONUS GAZZETTA 2013 2014'!S18,'BONUS GAZZETTA 2013 2014'!U18,'BONUS GAZZETTA 2013 2014'!V18,'BONUS GAZZETTA 2013 2014'!X18,'BONUS GAZZETTA 2013 2014'!Z18,'BONUS GAZZETTA 2013 2014'!AB18,'BONUS GAZZETTA 2013 2014'!AD18,'BONUS GAZZETTA 2013 2014'!AF18,'BONUS GAZZETTA 2013 2014'!AH18,'BONUS GAZZETTA 2013 2014'!AJ18,'BONUS GAZZETTA 2013 2014'!AK18,'BONUS GAZZETTA 2013 2014'!AM18) -> 5.5 | BG18: =SUM('BONUS GAZZETTA 2013 2014'!C18,'BONUS GAZZETTA 2013 2014'!E18,'BONUS GAZZETTA 2013 2014'!G18,'BONUS GAZZETTA 2013 2014'!I18,'BONUS GAZZETTA 2013 2014'!K18,'BONUS GAZZETTA 2013 2014'!M18,'BONUS GAZZETTA 2013 2014'!O18,'BONUS GAZZETTA 2013 2014'!Q18,'BONUS GAZZETTA 2013 2014'!R18,'BONUS GAZZETTA 2013 2014'!T18,'BONUS GAZZETTA 2013 2014'!W18,'BONUS GAZZETTA 2013 2014'!Y18,'BONUS GAZZETTA 2013 2014'!AA18,'BONUS GAZZETTA 2013 2014'!AC18,'BONUS GAZZETTA 2013 2014'!AE18,'BONUS GAZZETTA 2013 2014'!AG18,'BONUS GAZZETTA 2013 2014'!AI18,'BONUS GAZZETTA 2013 2014'!AL18,'BONUS GAZZETTA 2013 2014'!AN18) -> 8.5 | BH18: =SUM(BD18,BF18) -> 113 | BI18: =SUM(BE18,BG18) -> 96.5
A19: C | B19: BRIENZA | F19: 5.5 | G19: 6 | H19: SV | I19: SV | J19: 6 | K19: 5.5 | N19: SV | P19: 6 | Q19: 5 | R19: 6 | T19: 5.5 | U19: 5.5 | V19: 6.5 | W19: 5.5 | AB19: 6 | AE19: 6 | AM19: 7 | AN19: 6 | AO19: =COUNT(C19:AN19) -> 15 | AP19: =COUNT(D19,F19,H19,J19,L19,N19,P19,S19,U19,V19,X19,Z19,AB19,AD19,AF19,AH19,AJ19,AK19,AM19) -> 7 | AQ19: =COUNT(C19,E19,G19,I19,K19,M19,O19,Q19,R19,T19,W19,Y19,AA19,AC19,AE19,AG19,AI19,AL19,AN19) -> 8 | AR19: =AVERAGE(C19:AN19) -> 5.8666667 | AS19: =AVERAGE(C19:U19) -> 5.6666667 | AT19: =AVERAGE(V19:AN19) -> 6.1666667 | AU19: =MODE(C19:AN19) -> 6 | AV19: =AVERAGE(D19,F19,H19,J19,L19,N19,P19,S19,U19,V19,X19,Z19,AB19,AD19,AF19,AH19,AJ19,AK19,AM19) -> 6.0714286 | AW19: =AVERAGE(C19,E19,G19,I19,K19,M19,O19,Q19,R19,T19,W19,Y19,AA19,AC19,AE19,AG19,AI19,AL19,AN19) -> 5.6875 | AX19: =BC19/AO19 -> 6.0666667 | AY19: =BH19/AP19 -> 6.5 | AZ19: =BI19/AQ19 -> 5.6875 | BA19: =SUM(C19:AN19) -> 88 | BB19: =SUM('BONUS GAZZETTA 2013 2014'!C19:AN19) -> 3 | BC19: =SUM(BA19:BB19) -> 91 | BD19: =SUM(D19,F19,H19,J19,L19,N19,P19,S19,U19,V19,X19,Z19,AB19,AD19,AF19,AH19,AJ19,AK19,AM19) -> 42.5 | BE19: =SUM(C19,E19,G19,I19,K19,M19,O19,Q19,R19,T19,W19,Y19,AA19,AC19,AE19,AG19,AI19,AL19,AN19) -> 45.5 | BF19: =SUM('BONUS GAZZETTA 2013 2014'!D19,'BONUS GAZZETTA 2013 2014'!F19,'BONUS GAZZETTA 2013 2014'!H19,'BONUS GAZZETTA 2013 2014'!J19,'BONUS GAZZETTA 2013 2014'!L19,'BONUS GAZZETTA 2013 2014'!N19,'BONUS GAZZETTA 2013 2014'!P19,'BONUS GAZZETTA 2013 2014'!S19,'BONUS GAZZETTA 2013 2014'!U19,'BONUS GAZZETTA 2013 2014'!V19,'BONUS GAZZETTA 2013 2014'!X19,'BONUS GAZZETTA 2013 2014'!Z19,'BONUS GAZZETTA 2013 2014'!AB19,'BONUS GAZZETTA 2013 2014'!AD19,'BONUS GAZZETTA 2013 2014'!AF19,'BONUS GAZZETTA 2013 2014'!AH19,'BONUS GAZZETTA 2013 2014'!AJ19,'BONUS GAZZETTA 2013 2014'!AK19,'BONUS GAZZETTA 2013 2014'!AM19) -> 3 | BG19: =SUM('BONUS GAZZETTA 2013 2014'!C19,'BONUS GAZZETTA 2013 2014'!E19,'BONUS GAZZETTA 2013 2014'!G19,'BONUS GAZZETTA 2013 2014'!I19,'BONUS GAZZETTA 2013 2014'!K19,'BONUS GAZZETTA 2013 2014'!M19,'BONUS GAZZETTA 2013 2014'!O19,'BONUS GAZZETTA 2013 2014'!Q19,'BONUS GAZZETTA 2013 2014'!R19,'BONUS GAZZETTA 2013 2014'!T19,'BONUS GAZZETTA 2013 2014'!W19,'BONUS GAZZETTA 2013 2014'!Y19,'BONUS GAZZETTA 2013 2014'!AA19,'BONUS GAZZETTA 2013 2014'!AC19,'BONUS GAZZETTA 2013 2014'!AE19,'BONUS GAZZETTA 2013 2014'!AG19,'BONUS GAZZETTA 2013 2014'!AI19,'BONUS GAZZETTA 2013 2014'!AL19,'BONUS GAZZETTA 2013 2014'!AN19) -> 0 | BH19: =SUM(BD19,BF19) -> 45.5 | BI19: =SUM(BE19,BG19) -> 45.5
A20: C | B20: CARMONA | C20: 6 | D20: 6 | E20: 6 | F20: 6 | G20: 5 | H20: 6 | I20: 6.5 | J20: 6 | K20: 6 | L20: 7 | M20: 4 | O20: 6 | P20: 6 | Q20: 6 | R20: 6 | S20: 5.5 | T20: 6 | V20: 6 | W20: 7 | Y20: 5.5 | Z20: 5.5 | AA20: 6.5 | AB20: 6.5 | AC20: 6 | AD20: 7 | AE20: 6.5 | AF20: 6 | AG20: 6.5 | AH20: 5.5 | AJ20: 6 | AL20: 5.5 | AM20: 6 | AO20: =COUNT(C20:AN20) -> 32 | AP20: =COUNT(D20,F20,H20,J20,L20,N20,P20,S20,U20,V20,X20,Z20,AB20,AD20,AF20,AH20,AJ20,AK20,AM20) -> 15 | AQ20: =COUNT(C20,E20,G20,I20,K20,M20,O20,Q20,R20,T20,W20,Y20,AA20,AC20,AE20,AG20,AI20,AL20,AN20) -> 17 | AR20: =AVERAGE(C20:AN20) -> 6 | AS20: =AVERAGE(C20:U20) -> 5.8823529 | AT20: =AVERAGE(V20:AN20) -> 6.1333333 | AU20: =MODE(C20:AN20) -> 6 | AV20: =AVERAGE(D20,F20,H20,J20,L20,N20,P20,S20,U20,V20,X20,Z20,AB20,AD20,AF20,AH20,AJ20,AK20,AM20) -> 6.0666667 | AW20: =AVERAGE(C20,E20,G20,I20,K20,M20,O20,Q20,R20,T20,W20,Y20,AA20,AC20,AE20,AG20,AI20,AL20,AN20) -> 5.9411765 | AX20: =BC20/AO20 -> 6.03125 | AY20: =BH20/AP20 -> 6.3 | AZ20: =BI20/AQ20 -> 5.7941176 | BA20: =SUM(C20:AN20) -> 192 | BB20: =SUM('BONUS GAZZETTA 2013 2014'!C20:AN20) -> 1 | BC20: =SUM(BA20:BB20) -> 193 | BD20: =SUM(D20,F20,H20,J20,L20,N20,P20,S20,U20,V20,X20,Z20,AB20,AD20,AF20,AH20,AJ20,AK20,AM20) -> 91 | BE20: =SUM(C20,E20,G20,I20,K20,M20,O20,Q20,R20,T20,W20,Y20,AA20,AC20,AE20,AG20,AI20,AL20,AN20) -> 101 | BF20: =SUM('BONUS GAZZETTA 2013 2014'!D20,'BONUS GAZZETTA 2013 2014'!F20,'BONUS GAZZETTA 2013 2014'!H20,'BONUS GAZZETTA 2013 2014'!J20,'BONUS GAZZETTA 2013 2014'!L20,'BONUS GAZZETTA 2013 2014'!N20,'BONUS GAZZETTA 2013 2014'!P20,'BONUS GAZZETTA 2013 2014'!S20,'BONUS GAZZETTA 2013 2014'!U20,'BONUS GAZZETTA 2013 2014'!V20,'BONUS GAZZETTA 2013 2014'!X20,'BONUS GAZZETTA 2013 2014'!Z20,'BONUS GAZZETTA 2013 2014'!AB20,'BONUS GAZZETTA 2013 2014'!AD20,'BONUS GAZZETTA 2013 2014'!AF20,'BONUS GAZZETTA 2013 2014'!AH20,'BONUS GAZZETTA 2013 2014'!AJ20,'BONUS GAZZETTA 2013 2014'!AK20,'BONUS GAZZETTA 2013 2014'!AM20) -> 3.5 | BG20: =SUM('BONUS GAZZETTA 2013 2014'!C20,'BONUS GAZZETTA 2013 2014'!E20,'BONUS GAZZETTA 2013 2014'!G20,'BONUS GAZZETTA 2013 2014'!I20,'BONUS GAZZETTA 2013 2014'!K20,'BONUS GAZZETTA 2013 2014'!M20,'BONUS GAZZETTA 2013 2014'!O20,'BONUS GAZZETTA 2013 2014'!Q20,'BONUS GAZZETTA 2013 2014'!R20,'BONUS GAZZETTA 2013 2014'!T20,'BONUS GAZZETTA 2013 2014'!W20,'BONUS GAZZETTA 2013 2014'!Y20,'BONUS GAZZETTA 2013 2014'!AA20,'BONUS GAZZETTA 2013 2014'!AC20,'BONUS GAZZETTA 2013 2014'!AE20,'BONUS GAZZETTA 2013 2014'!AG20,'BONUS GAZZETTA 2013 2014'!AI20,'BONUS GAZZETTA 2013 2014'!AL20,'BONUS GAZZETTA 2013 2014'!AN20) -> -2.5 | BH20: =SUM(BD20,BF20) -> 94.5 | BI20: =SUM(BE20,BG20) -> 98.5
A21: C | B21: CAZZOLA | O21: 6 | P21: 7 | Q21: 5 | S21: 5.5 | X21: SV | Y21: SV | AO21: =COUNT(C21:AN21) -> 4 | AP21: =COUNT(D21,F21,H21,J21,L21,N21,P21,S21,U21,V21,X21,Z21,AB21,AD21,AF21,AH21,AJ21,AK21,AM21) -> 2 | AQ21: =COUNT(C21,E21,G21,I21,K21,M21,O21,Q21,R21,T21,W21,Y21,AA21,AC21,AE21,AG21,AI21,AL21,AN21) -> 2 | AR21: =AVERAGE(C21:AN21) -> 5.875 | AS21: =AVERAGE(C21:U21) -> 5.875 | AT21: =AVERAGE(V21:AN21) -> #DIV/0! | AU21: =MODE(C21:AN21) -> #N/A | AV21: =AVERAGE(D21,F21,H21,J21,L21,N21,P21,S21,U21,V21,X21,Z21,AB21,AD21,AF21,AH21,AJ21,AK21,AM21) -> 6.25 | AW21: =AVERAGE(C21,E21,G21,I21,K21,M21,O21,Q21,R21,T21,W21,Y21,AA21,AC21,AE21,AG21,AI21,AL21,AN21) -> 5.5 | AX21: =BC21/AO21 -> 5.625 | AY21: =BH21/AP21 -> 6.25 | AZ21: =BI21/AQ21 -> 5 | BA21: =SUM(C21:AN21) -> 23.5 | BB21: =SUM('BONUS GAZZETTA 2013 2014'!C21:AN21) -> -1 | BC21: =SUM(BA21:BB21) -> 22.5 | BD21: =SUM(D21,F21,H21,J21,L21,N21,P21,S21,U21,V21,X21,Z21,AB21,AD21,AF21,AH21,AJ21,AK21,AM21) -> 12.5 | BE21: =SUM(C21,E21,G21,I21,K21,M21,O21,Q21,R21,T21,W21,Y21,AA21,AC21,AE21,AG21,AI21,AL21,AN21) -> 11 | BF21: =SUM('BONUS GAZZETTA 2013 2014'!D21,'BONUS GAZZETTA 2013 2014'!F21,'BONUS GAZZETTA 2013 2014'!H21,'BONUS GAZZETTA 2013 2014'!J21,'BONUS GAZZETTA 2013 2014'!L21,'BONUS GAZZETTA 2013 2014'!N21,'BONUS GAZZETTA 2013 2014'!P21,'BONUS GAZZETTA 2013 2014'!S21,'BONUS GAZZETTA 2013 2014'!U21,'BONUS GAZZETTA 2013 2014'!V21,'BONUS GAZZETTA 2013 2014'!X21,'BONUS GAZZETTA 2013 2014'!Z21,'BONUS GAZZETTA 2013 2014'!AB21,'BONUS GAZZETTA 2013 2014'!AD21,'BONUS GAZZETTA 2013 2014'!AF21,'BONUS GAZZETTA 2013 2014'!AH21,'BONUS GAZZETTA 2013 2014'!AJ21,'BONUS GAZZETTA 2013 2014'!AK21,'BONUS GAZZETTA 2013 2014'!AM21) -> 0 | BG21: =SUM('BONUS GAZZETTA 2013 2014'!C21,'BONUS GAZZETTA 2013 2014'!E21,'BONUS GAZZETTA 2013 2014'!G21,'BONUS GAZZETTA 2013 2014'!I21,'BONUS GAZZETTA 2013 2014'!K21,'BONUS GAZZETTA 2013 2014'!M21,'BONUS GAZZETTA 2013 2014'!O21,'BONUS GAZZETTA 2013 2014'!Q21,'BONUS GAZZETTA 2013 2014'!R21,'BONUS GAZZETTA 2013 2014'!T21,'BONUS GAZZETTA 2013 2014'!W21,'BONUS GAZZETTA 2013 2014'!Y21,'BONUS GAZZETTA 2013 2014'!AA21,'BONUS GAZZETTA 2013 2014'!AC21,'BONUS GAZZETTA 2013 2014'!AE21,'BONUS GAZZETTA 2013 2014'!AG21,'BONUS GAZZETTA 2013 2014'!AI21,'BONUS GAZZETTA 2013 2014'!AL21,'BONUS GAZZETTA 2013 2014'!AN21) -> -1 | BH21: =SUM(BD21,BF21) -> 12.5 | BI21: =SUM(BE21,BG21) -> 10
A22: C | B22: CIGARINI | C22: 5 | D22: 5.5 | E22: 4.5 | G22: 6.5 | H22: 7 | I22: 7 | J22: 7.5 | K22: 6.5 | L22: 6 | M22: 5 | N22: 6 | O22: 5.5 | P22: 6 | R22: 5.5 | S22: 6.5 | T22: 6 | U22: 5 | V22: 5.5 | W22: 6 | X22: 6.5 | Y22: 5.5 | AA22: 6 | AB22: 7 | AD22: 6.5 | AE22: 6.5 | AF22: 6.5 | AG22: 6 | AH22: 5 | AI22: 6 | AJ22: 5.5 | AK22: 6 | AM22: 6.5 | AN22: 6 | AO22: =COUNT(C22:AN22) -> 33 | AP22: =COUNT(D22,F22,H22,J22,L22,N22,P22,S22,U22,V22,X22,Z22,AB22,AD22,AF22,AH22,AJ22,AK22,AM22) -> 17 | AQ22: =COUNT(C22,E22,G22,I22,K22,M22,O22,Q22,R22,T22,W22,Y22,AA22,AC22,AE22,AG22,AI22,AL22,AN22) -> 16 | AR22: =AVERAGE(C22:AN22) -> 6 | AS22: =AVERAGE(C22:U22) -> 5.9411765 | AT22: =AVERAGE(V22:AN22) -> 6.0625 | AU22: =MODE(C22:AN22) -> 6 | AV22: =AVERAGE(D22,F22,H22,J22,L22,N22,P22,S22,U22,V22,X22,Z22,AB22,AD22,AF22,AH22,AJ22,AK22,AM22) -> 6.1470588 | AW22: =AVERAGE(C22,E22,G22,I22,K22,M22,O22,Q22,R22,T22,W22,Y22,AA22,AC22,AE22,AG22,AI22,AL22,AN22) -> 5.84375 | AX22: =BC22/AO22 -> 5.9848485 | AY22: =BH22/AP22 -> 6.3823529 | AZ22: =BI22/AQ22 -> 5.5625 | BA22: =SUM(C22:AN22) -> 198 | BB22: =SUM('BONUS GAZZETTA 2013 2014'!C22:AN22) -> -0.5 | BC22: =SUM(BA22:BB22) -> 197.5 | BD22: =SUM(D22,F22,H22,J22,L22,N22,P22,S22,U22,V22,X22,Z22,AB22,AD22,AF22,AH22,AJ22,AK22,AM22) -> 104.5 | BE22: =SUM(C22,E22,G22,I22,K22,M22,O22,Q22,R22,T22,W22,Y22,AA22,AC22,AE22,AG22,AI22,AL22,AN22) -> 93.5 | BF22: =SUM('BONUS GAZZETTA 2013 2014'!D22,'BONUS GAZZETTA 2013 2014'!F22,'BONUS GAZZETTA 2013 2014'!H22,'BONUS GAZZETTA 2013 2014'!J22,'BONUS GAZZETTA 2013 2014'!L22,'BONUS GAZZETTA 2013 2014'!N22,'BONUS GAZZETTA 2013 2014'!P22,'BONUS GAZZETTA 2013 2014'!S22,'BONUS GAZZETTA 2013 2014'!U22,'BONUS GAZZETTA 2013 2014'!V22,'BONUS GAZZETTA 2013 2014'!X22,'BONUS GAZZETTA 2013 2014'!Z22,'BONUS GAZZETTA 2013 2014'!AB22,'BONUS GAZZETTA 2013 2014'!AD22,'BONUS GAZZETTA 2013 2014'!AF22,'BONUS GAZZETTA 2013 2014'!AH22,'BONUS GAZZETTA 2013 2014'!AJ22,'BONUS GAZZETTA 2013 2014'!AK22,'BONUS GAZZETTA 2013 2014'!AM22) -> 4 | BG22: =SUM('BONUS GAZZETTA 2013 2014'!C22,'BONUS GAZZETTA 2013 2014'!E22,'BONUS GAZZETTA 2013 2014'!G22,'BONUS GAZZETTA 2013 2014'!I22,'BONUS GAZZETTA 2013 2014'!K22,'BONUS GAZZETTA 2013 2014'!M22,'BONUS GAZZETTA 2013 2014'!O22,'BONUS GAZZETTA 2013 2014'!Q22,'BONUS GAZZETTA 2013 2014'!R22,'BONUS GAZZETTA 2013 2014'!T22,'BONUS GAZZETTA 2013 2014'!W22,'BONUS GAZZETTA 2013 2014'!Y22,'BONUS GAZZETTA 2013 2014'!AA22,'BONUS GAZZETTA 2013 2014'!AC22,'BONUS GAZZETTA 2013 2014'!AE22,'BONUS GAZZETTA 2013 2014'!AG22,'BONUS GAZZETTA 2013 2014'!AI22,'BONUS GAZZETTA 2013 2014'!AL22,'BONUS GAZZETTA 2013 2014'!AN22) -> -4.5 | BH22: =SUM(BD22,BF22) -> 108.5 | BI22: =SUM(BE22,BG22) -> 89
A23: C | B23: ESTIGARRIBIA | Y23: 6 | AA23: SV | AC23: 6 | AD23: 6.5 | AE23: 5 | AF23: 5.5 | AG23: 7 | AH23: 6.5 | AI23: 5.5 | AJ23: 6 | AK23: SV | AL23: 5.5 | AO23: =COUNT(C23:AN23) -> 10 | AP23: =COUNT(D23,F23,H23,J23,L23,N23,P23,S23,U23,V23,X23,Z23,AB23,AD23,AF23,AH23,AJ23,AK23,AM23) -> 4 | AQ23: =COUNT(C23,E23,G23,I23,K23,M23,O23,Q23,R23,T23,W23,Y23,AA23,AC23,AE23,AG23,AI23,AL23,AN23) -> 6 | AR23: =AVERAGE(C23:AN23) -> 5.95 | AS23: =AVERAGE(C23:U23) -> #DIV/0! | AT23: =AVERAGE(V23:AN23) -> 5.95 | AU23: =MODE(C23:AN23) -> 6 | AV23: =AVERAGE(D23,F23,H23,J23,L23,N23,P23,S23,U23,V23,X23,Z23,AB23,AD23,AF23,AH23,AJ23,AK23,AM23) -> 6.125 | AW23: =AVERAGE(C23,E23,G23,I23,K23,M23,O23,Q23,R23,T23,W23,Y23,AA23,AC23,AE23,AG23,AI23,AL23,AN23) -> 5.8333333 | AX23: =BC23/AO23 -> 6.15 | AY23: =BH23/AP23 -> 6.125 | AZ23: =BI23/AQ23 -> 6.1666667 | BA23: =SUM(C23:AN23) -> 59.5 | BB23: =SUM('BONUS GAZZETTA 2013 2014'!C23:AN23) -> 2 | BC23: =SUM(BA23:BB23) -> 61.5 | BD23: =SUM(D23,F23,H23,J23,L23,N23,P23,S23,U23,V23,X23,Z23,AB23,AD23,AF23,AH23,AJ23,AK23,AM23) -> 24.5 | BE23: =SUM(C23,E23,G23,I23,K23,M23,O23,Q23,R23,T23,W23,Y23,AA23,AC23,AE23,AG23,AI23,AL23,AN23) -> 35 | BF23: =SUM('BONUS GAZZETTA 2013 2014'!D23,'BONUS GAZZETTA 2013 2014'!F23,'BONUS GAZZETTA 2013 2014'!H23,'BONUS GAZZETTA 2013 2014'!J23,'BONUS GAZZETTA 2013 2014'!L23,'BONUS GAZZETTA 2013 2014'!N23,'BONUS GAZZETTA 2013 2014'!P23,'BONUS GAZZETTA 2013 2014'!S23,'BONUS GAZZETTA 2013 2014'!U23,'BONUS GAZZETTA 2013 2014'!V23,'BONUS GAZZETTA 2013 2014'!X23,'BONUS GAZZETTA 2013 2014'!Z23,'BONUS GAZZETTA 2013 2014'!AB23,'BONUS GAZZETTA 2013 2014'!AD23,'BONUS GAZZETTA 2013 2014'!AF23,'BONUS GAZZETTA 2013 2014'!AH23,'BONUS GAZZETTA 2013 2014'!AJ23,'BONUS GAZZETTA 2013 2014'!AK23,'BONUS GAZZETTA 2013 2014'!AM23) -> 0 | BG23: =SUM('BONUS GAZZETTA 2013 2014'!C23,'BONUS GAZZETTA 2013 2014'!E23,'BONUS GAZZETTA 2013 2014'!G23,'BONUS GAZZETTA 2013 2014'!I23,'BONUS GAZZETTA 2013 2014'!K23,'BONUS GAZZETTA 2013 2014'!M23,'BONUS GAZZETTA 2013 2014'!O23,'BONUS GAZZETTA 2013 2014'!Q23,'BONUS GAZZETTA 2013 2014'!R23,'BONUS GAZZETTA 2013 2014'!T23,'BONUS GAZZETTA 2013 2014'!W23,'BONUS GAZZETTA 2013 2014'!Y23,'BONUS GAZZETTA 2013 2014'!AA23,'BONUS GAZZETTA 2013 2014'!AC23,'BONUS GAZZETTA 2013 2014'!AE23,'BONUS GAZZETTA 2013 2014'!AG23,'BONUS GAZZETTA 2013 2014'!AI23,'BONUS GAZZETTA 2013 2014'!AL23,'BONUS GAZZETTA 2013 2014'!AN23) -> 2 | BH23: =SUM(BD23,BF23) -> 24.5 | BI23: =SUM(BE23,BG23) -> 37
A24: C | B24: GIORGI | Q24: 6 | AO24: =COUNT(C24:AN24) -> 1 | AP24: =COUNT(D24,F24,H24,J24,L24,N24,P24,S24,U24,V24,X24,Z24,AB24,AD24,AF24,AH24,AJ24,AK24,AM24) -> 0 | AQ24: =COUNT(C24,E24,G24,I24,K24,M24,O24,Q24,R24,T24,W24,Y24,AA24,AC24,AE24,AG24,AI24,AL24,AN24) -> 1 | AR24: =AVERAGE(C24:AN24) -> 6 | AS24: =AVERAGE(C24:U24) -> 6 | AT24: =AVERAGE(V24:AN24) -> #DIV/0! | AU24: =MODE(C24:AN24) -> #N/A | AV24: =AVERAGE(D24,F24,H24,J24,L24,N24,P24,S24,U24,V24,X24,Z24,AB24,AD24,AF24,AH24,AJ24,AK24,AM24) -> #DIV/0! | AW24: =AVERAGE(C24,E24,G24,I24,K24,M24,O24,Q24,R24,T24,W24,Y24,AA24,AC24,AE24,AG24,AI24,AL24,AN24) -> 6 | AX24: =BC24/AO24 -> 6 | AY24: =BH24/AP24 -> #DIV/0! | AZ24: =BI24/AQ24 -> 6 | BA24: =SUM(C24:AN24) -> 6 | BB24: =SUM('BONUS GAZZETTA 2013 2014'!C24:AN24) -> 0 | BC24: =SUM(BA24:BB24) -> 6 | BD24: =SUM(D24,F24,H24,J24,L24,N24,P24,S24,U24,V24,X24,Z24,AB24,AD24,AF24,AH24,AJ24,AK24,AM24) -> 0 | BE24: =SUM(C24,E24,G24,I24,K24,M24,O24,Q24,R24,T24,W24,Y24,AA24,AC24,AE24,AG24,AI24,AL24,AN24) -> 6 | BF24: =SUM('BONUS GAZZETTA 2013 2014'!D24,'BONUS GAZZETTA 2013 2014'!F24,'BONUS GAZZETTA 2013 2014'!H24,'BONUS GAZZETTA 2013 2014'!J24,'BONUS GAZZETTA 2013 2014'!L24,'BONUS GAZZETTA 2013 2014'!N24,'BONUS GAZZETTA 2013 2014'!P24,'BONUS GAZZETTA 2013 2014'!S24,'BONUS GAZZETTA 2013 2014'!U24,'BONUS GAZZETTA 2013 2014'!V24,'BONUS GAZZETTA 2013 2014'!X24,'BONUS GAZZETTA 2013 2014'!Z24,'BONUS GAZZETTA 2013 2014'!AB24,'BONUS GAZZETTA 2013 2014'!AD24,'BONUS GAZZETTA 2013 2014'!AF24,'BONUS GAZZETTA 2013 2014'!AH24,'BONUS GAZZETTA 2013 2014'!AJ24,'BONUS GAZZETTA 2013 2014'!AK24,'BONUS GAZZETTA 2013 2014'!AM24) -> 0 | BG24: =SUM('BONUS GAZZETTA 2013 2014'!C24,'BONUS GAZZETTA 2013 2014'!E24,'BONUS GAZZETTA 2013 2014'!G24,'BONUS GAZZETTA 2013 2014'!I24,'BONUS GAZZETTA 2013 2014'!K24,'BONUS GAZZETTA 2013 2014'!M24,'BONUS GAZZETTA 2013 2014'!O24,'BONUS GAZZETTA 2013 2014'!Q24,'BONUS GAZZETTA 2013 2014'!R24,'BONUS GAZZETTA 2013 2014'!T24,'BONUS GAZZETTA 2013 2014'!W24,'BONUS GAZZETTA 2013 2014'!Y24,'BONUS GAZZETTA 2013 2014'!AA24,'BONUS GAZZETTA 2013 2014'!AC24,'BONUS GAZZETTA 2013 2014'!AE24,'BONUS GAZZETTA 2013 2014'!AG24,'BONUS GAZZETTA 2013 2014'!AI24,'BONUS GAZZETTA 2013 2014'!AL24,'BONUS GAZZETTA 2013 2014'!AN24) -> 0 | BH24: =SUM(BD24,BF24) -> 0 | BI24: =SUM(BE24,BG24) -> 6
A25: C | B25: KONE M. | C25: 5.5 | D25: 5.5 | P25: 5.5 | Q25: 6 | R25: 6 | S25: SV | U25: SV | AN25: 6.5 | AO25: =COUNT(C25:AN25) -> 6 | AP25: =COUNT(D25,F25,H25,J25,L25,N25,P25,S25,U25,V25,X25,Z25,AB25,AD25,AF25,AH25,AJ25,AK25,AM25) -> 2 | AQ25: =COUNT(C25,E25,G25,I25,K25,M25,O25,Q25,R25,T25,W25,Y25,AA25,AC25,AE25,AG25,AI25,AL25,AN25) -> 4 | AR25: =AVERAGE(C25:AN25) -> 5.8333333 | AS25: =AVERAGE(C25:U25) -> 5.7 | AT25: =AVERAGE(V25:AN25) -> 6.5 | AU25: =MODE(C25:AN25) -> 5.5 | AV25: =AVERAGE(D25,F25,H25,J25,L25,N25,P25,S25,U25,V25,X25,Z25,AB25,AD25,AF25,AH25,AJ25,AK25,AM25) -> 5.5 | AW25: =AVERAGE(C25,E25,G25,I25,K25,M25,O25,Q25,R25,T25,W25,Y25,AA25,AC25,AE25,AG25,AI25,AL25,AN25) -> 6 | AX25: =BC25/AO25 -> 6.25 | AY25: =BH25/AP25 -> 5.5 | AZ25: =BI25/AQ25 -> 6.625 | BA25: =SUM(C25:AN25) -> 35 | BB25: =SUM('BONUS GAZZETTA 2013 2014'!C25:AN25) -> 2.5 | BC25: =SUM(BA25:BB25) -> 37.5 | BD25: =SUM(D25,F25,H25,J25,L25,N25,P25,S25,U25,V25,X25,Z25,AB25,AD25,AF25,AH25,AJ25,AK25,AM25) -> 11 | BE25: =SUM(C25,E25,G25,I25,K25,M25,O25,Q25,R25,T25,W25,Y25,AA25,AC25,AE25,AG25,AI25,AL25,AN25) -> 24 | BF25: =SUM('BONUS GAZZETTA 2013 2014'!D25,'BONUS GAZZETTA 2013 2014'!F25,'BONUS GAZZETTA 2013 2014'!H25,'BONUS GAZZETTA 2013 2014'!J25,'BONUS GAZZETTA 2013 2014'!L25,'BONUS GAZZETTA 2013 2014'!N25,'BONUS GAZZETTA 2013 2014'!P25,'BONUS GAZZETTA 2013 2014'!S25,'BONUS GAZZETTA 2013 2014'!U25,'BONUS GAZZETTA 2013 2014'!V25,'BONUS GAZZETTA 2013 2014'!X25,'BONUS GAZZETTA 2013 2014'!Z25,'BONUS GAZZETTA 2013 2014'!AB25,'BONUS GAZZETTA 2013 2014'!AD25,'BONUS GAZZETTA 2013 2014'!AF25,'BONUS GAZZETTA 2013 2014'!AH25,'BONUS GAZZETTA 2013 2014'!AJ25,'BONUS GAZZETTA 2013 2014'!AK25,'BONUS GAZZETTA 2013 2014'!AM25) -> 0 | BG25: =SUM('BONUS GAZZETTA 2013 2014'!C25,'BONUS GAZZETTA 2013 2014'!E25,'BONUS GAZZETTA 2013 2014'!G25,'BONUS GAZZETTA 2013 2014'!I25,'BONUS GAZZETTA 2013 2014'!K25,'BONUS GAZZETTA 2013 2014'!M25,'BONUS GAZZETTA 2013 2014'!O25,'BONUS GAZZETTA 2013 2014'!Q25,'BONUS GAZZETTA 2013 2014'!R25,'BONUS GAZZETTA 2013 2014'!T25,'BONUS GAZZETTA 2013 2014'!W25,'BONUS GAZZETTA 2013 2014'!Y25,'BONUS GAZZETTA 2013 2014'!AA25,'BONUS GAZZETTA 2013 2014'!AC25,'BONUS GAZZETTA 2013 2014'!AE25,'BONUS GAZZETTA 2013 2014'!AG25,'BONUS GAZZETTA 2013 2014'!AI25,'BONUS GAZZETTA 2013 2014'!AL25,'BONUS GAZZETTA 2013 2014'!AN25) -> 2.5 | BH25: =SUM(BD25,BF25) -> 11 | BI25: =SUM(BE25,BG25) -> 26.5
A26: C | B26: MIGLIACCIO | F26: 5.5 | H26: 6.5 | L26: SV | M26: 5 | N26: 6 | O26: 5.5 | Q26: 5.5 | R26: 6.5 | S26: 4.5 | T26: 5 | U26: 6 | V26: 5.5 | X26: 6.5 | Y26: 6 | Z26: 5.5 | AB26: SV | AC26: 6 | AI26: 6 | AK26: 6 | AM26: 6 | AO26: =COUNT(C26:AN26) -> 18 | AP26: =COUNT(D26,F26,H26,J26,L26,N26,P26,S26,U26,V26,X26,Z26,AB26,AD26,AF26,AH26,AJ26,AK26,AM26) -> 10 | AQ26: =COUNT(C26,E26,G26,I26,K26,M26,O26,Q26,R26,T26,W26,Y26,AA26,AC26,AE26,AG26,AI26,AL26,AN26) -> 8 | AR26: =AVERAGE(C26:AN26) -> 5.75 | AS26: =AVERAGE(C26:U26) -> 5.6 | AT26: =AVERAGE(V26:AN26) -> 5.9375 | AU26: =MODE(C26:AN26) -> 6 | AV26: =AVERAGE(D26,F26,H26,J26,L26,N26,P26,S26,U26,V26,X26,Z26,AB26,AD26,AF26,AH26,AJ26,AK26,AM26) -> 5.8 | AW26: =AVERAGE(C26,E26,G26,I26,K26,M26,O26,Q26,R26,T26,W26,Y26,AA26,AC26,AE26,AG26,AI26,AL26,AN26) -> 5.6875 | AX26: =BC26/AO26 -> 5.75 | AY26: =BH26/AP26 -> 5.55 | AZ26: =BI26/AQ26 -> 6 | BA26: =SUM(C26:AN26) -> 103.5 | BB26: =SUM('BONUS GAZZETTA 2013 2014'!C26:AN26) -> 0 | BC26: =SUM(BA26:BB26) -> 103.5 | BD26: =SUM(D26,F26,H26,J26,L26,N26,P26,S26,U26,V26,X26,Z26,AB26,AD26,AF26,AH26,AJ26,AK26,AM26) -> 58 | BE26: =SUM(C26,E26,G26,I26,K26,M26,O26,Q26,R26,T26,W26,Y26,AA26,AC26,AE26,AG26,AI26,AL26,AN26) -> 45.5 | BF26: =SUM('BONUS GAZZETTA 2013 2014'!D26,'BONUS GAZZETTA 2013 2014'!F26,'BONUS GAZZETTA 2013 2014'!H26,'BONUS GAZZETTA 2013 2014'!J26,'BONUS GAZZETTA 2013 2014'!L26,'BONUS GAZZETTA 2013 2014'!N26,'BONUS GAZZETTA 2013 2014'!P26,'BONUS GAZZETTA 2013 2014'!S26,'BONUS GAZZETTA 2013 2014'!U26,'BONUS GAZZETTA 2013 2014'!V26,'BONUS GAZZETTA 2013 2014'!X26,'BONUS GAZZETTA 2013 2014'!Z26,'BONUS GAZZETTA 2013 2014'!AB26,'BONUS GAZZETTA 2013 2014'!AD26,'BONUS GAZZETTA 2013 2014'!AF26,'BONUS GAZZETTA 2013 2014'!AH26,'BONUS GAZZETTA 2013 2014'!AJ26,'BONUS GAZZETTA 2013 2014'!AK26,'BONUS GAZZETTA 2013 2014'!AM26) -> -2.5 | BG26: =SUM('BONUS GAZZETTA 2013 2014'!C26,'BONUS GAZZETTA 2013 2014'!E26,'BONUS GAZZETTA 2013 2014'!G26,'BONUS GAZZETTA 2013 2014'!I26,'BONUS GAZZETTA 2013 2014'!K26,'BONUS GAZZETTA 2013 2014'!M26,'BONUS GAZZETTA 2013 2014'!O26,'BONUS GAZZETTA 2013 2014'!Q26,'BONUS GAZZETTA 2013 2014'!R26,'BONUS GAZZETTA 2013 2014'!T26,'BONUS GAZZETTA 2013 2014'!W26,'BONUS GAZZETTA 2013 2014'!Y26,'BONUS GAZZETTA 2013 2014'!AA26,'BONUS GAZZETTA 2013 2014'!AC26,'BONUS GAZZETTA 2013 2014'!AE26,'BONUS GAZZETTA 2013 2014'!AG26,'BONUS GAZZETTA 2013 2014'!AI26,'BONUS GAZZETTA 2013 2014'!AL26,'BONUS GAZZETTA 2013 2014'!AN26) -> 2.5 | BH26: =SUM(BD26,BF26) -> 55.5 | BI26: =SUM(BE26,BG26) -> 48
A27: C | B27: MORALEZ | C27: 5.5 | D27: 6 | E27: 6 | F27: 6 | G27: 6 | H27: 7.5 | I27: 7 | J27: 6.5 | K27: 5 | L27: 7 | M27: 5.5 | N27: 6 | O27: 6 | P27: 5 | R27: 5.5 | S27: 6.5 | T27: 6.5 | U27: 6.5 | V27: 5.5 | W27: 5 | X27: 7.5 | Y27: 5.5 | Z27: 5.5 | AA27: 5 | AB27: 6 | AC27: 7 | AD27: 7 | AE27: 6.5 | AJ27: 6 | AL27: 5.5 | AM27: 6 | AN27: 5.5 | AO27: =COUNT(C27:AN27) -> 32 | AP27: =COUNT(D27,F27,H27,J27,L27,N27,P27,S27,U27,V27,X27,Z27,AB27,AD27,AF27,AH27,AJ27,AK27,AM27) -> 16 | AQ27: =COUNT(C27,E27,G27,I27,K27,M27,O27,Q27,R27,T27,W27,Y27,AA27,AC27,AE27,AG27,AI27,AL27,AN27) -> 16 | AR27: =AVERAGE(C27:AN27) -> 6.046875 | AS27: =AVERAGE(C27:U27) -> 6.1111111 | AT27: =AVERAGE(V27:AN27) -> 5.9642857 | AU27: =MODE(C27:AN27) -> 6 | AV27: =AVERAGE(D27,F27,H27,J27,L27,N27,P27,S27,U27,V27,X27,Z27,AB27,AD27,AF27,AH27,AJ27,AK27,AM27) -> 6.28125 | AW27: =AVERAGE(C27,E27,G27,I27,K27,M27,O27,Q27,R27,T27,W27,Y27,AA27,AC27,AE27,AG27,AI27,AL27,AN27) -> 5.8125 | AX27: =BC27/AO27 -> 6.5 | AY27: =BH27/AP27 -> 6.84375 | AZ27: =BI27/AQ27 -> 6.15625 | BA27: =SUM(C27:AN27) -> 193.5 | BB27: =SUM('BONUS GAZZETTA 2013 2014'!C27:AN27) -> 14.5 | BC27: =SUM(BA27:BB27) -> 208 | BD27: =SUM(D27,F27,H27,J27,L27,N27,P27,S27,U27,V27,X27,Z27,AB27,AD27,AF27,AH27,AJ27,AK27,AM27) -> 100.5 | BE27: =SUM(C27,E27,G27,I27,K27,M27,O27,Q27,R27,T27,W27,Y27,AA27,AC27,AE27,AG27,AI27,AL27,AN27) -> 93 | BF27: =SUM('BONUS GAZZETTA 2013 2014'!D27,'BONUS GAZZETTA 2013 2014'!F27,'BONUS GAZZETTA 2013 2014'!H27,'BONUS GAZZETTA 2013 2014'!J27,'BONUS GAZZETTA 2013 2014'!L27,'BONUS GAZZETTA 2013 2014'!N27,'BONUS GAZZETTA 2013 2014'!P27,'BONUS GAZZETTA 2013 2014'!S27,'BONUS GAZZETTA 2013 2014'!U27,'BONUS GAZZETTA 2013 2014'!V27,'BONUS GAZZETTA 2013 2014'!X27,'BONUS GAZZETTA 2013 2014'!Z27,'BONUS GAZZETTA 2013 2014'!AB27,'BONUS GAZZETTA 2013 2014'!AD27,'BONUS GAZZETTA 2013 2014'!AF27,'BONUS GAZZETTA 2013 2014'!AH27,'BONUS GAZZETTA 2013 2014'!AJ27,'BONUS GAZZETTA 2013 2014'!AK27,'BONUS GAZZETTA 2013 2014'!AM27) -> 9 | BG27: =SUM('BONUS GAZZETTA 2013 2014'!C27,'BONUS GAZZETTA 2013 2014'!E27,'BONUS GAZZETTA 2013 2014'!G27,'BONUS GAZZETTA 2013 2014'!I27,'BONUS GAZZETTA 2013 2014'!K27,'BONUS GAZZETTA 2013 2014'!M27,'BONUS GAZZETTA 2013 2014'!O27,'BONUS GAZZETTA 2013 2014'!Q27,'BONUS GAZZETTA 2013 2014'!R27,'BONUS GAZZETTA 2013 2014'!T27,'BONUS GAZZETTA 2013 2014'!W27,'BONUS GAZZETTA 2013 2014'!Y27,'BONUS GAZZETTA 2013 2014'!AA27,'BONUS GAZZETTA 2013 2014'!AC27,'BONUS GAZZETTA 2013 2014'!AE27,'BONUS GAZZETTA 2013 2014'!AG27,'BONUS GAZZETTA 2013 2014'!AI27,'BONUS GAZZETTA 2013 2014'!AL27,'BONUS GAZZETTA 2013 2014'!AN27) -> 5.5 | BH27: =SUM(BD27,BF27) -> 109.5 | BI27: =SUM(BE27,BG27) -> 98.5
A28: C | B28: OLAUSSON | AN28: 5.5 | AO28: =COUNT(C28:AN28) -> 1 | AP28: =COUNT(D28,F28,H28,J28,L28,N28,P28,S28,U28,V28,X28,Z28,AB28,AD28,AF28,AH28,AJ28,AK28,AM28) -> 0 | AQ28: =COUNT(C28,E28,G28,I28,K28,M28,O28,Q28,R28,T28,W28,Y28,AA28,AC28,AE28,AG28,AI28,AL28,AN28) -> 1 | AR28: =AVERAGE(C28:AN28) -> 5.5 | AS28: =AVERAGE(C28:U28) -> #DIV/0! | AT28: =AVERAGE(V28:AN28) -> 5.5 | AU28: =MODE(C28:AN28) -> #N/A | AV28: =AVERAGE(D28,F28,H28,J28,L28,N28,P28,S28,U28,V28,X28,Z28,AB28,AD28,AF28,AH28,AJ28,AK28,AM28) -> #DIV/0! | AW28: =AVERAGE(C28,E28,G28,I28,K28,M28,O28,Q28,R28,T28,W28,Y28,AA28,AC28,AE28,AG28,AI28,AL28,AN28) -> 5.5 | AX28: =BC28/AO28 -> 5.5 | AY28: =BH28/AP28 -> #DIV/0! | AZ28: =BI28/AQ28 -> 5.5 | BA28: =SUM(C28:AN28) -> 5.5 | BB28: =SUM('BONUS GAZZETTA 2013 2014'!C28:AN28) -> 0 | BC28: =SUM(BA28:BB28) -> 5.5 | BD28: =SUM(D28,F28,H28,J28,L28,N28,P28,S28,U28,V28,X28,Z28,AB28,AD28,AF28,AH28,AJ28,AK28,AM28) -> 0 | BE28: =SUM(C28,E28,G28,I28,K28,M28,O28,Q28,R28,T28,W28,Y28,AA28,AC28,AE28,AG28,AI28,AL28,AN28) -> 5.5 | BF28: =SUM('BONUS GAZZETTA 2013 2014'!D28,'BONUS GAZZETTA 2013 2014'!F28,'BONUS GAZZETTA 2013 2014'!H28,'BONUS GAZZETTA 2013 2014'!J28,'BONUS GAZZETTA 2013 2014'!L28,'BONUS GAZZETTA 2013 2014'!N28,'BONUS GAZZETTA 2013 2014'!P28,'BONUS GAZZETTA 2013 2014'!S28,'BONUS GAZZETTA 2013 2014'!U28,'BONUS GAZZETTA 2013 2014'!V28,'BONUS GAZZETTA 2013 2014'!X28,'BONUS GAZZETTA 2013 2014'!Z28,'BONUS GAZZETTA 2013 2014'!AB28,'BONUS GAZZETTA 2013 2014'!AD28,'BONUS GAZZETTA 2013 2014'!AF28,'BONUS GAZZETTA 2013 2014'!AH28,'BONUS GAZZETTA 2013 2014'!AJ28,'BONUS GAZZETTA 2013 2014'!AK28,'BONUS GAZZETTA 2013 2014'!AM28) -> 0 | BG28: =SUM('BONUS GAZZETTA 2013 2014'!C28,'BONUS GAZZETTA 2013 2014'!E28,'BONUS GAZZETTA 2013 2014'!G28,'BONUS GAZZETTA 2013 2014'!I28,'BONUS GAZZETTA 2013 2014'!K28,'BONUS GAZZETTA 2013 2014'!M28,'BONUS GAZZETTA 2013 2014'!O28,'BONUS GAZZETTA 2013 2014'!Q28,'BONUS GAZZETTA 2013 2014'!R28,'BONUS GAZZETTA 2013 2014'!T28,'BONUS GAZZETTA 2013 2014'!W28,'BONUS GAZZETTA 2013 2014'!Y28,'BONUS GAZZETTA 2013 2014'!AA28,'BONUS GAZZETTA 2013 2014'!AC28,'BONUS GAZZETTA 2013 2014'!AE28,'BONUS GAZZETTA 2013 2014'!AG28,'BONUS GAZZETTA 2013 2014'!AI28,'BONUS GAZZETTA 2013 2014'!AL28,'BONUS GAZZETTA 2013 2014'!AN28) -> 0 | BH28: =SUM(BD28,BF28) -> 0 | BI28: =SUM(BE28,BG28) -> 5.5
A29: A | B29: BENTACOURT | AH29: 6 | AK29: SV | AN29: 5.5 | AO29: =COUNT(C29:AN29) -> 2 | AP29: =COUNT(D29,F29,H29,J29,L29,N29,P29,S29,U29,V29,X29,Z29,AB29,AD29,AF29,AH29,AJ29,AK29,AM29) -> 1 | AQ29: =COUNT(C29,E29,G29,I29,K29,M29,O29,Q29,R29,T29,W29,Y29,AA29,AC29,AE29,AG29,AI29,AL29,AN29) -> 1 | AR29: =AVERAGE(C29:AN29) -> 5.75 | AS29: =AVERAGE(C29:U29) -> #DIV/0! | AT29: =AVERAGE(V29:AN29) -> 5.75 | AU29: =MODE(C29:AN29) -> #N/A | AV29: =AVERAGE(D29,F29,H29,J29,L29,N29,P29,S29,U29,V29,X29,Z29,AB29,AD29,AF29,AH29,AJ29,AK29,AM29) -> 6 | AW29: =AVERAGE(C29,E29,G29,I29,K29,M29,O29,Q29,R29,T29,W29,Y29,AA29,AC29,AE29,AG29,AI29,AL29,AN29) -> 5.5 | AX29: =BC29/AO29 -> 5.75 | AY29: =BH29/AP29 -> 6 | AZ29: =BI29/AQ29 -> 5.5 | BA29: =SUM(C29:AN29) -> 11.5 | BB29: =SUM('BONUS GAZZETTA 2013 2014'!C29:AN29) -> 0 | BC29: =SUM(BA29:BB29) -> 11.5 | BD29: =SUM(D29,F29,H29,J29,L29,N29,P29,S29,U29,V29,X29,Z29,AB29,AD29,AF29,AH29,AJ29,AK29,AM29) -> 6 | BE29: =SUM(C29,E29,G29,I29,K29,M29,O29,Q29,R29,T29,W29,Y29,AA29,AC29,AE29,AG29,AI29,AL29,AN29) -> 5.5 | BF29: =SUM('BONUS GAZZETTA 2013 2014'!D29,'BONUS GAZZETTA 2013 2014'!F29,'BONUS GAZZETTA 2013 2014'!H29,'BONUS GAZZETTA 2013 2014'!J29,'BONUS GAZZETTA 2013 2014'!L29,'BONUS GAZZETTA 2013 2014'!N29,'BONUS GAZZETTA 2013 2014'!P29,'BONUS GAZZETTA 2013 2014'!S29,'BONUS GAZZETTA 2013 2014'!U29,'BONUS GAZZETTA 2013 2014'!V29,'BONUS GAZZETTA 2013 2014'!X29,'BONUS GAZZETTA 2013 2014'!Z29,'BONUS GAZZETTA 2013 2014'!AB29,'BONUS GAZZETTA 2013 2014'!AD29,'BONUS GAZZETTA 2013 2014'!AF29,'BONUS GAZZETTA 2013 2014'!AH29,'BONUS GAZZETTA 2013 2014'!AJ29,'BONUS GAZZETTA 2013 2014'!AK29,'BONUS GAZZETTA 2013 2014'!AM29) -> 0 | BG29: =SUM('BONUS GAZZETTA 2013 2014'!C29,'BONUS GAZZETTA 2013 2014'!E29,'BONUS GAZZETTA 2013 2014'!G29,'BONUS GAZZETTA 2013 2014'!I29,'BONUS GAZZETTA 2013 2014'!K29,'BONUS GAZZETTA 2013 2014'!M29,'BONUS GAZZETTA 2013 2014'!O29,'BONUS GAZZETTA 2013 2014'!Q29,'BONUS GAZZETTA 2013 2014'!R29,'BONUS GAZZETTA 2013 2014'!T29,'BONUS GAZZETTA 2013 2014'!W29,'BONUS GAZZETTA 2013 2014'!Y29,'BONUS GAZZETTA 2013 2014'!AA29,'BONUS GAZZETTA 2013 2014'!AC29,'BONUS GAZZETTA 2013 2014'!AE29,'BONUS GAZZETTA 2013 2014'!AG29,'BONUS GAZZETTA 2013 2014'!AI29,'BONUS GAZZETTA 2013 2014'!AL29,'BONUS GAZZETTA 2013 2014'!AN29) -> 0 | BH29: =SUM(BD29,BF29) -> 6 | BI29: =SUM(BE29,BG29) -> 5.5
A30: A | B30: DE LUCA | C30: 5.5 | K30: SV | M30: 6 | N30: 5 | Q30: 6 | R30: 6.5 | T30: 5.5 | W30: SV | Z30: SV | AA30: 6 | AD30: 6 | AF30: 7.5 | AG30: 7.5 | AH30: 6 | AI30: 5 | AK30: 6.5 | AM30: 6 | AO30: =COUNT(C30:AN30) -> 14 | AP30: =COUNT(D30,F30,H30,J30,L30,N30,P30,S30,U30,V30,X30,Z30,AB30,AD30,AF30,AH30,AJ30,AK30,AM30) -> 6 | AQ30: =COUNT(C30,E30,G30,I30,K30,M30,O30,Q30,R30,T30,W30,Y30,AA30,AC30,AE30,AG30,AI30,AL30,AN30) -> 8 | AR30: =AVERAGE(C30:AN30) -> 6.0714286 | AS30: =AVERAGE(C30:U30) -> 5.75 | AT30: =AVERAGE(V30:AN30) -> 6.3125 | AU30: =MODE(C30:AN30) -> 6 | AV30: =AVERAGE(D30,F30,H30,J30,L30,N30,P30,S30,U30,V30,X30,Z30,AB30,AD30,AF30,AH30,AJ30,AK30,AM30) -> 6.1666667 | AW30: =AVERAGE(C30,E30,G30,I30,K30,M30,O30,Q30,R30,T30,W30,Y30,AA30,AC30,AE30,AG30,AI30,AL30,AN30) -> 6 | AX30: =BC30/AO30 -> 6.8571429 | AY30: =BH30/AP30 -> 7.1666667 | AZ30: =BI30/AQ30 -> 6.625 | BA30: =SUM(C30:AN30) -> 85 | BB30: =SUM('BONUS GAZZETTA 2013 2014'!C30:AN30) -> 11 | BC30: =SUM(BA30:BB30) -> 96 | BD30: =SUM(D30,F30,H30,J30,L30,N30,P30,S30,U30,V30,X30,Z30,AB30,AD30,AF30,AH30,AJ30,AK30,AM30) -> 37 | BE30: =SUM(C30,E30,G30,I30,K30,M30,O30,Q30,R30,T30,W30,Y30,AA30,AC30,AE30,AG30,AI30,AL30,AN30) -> 48 | BF30: =SUM('BONUS GAZZETTA 2013 2014'!D30,'BONUS GAZZETTA 2013 2014'!F30,'BONUS GAZZETTA 2013 2014'!H30,'BONUS GAZZETTA 2013 2014'!J30,'BONUS GAZZETTA 2013 2014'!L30,'BONUS GAZZETTA 2013 2014'!N30,'BONUS GAZZETTA 2013 2014'!P30,'BONUS GAZZETTA 2013 2014'!S30,'BONUS GAZZETTA 2013 2014'!U30,'BONUS GAZZETTA 2013 2014'!V30,'BONUS GAZZETTA 2013 2014'!X30,'BONUS GAZZETTA 2013 2014'!Z30,'BONUS GAZZETTA 2013 2014'!AB30,'BONUS GAZZETTA 2013 2014'!AD30,'BONUS GAZZETTA 2013 2014'!AF30,'BONUS GAZZETTA 2013 2014'!AH30,'BONUS GAZZETTA 2013 2014'!AJ30,'BONUS GAZZETTA 2013 2014'!AK30,'BONUS GAZZETTA 2013 2014'!AM30) -> 6 | BG30: =SUM('BONUS GAZZETTA 2013 2014'!C30,'BONUS GAZZETTA 2013 2014'!E30,'BONUS GAZZETTA 2013 2014'!G30,'BONUS GAZZETTA 2013 2014'!I30,'BONUS GAZZETTA 2013 2014'!K30,'BONUS GAZZETTA 2013 2014'!M30,'BONUS GAZZETTA 2013 2014'!O30,'BONUS GAZZETTA 2013 2014'!Q30,'BONUS GAZZETTA 2013 2014'!R30,'BONUS GAZZETTA 2013 2014'!T30,'BONUS GAZZETTA 2013 2014'!W30,'BONUS GAZZETTA 2013 2014'!Y30,'BONUS GAZZETTA 2013 2014'!AA30,'BONUS GAZZETTA 2013 2014'!AC30,'BONUS GAZZETTA 2013 2014'!AE30,'BONUS GAZZETTA 2013 2014'!AG30,'BONUS GAZZETTA 2013 2014'!AI30,'BONUS GAZZETTA 2013 2014'!AL30,'BONUS GAZZETTA 2013 2014'!AN30) -> 5 | BH30: =SUM(BD30,BF30) -> 43 | BI30: =SUM(BE30,BG30) -> 53
A31: A | B31: DENIS | C31: 5.5 | D31: 6.5 | E31: 6.5 | F31: 5 | G31: 6.5 | H31: 7.5 | I31: 6 | J31: 7 | K31: 6.5 | L31: 7 | M31: 5 | O31: 5.5 | P31: 6.5 | Q31: 7 | R31: 5.5 | S31: 6 | T31: 5.5 | U31: 6.5 | V31: 5.5 | W31: 5.5 | X31: 8 | Y31: 5.5 | Z31: 5 | AA31: 5.5 | AB31: 5.5 | AC31: 6 | AD31: 7 | AE31: 6.5 | AF31: 7 | AG31: 6 | AH31: 5 | AI31: 5.5 | AJ31: 5 | AK31: 5 | AL31: 5.5 | AM31: 7 | AN31: 5.5 | AO31: =COUNT(C31:AN31) -> 37 | AP31: =COUNT(D31,F31,H31,J31,L31,N31,P31,S31,U31,V31,X31,Z31,AB31,AD31,AF31,AH31,AJ31,AK31,AM31) -> 18 | AQ31: =COUNT(C31,E31,G31,I31,K31,M31,O31,Q31,R31,T31,W31,Y31,AA31,AC31,AE31,AG31,AI31,AL31,AN31) -> 19 | AR31: =AVERAGE(C31:AN31) -> 6.027027 | AS31: =AVERAGE(C31:U31) -> 6.1944444 | AT31: =AVERAGE(V31:AN31) -> 5.8684211 | AU31: =MODE(C31:AN31) -> 5.5 | AV31: =AVERAGE(D31,F31,H31,J31,L31,N31,P31,S31,U31,V31,X31,Z31,AB31,AD31,AF31,AH31,AJ31,AK31,AM31) -> 6.2222222 | AW31: =AVERAGE(C31,E31,G31,I31,K31,M31,O31,Q31,R31,T31,W31,Y31,AA31,AC31,AE31,AG31,AI31,AL31,AN31) -> 5.8421053 | AX31: =BC31/AO31 -> 6.9054054 | AY31: =BH31/AP31 -> 7.7222222 | AZ31: =BI31/AQ31 -> 6.1315789 | BA31: =SUM(C31:AN31) -> 223 | BB31: =SUM('BONUS GAZZETTA 2013 2014'!C31:AN31) -> 32.5 | BC31: =SUM(BA31:BB31) -> 255.5 | BD31: =SUM(D31,F31,H31,J31,L31,N31,P31,S31,U31,V31,X31,Z31,AB31,AD31,AF31,AH31,AJ31,AK31,AM31) -> 112 | BE31: =SUM(C31,E31,G31,I31,K31,M31,O31,Q31,R31,T31,W31,Y31,AA31,AC31,AE31,AG31,AI31,AL31,AN31) -> 111 | BF31: =SUM('BONUS GAZZETTA 2013 2014'!D31,'BONUS GAZZETTA 2013 2014'!F31,'BONUS GAZZETTA 2013 2014'!H31,'BONUS GAZZETTA 2013 2014'!J31,'BONUS GAZZETTA 2013 2014'!L31,'BONUS GAZZETTA 2013 2014'!N31,'BONUS GAZZETTA 2013 2014'!P31,'BONUS GAZZETTA 2013 2014'!S31,'BONUS GAZZETTA 2013 2014'!U31,'BONUS GAZZETTA 2013 2014'!V31,'BONUS GAZZETTA 2013 2014'!X31,'BONUS GAZZETTA 2013 2014'!Z31,'BONUS GAZZETTA 2013 2014'!AB31,'BONUS GAZZETTA 2013 2014'!AD31,'BONUS GAZZETTA 2013 2014'!AF31,'BONUS GAZZETTA 2013 2014'!AH31,'BONUS GAZZETTA 2013 2014'!AJ31,'BONUS GAZZETTA 2013 2014'!AK31,'BONUS GAZZETTA 2013 2014'!AM31) -> 27 | BG31: =SUM('BONUS GAZZETTA 2013 2014'!C31,'BONUS GAZZETTA 2013 2014'!E31,'BONUS GAZZETTA 2013 2014'!G31,'BONUS GAZZETTA 2013 2014'!I31,'BONUS GAZZETTA 2013 2014'!K31,'BONUS GAZZETTA 2013 2014'!M31,'BONUS GAZZETTA 2013 2014'!O31,'BONUS GAZZETTA 2013 2014'!Q31,'BONUS GAZZETTA 2013 2014'!R31,'BONUS GAZZETTA 2013 2014'!T31,'BONUS GAZZETTA 2013 2014'!W31,'BONUS GAZZETTA 2013 2014'!Y31,'BONUS GAZZETTA 2013 2014'!AA31,'BONUS GAZZETTA 2013 2014'!AC31,'BONUS GAZZETTA 2013 2014'!AE31,'BONUS GAZZETTA 2013 2014'!AG31,'BONUS GAZZETTA 2013 2014'!AI31,'BONUS GAZZETTA 2013 2014'!AL31,'BONUS GAZZETTA 2013 2014'!AN31) -> 5.5 | BH31: =SUM(BD31,BF31) -> 139 | BI31: =SUM(BE31,BG31) -> 116.5
A32: A | B32: LIVAJA | C32: 6.5 | D32: 5.5 | E32: SV | F32: 5.5 | G32: 6.5 | K32: 5 | L32: 6 | M32: 5 | N32: 6.5 | O32: 4.5 | Q32: SV | S32: 6 | W32: 5 | Z32: 5 | AF32: 6 | AG32: 5 | AH32: 6 | AI32: 5.5 | AJ32: 5.5 | AO32: =COUNT(C32:AN32) -> 17 | AP32: =COUNT(D32,F32,H32,J32,L32,N32,P32,S32,U32,V32,X32,Z32,AB32,AD32,AF32,AH32,AJ32,AK32,AM32) -> 9 | AQ32: =COUNT(C32,E32,G32,I32,K32,M32,O32,Q32,R32,T32,W32,Y32,AA32,AC32,AE32,AG32,AI32,AL32,AN32) -> 8 | AR32: =AVERAGE(C32:AN32) -> 5.5882353 | AS32: =AVERAGE(C32:U32) -> 5.7 | AT32: =AVERAGE(V32:AN32) -> 5.4285714 | AU32: =MODE(C32:AN32) -> 5 | AV32: =AVERAGE(D32,F32,H32,J32,L32,N32,P32,S32,U32,V32,X32,Z32,AB32,AD32,AF32,AH32,AJ32,AK32,AM32) -> 5.7777778 | AW32: =AVERAGE(C32,E32,G32,I32,K32,M32,O32,Q32,R32,T32,W32,Y32,AA32,AC32,AE32,AG32,AI32,AL32,AN32) -> 5.375 | AX32: =BC32/AO32 -> 5.8529412 | AY32: =BH32/AP32 -> 6 | AZ32: =BI32/AQ32 -> 5.6875 | BA32: =SUM(C32:AN32) -> 95 | BB32: =SUM('BONUS GAZZETTA 2013 2014'!C32:AN32) -> 4.5 | BC32: =SUM(BA32:BB32) -> 99.5 | BD32: =SUM(D32,F32,H32,J32,L32,N32,P32,S32,U32,V32,X32,Z32,AB32,AD32,AF32,AH32,AJ32,AK32,AM32) -> 52 | BE32: =SUM(C32,E32,G32,I32,K32,M32,O32,Q32,R32,T32,W32,Y32,AA32,AC32,AE32,AG32,AI32,AL32,AN32) -> 43 | BF32: =SUM('BONUS GAZZETTA 2013 2014'!D32,'BONUS GAZZETTA 2013 2014'!F32,'BONUS GAZZETTA 2013 2014'!H32,'BONUS GAZZETTA 2013 2014'!J32,'BONUS GAZZETTA 2013 2014'!L32,'BONUS GAZZETTA 2013 2014'!N32,'BONUS GAZZETTA 2013 2014'!P32,'BONUS GAZZETTA 2013 2014'!S32,'BONUS GAZZETTA 2013 2014'!U32,'BONUS GAZZETTA 2013 2014'!V32,'BONUS GAZZETTA 2013 2014'!X32,'BONUS GAZZETTA 2013 2014'!Z32,'BONUS GAZZETTA 2013 2014'!AB32,'BONUS GAZZETTA 2013 2014'!AD32,'BONUS GAZZETTA 2013 2014'!AF32,'BONUS GAZZETTA 2013 2014'!AH32,'BONUS GAZZETTA 2013 2014'!AJ32,'BONUS GAZZETTA 2013 2014'!AK32,'BONUS GAZZETTA 2013 2014'!AM32) -> 2 | BG32: =SUM('BONUS GAZZETTA 2013 2014'!C32,'BONUS GAZZETTA 2013 2014'!E32,'BONUS GAZZETTA 2013 2014'!G32,'BONUS GAZZETTA 2013 2014'!I32,'BONUS GAZZETTA 2013 2014'!K32,'BONUS GAZZETTA 2013 2014'!M32,'BONUS GAZZETTA 2013 2014'!O32,'BONUS GAZZETTA 2013 2014'!Q32,'BONUS GAZZETTA 2013 2014'!R32,'BONUS GAZZETTA 2013 2014'!T32,'BONUS GAZZETTA 2013 2014'!W32,'BONUS GAZZETTA 2013 2014'!Y32,'BONUS GAZZETTA 2013 2014'!AA32,'BONUS GAZZETTA 2013 2014'!AC32,'BONUS GAZZETTA 2013 2014'!AE32,'BONUS GAZZETTA 2013 2014'!AG32,'BONUS GAZZETTA 2013 2014'!AI32,'BONUS GAZZETTA 2013 2014'!AL32,'BONUS GAZZETTA 2013 2014'!AN32) -> 2.5 | BH32: =SUM(BD32,BF32) -> 54 | BI32: =SUM(BE32,BG32) -> 45.5
A33: A | B33: MARILUNGO | G33: 5.5 | L33: 5.5 | M33: SV | N33: 5.5 | O33: 5 | R33: 5 | AO33: =COUNT(C33:AN33) -> 5 | AP33: =COUNT(D33,F33,H33,J33,L33,N33,P33,S33,U33,V33,X33,Z33,AB33,AD33,AF33,AH33,AJ33,AK33,AM33) -> 2 | AQ33: =COUNT(C33,E33,G33,I33,K33,M33,O33,Q33,R33,T33,W33,Y33,AA33,AC33,AE33,AG33,AI33,AL33,AN33) -> 3 | AR33: =AVERAGE(C33:AN33) -> 5.3 | AS33: =AVERAGE(C33:U33) -> 5.3 | AT33: =AVERAGE(V33:AN33) -> #DIV/0! | AU33: =MODE(C33:AN33) -> 5.5 | AV33: =AVERAGE(D33,F33,H33,J33,L33,N33,P33,S33,U33,V33,X33,Z33,AB33,AD33,AF33,AH33,AJ33,AK33,AM33) -> 5.5 | AW33: =AVERAGE(C33,E33,G33,I33,K33,M33,O33,Q33,R33,T33,W33,Y33,AA33,AC33,AE33,AG33,AI33,AL33,AN33) -> 5.1666667 | AX33: =BC33/AO33 -> 5.3 | AY33: =BH33/AP33 -> 5.5 | AZ33: =BI33/AQ33 -> 5.1666667 | BA33: =SUM(C33:AN33) -> 26.5 | BB33: =SUM('BONUS GAZZETTA 2013 2014'!C33:AN33) -> 0 | BC33: =SUM(BA33:BB33) -> 26.5 | BD33: =SUM(D33,F33,H33,J33,L33,N33,P33,S33,U33,V33,X33,Z33,AB33,AD33,AF33,AH33,AJ33,AK33,AM33) -> 11 | BE33: =SUM(C33,E33,G33,I33,K33,M33,O33,Q33,R33,T33,W33,Y33,AA33,AC33,AE33,AG33,AI33,AL33,AN33) -> 15.5 | BF33: =SUM('BONUS GAZZETTA 2013 2014'!D33,'BONUS GAZZETTA 2013 2014'!F33,'BONUS GAZZETTA 2013 2014'!H33,'BONUS GAZZETTA 2013 2014'!J33,'BONUS GAZZETTA 2013 2014'!L33,'BONUS GAZZETTA 2013 2014'!N33,'BONUS GAZZETTA 2013 2014'!P33,'BONUS GAZZETTA 2013 2014'!S33,'BONUS GAZZETTA 2013 2014'!U33,'BONUS GAZZETTA 2013 2014'!V33,'BONUS GAZZETTA 2013 2014'!X33,'BONUS GAZZETTA 2013 2014'!Z33,'BONUS GAZZETTA 2013 2014'!AB33,'BONUS GAZZETTA 2013 2014'!AD33,'BONUS GAZZETTA 2013 2014'!AF33,'BONUS GAZZETTA 2013 2014'!AH33,'BONUS GAZZETTA 2013 2014'!AJ33,'BONUS GAZZETTA 2013 2014'!AK33,'BONUS GAZZETTA 2013 2014'!AM33) -> 0 | BG33: =SUM('BONUS GAZZETTA 2013 2014'!C33,'BONUS GAZZETTA 2013 2014'!E33,'BONUS GAZZETTA 2013 2014'!G33,'BONUS GAZZETTA 2013 2014'!I33,'BONUS GAZZETTA 2013 2014'!K33,'BONUS GAZZETTA 2013 2014'!M33,'BONUS GAZZETTA 2013 2014'!O33,'BONUS GAZZETTA 2013 2014'!Q33,'BONUS GAZZETTA 2013 2014'!R33,'BONUS GAZZETTA 2013 2014'!T33,'BONUS GAZZETTA 2013 2014'!W33,'BONUS GAZZETTA 2013 2014'!Y33,'BONUS GAZZETTA 2013 2014'!AA33,'BONUS GAZZETTA 2013 2014'!AC33,'BONUS GAZZETTA 2013 2014'!AE33,'BONUS GAZZETTA 2013 2014'!AG33,'BONUS GAZZETTA 2013 2014'!AI33,'BONUS GAZZETTA 2013 2014'!AL33,'BONUS GAZZETTA 2013 2014'!AN33) -> 0 | BH33: =SUM(BD33,BF33) -> 11 | BI33: =SUM(BE33,BG33) -> 15.5
A34: BOLOGNA
A35: P | B35: CURCI | C35: 4.5 | D35: 4 | E35: 6.5 | F35: 6 | G35: 6.5 | H35: 4.5 | I35: 5 | J35: 6 | K35: 6 | L35: 6 | M35: 6 | N35: 4 | O35: 7 | P35: 6.5 | Q35: 6.5 | R35: 6.5 | S35: 6 | T35: 5 | U35: 6 | V35: 6 | W35: 6.5 | X35: 6 | Y35: 6 | Z35: 5.5 | AA35: 6 | AB35: 6.5 | AC35: 6 | AD35: 5 | AE35: 6.5 | AF35: 6.5 | AG35: 6 | AH35: 7 | AI35: 6 | AJ35: 7 | AK35: 5.5 | AL35: 6 | AM35: 5 | AO35: =COUNT(C35:AN35) -> 37 | AP35: =COUNT(D35,F35,G35,I35,K35,M35,O35,Q35,S35,U35,V35,X35,AA35,AC35,AE35,AG35,AI35,AK35,AM35) -> 19 | AQ35: =COUNT(C35,E35,H35,J35,L35,N35,P35,R35,T35,W35,Y35,Z35,AB35,AD35,AF35,AH35,AJ35,AL35,AN35) -> 18 | AR35: =AVERAGE(C35:AN35) -> 5.8783784 | AS35: =AVERAGE(C35:U35) -> 5.7105263 | AT35: =AVERAGE(V35:AN35) -> 6.0555556 | AU35: =MODE(C35:AN35) -> 6 | AV35: =AVERAGE(D35,F35,G35,I35,K35,M35,O35,Q35,S35,U35,V35,X35,AA35,AC35,AE35,AG35,AI35,AK35,AM35) -> 5.8947368 | AW35: =AVERAGE(C35,E35,H35,J35,L35,N35,P35,R35,T35,W35,Y35,Z35,AB35,AD35,AF35,AH35,AJ35,AL35,AN35) -> 5.8611111 | AX35: =BC35/AO35 -> 4.3918919 | AY35: =BH35/AP35 -> 4.4210526 | AZ35: =BI35/AQ35 -> 4.3611111 | BA35: =SUM(C35:AN35) -> 217.5 | BB35: =SUM('BONUS GAZZETTA 2013 2014'!C35:AN35) -> -55 | BC35: =SUM(BA35:BB35) -> 162.5 | BD35: =SUM(D35,F35,G35,I35,K35,M35,O35,Q35,S35,U35,V35,X35,AA35,AC35,AE35,AG35,AI35,AK35,AM35) -> 112 | BE35: =SUM(C35,E35,H35,J35,L35,N35,P35,R35,T35,W35,Y35,Z35,AB35,AD35,AF35,AH35,AJ35,AL35,AN35) -> 105.5 | BF35: =SUM('BONUS GAZZETTA 2013 2014'!D35,'BONUS GAZZETTA 2013 2014'!F35,'BONUS GAZZETTA 2013 2014'!G35,'BONUS GAZZETTA 2013 2014'!I35,'BONUS GAZZETTA 2013 2014'!K35,'BONUS GAZZETTA 2013 2014'!M35,'BONUS GAZZETTA 2013 2014'!O35,'BONUS GAZZETTA 2013 2014'!Q35,'BONUS GAZZETTA 2013 2014'!S35,'BONUS GAZZETTA 2013 2014'!U35,'BONUS GAZZETTA 2013 2014'!V35,'BONUS GAZZETTA 2013 2014'!X35,'BONUS GAZZETTA 2013 2014'!AA35,'BONUS GAZZETTA 2013 2014'!AC35,'BONUS GAZZETTA 2013 2014'!AE35,'BONUS GAZZETTA 2013 2014'!AG35,'BONUS GAZZETTA 2013 2014'!AI35,'BONUS GAZZETTA 2013 2014'!AK35,'BONUS GAZZETTA 2013 2014'!AM35) -> -28 | BG35: =SUM('BONUS GAZZETTA 2013 2014'!C35,'BONUS GAZZETTA 2013 2014'!E35,'BONUS GAZZETTA 2013 2014'!H35,'BONUS GAZZETTA 2013 2014'!J35,'BONUS GAZZETTA 2013 2014'!L35,'BONUS GAZZETTA 2013 2014'!N35,'BONUS GAZZETTA 2013 2014'!P35,'BONUS GAZZETTA 2013 2014'!R35,'BONUS GAZZETTA 2013 2014'!T35,'BONUS GAZZETTA 2013 2014'!W35,'BONUS GAZZETTA 2013 2014'!Y35,'BONUS GAZZETTA 2013 2014'!Z35,'BONUS GAZZETTA 2013 2014'!AB35,'BONUS GAZZETTA 2013 2014'!AD35,'BONUS GAZZETTA 2013 2014'!AF35,'BONUS GAZZETTA 2013 2014'!AH35,'BONUS GAZZETTA 2013 2014'!AJ35,'BONUS GAZZETTA 2013 2014'!AL35,'BONUS GAZZETTA 2013 2014'!AN35) -> -27 | BH35: =SUM(BD35,BF35) -> 84 | BI35: =SUM(BG35,BE35) -> 78.5
A36: P | B36: STOJANOVIC | AN36: 6.5 | AO36: =COUNT(C36:AN36) -> 1 | AP36: =COUNT(D36,F36,G36,I36,K36,M36,O36,Q36,S36,U36,V36,X36,AA36,AC36,AE36,AG36,AI36,AK36,AM36) -> 0 | AQ36: =COUNT(C36,E36,H36,J36,L36,N36,P36,R36,T36,W36,Y36,Z36,AB36,AD36,AF36,AH36,AJ36,AL36,AN36) -> 1 | AR36: =AVERAGE(C36:AN36) -> 6.5 | AS36: =AVERAGE(C36:U36) -> #DIV/0! | AT36: =AVERAGE(V36:AN36) -> 6.5 | AU36: =MODE(C36:AN36) -> #N/A | AV36: =AVERAGE(D36,F36,G36,I36,K36,M36,O36,Q36,S36,U36,V36,X36,AA36,AC36,AE36,AG36,AI36,AK36,AM36) -> #DIV/0! | AW36: =AVERAGE(C36,E36,H36,J36,L36,N36,P36,R36,T36,W36,Y36,Z36,AB36,AD36,AF36,AH36,AJ36,AL36,AN36) -> 6.5 | AX36: =BC36/AO36 -> 5.5 | AY36: =BH36/AP36 -> #DIV/0! | AZ36: =BI36/AQ36 -> 5.5 | BA36: =SUM(C36:AN36) -> 6.5 | BB36: =SUM('BONUS GAZZETTA 2013 2014'!C36:AN36) -> -1 | BC36: =SUM(BA36:BB36) -> 5.5 | BD36: =SUM(D36,F36,G36,I36,K36,M36,O36,Q36,S36,U36,V36,X36,AA36,AC36,AE36,AG36,AI36,AK36,AM36) -> 0 | BE36: =SUM(C36,E36,H36,J36,L36,N36,P36,R36,T36,W36,Y36,Z36,AB36,AD36,AF36,AH36,AJ36,AL36,AN36) -> 6.5 | BF36: =SUM('BONUS GAZZETTA 2013 2014'!D36,'BONUS GAZZETTA 2013 2014'!F36,'BONUS GAZZETTA 2013 2014'!G36,'BONUS GAZZETTA 2013 2014'!I36,'BONUS GAZZETTA 2013 2014'!K36,'BONUS GAZZETTA 2013 2014'!M36,'BONUS GAZZETTA 2013 2014'!O36,'BONUS GAZZETTA 2013 2014'!Q36,'BONUS GAZZETTA 2013 2014'!S36,'BONUS GAZZETTA 2013 2014'!U36,'BONUS GAZZETTA 2013 2014'!V36,'BONUS GAZZETTA 2013 2014'!X36,'BONUS GAZZETTA 2013 2014'!AA36,'BONUS GAZZETTA 2013 2014'!AC36,'BONUS GAZZETTA 2013 2014'!AE36,'BONUS GAZZETTA 2013 2014'!AG36,'BONUS GAZZETTA 2013 2014'!AI36,'BONUS GAZZETTA 2013 2014'!AK36,'BONUS GAZZETTA 2013 2014'!AM36) -> 0 | BG36: =SUM('BONUS GAZZETTA 2013 2014'!C36,'BONUS GAZZETTA 2013 2014'!E36,'BONUS GAZZETTA 2013 2014'!H36,'BONUS GAZZETTA 2013 2014'!J36,'BONUS GAZZETTA 2013 2014'!L36,'BONUS GAZZETTA 2013 2014'!N36,'BONUS GAZZETTA 2013 2014'!P36,'BONUS GAZZETTA 2013 2014'!R36,'BONUS GAZZETTA 2013 2014'!T36,'BONUS GAZZETTA 2013 2014'!W36,'BONUS GAZZETTA 2013 2014'!Y36,'BONUS GAZZETTA 2013 2014'!Z36,'BONUS GAZZETTA 2013 2014'!AB36,'BONUS GAZZETTA 2013 2014'!AD36,'BONUS GAZZETTA 2013 2014'!AF36,'BONUS GAZZETTA 2013 2014'!AH36,'BONUS GAZZETTA 2013 2014'!AJ36,'BONUS GAZZETTA 2013 2014'!AL36,'BONUS GAZZETTA 2013 2014'!AN36) -> -1 | BH36: =SUM(BD36,BF36) -> 0 | BI36: =SUM(BG36,BE36) -> 5.5
A37: D | B37: ANTONSSON | C37: 5 | D37: 6 | E37: 5 | F37: 6 | G37: 5.5 | H37: 4 | I37: 4.5 | L37: 6 | M37: 6 | N37: 6 | O37: 6 | P37: 6 | Q37: 6 | R37: 4.5 | T37: 5.5 | U37: 6 | V37: 6 | W37: 5.5 | X37: 6 | Y37: 6.5 | Z37: 6 | AA37: 6 | AB37: 6 | AC37: 6 | AD37: 5.5 | AE37: 6 | AG37: 5.5 | AH37: 6 | AI37: 6 | AJ37: 6 | AK37: 5.5 | AL37: 6 | AM37: 5 | AN37: 5.5 | AO37: =COUNT(C37:AN37) -> 34 | AP37: =COUNT(D37,F37,G37,I37,K37,M37,O37,Q37,S37,U37,V37,X37,AA37,AC37,AE37,AG37,AI37,AK37,AM37) -> 17 | AQ37: =COUNT(C37,E37,H37,J37,L37,N37,P37,R37,T37,W37,Y37,Z37,AB37,AD37,AF37,AH37,AJ37,AL37,AN37) -> 17 | AR37: =AVERAGE(C37:AN37) -> 5.6764706 | AS37: =AVERAGE(C37:U37) -> 5.5 | AT37: =AVERAGE(V37:AN37) -> 5.8333333 | AU37: =MODE(C37:AN37) -> 6 | AV37: =AVERAGE(D37,F37,G37,I37,K37,M37,O37,Q37,S37,U37,V37,X37,AA37,AC37,AE37,AG37,AI37,AK37,AM37) -> 5.7647059 | AW37: =AVERAGE(C37,E37,H37,J37,L37,N37,P37,R37,T37,W37,Y37,Z37,AB37,AD37,AF37,AH37,AJ37,AL37,AN37) -> 5.5882353 | AX37: =BC37/AO37 -> 5.6323529 | AY37: =BH37/AP37 -> 5.7647059 | AZ37: =BI37/AQ37 -> 5.5 | BA37: =SUM(C37:AN37) -> 193 | BB37: =SUM('BONUS GAZZETTA 2013 2014'!C37:AN37) -> -1.5 | BC37: =SUM(BA37:BB37) -> 191.5 | BD37: =SUM(D37,F37,G37,I37,K37,M37,O37,Q37,S37,U37,V37,X37,AA37,AC37,AE37,AG37,AI37,AK37,AM37) -> 98 | BE37: =SUM(C37,E37,H37,J37,L37,N37,P37,R37,T37,W37,Y37,Z37,AB37,AD37,AF37,AH37,AJ37,AL37,AN37) -> 95 | BF37: =SUM('BONUS GAZZETTA 2013 2014'!D37,'BONUS GAZZETTA 2013 2014'!F37,'BONUS GAZZETTA 2013 2014'!G37,'BONUS GAZZETTA 2013 2014'!I37,'BONUS GAZZETTA 2013 2014'!K37,'BONUS GAZZETTA 2013 2014'!M37,'BONUS GAZZETTA 2013 2014'!O37,'BONUS GAZZETTA 2013 2014'!Q37,'BONUS GAZZETTA 2013 2014'!S37,'BONUS GAZZETTA 2013 2014'!U37,'BONUS GAZZETTA 2013 2014'!V37,'BONUS GAZZETTA 2013 2014'!X37,'BONUS GAZZETTA 2013 2014'!AA37,'BONUS GAZZETTA 2013 2014'!AC37,'BONUS GAZZETTA 2013 2014'!AE37,'BONUS GAZZETTA 2013 2014'!AG37,'BONUS GAZZETTA 2013 2014'!AI37,'BONUS GAZZETTA 2013 2014'!AK37,'BONUS GAZZETTA 2013 2014'!AM37) -> 0 | BG37: =SUM('BONUS GAZZETTA 2013 2014'!C37,'BONUS GAZZETTA 2013 2014'!E37,'BONUS GAZZETTA 2013 2014'!H37,'BONUS GAZZETTA 2013 2014'!J37,'BONUS GAZZETTA 2013 2014'!L37,'BONUS GAZZETTA 2013 2014'!N37,'BONUS GAZZETTA 2013 2014'!P37,'BONUS GAZZETTA 2013 2014'!R37,'BONUS GAZZETTA 2013 2014'!T37,'BONUS GAZZETTA 2013 2014'!W37,'BONUS GAZZETTA 2013 2014'!Y37,'BONUS GAZZETTA 2013 2014'!Z37,'BONUS GAZZETTA 2013 2014'!AB37,'BONUS GAZZETTA 2013 2014'!AD37,'BONUS GAZZETTA 2013 2014'!AF37,'BONUS GAZZETTA 2013 2014'!AH37,'BONUS GAZZETTA 2013 2014'!AJ37,'BONUS GAZZETTA 2013 2014'!AL37,'BONUS GAZZETTA 2013 2014'!AN37) -> -1.5 | BH37: =SUM(BD37,BF37) -> 98 | BI37: =SUM(BG37,BE37) -> 93.5
A38: D | B38: CECH | C38: 4.5 | D38: 5.5 | E38: 5.5 | F38: 5.5 | J38: 5.5 | K38: 6 | U38: 5.5 | AC38: SV | AH38: 6 | AK38: 5.5 | AN38: 6 | AO38: =COUNT(C38:AN38) -> 10 | AP38: =COUNT(D38,F38,G38,I38,K38,M38,O38,Q38,S38,U38,V38,X38,AA38,AC38,AE38,AG38,AI38,AK38,AM38) -> 5 | AQ38: =COUNT(C38,E38,H38,J38,L38,N38,P38,R38,T38,W38,Y38,Z38,AB38,AD38,AF38,AH38,AJ38,AL38,AN38) -> 5 | AR38: =AVERAGE(C38:AN38) -> 5.55 | AS38: =AVERAGE(C38:U38) -> 5.4285714 | AT38: =AVERAGE(V38:AN38) -> 5.8333333 | AU38: =MODE(C38:AN38) -> 5.5 | AV38: =AVERAGE(D38,F38,G38,I38,K38,M38,O38,Q38,S38,U38,V38,X38,AA38,AC38,AE38,AG38,AI38,AK38,AM38) -> 5.6 | AW38: =AVERAGE(C38,E38,H38,J38,L38,N38,P38,R38,T38,W38,Y38,Z38,AB38,AD38,AF38,AH38,AJ38,AL38,AN38) -> 5.5 | AX38: =BC38/AO38 -> 5.55 | AY38: =BH38/AP38 -> 5.6 | AZ38: =BI38/AQ38 -> 5.5 | BA38: =SUM(C38:AN38) -> 55.5 | BB38: =SUM('BONUS GAZZETTA 2013 2014'!C38:AN38) -> 0 | BC38: =SUM(BA38:BB38) -> 55.5 | BD38: =SUM(D38,F38,G38,I38,K38,M38,O38,Q38,S38,U38,V38,X38,AA38,AC38,AE38,AG38,AI38,AK38,AM38) -> 28 | BE38: =SUM(C38,E38,H38,J38,L38,N38,P38,R38,T38,W38,Y38,Z38,AB38,AD38,AF38,AH38,AJ38,AL38,AN38) -> 27.5 | BF38: =SUM('BONUS GAZZETTA 2013 2014'!D38,'BONUS GAZZETTA 2013 2014'!F38,'BONUS GAZZETTA 2013 2014'!G38,'BONUS GAZZETTA 2013 2014'!I38,'BONUS GAZZETTA 2013 2014'!K38,'BONUS GAZZETTA 2013 2014'!M38,'BONUS GAZZETTA 2013 2014'!O38,'BONUS GAZZETTA 2013 2014'!Q38,'BONUS GAZZETTA 2013 2014'!S38,'BONUS GAZZETTA 2013 2014'!U38,'BONUS GAZZETTA 2013 2014'!V38,'BONUS GAZZETTA 2013 2014'!X38,'BONUS GAZZETTA 2013 2014'!AA38,'BONUS GAZZETTA 2013 2014'!AC38,'BONUS GAZZETTA 2013 2014'!AE38,'BONUS GAZZETTA 2013 2014'!AG38,'BONUS GAZZETTA 2013 2014'!AI38,'BONUS GAZZETTA 2013 2014'!AK38,'BONUS GAZZETTA 2013 2014'!AM38) -> 0 | BG38: =SUM('BONUS GAZZETTA 2013 2014'!C38,'BONUS GAZZETTA 2013 2014'!E38,'BONUS GAZZETTA 2013 2014'!H38,'BONUS GAZZETTA 2013 2014'!J38,'BONUS GAZZETTA 2013 2014'!L38,'BONUS GAZZETTA 2013 2014'!N38,'BONUS GAZZETTA 2013 2014'!P38,'BONUS GAZZETTA 2013 2014'!R38,'BONUS GAZZETTA 2013 2014'!T38,'BONUS GAZZETTA 2013 2014'!W38,'BONUS GAZZETTA 2013 2014'!Y38,'BONUS GAZZETTA 2013 2014'!Z38,'BONUS GAZZETTA 2013 2014'!AB38,'BONUS GAZZETTA 2013 2014'!AD38,'BONUS GAZZETTA 2013 2014'!AF38,'BONUS GAZZETTA 2013 2014'!AH38,'BONUS GAZZETTA 2013 2014'!AJ38,'BONUS GAZZETTA 2013 2014'!AL38,'BONUS GAZZETTA 2013 2014'!AN38) -> 0 | BH38: =SUM(BD38,BF38) -> 28 | BI38: =SUM(BG38,BE38) -> 27.5
A39: D | B39: CHERUBIN | U39: 6 | V39: 6 | W39: 6 | X39: 5.5 | Y39: 6.5 | AA39: 5.5 | AC39: 6 | AE39: 6 | AF39: 5 | AG39: 5 | AI39: 7 | AJ39: 6 | AK39: 4.5 | AL39: 5.5 | AN39: 6 | AO39: =COUNT(C39:AN39) -> 15 | AP39: =COUNT(D39,F39,G39,I39,K39,M39,O39,Q39,S39,U39,V39,X39,AA39,AC39,AE39,AG39,AI39,AK39,AM39) -> 9 | AQ39: =COUNT(C39,E39,H39,J39,L39,N39,P39,R39,T39,W39,Y39,Z39,AB39,AD39,AF39,AH39,AJ39,AL39,AN39) -> 6 | AR39: =AVERAGE(C39:AN39) -> 5.7666667 | AS39: =AVERAGE(C39:U39) -> 6 | AT39: =AVERAGE(V39:AN39) -> 5.75 | AU39: =MODE(C39:AN39) -> 6 | AV39: =AVERAGE(D39,F39,G39,I39,K39,M39,O39,Q39,S39,U39,V39,X39,AA39,AC39,AE39,AG39,AI39,AK39,AM39) -> 5.7222222 | AW39: =AVERAGE(C39,E39,H39,J39,L39,N39,P39,R39,T39,W39,Y39,Z39,AB39,AD39,AF39,AH39,AJ39,AL39,AN39) -> 5.8333333 | AX39: =BC39/AO39 -> 5.8333333 | AY39: =BH39/AP39 -> 5.9444444 | AZ39: =BI39/AQ39 -> 5.6666667 | BA39: =SUM(C39:AN39) -> 86.5 | BB39: =SUM('BONUS GAZZETTA 2013 2014'!C39:AN39) -> 1 | BC39: =SUM(BA39:BB39) -> 87.5 | BD39: =SUM(D39,F39,G39,I39,K39,M39,O39,Q39,S39,U39,V39,X39,AA39,AC39,AE39,AG39,AI39,AK39,AM39) -> 51.5 | BE39: =SUM(C39,E39,H39,J39,L39,N39,P39,R39,T39,W39,Y39,Z39,AB39,AD39,AF39,AH39,AJ39,AL39,AN39) -> 35 | BF39: =SUM('BONUS GAZZETTA 2013 2014'!D39,'BONUS GAZZETTA 2013 2014'!F39,'BONUS GAZZETTA 2013 2014'!G39,'BONUS GAZZETTA 2013 2014'!I39,'BONUS GAZZETTA 2013 2014'!K39,'BONUS GAZZETTA 2013 2014'!M39,'BONUS GAZZETTA 2013 2014'!O39,'BONUS GAZZETTA 2013 2014'!Q39,'BONUS GAZZETTA 2013 2014'!S39,'BONUS GAZZETTA 2013 2014'!U39,'BONUS GAZZETTA 2013 2014'!V39,'BONUS GAZZETTA 2013 2014'!X39,'BONUS GAZZETTA 2013 2014'!AA39,'BONUS GAZZETTA 2013 2014'!AC39,'BONUS GAZZETTA 2013 2014'!AE39,'BONUS GAZZETTA 2013 2014'!AG39,'BONUS GAZZETTA 2013 2014'!AI39,'BONUS GAZZETTA 2013 2014'!AK39,'BONUS GAZZETTA 2013 2014'!AM39) -> 2 | BG39: =SUM('BONUS GAZZETTA 2013 2014'!C39,'BONUS GAZZETTA 2013 2014'!E39,'BONUS GAZZETTA 2013 2014'!H39,'BONUS GAZZETTA 2013 2014'!J39,'BONUS GAZZETTA 2013 2014'!L39,'BONUS GAZZETTA 2013 2014'!N39,'BONUS GAZZETTA 2013 2014'!P39,'BONUS GAZZETTA 2013 2014'!R39,'BONUS GAZZETTA 2013 2014'!T39,'BONUS GAZZETTA 2013 2014'!W39,'BONUS GAZZETTA 2013 2014'!Y39,'BONUS GAZZETTA 2013 2014'!Z39,'BONUS GAZZETTA 2013 2014'!AB39,'BONUS GAZZETTA 2013 2014'!AD39,'BONUS GAZZETTA 2013 2014'!AF39,'BONUS GAZZETTA 2013 2014'!AH39,'BONUS GAZZETTA 2013 2014'!AJ39,'BONUS GAZZETTA 2013 2014'!AL39,'BONUS GAZZETTA 2013 2014'!AN39) -> -1 | BH39: =SUM(BD39,BF39) -> 53.5 | BI39: =SUM(BG39,BE39) -> 34
A40: D | B40: CRESPO | C40: 5 | J40: 6 | K40: 7 | N40: 6 | O40: 5.5 | S40: SV | T40: 5.5 | AC40: 5 | AG40: 5 | AN40: 6 | AO40: =COUNT(C40:AN40) -> 9 | AP40: =COUNT(D40,F40,G40,I40,K40,M40,O40,Q40,S40,U40,V40,X40,AA40,AC40,AE40,AG40,AI40,AK40,AM40) -> 4 | AQ40: =COUNT(C40,E40,H40,J40,L40,N40,P40,R40,T40,W40,Y40,Z40,AB40,AD40,AF40,AH40,AJ40,AL40,AN40) -> 5 | AR40: =AVERAGE(C40:AN40) -> 5.6666667 | AS40: =AVERAGE(C40:U40) -> 5.8333333 | AT40: =AVERAGE(V40:AN40) -> 5.3333333 | AU40: =MODE(C40:AN40) -> 5 | AV40: =AVERAGE(D40,F40,G40,I40,K40,M40,O40,Q40,S40,U40,V40,X40,AA40,AC40,AE40,AG40,AI40,AK40,AM40) -> 5.625 | AW40: =AVERAGE(C40,E40,H40,J40,L40,N40,P40,R40,T40,W40,Y40,Z40,AB40,AD40,AF40,AH40,AJ40,AL40,AN40) -> 5.7 | AX40: =BC40/AO40 -> 6 | AY40: =BH40/AP40 -> 6.375 | AZ40: =BI40/AQ40 -> 5.7 | BA40: =SUM(C40:AN40) -> 51 | BB40: =SUM('BONUS GAZZETTA 2013 2014'!C40:AN40) -> 3 | BC40: =SUM(BA40:BB40) -> 54 | BD40: =SUM(D40,F40,G40,I40,K40,M40,O40,Q40,S40,U40,V40,X40,AA40,AC40,AE40,AG40,AI40,AK40,AM40) -> 22.5 | BE40: =SUM(C40,E40,H40,J40,L40,N40,P40,R40,T40,W40,Y40,Z40,AB40,AD40,AF40,AH40,AJ40,AL40,AN40) -> 28.5 | BF40: =SUM('BONUS GAZZETTA 2013 2014'!D40,'BONUS GAZZETTA 2013 2014'!F40,'BONUS GAZZETTA 2013 2014'!G40,'BONUS GAZZETTA 2013 2014'!I40,'BONUS GAZZETTA 2013 2014'!K40,'BONUS GAZZETTA 2013 2014'!M40,'BONUS GAZZETTA 2013 2014'!O40,'BONUS GAZZETTA 2013 2014'!Q40,'BONUS GAZZETTA 2013 2014'!S40,'BONUS GAZZETTA 2013 2014'!U40,'BONUS GAZZETTA 2013 2014'!V40,'BONUS GAZZETTA 2013 2014'!X40,'BONUS GAZZETTA 2013 2014'!AA40,'BONUS GAZZETTA 2013 2014'!AC40,'BONUS GAZZETTA 2013 2014'!AE40,'BONUS GAZZETTA 2013 2014'!AG40,'BONUS GAZZETTA 2013 2014'!AI40,'BONUS GAZZETTA 2013 2014'!AK40,'BONUS GAZZETTA 2013 2014'!AM40) -> 3 | BG40: =SUM('BONUS GAZZETTA 2013 2014'!C40,'BONUS GAZZETTA 2013 2014'!E40,'BONUS GAZZETTA 2013 2014'!H40,'BONUS GAZZETTA 2013 2014'!J40,'BONUS GAZZETTA 2013 2014'!L40,'BONUS GAZZETTA 2013 2014'!N40,'BONUS GAZZETTA 2013 2014'!P40,'BONUS GAZZETTA 2013 2014'!R40,'BONUS GAZZETTA 2013 2014'!T40,'BONUS GAZZETTA 2013 2014'!W40,'BONUS GAZZETTA 2013 2014'!Y40,'BONUS GAZZETTA 2013 2014'!Z40,'BONUS GAZZETTA 2013 2014'!AB40,'BONUS GAZZETTA 2013 2014'!AD40,'BONUS GAZZETTA 2013 2014'!AF40,'BONUS GAZZETTA 2013 2014'!AH40,'BONUS GAZZETTA 2013 2014'!AJ40,'BONUS GAZZETTA 2013 2014'!AL40,'BONUS GAZZETTA 2013 2014'!AN40) -> 0 | BH40: =SUM(BD40,BF40) -> 25.5 | BI40: =SUM(BG40,BE40) -> 28.5
A41: D | B41: GARICS | C41: 5 | D41: 6.5 | E41: 6 | F41: 5 | G41: 6.5 | H41: 5 | I41: 5 | K41: 6 | L41: 7 | M41: 5.5 | N41: 6 | O41: 6.5 | P41: 5.5 | Q41: 6 | R41: 5 | S41: 6 | U41: 6 | V41: 5 | W41: 5 | X41: 5.5 | Y41: 6 | Z41: 5.5 | AA41: 5.5 | AB41: 6 | AD41: 5 | AE41: 6 | AF41: 5 | AG41: 5 | AH41: 6 | AI41: 5.5 | AJ41: 6 | AK41: 5 | AL41: 5.5 | AM41: 4.5 | AO41: =COUNT(C41:AN41) -> 34 | AP41: =COUNT(D41,F41,G41,I41,K41,M41,O41,Q41,S41,U41,V41,X41,AA41,AC41,AE41,AG41,AI41,AK41,AM41) -> 18 | AQ41: =COUNT(C41,E41,H41,J41,L41,N41,P41,R41,T41,W41,Y41,Z41,AB41,AD41,AF41,AH41,AJ41,AL41,AN41) -> 16 | AR41: =AVERAGE(C41:AN41) -> 5.6029412 | AS41: =AVERAGE(C41:U41) -> 5.7941176 | AT41: =AVERAGE(V41:AN41) -> 5.4117647 | AU41: =MODE(C41:AN41) -> 5 | AV41: =AVERAGE(D41,F41,G41,I41,K41,M41,O41,Q41,S41,U41,V41,X41,AA41,AC41,AE41,AG41,AI41,AK41,AM41) -> 5.6111111 | AW41: =AVERAGE(C41,E41,H41,J41,L41,N41,P41,R41,T41,W41,Y41,Z41,AB41,AD41,AF41,AH41,AJ41,AL41,AN41) -> 5.59375 | AX41: =BC41/AO41 -> 5.5882353 | AY41: =BH41/AP41 -> 5.5277778 | AZ41: =BI41/AQ41 -> 5.65625 | BA41: =SUM(C41:AN41) -> 190.5 | BB41: =SUM('BONUS GAZZETTA 2013 2014'!C41:AN41) -> -0.5 | BC41: =SUM(BA41:BB41) -> 190 | BD41: =SUM(D41,F41,G41,I41,K41,M41,O41,Q41,S41,U41,V41,X41,AA41,AC41,AE41,AG41,AI41,AK41,AM41) -> 101 | BE41: =SUM(C41,E41,H41,J41,L41,N41,P41,R41,T41,W41,Y41,Z41,AB41,AD41,AF41,AH41,AJ41,AL41,AN41) -> 89.5 | BF41: =SUM('BONUS GAZZETTA 2013 2014'!D41,'BONUS GAZZETTA 2013 2014'!F41,'BONUS GAZZETTA 2013 2014'!G41,'BONUS GAZZETTA 2013 2014'!I41,'BONUS GAZZETTA 2013 2014'!K41,'BONUS GAZZETTA 2013 2014'!M41,'BONUS GAZZETTA 2013 2014'!O41,'BONUS GAZZETTA 2013 2014'!Q41,'BONUS GAZZETTA 2013 2014'!S41,'BONUS GAZZETTA 2013 2014'!U41,'BONUS GAZZETTA 2013 2014'!V41,'BONUS GAZZETTA 2013 2014'!X41,'BONUS GAZZETTA 2013 2014'!AA41,'BONUS GAZZETTA 2013 2014'!AC41,'BONUS GAZZETTA 2013 2014'!AE41,'BONUS GAZZETTA 2013 2014'!AG41,'BONUS GAZZETTA 2013 2014'!AI41,'BONUS GAZZETTA 2013 2014'!AK41,'BONUS GAZZETTA 2013 2014'!AM41) -> -1.5 | BG41: =SUM('BONUS GAZZETTA 2013 2014'!C41,'BONUS GAZZETTA 2013 2014'!E41,'BONUS GAZZETTA 2013 2014'!H41,'BONUS GAZZETTA 2013 2014'!J41,'BONUS GAZZETTA 2013 2014'!L41,'BONUS GAZZETTA 2013 2014'!N41,'BONUS GAZZETTA 2013 2014'!P41,'BONUS GAZZETTA 2013 2014'!R41,'BONUS GAZZETTA 2013 2014'!T41,'BONUS GAZZETTA 2013 2014'!W41,'BONUS GAZZETTA 2013 2014'!Y41,'BONUS GAZZETTA 2013 2014'!Z41,'BONUS GAZZETTA 2013 2014'!AB41,'BONUS GAZZETTA 2013 2014'!AD41,'BONUS GAZZETTA 2013 2014'!AF41,'BONUS GAZZETTA 2013 2014'!AH41,'BONUS GAZZETTA 2013 2014'!AJ41,'BONUS GAZZETTA 2013 2014'!AL41,'BONUS GAZZETTA 2013 2014'!AN41) -> 1 | BH41: =SUM(BD41,BF41) -> 99.5 | BI41: =SUM(BG41,BE41) -> 90.5
A42: D | B42: MANTOVANI | D42: 6 | F42: 6 | G42: 5.5 | H42: 5 | J42: 5 | K42: 6 | L42: 6 | Q42: 5 | R42: 5.5 | S42: 6 | T42: 5.5 | V42: 5.5 | W42: 6 | Y42: 6.5 | Z42: 5.5 | AA42: 6 | AB42: 6.5 | AC42: 5.5 | AD42: 5.5 | AH42: 5.5 | AI42: 6 | AO42: =COUNT(C42:AN42) -> 21 | AP42: =COUNT(D42,F42,G42,I42,K42,M42,O42,Q42,S42,U42,V42,X42,AA42,AC42,AE42,AG42,AI42,AK42,AM42) -> 10 | AQ42: =COUNT(C42,E42,H42,J42,L42,N42,P42,R42,T42,W42,Y42,Z42,AB42,AD42,AF42,AH42,AJ42,AL42,AN42) -> 11 | AR42: =AVERAGE(C42:AN42) -> 5.7142857 | AS42: =AVERAGE(C42:U42) -> 5.5909091 | AT42: =AVERAGE(V42:AN42) -> 5.85 | AU42: =MODE(C42:AN42) -> 6 | AV42: =AVERAGE(D42,F42,G42,I42,K42,M42,O42,Q42,S42,U42,V42,X42,AA42,AC42,AE42,AG42,AI42,AK42,AM42) -> 5.75 | AW42: =AVERAGE(C42,E42,H42,J42,L42,N42,P42,R42,T42,W42,Y42,Z42,AB42,AD42,AF42,AH42,AJ42,AL42,AN42) -> 5.6818182 | AX42: =BC42/AO42 -> 5.5714286 | AY42: =BH42/AP42 -> 5.6 | AZ42: =BI42/AQ42 -> 5.5454545 | BA42: =SUM(C42:AN42) -> 120 | BB42: =SUM('BONUS GAZZETTA 2013 2014'!C42:AN42) -> -3 | BC42: =SUM(BA42:BB42) -> 117 | BD42: =SUM(D42,F42,G42,I42,K42,M42,O42,Q42,S42,U42,V42,X42,AA42,AC42,AE42,AG42,AI42,AK42,AM42) -> 57.5 | BE42: =SUM(C42,E42,H42,J42,L42,N42,P42,R42,T42,W42,Y42,Z42,AB42,AD42,AF42,AH42,AJ42,AL42,AN42) -> 62.5 | BF42: =SUM('BONUS GAZZETTA 2013 2014'!D42,'BONUS GAZZETTA 2013 2014'!F42,'BONUS GAZZETTA 2013 2014'!G42,'BONUS GAZZETTA 2013 2014'!I42,'BONUS GAZZETTA 2013 2014'!K42,'BONUS GAZZETTA 2013 2014'!M42,'BONUS GAZZETTA 2013 2014'!O42,'BONUS GAZZETTA 2013 2014'!Q42,'BONUS GAZZETTA 2013 2014'!S42,'BONUS GAZZETTA 2013 2014'!U42,'BONUS GAZZETTA 2013 2014'!V42,'BONUS GAZZETTA 2013 2014'!X42,'BONUS GAZZETTA 2013 2014'!AA42,'BONUS GAZZETTA 2013 2014'!AC42,'BONUS GAZZETTA 2013 2014'!AE42,'BONUS GAZZETTA 2013 2014'!AG42,'BONUS GAZZETTA 2013 2014'!AI42,'BONUS GAZZETTA 2013 2014'!AK42,'BONUS GAZZETTA 2013 2014'!AM42) -> -1.5 | BG42: =SUM('BONUS GAZZETTA 2013 2014'!C42,'BONUS GAZZETTA 2013 2014'!E42,'BONUS GAZZETTA 2013 2014'!H42,'BONUS GAZZETTA 2013 2014'!J42,'BONUS GAZZETTA 2013 2014'!L42,'BONUS GAZZETTA 2013 2014'!N42,'BONUS GAZZETTA 2013 2014'!P42,'BONUS GAZZETTA 2013 2014'!R42,'BONUS GAZZETTA 2013 2014'!T42,'BONUS GAZZETTA 2013 2014'!W42,'BONUS GAZZETTA 2013 2014'!Y42,'BONUS GAZZETTA 2013 2014'!Z42,'BONUS GAZZETTA 2013 2014'!AB42,'BONUS GAZZETTA 2013 2014'!AD42,'BONUS GAZZETTA 2013 2014'!AF42,'BONUS GAZZETTA 2013 2014'!AH42,'BONUS GAZZETTA 2013 2014'!AJ42,'BONUS GAZZETTA 2013 2014'!AL42,'BONUS GAZZETTA 2013 2014'!AN42) -> -1.5 | BH42: =SUM(BD42,BF42) -> 56 | BI42: =SUM(BG42,BE42) -> 61
A43: D | B43: MORLEO | G43: 6 | H43: 5 | I43: 4 | K43: 5 | L43: 6.5 | M43: 5.5 | N43: 6 | O43: 6 | P43: 6 | Q43: 6 | R43: 5 | S43: 5.5 | T43: 5 | U43: 6 | V43: 5.5 | W43: 6 | X43: 5.5 | Y43: 7 | Z43: 6 | AA43: 6 | AB43: 6 | AD43: 6 | AE43: 6 | AF43: 5 | AH43: 6.5 | AI43: 6 | AJ43: 5.5 | AK43: 5.5 | AL43: 5 | AM43: 6 | AN43: 5 | AO43: =COUNT(C43:AN43) -> 31 | AP43: =COUNT(D43,F43,G43,I43,K43,M43,O43,Q43,S43,U43,V43,X43,AA43,AC43,AE43,AG43,AI43,AK43,AM43) -> 15 | AQ43: =COUNT(C43,E43,H43,J43,L43,N43,P43,R43,T43,W43,Y43,Z43,AB43,AD43,AF43,AH43,AJ43,AL43,AN43) -> 16 | AR43: =AVERAGE(C43:AN43) -> 5.6774194 | AS43: =AVERAGE(C43:U43) -> 5.5357143 | AT43: =AVERAGE(V43:AN43) -> 5.7941176 | AU43: =MODE(C43:AN43) -> 6 | AV43: =AVERAGE(D43,F43,G43,I43,K43,M43,O43,Q43,S43,U43,V43,X43,AA43,AC43,AE43,AG43,AI43,AK43,AM43) -> 5.6333333 | AW43: =AVERAGE(C43,E43,H43,J43,L43,N43,P43,R43,T43,W43,Y43,Z43,AB43,AD43,AF43,AH43,AJ43,AL43,AN43) -> 5.71875 | AX43: =BC43/AO43 -> 5.6612903 | AY43: =BH43/AP43 -> 5.7333333 | AZ43: =BI43/AQ43 -> 5.59375 | BA43: =SUM(C43:AN43) -> 176 | BB43: =SUM('BONUS GAZZETTA 2013 2014'!C43:AN43) -> -0.5 | BC43: =SUM(BA43:BB43) -> 175.5 | BD43: =SUM(D43,F43,G43,I43,K43,M43,O43,Q43,S43,U43,V43,X43,AA43,AC43,AE43,AG43,AI43,AK43,AM43) -> 84.5 | BE43: =SUM(C43,E43,H43,J43,L43,N43,P43,R43,T43,W43,Y43,Z43,AB43,AD43,AF43,AH43,AJ43,AL43,AN43) -> 91.5 | BF43: =SUM('BONUS GAZZETTA 2013 2014'!D43,'BONUS GAZZETTA 2013 2014'!F43,'BONUS GAZZETTA 2013 2014'!G43,'BONUS GAZZETTA 2013 2014'!I43,'BONUS GAZZETTA 2013 2014'!K43,'BONUS GAZZETTA 2013 2014'!M43,'BONUS GAZZETTA 2013 2014'!O43,'BONUS GAZZETTA 2013 2014'!Q43,'BONUS GAZZETTA 2013 2014'!S43,'BONUS GAZZETTA 2013 2014'!U43,'BONUS GAZZETTA 2013 2014'!V43,'BONUS GAZZETTA 2013 2014'!X43,'BONUS GAZZETTA 2013 2014'!AA43,'BONUS GAZZETTA 2013 2014'!AC43,'BONUS GAZZETTA 2013 2014'!AE43,'BONUS GAZZETTA 2013 2014'!AG43,'BONUS GAZZETTA 2013 2014'!AI43,'BONUS GAZZETTA 2013 2014'!AK43,'BONUS GAZZETTA 2013 2014'!AM43) -> 1.5 | BG43: =SUM('BONUS GAZZETTA 2013 2014'!C43,'BONUS GAZZETTA 2013 2014'!E43,'BONUS GAZZETTA 2013 2014'!H43,'BONUS GAZZETTA 2013 2014'!J43,'BONUS GAZZETTA 2013 2014'!L43,'BONUS GAZZETTA 2013 2014'!N43,'BONUS GAZZETTA 2013 2014'!P43,'BONUS GAZZETTA 2013 2014'!R43,'BONUS GAZZETTA 2013 2014'!T43,'BONUS GAZZETTA 2013 2014'!W43,'BONUS GAZZETTA 2013 2014'!Y43,'BONUS GAZZETTA 2013 2014'!Z43,'BONUS GAZZETTA 2013 2014'!AB43,'BONUS GAZZETTA 2013 2014'!AD43,'BONUS GAZZETTA 2013 2014'!AF43,'BONUS GAZZETTA 2013 2014'!AH43,'BONUS GAZZETTA 2013 2014'!AJ43,'BONUS GAZZETTA 2013 2014'!AL43,'BONUS GAZZETTA 2013 2014'!AN43) -> -2 | BH43: =SUM(BD43,BF43) -> 86 | BI43: =SUM(BG43,BE43) -> 89.5
A44: D | B44: NATALI | C44: 5 | D44: 6 | E44: 6 | F44: 5 | J44: 5 | K44: 6.5 | L44: SV | O44: 5.5 | P44: 6 | Q44: 5 | R44: 5 | S44: 6.5 | T44: 5.5 | U44: 5.5 | V44: 6.5 | W44: 5.5 | X44: 6 | Y44: 6.5 | Z44: 6.5 | AA44: 6 | AB44: 6.5 | AC44: 6 | AD44: 5 | AE44: 6 | AF44: 5 | AG44: 5 | AH44: 6 | AI44: 6 | AK44: 5 | AL44: 5 | AM44: 5 | AN44: 6 | AO44: =COUNT(C44:AN44) -> 31 | AP44: =COUNT(D44,F44,G44,I44,K44,M44,O44,Q44,S44,U44,V44,X44,AA44,AC44,AE44,AG44,AI44,AK44,AM44) -> 16 | AQ44: =COUNT(C44,E44,H44,J44,L44,N44,P44,R44,T44,W44,Y44,Z44,AB44,AD44,AF44,AH44,AJ44,AL44,AN44) -> 15 | AR44: =AVERAGE(C44:AN44) -> 5.6774194 | AS44: =AVERAGE(C44:U44) -> 5.5769231 | AT44: =AVERAGE(V44:AN44) -> 5.75 | AU44: =MODE(C44:AN44) -> 5 | AV44: =AVERAGE(D44,F44,G44,I44,K44,M44,O44,Q44,S44,U44,V44,X44,AA44,AC44,AE44,AG44,AI44,AK44,AM44) -> 5.71875 | AW44: =AVERAGE(C44,E44,H44,J44,L44,N44,P44,R44,T44,W44,Y44,Z44,AB44,AD44,AF44,AH44,AJ44,AL44,AN44) -> 5.6333333 | AX44: =BC44/AO44 -> 5.7258065 | AY44: =BH44/AP44 -> 5.84375 | AZ44: =BI44/AQ44 -> 5.6 | BA44: =SUM(C44:AN44) -> 176 | BB44: =SUM('BONUS GAZZETTA 2013 2014'!C44:AN44) -> 1.5 | BC44: =SUM(BA44:BB44) -> 177.5 | BD44: =SUM(D44,F44,G44,I44,K44,M44,O44,Q44,S44,U44,V44,X44,AA44,AC44,AE44,AG44,AI44,AK44,AM44) -> 91.5 | BE44: =SUM(C44,E44,H44,J44,L44,N44,P44,R44,T44,W44,Y44,Z44,AB44,AD44,AF44,AH44,AJ44,AL44,AN44) -> 84.5 | BF44: =SUM('BONUS GAZZETTA 2013 2014'!D44,'BONUS GAZZETTA 2013 2014'!F44,'BONUS GAZZETTA 2013 2014'!G44,'BONUS GAZZETTA 2013 2014'!I44,'BONUS GAZZETTA 2013 2014'!K44,'BONUS GAZZETTA 2013 2014'!M44,'BONUS GAZZETTA 2013 2014'!O44,'BONUS GAZZETTA 2013 2014'!Q44,'BONUS GAZZETTA 2013 2014'!S44,'BONUS GAZZETTA 2013 2014'!U44,'BONUS GAZZETTA 2013 2014'!V44,'BONUS GAZZETTA 2013 2014'!X44,'BONUS GAZZETTA 2013 2014'!AA44,'BONUS GAZZETTA 2013 2014'!AC44,'BONUS GAZZETTA 2013 2014'!AE44,'BONUS GAZZETTA 2013 2014'!AG44,'BONUS GAZZETTA 2013 2014'!AI44,'BONUS GAZZETTA 2013 2014'!AK44,'BONUS GAZZETTA 2013 2014'!AM44) -> 2 | BG44: =SUM('BONUS GAZZETTA 2013 2014'!C44,'BONUS GAZZETTA 2013 2014'!E44,'BONUS GAZZETTA 2013 2014'!H44,'BONUS GAZZETTA 2013 2014'!J44,'BONUS GAZZETTA 2013 2014'!L44,'BONUS GAZZETTA 2013 2014'!N44,'BONUS GAZZETTA 2013 2014'!P44,'BONUS GAZZETTA 2013 2014'!R44,'BONUS GAZZETTA 2013 2014'!T44,'BONUS GAZZETTA 2013 2014'!W44,'BONUS GAZZETTA 2013 2014'!Y44,'BONUS GAZZETTA 2013 2014'!Z44,'BONUS GAZZETTA 2013 2014'!AB44,'BONUS GAZZETTA 2013 2014'!AD44,'BONUS GAZZETTA 2013 2014'!AF44,'BONUS GAZZETTA 2013 2014'!AH44,'BONUS GAZZETTA 2013 2014'!AJ44,'BONUS GAZZETTA 2013 2014'!AL44,'BONUS GAZZETTA 2013 2014'!AN44) -> -0.5 | BH44: =SUM(BD44,BF44) -> 93.5 | BI44: =SUM(BG44,BE44) -> 84
A45: D | B45: SORENSEN | G45: 4.5 | I45: 4 | J45: 6 | K45: 6 | L45: 6.5 | M45: 6 | N45: 5 | O45: 5 | P45: 5 | AE45: 5.5 | AF45: 4.5 | AJ45: 6 | AM45: 5 | AN45: 6.5 | AO45: =COUNT(C45:AN45) -> 14 | AP45: =COUNT(D45,F45,G45,I45,K45,M45,O45,Q45,S45,U45,V45,X45,AA45,AC45,AE45,AG45,AI45,AK45,AM45) -> 7 | AQ45: =COUNT(C45,E45,H45,J45,L45,N45,P45,R45,T45,W45,Y45,Z45,AB45,AD45,AF45,AH45,AJ45,AL45,AN45) -> 7 | AR45: =AVERAGE(C45:AN45) -> 5.3928571 | AS45: =AVERAGE(C45:U45) -> 5.3333333 | AT45: =AVERAGE(V45:AN45) -> 5.5 | AU45: =MODE(C45:AN45) -> 6 | AV45: =AVERAGE(D45,F45,G45,I45,K45,M45,O45,Q45,S45,U45,V45,X45,AA45,AC45,AE45,AG45,AI45,AK45,AM45) -> 5.1428571 | AW45: =AVERAGE(C45,E45,H45,J45,L45,N45,P45,R45,T45,W45,Y45,Z45,AB45,AD45,AF45,AH45,AJ45,AL45,AN45) -> 5.6428571 | AX45: =BC45/AO45 -> 5.2857143 | AY45: =BH45/AP45 -> 5.1428571 | AZ45: =BI45/AQ45 -> 5.4285714 | BA45: =SUM(C45:AN45) -> 75.5 | BB45: =SUM('BONUS GAZZETTA 2013 2014'!C45:AN45) -> -1.5 | BC45: =SUM(BA45:BB45) -> 74 | BD45: =SUM(D45,F45,G45,I45,K45,M45,O45,Q45,S45,U45,V45,X45,AA45,AC45,AE45,AG45,AI45,AK45,AM45) -> 36 | BE45: =SUM(C45,E45,H45,J45,L45,N45,P45,R45,T45,W45,Y45,Z45,AB45,AD45,AF45,AH45,AJ45,AL45,AN45) -> 39.5 | BF45: =SUM('BONUS GAZZETTA 2013 2014'!D45,'BONUS GAZZETTA 2013 2014'!F45,'BONUS GAZZETTA 2013 2014'!G45,'BONUS GAZZETTA 2013 2014'!I45,'BONUS GAZZETTA 2013 2014'!K45,'BONUS GAZZETTA 2013 2014'!M45,'BONUS GAZZETTA 2013 2014'!O45,'BONUS GAZZETTA 2013 2014'!Q45,'BONUS GAZZETTA 2013 2014'!S45,'BONUS GAZZETTA 2013 2014'!U45,'BONUS GAZZETTA 2013 2014'!V45,'BONUS GAZZETTA 2013 2014'!X45,'BONUS GAZZETTA 2013 2014'!AA45,'BONUS GAZZETTA 2013 2014'!AC45,'BONUS GAZZETTA 2013 2014'!AE45,'BONUS GAZZETTA 2013 2014'!AG45,'BONUS GAZZETTA 2013 2014'!AI45,'BONUS GAZZETTA 2013 2014'!AK45,'BONUS GAZZETTA 2013 2014'!AM45) -> 0 | BG45: =SUM('BONUS GAZZETTA 2013 2014'!C45,'BONUS GAZZETTA 2013 2014'!E45,'BONUS GAZZETTA 2013 2014'!H45,'BONUS GAZZETTA 2013 2014'!J45,'BONUS GAZZETTA 2013 2014'!L45,'BONUS GAZZETTA 2013 2014'!N45,'BONUS GAZZETTA 2013 2014'!P45,'BONUS GAZZETTA 2013 2014'!R45,'BONUS GAZZETTA 2013 2014'!T45,'BONUS GAZZETTA 2013 2014'!W45,'BONUS GAZZETTA 2013 2014'!Y45,'BONUS GAZZETTA 2013 2014'!Z45,'BONUS GAZZETTA 2013 2014'!AB45,'BONUS GAZZETTA 2013 2014'!AD45,'BONUS GAZZETTA 2013 2014'!AF45,'BONUS GAZZETTA 2013 2014'!AH45,'BONUS GAZZETTA 2013 2014'!AJ45,'BONUS GAZZETTA 2013 2014'!AL45,'BONUS GAZZETTA 2013 2014'!AN45) -> -1.5 | BH45: =SUM(BD45,BF45) -> 36 | BI45: =SUM(BG45,BE45) -> 38
A46: C | B46: LAZAROS | C46: 4.5 | E46: SV | G46: 7 | H46: 5 | J46: 6 | L46: SV | N46: SV | P46: 6 | U46: 5.5 | V46: 5 | W46: 6.5 | X46: 5 | Y46: 7 | Z46: 6 | AA46: 5 | AB46: 6.5 | AC46: 6.5 | AD46: 6 | AE46: 7 | AF46: 5.5 | AG46: 6 | AH46: 7.5 | AI46: 6 | AJ46: 6 | AK46: 5 | AL46: 6 | AM46: 5 | AO46: =COUNT(C46:AN46) -> 24 | AP46: =COUNT(D46,F46,G46,I46,K46,M46,O46,Q46,S46,U46,V46,X46,AA46,AC46,AE46,AG46,AI46,AK46,AM46) -> 11 | AQ46: =COUNT(C46,E46,H46,J46,L46,N46,P46,R46,T46,W46,Y46,Z46,AB46,AD46,AF46,AH46,AJ46,AL46,AN46) -> 13 | AR46: =AVERAGE(C46:AN46) -> 5.8958333 | AS46: =AVERAGE(C46:U46) -> 5.6666667 | AT46: =AVERAGE(V46:AN46) -> 5.9722222 | AU46: =MODE(C46:AN46) -> 6 | AV46: =AVERAGE(D46,F46,G46,I46,K46,M46,O46,Q46,S46,U46,V46,X46,AA46,AC46,AE46,AG46,AI46,AK46,AM46) -> 5.7272727 | AW46: =AVERAGE(C46,E46,H46,J46,L46,N46,P46,R46,T46,W46,Y46,Z46,AB46,AD46,AF46,AH46,AJ46,AL46,AN46) -> 6.0384615 | AX46: =BC46/AO46 -> 5.9791667 | AY46: =BH46/AP46 -> 5.7727273 | AZ46: =BI46/AQ46 -> 6.1538462 | BA46: =SUM(C46:AN46) -> 141.5 | BB46: =SUM('BONUS GAZZETTA 2013 2014'!C46:AN46) -> 2 | BC46: =SUM(BA46:BB46) -> 143.5 | BD46: =SUM(D46,F46,G46,I46,K46,M46,O46,Q46,S46,U46,V46,X46,AA46,AC46,AE46,AG46,AI46,AK46,AM46) -> 63 | BE46: =SUM(C46,E46,H46,J46,L46,N46,P46,R46,T46,W46,Y46,Z46,AB46,AD46,AF46,AH46,AJ46,AL46,AN46) -> 78.5 | BF46: =SUM('BONUS GAZZETTA 2013 2014'!D46,'BONUS GAZZETTA 2013 2014'!F46,'BONUS GAZZETTA 2013 2014'!G46,'BONUS GAZZETTA 2013 2014'!I46,'BONUS GAZZETTA 2013 2014'!K46,'BONUS GAZZETTA 2013 2014'!M46,'BONUS GAZZETTA 2013 2014'!O46,'BONUS GAZZETTA 2013 2014'!Q46,'BONUS GAZZETTA 2013 2014'!S46,'BONUS GAZZETTA 2013 2014'!U46,'BONUS GAZZETTA 2013 2014'!V46,'BONUS GAZZETTA 2013 2014'!X46,'BONUS GAZZETTA 2013 2014'!AA46,'BONUS GAZZETTA 2013 2014'!AC46,'BONUS GAZZETTA 2013 2014'!AE46,'BONUS GAZZETTA 2013 2014'!AG46,'BONUS GAZZETTA 2013 2014'!AI46,'BONUS GAZZETTA 2013 2014'!AK46,'BONUS GAZZETTA 2013 2014'!AM46) -> 0.5 | BG46: =SUM('BONUS GAZZETTA 2013 2014'!C46,'BONUS GAZZETTA 2013 2014'!E46,'BONUS GAZZETTA 2013 2014'!H46,'BONUS GAZZETTA 2013 2014'!J46,'BONUS GAZZETTA 2013 2014'!L46,'BONUS GAZZETTA 2013 2014'!N46,'BONUS GAZZETTA 2013 2014'!P46,'BONUS GAZZETTA 2013 2014'!R46,'BONUS GAZZETTA 2013 2014'!T46,'BONUS GAZZETTA 2013 2014'!W46,'BONUS GAZZETTA 2013 2014'!Y46,'BONUS GAZZETTA 2013 2014'!Z46,'BONUS GAZZETTA 2013 2014'!AB46,'BONUS GAZZETTA 2013 2014'!AD46,'BONUS GAZZETTA 2013 2014'!AF46,'BONUS GAZZETTA 2013 2014'!AH46,'BONUS GAZZETTA 2013 2014'!AJ46,'BONUS GAZZETTA 2013 2014'!AL46,'BONUS GAZZETTA 2013 2014'!AN46) -> 1.5 | BH46: =SUM(BD46,BF46) -> 63.5 | BI46: =SUM(BG46,BE46) -> 80
A47: C | B47: DELLA ROCCA | C47: 5.5 | D47: 6 | E47: 5 | F47: 5 | G47: 6 | I47: 5 | N47: 5 | R47: 5.5 | T47: 5.5 | AO47: =COUNT(C47:AN47) -> 9 | AP47: =COUNT(D47,F47,G47,I47,K47,M47,O47,Q47,S47,U47,V47,X47,AA47,AC47,AE47,AG47,AI47,AK47,AM47) -> 4 | AQ47: =COUNT(C47,E47,H47,J47,L47,N47,P47,R47,T47,W47,Y47,Z47,AB47,AD47,AF47,AH47,AJ47,AL47,AN47) -> 5 | AR47: =AVERAGE(C47:AN47) -> 5.3888889 | AS47: =AVERAGE(C47:U47) -> 5.3888889 | AT47: =AVERAGE(V47:AN47) -> #DIV/0! | AU47: =MODE(C47:AN47) -> 5 | AV47: =AVERAGE(D47,F47,G47,I47,K47,M47,O47,Q47,S47,U47,V47,X47,AA47,AC47,AE47,AG47,AI47,AK47,AM47) -> 5.5 | AW47: =AVERAGE(C47,E47,H47,J47,L47,N47,P47,R47,T47,W47,Y47,Z47,AB47,AD47,AF47,AH47,AJ47,AL47,AN47) -> 5.3 | AX47: =BC47/AO47 -> 5.1666667 | AY47: =BH47/AP47 -> 5.25 | AZ47: =BI47/AQ47 -> 5.1 | BA47: =SUM(C47:AN47) -> 48.5 | BB47: =SUM('BONUS GAZZETTA 2013 2014'!C47:AN47) -> -2 | BC47: =SUM(BA47:BB47) -> 46.5 | BD47: =SUM(D47,F47,G47,I47,K47,M47,O47,Q47,S47,U47,V47,X47,AA47,AC47,AE47,AG47,AI47,AK47,AM47) -> 22 | BE47: =SUM(C47,E47,H47,J47,L47,N47,P47,R47,T47,W47,Y47,Z47,AB47,AD47,AF47,AH47,AJ47,AL47,AN47) -> 26.5 | BF47: =SUM('BONUS GAZZETTA 2013 2014'!D47,'BONUS GAZZETTA 2013 2014'!F47,'BONUS GAZZETTA 2013 2014'!G47,'BONUS GAZZETTA 2013 2014'!I47,'BONUS GAZZETTA 2013 2014'!K47,'BONUS GAZZETTA 2013 2014'!M47,'BONUS GAZZETTA 2013 2014'!O47,'BONUS GAZZETTA 2013 2014'!Q47,'BONUS GAZZETTA 2013 2014'!S47,'BONUS GAZZETTA 2013 2014'!U47,'BONUS GAZZETTA 2013 2014'!V47,'BONUS GAZZETTA 2013 2014'!X47,'BONUS GAZZETTA 2013 2014'!AA47,'BONUS GAZZETTA 2013 2014'!AC47,'BONUS GAZZETTA 2013 2014'!AE47,'BONUS GAZZETTA 2013 2014'!AG47,'BONUS GAZZETTA 2013 2014'!AI47,'BONUS GAZZETTA 2013 2014'!AK47,'BONUS GAZZETTA 2013 2014'!AM47) -> -1 | BG47: =SUM('BONUS GAZZETTA 2013 2014'!C47,'BONUS GAZZETTA 2013 2014'!E47,'BONUS GAZZETTA 2013 2014'!H47,'BONUS GAZZETTA 2013 2014'!J47,'BONUS GAZZETTA 2013 2014'!L47,'BONUS GAZZETTA 2013 2014'!N47,'BONUS GAZZETTA 2013 2014'!P47,'BONUS GAZZETTA 2013 2014'!R47,'BONUS GAZZETTA 2013 2014'!T47,'BONUS GAZZETTA 2013 2014'!W47,'BONUS GAZZETTA 2013 2014'!Y47,'BONUS GAZZETTA 2013 2014'!Z47,'BONUS GAZZETTA 2013 2014'!AB47,'BONUS GAZZETTA 2013 2014'!AD47,'BONUS GAZZETTA 2013 2014'!AF47,'BONUS GAZZETTA 2013 2014'!AH47,'BONUS GAZZETTA 2013 2014'!AJ47,'BONUS GAZZETTA 2013 2014'!AL47,'BONUS GAZZETTA 2013 2014'!AN47) -> -1 | BH47: =SUM(BD47,BF47) -> 21 | BI47: =SUM(BG47,BE47) -> 25.5
A48: C | B48: DIAMANTI | C48: 6 | D48: 6 | E48: 6.5 | F48: 6 | G48: 6.5 | H48: 6.5 | I48: 5.5 | J48: 6.5 | K48: 6.5 | M48: 5.5 | N48: 6 | O48: 6 | Q48: 7 | R48: 5 | S48: 7 | U48: 6 | V48: 7 | W48: 6.5 | X48: 5.5 | AO48: =COUNT(C48:AN48) -> 19 | AP48: =COUNT(D48,F48,G48,I48,K48,M48,O48,Q48,S48,U48,V48,X48,AA48,AC48,AE48,AG48,AI48,AK48,AM48) -> 12 | AQ48: =COUNT(C48,E48,H48,J48,L48,N48,P48,R48,T48,W48,Y48,Z48,AB48,AD48,AF48,AH48,AJ48,AL48,AN48) -> 7 | AR48: =AVERAGE(C48:AN48) -> 6.1842105 | AS48: =AVERAGE(C48:U48) -> 6.15625 | AT48: =AVERAGE(V48:AN48) -> 6.3333333 | AU48: =MODE(C48:AN48) -> 6 | AV48: =AVERAGE(D48,F48,G48,I48,K48,M48,O48,Q48,S48,U48,V48,X48,AA48,AC48,AE48,AG48,AI48,AK48,AM48) -> 6.2083333 | AW48: =AVERAGE(C48,E48,H48,J48,L48,N48,P48,R48,T48,W48,Y48,Z48,AB48,AD48,AF48,AH48,AJ48,AL48,AN48) -> 6.1428571 | AX48: =BC48/AO48 -> 6.5789474 | AY48: =BH48/AP48 -> 6.4166667 | AZ48: =BI48/AQ48 -> 6.8571429 | BA48: =SUM(C48:AN48) -> 117.5 | BB48: =SUM('BONUS GAZZETTA 2013 2014'!C48:AN48) -> 7.5 | BC48: =SUM(BA48:BB48) -> 125 | BD48: =SUM(D48,F48,G48,I48,K48,M48,O48,Q48,S48,U48,V48,X48,AA48,AC48,AE48,AG48,AI48,AK48,AM48) -> 74.5 | BE48: =SUM(C48,E48,H48,J48,L48,N48,P48,R48,T48,W48,Y48,Z48,AB48,AD48,AF48,AH48,AJ48,AL48,AN48) -> 43 | BF48: =SUM('BONUS GAZZETTA 2013 2014'!D48,'BONUS GAZZETTA 2013 2014'!F48,'BONUS GAZZETTA 2013 2014'!G48,'BONUS GAZZETTA 2013 2014'!I48,'BONUS GAZZETTA 2013 2014'!K48,'BONUS GAZZETTA 2013 2014'!M48,'BONUS GAZZETTA 2013 2014'!O48,'BONUS GAZZETTA 2013 2014'!Q48,'BONUS GAZZETTA 2013 2014'!S48,'BONUS GAZZETTA 2013 2014'!U48,'BONUS GAZZETTA 2013 2014'!V48,'BONUS GAZZETTA 2013 2014'!X48,'BONUS GAZZETTA 2013 2014'!AA48,'BONUS GAZZETTA 2013 2014'!AC48,'BONUS GAZZETTA 2013 2014'!AE48,'BONUS GAZZETTA 2013 2014'!AG48,'BONUS GAZZETTA 2013 2014'!AI48,'BONUS GAZZETTA 2013 2014'!AK48,'BONUS GAZZETTA 2013 2014'!AM48) -> 2.5 | BG48: =SUM('BONUS GAZZETTA 2013 2014'!C48,'BONUS GAZZETTA 2013 2014'!E48,'BONUS GAZZETTA 2013 2014'!H48,'BONUS GAZZETTA 2013 2014'!J48,'BONUS GAZZETTA 2013 2014'!L48,'BONUS GAZZETTA 2013 2014'!N48,'BONUS GAZZETTA 2013 2014'!P48,'BONUS GAZZETTA 2013 2014'!R48,'BONUS GAZZETTA 2013 2014'!T48,'BONUS GAZZETTA 2013 2014'!W48,'BONUS GAZZETTA 2013 2014'!Y48,'BONUS GAZZETTA 2013 2014'!Z48,'BONUS GAZZETTA 2013 2014'!AB48,'BONUS GAZZETTA 2013 2014'!AD48,'BONUS GAZZETTA 2013 2014'!AF48,'BONUS GAZZETTA 2013 2014'!AH48,'BONUS GAZZETTA 2013 2014'!AJ48,'BONUS GAZZETTA 2013 2014'!AL48,'BONUS GAZZETTA 2013 2014'!AN48) -> 5 | BH48: =SUM(BD48,BF48) -> 77 | BI48: =SUM(BG48,BE48) -> 48
A49: C | B49: FRIBERG | Z49: 5.5 | AE49: 5 | AI49: 5.5 | AJ49: 5 | AK49: 5.5 | AL49: 5.5 | AM49: 5 | AO49: =COUNT(C49:AN49) -> 7 | AP49: =COUNT(D49,F49,G49,I49,K49,M49,O49,Q49,S49,U49,V49,X49,AA49,AC49,AE49,AG49,AI49,AK49,AM49) -> 4 | AQ49: =COUNT(C49,E49,H49,J49,L49,N49,P49,R49,T49,W49,Y49,Z49,AB49,AD49,AF49,AH49,AJ49,AL49,AN49) -> 3 | AR49: =AVERAGE(C49:AN49) -> 5.2857143 | AS49: =AVERAGE(C49:U49) -> #DIV/0! | AT49: =AVERAGE(V49:AN49) -> 5.2857143 | AU49: =MODE(C49:AN49) -> 5.5 | AV49: =AVERAGE(D49,F49,G49,I49,K49,M49,O49,Q49,S49,U49,V49,X49,AA49,AC49,AE49,AG49,AI49,AK49,AM49) -> 5.25 | AW49: =AVERAGE(C49,E49,H49,J49,L49,N49,P49,R49,T49,W49,Y49,Z49,AB49,AD49,AF49,AH49,AJ49,AL49,AN49) -> 5.3333333 | AX49: =BC49/AO49 -> 5.1428571 | AY49: =BH49/AP49 -> 5.25 | AZ49: =BI49/AQ49 -> 5 | BA49: =SUM(C49:AN49) -> 37 | BB49: =SUM('BONUS GAZZETTA 2013 2014'!C49:AN49) -> -1 | BC49: =SUM(BA49:BB49) -> 36 | BD49: =SUM(D49,F49,G49,I49,K49,M49,O49,Q49,S49,U49,V49,X49,AA49,AC49,AE49,AG49,AI49,AK49,AM49) -> 21 | BE49: =SUM(C49,E49,H49,J49,L49,N49,P49,R49,T49,W49,Y49,Z49,AB49,AD49,AF49,AH49,AJ49,AL49,AN49) -> 16 | BF49: =SUM('BONUS GAZZETTA 2013 2014'!D49,'BONUS GAZZETTA 2013 2014'!F49,'BONUS GAZZETTA 2013 2014'!G49,'BONUS GAZZETTA 2013 2014'!I49,'BONUS GAZZETTA 2013 2014'!K49,'BONUS GAZZETTA 2013 2014'!M49,'BONUS GAZZETTA 2013 2014'!O49,'BONUS GAZZETTA 2013 2014'!Q49,'BONUS GAZZETTA 2013 2014'!S49,'BONUS GAZZETTA 2013 2014'!U49,'BONUS GAZZETTA 2013 2014'!V49,'BONUS GAZZETTA 2013 2014'!X49,'BONUS GAZZETTA 2013 2014'!AA49,'BONUS GAZZETTA 2013 2014'!AC49,'BONUS GAZZETTA 2013 2014'!AE49,'BONUS GAZZETTA 2013 2014'!AG49,'BONUS GAZZETTA 2013 2014'!AI49,'BONUS GAZZETTA 2013 2014'!AK49,'BONUS GAZZETTA 2013 2014'!AM49) -> 0 | BG49: =SUM('BONUS GAZZETTA 2013 2014'!C49,'BONUS GAZZETTA 2013 2014'!E49,'BONUS GAZZETTA 2013 2014'!H49,'BONUS GAZZETTA 2013 2014'!J49,'BONUS GAZZETTA 2013 2014'!L49,'BONUS GAZZETTA 2013 2014'!N49,'BONUS GAZZETTA 2013 2014'!P49,'BONUS GAZZETTA 2013 2014'!R49,'BONUS GAZZETTA 2013 2014'!T49,'BONUS GAZZETTA 2013 2014'!W49,'BONUS GAZZETTA 2013 2014'!Y49,'BONUS GAZZETTA 2013 2014'!Z49,'BONUS GAZZETTA 2013 2014'!AB49,'BONUS GAZZETTA 2013 2014'!AD49,'BONUS GAZZETTA 2013 2014'!AF49,'BONUS GAZZETTA 2013 2014'!AH49,'BONUS GAZZETTA 2013 2014'!AJ49,'BONUS GAZZETTA 2013 2014'!AL49,'BONUS GAZZETTA 2013 2014'!AN49) -> -1 | BH49: =SUM(BD49,BF49) -> 21 | BI49: =SUM(BG49,BE49) -> 15
A50: C | B50: IBSON | Y50: SV | AA50: 6.5 | AB50: 6 | AC50: 5.5 | AF50: 5 | AG50: 4.5 | AJ50: 5 | AL50: SV | AM50: 5 | AN50: 5.5 | AO50: =COUNT(C50:AN50) -> 8 | AP50: =COUNT(D50,F50,G50,I50,K50,M50,O50,Q50,S50,U50,V50,X50,AA50,AC50,AE50,AG50,AI50,AK50,AM50) -> 4 | AQ50: =COUNT(C50,E50,H50,J50,L50,N50,P50,R50,T50,W50,Y50,Z50,AB50,AD50,AF50,AH50,AJ50,AL50,AN50) -> 4 | AR50: =AVERAGE(C50:AN50) -> 5.375 | AS50: =AVERAGE(C50:U50) -> #DIV/0! | AT50: =AVERAGE(V50:AN50) -> 5.375 | AU50: =MODE(C50:AN50) -> 5 | AV50: =AVERAGE(D50,F50,G50,I50,K50,M50,O50,Q50,S50,U50,V50,X50,AA50,AC50,AE50,AG50,AI50,AK50,AM50) -> 5.375 | AW50: =AVERAGE(C50,E50,H50,J50,L50,N50,P50,R50,T50,W50,Y50,Z50,AB50,AD50,AF50,AH50,AJ50,AL50,AN50) -> 5.375 | AX50: =BC50/AO50 -> 5.25 | AY50: =BH50/AP50 -> 5.25 | AZ50: =BI50/AQ50 -> 5.25 | BA50: =SUM(C50:AN50) -> 43 | BB50: =SUM('BONUS GAZZETTA 2013 2014'!C50:AN50) -> -1 | BC50: =SUM(BA50:BB50) -> 42 | BD50: =SUM(D50,F50,G50,I50,K50,M50,O50,Q50,S50,U50,V50,X50,AA50,AC50,AE50,AG50,AI50,AK50,AM50) -> 21.5 | BE50: =SUM(C50,E50,H50,J50,L50,N50,P50,R50,T50,W50,Y50,Z50,AB50,AD50,AF50,AH50,AJ50,AL50,AN50) -> 21.5 | BF50: =SUM('BONUS GAZZETTA 2013 2014'!D50,'BONUS GAZZETTA 2013 2014'!F50,'BONUS GAZZETTA 2013 2014'!G50,'BONUS GAZZETTA 2013 2014'!I50,'BONUS GAZZETTA 2013 2014'!K50,'BONUS GAZZETTA 2013 2014'!M50,'BONUS GAZZETTA 2013 2014'!O50,'BONUS GAZZETTA 2013 2014'!Q50,'BONUS GAZZETTA 2013 2014'!S50,'BONUS GAZZETTA 2013 2014'!U50,'BONUS GAZZETTA 2013 2014'!V50,'BONUS GAZZETTA 2013 2014'!X50,'BONUS GAZZETTA 2013 2014'!AA50,'BONUS GAZZETTA 2013 2014'!AC50,'BONUS GAZZETTA 2013 2014'!AE50,'BONUS GAZZETTA 2013 2014'!AG50,'BONUS GAZZETTA 2013 2014'!AI50,'BONUS GAZZETTA 2013 2014'!AK50,'BONUS GAZZETTA 2013 2014'!AM50) -> -0.5 | BG50: =SUM('BONUS GAZZETTA 2013 2014'!C50,'BONUS GAZZETTA 2013 2014'!E50,'BONUS GAZZETTA 2013 2014'!H50,'BONUS GAZZETTA 2013 2014'!J50,'BONUS GAZZETTA 2013 2014'!L50,'BONUS GAZZETTA 2013 2014'!N50,'BONUS GAZZETTA 2013 2014'!P50,'BONUS GAZZETTA 2013 2014'!R50,'BONUS GAZZETTA 2013 2014'!T50,'BONUS GAZZETTA 2013 2014'!W50,'BONUS GAZZETTA 2013 2014'!Y50,'BONUS GAZZETTA 2013 2014'!Z50,'BONUS GAZZETTA 2013 2014'!AB50,'BONUS GAZZETTA 2013 2014'!AD50,'BONUS GAZZETTA 2013 2014'!AF50,'BONUS GAZZETTA 2013 2014'!AH50,'BONUS GAZZETTA 2013 2014'!AJ50,'BONUS GAZZETTA 2013 2014'!AL50,'BONUS GAZZETTA 2013 2014'!AN50) -> -0.5 | BH50: =SUM(BD50,BF50) -> 21 | BI50: =SUM(BG50,BE50) -> 21
A51: C | B51: KONE P. | C51: 6 | D51: 7 | E51: 6 | F51: 6 | H51: 5.5 | I51: 5 | J51: 6 | K51: 6 | L51: 7.5 | M51: 5.5 | N51: 5.5 | O51: 6.5 | P51: 7 | Q51: 5.5 | R51: 5 | S51: 6 | T51: 5 | U51: 5.5 | V51: 4.5 | X51: 5.5 | AA51: 5.5 | AB51: 6 | AD51: 5.5 | AH51: 6.5 | AI51: 6 | AK51: 6 | AL51: 5.5 | AM51: 5 | AO51: =COUNT(C51:AN51) -> 28 | AP51: =COUNT(D51,F51,G51,I51,K51,M51,O51,Q51,S51,U51,V51,X51,AA51,AC51,AE51,AG51,AI51,AK51,AM51) -> 15 | AQ51: =COUNT(C51,E51,H51,J51,L51,N51,P51,R51,T51,W51,Y51,Z51,AB51,AD51,AF51,AH51,AJ51,AL51,AN51) -> 13 | AR51: =AVERAGE(C51:AN51) -> 5.8035714 | AS51: =AVERAGE(C51:U51) -> 5.9166667 | AT51: =AVERAGE(V51:AN51) -> 5.6 | AU51: =MODE(C51:AN51) -> 6 | AV51: =AVERAGE(D51,F51,G51,I51,K51,M51,O51,Q51,S51,U51,V51,X51,AA51,AC51,AE51,AG51,AI51,AK51,AM51) -> 5.7 | AW51: =AVERAGE(C51,E51,H51,J51,L51,N51,P51,R51,T51,W51,Y51,Z51,AB51,AD51,AF51,AH51,AJ51,AL51,AN51) -> 5.9230769 | AX51: =BC51/AO51 -> 6.0892857 | AY51: =BH51/AP51 -> 5.7666667 | AZ51: =BI51/AQ51 -> 6.4615385 | BA51: =SUM(C51:AN51) -> 162.5 | BB51: =SUM('BONUS GAZZETTA 2013 2014'!C51:AN51) -> 8 | BC51: =SUM(BA51:BB51) -> 170.5 | BD51: =SUM(D51,F51,G51,I51,K51,M51,O51,Q51,S51,U51,V51,X51,AA51,AC51,AE51,AG51,AI51,AK51,AM51) -> 85.5 | BE51: =SUM(C51,E51,H51,J51,L51,N51,P51,R51,T51,W51,Y51,Z51,AB51,AD51,AF51,AH51,AJ51,AL51,AN51) -> 77 | BF51: =SUM('BONUS GAZZETTA 2013 2014'!D51,'BONUS GAZZETTA 2013 2014'!F51,'BONUS GAZZETTA 2013 2014'!G51,'BONUS GAZZETTA 2013 2014'!I51,'BONUS GAZZETTA 2013 2014'!K51,'BONUS GAZZETTA 2013 2014'!M51,'BONUS GAZZETTA 2013 2014'!O51,'BONUS GAZZETTA 2013 2014'!Q51,'BONUS GAZZETTA 2013 2014'!S51,'BONUS GAZZETTA 2013 2014'!U51,'BONUS GAZZETTA 2013 2014'!V51,'BONUS GAZZETTA 2013 2014'!X51,'BONUS GAZZETTA 2013 2014'!AA51,'BONUS GAZZETTA 2013 2014'!AC51,'BONUS GAZZETTA 2013 2014'!AE51,'BONUS GAZZETTA 2013 2014'!AG51,'BONUS GAZZETTA 2013 2014'!AI51,'BONUS GAZZETTA 2013 2014'!AK51,'BONUS GAZZETTA 2013 2014'!AM51) -> 1 | BG51: =SUM('BONUS GAZZETTA 2013 2014'!C51,'BONUS GAZZETTA 2013 2014'!E51,'BONUS GAZZETTA 2013 2014'!H51,'BONUS GAZZETTA 2013 2014'!J51,'BONUS GAZZETTA 2013 2014'!L51,'BONUS GAZZETTA 2013 2014'!N51,'BONUS GAZZETTA 2013 2014'!P51,'BONUS GAZZETTA 2013 2014'!R51,'BONUS GAZZETTA 2013 2014'!T51,'BONUS GAZZETTA 2013 2014'!W51,'BONUS GAZZETTA 2013 2014'!Y51,'BONUS GAZZETTA 2013 2014'!Z51,'BONUS GAZZETTA 2013 2014'!AB51,'BONUS GAZZETTA 2013 2014'!AD51,'BONUS GAZZETTA 2013 2014'!AF51,'BONUS GAZZETTA 2013 2014'!AH51,'BONUS GAZZETTA 2013 2014'!AJ51,'BONUS GAZZETTA 2013 2014'!AL51,'BONUS GAZZETTA 2013 2014'!AN51) -> 7 | BH51: =SUM(BD51,BF51) -> 86.5 | BI51: =SUM(BG51,BE51) -> 84
A52: C | B52: KRHIN | C52: 4.5 | D52: 5.5 | G52: SV | H52: 5.5 | J52: 5.5 | K52: 6 | L52: 6.5 | M52: 6.5 | N52: 6.5 | O52: 5.5 | P52: 6 | Q52: 5 | R52: 4 | S52: 6 | U52: SV | Y52: 6.5 | Z52: 6 | AA52: 5.5 | AB52: 7 | AC52: 6 | AD52: 5 | AF52: 5 | AG52: 5.5 | AH52: 6 | AK52: 6 | AL52: 5.5 | AM52: 5 | AO52: =COUNT(C52:AN52) -> 25 | AP52: =COUNT(D52,F52,G52,I52,K52,M52,O52,Q52,S52,U52,V52,X52,AA52,AC52,AE52,AG52,AI52,AK52,AM52) -> 11 | AQ52: =COUNT(C52,E52,H52,J52,L52,N52,P52,R52,T52,W52,Y52,Z52,AB52,AD52,AF52,AH52,AJ52,AL52,AN52) -> 14 | AR52: =AVERAGE(C52:AN52) -> 5.68 | AS52: =AVERAGE(C52:U52) -> 5.6153846 | AT52: =AVERAGE(V52:AN52) -> 5.75 | AU52: =MODE(C52:AN52) -> 5.5 | AV52: =AVERAGE(D52,F52,G52,I52,K52,M52,O52,Q52,S52,U52,V52,X52,AA52,AC52,AE52,AG52,AI52,AK52,AM52) -> 5.6818182 | AW52: =AVERAGE(C52,E52,H52,J52,L52,N52,P52,R52,T52,W52,Y52,Z52,AB52,AD52,AF52,AH52,AJ52,AL52,AN52) -> 5.6785714 | AX52: =BC52/AO52 -> 5.58 | AY52: =BH52/AP52 -> 5.5909091 | AZ52: =BI52/AQ52 -> 5.5714286 | BA52: =SUM(C52:AN52) -> 142 | BB52: =SUM('BONUS GAZZETTA 2013 2014'!C52:AN52) -> -2.5 | BC52: =SUM(BA52:BB52) -> 139.5 | BD52: =SUM(D52,F52,G52,I52,K52,M52,O52,Q52,S52,U52,V52,X52,AA52,AC52,AE52,AG52,AI52,AK52,AM52) -> 62.5 | BE52: =SUM(C52,E52,H52,J52,L52,N52,P52,R52,T52,W52,Y52,Z52,AB52,AD52,AF52,AH52,AJ52,AL52,AN52) -> 79.5 | BF52: =SUM('BONUS GAZZETTA 2013 2014'!D52,'BONUS GAZZETTA 2013 2014'!F52,'BONUS GAZZETTA 2013 2014'!G52,'BONUS GAZZETTA 2013 2014'!I52,'BONUS GAZZETTA 2013 2014'!K52,'BONUS GAZZETTA 2013 2014'!M52,'BONUS GAZZETTA 2013 2014'!O52,'BONUS GAZZETTA 2013 2014'!Q52,'BONUS GAZZETTA 2013 2014'!S52,'BONUS GAZZETTA 2013 2014'!U52,'BONUS GAZZETTA 2013 2014'!V52,'BONUS GAZZETTA 2013 2014'!X52,'BONUS GAZZETTA 2013 2014'!AA52,'BONUS GAZZETTA 2013 2014'!AC52,'BONUS GAZZETTA 2013 2014'!AE52,'BONUS GAZZETTA 2013 2014'!AG52,'BONUS GAZZETTA 2013 2014'!AI52,'BONUS GAZZETTA 2013 2014'!AK52,'BONUS GAZZETTA 2013 2014'!AM52) -> -1 | BG52: =SUM('BONUS GAZZETTA 2013 2014'!C52,'BONUS GAZZETTA 2013 2014'!E52,'BONUS GAZZETTA 2013 2014'!H52,'BONUS GAZZETTA 2013 2014'!J52,'BONUS GAZZETTA 2013 2014'!L52,'BONUS GAZZETTA 2013 2014'!N52,'BONUS GAZZETTA 2013 2014'!P52,'BONUS GAZZETTA 2013 2014'!R52,'BONUS GAZZETTA 2013 2014'!T52,'BONUS GAZZETTA 2013 2014'!W52,'BONUS GAZZETTA 2013 2014'!Y52,'BONUS GAZZETTA 2013 2014'!Z52,'BONUS GAZZETTA 2013 2014'!AB52,'BONUS GAZZETTA 2013 2014'!AD52,'BONUS GAZZETTA 2013 2014'!AF52,'BONUS GAZZETTA 2013 2014'!AH52,'BONUS GAZZETTA 2013 2014'!AJ52,'BONUS GAZZETTA 2013 2014'!AL52,'BONUS GAZZETTA 2013 2014'!AN52) -> -1.5 | BH52: =SUM(BD52,BF52) -> 61.5 | BI52: =SUM(BG52,BE52) -> 78
A53: C | B53: LAXALT | G53: 8 | H53: 6 | I53: 6 | J53: 5.5 | K53: 6 | L53: 7 | M53: 5.5 | N53: 6 | P53: 5.5 | Q53: 5 | R53: 5 | Z53: SV | AF53: 5 | AJ53: SV | AN53: 5.5 | AO53: =COUNT(C53:AN53) -> 13 | AP53: =COUNT(D53,F53,G53,I53,K53,M53,O53,Q53,S53,U53,V53,X53,AA53,AC53,AE53,AG53,AI53,AK53,AM53) -> 5 | AQ53: =COUNT(C53,E53,H53,J53,L53,N53,P53,R53,T53,W53,Y53,Z53,AB53,AD53,AF53,AH53,AJ53,AL53,AN53) -> 8 | AR53: =AVERAGE(C53:AN53) -> 5.8461538 | AS53: =AVERAGE(C53:U53) -> 5.9545455 | AT53: =AVERAGE(V53:AN53) -> 5.25 | AU53: =MODE(C53:AN53) -> 6 | AV53: =AVERAGE(D53,F53,G53,I53,K53,M53,O53,Q53,S53,U53,V53,X53,AA53,AC53,AE53,AG53,AI53,AK53,AM53) -> 6.1 | AW53: =AVERAGE(C53,E53,H53,J53,L53,N53,P53,R53,T53,W53,Y53,Z53,AB53,AD53,AF53,AH53,AJ53,AL53,AN53) -> 5.6875 | AX53: =BC53/AO53 -> 6.3076923 | AY53: =BH53/AP53 -> 7.3 | AZ53: =BI53/AQ53 -> 5.6875 | BA53: =SUM(C53:AN53) -> 76 | BB53: =SUM('BONUS GAZZETTA 2013 2014'!C53:AN53) -> 6 | BC53: =SUM(BA53:BB53) -> 82 | BD53: =SUM(D53,F53,G53,I53,K53,M53,O53,Q53,S53,U53,V53,X53,AA53,AC53,AE53,AG53,AI53,AK53,AM53) -> 30.5 | BE53: =SUM(C53,E53,H53,J53,L53,N53,P53,R53,T53,W53,Y53,Z53,AB53,AD53,AF53,AH53,AJ53,AL53,AN53) -> 45.5 | BF53: =SUM('BONUS GAZZETTA 2013 2014'!D53,'BONUS GAZZETTA 2013 2014'!F53,'BONUS GAZZETTA 2013 2014'!G53,'BONUS GAZZETTA 2013 2014'!I53,'BONUS GAZZETTA 2013 2014'!K53,'BONUS GAZZETTA 2013 2014'!M53,'BONUS GAZZETTA 2013 2014'!O53,'BONUS GAZZETTA 2013 2014'!Q53,'BONUS GAZZETTA 2013 2014'!S53,'BONUS GAZZETTA 2013 2014'!U53,'BONUS GAZZETTA 2013 2014'!V53,'BONUS GAZZETTA 2013 2014'!X53,'BONUS GAZZETTA 2013 2014'!AA53,'BONUS GAZZETTA 2013 2014'!AC53,'BONUS GAZZETTA 2013 2014'!AE53,'BONUS GAZZETTA 2013 2014'!AG53,'BONUS GAZZETTA 2013 2014'!AI53,'BONUS GAZZETTA 2013 2014'!AK53,'BONUS GAZZETTA 2013 2014'!AM53) -> 6 | BG53: =SUM('BONUS GAZZETTA 2013 2014'!C53,'BONUS GAZZETTA 2013 2014'!E53,'BONUS GAZZETTA 2013 2014'!H53,'BONUS GAZZETTA 2013 2014'!J53,'BONUS GAZZETTA 2013 2014'!L53,'BONUS GAZZETTA 2013 2014'!N53,'BONUS GAZZETTA 2013 2014'!P53,'BONUS GAZZETTA 2013 2014'!R53,'BONUS GAZZETTA 2013 2014'!T53,'BONUS GAZZETTA 2013 2014'!W53,'BONUS GAZZETTA 2013 2014'!Y53,'BONUS GAZZETTA 2013 2014'!Z53,'BONUS GAZZETTA 2013 2014'!AB53,'BONUS GAZZETTA 2013 2014'!AD53,'BONUS GAZZETTA 2013 2014'!AF53,'BONUS GAZZETTA 2013 2014'!AH53,'BONUS GAZZETTA 2013 2014'!AJ53,'BONUS GAZZETTA 2013 2014'!AL53,'BONUS GAZZETTA 2013 2014'!AN53) -> 0 | BH53: =SUM(BD53,BF53) -> 36.5 | BI53: =SUM(BG53,BE53) -> 45.5
A54: C | B54: PAZIENZA | E54: 5 | F54: 5 | G54: 6 | H54: 5 | L54: 6.5 | M54: 5.5 | O54: SV | P54: 6 | R54: 5 | U54: 5 | V54: 6 | W54: 6 | X54: 5 | AD54: 5.5 | AE54: 6 | AF54: 5 | AH54: 6.5 | AI54: 6.5 | AJ54: 5.5 | AK54: 5.5 | AL54: 6 | AN54: 5.5 | AO54: =COUNT(C54:AN54) -> 21 | AP54: =COUNT(D54,F54,G54,I54,K54,M54,O54,Q54,S54,U54,V54,X54,AA54,AC54,AE54,AG54,AI54,AK54,AM54) -> 9 | AQ54: =COUNT(C54,E54,H54,J54,L54,N54,P54,R54,T54,W54,Y54,Z54,AB54,AD54,AF54,AH54,AJ54,AL54,AN54) -> 12 | AR54: =AVERAGE(C54:AN54) -> 5.6190476 | AS54: =AVERAGE(C54:U54) -> 5.4444444 | AT54: =AVERAGE(V54:AN54) -> 5.75 | AU54: =MODE(C54:AN54) -> 5 | AV54: =AVERAGE(D54,F54,G54,I54,K54,M54,O54,Q54,S54,U54,V54,X54,AA54,AC54,AE54,AG54,AI54,AK54,AM54) -> 5.6111111 | AW54: =AVERAGE(C54,E54,H54,J54,L54,N54,P54,R54,T54,W54,Y54,Z54,AB54,AD54,AF54,AH54,AJ54,AL54,AN54) -> 5.625 | AX54: =BC54/AO54 -> 5.5714286 | AY54: =BH54/AP54 -> 5.2777778 | AZ54: =BI54/AQ54 -> 5.7916667 | BA54: =SUM(C54:AN54) -> 118 | BB54: =SUM('BONUS GAZZETTA 2013 2014'!C54:AN54) -> -1 | BC54: =SUM(BA54:BB54) -> 117 | BD54: =SUM(D54,F54,G54,I54,K54,M54,O54,Q54,S54,U54,V54,X54,AA54,AC54,AE54,AG54,AI54,AK54,AM54) -> 50.5 | BE54: =SUM(C54,E54,H54,J54,L54,N54,P54,R54,T54,W54,Y54,Z54,AB54,AD54,AF54,AH54,AJ54,AL54,AN54) -> 67.5 | BF54: =SUM('BONUS GAZZETTA 2013 2014'!D54,'BONUS GAZZETTA 2013 2014'!F54,'BONUS GAZZETTA 2013 2014'!G54,'BONUS GAZZETTA 2013 2014'!I54,'BONUS GAZZETTA 2013 2014'!K54,'BONUS GAZZETTA 2013 2014'!M54,'BONUS GAZZETTA 2013 2014'!O54,'BONUS GAZZETTA 2013 2014'!Q54,'BONUS GAZZETTA 2013 2014'!S54,'BONUS GAZZETTA 2013 2014'!U54,'BONUS GAZZETTA 2013 2014'!V54,'BONUS GAZZETTA 2013 2014'!X54,'BONUS GAZZETTA 2013 2014'!AA54,'BONUS GAZZETTA 2013 2014'!AC54,'BONUS GAZZETTA 2013 2014'!AE54,'BONUS GAZZETTA 2013 2014'!AG54,'BONUS GAZZETTA 2013 2014'!AI54,'BONUS GAZZETTA 2013 2014'!AK54,'BONUS GAZZETTA 2013 2014'!AM54) -> -3 | BG54: =SUM('BONUS GAZZETTA 2013 2014'!C54,'BONUS GAZZETTA 2013 2014'!E54,'BONUS GAZZETTA 2013 2014'!H54,'BONUS GAZZETTA 2013 2014'!J54,'BONUS GAZZETTA 2013 2014'!L54,'BONUS GAZZETTA 2013 2014'!N54,'BONUS GAZZETTA 2013 2014'!P54,'BONUS GAZZETTA 2013 2014'!R54,'BONUS GAZZETTA 2013 2014'!T54,'BONUS GAZZETTA 2013 2014'!W54,'BONUS GAZZETTA 2013 2014'!Y54,'BONUS GAZZETTA 2013 2014'!Z54,'BONUS GAZZETTA 2013 2014'!AB54,'BONUS GAZZETTA 2013 2014'!AD54,'BONUS GAZZETTA 2013 2014'!AF54,'BONUS GAZZETTA 2013 2014'!AH54,'BONUS GAZZETTA 2013 2014'!AJ54,'BONUS GAZZETTA 2013 2014'!AL54,'BONUS GAZZETTA 2013 2014'!AN54) -> 2 | BH54: =SUM(BD54,BF54) -> 47.5 | BI54: =SUM(BG54,BE54) -> 69.5
A55: C | B55: PEREZ | C55: SV | D55: 5.5 | E55: 6 | F55: 5.5 | G55: 6 | H55: 5 | I55: 4 | K55: SV | L55: 6.5 | M55: 5.5 | O55: 6 | P55: 6 | Q55: 5 | S55: 6.5 | T55: 6 | V55: 6 | W55: 6 | X55: 5.5 | Y55: 7 | Z55: 5.5 | AB55: 6 | AC55: 5 | AD55: 5 | AE55: 5.5 | AG55: 4.5 | AH55: SV | AI55: 5.5 | AO55: =COUNT(C55:AN55) -> 24 | AP55: =COUNT(D55,F55,G55,I55,K55,M55,O55,Q55,S55,U55,V55,X55,AA55,AC55,AE55,AG55,AI55,AK55,AM55) -> 14 | AQ55: =COUNT(C55,E55,H55,J55,L55,N55,P55,R55,T55,W55,Y55,Z55,AB55,AD55,AF55,AH55,AJ55,AL55,AN55) -> 10 | AR55: =AVERAGE(C55:AN55) -> 5.625 | AS55: =AVERAGE(C55:U55) -> 5.6538462 | AT55: =AVERAGE(V55:AN55) -> 5.5909091 | AU55: =MODE(C55:AN55) -> 6 | AV55: =AVERAGE(D55,F55,G55,I55,K55,M55,O55,Q55,S55,U55,V55,X55,AA55,AC55,AE55,AG55,AI55,AK55,AM55) -> 5.4285714 | AW55: =AVERAGE(C55,E55,H55,J55,L55,N55,P55,R55,T55,W55,Y55,Z55,AB55,AD55,AF55,AH55,AJ55,AL55,AN55) -> 5.9 | AX55: =BC55/AO55 -> 5.4166667 | AY55: =BH55/AP55 -> 5.2857143 | AZ55: =BI55/AQ55 -> 5.6 | BA55: =SUM(C55:AN55) -> 135 | BB55: =SUM('BONUS GAZZETTA 2013 2014'!C55:AN55) -> -5 | BC55: =SUM(BA55:BB55) -> 130 | BD55: =SUM(D55,F55,G55,I55,K55,M55,O55,Q55,S55,U55,V55,X55,AA55,AC55,AE55,AG55,AI55,AK55,AM55) -> 76 | BE55: =SUM(C55,E55,H55,J55,L55,N55,P55,R55,T55,W55,Y55,Z55,AB55,AD55,AF55,AH55,AJ55,AL55,AN55) -> 59 | BF55: =SUM('BONUS GAZZETTA 2013 2014'!D55,'BONUS GAZZETTA 2013 2014'!F55,'BONUS GAZZETTA 2013 2014'!G55,'BONUS GAZZETTA 2013 2014'!I55,'BONUS GAZZETTA 2013 2014'!K55,'BONUS GAZZETTA 2013 2014'!M55,'BONUS GAZZETTA 2013 2014'!O55,'BONUS GAZZETTA 2013 2014'!Q55,'BONUS GAZZETTA 2013 2014'!S55,'BONUS GAZZETTA 2013 2014'!U55,'BONUS GAZZETTA 2013 2014'!V55,'BONUS GAZZETTA 2013 2014'!X55,'BONUS GAZZETTA 2013 2014'!AA55,'BONUS GAZZETTA 2013 2014'!AC55,'BONUS GAZZETTA 2013 2014'!AE55,'BONUS GAZZETTA 2013 2014'!AG55,'BONUS GAZZETTA 2013 2014'!AI55,'BONUS GAZZETTA 2013 2014'!AK55,'BONUS GAZZETTA 2013 2014'!AM55) -> -2 | BG55: =SUM('BONUS GAZZETTA 2013 2014'!C55,'BONUS GAZZETTA 2013 2014'!E55,'BONUS GAZZETTA 2013 2014'!H55,'BONUS GAZZETTA 2013 2014'!J55,'BONUS GAZZETTA 2013 2014'!L55,'BONUS GAZZETTA 2013 2014'!N55,'BONUS GAZZETTA 2013 2014'!P55,'BONUS GAZZETTA 2013 2014'!R55,'BONUS GAZZETTA 2013 2014'!T55,'BONUS GAZZETTA 2013 2014'!W55,'BONUS GAZZETTA 2013 2014'!Y55,'BONUS GAZZETTA 2013 2014'!Z55,'BONUS GAZZETTA 2013 2014'!AB55,'BONUS GAZZETTA 2013 2014'!AD55,'BONUS GAZZETTA 2013 2014'!AF55,'BONUS GAZZETTA 2013 2014'!AH55,'BONUS GAZZETTA 2013 2014'!AJ55,'BONUS GAZZETTA 2013 2014'!AL55,'BONUS GAZZETTA 2013 2014'!AN55) -> -3 | BH55: =SUM(BD55,BF55) -> 74 | BI55: =SUM(BG55,BE55) -> 56
A56: A | B56: ACQUAFRESCA | D56: SV | I56: 5 | J56: 5.5 | S56: 5.5 | T56: 5 | V56: SV | W56: 5.5 | X56: 5 | AC56: 6 | AD56: 5 | AE56: 6 | AF56: 5 | AG56: 5 | AH56: 6 | AI56: 6 | AJ56: SV | AK56: 5 | AM56: 4 | AN56: 5 | AO56: =COUNT(C56:AN56) -> 16 | AP56: =COUNT(D56,F56,G56,I56,K56,M56,O56,Q56,S56,U56,V56,X56,AA56,AC56,AE56,AG56,AI56,AK56,AM56) -> 9 | AQ56: =COUNT(C56,E56,H56,J56,L56,N56,P56,R56,T56,W56,Y56,Z56,AB56,AD56,AF56,AH56,AJ56,AL56,AN56) -> 7 | AR56: =AVERAGE(C56:AN56) -> 5.28125 | AS56: =AVERAGE(C56:U56) -> 5.25 | AT56: =AVERAGE(V56:AN56) -> 5.2916667 | AU56: =MODE(C56:AN56) -> 5 | AV56: =AVERAGE(D56,F56,G56,I56,K56,M56,O56,Q56,S56,U56,V56,X56,AA56,AC56,AE56,AG56,AI56,AK56,AM56) -> 5.2777778 | AW56: =AVERAGE(C56,E56,H56,J56,L56,N56,P56,R56,T56,W56,Y56,Z56,AB56,AD56,AF56,AH56,AJ56,AL56,AN56) -> 5.2857143 | AX56: =BC56/AO56 -> 5.1875 | AY56: =BH56/AP56 -> 5.1111111 | AZ56: =BI56/AQ56 -> 5.2857143 | BA56: =SUM(C56:AN56) -> 84.5 | BB56: =SUM('BONUS GAZZETTA 2013 2014'!C56:AN56) -> -1.5 | BC56: =SUM(BA56:BB56) -> 83 | BD56: =SUM(D56,F56,G56,I56,K56,M56,O56,Q56,S56,U56,V56,X56,AA56,AC56,AE56,AG56,AI56,AK56,AM56) -> 47.5 | BE56: =SUM(C56,E56,H56,J56,L56,N56,P56,R56,T56,W56,Y56,Z56,AB56,AD56,AF56,AH56,AJ56,AL56,AN56) -> 37 | BF56: =SUM('BONUS GAZZETTA 2013 2014'!D56,'BONUS GAZZETTA 2013 2014'!F56,'BONUS GAZZETTA 2013 2014'!G56,'BONUS GAZZETTA 2013 2014'!I56,'BONUS GAZZETTA 2013 2014'!K56,'BONUS GAZZETTA 2013 2014'!M56,'BONUS GAZZETTA 2013 2014'!O56,'BONUS GAZZETTA 2013 2014'!Q56,'BONUS GAZZETTA 2013 2014'!S56,'BONUS GAZZETTA 2013 2014'!U56,'BONUS GAZZETTA 2013 2014'!V56,'BONUS GAZZETTA 2013 2014'!X56,'BONUS GAZZETTA 2013 2014'!AA56,'BONUS GAZZETTA 2013 2014'!AC56,'BONUS GAZZETTA 2013 2014'!AE56,'BONUS GAZZETTA 2013 2014'!AG56,'BONUS GAZZETTA 2013 2014'!AI56,'BONUS GAZZETTA 2013 2014'!AK56,'BONUS GAZZETTA 2013 2014'!AM56) -> -1.5 | BG56: =SUM('BONUS GAZZETTA 2013 2014'!C56,'BONUS GAZZETTA 2013 2014'!E56,'BONUS GAZZETTA 2013 2014'!H56,'BONUS GAZZETTA 2013 2014'!J56,'BONUS GAZZETTA 2013 2014'!L56,'BONUS GAZZETTA 2013 2014'!N56,'BONUS GAZZETTA 2013 2014'!P56,'BONUS GAZZETTA 2013 2014'!R56,'BONUS GAZZETTA 2013 2014'!T56,'BONUS GAZZETTA 2013 2014'!W56,'BONUS GAZZETTA 2013 2014'!Y56,'BONUS GAZZETTA 2013 2014'!Z56,'BONUS GAZZETTA 2013 2014'!AB56,'BONUS GAZZETTA 2013 2014'!AD56,'BONUS GAZZETTA 2013 2014'!AF56,'BONUS GAZZETTA 2013 2014'!AH56,'BONUS GAZZETTA 2013 2014'!AJ56,'BONUS GAZZETTA 2013 2014'!AL56,'BONUS GAZZETTA 2013 2014'!AN56) -> 0 | BH56: =SUM(BD56,BF56) -> 46 | BI56: =SUM(BG56,BE56) -> 37
A57: A | B57: ALIBEC | Q57: SV | AO57: =COUNT(C57:AN57) -> 0 | AP57: =COUNT(D57,F57,G57,I57,K57,M57,O57,Q57,S57,U57,V57,X57,AA57,AC57,AE57,AG57,AI57,AK57,AM57) -> 0 | AQ57: =COUNT(C57,E57,H57,J57,L57,N57,P57,R57,T57,W57,Y57,Z57,AB57,AD57,AF57,AH57,AJ57,AL57,AN57) -> 0 | AR57: =AVERAGE(C57:AN57) -> #DIV/0! | AS57: =AVERAGE(C57:U57) -> #DIV/0! | AT57: =AVERAGE(V57:AN57) -> #DIV/0! | AU57: =MODE(C57:AN57) -> #N/A | AV57: =AVERAGE(D57,F57,G57,I57,K57,M57,O57,Q57,S57,U57,V57,X57,AA57,AC57,AE57,AG57,AI57,AK57,AM57) -> #DIV/0! | AW57: =AVERAGE(C57,E57,H57,J57,L57,N57,P57,R57,T57,W57,Y57,Z57,AB57,AD57,AF57,AH57,AJ57,AL57,AN57) -> #DIV/0! | AX57: =BC57/AO57 -> #DIV/0! | AY57: =BH57/AP57 -> #DIV/0! | AZ57: =BI57/AQ57 -> #DIV/0! | BA57: =SUM(C57:AN57) -> 0 | BB57: =SUM('BONUS GAZZETTA 2013 2014'!C57:AN57) -> 0 | BC57: =SUM(BA57:BB57) -> 0 | BD57: =SUM(D57,F57,G57,I57,K57,M57,O57,Q57,S57,U57,V57,X57,AA57,AC57,AE57,AG57,AI57,AK57,AM57) -> 0 | BE57: =SUM(C57,E57,H57,J57,L57,N57,P57,R57,T57,W57,Y57,Z57,AB57,AD57,AF57,AH57,AJ57,AL57,AN57) -> 0 | BF57: =SUM('BONUS GAZZETTA 2013 2014'!D57,'BONUS GAZZETTA 2013 2014'!F57,'BONUS GAZZETTA 2013 2014'!G57,'BONUS GAZZETTA 2013 2014'!I57,'BONUS GAZZETTA 2013 2014'!K57,'BONUS GAZZETTA 2013 2014'!M57,'BONUS GAZZETTA 2013 2014'!O57,'BONUS GAZZETTA 2013 2014'!Q57,'BONUS GAZZETTA 2013 2014'!S57,'BONUS GAZZETTA 2013 2014'!U57,'BONUS GAZZETTA 2013 2014'!V57,'BONUS GAZZETTA 2013 2014'!X57,'BONUS GAZZETTA 2013 2014'!AA57,'BONUS GAZZETTA 2013 2014'!AC57,'BONUS GAZZETTA 2013 2014'!AE57,'BONUS GAZZETTA 2013 2014'!AG57,'BONUS GAZZETTA 2013 2014'!AI57,'BONUS GAZZETTA 2013 2014'!AK57,'BONUS GAZZETTA 2013 2014'!AM57) -> 0 | BG57: =SUM('BONUS GAZZETTA 2013 2014'!C57,'BONUS GAZZETTA 2013 2014'!E57,'BONUS GAZZETTA 2013 2014'!H57,'BONUS GAZZETTA 2013 2014'!J57,'BONUS GAZZETTA 2013 2014'!L57,'BONUS GAZZETTA 2013 2014'!N57,'BONUS GAZZETTA 2013 2014'!P57,'BONUS GAZZETTA 2013 2014'!R57,'BONUS GAZZETTA 2013 2014'!T57,'BONUS GAZZETTA 2013 2014'!W57,'BONUS GAZZETTA 2013 2014'!Y57,'BONUS GAZZETTA 2013 2014'!Z57,'BONUS GAZZETTA 2013 2014'!AB57,'BONUS GAZZETTA 2013 2014'!AD57,'BONUS GAZZETTA 2013 2014'!AF57,'BONUS GAZZETTA 2013 2014'!AH57,'BONUS GAZZETTA 2013 2014'!AJ57,'BONUS GAZZETTA 2013 2014'!AL57,'BONUS GAZZETTA 2013 2014'!AN57) -> 0 | BH57: =SUM(BD57,BF57) -> 0 | BI57: =SUM(BG57,BE57) -> 0
A58: A | B58: BIANCHI R. | C58: 5 | D58: 5.5 | E58: 5 | F58: 4.5 | H58: SV | I58: 4 | J58: SV | M58: SV | N58: 6 | O58: 6 | P58: 6 | Q58: 5 | R58: 5 | T58: 5.5 | U58: 6 | V58: 7.5 | W58: 5.5 | X58: 5 | Y58: 6 | Z58: 5.5 | AA58: 5.5 | AB58: 5 | AC58: 5.5 | AE58: 5.5 | AF58: 5 | AG58: 5.5 | AL58: 5.5 | AM58: 4 | AO58: =COUNT(C58:AN58) -> 25 | AP58: =COUNT(D58,F58,G58,I58,K58,M58,O58,Q58,S58,U58,V58,X58,AA58,AC58,AE58,AG58,AI58,AK58,AM58) -> 13 | AQ58: =COUNT(C58,E58,H58,J58,L58,N58,P58,R58,T58,W58,Y58,Z58,AB58,AD58,AF58,AH58,AJ58,AL58,AN58) -> 12 | AR58: =AVERAGE(C58:AN58) -> 5.38 | AS58: =AVERAGE(C58:U58) -> 5.2916667 | AT58: =AVERAGE(V58:AN58) -> 5.4615385 | AU58: =MODE(C58:AN58) -> 5.5 | AV58: =AVERAGE(D58,F58,G58,I58,K58,M58,O58,Q58,S58,U58,V58,X58,AA58,AC58,AE58,AG58,AI58,AK58,AM58) -> 5.3461538 | AW58: =AVERAGE(C58,E58,H58,J58,L58,N58,P58,R58,T58,W58,Y58,Z58,AB58,AD58,AF58,AH58,AJ58,AL58,AN58) -> 5.4166667 | AX58: =BC58/AO58 -> 5.54 | AY58: =BH58/AP58 -> 5.7307692 | AZ58: =BI58/AQ58 -> 5.3333333 | BA58: =SUM(C58:AN58) -> 134.5 | BB58: =SUM('BONUS GAZZETTA 2013 2014'!C58:AN58) -> 4 | BC58: =SUM(BA58:BB58) -> 138.5 | BD58: =SUM(D58,F58,G58,I58,K58,M58,O58,Q58,S58,U58,V58,X58,AA58,AC58,AE58,AG58,AI58,AK58,AM58) -> 69.5 | BE58: =SUM(C58,E58,H58,J58,L58,N58,P58,R58,T58,W58,Y58,Z58,AB58,AD58,AF58,AH58,AJ58,AL58,AN58) -> 65 | BF58: =SUM('BONUS GAZZETTA 2013 2014'!D58,'BONUS GAZZETTA 2013 2014'!F58,'BONUS GAZZETTA 2013 2014'!G58,'BONUS GAZZETTA 2013 2014'!I58,'BONUS GAZZETTA 2013 2014'!K58,'BONUS GAZZETTA 2013 2014'!M58,'BONUS GAZZETTA 2013 2014'!O58,'BONUS GAZZETTA 2013 2014'!Q58,'BONUS GAZZETTA 2013 2014'!S58,'BONUS GAZZETTA 2013 2014'!U58,'BONUS GAZZETTA 2013 2014'!V58,'BONUS GAZZETTA 2013 2014'!X58,'BONUS GAZZETTA 2013 2014'!AA58,'BONUS GAZZETTA 2013 2014'!AC58,'BONUS GAZZETTA 2013 2014'!AE58,'BONUS GAZZETTA 2013 2014'!AG58,'BONUS GAZZETTA 2013 2014'!AI58,'BONUS GAZZETTA 2013 2014'!AK58,'BONUS GAZZETTA 2013 2014'!AM58) -> 5 | BG58: =SUM('BONUS GAZZETTA 2013 2014'!C58,'BONUS GAZZETTA 2013 2014'!E58,'BONUS GAZZETTA 2013 2014'!H58,'BONUS GAZZETTA 2013 2014'!J58,'BONUS GAZZETTA 2013 2014'!L58,'BONUS GAZZETTA 2013 2014'!N58,'BONUS GAZZETTA 2013 2014'!P58,'BONUS GAZZETTA 2013 2014'!R58,'BONUS GAZZETTA 2013 2014'!T58,'BONUS GAZZETTA 2013 2014'!W58,'BONUS GAZZETTA 2013 2014'!Y58,'BONUS GAZZETTA 2013 2014'!Z58,'BONUS GAZZETTA 2013 2014'!AB58,'BONUS GAZZETTA 2013 2014'!AD58,'BONUS GAZZETTA 2013 2014'!AF58,'BONUS GAZZETTA 2013 2014'!AH58,'BONUS GAZZETTA 2013 2014'!AJ58,'BONUS GAZZETTA 2013 2014'!AL58,'BONUS GAZZETTA 2013 2014'!AN58) -> -1 | BH58: =SUM(BD58,BF58) -> 74.5 | BI58: =SUM(BG58,BE58) -> 64
A59: A | B59: CRISTALDO | E59: 6 | F59: SV | G59: 7 | H59: 5.5 | I59: 5 | J59: 6 | K59: 6 | L59: 6.5 | M59: 6 | N59: 6 | O59: 6.5 | Q59: 6 | R59: 5.5 | S59: 6 | T59: 5 | Y59: 7.5 | Z59: 5 | AA59: 5 | AB59: 4.5 | AD59: 5 | AE59: 6 | AF59: 5 | AG59: 5 | AH59: 6 | AI59: 6 | AJ59: 5 | AK59: 5 | AM59: 4 | AO59: =COUNT(C59:AN59) -> 27 | AP59: =COUNT(D59,F59,G59,I59,K59,M59,O59,Q59,S59,U59,V59,X59,AA59,AC59,AE59,AG59,AI59,AK59,AM59) -> 13 | AQ59: =COUNT(C59,E59,H59,J59,L59,N59,P59,R59,T59,W59,Y59,Z59,AB59,AD59,AF59,AH59,AJ59,AL59,AN59) -> 14 | AR59: =AVERAGE(C59:AN59) -> 5.6296296 | AS59: =AVERAGE(C59:U59) -> 5.9285714 | AT59: =AVERAGE(V59:AN59) -> 5.3076923 | AU59: =MODE(C59:AN59) -> 6 | AV59: =AVERAGE(D59,F59,G59,I59,K59,M59,O59,Q59,S59,U59,V59,X59,AA59,AC59,AE59,AG59,AI59,AK59,AM59) -> 5.6538462 | AW59: =AVERAGE(C59,E59,H59,J59,L59,N59,P59,R59,T59,W59,Y59,Z59,AB59,AD59,AF59,AH59,AJ59,AL59,AN59) -> 5.6071429 | AX59: =BC59/AO59 -> 6.0185185 | AY59: =BH59/AP59 -> 5.8461538 | AZ59: =BI59/AQ59 -> 6.1785714 | BA59: =SUM(C59:AN59) -> 152 | BB59: =SUM('BONUS GAZZETTA 2013 2014'!C59:AN59) -> 10.5 | BC59: =SUM(BA59:BB59) -> 162.5 | BD59: =SUM(D59,F59,G59,I59,K59,M59,O59,Q59,S59,U59,V59,X59,AA59,AC59,AE59,AG59,AI59,AK59,AM59) -> 73.5 | BE59: =SUM(C59,E59,H59,J59,L59,N59,P59,R59,T59,W59,Y59,Z59,AB59,AD59,AF59,AH59,AJ59,AL59,AN59) -> 78.5 | BF59: =SUM('BONUS GAZZETTA 2013 2014'!D59,'BONUS GAZZETTA 2013 2014'!F59,'BONUS GAZZETTA 2013 2014'!G59,'BONUS GAZZETTA 2013 2014'!I59,'BONUS GAZZETTA 2013 2014'!K59,'BONUS GAZZETTA 2013 2014'!M59,'BONUS GAZZETTA 2013 2014'!O59,'BONUS GAZZETTA 2013 2014'!Q59,'BONUS GAZZETTA 2013 2014'!S59,'BONUS GAZZETTA 2013 2014'!U59,'BONUS GAZZETTA 2013 2014'!V59,'BONUS GAZZETTA 2013 2014'!X59,'BONUS GAZZETTA 2013 2014'!AA59,'BONUS GAZZETTA 2013 2014'!AC59,'BONUS GAZZETTA 2013 2014'!AE59,'BONUS GAZZETTA 2013 2014'!AG59,'BONUS GAZZETTA 2013 2014'!AI59,'BONUS GAZZETTA 2013 2014'!AK59,'BONUS GAZZETTA 2013 2014'!AM59) -> 2.5 | BG59: =SUM('BONUS GAZZETTA 2013 2014'!C59,'BONUS GAZZETTA 2013 2014'!E59,'BONUS GAZZETTA 2013 2014'!H59,'BONUS GAZZETTA 2013 2014'!J59,'BONUS GAZZETTA 2013 2014'!L59,'BONUS GAZZETTA 2013 2014'!N59,'BONUS GAZZETTA 2013 2014'!P59,'BONUS GAZZETTA 2013 2014'!R59,'BONUS GAZZETTA 2013 2014'!T59,'BONUS GAZZETTA 2013 2014'!W59,'BONUS GAZZETTA 2013 2014'!Y59,'BONUS GAZZETTA 2013 2014'!Z59,'BONUS GAZZETTA 2013 2014'!AB59,'BONUS GAZZETTA 2013 2014'!AD59,'BONUS GAZZETTA 2013 2014'!AF59,'BONUS GAZZETTA 2013 2014'!AH59,'BONUS GAZZETTA 2013 2014'!AJ59,'BONUS GAZZETTA 2013 2014'!AL59,'BONUS GAZZETTA 2013 2014'!AN59) -> 8 | BH59: =SUM(BD59,BF59) -> 76 | BI59: =SUM(BG59,BE59) -> 86.5
A60: A | B60: MOSCARDELLI | C60: 5 | D60: 6.5 | E60: 6 | F60: 5.5 | I60: 5.5 | M60: 6 | P60: SV | S60: 6 | T60: 5.5 | W60: 6 | X60: 6 | Z60: SV | AA60: SV | AB60: 5.5 | AD60: 5.5 | AG60: 5 | AN60: 6 | AO60: =COUNT(C60:AN60) -> 14 | AP60: =COUNT(D60,F60,G60,I60,K60,M60,O60,Q60,S60,U60,V60,X60,AA60,AC60,AE60,AG60,AI60,AK60,AM60) -> 7 | AQ60: =COUNT(C60,E60,H60,J60,L60,N60,P60,R60,T60,W60,Y60,Z60,AB60,AD60,AF60,AH60,AJ60,AL60,AN60) -> 7 | AR60: =AVERAGE(C60:AN60) -> 5.7142857 | AS60: =AVERAGE(C60:U60) -> 5.75 | AT60: =AVERAGE(V60:AN60) -> 5.6666667 | AU60: =MODE(C60:AN60) -> 6 | AV60: =AVERAGE(D60,F60,G60,I60,K60,M60,O60,Q60,S60,U60,V60,X60,AA60,AC60,AE60,AG60,AI60,AK60,AM60) -> 5.7857143 | AW60: =AVERAGE(C60,E60,H60,J60,L60,N60,P60,R60,T60,W60,Y60,Z60,AB60,AD60,AF60,AH60,AJ60,AL60,AN60) -> 5.6428571 | AX60: =BC60/AO60 -> 5.75 | AY60: =BH60/AP60 -> 6 | AZ60: =BI60/AQ60 -> 5.5 | BA60: =SUM(C60:AN60) -> 80 | BB60: =SUM('BONUS GAZZETTA 2013 2014'!C60:AN60) -> 0.5 | BC60: =SUM(BA60:BB60) -> 80.5 | BD60: =SUM(D60,F60,G60,I60,K60,M60,O60,Q60,S60,U60,V60,X60,AA60,AC60,AE60,AG60,AI60,AK60,AM60) -> 40.5 | BE60: =SUM(C60,E60,H60,J60,L60,N60,P60,R60,T60,W60,Y60,Z60,AB60,AD60,AF60,AH60,AJ60,AL60,AN60) -> 39.5 | BF60: =SUM('BONUS GAZZETTA 2013 2014'!D60,'BONUS GAZZETTA 2013 2014'!F60,'BONUS GAZZETTA 2013 2014'!G60,'BONUS GAZZETTA 2013 2014'!I60,'BONUS GAZZETTA 2013 2014'!K60,'BONUS GAZZETTA 2013 2014'!M60,'BONUS GAZZETTA 2013 2014'!O60,'BONUS GAZZETTA 2013 2014'!Q60,'BONUS GAZZETTA 2013 2014'!S60,'BONUS GAZZETTA 2013 2014'!U60,'BONUS GAZZETTA 2013 2014'!V60,'BONUS GAZZETTA 2013 2014'!X60,'BONUS GAZZETTA 2013 2014'!AA60,'BONUS GAZZETTA 2013 2014'!AC60,'BONUS GAZZETTA 2013 2014'!AE60,'BONUS GAZZETTA 2013 2014'!AG60,'BONUS GAZZETTA 2013 2014'!AI60,'BONUS GAZZETTA 2013 2014'!AK60,'BONUS GAZZETTA 2013 2014'!AM60) -> 1.5 | BG60: =SUM('BONUS GAZZETTA 2013 2014'!C60,'BONUS GAZZETTA 2013 2014'!E60,'BONUS GAZZETTA 2013 2014'!H60,'BONUS GAZZETTA 2013 2014'!J60,'BONUS GAZZETTA 2013 2014'!L60,'BONUS GAZZETTA 2013 2014'!N60,'BONUS GAZZETTA 2013 2014'!P60,'BONUS GAZZETTA 2013 2014'!R60,'BONUS GAZZETTA 2013 2014'!T60,'BONUS GAZZETTA 2013 2014'!W60,'BONUS GAZZETTA 2013 2014'!Y60,'BONUS GAZZETTA 2013 2014'!Z60,'BONUS GAZZETTA 2013 2014'!AB60,'BONUS GAZZETTA 2013 2014'!AD60,'BONUS GAZZETTA 2013 2014'!AF60,'BONUS GAZZETTA 2013 2014'!AH60,'BONUS GAZZETTA 2013 2014'!AJ60,'BONUS GAZZETTA 2013 2014'!AL60,'BONUS GAZZETTA 2013 2014'!AN60) -> -1 | BH60: =SUM(BD60,BF60) -> 42 | BI60: =SUM(BG60,BE60) -> 38.5
A61: A | B61: PAPONI | AC61: 5.5 | AJ61: 5.5 | AL61: 5.5 | AO61: =COUNT(C61:AN61) -> 3 | AP61: =COUNT(D61,F61,G61,I61,K61,M61,O61,Q61,S61,U61,V61,X61,AA61,AC61,AE61,AG61,AI61,AK61,AM61) -> 1 | AQ61: =COUNT(C61,E61,H61,J61,L61,N61,P61,R61,T61,W61,Y61,Z61,AB61,AD61,AF61,AH61,AJ61,AL61,AN61) -> 2 | AR61: =AVERAGE(C61:AN61) -> 5.5 | AS61: =AVERAGE(C61:U61) -> #DIV/0! | AT61: =AVERAGE(V61:AN61) -> 5.5 | AU61: =MODE(C61:AN61) -> 5.5 | AV61: =AVERAGE(D61,F61,G61,I61,K61,M61,O61,Q61,S61,U61,V61,X61,AA61,AC61,AE61,AG61,AI61,AK61,AM61) -> 5.5 | AW61: =AVERAGE(C61,E61,H61,J61,L61,N61,P61,R61,T61,W61,Y61,Z61,AB61,AD61,AF61,AH61,AJ61,AL61,AN61) -> 5.5 | AX61: =BC61/AO61 -> 5.3333333 | AY61: =BH61/AP61 -> 5 | AZ61: =BI61/AQ61 -> 5.5 | BA61: =SUM(C61:AN61) -> 16.5 | BB61: =SUM('BONUS GAZZETTA 2013 2014'!C61:AN61) -> -0.5 | BC61: =SUM(BA61:BB61) -> 16 | BD61: =SUM(D61,F61,G61,I61,K61,M61,O61,Q61,S61,U61,V61,X61,AA61,AC61,AE61,AG61,AI61,AK61,AM61) -> 5.5 | BE61: =SUM(C61,E61,H61,J61,L61,N61,P61,R61,T61,W61,Y61,Z61,AB61,AD61,AF61,AH61,AJ61,AL61,AN61) -> 11 | BF61: =SUM('BONUS GAZZETTA 2013 2014'!D61,'BONUS GAZZETTA 2013 2014'!F61,'BONUS GAZZETTA 2013 2014'!G61,'BONUS GAZZETTA 2013 2014'!I61,'BONUS GAZZETTA 2013 2014'!K61,'BONUS GAZZETTA 2013 2014'!M61,'BONUS GAZZETTA 2013 2014'!O61,'BONUS GAZZETTA 2013 2014'!Q61,'BONUS GAZZETTA 2013 2014'!S61,'BONUS GAZZETTA 2013 2014'!U61,'BONUS GAZZETTA 2013 2014'!V61,'BONUS GAZZETTA 2013 2014'!X61,'BONUS GAZZETTA 2013 2014'!AA61,'BONUS GAZZETTA 2013 2014'!AC61,'BONUS GAZZETTA 2013 2014'!AE61,'BONUS GAZZETTA 2013 2014'!AG61,'BONUS GAZZETTA 2013 2014'!AI61,'BONUS GAZZETTA 2013 2014'!AK61,'BONUS GAZZETTA 2013 2014'!AM61) -> -0.5 | BG61: =SUM('BONUS GAZZETTA 2013 2014'!C61,'BONUS GAZZETTA 2013 2014'!E61,'BONUS GAZZETTA 2013 2014'!H61,'BONUS GAZZETTA 2013 2014'!J61,'BONUS GAZZETTA 2013 2014'!L61,'BONUS GAZZETTA 2013 2014'!N61,'BONUS GAZZETTA 2013 2014'!P61,'BONUS GAZZETTA 2013 2014'!R61,'BONUS GAZZETTA 2013 2014'!T61,'BONUS GAZZETTA 2013 2014'!W61,'BONUS GAZZETTA 2013 2014'!Y61,'BONUS GAZZETTA 2013 2014'!Z61,'BONUS GAZZETTA 2013 2014'!AB61,'BONUS GAZZETTA 2013 2014'!AD61,'BONUS GAZZETTA 2013 2014'!AF61,'BONUS GAZZETTA 2013 2014'!AH61,'BONUS GAZZETTA 2013 2014'!AJ61,'BONUS GAZZETTA 2013 2014'!AL61,'BONUS GAZZETTA 2013 2014'!AN61) -> 0 | BH61: =SUM(BD61,BF61) -> 5 | BI61: =SUM(BG61,BE61) -> 11
A62: A | B62: RODRIGUEZ | AN62: 5.5 | AO62: =COUNT(C62:AN62) -> 1 | AP62: =COUNT(D62,F62,G62,I62,K62,M62,O62,Q62,S62,U62,V62,X62,AA62,AC62,AE62,AG62,AI62,AK62,AM62) -> 0 | AQ62: =COUNT(C62,E62,H62,J62,L62,N62,P62,R62,T62,W62,Y62,Z62,AB62,AD62,AF62,AH62,AJ62,AL62,AN62) -> 1 | AR62: =AVERAGE(C62:AN62) -> 5.5 | AS62: =AVERAGE(C62:U62) -> #DIV/0! | AT62: =AVERAGE(V62:AN62) -> 5.5 | AU62: =MODE(C62:AN62) -> #N/A | AV62: =AVERAGE(D62,F62,G62,I62,K62,M62,O62,Q62,S62,U62,V62,X62,AA62,AC62,AE62,AG62,AI62,AK62,AM62) -> #DIV/0! | AW62: =AVERAGE(C62,E62,H62,J62,L62,N62,P62,R62,T62,W62,Y62,Z62,AB62,AD62,AF62,AH62,AJ62,AL62,AN62) -> 5.5 | AX62: =BC62/AO62 -> 5.5 | AY62: =BH62/AP62 -> #DIV/0! | AZ62: =BI62/AQ62 -> 5.5 | BA62: =SUM(C62:AN62) -> 5.5 | BB62: =SUM('BONUS GAZZETTA 2013 2014'!C62:AN62) -> 0 | BC62: =SUM(BA62:BB62) -> 5.5 | BD62: =SUM(D62,F62,G62,I62,K62,M62,O62,Q62,S62,U62,V62,X62,AA62,AC62,AE62,AG62,AI62,AK62,AM62) -> 0 | BE62: =SUM(C62,E62,H62,J62,L62,N62,P62,R62,T62,W62,Y62,Z62,AB62,AD62,AF62,AH62,AJ62,AL62,AN62) -> 5.5 | BF62: =SUM('BONUS GAZZETTA 2013 2014'!D62,'BONUS GAZZETTA 2013 2014'!F62,'BONUS GAZZETTA 2013 2014'!G62,'BONUS GAZZETTA 2013 2014'!I62,'BONUS GAZZETTA 2013 2014'!K62,'BONUS GAZZETTA 2013 2014'!M62,'BONUS GAZZETTA 2013 2014'!O62,'BONUS GAZZETTA 2013 2014'!Q62,'BONUS GAZZETTA 2013 2014'!S62,'BONUS GAZZETTA 2013 2014'!U62,'BONUS GAZZETTA 2013 2014'!V62,'BONUS GAZZETTA 2013 2014'!X62,'BONUS GAZZETTA 2013 2014'!AA62,'BONUS GAZZETTA 2013 2014'!AC62,'BONUS GAZZETTA 2013 2014'!AE62,'BONUS GAZZETTA 2013 2014'!AG62,'BONUS GAZZETTA 2013 2014'!AI62,'BONUS GAZZETTA 2013 2014'!AK62,'BONUS GAZZETTA 2013 2014'!AM62) -> 0 | BG62: =SUM('BONUS GAZZETTA 2013 2014'!C62,'BONUS GAZZETTA 2013 2014'!E62,'BONUS GAZZETTA 2013 2014'!H62,'BONUS GAZZETTA 2013 2014'!J62,'BONUS GAZZETTA 2013 2014'!L62,'BONUS GAZZETTA 2013 2014'!N62,'BONUS GAZZETTA 2013 2014'!P62,'BONUS GAZZETTA 2013 2014'!R62,'BONUS GAZZETTA 2013 2014'!T62,'BONUS GAZZETTA 2013 2014'!W62,'BONUS GAZZETTA 2013 2014'!Y62,'BONUS GAZZETTA 2013 2014'!Z62,'BONUS GAZZETTA 2013 2014'!AB62,'BONUS GAZZETTA 2013 2014'!AD62,'BONUS GAZZETTA 2013 2014'!AF62,'BONUS GAZZETTA 2013 2014'!AH62,'BONUS GAZZETTA 2013 2014'!AJ62,'BONUS GAZZETTA 2013 2014'!AL62,'BONUS GAZZETTA 2013 2014'!AN62) -> 0 | BH62: =SUM(BD62,BF62) -> 0 | BI62: =SUM(BG62,BE62) -> 5.5
A63: CAGLIARI
A64: P | B64: ADAN GARRIDO | T64: 6 | U64: 4 | AO64: =COUNT(C64:AN64) -> 2 | AP64: =COUNT(C64,F64,H64,J64,L64,N64,P64,Q64,S64,U64,W64,X64,Z64,AB64,AD64,AF64,AH64,AK64,AM64) -> 1 | AQ64: =COUNT(D64,E64,G64,I64,K64,M64,O64,R64,T64,V64,Y64,AA64,AC64,AE64,AG64,AI64,AJ64,AL64,AN64) -> 1 | AR64: =AVERAGE(C64:AN64) -> 5 | AS64: =AVERAGE(C64:U64) -> 5 | AT64: =AVERAGE(V64:AN64) -> #DIV/0! | AU64: =MODE(C64:AN64) -> #N/A | AV64: =AVERAGE(C64,F64,H64,J64,L64,N64,P64,Q64,S64,U64,W64,X64,Z64,AB64,AD64,AF64,AH64,AK64,AM64) -> 4 | AW64: =AVERAGE(D64,E64,G64,I64,K64,M64,O64,R64,T64,V64,Y64,AA64,AC64,AE64,AG64,AI64,AJ64,AL64,AN64) -> 6 | AX64: =BC64/AO64 -> 3 | AY64: =BH64/AP64 -> 0 | AZ64: =BI64/AQ64 -> 6 | BA64: =SUM(C64:AN64) -> 10 | BB64: =SUM('BONUS GAZZETTA 2013 2014'!C64:AN64) -> -4 | BC64: =SUM(BA64:BB64) -> 6 | BD64: =SUM(C64,F64,H64,J64,L64,N64,P64,Q64,S64,U64,W64,X64,Z64,AB64,AD64,AF64,AH64,AK64,AM64) -> 4 | BE64: =SUM(D64,E64,G64,I64,K64,M64,O64,R64,T64,V64,Y64,AA64,AC64,AE64,AG64,AI64,AJ64,AL64,AN64) -> 6 | BF64: =SUM('BONUS GAZZETTA 2013 2014'!C64,'BONUS GAZZETTA 2013 2014'!F64,'BONUS GAZZETTA 2013 2014'!H64,'BONUS GAZZETTA 2013 2014'!J64,'BONUS GAZZETTA 2013 2014'!L64,'BONUS GAZZETTA 2013 2014'!N64,'BONUS GAZZETTA 2013 2014'!P64,'BONUS GAZZETTA 2013 2014'!Q64,'BONUS GAZZETTA 2013 2014'!S64,'BONUS GAZZETTA 2013 2014'!U64,'BONUS GAZZETTA 2013 2014'!W64,'BONUS GAZZETTA 2013 2014'!X64,'BONUS GAZZETTA 2013 2014'!Z64,'BONUS GAZZETTA 2013 2014'!AB64,'BONUS GAZZETTA 2013 2014'!AD64,'BONUS GAZZETTA 2013 2014'!AF64,'BONUS GAZZETTA 2013 2014'!AH64,'BONUS GAZZETTA 2013 2014'!AK64,'BONUS GAZZETTA 2013 2014'!AM64) -> -4 | BG64: =SUM('BONUS GAZZETTA 2013 2014'!D64,'BONUS GAZZETTA 2013 2014'!E64,'BONUS GAZZETTA 2013 2014'!G64,'BONUS GAZZETTA 2013 2014'!I64,'BONUS GAZZETTA 2013 2014'!K64,'BONUS GAZZETTA 2013 2014'!M64,'BONUS GAZZETTA 2013 2014'!O64,'BONUS GAZZETTA 2013 2014'!R64,'BONUS GAZZETTA 2013 2014'!T64,'BONUS GAZZETTA 2013 2014'!V64,'BONUS GAZZETTA 2013 2014'!Y64,'BONUS GAZZETTA 2013 2014'!AA64,'BONUS GAZZETTA 2013 2014'!AC64,'BONUS GAZZETTA 2013 2014'!AE64,'BONUS GAZZETTA 2013 2014'!AG64,'BONUS GAZZETTA 2013 2014'!AI64,'BONUS GAZZETTA 2013 2014'!AJ64,'BONUS GAZZETTA 2013 2014'!AL64,'BONUS GAZZETTA 2013 2014'!AN64) -> 0 | BH64: =SUM(BF64,BD64) -> 0 | BI64: =SUM(BE64,BG64) -> 6
A65: P | B65: AGAZZI | C65: 6 | D65: 6 | E65: 6.5 | F65: 4.5 | G65: 6 | H65: 7 | I65: 5.5 | J65: 6 | K65: 6 | L65: 4 | M65: 6 | AO65: =COUNT(C65:AN65) -> 11 | AP65: =COUNT(C65,F65,H65,J65,L65,N65,P65,Q65,S65,U65,W65,X65,Z65,AB65,AD65,AF65,AH65,AK65,AM65) -> 5 | AQ65: =COUNT(D65,E65,G65,I65,K65,M65,O65,R65,T65,V65,Y65,AA65,AC65,AE65,AG65,AI65,AJ65,AL65,AN65) -> 6 | AR65: =AVERAGE(C65:AN65) -> 5.7727273 | AS65: =AVERAGE(C65:U65) -> 5.7727273 | AT65: =AVERAGE(V65:AN65) -> #DIV/0! | AU65: =MODE(C65:AN65) -> 6 | AV65: =AVERAGE(C65,F65,H65,J65,L65,N65,P65,Q65,S65,U65,W65,X65,Z65,AB65,AD65,AF65,AH65,AK65,AM65) -> 5.5 | AW65: =AVERAGE(D65,E65,G65,I65,K65,M65,O65,R65,T65,V65,Y65,AA65,AC65,AE65,AG65,AI65,AJ65,AL65,AN65) -> 6 | AX65: =BC65/AO65 -> 4 | AY65: =BH65/AP65 -> 3.9 | AZ65: =BI65/AQ65 -> 4.0833333 | BA65: =SUM(C65:AN65) -> 63.5 | BB65: =SUM('BONUS GAZZETTA 2013 2014'!C65:AN65) -> -19.5 | BC65: =SUM(BA65:BB65) -> 44 | BD65: =SUM(C65,F65,H65,J65,L65,N65,P65,Q65,S65,U65,W65,X65,Z65,AB65,AD65,AF65,AH65,AK65,AM65) -> 27.5 | BE65: =SUM(D65,E65,G65,I65,K65,M65,O65,R65,T65,V65,Y65,AA65,AC65,AE65,AG65,AI65,AJ65,AL65,AN65) -> 36 | BF65: =SUM('BONUS GAZZETTA 2013 2014'!C65,'BONUS GAZZETTA 2013 2014'!F65,'BONUS GAZZETTA 2013 2014'!H65,'BONUS GAZZETTA 2013 2014'!J65,'BONUS GAZZETTA 2013 2014'!L65,'BONUS GAZZETTA 2013 2014'!N65,'BONUS GAZZETTA 2013 2014'!P65,'BONUS GAZZETTA 2013 2014'!Q65,'BONUS GAZZETTA 2013 2014'!S65,'BONUS GAZZETTA 2013 2014'!U65,'BONUS GAZZETTA 2013 2014'!W65,'BONUS GAZZETTA 2013 2014'!X65,'BONUS GAZZETTA 2013 2014'!Z65,'BONUS GAZZETTA 2013 2014'!AB65,'BONUS GAZZETTA 2013 2014'!AD65,'BONUS GAZZETTA 2013 2014'!AF65,'BONUS GAZZETTA 2013 2014'!AH65,'BONUS GAZZETTA 2013 2014'!AK65,'BONUS GAZZETTA 2013 2014'!AM65) -> -8 | BG65: =SUM('BONUS GAZZETTA 2013 2014'!D65,'BONUS GAZZETTA 2013 2014'!E65,'BONUS GAZZETTA 2013 2014'!G65,'BONUS GAZZETTA 2013 2014'!I65,'BONUS GAZZETTA 2013 2014'!K65,'BONUS GAZZETTA 2013 2014'!M65,'BONUS GAZZETTA 2013 2014'!O65,'BONUS GAZZETTA 2013 2014'!R65,'BONUS GAZZETTA 2013 2014'!T65,'BONUS GAZZETTA 2013 2014'!V65,'BONUS GAZZETTA 2013 2014'!Y65,'BONUS GAZZETTA 2013 2014'!AA65,'BONUS GAZZETTA 2013 2014'!AC65,'BONUS GAZZETTA 2013 2014'!AE65,'BONUS GAZZETTA 2013 2014'!AG65,'BONUS GAZZETTA 2013 2014'!AI65,'BONUS GAZZETTA 2013 2014'!AJ65,'BONUS GAZZETTA 2013 2014'!AL65,'BONUS GAZZETTA 2013 2014'!AN65) -> -11.5 | BH65: =SUM(BF65,BD65) -> 19.5 | BI65: =SUM(BE65,BG65) -> 24.5
A66: P | B66: AVRAMOV | N66: 6 | O66: 8 | P66: 6 | Q66: 6.5 | R66: 6.5 | S66: 6 | V66: 6 | W66: 6.5 | X66: 6 | Y66: 5.5 | Z66: 5 | AA66: 6.5 | AB66: 5 | AC66: 6 | AD66: 6 | AE66: 6 | AF66: 6 | AG66: 6 | AH66: 5.5 | AI66: 6 | AJ66: 6.5 | AL66: 6 | AM66: 6 | AO66: =COUNT(C66:AN66) -> 23 | AP66: =COUNT(C66,F66,H66,J66,L66,N66,P66,Q66,S66,U66,W66,X66,Z66,AB66,AD66,AF66,AH66,AK66,AM66) -> 12 | AQ66: =COUNT(D66,E66,G66,I66,K66,M66,O66,R66,T66,V66,Y66,AA66,AC66,AE66,AG66,AI66,AJ66,AL66,AN66) -> 11 | AR66: =AVERAGE(C66:AN66) -> 6.0652174 | AS66: =AVERAGE(C66:U66) -> 6.5 | AT66: =AVERAGE(V66:AN66) -> 5.9117647 | AU66: =MODE(C66:AN66) -> 6 | AV66: =AVERAGE(C66,F66,H66,J66,L66,N66,P66,Q66,S66,U66,W66,X66,Z66,AB66,AD66,AF66,AH66,AK66,AM66) -> 5.875 | AW66: =AVERAGE(D66,E66,G66,I66,K66,M66,O66,R66,T66,V66,Y66,AA66,AC66,AE66,AG66,AI66,AJ66,AL66,AN66) -> 6.2727273 | AX66: =BC66/AO66 -> 4.8913043 | AY66: =BH66/AP66 -> 4.5416667 | AZ66: =BI66/AQ66 -> 5.2727273 | BA66: =SUM(C66:AN66) -> 139.5 | BB66: =SUM('BONUS GAZZETTA 2013 2014'!C66:AN66) -> -27 | BC66: =SUM(BA66:BB66) -> 112.5 | BD66: =SUM(C66,F66,H66,J66,L66,N66,P66,Q66,S66,U66,W66,X66,Z66,AB66,AD66,AF66,AH66,AK66,AM66) -> 70.5 | BE66: =SUM(D66,E66,G66,I66,K66,M66,O66,R66,T66,V66,Y66,AA66,AC66,AE66,AG66,AI66,AJ66,AL66,AN66) -> 69 | BF66: =SUM('BONUS GAZZETTA 2013 2014'!C66,'BONUS GAZZETTA 2013 2014'!F66,'BONUS GAZZETTA 2013 2014'!H66,'BONUS GAZZETTA 2013 2014'!J66,'BONUS GAZZETTA 2013 2014'!L66,'BONUS GAZZETTA 2013 2014'!N66,'BONUS GAZZETTA 2013 2014'!P66,'BONUS GAZZETTA 2013 2014'!Q66,'BONUS GAZZETTA 2013 2014'!S66,'BONUS GAZZETTA 2013 2014'!U66,'BONUS GAZZETTA 2013 2014'!W66,'BONUS GAZZETTA 2013 2014'!X66,'BONUS GAZZETTA 2013 2014'!Z66,'BONUS GAZZETTA 2013 2014'!AB66,'BONUS GAZZETTA 2013 2014'!AD66,'BONUS GAZZETTA 2013 2014'!AF66,'BONUS GAZZETTA 2013 2014'!AH66,'BONUS GAZZETTA 2013 2014'!AK66,'BONUS GAZZETTA 2013 2014'!AM66) -> -16 | BG66: =SUM('BONUS GAZZETTA 2013 2014'!D66,'BONUS GAZZETTA 2013 2014'!E66,'BONUS GAZZETTA 2013 2014'!G66,'BONUS GAZZETTA 2013 2014'!I66,'BONUS GAZZETTA 2013 2014'!K66,'BONUS GAZZETTA 2013 2014'!M66,'BONUS GAZZETTA 2013 2014'!O66,'BONUS GAZZETTA 2013 2014'!R66,'BONUS GAZZETTA 2013 2014'!T66,'BONUS GAZZETTA 2013 2014'!V66,'BONUS GAZZETTA 2013 2014'!Y66,'BONUS GAZZETTA 2013 2014'!AA66,'BONUS GAZZETTA 2013 2014'!AC66,'BONUS GAZZETTA 2013 2014'!AE66,'BONUS GAZZETTA 2013 2014'!AG66,'BONUS GAZZETTA 2013 2014'!AI66,'BONUS GAZZETTA 2013 2014'!AJ66,'BONUS GAZZETTA 2013 2014'!AL66,'BONUS GAZZETTA 2013 2014'!AN66) -> -11 | BH66: =SUM(BF66,BD66) -> 54.5 | BI66: =SUM(BE66,BG66) -> 58
A67: P | B67: SILVESTRI | AK67: 7 | AL67: 5 | AN67: 6.5 | AO67: =COUNT(C67:AN67) -> 3 | AP67: =COUNT(C67,F67,H67,J67,L67,N67,P67,Q67,S67,U67,W67,X67,Z67,AB67,AD67,AF67,AH67,AK67,AM67) -> 1 | AQ67: =COUNT(D67,E67,G67,I67,K67,M67,O67,R67,T67,V67,Y67,AA67,AC67,AE67,AG67,AI67,AJ67,AL67,AN67) -> 2 | AR67: =AVERAGE(C67:AN67) -> 6.1666667 | AS67: =AVERAGE(C67:U67) -> #DIV/0! | AT67: =AVERAGE(V67:AN67) -> 6.1666667 | AU67: =MODE(C67:AN67) -> #N/A | AV67: =AVERAGE(C67,F67,H67,J67,L67,N67,P67,Q67,S67,U67,W67,X67,Z67,AB67,AD67,AF67,AH67,AK67,AM67) -> 7 | AW67: =AVERAGE(D67,E67,G67,I67,K67,M67,O67,R67,T67,V67,Y67,AA67,AC67,AE67,AG67,AI67,AJ67,AL67,AN67) -> 5.75 | AX67: =BC67/AO67 -> 3.5 | AY67: =BH67/AP67 -> 7 | AZ67: =BI67/AQ67 -> 1.75 | BA67: =SUM(C67:AN67) -> 18.5 | BB67: =SUM('BONUS GAZZETTA 2013 2014'!C67:AN67) -> -8 | BC67: =SUM(BA67:BB67) -> 10.5 | BD67: =SUM(C67,F67,H67,J67,L67,N67,P67,Q67,S67,U67,W67,X67,Z67,AB67,AD67,AF67,AH67,AK67,AM67) -> 7 | BE67: =SUM(D67,E67,G67,I67,K67,M67,O67,R67,T67,V67,Y67,AA67,AC67,AE67,AG67,AI67,AJ67,AL67,AN67) -> 11.5 | BF67: =SUM('BONUS GAZZETTA 2013 2014'!C67,'BONUS GAZZETTA 2013 2014'!F67,'BONUS GAZZETTA 2013 2014'!H67,'BONUS GAZZETTA 2013 2014'!J67,'BONUS GAZZETTA 2013 2014'!L67,'BONUS GAZZETTA 2013 2014'!N67,'BONUS GAZZETTA 2013 2014'!P67,'BONUS GAZZETTA 2013 2014'!Q67,'BONUS GAZZETTA 2013 2014'!S67,'BONUS GAZZETTA 2013 2014'!U67,'BONUS GAZZETTA 2013 2014'!W67,'BONUS GAZZETTA 2013 2014'!X67,'BONUS GAZZETTA 2013 2014'!Z67,'BONUS GAZZETTA 2013 2014'!AB67,'BONUS GAZZETTA 2013 2014'!AD67,'BONUS GAZZETTA 2013 2014'!AF67,'BONUS GAZZETTA 2013 2014'!AH67,'BONUS GAZZETTA 2013 2014'!AK67,'BONUS GAZZETTA 2013 2014'!AM67) -> 0 | BG67: =SUM('BONUS GAZZETTA 2013 2014'!D67,'BONUS GAZZETTA 2013 2014'!E67,'BONUS GAZZETTA 2013 2014'!G67,'BONUS GAZZETTA 2013 2014'!I67,'BONUS GAZZETTA 2013 2014'!K67,'BONUS GAZZETTA 2013 2014'!M67,'BONUS GAZZETTA 2013 2014'!O67,'BONUS GAZZETTA 2013 2014'!R67,'BONUS GAZZETTA 2013 2014'!T67,'BONUS GAZZETTA 2013 2014'!V67,'BONUS GAZZETTA 2013 2014'!Y67,'BONUS GAZZETTA 2013 2014'!AA67,'BONUS GAZZETTA 2013 2014'!AC67,'BONUS GAZZETTA 2013 2014'!AE67,'BONUS GAZZETTA 2013 2014'!AG67,'BONUS GAZZETTA 2013 2014'!AI67,'BONUS GAZZETTA 2013 2014'!AJ67,'BONUS GAZZETTA 2013 2014'!AL67,'BONUS GAZZETTA 2013 2014'!AN67) -> -8 | BH67: =SUM(BF67,BD67) -> 7 | BI67: =SUM(BE67,BG67) -> 3.5
A68: D | B68: ARIAUDO | C68: 6 | D68: 4.5 | M68: 5 | O68: SV | AO68: =COUNT(C68:AN68) -> 3 | AP68: =COUNT(C68,F68,H68,J68,L68,N68,P68,Q68,S68,U68,W68,X68,Z68,AB68,AD68,AF68,AH68,AK68,AM68) -> 1 | AQ68: =COUNT(D68,E68,G68,I68,K68,M68,O68,R68,T68,V68,Y68,AA68,AC68,AE68,AG68,AI68,AJ68,AL68,AN68) -> 2 | AR68: =AVERAGE(C68:AN68) -> 5.1666667 | AS68: =AVERAGE(C68:U68) -> 5.1666667 | AT68: =AVERAGE(V68:AN68) -> #DIV/0! | AU68: =MODE(C68:AN68) -> #N/A | AV68: =AVERAGE(C68,F68,H68,J68,L68,N68,P68,Q68,S68,U68,W68,X68,Z68,AB68,AD68,AF68,AH68,AK68,AM68) -> 6 | AW68: =AVERAGE(D68,E68,G68,I68,K68,M68,O68,R68,T68,V68,Y68,AA68,AC68,AE68,AG68,AI68,AJ68,AL68,AN68) -> 4.75 | AX68: =BC68/AO68 -> 5.1666667 | AY68: =BH68/AP68 -> 6 | AZ68: =BI68/AQ68 -> 4.75 | BA68: =SUM(C68:AN68) -> 15.5 | BB68: =SUM('BONUS GAZZETTA 2013 2014'!C68:AN68) -> 0 | BC68: =SUM(BA68:BB68) -> 15.5 | BD68: =SUM(C68,F68,H68,J68,L68,N68,P68,Q68,S68,U68,W68,X68,Z68,AB68,AD68,AF68,AH68,AK68,AM68) -> 6 | BE68: =SUM(D68,E68,G68,I68,K68,M68,O68,R68,T68,V68,Y68,AA68,AC68,AE68,AG68,AI68,AJ68,AL68,AN68) -> 9.5 | BF68: =SUM('BONUS GAZZETTA 2013 2014'!C68,'BONUS GAZZETTA 2013 2014'!F68,'BONUS GAZZETTA 2013 2014'!H68,'BONUS GAZZETTA 2013 2014'!J68,'BONUS GAZZETTA 2013 2014'!L68,'BONUS GAZZETTA 2013 2014'!N68,'BONUS GAZZETTA 2013 2014'!P68,'BONUS GAZZETTA 2013 2014'!Q68,'BONUS GAZZETTA 2013 2014'!S68,'BONUS GAZZETTA 2013 2014'!U68,'BONUS GAZZETTA 2013 2014'!W68,'BONUS GAZZETTA 2013 2014'!X68,'BONUS GAZZETTA 2013 2014'!Z68,'BONUS GAZZETTA 2013 2014'!AB68,'BONUS GAZZETTA 2013 2014'!AD68,'BONUS GAZZETTA 2013 2014'!AF68,'BONUS GAZZETTA 2013 2014'!AH68,'BONUS GAZZETTA 2013 2014'!AK68,'BONUS GAZZETTA 2013 2014'!AM68) -> 0 | BG68: =SUM('BONUS GAZZETTA 2013 2014'!D68,'BONUS GAZZETTA 2013 2014'!E68,'BONUS GAZZETTA 2013 2014'!G68,'BONUS GAZZETTA 2013 2014'!I68,'BONUS GAZZETTA 2013 2014'!K68,'BONUS GAZZETTA 2013 2014'!M68,'BONUS GAZZETTA 2013 2014'!O68,'BONUS GAZZETTA 2013 2014'!R68,'BONUS GAZZETTA 2013 2014'!T68,'BONUS GAZZETTA 2013 2014'!V68,'BONUS GAZZETTA 2013 2014'!Y68,'BONUS GAZZETTA 2013 2014'!AA68,'BONUS GAZZETTA 2013 2014'!AC68,'BONUS GAZZETTA 2013 2014'!AE68,'BONUS GAZZETTA 2013 2014'!AG68,'BONUS GAZZETTA 2013 2014'!AI68,'BONUS GAZZETTA 2013 2014'!AJ68,'BONUS GAZZETTA 2013 2014'!AL68,'BONUS GAZZETTA 2013 2014'!AN68) -> 0 | BH68: =SUM(BF68,BD68) -> 6 | BI68: =SUM(BE68,BG68) -> 9.5
A69: D | B69: ASTORI | E69: 6.5 | F69: 5.5 | G69: 5.5 | H69: 6 | I69: 6 | J69: 6 | K69: 6 | L69: 5 | M69: 5 | N69: 7 | O69: 6.5 | P69: 5 | Q69: 6 | R69: 7 | S69: 6 | T69: 6 | U69: 6 | V69: 6.5 | W69: 5.5 | X69: 6.5 | Y69: 5.5 | AA69: 5.5 | AB69: 6.5 | AC69: 6 | AE69: 6.5 | AF69: 6 | AG69: 6 | AH69: 4.5 | AI69: 5.5 | AJ69: 7 | AK69: 6 | AL69: 5 | AM69: 6 | AN69: 5 | AO69: =COUNT(C69:AN69) -> 34 | AP69: =COUNT(C69,F69,H69,J69,L69,N69,P69,Q69,S69,U69,W69,X69,Z69,AB69,AD69,AF69,AH69,AK69,AM69) -> 16 | AQ69: =COUNT(D69,E69,G69,I69,K69,M69,O69,R69,T69,V69,Y69,AA69,AC69,AE69,AG69,AI69,AJ69,AL69,AN69) -> 18 | AR69: =AVERAGE(C69:AN69) -> 5.8970588 | AS69: =AVERAGE(C69:U69) -> 5.9411765 | AT69: =AVERAGE(V69:AN69) -> 5.8529412 | AU69: =MODE(C69:AN69) -> 6 | AV69: =AVERAGE(C69,F69,H69,J69,L69,N69,P69,Q69,S69,U69,W69,X69,Z69,AB69,AD69,AF69,AH69,AK69,AM69) -> 5.84375 | AW69: =AVERAGE(D69,E69,G69,I69,K69,M69,O69,R69,T69,V69,Y69,AA69,AC69,AE69,AG69,AI69,AJ69,AL69,AN69) -> 5.9444444 | AX69: =BC69/AO69 -> 5.7941176 | AY69: =BH69/AP69 -> 5.8125 | AZ69: =BI69/AQ69 -> 5.7777778 | BA69: =SUM(C69:AN69) -> 200.5 | BB69: =SUM('BONUS GAZZETTA 2013 2014'!C69:AN69) -> -3.5 | BC69: =SUM(BA69:BB69) -> 197 | BD69: =SUM(C69,F69,H69,J69,L69,N69,P69,Q69,S69,U69,W69,X69,Z69,AB69,AD69,AF69,AH69,AK69,AM69) -> 93.5 | BE69: =SUM(D69,E69,G69,I69,K69,M69,O69,R69,T69,V69,Y69,AA69,AC69,AE69,AG69,AI69,AJ69,AL69,AN69) -> 107 | BF69: =SUM('BONUS GAZZETTA 2013 2014'!C69,'BONUS GAZZETTA 2013 2014'!F69,'BONUS GAZZETTA 2013 2014'!H69,'BONUS GAZZETTA 2013 2014'!J69,'BONUS GAZZETTA 2013 2014'!L69,'BONUS GAZZETTA 2013 2014'!N69,'BONUS GAZZETTA 2013 2014'!P69,'BONUS GAZZETTA 2013 2014'!Q69,'BONUS GAZZETTA 2013 2014'!S69,'BONUS GAZZETTA 2013 2014'!U69,'BONUS GAZZETTA 2013 2014'!W69,'BONUS GAZZETTA 2013 2014'!X69,'BONUS GAZZETTA 2013 2014'!Z69,'BONUS GAZZETTA 2013 2014'!AB69,'BONUS GAZZETTA 2013 2014'!AD69,'BONUS GAZZETTA 2013 2014'!AF69,'BONUS GAZZETTA 2013 2014'!AH69,'BONUS GAZZETTA 2013 2014'!AK69,'BONUS GAZZETTA 2013 2014'!AM69) -> -0.5 | BG69: =SUM('BONUS GAZZETTA 2013 2014'!D69,'BONUS GAZZETTA 2013 2014'!E69,'BONUS GAZZETTA 2013 2014'!G69,'BONUS GAZZETTA 2013 2014'!I69,'BONUS GAZZETTA 2013 2014'!K69,'BONUS GAZZETTA 2013 2014'!M69,'BONUS GAZZETTA 2013 2014'!O69,'BONUS GAZZETTA 2013 2014'!R69,'BONUS GAZZETTA 2013 2014'!T69,'BONUS GAZZETTA 2013 2014'!V69,'BONUS GAZZETTA 2013 2014'!Y69,'BONUS GAZZETTA 2013 2014'!AA69,'BONUS GAZZETTA 2013 2014'!AC69,'BONUS GAZZETTA 2013 2014'!AE69,'BONUS GAZZETTA 2013 2014'!AG69,'BONUS GAZZETTA 2013 2014'!AI69,'BONUS GAZZETTA 2013 2014'!AJ69,'BONUS GAZZETTA 2013 2014'!AL69,'BONUS GAZZETTA 2013 2014'!AN69) -> -3 | BH69: =SUM(BF69,BD69) -> 93 | BI69: =SUM(BE69,BG69) -> 104
A70: D | B70: AVELAR | G70: 6 | H70: 5.5 | L70: 5.5 | M70: 6 | Q70: 6 | R70: 5 | S70: 6 | AA70: 5.5 | AB70: 6 | AC70: 5 | AE70: 6 | AF70: 6 | AG70: 5 | AH70: 5 | AI70: 6 | AJ70: 5.5 | AK70: 6 | AL70: 5 | AM70: 6 | AN70: 5 | AO70: =COUNT(C70:AN70) -> 20 | AP70: =COUNT(C70,F70,H70,J70,L70,N70,P70,Q70,S70,U70,W70,X70,Z70,AB70,AD70,AF70,AH70,AK70,AM70) -> 9 | AQ70: =COUNT(D70,E70,G70,I70,K70,M70,O70,R70,T70,V70,Y70,AA70,AC70,AE70,AG70,AI70,AJ70,AL70,AN70) -> 11 | AR70: =AVERAGE(C70:AN70) -> 5.6 | AS70: =AVERAGE(C70:U70) -> 5.7142857 | AT70: =AVERAGE(V70:AN70) -> 5.5384615 | AU70: =MODE(C70:AN70) -> 6 | AV70: =AVERAGE(C70,F70,H70,J70,L70,N70,P70,Q70,S70,U70,W70,X70,Z70,AB70,AD70,AF70,AH70,AK70,AM70) -> 5.7777778 | AW70: =AVERAGE(D70,E70,G70,I70,K70,M70,O70,R70,T70,V70,Y70,AA70,AC70,AE70,AG70,AI70,AJ70,AL70,AN70) -> 5.4545455 | AX70: =BC70/AO70 -> 5.525 | AY70: =BH70/AP70 -> 5.7222222 | AZ70: =BI70/AQ70 -> 5.3636364 | BA70: =SUM(C70:AN70) -> 112 | BB70: =SUM('BONUS GAZZETTA 2013 2014'!C70:AN70) -> -1.5 | BC70: =SUM(BA70:BB70) -> 110.5 | BD70: =SUM(C70,F70,H70,J70,L70,N70,P70,Q70,S70,U70,W70,X70,Z70,AB70,AD70,AF70,AH70,AK70,AM70) -> 52 | BE70: =SUM(D70,E70,G70,I70,K70,M70,O70,R70,T70,V70,Y70,AA70,AC70,AE70,AG70,AI70,AJ70,AL70,AN70) -> 60 | BF70: =SUM('BONUS GAZZETTA 2013 2014'!C70,'BONUS GAZZETTA 2013 2014'!F70,'BONUS GAZZETTA 2013 2014'!H70,'BONUS GAZZETTA 2013 2014'!J70,'BONUS GAZZETTA 2013 2014'!L70,'BONUS GAZZETTA 2013 2014'!N70,'BONUS GAZZETTA 2013 2014'!P70,'BONUS GAZZETTA 2013 2014'!Q70,'BONUS GAZZETTA 2013 2014'!S70,'BONUS GAZZETTA 2013 2014'!U70,'BONUS GAZZETTA 2013 2014'!W70,'BONUS GAZZETTA 2013 2014'!X70,'BONUS GAZZETTA 2013 2014'!Z70,'BONUS GAZZETTA 2013 2014'!AB70,'BONUS GAZZETTA 2013 2014'!AD70,'BONUS GAZZETTA 2013 2014'!AF70,'BONUS GAZZETTA 2013 2014'!AH70,'BONUS GAZZETTA 2013 2014'!AK70,'BONUS GAZZETTA 2013 2014'!AM70) -> -0.5 | BG70: =SUM('BONUS GAZZETTA 2013 2014'!D70,'BONUS GAZZETTA 2013 2014'!E70,'BONUS GAZZETTA 2013 2014'!G70,'BONUS GAZZETTA 2013 2014'!I70,'BONUS GAZZETTA 2013 2014'!K70,'BONUS GAZZETTA 2013 2014'!M70,'BONUS GAZZETTA 2013 2014'!O70,'BONUS GAZZETTA 2013 2014'!R70,'BONUS GAZZETTA 2013 2014'!T70,'BONUS GAZZETTA 2013 2014'!V70,'BONUS GAZZETTA 2013 2014'!Y70,'BONUS GAZZETTA 2013 2014'!AA70,'BONUS GAZZETTA 2013 2014'!AC70,'BONUS GAZZETTA 2013 2014'!AE70,'BONUS GAZZETTA 2013 2014'!AG70,'BONUS GAZZETTA 2013 2014'!AI70,'BONUS GAZZETTA 2013 2014'!AJ70,'BONUS GAZZETTA 2013 2014'!AL70,'BONUS GAZZETTA 2013 2014'!AN70) -> -1 | BH70: =SUM(BF70,BD70) -> 51.5 | BI70: =SUM(BE70,BG70) -> 59
A71: D | B71: BASTRINI | AN71: 6 | AO71: =COUNT(C71:AN71) -> 1 | AP71: =COUNT(C71,F71,H71,J71,L71,N71,P71,Q71,S71,U71,W71,X71,Z71,AB71,AD71,AF71,AH71,AK71,AM71) -> 0 | AQ71: =COUNT(D71,E71,G71,I71,K71,M71,O71,R71,T71,V71,Y71,AA71,AC71,AE71,AG71,AI71,AJ71,AL71,AN71) -> 1 | AR71: =AVERAGE(C71:AN71) -> 6 | AS71: =AVERAGE(C71:U71) -> #DIV/0! | AT71: =AVERAGE(V71:AN71) -> 6 | AU71: =MODE(C71:AN71) -> #N/A | AV71: =AVERAGE(C71,F71,H71,J71,L71,N71,P71,Q71,S71,U71,W71,X71,Z71,AB71,AD71,AF71,AH71,AK71,AM71) -> #DIV/0! | AW71: =AVERAGE(D71,E71,G71,I71,K71,M71,O71,R71,T71,V71,Y71,AA71,AC71,AE71,AG71,AI71,AJ71,AL71,AN71) -> 6 | AX71: =BC71/AO71 -> 6 | AY71: =BH71/AP71 -> #DIV/0! | AZ71: =BI71/AQ71 -> 6 | BA71: =SUM(C71:AN71) -> 6 | BB71: =SUM('BONUS GAZZETTA 2013 2014'!C71:AN71) -> 0 | BC71: =SUM(BA71:BB71) -> 6 | BD71: =SUM(C71,F71,H71,J71,L71,N71,P71,Q71,S71,U71,W71,X71,Z71,AB71,AD71,AF71,AH71,AK71,AM71) -> 0 | BE71: =SUM(D71,E71,G71,I71,K71,M71,O71,R71,T71,V71,Y71,AA71,AC71,AE71,AG71,AI71,AJ71,AL71,AN71) -> 6 | BF71: =SUM('BONUS GAZZETTA 2013 2014'!C71,'BONUS GAZZETTA 2013 2014'!F71,'BONUS GAZZETTA 2013 2014'!H71,'BONUS GAZZETTA 2013 2014'!J71,'BONUS GAZZETTA 2013 2014'!L71,'BONUS GAZZETTA 2013 2014'!N71,'BONUS GAZZETTA 2013 2014'!P71,'BONUS GAZZETTA 2013 2014'!Q71,'BONUS GAZZETTA 2013 2014'!S71,'BONUS GAZZETTA 2013 2014'!U71,'BONUS GAZZETTA 2013 2014'!W71,'BONUS GAZZETTA 2013 2014'!X71,'BONUS GAZZETTA 2013 2014'!Z71,'BONUS GAZZETTA 2013 2014'!AB71,'BONUS GAZZETTA 2013 2014'!AD71,'BONUS GAZZETTA 2013 2014'!AF71,'BONUS GAZZETTA 2013 2014'!AH71,'BONUS GAZZETTA 2013 2014'!AK71,'BONUS GAZZETTA 2013 2014'!AM71) -> 0 | BG71: =SUM('BONUS GAZZETTA 2013 2014'!D71,'BONUS GAZZETTA 2013 2014'!E71,'BONUS GAZZETTA 2013 2014'!G71,'BONUS GAZZETTA 2013 2014'!I71,'BONUS GAZZETTA 2013 2014'!K71,'BONUS GAZZETTA 2013 2014'!M71,'BONUS GAZZETTA 2013 2014'!O71,'BONUS GAZZETTA 2013 2014'!R71,'BONUS GAZZETTA 2013 2014'!T71,'BONUS GAZZETTA 2013 2014'!V71,'BONUS GAZZETTA 2013 2014'!Y71,'BONUS GAZZETTA 2013 2014'!AA71,'BONUS GAZZETTA 2013 2014'!AC71,'BONUS GAZZETTA 2013 2014'!AE71,'BONUS GAZZETTA 2013 2014'!AG71,'BONUS GAZZETTA 2013 2014'!AI71,'BONUS GAZZETTA 2013 2014'!AJ71,'BONUS GAZZETTA 2013 2014'!AL71,'BONUS GAZZETTA 2013 2014'!AN71) -> 0 | BH71: =SUM(BF71,BD71) -> 0 | BI71: =SUM(BE71,BG71) -> 6
A72: D | B72: DEL FABRO | S72: 6 | Z72: 5 | AD72: 5.5 | AO72: =COUNT(C72:AN72) -> 3 | AP72: =COUNT(C72,F72,H72,J72,L72,N72,P72,Q72,S72,U72,W72,X72,Z72,AB72,AD72,AF72,AH72,AK72,AM72) -> 3 | AQ72: =COUNT(D72,E72,G72,I72,K72,M72,O72,R72,T72,V72,Y72,AA72,AC72,AE72,AG72,AI72,AJ72,AL72,AN72) -> 0 | AR72: =AVERAGE(C72:AN72) -> 5.5 | AS72: =AVERAGE(C72:U72) -> 6 | AT72: =AVERAGE(V72:AN72) -> 5.25 | AU72: =MODE(C72:AN72) -> #N/A | AV72: =AVERAGE(C72,F72,H72,J72,L72,N72,P72,Q72,S72,U72,W72,X72,Z72,AB72,AD72,AF72,AH72,AK72,AM72) -> 5.5 | AW72: =AVERAGE(D72,E72,G72,I72,K72,M72,O72,R72,T72,V72,Y72,AA72,AC72,AE72,AG72,AI72,AJ72,AL72,AN72) -> #DIV/0! | AX72: =BC72/AO72 -> 5.5 | AY72: =BH72/AP72 -> 5.5 | AZ72: =BI72/AQ72 -> #DIV/0! | BA72: =SUM(C72:AN72) -> 16.5 | BB72: =SUM('BONUS GAZZETTA 2013 2014'!C72:AN72) -> 0 | BC72: =SUM(BA72:BB72) -> 16.5 | BD72: =SUM(C72,F72,H72,J72,L72,N72,P72,Q72,S72,U72,W72,X72,Z72,AB72,AD72,AF72,AH72,AK72,AM72) -> 16.5 | BE72: =SUM(D72,E72,G72,I72,K72,M72,O72,R72,T72,V72,Y72,AA72,AC72,AE72,AG72,AI72,AJ72,AL72,AN72) -> 0 | BF72: =SUM('BONUS GAZZETTA 2013 2014'!C72,'BONUS GAZZETTA 2013 2014'!F72,'BONUS GAZZETTA 2013 2014'!H72,'BONUS GAZZETTA 2013 2014'!J72,'BONUS GAZZETTA 2013 2014'!L72,'BONUS GAZZETTA 2013 2014'!N72,'BONUS GAZZETTA 2013 2014'!P72,'BONUS GAZZETTA 2013 2014'!Q72,'BONUS GAZZETTA 2013 2014'!S72,'BONUS GAZZETTA 2013 2014'!U72,'BONUS GAZZETTA 2013 2014'!W72,'BONUS GAZZETTA 2013 2014'!X72,'BONUS GAZZETTA 2013 2014'!Z72,'BONUS GAZZETTA 2013 2014'!AB72,'BONUS GAZZETTA 2013 2014'!AD72,'BONUS GAZZETTA 2013 2014'!AF72,'BONUS GAZZETTA 2013 2014'!AH72,'BONUS GAZZETTA 2013 2014'!AK72,'BONUS GAZZETTA 2013 2014'!AM72) -> 0 | BG72: =SUM('BONUS GAZZETTA 2013 2014'!D72,'BONUS GAZZETTA 2013 2014'!E72,'BONUS GAZZETTA 2013 2014'!G72,'BONUS GAZZETTA 2013 2014'!I72,'BONUS GAZZETTA 2013 2014'!K72,'BONUS GAZZETTA 2013 2014'!M72,'BONUS GAZZETTA 2013 2014'!O72,'BONUS GAZZETTA 2013 2014'!R72,'BONUS GAZZETTA 2013 2014'!T72,'BONUS GAZZETTA 2013 2014'!V72,'BONUS GAZZETTA 2013 2014'!Y72,'BONUS GAZZETTA 2013 2014'!AA72,'BONUS GAZZETTA 2013 2014'!AC72,'BONUS GAZZETTA 2013 2014'!AE72,'BONUS GAZZETTA 2013 2014'!AG72,'BONUS GAZZETTA 2013 2014'!AI72,'BONUS GAZZETTA 2013 2014'!AJ72,'BONUS GAZZETTA 2013 2014'!AL72,'BONUS GAZZETTA 2013 2014'!AN72) -> 0 | BH72: =SUM(BF72,BD72) -> 16.5 | BI72: =SUM(BE72,BG72) -> 0
A73: D | B73: MURRU | C73: 6.5 | D73: 5.5 | E73: 5.5 | F73: 6.5 | I73: 6 | J73: 6 | K73: 5.5 | L73: 4.5 | N73: 6 | O73: 6 | P73: 5 | T73: 5.5 | U73: 5 | V73: 6 | W73: 5.5 | X73: 6.5 | Y73: 6 | Z73: 5 | AI73: 5.5 | AL73: 5 | AM73: 5 | AO73: =COUNT(C73:AN73) -> 21 | AP73: =COUNT(C73,F73,H73,J73,L73,N73,P73,Q73,S73,U73,W73,X73,Z73,AB73,AD73,AF73,AH73,AK73,AM73) -> 11 | AQ73: =COUNT(D73,E73,G73,I73,K73,M73,O73,R73,T73,V73,Y73,AA73,AC73,AE73,AG73,AI73,AJ73,AL73,AN73) -> 10 | AR73: =AVERAGE(C73:AN73) -> 5.6190476 | AS73: =AVERAGE(C73:U73) -> 5.6538462 | AT73: =AVERAGE(V73:AN73) -> 5.5625 | AU73: =MODE(C73:AN73) -> 5.5 | AV73: =AVERAGE(C73,F73,H73,J73,L73,N73,P73,Q73,S73,U73,W73,X73,Z73,AB73,AD73,AF73,AH73,AK73,AM73) -> 5.5909091 | AW73: =AVERAGE(D73,E73,G73,I73,K73,M73,O73,R73,T73,V73,Y73,AA73,AC73,AE73,AG73,AI73,AJ73,AL73,AN73) -> 5.65 | AX73: =BC73/AO73 -> 5.5 | AY73: =BH73/AP73 -> 5.4090909 | AZ73: =BI73/AQ73 -> 5.6 | BA73: =SUM(C73:AN73) -> 118 | BB73: =SUM('BONUS GAZZETTA 2013 2014'!C73:AN73) -> -2.5 | BC73: =SUM(BA73:BB73) -> 115.5 | BD73: =SUM(C73,F73,H73,J73,L73,N73,P73,Q73,S73,U73,W73,X73,Z73,AB73,AD73,AF73,AH73,AK73,AM73) -> 61.5 | BE73: =SUM(D73,E73,G73,I73,K73,M73,O73,R73,T73,V73,Y73,AA73,AC73,AE73,AG73,AI73,AJ73,AL73,AN73) -> 56.5 | BF73: =SUM('BONUS GAZZETTA 2013 2014'!C73,'BONUS GAZZETTA 2013 2014'!F73,'BONUS GAZZETTA 2013 2014'!H73,'BONUS GAZZETTA 2013 2014'!J73,'BONUS GAZZETTA 2013 2014'!L73,'BONUS GAZZETTA 2013 2014'!N73,'BONUS GAZZETTA 2013 2014'!P73,'BONUS GAZZETTA 2013 2014'!Q73,'BONUS GAZZETTA 2013 2014'!S73,'BONUS GAZZETTA 2013 2014'!U73,'BONUS GAZZETTA 2013 2014'!W73,'BONUS GAZZETTA 2013 2014'!X73,'BONUS GAZZETTA 2013 2014'!Z73,'BONUS GAZZETTA 2013 2014'!AB73,'BONUS GAZZETTA 2013 2014'!AD73,'BONUS GAZZETTA 2013 2014'!AF73,'BONUS GAZZETTA 2013 2014'!AH73,'BONUS GAZZETTA 2013 2014'!AK73,'BONUS GAZZETTA 2013 2014'!AM73) -> -2 | BG73: =SUM('BONUS GAZZETTA 2013 2014'!D73,'BONUS GAZZETTA 2013 2014'!E73,'BONUS GAZZETTA 2013 2014'!G73,'BONUS GAZZETTA 2013 2014'!I73,'BONUS GAZZETTA 2013 2014'!K73,'BONUS GAZZETTA 2013 2014'!M73,'BONUS GAZZETTA 2013 2014'!O73,'BONUS GAZZETTA 2013 2014'!R73,'BONUS GAZZETTA 2013 2014'!T73,'BONUS GAZZETTA 2013 2014'!V73,'BONUS GAZZETTA 2013 2014'!Y73,'BONUS GAZZETTA 2013 2014'!AA73,'BONUS GAZZETTA 2013 2014'!AC73,'BONUS GAZZETTA 2013 2014'!AE73,'BONUS GAZZETTA 2013 2014'!AG73,'BONUS GAZZETTA 2013 2014'!AI73,'BONUS GAZZETTA 2013 2014'!AJ73,'BONUS GAZZETTA 2013 2014'!AL73,'BONUS GAZZETTA 2013 2014'!AN73) -> -0.5 | BH73: =SUM(BF73,BD73) -> 59.5 | BI73: =SUM(BE73,BG73) -> 56
A74: D | B74: OIKONOMOU | AH74: 4.5 | AO74: =COUNT(C74:AN74) -> 1 | AP74: =COUNT(C74,F74,H74,J74,L74,N74,P74,Q74,S74,U74,W74,X74,Z74,AB74,AD74,AF74,AH74,AK74,AM74) -> 1 | AQ74: =COUNT(D74,E74,G74,I74,K74,M74,O74,R74,T74,V74,Y74,AA74,AC74,AE74,AG74,AI74,AJ74,AL74,AN74) -> 0 | AR74: =AVERAGE(C74:AN74) -> 4.5 | AS74: =AVERAGE(C74:U74) -> #DIV/0! | AT74: =AVERAGE(V74:AN74) -> 4.5 | AU74: =MODE(C74:AN74) -> #N/A | AV74: =AVERAGE(C74,F74,H74,J74,L74,N74,P74,Q74,S74,U74,W74,X74,Z74,AB74,AD74,AF74,AH74,AK74,AM74) -> 4.5 | AW74: =AVERAGE(D74,E74,G74,I74,K74,M74,O74,R74,T74,V74,Y74,AA74,AC74,AE74,AG74,AI74,AJ74,AL74,AN74) -> #DIV/0! | AX74: =BC74/AO74 -> 4.5 | AY74: =BH74/AP74 -> 4.5 | AZ74: =BI74/AQ74 -> #DIV/0! | BA74: =SUM(C74:AN74) -> 4.5 | BB74: =SUM('BONUS GAZZETTA 2013 2014'!C74:AN74) -> 0 | BC74: =SUM(BA74:BB74) -> 4.5 | BD74: =SUM(C74,F74,H74,J74,L74,N74,P74,Q74,S74,U74,W74,X74,Z74,AB74,AD74,AF74,AH74,AK74,AM74) -> 4.5 | BE74: =SUM(D74,E74,G74,I74,K74,M74,O74,R74,T74,V74,Y74,AA74,AC74,AE74,AG74,AI74,AJ74,AL74,AN74) -> 0 | BF74: =SUM('BONUS GAZZETTA 2013 2014'!C74,'BONUS GAZZETTA 2013 2014'!F74,'BONUS GAZZETTA 2013 2014'!H74,'BONUS GAZZETTA 2013 2014'!J74,'BONUS GAZZETTA 2013 2014'!L74,'BONUS GAZZETTA 2013 2014'!N74,'BONUS GAZZETTA 2013 2014'!P74,'BONUS GAZZETTA 2013 2014'!Q74,'BONUS GAZZETTA 2013 2014'!S74,'BONUS GAZZETTA 2013 2014'!U74,'BONUS GAZZETTA 2013 2014'!W74,'BONUS GAZZETTA 2013 2014'!X74,'BONUS GAZZETTA 2013 2014'!Z74,'BONUS GAZZETTA 2013 2014'!AB74,'BONUS GAZZETTA 2013 2014'!AD74,'BONUS GAZZETTA 2013 2014'!AF74,'BONUS GAZZETTA 2013 2014'!AH74,'BONUS GAZZETTA 2013 2014'!AK74,'BONUS GAZZETTA 2013 2014'!AM74) -> 0 | BG74: =SUM('BONUS GAZZETTA 2013 2014'!D74,'BONUS GAZZETTA 2013 2014'!E74,'BONUS GAZZETTA 2013 2014'!G74,'BONUS GAZZETTA 2013 2014'!I74,'BONUS GAZZETTA 2013 2014'!K74,'BONUS GAZZETTA 2013 2014'!M74,'BONUS GAZZETTA 2013 2014'!O74,'BONUS GAZZETTA 2013 2014'!R74,'BONUS GAZZETTA 2013 2014'!T74,'BONUS GAZZETTA 2013 2014'!V74,'BONUS GAZZETTA 2013 2014'!Y74,'BONUS GAZZETTA 2013 2014'!AA74,'BONUS GAZZETTA 2013 2014'!AC74,'BONUS GAZZETTA 2013 2014'!AE74,'BONUS GAZZETTA 2013 2014'!AG74,'BONUS GAZZETTA 2013 2014'!AI74,'BONUS GAZZETTA 2013 2014'!AJ74,'BONUS GAZZETTA 2013 2014'!AL74,'BONUS GAZZETTA 2013 2014'!AN74) -> 0 | BH74: =SUM(BF74,BD74) -> 4.5 | BI74: =SUM(BE74,BG74) -> 0
A75: D | B75: PERICO | E75: 6 | F75: 6 | G75: 6 | H75: 5.5 | I75: 5.5 | J75: 6 | K75: 6 | R75: 6 | U75: SV | X75: 6 | Y75: 5 | Z75: 5 | AA75: 5.5 | AC75: SV | AE75: 6 | AJ75: 6 | AK75: 6 | AL75: 5 | AM75: 6.5 | AN75: 5 | AO75: =COUNT(C75:AN75) -> 18 | AP75: =COUNT(C75,F75,H75,J75,L75,N75,P75,Q75,S75,U75,W75,X75,Z75,AB75,AD75,AF75,AH75,AK75,AM75) -> 7 | AQ75: =COUNT(D75,E75,G75,I75,K75,M75,O75,R75,T75,V75,Y75,AA75,AC75,AE75,AG75,AI75,AJ75,AL75,AN75) -> 11 | AR75: =AVERAGE(C75:AN75) -> 5.7222222 | AS75: =AVERAGE(C75:U75) -> 5.875 | AT75: =AVERAGE(V75:AN75) -> 5.6 | AU75: =MODE(C75:AN75) -> 6 | AV75: =AVERAGE(C75,F75,H75,J75,L75,N75,P75,Q75,S75,U75,W75,X75,Z75,AB75,AD75,AF75,AH75,AK75,AM75) -> 5.8571429 | AW75: =AVERAGE(D75,E75,G75,I75,K75,M75,O75,R75,T75,V75,Y75,AA75,AC75,AE75,AG75,AI75,AJ75,AL75,AN75) -> 5.6363636 | AX75: =BC75/AO75 -> 5.6666667 | AY75: =BH75/AP75 -> 5.8571429 | AZ75: =BI75/AQ75 -> 5.5454545 | BA75: =SUM(C75:AN75) -> 103 | BB75: =SUM('BONUS GAZZETTA 2013 2014'!C75:AN75) -> -1 | BC75: =SUM(BA75:BB75) -> 102 | BD75: =SUM(C75,F75,H75,J75,L75,N75,P75,Q75,S75,U75,W75,X75,Z75,AB75,AD75,AF75,AH75,AK75,AM75) -> 41 | BE75: =SUM(D75,E75,G75,I75,K75,M75,O75,R75,T75,V75,Y75,AA75,AC75,AE75,AG75,AI75,AJ75,AL75,AN75) -> 62 | BF75: =SUM('BONUS GAZZETTA 2013 2014'!C75,'BONUS GAZZETTA 2013 2014'!F75,'BONUS GAZZETTA 2013 2014'!H75,'BONUS GAZZETTA 2013 2014'!J75,'BONUS GAZZETTA 2013 2014'!L75,'BONUS GAZZETTA 2013 2014'!N75,'BONUS GAZZETTA 2013 2014'!P75,'BONUS GAZZETTA 2013 2014'!Q75,'BONUS GAZZETTA 2013 2014'!S75,'BONUS GAZZETTA 2013 2014'!U75,'BONUS GAZZETTA 2013 2014'!W75,'BONUS GAZZETTA 2013 2014'!X75,'BONUS GAZZETTA 2013 2014'!Z75,'BONUS GAZZETTA 2013 2014'!AB75,'BONUS GAZZETTA 2013 2014'!AD75,'BONUS GAZZETTA 2013 2014'!AF75,'BONUS GAZZETTA 2013 2014'!AH75,'BONUS GAZZETTA 2013 2014'!AK75,'BONUS GAZZETTA 2013 2014'!AM75) -> 0 | BG75: =SUM('BONUS GAZZETTA 2013 2014'!D75,'BONUS GAZZETTA 2013 2014'!E75,'BONUS GAZZETTA 2013 2014'!G75,'BONUS GAZZETTA 2013 2014'!I75,'BONUS GAZZETTA 2013 2014'!K75,'BONUS GAZZETTA 2013 2014'!M75,'BONUS GAZZETTA 2013 2014'!O75,'BONUS GAZZETTA 2013 2014'!R75,'BONUS GAZZETTA 2013 2014'!T75,'BONUS GAZZETTA 2013 2014'!V75,'BONUS GAZZETTA 2013 2014'!Y75,'BONUS GAZZETTA 2013 2014'!AA75,'BONUS GAZZETTA 2013 2014'!AC75,'BONUS GAZZETTA 2013 2014'!AE75,'BONUS GAZZETTA 2013 2014'!AG75,'BONUS GAZZETTA 2013 2014'!AI75,'BONUS GAZZETTA 2013 2014'!AJ75,'BONUS GAZZETTA 2013 2014'!AL75,'BONUS GAZZETTA 2013 2014'!AN75) -> -1 | BH75: =SUM(BF75,BD75) -> 41 | BI75: =SUM(BE75,BG75) -> 61
A76: D | B76: PISANO | K76: 5 | L76: 5.5 | M76: SV | N76: 6 | O76: 6 | P76: 6 | Q76: 5.5 | R76: 6.5 | S76: 6 | T76: 6 | U76: 6 | V76: 5 | W76: 5 | AB76: 6 | AC76: 6 | AD76: 5 | AF76: 6 | AG76: 6 | AH76: 5.5 | AI76: 5.5 | AJ76: 6 | AK76: 6 | AL76: 5.5 | AO76: =COUNT(C76:AN76) -> 22 | AP76: =COUNT(C76,F76,H76,J76,L76,N76,P76,Q76,S76,U76,W76,X76,Z76,AB76,AD76,AF76,AH76,AK76,AM76) -> 12 | AQ76: =COUNT(D76,E76,G76,I76,K76,M76,O76,R76,T76,V76,Y76,AA76,AC76,AE76,AG76,AI76,AJ76,AL76,AN76) -> 10 | AR76: =AVERAGE(C76:AN76) -> 5.7272727 | AS76: =AVERAGE(C76:U76) -> 5.85 | AT76: =AVERAGE(V76:AN76) -> 5.625 | AU76: =MODE(C76:AN76) -> 6 | AV76: =AVERAGE(C76,F76,H76,J76,L76,N76,P76,Q76,S76,U76,W76,X76,Z76,AB76,AD76,AF76,AH76,AK76,AM76) -> 5.7083333 | AW76: =AVERAGE(D76,E76,G76,I76,K76,M76,O76,R76,T76,V76,Y76,AA76,AC76,AE76,AG76,AI76,AJ76,AL76,AN76) -> 5.75 | AX76: =BC76/AO76 -> 5.6136364 | AY76: =BH76/AP76 -> 5.5833333 | AZ76: =BI76/AQ76 -> 5.65 | BA76: =SUM(C76:AN76) -> 126 | BB76: =SUM('BONUS GAZZETTA 2013 2014'!C76:AN76) -> -2.5 | BC76: =SUM(BA76:BB76) -> 123.5 | BD76: =SUM(C76,F76,H76,J76,L76,N76,P76,Q76,S76,U76,W76,X76,Z76,AB76,AD76,AF76,AH76,AK76,AM76) -> 68.5 | BE76: =SUM(D76,E76,G76,I76,K76,M76,O76,R76,T76,V76,Y76,AA76,AC76,AE76,AG76,AI76,AJ76,AL76,AN76) -> 57.5 | BF76: =SUM('BONUS GAZZETTA 2013 2014'!C76,'BONUS GAZZETTA 2013 2014'!F76,'BONUS GAZZETTA 2013 2014'!H76,'BONUS GAZZETTA 2013 2014'!J76,'BONUS GAZZETTA 2013 2014'!L76,'BONUS GAZZETTA 2013 2014'!N76,'BONUS GAZZETTA 2013 2014'!P76,'BONUS GAZZETTA 2013 2014'!Q76,'BONUS GAZZETTA 2013 2014'!S76,'BONUS GAZZETTA 2013 2014'!U76,'BONUS GAZZETTA 2013 2014'!W76,'BONUS GAZZETTA 2013 2014'!X76,'BONUS GAZZETTA 2013 2014'!Z76,'BONUS GAZZETTA 2013 2014'!AB76,'BONUS GAZZETTA 2013 2014'!AD76,'BONUS GAZZETTA 2013 2014'!AF76,'BONUS GAZZETTA 2013 2014'!AH76,'BONUS GAZZETTA 2013 2014'!AK76,'BONUS GAZZETTA 2013 2014'!AM76) -> -1.5 | BG76: =SUM('BONUS GAZZETTA 2013 2014'!D76,'BONUS GAZZETTA 2013 2014'!E76,'BONUS GAZZETTA 2013 2014'!G76,'BONUS GAZZETTA 2013 2014'!I76,'BONUS GAZZETTA 2013 2014'!K76,'BONUS GAZZETTA 2013 2014'!M76,'BONUS GAZZETTA 2013 2014'!O76,'BONUS GAZZETTA 2013 2014'!R76,'BONUS GAZZETTA 2013 2014'!T76,'BONUS GAZZETTA 2013 2014'!V76,'BONUS GAZZETTA 2013 2014'!Y76,'BONUS GAZZETTA 2013 2014'!AA76,'BONUS GAZZETTA 2013 2014'!AC76,'BONUS GAZZETTA 2013 2014'!AE76,'BONUS GAZZETTA 2013 2014'!AG76,'BONUS GAZZETTA 2013 2014'!AI76,'BONUS GAZZETTA 2013 2014'!AJ76,'BONUS GAZZETTA 2013 2014'!AL76,'BONUS GAZZETTA 2013 2014'!AN76) -> -1 | BH76: =SUM(BF76,BD76) -> 67 | BI76: =SUM(BE76,BG76) -> 56.5
A77: D | B77: ROSSETTINI | C77: 6.5 | D77: 5 | E77: 6 | F77: 5.5 | G77: 6 | H77: 6 | I77: 6 | J77: 6 | K77: 5.5 | L77: 5 | M77: 5 | N77: 5.5 | O77: 6.5 | P77: 5 | Q77: 5.5 | R77: 6 | T77: 6 | U77: 5.5 | V77: 5.5 | W77: 6 | X77: 6.5 | Y77: 6 | Z77: 5.5 | AA77: 6.5 | AB77: 6 | AC77: 6 | AD77: 5.5 | AE77: 5.5 | AF77: 6 | AG77: 5.5 | AI77: 6 | AJ77: 6 | AK77: 6.5 | AL77: 5 | AM77: 6 | AN77: 5 | AO77: =COUNT(C77:AN77) -> 36 | AP77: =COUNT(C77,F77,H77,J77,L77,N77,P77,Q77,S77,U77,W77,X77,Z77,AB77,AD77,AF77,AH77,AK77,AM77) -> 17 | AQ77: =COUNT(D77,E77,G77,I77,K77,M77,O77,R77,T77,V77,Y77,AA77,AC77,AE77,AG77,AI77,AJ77,AL77,AN77) -> 19 | AR77: =AVERAGE(C77:AN77) -> 5.7638889 | AS77: =AVERAGE(C77:U77) -> 5.6944444 | AT77: =AVERAGE(V77:AN77) -> 5.8333333 | AU77: =MODE(C77:AN77) -> 6 | AV77: =AVERAGE(C77,F77,H77,J77,L77,N77,P77,Q77,S77,U77,W77,X77,Z77,AB77,AD77,AF77,AH77,AK77,AM77) -> 5.7941176 | AW77: =AVERAGE(D77,E77,G77,I77,K77,M77,O77,R77,T77,V77,Y77,AA77,AC77,AE77,AG77,AI77,AJ77,AL77,AN77) -> 5.7368421 | AX77: =BC77/AO77 -> 5.6388889 | AY77: =BH77/AP77 -> 5.7058824 | AZ77: =BI77/AQ77 -> 5.5789474 | BA77: =SUM(C77:AN77) -> 207.5 | BB77: =SUM('BONUS GAZZETTA 2013 2014'!C77:AN77) -> -4.5 | BC77: =SUM(BA77:BB77) -> 203 | BD77: =SUM(C77,F77,H77,J77,L77,N77,P77,Q77,S77,U77,W77,X77,Z77,AB77,AD77,AF77,AH77,AK77,AM77) -> 98.5 | BE77: =SUM(D77,E77,G77,I77,K77,M77,O77,R77,T77,V77,Y77,AA77,AC77,AE77,AG77,AI77,AJ77,AL77,AN77) -> 109 | BF77: =SUM('BONUS GAZZETTA 2013 2014'!C77,'BONUS GAZZETTA 2013 2014'!F77,'BONUS GAZZETTA 2013 2014'!H77,'BONUS GAZZETTA 2013 2014'!J77,'BONUS GAZZETTA 2013 2014'!L77,'BONUS GAZZETTA 2013 2014'!N77,'BONUS GAZZETTA 2013 2014'!P77,'BONUS GAZZETTA 2013 2014'!Q77,'BONUS GAZZETTA 2013 2014'!S77,'BONUS GAZZETTA 2013 2014'!U77,'BONUS GAZZETTA 2013 2014'!W77,'BONUS GAZZETTA 2013 2014'!X77,'BONUS GAZZETTA 2013 2014'!Z77,'BONUS GAZZETTA 2013 2014'!AB77,'BONUS GAZZETTA 2013 2014'!AD77,'BONUS GAZZETTA 2013 2014'!AF77,'BONUS GAZZETTA 2013 2014'!AH77,'BONUS GAZZETTA 2013 2014'!AK77,'BONUS GAZZETTA 2013 2014'!AM77) -> -1.5 | BG77: =SUM('BONUS GAZZETTA 2013 2014'!D77,'BONUS GAZZETTA 2013 2014'!E77,'BONUS GAZZETTA 2013 2014'!G77,'BONUS GAZZETTA 2013 2014'!I77,'BONUS GAZZETTA 2013 2014'!K77,'BONUS GAZZETTA 2013 2014'!M77,'BONUS GAZZETTA 2013 2014'!O77,'BONUS GAZZETTA 2013 2014'!R77,'BONUS GAZZETTA 2013 2014'!T77,'BONUS GAZZETTA 2013 2014'!V77,'BONUS GAZZETTA 2013 2014'!Y77,'BONUS GAZZETTA 2013 2014'!AA77,'BONUS GAZZETTA 2013 2014'!AC77,'BONUS GAZZETTA 2013 2014'!AE77,'BONUS GAZZETTA 2013 2014'!AG77,'BONUS GAZZETTA 2013 2014'!AI77,'BONUS GAZZETTA 2013 2014'!AJ77,'BONUS GAZZETTA 2013 2014'!AL77,'BONUS GAZZETTA 2013 2014'!AN77) -> -3 | BH77: =SUM(BF77,BD77) -> 97 | BI77: =SUM(BE77,BG77) -> 106
A78: C | B78: ADRYAN | X78: SV | Y78: 6 | Z78: 5.5 | AA78: 6 | AB78: 5 | AO78: =COUNT(C78:AN78) -> 4 | AP78: =COUNT(C78,F78,H78,J78,L78,N78,P78,Q78,S78,U78,W78,X78,Z78,AB78,AD78,AF78,AH78,AK78,AM78) -> 2 | AQ78: =COUNT(D78,E78,G78,I78,K78,M78,O78,R78,T78,V78,Y78,AA78,AC78,AE78,AG78,AI78,AJ78,AL78,AN78) -> 2 | AR78: =AVERAGE(C78:AN78) -> 5.625 | AS78: =AVERAGE(C78:U78) -> #DIV/0! | AT78: =AVERAGE(V78:AN78) -> 5.625 | AU78: =MODE(C78:AN78) -> 6 | AV78: =AVERAGE(C78,F78,H78,J78,L78,N78,P78,Q78,S78,U78,W78,X78,Z78,AB78,AD78,AF78,AH78,AK78,AM78) -> 5.25 | AW78: =AVERAGE(D78,E78,G78,I78,K78,M78,O78,R78,T78,V78,Y78,AA78,AC78,AE78,AG78,AI78,AJ78,AL78,AN78) -> 6 | AX78: =BC78/AO78 -> 5.625 | AY78: =BH78/AP78 -> 5.25 | AZ78: =BI78/AQ78 -> 6 | BA78: =SUM(C78:AN78) -> 22.5 | BB78: =SUM('BONUS GAZZETTA 2013 2014'!C78:AN78) -> 0 | BC78: =SUM(BA78:BB78) -> 22.5 | BD78: =SUM(C78,F78,H78,J78,L78,N78,P78,Q78,S78,U78,W78,X78,Z78,AB78,AD78,AF78,AH78,AK78,AM78) -> 10.5 | BE78: =SUM(D78,E78,G78,I78,K78,M78,O78,R78,T78,V78,Y78,AA78,AC78,AE78,AG78,AI78,AJ78,AL78,AN78) -> 12 | BF78: =SUM('BONUS GAZZETTA 2013 2014'!C78,'BONUS GAZZETTA 2013 2014'!F78,'BONUS GAZZETTA 2013 2014'!H78,'BONUS GAZZETTA 2013 2014'!J78,'BONUS GAZZETTA 2013 2014'!L78,'BONUS GAZZETTA 2013 2014'!N78,'BONUS GAZZETTA 2013 2014'!P78,'BONUS GAZZETTA 2013 2014'!Q78,'BONUS GAZZETTA 2013 2014'!S78,'BONUS GAZZETTA 2013 2014'!U78,'BONUS GAZZETTA 2013 2014'!W78,'BONUS GAZZETTA 2013 2014'!X78,'BONUS GAZZETTA 2013 2014'!Z78,'BONUS GAZZETTA 2013 2014'!AB78,'BONUS GAZZETTA 2013 2014'!AD78,'BONUS GAZZETTA 2013 2014'!AF78,'BONUS GAZZETTA 2013 2014'!AH78,'BONUS GAZZETTA 2013 2014'!AK78,'BONUS GAZZETTA 2013 2014'!AM78) -> 0 | BG78: =SUM('BONUS GAZZETTA 2013 2014'!D78,'BONUS GAZZETTA 2013 2014'!E78,'BONUS GAZZETTA 2013 2014'!G78,'BONUS GAZZETTA 2013 2014'!I78,'BONUS GAZZETTA 2013 2014'!K78,'BONUS GAZZETTA 2013 2014'!M78,'BONUS GAZZETTA 2013 2014'!O78,'BONUS GAZZETTA 2013 2014'!R78,'BONUS GAZZETTA 2013 2014'!T78,'BONUS GAZZETTA 2013 2014'!V78,'BONUS GAZZETTA 2013 2014'!Y78,'BONUS GAZZETTA 2013 2014'!AA78,'BONUS GAZZETTA 2013 2014'!AC78,'BONUS GAZZETTA 2013 2014'!AE78,'BONUS GAZZETTA 2013 2014'!AG78,'BONUS GAZZETTA 2013 2014'!AI78,'BONUS GAZZETTA 2013 2014'!AJ78,'BONUS GAZZETTA 2013 2014'!AL78,'BONUS GAZZETTA 2013 2014'!AN78) -> 0 | BH78: =SUM(BF78,BD78) -> 10.5 | BI78: =SUM(BE78,BG78) -> 12
A79: C | B79: CABRERA | C79: 7 | D79: 5 | E79: 6 | G79: 6 | H79: 5.5 | I79: 5.5 | J79: 5.5 | K79: 5 | M79: 5 | N79: SV | O79: SV | T79: 5.5 | U79: 5.5 | V79: SV | W79: 4.5 | X79: 6 | Y79: 5.5 | AF79: 6 | AG79: 5 | AO79: =COUNT(C79:AN79) -> 16 | AP79: =COUNT(C79,F79,H79,J79,L79,N79,P79,Q79,S79,U79,W79,X79,Z79,AB79,AD79,AF79,AH79,AK79,AM79) -> 7 | AQ79: =COUNT(D79,E79,G79,I79,K79,M79,O79,R79,T79,V79,Y79,AA79,AC79,AE79,AG79,AI79,AJ79,AL79,AN79) -> 9 | AR79: =AVERAGE(C79:AN79) -> 5.53125 | AS79: =AVERAGE(C79:U79) -> 5.5909091 | AT79: =AVERAGE(V79:AN79) -> 5.4 | AU79: =MODE(C79:AN79) -> 5.5 | AV79: =AVERAGE(C79,F79,H79,J79,L79,N79,P79,Q79,S79,U79,W79,X79,Z79,AB79,AD79,AF79,AH79,AK79,AM79) -> 5.7142857 | AW79: =AVERAGE(D79,E79,G79,I79,K79,M79,O79,R79,T79,V79,Y79,AA79,AC79,AE79,AG79,AI79,AJ79,AL79,AN79) -> 5.3888889 | AX79: =BC79/AO79 -> 5.65625 | AY79: =BH79/AP79 -> 6 | AZ79: =BI79/AQ79 -> 5.3888889 | BA79: =SUM(C79:AN79) -> 88.5 | BB79: =SUM('BONUS GAZZETTA 2013 2014'!C79:AN79) -> 2 | BC79: =SUM(BA79:BB79) -> 90.5 | BD79: =SUM(C79,F79,H79,J79,L79,N79,P79,Q79,S79,U79,W79,X79,Z79,AB79,AD79,AF79,AH79,AK79,AM79) -> 40 | BE79: =SUM(D79,E79,G79,I79,K79,M79,O79,R79,T79,V79,Y79,AA79,AC79,AE79,AG79,AI79,AJ79,AL79,AN79) -> 48.5 | BF79: =SUM('BONUS GAZZETTA 2013 2014'!C79,'BONUS GAZZETTA 2013 2014'!F79,'BONUS GAZZETTA 2013 2014'!H79,'BONUS GAZZETTA 2013 2014'!J79,'BONUS GAZZETTA 2013 2014'!L79,'BONUS GAZZETTA 2013 2014'!N79,'BONUS GAZZETTA 2013 2014'!P79,'BONUS GAZZETTA 2013 2014'!Q79,'BONUS GAZZETTA 2013 2014'!S79,'BONUS GAZZETTA 2013 2014'!U79,'BONUS GAZZETTA 2013 2014'!W79,'BONUS GAZZETTA 2013 2014'!X79,'BONUS GAZZETTA 2013 2014'!Z79,'BONUS GAZZETTA 2013 2014'!AB79,'BONUS GAZZETTA 2013 2014'!AD79,'BONUS GAZZETTA 2013 2014'!AF79,'BONUS GAZZETTA 2013 2014'!AH79,'BONUS GAZZETTA 2013 2014'!AK79,'BONUS GAZZETTA 2013 2014'!AM79) -> 2 | BG79: =SUM('BONUS GAZZETTA 2013 2014'!D79,'BONUS GAZZETTA 2013 2014'!E79,'BONUS GAZZETTA 2013 2014'!G79,'BONUS GAZZETTA 2013 2014'!I79,'BONUS GAZZETTA 2013 2014'!K79,'BONUS GAZZETTA 2013 2014'!M79,'BONUS GAZZETTA 2013 2014'!O79,'BONUS GAZZETTA 2013 2014'!R79,'BONUS GAZZETTA 2013 2014'!T79,'BONUS GAZZETTA 2013 2014'!V79,'BONUS GAZZETTA 2013 2014'!Y79,'BONUS GAZZETTA 2013 2014'!AA79,'BONUS GAZZETTA 2013 2014'!AC79,'BONUS GAZZETTA 2013 2014'!AE79,'BONUS GAZZETTA 2013 2014'!AG79,'BONUS GAZZETTA 2013 2014'!AI79,'BONUS GAZZETTA 2013 2014'!AJ79,'BONUS GAZZETTA 2013 2014'!AL79,'BONUS GAZZETTA 2013 2014'!AN79) -> 0 | BH79: =SUM(BF79,BD79) -> 42 | BI79: =SUM(BE79,BG79) -> 48.5
A80: C | B80: CONTI | C80: 6.5 | D80: 6 | E80: 6 | F80: 7 | G80: 5.5 | H80: 6 | J80: 6.5 | K80: 6 | L80: 5.5 | M80: 6 | N80: 7.5 | O80: 6 | P80: 5.5 | Q80: 6.5 | S80: 6 | T80: 5.5 | U80: 6 | V80: 6.5 | W80: 6 | X80: 6.5 | Y80: 6 | Z80: 4.5 | AC80: 6.5 | AD80: 4.5 | AG80: 6 | AH80: 5.5 | AI80: 6.5 | AJ80: 6 | AK80: 6 | AL80: 5 | AN80: 5 | AO80: =COUNT(C80:AN80) -> 31 | AP80: =COUNT(C80,F80,H80,J80,L80,N80,P80,Q80,S80,U80,W80,X80,Z80,AB80,AD80,AF80,AH80,AK80,AM80) -> 16 | AQ80: =COUNT(D80,E80,G80,I80,K80,M80,O80,R80,T80,V80,Y80,AA80,AC80,AE80,AG80,AI80,AJ80,AL80,AN80) -> 15 | AR80: =AVERAGE(C80:AN80) -> 5.9516129 | AS80: =AVERAGE(C80:U80) -> 6.1176471 | AT80: =AVERAGE(V80:AN80) -> 5.75 | AU80: =MODE(C80:AN80) -> 6 | AV80: =AVERAGE(C80,F80,H80,J80,L80,N80,P80,Q80,S80,U80,W80,X80,Z80,AB80,AD80,AF80,AH80,AK80,AM80) -> 6 | AW80: =AVERAGE(D80,E80,G80,I80,K80,M80,O80,R80,T80,V80,Y80,AA80,AC80,AE80,AG80,AI80,AJ80,AL80,AN80) -> 5.9 | AX80: =BC80/AO80 -> 6.0806452 | AY80: =BH80/AP80 -> 6.25 | AZ80: =BI80/AQ80 -> 5.9 | BA80: =SUM(C80:AN80) -> 184.5 | BB80: =SUM('BONUS GAZZETTA 2013 2014'!C80:AN80) -> 4 | BC80: =SUM(BA80:BB80) -> 188.5 | BD80: =SUM(C80,F80,H80,J80,L80,N80,P80,Q80,S80,U80,W80,X80,Z80,AB80,AD80,AF80,AH80,AK80,AM80) -> 96 | BE80: =SUM(D80,E80,G80,I80,K80,M80,O80,R80,T80,V80,Y80,AA80,AC80,AE80,AG80,AI80,AJ80,AL80,AN80) -> 88.5 | BF80: =SUM('BONUS GAZZETTA 2013 2014'!C80,'BONUS GAZZETTA 2013 2014'!F80,'BONUS GAZZETTA 2013 2014'!H80,'BONUS GAZZETTA 2013 2014'!J80,'BONUS GAZZETTA 2013 2014'!L80,'BONUS GAZZETTA 2013 2014'!N80,'BONUS GAZZETTA 2013 2014'!P80,'BONUS GAZZETTA 2013 2014'!Q80,'BONUS GAZZETTA 2013 2014'!S80,'BONUS GAZZETTA 2013 2014'!U80,'BONUS GAZZETTA 2013 2014'!W80,'BONUS GAZZETTA 2013 2014'!X80,'BONUS GAZZETTA 2013 2014'!Z80,'BONUS GAZZETTA 2013 2014'!AB80,'BONUS GAZZETTA 2013 2014'!AD80,'BONUS GAZZETTA 2013 2014'!AF80,'BONUS GAZZETTA 2013 2014'!AH80,'BONUS GAZZETTA 2013 2014'!AK80,'BONUS GAZZETTA 2013 2014'!AM80) -> 4 | BG80: =SUM('BONUS GAZZETTA 2013 2014'!D80,'BONUS GAZZETTA 2013 2014'!E80,'BONUS GAZZETTA 2013 2014'!G80,'BONUS GAZZETTA 2013 2014'!I80,'BONUS GAZZETTA 2013 2014'!K80,'BONUS GAZZETTA 2013 2014'!M80,'BONUS GAZZETTA 2013 2014'!O80,'BONUS GAZZETTA 2013 2014'!R80,'BONUS GAZZETTA 2013 2014'!T80,'BONUS GAZZETTA 2013 2014'!V80,'BONUS GAZZETTA 2013 2014'!Y80,'BONUS GAZZETTA 2013 2014'!AA80,'BONUS GAZZETTA 2013 2014'!AC80,'BONUS GAZZETTA 2013 2014'!AE80,'BONUS GAZZETTA 2013 2014'!AG80,'BONUS GAZZETTA 2013 2014'!AI80,'BONUS GAZZETTA 2013 2014'!AJ80,'BONUS GAZZETTA 2013 2014'!AL80,'BONUS GAZZETTA 2013 2014'!AN80) -> 0 | BH80: =SUM(BF80,BD80) -> 100 | BI80: =SUM(BE80,BG80) -> 88.5
A81: C | B81: COSSU | E81: 6 | F81: 6 | J81: 6 | K81: 5.5 | L81: 5.5 | N81: 5.5 | O81: 6 | P81: 5.5 | Q81: 6 | R81: 6 | S81: 6.5 | T81: 5.5 | U81: 6.5 | V81: 6.5 | W81: 6.5 | Y81: 6.5 | Z81: 6 | AA81: 6 | AB81: 6 | AC81: 6 | AD81: 5 | AE81: 5.5 | AF81: 6 | AG81: SV | AH81: 5 | AI81: SV | AK81: SV | AM81: 7 | AN81: 6 | AO81: =COUNT(C81:AN81) -> 26 | AP81: =COUNT(C81,F81,H81,J81,L81,N81,P81,Q81,S81,U81,W81,X81,Z81,AB81,AD81,AF81,AH81,AK81,AM81) -> 15 | AQ81: =COUNT(D81,E81,G81,I81,K81,M81,O81,R81,T81,V81,Y81,AA81,AC81,AE81,AG81,AI81,AJ81,AL81,AN81) -> 11 | AR81: =AVERAGE(C81:AN81) -> 5.9423077 | AS81: =AVERAGE(C81:U81) -> 5.8846154 | AT81: =AVERAGE(V81:AN81) -> 6 | AU81: =MODE(C81:AN81) -> 6 | AV81: =AVERAGE(C81,F81,H81,J81,L81,N81,P81,Q81,S81,U81,W81,X81,Z81,AB81,AD81,AF81,AH81,AK81,AM81) -> 5.9333333 | AW81: =AVERAGE(D81,E81,G81,I81,K81,M81,O81,R81,T81,V81,Y81,AA81,AC81,AE81,AG81,AI81,AJ81,AL81,AN81) -> 5.9545455 | AX81: =BC81/AO81 -> 5.8269231 | AY81: =BH81/AP81 -> 5.7666667 | AZ81: =BI81/AQ81 -> 5.9090909 | BA81: =SUM(C81:AN81) -> 154.5 | BB81: =SUM('BONUS GAZZETTA 2013 2014'!C81:AN81) -> -3 | BC81: =SUM(BA81:BB81) -> 151.5 | BD81: =SUM(C81,F81,H81,J81,L81,N81,P81,Q81,S81,U81,W81,X81,Z81,AB81,AD81,AF81,AH81,AK81,AM81) -> 89 | BE81: =SUM(D81,E81,G81,I81,K81,M81,O81,R81,T81,V81,Y81,AA81,AC81,AE81,AG81,AI81,AJ81,AL81,AN81) -> 65.5 | BF81: =SUM('BONUS GAZZETTA 2013 2014'!C81,'BONUS GAZZETTA 2013 2014'!F81,'BONUS GAZZETTA 2013 2014'!H81,'BONUS GAZZETTA 2013 2014'!J81,'BONUS GAZZETTA 2013 2014'!L81,'BONUS GAZZETTA 2013 2014'!N81,'BONUS GAZZETTA 2013 2014'!P81,'BONUS GAZZETTA 2013 2014'!Q81,'BONUS GAZZETTA 2013 2014'!S81,'BONUS GAZZETTA 2013 2014'!U81,'BONUS GAZZETTA 2013 2014'!W81,'BONUS GAZZETTA 2013 2014'!X81,'BONUS GAZZETTA 2013 2014'!Z81,'BONUS GAZZETTA 2013 2014'!AB81,'BONUS GAZZETTA 2013 2014'!AD81,'BONUS GAZZETTA 2013 2014'!AF81,'BONUS GAZZETTA 2013 2014'!AH81,'BONUS GAZZETTA 2013 2014'!AK81,'BONUS GAZZETTA 2013 2014'!AM81) -> -2.5 | BG81: =SUM('BONUS GAZZETTA 2013 2014'!D81,'BONUS GAZZETTA 2013 2014'!E81,'BONUS GAZZETTA 2013 2014'!G81,'BONUS GAZZETTA 2013 2014'!I81,'BONUS GAZZETTA 2013 2014'!K81,'BONUS GAZZETTA 2013 2014'!M81,'BONUS GAZZETTA 2013 2014'!O81,'BONUS GAZZETTA 2013 2014'!R81,'BONUS GAZZETTA 2013 2014'!T81,'BONUS GAZZETTA 2013 2014'!V81,'BONUS GAZZETTA 2013 2014'!Y81,'BONUS GAZZETTA 2013 2014'!AA81,'BONUS GAZZETTA 2013 2014'!AC81,'BONUS GAZZETTA 2013 2014'!AE81,'BONUS GAZZETTA 2013 2014'!AG81,'BONUS GAZZETTA 2013 2014'!AI81,'BONUS GAZZETTA 2013 2014'!AJ81,'BONUS GAZZETTA 2013 2014'!AL81,'BONUS GAZZETTA 2013 2014'!AN81) -> -0.5 | BH81: =SUM(BF81,BD81) -> 86.5 | BI81: =SUM(BE81,BG81) -> 65
A82: C | B82: DESSENA | C82: 6 | D82: 5 | E82: 5.5 | G82: 6.5 | H82: 6 | I82: 6 | K82: 5.5 | L82: 5 | M82: 5.5 | N82: 5.5 | O82: 6 | P82: 5.5 | Q82: 5 | R82: 6.5 | S82: 5.5 | T82: 6 | U82: 6.5 | V82: 6.5 | W82: 6 | X82: 6 | Z82: 4.5 | AA82: 6 | AB82: 6.5 | AC82: 6 | AD82: 5 | AE82: 5 | AH82: 5 | AI82: 6.5 | AJ82: 6 | AK82: 6 | AL82: 5.5 | AM82: 6 | AN82: 5 | AO82: =COUNT(C82:AN82) -> 33 | AP82: =COUNT(C82,F82,H82,J82,L82,N82,P82,Q82,S82,U82,W82,X82,Z82,AB82,AD82,AF82,AH82,AK82,AM82) -> 16 | AQ82: =COUNT(D82,E82,G82,I82,K82,M82,O82,R82,T82,V82,Y82,AA82,AC82,AE82,AG82,AI82,AJ82,AL82,AN82) -> 17 | AR82: =AVERAGE(C82:AN82) -> 5.7272727 | AS82: =AVERAGE(C82:U82) -> 5.7352941 | AT82: =AVERAGE(V82:AN82) -> 5.71875 | AU82: =MODE(C82:AN82) -> 6 | AV82: =AVERAGE(C82,F82,H82,J82,L82,N82,P82,Q82,S82,U82,W82,X82,Z82,AB82,AD82,AF82,AH82,AK82,AM82) -> 5.625 | AW82: =AVERAGE(D82,E82,G82,I82,K82,M82,O82,R82,T82,V82,Y82,AA82,AC82,AE82,AG82,AI82,AJ82,AL82,AN82) -> 5.8235294 | AX82: =BC82/AO82 -> 5.5909091 | AY82: =BH82/AP82 -> 5.5625 | AZ82: =BI82/AQ82 -> 5.6176471 | BA82: =SUM(C82:AN82) -> 189 | BB82: =SUM('BONUS GAZZETTA 2013 2014'!C82:AN82) -> -4.5 | BC82: =SUM(BA82:BB82) -> 184.5 | BD82: =SUM(C82,F82,H82,J82,L82,N82,P82,Q82,S82,U82,W82,X82,Z82,AB82,AD82,AF82,AH82,AK82,AM82) -> 90 | BE82: =SUM(D82,E82,G82,I82,K82,M82,O82,R82,T82,V82,Y82,AA82,AC82,AE82,AG82,AI82,AJ82,AL82,AN82) -> 99 | BF82: =SUM('BONUS GAZZETTA 2013 2014'!C82,'BONUS GAZZETTA 2013 2014'!F82,'BONUS GAZZETTA 2013 2014'!H82,'BONUS GAZZETTA 2013 2014'!J82,'BONUS GAZZETTA 2013 2014'!L82,'BONUS GAZZETTA 2013 2014'!N82,'BONUS GAZZETTA 2013 2014'!P82,'BONUS GAZZETTA 2013 2014'!Q82,'BONUS GAZZETTA 2013 2014'!S82,'BONUS GAZZETTA 2013 2014'!U82,'BONUS GAZZETTA 2013 2014'!W82,'BONUS GAZZETTA 2013 2014'!X82,'BONUS GAZZETTA 2013 2014'!Z82,'BONUS GAZZETTA 2013 2014'!AB82,'BONUS GAZZETTA 2013 2014'!AD82,'BONUS GAZZETTA 2013 2014'!AF82,'BONUS GAZZETTA 2013 2014'!AH82,'BONUS GAZZETTA 2013 2014'!AK82,'BONUS GAZZETTA 2013 2014'!AM82) -> -1 | BG82: =SUM('BONUS GAZZETTA 2013 2014'!D82,'BONUS GAZZETTA 2013 2014'!E82,'BONUS GAZZETTA 2013 2014'!G82,'BONUS GAZZETTA 2013 2014'!I82,'BONUS GAZZETTA 2013 2014'!K82,'BONUS GAZZETTA 2013 2014'!M82,'BONUS GAZZETTA 2013 2014'!O82,'BONUS GAZZETTA 2013 2014'!R82,'BONUS GAZZETTA 2013 2014'!T82,'BONUS GAZZETTA 2013 2014'!V82,'BONUS GAZZETTA 2013 2014'!Y82,'BONUS GAZZETTA 2013 2014'!AA82,'BONUS GAZZETTA 2013 2014'!AC82,'BONUS GAZZETTA 2013 2014'!AE82,'BONUS GAZZETTA 2013 2014'!AG82,'BONUS GAZZETTA 2013 2014'!AI82,'BONUS GAZZETTA 2013 2014'!AJ82,'BONUS GAZZETTA 2013 2014'!AL82,'BONUS GAZZETTA 2013 2014'!AN82) -> -3.5 | BH82: =SUM(BF82,BD82) -> 89 | BI82: =SUM(BE82,BG82) -> 95.5
A83: C | B83: EKDAL | C83: 5 | D83: 6 | E83: SV | F83: 7 | G83: 6 | Q83: 6 | R83: 6 | S83: 6 | T83: 6 | U83: 5.5 | V83: 6 | W83: 5.5 | X83: 6 | Y83: 6 | Z83: 5 | AA83: 7 | AC83: 6 | AD83: 5 | AE83: 6 | AF83: 7 | AG83: 6 | AH83: 6 | AO83: =COUNT(C83:AN83) -> 21 | AP83: =COUNT(C83,F83,H83,J83,L83,N83,P83,Q83,S83,U83,W83,X83,Z83,AB83,AD83,AF83,AH83,AK83,AM83) -> 11 | AQ83: =COUNT(D83,E83,G83,I83,K83,M83,O83,R83,T83,V83,Y83,AA83,AC83,AE83,AG83,AI83,AJ83,AL83,AN83) -> 10 | AR83: =AVERAGE(C83:AN83) -> 5.952381 | AS83: =AVERAGE(C83:U83) -> 5.9444444 | AT83: =AVERAGE(V83:AN83) -> 5.9583333 | AU83: =MODE(C83:AN83) -> 6 | AV83: =AVERAGE(C83,F83,H83,J83,L83,N83,P83,Q83,S83,U83,W83,X83,Z83,AB83,AD83,AF83,AH83,AK83,AM83) -> 5.8181818 | AW83: =AVERAGE(D83,E83,G83,I83,K83,M83,O83,R83,T83,V83,Y83,AA83,AC83,AE83,AG83,AI83,AJ83,AL83,AN83) -> 6.1 | AX83: =BC83/AO83 -> 5.9285714 | AY83: =BH83/AP83 -> 5.9545455 | AZ83: =BI83/AQ83 -> 5.9 | BA83: =SUM(C83:AN83) -> 125 | BB83: =SUM('BONUS GAZZETTA 2013 2014'!C83:AN83) -> -0.5 | BC83: =SUM(BA83:BB83) -> 124.5 | BD83: =SUM(C83,F83,H83,J83,L83,N83,P83,Q83,S83,U83,W83,X83,Z83,AB83,AD83,AF83,AH83,AK83,AM83) -> 64 | BE83: =SUM(D83,E83,G83,I83,K83,M83,O83,R83,T83,V83,Y83,AA83,AC83,AE83,AG83,AI83,AJ83,AL83,AN83) -> 61 | BF83: =SUM('BONUS GAZZETTA 2013 2014'!C83,'BONUS GAZZETTA 2013 2014'!F83,'BONUS GAZZETTA 2013 2014'!H83,'BONUS GAZZETTA 2013 2014'!J83,'BONUS GAZZETTA 2013 2014'!L83,'BONUS GAZZETTA 2013 2014'!N83,'BONUS GAZZETTA 2013 2014'!P83,'BONUS GAZZETTA 2013 2014'!Q83,'BONUS GAZZETTA 2013 2014'!S83,'BONUS GAZZETTA 2013 2014'!U83,'BONUS GAZZETTA 2013 2014'!W83,'BONUS GAZZETTA 2013 2014'!X83,'BONUS GAZZETTA 2013 2014'!Z83,'BONUS GAZZETTA 2013 2014'!AB83,'BONUS GAZZETTA 2013 2014'!AD83,'BONUS GAZZETTA 2013 2014'!AF83,'BONUS GAZZETTA 2013 2014'!AH83,'BONUS GAZZETTA 2013 2014'!AK83,'BONUS GAZZETTA 2013 2014'!AM83) -> 1.5 | BG83: =SUM('BONUS GAZZETTA 2013 2014'!D83,'BONUS GAZZETTA 2013 2014'!E83,'BONUS GAZZETTA 2013 2014'!G83,'BONUS GAZZETTA 2013 2014'!I83,'BONUS GAZZETTA 2013 2014'!K83,'BONUS GAZZETTA 2013 2014'!M83,'BONUS GAZZETTA 2013 2014'!O83,'BONUS GAZZETTA 2013 2014'!R83,'BONUS GAZZETTA 2013 2014'!T83,'BONUS GAZZETTA 2013 2014'!V83,'BONUS GAZZETTA 2013 2014'!Y83,'BONUS GAZZETTA 2013 2014'!AA83,'BONUS GAZZETTA 2013 2014'!AC83,'BONUS GAZZETTA 2013 2014'!AE83,'BONUS GAZZETTA 2013 2014'!AG83,'BONUS GAZZETTA 2013 2014'!AI83,'BONUS GAZZETTA 2013 2014'!AJ83,'BONUS GAZZETTA 2013 2014'!AL83,'BONUS GAZZETTA 2013 2014'!AN83) -> -2 | BH83: =SUM(BF83,BD83) -> 65.5 | BI83: =SUM(BE83,BG83) -> 59
