Workbook

Sheet VOTI GAZZETTA SPORT 2013 2014
A1: RUOLO | B1: CALCIATORE | C1: 1à | D1: 2à | E1: 3à | F1: 4à | G1: 5à | H1: 6à | I1: 7à | J1: 8à | K1: 9à | L1: 10à | M1: 11à | N1: 12à | O1: 13à | P1: 14à | Q1: 15à | R1: 16à | S1: 17à | T1: 18à | U1: 19à | V1: 20à | W1: 21à | X1: 22à | Y1: 23à | Z1: 24à | AA1: 25à | AB1: 26à | AC1: 27à | AD1: 28à | AE1: 29à | AF1: 30à | AG1: 31à | AH1: 32à | AI1: 33à | AJ1: 34à | AK1: 35à | AL1: 36à | AM1: 37à | AN1: 38à | AO1: PRESENZE | AP1: PRESENZE IN CASA | AQ1: PRESENZE FUORI CASA | AR1: MEDIA VOTO | AS1: MEDIA VOTO ANDATA | AT1: MEDIA VOTO RITORNO | AU1: MODA | AV1: MEDIA VOTO CASA | AW1: MEDIA VOTO FUORI CASA | AX1: FANTAMEDIA | AY1: FANTAMEDIA CASA | AZ1: FANTAMEDIA FUORI CASA | BA1: Somma Voti | BB1: Somma Bonus\Malus | BC1: Somma Voti e Bonus\Malus | BD1: Somma Voti Casa | BE1: Somma Voti Fuori Casa | BF1: Somma Bonus\Malus Casa | BG1: Somma Bonus\Malus Fuori Casa | BH1: Somma Voti Bonus\Malus Casa | BI1: Somma Voti Bonus\Malus Fuori Casa
A2: ATALANTA
A3: P | B3: CONSIGLI | C3: 6.5 | D3: 7 | E3: 6 | F3: 5.5 | G3: 6 | H3: 6 | I3: 6.5 | J3: 6 | K3: 6 | L3: 6.5 | M3: 5.5 | N3: 6 | O3: 6 | P3: 7 | Q3: 6.5 | R3: 6.5 | S3: 6 | T3: 6 | W3: 6.5 | X3: 6.5 | Y3: 6.5 | Z3: 5.5 | AA3: 6 | AB3: 6.5 | AC3: 6.5 | AD3: 7 | AE3: 6.5 | AF3: 6 | AG3: 6.5 | AH3: 5.5 | AI3: 6 | AJ3: 7 | AK3: 6 | AL3: 6.5 | AM3: 5.5 | AO3: =COUNT(C3:AN3) -> 35 | AP3: =COUNT(D3,F3,H3,J3,L3,N3,P3,S3,U3,V3,X3,Z3,AB3,AD3,AF3,AH3,AJ3,AK3,AM3) -> 17 | AQ3: =COUNT(C3,E3,G3,I3,K3,M3,O3,Q3,R3,T3,W3,Y3,AA3,AC3,AE3,AG3,AI3,AL3,AN3) -> 18 | AR3: =AVERAGE(C3:AN3) -> 6.2285714 | AS3: =AVERAGE(C3:U3) -> 6.1944444 | AT3: =AVERAGE(V3:AN3) -> 6.2647059 | AU3: =MODE(C3:AN3) -> 6.5 | AV3: =AVERAGE(D3,F3,H3,J3,L3,N3,P3,S3,U3,V3,X3,Z3,AB3,AD3,AF3,AH3,AJ3,AK3,AM3) -> 6.2058824 | AW3: =AVERAGE(C3,E3,G3,I3,K3,M3,O3,Q3,R3,T3,W3,Y3,AA3,AC3,AE3,AG3,AI3,AL3,AN3) -> 6.25 | AX3: =BC3/AO3 -> 4.8857143 | AY3: =BH3/AP3 -> 4.9411765 | AZ3: =BI3/AQ3 -> 4.8333333 | BA3: =SUM(C3:AN3) -> 218 | BB3: =SUM('BONUS GAZZETTA 2013 2014'!C3:AN3) -> -47 | BC3: =SUM(BA3:BB3) -> 171 | BD3: =SUM(D3,F3,H3,J3,L3,N3,P3,S3,U3,V3,X3,Z3,AB3,AD3,AF3,AH3,AJ3,AK3,AM3) -> 105.5 | BE3: =SUM(C3,E3,G3,I3,K3,M3,O3,Q3,R3,T3,W3,Y3,AA3,AC3,AE3,AG3,AI3,AL3,AN3) -> 112.5 | BF3: =SUM('BONUS GAZZETTA 2013 2014'!D3,'BONUS GAZZETTA 2013 2014'!F3,'BONUS GAZZETTA 2013 2014'!H3,'BONUS GAZZETTA 2013 2014'!J3,'BONUS GAZZETTA 2013 2014'!L3,'BONUS GAZZETTA 2013 2014'!N3,'BONUS GAZZETTA 2013 2014'!P3,'BONUS GAZZETTA 2013 2014'!S3,'BONUS GAZZETTA 2013 2014'!U3,'BONUS GAZZETTA 2013 2014'!V3,'BONUS GAZZETTA 2013 2014'!X3,'BONUS GAZZETTA 2013 2014'!Z3,'BONUS GAZZETTA 2013 2014'!AB3,'BONUS GAZZETTA 2013 2014'!AD3,'BONUS GAZZETTA 2013 2014'!AF3,'BONUS GAZZETTA 2013 2014'!AH3,'BONUS GAZZETTA 2013 2014'!AJ3,'BONUS GAZZETTA 2013 2014'!AK3,'BONUS GAZZETTA 2013 2014'!AM3) -> -21.5 | BG3: =SUM('BONUS GAZZETTA 2013 2014'!C3,'BONUS GAZZETTA 2013 2014'!E3,'BONUS GAZZETTA 2013 2014'!G3,'BONUS GAZZETTA 2013 2014'!I3,'BONUS GAZZETTA 2013 2014'!K3,'BONUS GAZZETTA 2013 2014'!M3,'BONUS GAZZETTA 2013 2014'!O3,'BONUS GAZZETTA 2013 2014'!Q3,'BONUS GAZZETTA 2013 2014'!R3,'BONUS GAZZETTA 2013 2014'!T3,'BONUS GAZZETTA 2013 2014'!W3,'BONUS GAZZETTA 2013 2014'!Y3,'BONUS GAZZETTA 2013 2014'!AA3,'BONUS GAZZETTA 2013 2014'!AC3,'BONUS GAZZETTA 2013 2014'!AE3,'BONUS GAZZETTA 2013 2014'!AG3,'BONUS GAZZETTA 2013 2014'!AI3,'BONUS GAZZETTA 2013 2014'!AL3,'BONUS GAZZETTA 2013 2014'!AN3) -> -25.5 | BH3: =SUM(BD3,BF3) -> 84 | BI3: =SUM(BE3,BG3) -> 87
A4: P | B4: SPORTIELLO | U4: 7 | V4: 6 | AN4: 6 | AO4: =COUNT(C4:AN4) -> 3 | AP4: =COUNT(D4,F4,H4,J4,L4,N4,P4,S4,U4,V4,X4,Z4,AB4,AD4,AF4,AH4,AJ4,AK4,AM4) -> 2 | AQ4: =COUNT(C4,E4,G4,I4,K4,M4,O4,Q4,R4,T4,W4,Y4,AA4,AC4,AE4,AG4,AI4,AL4,AN4) -> 1 | AR4: =AVERAGE(C4:AN4) -> 6.3333333 | AS4: =AVERAGE(C4:U4) -> 7 | AT4: =AVERAGE(V4:AN4) -> 6 | AU4: =MODE(C4:AN4) -> 6 | AV4: =AVERAGE(D4,F4,H4,J4,L4,N4,P4,S4,U4,V4,X4,Z4,AB4,AD4,AF4,AH4,AJ4,AK4,AM4) -> 6.5 | AW4: =AVERAGE(C4,E4,G4,I4,K4,M4,O4,Q4,R4,T4,W4,Y4,AA4,AC4,AE4,AG4,AI4,AL4,AN4) -> 6 | AX4: =BC4/AO4 -> 5.3333333 | AY4: =BH4/AP4 -> 6 | AZ4: =BI4/AQ4 -> 4 | BA4: =SUM(C4:AN4) -> 19 | BB4: =SUM('BONUS GAZZETTA 2013 2014'!C4:AN4) -> -3 | BC4: =SUM(BA4:BB4) -> 16 | BD4: =SUM(D4,F4,H4,J4,L4,N4,P4,S4,U4,V4,X4,Z4,AB4,AD4,AF4,AH4,AJ4,AK4,AM4) -> 13 | BE4: =SUM(C4,E4,G4,I4,K4,M4,O4,Q4,R4,T4,W4,Y4,AA4,AC4,AE4,AG4,AI4,AL4,AN4) -> 6 | BF4: =SUM('BONUS GAZZETTA 2013 2014'!D4,'BONUS GAZZETTA 2013 2014'!F4,'BONUS GAZZETTA 2013 2014'!H4,'BONUS GAZZETTA 2013 2014'!J4,'BONUS GAZZETTA 2013 2014'!L4,'BONUS GAZZETTA 2013 2014'!N4,'BONUS GAZZETTA 2013 2014'!P4,'BONUS GAZZETTA 2013 2014'!S4,'BONUS GAZZETTA 2013 2014'!U4,'BONUS GAZZETTA 2013 2014'!V4,'BONUS GAZZETTA 2013 2014'!X4,'BONUS GAZZETTA 2013 2014'!Z4,'BONUS GAZZETTA 2013 2014'!AB4,'BONUS GAZZETTA 2013 2014'!AD4,'BONUS GAZZETTA 2013 2014'!AF4,'BONUS GAZZETTA 2013 2014'!AH4,'BONUS GAZZETTA 2013 2014'!AJ4,'BONUS GAZZETTA 2013 2014'!AK4,'BONUS GAZZETTA 2013 2014'!AM4) -> -1 | BG4: =SUM('BONUS GAZZETTA 2013 2014'!C4,'BONUS GAZZETTA 2013 2014'!E4,'BONUS GAZZETTA 2013 2014'!G4,'BONUS GAZZETTA 2013 2014'!I4,'BONUS GAZZETTA 2013 2014'!K4,'BONUS GAZZETTA 2013 2014'!M4,'BONUS GAZZETTA 2013 2014'!O4,'BONUS GAZZETTA 2013 2014'!Q4,'BONUS GAZZETTA 2013 2014'!R4,'BONUS GAZZETTA 2013 2014'!T4,'BONUS GAZZETTA 2013 2014'!W4,'BONUS GAZZETTA 2013 2014'!Y4,'BONUS GAZZETTA 2013 2014'!AA4,'BONUS GAZZETTA 2013 2014'!AC4,'BONUS GAZZETTA 2013 2014'!AE4,'BONUS GAZZETTA 2013 2014'!AG4,'BONUS GAZZETTA 2013 2014'!AI4,'BONUS GAZZETTA 2013 2014'!AL4,'BONUS GAZZETTA 2013 2014'!AN4) -> -2 | BH4: =SUM(BD4,BF4) -> 12 | BI4: =SUM(BE4,BG4) -> 4
A5: D | B5: BELLINI | H5: 6.5 | I5: 6 | J5: 6 | K5: 6 | O5: SV | AD5: 6 | AL5: 6 | AM5: 5.5 | AN5: 6 | AO5: =COUNT(C5:AN5) -> 8 | AP5: =COUNT(D5,F5,H5,J5,L5,N5,P5,S5,U5,V5,X5,Z5,AB5,AD5,AF5,AH5,AJ5,AK5,AM5) -> 4 | AQ5: =COUNT(C5,E5,G5,I5,K5,M5,O5,Q5,R5,T5,W5,Y5,AA5,AC5,AE5,AG5,AI5,AL5,AN5) -> 4 | AR5: =AVERAGE(C5:AN5) -> 6 | AS5: =AVERAGE(C5:U5) -> 6.125 | AT5: =AVERAGE(V5:AN5) -> 5.875 | AU5: =MODE(C5:AN5) -> 6 | AV5: =AVERAGE(D5,F5,H5,J5,L5,N5,P5,S5,U5,V5,X5,Z5,AB5,AD5,AF5,AH5,AJ5,AK5,AM5) -> 6 | AW5: =AVERAGE(C5,E5,G5,I5,K5,M5,O5,Q5,R5,T5,W5,Y5,AA5,AC5,AE5,AG5,AI5,AL5,AN5) -> 6 | AX5: =BC5/AO5 -> 5.75 | AY5: =BH5/AP5 -> 5.5 | AZ5: =BI5/AQ5 -> 6 | BA5: =SUM(C5:AN5) -> 48 | BB5: =SUM('BONUS GAZZETTA 2013 2014'!C5:AN5) -> -2 | BC5: =SUM(BA5:BB5) -> 46 | BD5: =SUM(D5,F5,H5,J5,L5,N5,P5,S5,U5,V5,X5,Z5,AB5,AD5,AF5,AH5,AJ5,AK5,AM5) -> 24 | BE5: =SUM(C5,E5,G5,I5,K5,M5,O5,Q5,R5,T5,W5,Y5,AA5,AC5,AE5,AG5,AI5,AL5,AN5) -> 24 | BF5: =SUM('BONUS GAZZETTA 2013 2014'!D5,'BONUS GAZZETTA 2013 2014'!F5,'BONUS GAZZETTA 2013 2014'!H5,'BONUS GAZZETTA 2013 2014'!J5,'BONUS GAZZETTA 2013 2014'!L5,'BONUS GAZZETTA 2013 2014'!N5,'BONUS GAZZETTA 2013 2014'!P5,'BONUS GAZZETTA 2013 2014'!S5,'BONUS GAZZETTA 2013 2014'!U5,'BONUS GAZZETTA 2013 2014'!V5,'BONUS GAZZETTA 2013 2014'!X5,'BONUS GAZZETTA 2013 2014'!Z5,'BONUS GAZZETTA 2013 2014'!AB5,'BONUS GAZZETTA 2013 2014'!AD5,'BONUS GAZZETTA 2013 2014'!AF5,'BONUS GAZZETTA 2013 2014'!AH5,'BONUS GAZZETTA 2013 2014'!AJ5,'BONUS GAZZETTA 2013 2014'!AK5,'BONUS GAZZETTA 2013 2014'!AM5) -> -2 | BG5: =SUM('BONUS GAZZETTA 2013 2014'!C5,'BONUS GAZZETTA 2013 2014'!E5,'BONUS GAZZETTA 2013 2014'!G5,'BONUS GAZZETTA 2013 2014'!I5,'BONUS GAZZETTA 2013 2014'!K5,'BONUS GAZZETTA 2013 2014'!M5,'BONUS GAZZETTA 2013 2014'!O5,'BONUS GAZZETTA 2013 2014'!Q5,'BONUS GAZZETTA 2013 2014'!R5,'BONUS GAZZETTA 2013 2014'!T5,'BONUS GAZZETTA 2013 2014'!W5,'BONUS GAZZETTA 2013 2014'!Y5,'BONUS GAZZETTA 2013 2014'!AA5,'BONUS GAZZETTA 2013 2014'!AC5,'BONUS GAZZETTA 2013 2014'!AE5,'BONUS GAZZETTA 2013 2014'!AG5,'BONUS GAZZETTA 2013 2014'!AI5,'BONUS GAZZETTA 2013 2014'!AL5,'BONUS GAZZETTA 2013 2014'!AN5) -> 0 | BH5: =SUM(BD5,BF5) -> 22 | BI5: =SUM(BE5,BG5) -> 24
A6: D | B6: BENALOUANE | T6: 6 | U6: 6 | W6: 6 | X6: 7 | Y6: 6.5 | Z6: 4.5 | AA6: 6 | AB6: 6 | AC6: 5.5 | AD6: 5 | AH6: 5 | AI6: 6 | AJ6: 6 | AK6: 6 | AL6: 6 | AM6: 6.5 | AN6: 6 | AO6: =COUNT(C6:AN6) -> 17 | AP6: =COUNT(D6,F6,H6,J6,L6,N6,P6,S6,U6,V6,X6,Z6,AB6,AD6,AF6,AH6,AJ6,AK6,AM6) -> 9 | AQ6: =COUNT(C6,E6,G6,I6,K6,M6,O6,Q6,R6,T6,W6,Y6,AA6,AC6,AE6,AG6,AI6,AL6,AN6) -> 8 | AR6: =AVERAGE(C6:AN6) -> 5.8823529 | AS6: =AVERAGE(C6:U6) -> 6 | AT6: =AVERAGE(V6:AN6) -> 5.8666667 | AU6: =MODE(C6:AN6) -> 6 | AV6: =AVERAGE(D6,F6,H6,J6,L6,N6,P6,S6,U6,V6,X6,Z6,AB6,AD6,AF6,AH6,AJ6,AK6,AM6) -> 5.7777778 | AW6: =AVERAGE(C6,E6,G6,I6,K6,M6,O6,Q6,R6,T6,W6,Y6,AA6,AC6,AE6,AG6,AI6,AL6,AN6) -> 6 | AX6: =BC6/AO6 -> 5.6470588 | AY6: =BH6/AP6 -> 5.3888889 | AZ6: =BI6/AQ6 -> 5.9375 | BA6: =SUM(C6:AN6) -> 100 | BB6: =SUM('BONUS GAZZETTA 2013 2014'!C6:AN6) -> -4 | BC6: =SUM(BA6:BB6) -> 96 | BD6: =SUM(D6,F6,H6,J6,L6,N6,P6,S6,U6,V6,X6,Z6,AB6,AD6,AF6,AH6,AJ6,AK6,AM6) -> 52 | BE6: =SUM(C6,E6,G6,I6,K6,M6,O6,Q6,R6,T6,W6,Y6,AA6,AC6,AE6,AG6,AI6,AL6,AN6) -> 48 | BF6: =SUM('BONUS GAZZETTA 2013 2014'!D6,'BONUS GAZZETTA 2013 2014'!F6,'BONUS GAZZETTA 2013 2014'!H6,'BONUS GAZZETTA 2013 2014'!J6,'BONUS GAZZETTA 2013 2014'!L6,'BONUS GAZZETTA 2013 2014'!N6,'BONUS GAZZETTA 2013 2014'!P6,'BONUS GAZZETTA 2013 2014'!S6,'BONUS GAZZETTA 2013 2014'!U6,'BONUS GAZZETTA 2013 2014'!V6,'BONUS GAZZETTA 2013 2014'!X6,'BONUS GAZZETTA 2013 2014'!Z6,'BONUS GAZZETTA 2013 2014'!AB6,'BONUS GAZZETTA 2013 2014'!AD6,'BONUS GAZZETTA 2013 2014'!AF6,'BONUS GAZZETTA 2013 2014'!AH6,'BONUS GAZZETTA 2013 2014'!AJ6,'BONUS GAZZETTA 2013 2014'!AK6,'BONUS GAZZETTA 2013 2014'!AM6) -> -3.5 | BG6: =SUM('BONUS GAZZETTA 2013 2014'!C6,'BONUS GAZZETTA 2013 2014'!E6,'BONUS GAZZETTA 2013 2014'!G6,'BONUS GAZZETTA 2013 2014'!I6,'BONUS GAZZETTA 2013 2014'!K6,'BONUS GAZZETTA 2013 2014'!M6,'BONUS GAZZETTA 2013 2014'!O6,'BONUS GAZZETTA 2013 2014'!Q6,'BONUS GAZZETTA 2013 2014'!R6,'BONUS GAZZETTA 2013 2014'!T6,'BONUS GAZZETTA 2013 2014'!W6,'BONUS GAZZETTA 2013 2014'!Y6,'BONUS GAZZETTA 2013 2014'!AA6,'BONUS GAZZETTA 2013 2014'!AC6,'BONUS GAZZETTA 2013 2014'!AE6,'BONUS GAZZETTA 2013 2014'!AG6,'BONUS GAZZETTA 2013 2014'!AI6,'BONUS GAZZETTA 2013 2014'!AL6,'BONUS GAZZETTA 2013 2014'!AN6) -> -0.5 | BH6: =SUM(BD6,BF6) -> 48.5 | BI6: =SUM(BE6,BG6) -> 47.5
A7: D | B7: BRIVIO | E7: 5.5 | F7: 5 | I7: 6 | L7: 5.5 | N7: 7 | O7: 5.5 | P7: 6 | Q7: 6 | R7: 5.5 | S7: 6 | T7: 6 | U7: 5.5 | V7: 6 | W7: 6 | Z7: 5 | AA7: 6.5 | AB7: 6 | AC7: 6.5 | AI7: 5.5 | AJ7: 5 | AL7: 6 | AM7: 6.5 | AN7: 5.5 | AO7: =COUNT(C7:AN7) -> 23 | AP7: =COUNT(D7,F7,H7,J7,L7,N7,P7,S7,U7,V7,X7,Z7,AB7,AD7,AF7,AH7,AJ7,AK7,AM7) -> 11 | AQ7: =COUNT(C7,E7,G7,I7,K7,M7,O7,Q7,R7,T7,W7,Y7,AA7,AC7,AE7,AG7,AI7,AL7,AN7) -> 12 | AR7: =AVERAGE(C7:AN7) -> 5.826087 | AS7: =AVERAGE(C7:U7) -> 5.7916667 | AT7: =AVERAGE(V7:AN7) -> 5.8636364 | AU7: =MODE(C7:AN7) -> 6 | AV7: =AVERAGE(D7,F7,H7,J7,L7,N7,P7,S7,U7,V7,X7,Z7,AB7,AD7,AF7,AH7,AJ7,AK7,AM7) -> 5.7727273 | AW7: =AVERAGE(C7,E7,G7,I7,K7,M7,O7,Q7,R7,T7,W7,Y7,AA7,AC7,AE7,AG7,AI7,AL7,AN7) -> 5.875 | AX7: =BC7/AO7 -> 6.173913 | AY7: =BH7/AP7 -> 6.3181818 | AZ7: =BI7/AQ7 -> 6.0416667 | BA7: =SUM(C7:AN7) -> 134 | BB7: =SUM('BONUS GAZZETTA 2013 2014'!C7:AN7) -> 8 | BC7: =SUM(BA7:BB7) -> 142 | BD7: =SUM(D7,F7,H7,J7,L7,N7,P7,S7,U7,V7,X7,Z7,AB7,AD7,AF7,AH7,AJ7,AK7,AM7) -> 63.5 | BE7: =SUM(C7,E7,G7,I7,K7,M7,O7,Q7,R7,T7,W7,Y7,AA7,AC7,AE7,AG7,AI7,AL7,AN7) -> 70.5 | BF7: =SUM('BONUS GAZZETTA 2013 2014'!D7,'BONUS GAZZETTA 2013 2014'!F7,'BONUS GAZZETTA 2013 2014'!H7,'BONUS GAZZETTA 2013 2014'!J7,'BONUS GAZZETTA 2013 2014'!L7,'BONUS GAZZETTA 2013 2014'!N7,'BONUS GAZZETTA 2013 2014'!P7,'BONUS GAZZETTA 2013 2014'!S7,'BONUS GAZZETTA 2013 2014'!U7,'BONUS GAZZETTA 2013 2014'!V7,'BONUS GAZZETTA 2013 2014'!X7,'BONUS GAZZETTA 2013 2014'!Z7,'BONUS GAZZETTA 2013 2014'!AB7,'BONUS GAZZETTA 2013 2014'!AD7,'BONUS GAZZETTA 2013 2014'!AF7,'BONUS GAZZETTA 2013 2014'!AH7,'BONUS GAZZETTA 2013 2014'!AJ7,'BONUS GAZZETTA 2013 2014'!AK7,'BONUS GAZZETTA 2013 2014'!AM7) -> 6 | BG7: =SUM('BONUS GAZZETTA 2013 2014'!C7,'BONUS GAZZETTA 2013 2014'!E7,'BONUS GAZZETTA 2013 2014'!G7,'BONUS GAZZETTA 2013 2014'!I7,'BONUS GAZZETTA 2013 2014'!K7,'BONUS GAZZETTA 2013 2014'!M7,'BONUS GAZZETTA 2013 2014'!O7,'BONUS GAZZETTA 2013 2014'!Q7,'BONUS GAZZETTA 2013 2014'!R7,'BONUS GAZZETTA 2013 2014'!T7,'BONUS GAZZETTA 2013 2014'!W7,'BONUS GAZZETTA 2013 2014'!Y7,'BONUS GAZZETTA 2013 2014'!AA7,'BONUS GAZZETTA 2013 2014'!AC7,'BONUS GAZZETTA 2013 2014'!AE7,'BONUS GAZZETTA 2013 2014'!AG7,'BONUS GAZZETTA 2013 2014'!AI7,'BONUS GAZZETTA 2013 2014'!AL7,'BONUS GAZZETTA 2013 2014'!AN7) -> 2 | BH7: =SUM(BD7,BF7) -> 69.5 | BI7: =SUM(BE7,BG7) -> 72.5
A8: D | B8: CALDARA | AN8: 5.5 | AO8: =COUNT(C8:AN8) -> 1 | AP8: =COUNT(D8,F8,H8,J8,L8,N8,P8,S8,U8,V8,X8,Z8,AB8,AD8,AF8,AH8,AJ8,AK8,AM8) -> 0 | AQ8: =COUNT(C8,E8,G8,I8,K8,M8,O8,Q8,R8,T8,W8,Y8,AA8,AC8,AE8,AG8,AI8,AL8,AN8) -> 1 | AR8: =AVERAGE(C8:AN8) -> 5.5 | AS8: =AVERAGE(C8:U8) -> #DIV/0! | AT8: =AVERAGE(V8:AN8) -> 5.5 | AU8: =MODE(C8:AN8) -> #N/A | AV8: =AVERAGE(D8,F8,H8,J8,L8,N8,P8,S8,U8,V8,X8,Z8,AB8,AD8,AF8,AH8,AJ8,AK8,AM8) -> #DIV/0! | AW8: =AVERAGE(C8,E8,G8,I8,K8,M8,O8,Q8,R8,T8,W8,Y8,AA8,AC8,AE8,AG8,AI8,AL8,AN8) -> 5.5 | AX8: =BC8/AO8 -> 5.5 | AY8: =BH8/AP8 -> #DIV/0! | AZ8: =BI8/AQ8 -> 5.5 | BA8: =SUM(C8:AN8) -> 5.5 | BB8: =SUM('BONUS GAZZETTA 2013 2014'!C8:AN8) -> 0 | BC8: =SUM(BA8:BB8) -> 5.5 | BD8: =SUM(D8,F8,H8,J8,L8,N8,P8,S8,U8,V8,X8,Z8,AB8,AD8,AF8,AH8,AJ8,AK8,AM8) -> 0 | BE8: =SUM(C8,E8,G8,I8,K8,M8,O8,Q8,R8,T8,W8,Y8,AA8,AC8,AE8,AG8,AI8,AL8,AN8) -> 5.5 | BF8: =SUM('BONUS GAZZETTA 2013 2014'!D8,'BONUS GAZZETTA 2013 2014'!F8,'BONUS GAZZETTA 2013 2014'!H8,'BONUS GAZZETTA 2013 2014'!J8,'BONUS GAZZETTA 2013 2014'!L8,'BONUS GAZZETTA 2013 2014'!N8,'BONUS GAZZETTA 2013 2014'!P8,'BONUS GAZZETTA 2013 2014'!S8,'BONUS GAZZETTA 2013 2014'!U8,'BONUS GAZZETTA 2013 2014'!V8,'BONUS GAZZETTA 2013 2014'!X8,'BONUS GAZZETTA 2013 2014'!Z8,'BONUS GAZZETTA 2013 2014'!AB8,'BONUS GAZZETTA 2013 2014'!AD8,'BONUS GAZZETTA 2013 2014'!AF8,'BONUS GAZZETTA 2013 2014'!AH8,'BONUS GAZZETTA 2013 2014'!AJ8,'BONUS GAZZETTA 2013 2014'!AK8,'BONUS GAZZETTA 2013 2014'!AM8) -> 0 | BG8: =SUM('BONUS GAZZETTA 2013 2014'!C8,'BONUS GAZZETTA 2013 2014'!E8,'BONUS GAZZETTA 2013 2014'!G8,'BONUS GAZZETTA 2013 2014'!I8,'BONUS GAZZETTA 2013 2014'!K8,'BONUS GAZZETTA 2013 2014'!M8,'BONUS GAZZETTA 2013 2014'!O8,'BONUS GAZZETTA 2013 2014'!Q8,'BONUS GAZZETTA 2013 2014'!R8,'BONUS GAZZETTA 2013 2014'!T8,'BONUS GAZZETTA 2013 2014'!W8,'BONUS GAZZETTA 2013 2014'!Y8,'BONUS GAZZETTA 2013 2014'!AA8,'BONUS GAZZETTA 2013 2014'!AC8,'BONUS GAZZETTA 2013 2014'!AE8,'BONUS GAZZETTA 2013 2014'!AG8,'BONUS GAZZETTA 2013 2014'!AI8,'BONUS GAZZETTA 2013 2014'!AL8,'BONUS GAZZETTA 2013 2014'!AN8) -> 0 | BH8: =SUM(BD8,BF8) -> 0 | BI8: =SUM(BE8,BG8) -> 5.5
A9: D | B9: CANINI | G9: 5.5 | H9: SV | L9: 6.5 | M9: 5 | N9: 6 | O9: 5.5 | P9: 5.5 | Q9: 5 | AO9: =COUNT(C9:AN9) -> 7 | AP9: =COUNT(D9,F9,H9,J9,L9,N9,P9,S9,U9,V9,X9,Z9,AB9,AD9,AF9,AH9,AJ9,AK9,AM9) -> 3 | AQ9: =COUNT(C9,E9,G9,I9,K9,M9,O9,Q9,R9,T9,W9,Y9,AA9,AC9,AE9,AG9,AI9,AL9,AN9) -> 4 | AR9: =AVERAGE(C9:AN9) -> 5.5714286 | AS9: =AVERAGE(C9:U9) -> 5.5714286 | AT9: =AVERAGE(V9:AN9) -> #DIV/0! | AU9: =MODE(C9:AN9) -> 5.5 | AV9: =AVERAGE(D9,F9,H9,J9,L9,N9,P9,S9,U9,V9,X9,Z9,AB9,AD9,AF9,AH9,AJ9,AK9,AM9) -> 6 | AW9: =AVERAGE(C9,E9,G9,I9,K9,M9,O9,Q9,R9,T9,W9,Y9,AA9,AC9,AE9,AG9,AI9,AL9,AN9) -> 5.25 | AX9: =BC9/AO9 -> 5.3571429 | AY9: =BH9/AP9 -> 5.6666667 | AZ9: =BI9/AQ9 -> 5.125 | BA9: =SUM(C9:AN9) -> 39 | BB9: =SUM('BONUS GAZZETTA 2013 2014'!C9:AN9) -> -1.5 | BC9: =SUM(BA9:BB9) -> 37.5 | BD9: =SUM(D9,F9,H9,J9,L9,N9,P9,S9,U9,V9,X9,Z9,AB9,AD9,AF9,AH9,AJ9,AK9,AM9) -> 18 | BE9: =SUM(C9,E9,G9,I9,K9,M9,O9,Q9,R9,T9,W9,Y9,AA9,AC9,AE9,AG9,AI9,AL9,AN9) -> 21 | BF9: =SUM('BONUS GAZZETTA 2013 2014'!D9,'BONUS GAZZETTA 2013 2014'!F9,'BONUS GAZZETTA 2013 2014'!H9,'BONUS GAZZETTA 2013 2014'!J9,'BONUS GAZZETTA 2013 2014'!L9,'BONUS GAZZETTA 2013 2014'!N9,'BONUS GAZZETTA 2013 2014'!P9,'BONUS GAZZETTA 2013 2014'!S9,'BONUS GAZZETTA 2013 2014'!U9,'BONUS GAZZETTA 2013 2014'!V9,'BONUS GAZZETTA 2013 2014'!X9,'BONUS GAZZETTA 2013 2014'!Z9,'BONUS GAZZETTA 2013 2014'!AB9,'BONUS GAZZETTA 2013 2014'!AD9,'BONUS GAZZETTA 2013 2014'!AF9,'BONUS GAZZETTA 2013 2014'!AH9,'BONUS GAZZETTA 2013 2014'!AJ9,'BONUS GAZZETTA 2013 2014'!AK9,'BONUS GAZZETTA 2013 2014'!AM9) -> -1 | BG9: =SUM('BONUS GAZZETTA 2013 2014'!C9,'BONUS GAZZETTA 2013 2014'!E9,'BONUS GAZZETTA 2013 2014'!G9,'BONUS GAZZETTA 2013 2014'!I9,'BONUS GAZZETTA 2013 2014'!K9,'BONUS GAZZETTA 2013 2014'!M9,'BONUS GAZZETTA 2013 2014'!O9,'BONUS GAZZETTA 2013 2014'!Q9,'BONUS GAZZETTA 2013 2014'!R9,'BONUS GAZZETTA 2013 2014'!T9,'BONUS GAZZETTA 2013 2014'!W9,'BONUS GAZZETTA 2013 2014'!Y9,'BONUS GAZZETTA 2013 2014'!AA9,'BONUS GAZZETTA 2013 2014'!AC9,'BONUS GAZZETTA 2013 2014'!AE9,'BONUS GAZZETTA 2013 2014'!AG9,'BONUS GAZZETTA 2013 2014'!AI9,'BONUS GAZZETTA 2013 2014'!AL9,'BONUS GAZZETTA 2013 2014'!AN9) -> -0.5 | BH9: =SUM(BD9,BF9) -> 17 | BI9: =SUM(BE9,BG9) -> 20.5
A10: D | B10: DEL GROSSO | C10: 5.5 | D10: 6 | E10: 6 | G10: 5 | H10: 6 | J10: 5 | K10: 6 | M10: 5.5 | P10: 6 | S10: 6 | U10: 6 | X10: 7.5 | Y10: 5 | AD10: 6.5 | AE10: 6 | AF10: 6 | AG10: 6 | AH10: 5.5 | AK10: 5.5 | AO10: =COUNT(C10:AN10) -> 19 | AP10: =COUNT(D10,F10,H10,J10,L10,N10,P10,S10,U10,V10,X10,Z10,AB10,AD10,AF10,AH10,AJ10,AK10,AM10) -> 11 | AQ10: =COUNT(C10,E10,G10,I10,K10,M10,O10,Q10,R10,T10,W10,Y10,AA10,AC10,AE10,AG10,AI10,AL10,AN10) -> 8 | AR10: =AVERAGE(C10:AN10) -> 5.8421053 | AS10: =AVERAGE(C10:U10) -> 5.7272727 | AT10: =AVERAGE(V10:AN10) -> 6 | AU10: =MODE(C10:AN10) -> 6 | AV10: =AVERAGE(D10,F10,H10,J10,L10,N10,P10,S10,U10,V10,X10,Z10,AB10,AD10,AF10,AH10,AJ10,AK10,AM10) -> 6 | AW10: =AVERAGE(C10,E10,G10,I10,K10,M10,O10,Q10,R10,T10,W10,Y10,AA10,AC10,AE10,AG10,AI10,AL10,AN10) -> 5.625 | AX10: =BC10/AO10 -> 5.7368421 | AY10: =BH10/AP10 -> 5.9090909 | AZ10: =BI10/AQ10 -> 5.5 | BA10: =SUM(C10:AN10) -> 111 | BB10: =SUM('BONUS GAZZETTA 2013 2014'!C10:AN10) -> -2 | BC10: =SUM(BA10:BB10) -> 109 | BD10: =SUM(D10,F10,H10,J10,L10,N10,P10,S10,U10,V10,X10,Z10,AB10,AD10,AF10,AH10,AJ10,AK10,AM10) -> 66 | BE10: =SUM(C10,E10,G10,I10,K10,M10,O10,Q10,R10,T10,W10,Y10,AA10,AC10,AE10,AG10,AI10,AL10,AN10) -> 45 | BF10: =SUM('BONUS GAZZETTA 2013 2014'!D10,'BONUS GAZZETTA 2013 2014'!F10,'BONUS GAZZETTA 2013 2014'!H10,'BONUS GAZZETTA 2013 2014'!J10,'BONUS GAZZETTA 2013 2014'!L10,'BONUS GAZZETTA 2013 2014'!N10,'BONUS GAZZETTA 2013 2014'!P10,'BONUS GAZZETTA 2013 2014'!S10,'BONUS GAZZETTA 2013 2014'!U10,'BONUS GAZZETTA 2013 2014'!V10,'BONUS GAZZETTA 2013 2014'!X10,'BONUS GAZZETTA 2013 2014'!Z10,'BONUS GAZZETTA 2013 2014'!AB10,'BONUS GAZZETTA 2013 2014'!AD10,'BONUS GAZZETTA 2013 2014'!AF10,'BONUS GAZZETTA 2013 2014'!AH10,'BONUS GAZZETTA 2013 2014'!AJ10,'BONUS GAZZETTA 2013 2014'!AK10,'BONUS GAZZETTA 2013 2014'!AM10) -> -1 | BG10: =SUM('BONUS GAZZETTA 2013 2014'!C10,'BONUS GAZZETTA 2013 2014'!E10,'BONUS GAZZETTA 2013 2014'!G10,'BONUS GAZZETTA 2013 2014'!I10,'BONUS GAZZETTA 2013 2014'!K10,'BONUS GAZZETTA 2013 2014'!M10,'BONUS GAZZETTA 2013 2014'!O10,'BONUS GAZZETTA 2013 2014'!Q10,'BONUS GAZZETTA 2013 2014'!R10,'BONUS GAZZETTA 2013 2014'!T10,'BONUS GAZZETTA 2013 2014'!W10,'BONUS GAZZETTA 2013 2014'!Y10,'BONUS GAZZETTA 2013 2014'!AA10,'BONUS GAZZETTA 2013 2014'!AC10,'BONUS GAZZETTA 2013 2014'!AE10,'BONUS GAZZETTA 2013 2014'!AG10,'BONUS GAZZETTA 2013 2014'!AI10,'BONUS GAZZETTA 2013 2014'!AL10,'BONUS GAZZETTA 2013 2014'!AN10) -> -1 | BH10: =SUM(BD10,BF10) -> 65 | BI10: =SUM(BE10,BG10) -> 44
A11: D | B11: LUCCHINI | D11: 6.5 | E11: 5 | F11: 5.5 | H11: 6 | I11: 6 | J11: 5.5 | P11: 5.5 | Q11: 6.5 | R11: 6.5 | U11: 6 | V11: 6 | X11: 6.5 | AC11: SV | AF11: 6 | AG11: 7 | AH11: 5 | AI11: 6 | AK11: 5 | AL11: 6 | AO11: =COUNT(C11:AN11) -> 18 | AP11: =COUNT(D11,F11,H11,J11,L11,N11,P11,S11,U11,V11,X11,Z11,AB11,AD11,AF11,AH11,AJ11,AK11,AM11) -> 11 | AQ11: =COUNT(C11,E11,G11,I11,K11,M11,O11,Q11,R11,T11,W11,Y11,AA11,AC11,AE11,AG11,AI11,AL11,AN11) -> 7 | AR11: =AVERAGE(C11:AN11) -> 5.9166667 | AS11: =AVERAGE(C11:U11) -> 5.9 | AT11: =AVERAGE(V11:AN11) -> 5.9375 | AU11: =MODE(C11:AN11) -> 6 | AV11: =AVERAGE(D11,F11,H11,J11,L11,N11,P11,S11,U11,V11,X11,Z11,AB11,AD11,AF11,AH11,AJ11,AK11,AM11) -> 5.7727273 | AW11: =AVERAGE(C11,E11,G11,I11,K11,M11,O11,Q11,R11,T11,W11,Y11,AA11,AC11,AE11,AG11,AI11,AL11,AN11) -> 6.1428571 | AX11: =BC11/AO11 -> 5.9444444 | AY11: =BH11/AP11 -> 5.8636364 | AZ11: =BI11/AQ11 -> 6.0714286 | BA11: =SUM(C11:AN11) -> 106.5 | BB11: =SUM('BONUS GAZZETTA 2013 2014'!C11:AN11) -> 0.5 | BC11: =SUM(BA11:BB11) -> 107 | BD11: =SUM(D11,F11,H11,J11,L11,N11,P11,S11,U11,V11,X11,Z11,AB11,AD11,AF11,AH11,AJ11,AK11,AM11) -> 63.5 | BE11: =SUM(C11,E11,G11,I11,K11,M11,O11,Q11,R11,T11,W11,Y11,AA11,AC11,AE11,AG11,AI11,AL11,AN11) -> 43 | BF11: =SUM('BONUS GAZZETTA 2013 2014'!D11,'BONUS GAZZETTA 2013 2014'!F11,'BONUS GAZZETTA 2013 2014'!H11,'BONUS GAZZETTA 2013 2014'!J11,'BONUS GAZZETTA 2013 2014'!L11,'BONUS GAZZETTA 2013 2014'!N11,'BONUS GAZZETTA 2013 2014'!P11,'BONUS GAZZETTA 2013 2014'!S11,'BONUS GAZZETTA 2013 2014'!U11,'BONUS GAZZETTA 2013 2014'!V11,'BONUS GAZZETTA 2013 2014'!X11,'BONUS GAZZETTA 2013 2014'!Z11,'BONUS GAZZETTA 2013 2014'!AB11,'BONUS GAZZETTA 2013 2014'!AD11,'BONUS GAZZETTA 2013 2014'!AF11,'BONUS GAZZETTA 2013 2014'!AH11,'BONUS GAZZETTA 2013 2014'!AJ11,'BONUS GAZZETTA 2013 2014'!AK11,'BONUS GAZZETTA 2013 2014'!AM11) -> 1 | BG11: =SUM('BONUS GAZZETTA 2013 2014'!C11,'BONUS GAZZETTA 2013 2014'!E11,'BONUS GAZZETTA 2013 2014'!G11,'BONUS GAZZETTA 2013 2014'!I11,'BONUS GAZZETTA 2013 2014'!K11,'BONUS GAZZETTA 2013 2014'!M11,'BONUS GAZZETTA 2013 2014'!O11,'BONUS GAZZETTA 2013 2014'!Q11,'BONUS GAZZETTA 2013 2014'!R11,'BONUS GAZZETTA 2013 2014'!T11,'BONUS GAZZETTA 2013 2014'!W11,'BONUS GAZZETTA 2013 2014'!Y11,'BONUS GAZZETTA 2013 2014'!AA11,'BONUS GAZZETTA 2013 2014'!AC11,'BONUS GAZZETTA 2013 2014'!AE11,'BONUS GAZZETTA 2013 2014'!AG11,'BONUS GAZZETTA 2013 2014'!AI11,'BONUS GAZZETTA 2013 2014'!AL11,'BONUS GAZZETTA 2013 2014'!AN11) -> -0.5 | BH11: =SUM(BD11,BF11) -> 64.5 | BI11: =SUM(BE11,BG11) -> 42.5
A12: D | B12: NICA | C12: SV | K12: 6 | AE12: 5.5 | AF12: SV | AG12: 6 | AJ12: 5.5 | AL12: SV | AO12: =COUNT(C12:AN12) -> 4 | AP12: =COUNT(D12,F12,H12,J12,L12,N12,P12,S12,U12,V12,X12,Z12,AB12,AD12,AF12,AH12,AJ12,AK12,AM12) -> 1 | AQ12: =COUNT(C12,E12,G12,I12,K12,M12,O12,Q12,R12,T12,W12,Y12,AA12,AC12,AE12,AG12,AI12,AL12,AN12) -> 3 | AR12: =AVERAGE(C12:AN12) -> 5.75 | AS12: =AVERAGE(C12:U12) -> 6 | AT12: =AVERAGE(V12:AN12) -> 5.6666667 | AU12: =MODE(C12:AN12) -> 6 | AV12: =AVERAGE(D12,F12,H12,J12,L12,N12,P12,S12,U12,V12,X12,Z12,AB12,AD12,AF12,AH12,AJ12,AK12,AM12) -> 5.5 | AW12: =AVERAGE(C12,E12,G12,I12,K12,M12,O12,Q12,R12,T12,W12,Y12,AA12,AC12,AE12,AG12,AI12,AL12,AN12) -> 5.8333333 | AX12: =BC12/AO12 -> 5.375 | AY12: =BH12/AP12 -> 5.5 | AZ12: =BI12/AQ12 -> 5.3333333 | BA12: =SUM(C12:AN12) -> 23 | BB12: =SUM('BONUS GAZZETTA 2013 2014'!C12:AN12) -> -1.5 | BC12: =SUM(BA12:BB12) -> 21.5 | BD12: =SUM(D12,F12,H12,J12,L12,N12,P12,S12,U12,V12,X12,Z12,AB12,AD12,AF12,AH12,AJ12,AK12,AM12) -> 5.5 | BE12: =SUM(C12,E12,G12,I12,K12,M12,O12,Q12,R12,T12,W12,Y12,AA12,AC12,AE12,AG12,AI12,AL12,AN12) -> 17.5 | BF12: =SUM('BONUS GAZZETTA 2013 2014'!D12,'BONUS GAZZETTA 2013 2014'!F12,'BONUS GAZZETTA 2013 2014'!H12,'BONUS GAZZETTA 2013 2014'!J12,'BONUS GAZZETTA 2013 2014'!L12,'BONUS GAZZETTA 2013 2014'!N12,'BONUS GAZZETTA 2013 2014'!P12,'BONUS GAZZETTA 2013 2014'!S12,'BONUS GAZZETTA 2013 2014'!U12,'BONUS GAZZETTA 2013 2014'!V12,'BONUS GAZZETTA 2013 2014'!X12,'BONUS GAZZETTA 2013 2014'!Z12,'BONUS GAZZETTA 2013 2014'!AB12,'BONUS GAZZETTA 2013 2014'!AD12,'BONUS GAZZETTA 2013 2014'!AF12,'BONUS GAZZETTA 2013 2014'!AH12,'BONUS GAZZETTA 2013 2014'!AJ12,'BONUS GAZZETTA 2013 2014'!AK12,'BONUS GAZZETTA 2013 2014'!AM12) -> 0 | BG12: =SUM('BONUS GAZZETTA 2013 2014'!C12,'BONUS GAZZETTA 2013 2014'!E12,'BONUS GAZZETTA 2013 2014'!G12,'BONUS GAZZETTA 2013 2014'!I12,'BONUS GAZZETTA 2013 2014'!K12,'BONUS GAZZETTA 2013 2014'!M12,'BONUS GAZZETTA 2013 2014'!O12,'BONUS GAZZETTA 2013 2014'!Q12,'BONUS GAZZETTA 2013 2014'!R12,'BONUS GAZZETTA 2013 2014'!T12,'BONUS GAZZETTA 2013 2014'!W12,'BONUS GAZZETTA 2013 2014'!Y12,'BONUS GAZZETTA 2013 2014'!AA12,'BONUS GAZZETTA 2013 2014'!AC12,'BONUS GAZZETTA 2013 2014'!AE12,'BONUS GAZZETTA 2013 2014'!AG12,'BONUS GAZZETTA 2013 2014'!AI12,'BONUS GAZZETTA 2013 2014'!AL12,'BONUS GAZZETTA 2013 2014'!AN12) -> -1.5 | BH12: =SUM(BD12,BF12) -> 5.5 | BI12: =SUM(BE12,BG12) -> 16
A13: D | B13: RAIMONDI | C13: 5 | D13: 5.5 | E13: 5.5 | F13: 6.5 | G13: 5.5 | H13: 6.5 | I13: 6.5 | J13: 6 | K13: 6 | L13: 6 | M13: 5 | N13: 6 | S13: 6 | T13: 5.5 | V13: 5.5 | W13: 6 | X13: 6.5 | Y13: 5 | Z13: 5.5 | AA13: 6 | AB13: 5.5 | AC13: SV | AE13: 6 | AF13: 6 | AG13: SV | AJ13: 5 | AK13: SV | AL13: 6 | AM13: 6.5 | AN13: 6 | AO13: =COUNT(C13:AN13) -> 27 | AP13: =COUNT(D13,F13,H13,J13,L13,N13,P13,S13,U13,V13,X13,Z13,AB13,AD13,AF13,AH13,AJ13,AK13,AM13) -> 14 | AQ13: =COUNT(C13,E13,G13,I13,K13,M13,O13,Q13,R13,T13,W13,Y13,AA13,AC13,AE13,AG13,AI13,AL13,AN13) -> 13 | AR13: =AVERAGE(C13:AN13) -> 5.8148148 | AS13: =AVERAGE(C13:U13) -> 5.8214286 | AT13: =AVERAGE(V13:AN13) -> 5.8076923 | AU13: =MODE(C13:AN13) -> 6 | AV13: =AVERAGE(D13,F13,H13,J13,L13,N13,P13,S13,U13,V13,X13,Z13,AB13,AD13,AF13,AH13,AJ13,AK13,AM13) -> 5.9285714 | AW13: =AVERAGE(C13,E13,G13,I13,K13,M13,O13,Q13,R13,T13,W13,Y13,AA13,AC13,AE13,AG13,AI13,AL13,AN13) -> 5.6923077 | AX13: =BC13/AO13 -> 5.6851852 | AY13: =BH13/AP13 -> 5.8571429 | AZ13: =BI13/AQ13 -> 5.5 | BA13: =SUM(C13:AN13) -> 157 | BB13: =SUM('BONUS GAZZETTA 2013 2014'!C13:AN13) -> -3.5 | BC13: =SUM(BA13:BB13) -> 153.5 | BD13: =SUM(D13,F13,H13,J13,L13,N13,P13,S13,U13,V13,X13,Z13,AB13,AD13,AF13,AH13,AJ13,AK13,AM13) -> 83 | BE13: =SUM(C13,E13,G13,I13,K13,M13,O13,Q13,R13,T13,W13,Y13,AA13,AC13,AE13,AG13,AI13,AL13,AN13) -> 74 | BF13: =SUM('BONUS GAZZETTA 2013 2014'!D13,'BONUS GAZZETTA 2013 2014'!F13,'BONUS GAZZETTA 2013 2014'!H13,'BONUS GAZZETTA 2013 2014'!J13,'BONUS GAZZETTA 2013 2014'!L13,'BONUS GAZZETTA 2013 2014'!N13,'BONUS GAZZETTA 2013 2014'!P13,'BONUS GAZZETTA 2013 2014'!S13,'BONUS GAZZETTA 2013 2014'!U13,'BONUS GAZZETTA 2013 2014'!V13,'BONUS GAZZETTA 2013 2014'!X13,'BONUS GAZZETTA 2013 2014'!Z13,'BONUS GAZZETTA 2013 2014'!AB13,'BONUS GAZZETTA 2013 2014'!AD13,'BONUS GAZZETTA 2013 2014'!AF13,'BONUS GAZZETTA 2013 2014'!AH13,'BONUS GAZZETTA 2013 2014'!AJ13,'BONUS GAZZETTA 2013 2014'!AK13,'BONUS GAZZETTA 2013 2014'!AM13) -> -1 | BG13: =SUM('BONUS GAZZETTA 2013 2014'!C13,'BONUS GAZZETTA 2013 2014'!E13,'BONUS GAZZETTA 2013 2014'!G13,'BONUS GAZZETTA 2013 2014'!I13,'BONUS GAZZETTA 2013 2014'!K13,'BONUS GAZZETTA 2013 2014'!M13,'BONUS GAZZETTA 2013 2014'!O13,'BONUS GAZZETTA 2013 2014'!Q13,'BONUS GAZZETTA 2013 2014'!R13,'BONUS GAZZETTA 2013 2014'!T13,'BONUS GAZZETTA 2013 2014'!W13,'BONUS GAZZETTA 2013 2014'!Y13,'BONUS GAZZETTA 2013 2014'!AA13,'BONUS GAZZETTA 2013 2014'!AC13,'BONUS GAZZETTA 2013 2014'!AE13,'BONUS GAZZETTA 2013 2014'!AG13,'BONUS GAZZETTA 2013 2014'!AI13,'BONUS GAZZETTA 2013 2014'!AL13,'BONUS GAZZETTA 2013 2014'!AN13) -> -2.5 | BH13: =SUM(BD13,BF13) -> 82 | BI13: =SUM(BE13,BG13) -> 71.5
A14: D | B14: SCALONI | M14: 6 | N14: 6 | O14: 6 | P14: 6 | R14: 6.5 | AO14: =COUNT(C14:AN14) -> 5 | AP14: =COUNT(D14,F14,H14,J14,L14,N14,P14,S14,U14,V14,X14,Z14,AB14,AD14,AF14,AH14,AJ14,AK14,AM14) -> 2 | AQ14: =COUNT(C14,E14,G14,I14,K14,M14,O14,Q14,R14,T14,W14,Y14,AA14,AC14,AE14,AG14,AI14,AL14,AN14) -> 3 | AR14: =AVERAGE(C14:AN14) -> 6.1 | AS14: =AVERAGE(C14:U14) -> 6.1 | AT14: =AVERAGE(V14:AN14) -> #DIV/0! | AU14: =MODE(C14:AN14) -> 6 | AV14: =AVERAGE(D14,F14,H14,J14,L14,N14,P14,S14,U14,V14,X14,Z14,AB14,AD14,AF14,AH14,AJ14,AK14,AM14) -> 6 | AW14: =AVERAGE(C14,E14,G14,I14,K14,M14,O14,Q14,R14,T14,W14,Y14,AA14,AC14,AE14,AG14,AI14,AL14,AN14) -> 6.1666667 | AX14: =BC14/AO14 -> 6.1 | AY14: =BH14/AP14 -> 6 | AZ14: =BI14/AQ14 -> 6.1666667 | BA14: =SUM(C14:AN14) -> 30.5 | BB14: =SUM('BONUS GAZZETTA 2013 2014'!C14:AN14) -> 0 | BC14: =SUM(BA14:BB14) -> 30.5 | BD14: =SUM(D14,F14,H14,J14,L14,N14,P14,S14,U14,V14,X14,Z14,AB14,AD14,AF14,AH14,AJ14,AK14,AM14) -> 12 | BE14: =SUM(C14,E14,G14,I14,K14,M14,O14,Q14,R14,T14,W14,Y14,AA14,AC14,AE14,AG14,AI14,AL14,AN14) -> 18.5 | BF14: =SUM('BONUS GAZZETTA 2013 2014'!D14,'BONUS GAZZETTA 2013 2014'!F14,'BONUS GAZZETTA 2013 2014'!H14,'BONUS GAZZETTA 2013 2014'!J14,'BONUS GAZZETTA 2013 2014'!L14,'BONUS GAZZETTA 2013 2014'!N14,'BONUS GAZZETTA 2013 2014'!P14,'BONUS GAZZETTA 2013 2014'!S14,'BONUS GAZZETTA 2013 2014'!U14,'BONUS GAZZETTA 2013 2014'!V14,'BONUS GAZZETTA 2013 2014'!X14,'BONUS GAZZETTA 2013 2014'!Z14,'BONUS GAZZETTA 2013 2014'!AB14,'BONUS GAZZETTA 2013 2014'!AD14,'BONUS GAZZETTA 2013 2014'!AF14,'BONUS GAZZETTA 2013 2014'!AH14,'BONUS GAZZETTA 2013 2014'!AJ14,'BONUS GAZZETTA 2013 2014'!AK14,'BONUS GAZZETTA 2013 2014'!AM14) -> 0 | BG14: =SUM('BONUS GAZZETTA 2013 2014'!C14,'BONUS GAZZETTA 2013 2014'!E14,'BONUS GAZZETTA 2013 2014'!G14,'BONUS GAZZETTA 2013 2014'!I14,'BONUS GAZZETTA 2013 2014'!K14,'BONUS GAZZETTA 2013 2014'!M14,'BONUS GAZZETTA 2013 2014'!O14,'BONUS GAZZETTA 2013 2014'!Q14,'BONUS GAZZETTA 2013 2014'!R14,'BONUS GAZZETTA 2013 2014'!T14,'BONUS GAZZETTA 2013 2014'!W14,'BONUS GAZZETTA 2013 2014'!Y14,'BONUS GAZZETTA 2013 2014'!AA14,'BONUS GAZZETTA 2013 2014'!AC14,'BONUS GAZZETTA 2013 2014'!AE14,'BONUS GAZZETTA 2013 2014'!AG14,'BONUS GAZZETTA 2013 2014'!AI14,'BONUS GAZZETTA 2013 2014'!AL14,'BONUS GAZZETTA 2013 2014'!AN14) -> 0 | BH14: =SUM(BD14,BF14) -> 12 | BI14: =SUM(BE14,BG14) -> 18.5
A15: D | B15: STENDARDO | C15: 6.5 | D15: 6.5 | E15: 5.5 | F15: 6 | G15: 5.5 | H15: 6 | I15: 6 | J15: 6 | K15: 4 | L15: 5.5 | N15: 5.5 | O15: 6 | S15: 6 | T15: 5.5 | U15: 6 | V15: 5.5 | W15: 7 | X15: 6.5 | Y15: 6 | Z15: 5 | AA15: 5.5 | AB15: 6 | AC15: 6 | AD15: 6 | AE15: 6 | AG15: 7 | AI15: 4.5 | AK15: 6 | AO15: =COUNT(C15:AN15) -> 28 | AP15: =COUNT(D15,F15,H15,J15,L15,N15,P15,S15,U15,V15,X15,Z15,AB15,AD15,AF15,AH15,AJ15,AK15,AM15) -> 14 | AQ15: =COUNT(C15,E15,G15,I15,K15,M15,O15,Q15,R15,T15,W15,Y15,AA15,AC15,AE15,AG15,AI15,AL15,AN15) -> 14 | AR15: =AVERAGE(C15:AN15) -> 5.8392857 | AS15: =AVERAGE(C15:U15) -> 5.7666667 | AT15: =AVERAGE(V15:AN15) -> 5.9230769 | AU15: =MODE(C15:AN15) -> 6 | AV15: =AVERAGE(D15,F15,H15,J15,L15,N15,P15,S15,U15,V15,X15,Z15,AB15,AD15,AF15,AH15,AJ15,AK15,AM15) -> 5.8928571 | AW15: =AVERAGE(C15,E15,G15,I15,K15,M15,O15,Q15,R15,T15,W15,Y15,AA15,AC15,AE15,AG15,AI15,AL15,AN15) -> 5.7857143 | AX15: =BC15/AO15 -> 5.9107143 | AY15: =BH15/AP15 -> 6.0714286 | AZ15: =BI15/AQ15 -> 5.75 | BA15: =SUM(C15:AN15) -> 163.5 | BB15: =SUM('BONUS GAZZETTA 2013 2014'!C15:AN15) -> 2 | BC15: =SUM(BA15:BB15) -> 165.5 | BD15: =SUM(D15,F15,H15,J15,L15,N15,P15,S15,U15,V15,X15,Z15,AB15,AD15,AF15,AH15,AJ15,AK15,AM15) -> 82.5 | BE15: =SUM(C15,E15,G15,I15,K15,M15,O15,Q15,R15,T15,W15,Y15,AA15,AC15,AE15,AG15,AI15,AL15,AN15) -> 81 | BF15: =SUM('BONUS GAZZETTA 2013 2014'!D15,'BONUS GAZZETTA 2013 2014'!F15,'BONUS GAZZETTA 2013 2014'!H15,'BONUS GAZZETTA 2013 2014'!J15,'BONUS GAZZETTA 2013 2014'!L15,'BONUS GAZZETTA 2013 2014'!N15,'BONUS GAZZETTA 2013 2014'!P15,'BONUS GAZZETTA 2013 2014'!S15,'BONUS GAZZETTA 2013 2014'!U15,'BONUS GAZZETTA 2013 2014'!V15,'BONUS GAZZETTA 2013 2014'!X15,'BONUS GAZZETTA 2013 2014'!Z15,'BONUS GAZZETTA 2013 2014'!AB15,'BONUS GAZZETTA 2013 2014'!AD15,'BONUS GAZZETTA 2013 2014'!AF15,'BONUS GAZZETTA 2013 2014'!AH15,'BONUS GAZZETTA 2013 2014'!AJ15,'BONUS GAZZETTA 2013 2014'!AK15,'BONUS GAZZETTA 2013 2014'!AM15) -> 2.5 | BG15: =SUM('BONUS GAZZETTA 2013 2014'!C15,'BONUS GAZZETTA 2013 2014'!E15,'BONUS GAZZETTA 2013 2014'!G15,'BONUS GAZZETTA 2013 2014'!I15,'BONUS GAZZETTA 2013 2014'!K15,'BONUS GAZZETTA 2013 2014'!M15,'BONUS GAZZETTA 2013 2014'!O15,'BONUS GAZZETTA 2013 2014'!Q15,'BONUS GAZZETTA 2013 2014'!R15,'BONUS GAZZETTA 2013 2014'!T15,'BONUS GAZZETTA 2013 2014'!W15,'BONUS GAZZETTA 2013 2014'!Y15,'BONUS GAZZETTA 2013 2014'!AA15,'BONUS GAZZETTA 2013 2014'!AC15,'BONUS GAZZETTA 2013 2014'!AE15,'BONUS GAZZETTA 2013 2014'!AG15,'BONUS GAZZETTA 2013 2014'!AI15,'BONUS GAZZETTA 2013 2014'!AL15,'BONUS GAZZETTA 2013 2014'!AN15) -> -0.5 | BH15: =SUM(BD15,BF15) -> 85 | BI15: =SUM(BE15,BG15) -> 80.5
A16: D | B16: YEPES | C16: 6 | D16: 5 | E16: 6 | F16: 6 | G16: 5 | I16: SV | J16: 6 | K16: 5 | L16: 6 | V16: 6 | W16: 7 | X16: 6 | Y16: 6 | Z16: 5 | AA16: 6 | AB16: 5.5 | AC16: 6 | AD16: 6.5 | AE16: 6 | AF16: 6.5 | AH16: 6 | AI16: 5 | AJ16: 5 | AL16: 6 | AO16: =COUNT(C16:AN16) -> 23 | AP16: =COUNT(D16,F16,H16,J16,L16,N16,P16,S16,U16,V16,X16,Z16,AB16,AD16,AF16,AH16,AJ16,AK16,AM16) -> 12 | AQ16: =COUNT(C16,E16,G16,I16,K16,M16,O16,Q16,R16,T16,W16,Y16,AA16,AC16,AE16,AG16,AI16,AL16,AN16) -> 11 | AR16: =AVERAGE(C16:AN16) -> 5.8043478 | AS16: =AVERAGE(C16:U16) -> 5.625 | AT16: =AVERAGE(V16:AN16) -> 5.9 | AU16: =MODE(C16:AN16) -> 6 | AV16: =AVERAGE(D16,F16,H16,J16,L16,N16,P16,S16,U16,V16,X16,Z16,AB16,AD16,AF16,AH16,AJ16,AK16,AM16) -> 5.7916667 | AW16: =AVERAGE(C16,E16,G16,I16,K16,M16,O16,Q16,R16,T16,W16,Y16,AA16,AC16,AE16,AG16,AI16,AL16,AN16) -> 5.8181818 | AX16: =BC16/AO16 -> 5.6304348 | AY16: =BH16/AP16 -> 5.625 | AZ16: =BI16/AQ16 -> 5.6363636 | BA16: =SUM(C16:AN16) -> 133.5 | BB16: =SUM('BONUS GAZZETTA 2013 2014'!C16:AN16) -> -4 | BC16: =SUM(BA16:BB16) -> 129.5 | BD16: =SUM(D16,F16,H16,J16,L16,N16,P16,S16,U16,V16,X16,Z16,AB16,AD16,AF16,AH16,AJ16,AK16,AM16) -> 69.5 | BE16: =SUM(C16,E16,G16,I16,K16,M16,O16,Q16,R16,T16,W16,Y16,AA16,AC16,AE16,AG16,AI16,AL16,AN16) -> 64 | BF16: =SUM('BONUS GAZZETTA 2013 2014'!D16,'BONUS GAZZETTA 2013 2014'!F16,'BONUS GAZZETTA 2013 2014'!H16,'BONUS GAZZETTA 2013 2014'!J16,'BONUS GAZZETTA 2013 2014'!L16,'BONUS GAZZETTA 2013 2014'!N16,'BONUS GAZZETTA 2013 2014'!P16,'BONUS GAZZETTA 2013 2014'!S16,'BONUS GAZZETTA 2013 2014'!U16,'BONUS GAZZETTA 2013 2014'!V16,'BONUS GAZZETTA 2013 2014'!X16,'BONUS GAZZETTA 2013 2014'!Z16,'BONUS GAZZETTA 2013 2014'!AB16,'BONUS GAZZETTA 2013 2014'!AD16,'BONUS GAZZETTA 2013 2014'!AF16,'BONUS GAZZETTA 2013 2014'!AH16,'BONUS GAZZETTA 2013 2014'!AJ16,'BONUS GAZZETTA 2013 2014'!AK16,'BONUS GAZZETTA 2013 2014'!AM16) -> -2 | BG16: =SUM('BONUS GAZZETTA 2013 2014'!C16,'BONUS GAZZETTA 2013 2014'!E16,'BONUS GAZZETTA 2013 2014'!G16,'BONUS GAZZETTA 2013 2014'!I16,'BONUS GAZZETTA 2013 2014'!K16,'BONUS GAZZETTA 2013 2014'!M16,'BONUS GAZZETTA 2013 2014'!O16,'BONUS GAZZETTA 2013 2014'!Q16,'BONUS GAZZETTA 2013 2014'!R16,'BONUS GAZZETTA 2013 2014'!T16,'BONUS GAZZETTA 2013 2014'!W16,'BONUS GAZZETTA 2013 2014'!Y16,'BONUS GAZZETTA 2013 2014'!AA16,'BONUS GAZZETTA 2013 2014'!AC16,'BONUS GAZZETTA 2013 2014'!AE16,'BONUS GAZZETTA 2013 2014'!AG16,'BONUS GAZZETTA 2013 2014'!AI16,'BONUS GAZZETTA 2013 2014'!AL16,'BONUS GAZZETTA 2013 2014'!AN16) -> -2 | BH16: =SUM(BD16,BF16) -> 67.5 | BI16: =SUM(BE16,BG16) -> 62
A17: C | B17: BASELLI | D17: 5.5 | E17: 6.5 | F17: 5.5 | I17: 6 | J17: SV | L17: 6 | M17: 5.5 | N17: 6 | Q17: 6.5 | T17: 5 | U17: SV | V17: SV | X17: 6 | Z17: 6.5 | AA17: 7 | AB17: 5.5 | AC17: 6 | AD17: SV | AE17: SV | AF17: 6 | AG17: 6.5 | AH17: 5.5 | AI17: 6 | AJ17: 5 | AK17: 5.5 | AL17: 6 | AM17: 6.5 | AN17: 5.5 | AO17: =COUNT(C17:AN17) -> 23 | AP17: =COUNT(D17,F17,H17,J17,L17,N17,P17,S17,U17,V17,X17,Z17,AB17,AD17,AF17,AH17,AJ17,AK17,AM17) -> 12 | AQ17: =COUNT(C17,E17,G17,I17,K17,M17,O17,Q17,R17,T17,W17,Y17,AA17,AC17,AE17,AG17,AI17,AL17,AN17) -> 11 | AR17: =AVERAGE(C17:AN17) -> 5.9130435 | AS17: =AVERAGE(C17:U17) -> 5.8333333 | AT17: =AVERAGE(V17:AN17) -> 5.9642857 | AU17: =MODE(C17:AN17) -> 6 | AV17: =AVERAGE(D17,F17,H17,J17,L17,N17,P17,S17,U17,V17,X17,Z17,AB17,AD17,AF17,AH17,AJ17,AK17,AM17) -> 5.7916667 | AW17: =AVERAGE(C17,E17,G17,I17,K17,M17,O17,Q17,R17,T17,W17,Y17,AA17,AC17,AE17,AG17,AI17,AL17,AN17) -> 6.0454545 | AX17: =BC17/AO17 -> 5.8913043 | AY17: =BH17/AP17 -> 5.75 | AZ17: =BI17/AQ17 -> 6.0454545 | BA17: =SUM(C17:AN17) -> 136 | BB17: =SUM('BONUS GAZZETTA 2013 2014'!C17:AN17) -> -0.5 | BC17: =SUM(BA17:BB17) -> 135.5 | BD17: =SUM(D17,F17,H17,J17,L17,N17,P17,S17,U17,V17,X17,Z17,AB17,AD17,AF17,AH17,AJ17,AK17,AM17) -> 69.5 | BE17: =SUM(C17,E17,G17,I17,K17,M17,O17,Q17,R17,T17,W17,Y17,AA17,AC17,AE17,AG17,AI17,AL17,AN17) -> 66.5 | BF17: =SUM('BONUS GAZZETTA 2013 2014'!D17,'BONUS GAZZETTA 2013 2014'!F17,'BONUS GAZZETTA 2013 2014'!H17,'BONUS GAZZETTA 2013 2014'!J17,'BONUS GAZZETTA 2013 2014'!L17,'BONUS GAZZETTA 2013 2014'!N17,'BONUS GAZZETTA 2013 2014'!P17,'BONUS GAZZETTA 2013 2014'!S17,'BONUS GAZZETTA 2013 2014'!U17,'BONUS GAZZETTA 2013 2014'!V17,'BONUS GAZZETTA 2013 2014'!X17,'BONUS GAZZETTA 2013 2014'!Z17,'BONUS GAZZETTA 2013 2014'!AB17,'BONUS GAZZETTA 2013 2014'!AD17,'BONUS GAZZETTA 2013 2014'!AF17,'BONUS GAZZETTA 2013 2014'!AH17,'BONUS GAZZETTA 2013 2014'!AJ17,'BONUS GAZZETTA 2013 2014'!AK17,'BONUS GAZZETTA 2013 2014'!AM17) -> -0.5 | BG17: =SUM('BONUS GAZZETTA 2013 2014'!C17,'BONUS GAZZETTA 2013 2014'!E17,'BONUS GAZZETTA 2013 2014'!G17,'BONUS GAZZETTA 2013 2014'!I17,'BONUS GAZZETTA 2013 2014'!K17,'BONUS GAZZETTA 2013 2014'!M17,'BONUS GAZZETTA 2013 2014'!O17,'BONUS GAZZETTA 2013 2014'!Q17,'BONUS GAZZETTA 2013 2014'!R17,'BONUS GAZZETTA 2013 2014'!T17,'BONUS GAZZETTA 2013 2014'!W17,'BONUS GAZZETTA 2013 2014'!Y17,'BONUS GAZZETTA 2013 2014'!AA17,'BONUS GAZZETTA 2013 2014'!AC17,'BONUS GAZZETTA 2013 2014'!AE17,'BONUS GAZZETTA 2013 2014'!AG17,'BONUS GAZZETTA 2013 2014'!AI17,'BONUS GAZZETTA 2013 2014'!AL17,'BONUS GAZZETTA 2013 2014'!AN17) -> 0 | BH17: =SUM(BD17,BF17) -> 69 | BI17: =SUM(BE17,BG17) -> 66.5
A18: C | B18: BONAVENTURA | C18: 5.5 | D18: 5.5 | E18: 6 | F18: 6 | G18: 7 | H18: 6.5 | I18: 6.5 | J18: 6.5 | P18: 6 | R18: 6 | S18: 6.5 | T18: 5 | U18: 7 | V18: 6.5 | W18: 6.5 | X18: 7 | Y18: 6.5 | Z18: 6.5 | AA18: 6 | AB18: 7 | AC18: 6 | AD18: 8 | AE18: 7.5 | AF18: 6.5 | AG18: 7 | AH18: 5 | AI18: 6 | AJ18: 5 | AK18: 5.5 | AL18: 6.5 | AM18: 6.5 | AO18: =COUNT(C18:AN18) -> 31 | AP18: =COUNT(D18,F18,H18,J18,L18,N18,P18,S18,U18,V18,X18,Z18,AB18,AD18,AF18,AH18,AJ18,AK18,AM18) -> 17 | AQ18: =COUNT(C18,E18,G18,I18,K18,M18,O18,Q18,R18,T18,W18,Y18,AA18,AC18,AE18,AG18,AI18,AL18,AN18) -> 14 | AR18: =AVERAGE(C18:AN18) -> 6.3064516 | AS18: =AVERAGE(C18:U18) -> 6.1538462 | AT18: =AVERAGE(V18:AN18) -> 6.4166667 | AU18: =MODE(C18:AN18) -> 6.5 | AV18: =AVERAGE(D18,F18,H18,J18,L18,N18,P18,S18,U18,V18,X18,Z18,AB18,AD18,AF18,AH18,AJ18,AK18,AM18) -> 6.3235294 | AW18: =AVERAGE(C18,E18,G18,I18,K18,M18,O18,Q18,R18,T18,W18,Y18,AA18,AC18,AE18,AG18,AI18,AL18,AN18) -> 6.2857143 | AX18: =BC18/AO18 -> 6.7580645 | AY18: =BH18/AP18 -> 6.6470588 | AZ18: =BI18/AQ18 -> 6.8928571 | BA18: =SUM(C18:AN18) -> 195.5 | BB18: =SUM('BONUS GAZZETTA 2013 2014'!C18:AN18) -> 14 | BC18: =SUM(BA18:BB18) -> 209.5 | BD18: =SUM(D18,F18,H18,J18,L18,N18,P18,S18,U18,V18,X18,Z18,AB18,AD18,AF18,AH18,AJ18,AK18,AM18) -> 107.5 | BE18: =SUM(C18,E18,G18,I18,K18,M18,O18,Q18,R18,T18,W18,Y18,AA18,AC18,AE18,AG18,AI18,AL18,AN18) -> 88 | BF18: =SUM('BONUS GAZZETTA 2013 2014'!D18,'BONUS GAZZETTA 2013 2014'!F18,'BONUS GAZZETTA 2013 2014'!H18,'BONUS GAZZETTA 2013 2014'!J18,'BONUS GAZZETTA 2013 2014'!L18,'BONUS GAZZETTA 2013 2014'!N18,'BONUS GAZZETTA 2013 2014'!P18,'BONUS GAZZETTA 2013 2014'!S18,'BONUS GAZZETTA 2013 2014'!U18,'BONUS GAZZETTA 2013 2014'!V18,'BONUS GAZZETTA 2013 2014'!X18,'BONUS GAZZETTA 2013 2014'!Z18,'BONUS GAZZETTA 2013 2014'!AB18,'BONUS GAZZETTA 2013 2014'!AD18,'BONUS GAZZETTA 2013 2014'!AF18,'BONUS GAZZETTA 2013 2014'!AH18,'BONUS GAZZETTA 2013 2014'!AJ18,'BONUS GAZZETTA 2013 2014'!AK18,'BONUS GAZZETTA 2013 2014'!AM18) -> 5.5 | BG18: =SUM('BONUS GAZZETTA 2013 2014'!C18,'BONUS GAZZETTA 2013 2014'!E18,'BONUS GAZZETTA 2013 2014'!G18,'BONUS GAZZETTA 2013 2014'!I18,'BONUS GAZZETTA 2013 2014'!K18,'BONUS GAZZETTA 2013 2014'!M18,'BONUS GAZZETTA 2013 2014'!O18,'BONUS GAZZETTA 2013 2014'!Q18,'BONUS GAZZETTA 2013 2014'!R18,'BONUS GAZZETTA 2013 2014'!T18,'BONUS GAZZETTA 2013 2014'!W18,'BONUS GAZZETTA 2013 2014'!Y18,'BONUS GAZZETTA 2013 2014'!AA18,'BONUS GAZZETTA 2013 2014'!AC18,'BONUS GAZZETTA 2013 2014'!AE18,'BONUS GAZZETTA 2013 2014'!AG18,'BONUS GAZZETTA 2013 2014'!AI18,'BONUS GAZZETTA 2013 2014'!AL18,'BONUS GAZZETTA 2013 2014'!AN18) -> 8.5 | BH18: =SUM(BD18,BF18) -> 113 | BI18: =SUM(BE18,BG18) -> 96.5
A19: C | B19: BRIENZA | F19: 5.5 | G19: 6 | H19: SV | I19: SV | J19: 6 | K19: 5.5 | N19: SV | P19: 6 | Q19: 5 | R19: 6 | T19: 5.5 | U19: 5.5 | V19: 6.5 | W19: 5.5 | AB19: 6 | AE19: 6 | AM19: 7 | AN19: 6 | AO19: =COUNT(C19:AN19) -> 15 | AP19: =COUNT(D19,F19,H19,J19,L19,N19,P19,S19,U19,V19,X19,Z19,AB19,AD19,AF19,AH19,AJ19,AK19,AM19) -> 7 | AQ19: =COUNT(C19,E19,G19,I19,K19,M19,O19,Q19,R19,T19,W19,Y19,AA19,AC19,AE19,AG19,AI19,AL19,AN19) -> 8 | AR19: =AVERAGE(C19:AN19) -> 5.8666667 | AS19: =AVERAGE(C19:U19) -> 5.6666667 | AT19: =AVERAGE(V19:AN19) -> 6.1666667 | AU19: =MODE(C19:AN19) -> 6 | AV19: =AVERAGE(D19,F19,H19,J19,L19,N19,P19,S19,U19,V19,X19,Z19,AB19,AD19,AF19,AH19,AJ19,AK19,AM19) -> 6.0714286 | AW19: =AVERAGE(C19,E19,G19,I19,K19,M19,O19,Q19,R19,T19,W19,Y19,AA19,AC19,AE19,AG19,AI19,AL19,AN19) -> 5.6875 | AX19: =BC19/AO19 -> 6.0666667 | AY19: =BH19/AP19 -> 6.5 | AZ19: =BI19/AQ19 -> 5.6875 | BA19: =SUM(C19:AN19) -> 88 | BB19: =SUM('BONUS GAZZETTA 2013 2014'!C19:AN19) -> 3 | BC19: =SUM(BA19:BB19) -> 91 | BD19: =SUM(D19,F19,H19,J19,L19,N19,P19,S19,U19,V19,X19,Z19,AB19,AD19,AF19,AH19,AJ19,AK19,AM19) -> 42.5 | BE19: =SUM(C19,E19,G19,I19,K19,M19,O19,Q19,R19,T19,W19,Y19,AA19,AC19,AE19,AG19,AI19,AL19,AN19) -> 45.5 | BF19: =SUM('BONUS GAZZETTA 2013 2014'!D19,'BONUS GAZZETTA 2013 2014'!F19,'BONUS GAZZETTA 2013 2014'!H19,'BONUS GAZZETTA 2013 2014'!J19,'BONUS GAZZETTA 2013 2014'!L19,'BONUS GAZZETTA 2013 2014'!N19,'BONUS GAZZETTA 2013 2014'!P19,'BONUS GAZZETTA 2013 2014'!S19,'BONUS GAZZETTA 2013 2014'!U19,'BONUS GAZZETTA 2013 2014'!V19,'BONUS GAZZETTA 2013 2014'!X19,'BONUS GAZZETTA 2013 2014'!Z19,'BONUS GAZZETTA 2013 2014'!AB19,'BONUS GAZZETTA 2013 2014'!AD19,'BONUS GAZZETTA 2013 2014'!AF19,'BONUS GAZZETTA 2013 2014'!AH19,'BONUS GAZZETTA 2013 2014'!AJ19,'BONUS GAZZETTA 2013 2014'!AK19,'BONUS GAZZETTA 2013 2014'!AM19) -> 3 | BG19: =SUM('BONUS GAZZETTA 2013 2014'!C19,'BONUS GAZZETTA 2013 2014'!E19,'BONUS GAZZETTA 2013 2014'!G19,'BONUS GAZZETTA 2013 2014'!I19,'BONUS GAZZETTA 2013 2014'!K19,'BONUS GAZZETTA 2013 2014'!M19,'BONUS GAZZETTA 2013 2014'!O19,'BONUS GAZZETTA 2013 2014'!Q19,'BONUS GAZZETTA 2013 2014'!R19,'BONUS GAZZETTA 2013 2014'!T19,'BONUS GAZZETTA 2013 2014'!W19,'BONUS GAZZETTA 2013 2014'!Y19,'BONUS GAZZETTA 2013 2014'!AA19,'BONUS GAZZETTA 2013 2014'!AC19,'BONUS GAZZETTA 2013 2014'!AE19,'BONUS GAZZETTA 2013 2014'!AG19,'BONUS GAZZETTA 2013 2014'!AI19,'BONUS GAZZETTA 2013 2014'!AL19,'BONUS GAZZETTA 2013 2014'!AN19) -> 0 | BH19: =SUM(BD19,BF19) -> 45.5 | BI19: =SUM(BE19,BG19) -> 45.5
A20: C | B20: CARMONA | C20: 6 | D20: 6 | E20: 6 | F20: 6 | G20: 5 | H20: 6 | I20: 6.5 | J20: 6 | K20: 6 | L20: 7 | M20: 4 | O20: 6 | P20: 6 | Q20: 6 | R20: 6 | S20: 5.5 | T20: 6 | V20: 6 | W20: 7 | Y20: 5.5 | Z20: 5.5 | AA20: 6.5 | AB20: 6.5 | AC20: 6 | AD20: 7 | AE20: 6.5 | AF20: 6 | AG20: 6.5 | AH20: 5.5 | AJ20: 6 | AL20: 5.5 | AM20: 6 | AO20: =COUNT(C20:AN20) -> 32 | AP20: =COUNT(D20,F20,H20,J20,L20,N20,P20,S20,U20,V20,X20,Z20,AB20,AD20,AF20,AH20,AJ20,AK20,AM20) -> 15 | AQ20: =COUNT(C20,E20,G20,I20,K20,M20,O20,Q20,R20,T20,W20,Y20,AA20,AC20,AE20,AG20,AI20,AL20,AN20) -> 17 | AR20: =AVERAGE(C20:AN20) -> 6 | AS20: =AVERAGE(C20:U20) -> 5.8823529 | AT20: =AVERAGE(V20:AN20) -> 6.1333333 | AU20: =MODE(C20:AN20) -> 6 | AV20: =AVERAGE(D20,F20,H20,J20,L20,N20,P20,S20,U20,V20,X20,Z20,AB20,AD20,AF20,AH20,AJ20,AK20,AM20) -> 6.0666667 | AW20: =AVERAGE(C20,E20,G20,I20,K20,M20,O20,Q20,R20,T20,W20,Y20,AA20,AC20,AE20,AG20,AI20,AL20,AN20) -> 5.9411765 | AX20: =BC20/AO20 -> 6.03125 | AY20: =BH20/AP20 -> 6.3 | AZ20: =BI20/AQ20 -> 5.7941176 | BA20: =SUM(C20:AN20) -> 192 | BB20: =SUM('BONUS GAZZETTA 2013 2014'!C20:AN20) -> 1 | BC20: =SUM(BA20:BB20) -> 193 | BD20: =SUM(D20,F20,H20,J20,L20,N20,P20,S20,U20,V20,X20,Z20,AB20,AD20,AF20,AH20,AJ20,AK20,AM20) -> 91 | BE20: =SUM(C20,E20,G20,I20,K20,M20,O20,Q20,R20,T20,W20,Y20,AA20,AC20,AE20,AG20,AI20,AL20,AN20) -> 101 | BF20: =SUM('BONUS GAZZETTA 2013 2014'!D20,'BONUS GAZZETTA 2013 2014'!F20,'BONUS GAZZETTA 2013 2014'!H20,'BONUS GAZZETTA 2013 2014'!J20,'BONUS GAZZETTA 2013 2014'!L20,'BONUS GAZZETTA 2013 2014'!N20,'BONUS GAZZETTA 2013 2014'!P20,'BONUS GAZZETTA 2013 2014'!S20,'BONUS GAZZETTA 2013 2014'!U20,'BONUS GAZZETTA 2013 2014'!V20,'BONUS GAZZETTA 2013 2014'!X20,'BONUS GAZZETTA 2013 2014'!Z20,'BONUS GAZZETTA 2013 2014'!AB20,'BONUS GAZZETTA 2013 2014'!AD20,'BONUS GAZZETTA 2013 2014'!AF20,'BONUS GAZZETTA 2013 2014'!AH20,'BONUS GAZZETTA 2013 2014'!AJ20,'BONUS GAZZETTA 2013 2014'!AK20,'BONUS GAZZETTA 2013 2014'!AM20) -> 3.5 | BG20: =SUM('BONUS GAZZETTA 2013 2014'!C20,'BONUS GAZZETTA 2013 2014'!E20,'BONUS GAZZETTA 2013 2014'!G20,'BONUS GAZZETTA 2013 2014'!I20,'BONUS GAZZETTA 2013 2014'!K20,'BONUS GAZZETTA 2013 2014'!M20,'BONUS GAZZETTA 2013 2014'!O20,'BONUS GAZZETTA 2013 2014'!Q20,'BONUS GAZZETTA 2013 2014'!R20,'BONUS GAZZETTA 2013 2014'!T20,'BONUS GAZZETTA 2013 2014'!W20,'BONUS GAZZETTA 2013 2014'!Y20,'BONUS GAZZETTA 2013 2014'!AA20,'BONUS GAZZETTA 2013 2014'!AC20,'BONUS GAZZETTA 2013 2014'!AE20,'BONUS GAZZETTA 2013 2014'!AG20,'BONUS GAZZETTA 2013 2014'!AI20,'BONUS GAZZETTA 2013 2014'!AL20,'BONUS GAZZETTA 2013 2014'!AN20) -> -2.5 | BH20: =SUM(BD20,BF20) -> 94.5 | BI20: =SUM(BE20,BG20) -> 98.5
A21: C | B21: CAZZOLA | O21: 6 | P21: 7 | Q21: 5 | S21: 5.5 | X21: SV | Y21: SV | AO21: =COUNT(C21:AN21) -> 4 | AP21: =COUNT(D21,F21,H21,J21,L21,N21,P21,S21,U21,V21,X21,Z21,AB21,AD21,AF21,AH21,AJ21,AK21,AM21) -> 2 | AQ21: =COUNT(C21,E21,G21,I21,K21,M21,O21,Q21,R21,T21,W21,Y21,AA21,AC21,AE21,AG21,AI21,AL21,AN21) -> 2 | AR21: =AVERAGE(C21:AN21) -> 5.875 | AS21: =AVERAGE(C21:U21) -> 5.875 | AT21: =AVERAGE(V21:AN21) -> #DIV/0! | AU21: =MODE(C21:AN21) -> #N/A | AV21: =AVERAGE(D21,F21,H21,J21,L21,N21,P21,S21,U21,V21,X21,Z21,AB21,AD21,AF21,AH21,AJ21,AK21,AM21) -> 6.25 | AW21: =AVERAGE(C21,E21,G21,I21,K21,M21,O21,Q21,R21,T21,W21,Y21,AA21,AC21,AE21,AG21,AI21,AL21,AN21) -> 5.5 | AX21: =BC21/AO21 -> 5.625 | AY21: =BH21/AP21 -> 6.25 | AZ21: =BI21/AQ21 -> 5 | BA21: =SUM(C21:AN21) -> 23.5 | BB21: =SUM('BONUS GAZZETTA 2013 2014'!C21:AN21) -> -1 | BC21: =SUM(BA21:BB21) -> 22.5 | BD21: =SUM(D21,F21,H21,J21,L21,N21,P21,S21,U21,V21,X21,Z21,AB21,AD21,AF21,AH21,AJ21,AK21,AM21) -> 12.5 | BE21: =SUM(C21,E21,G21,I21,K21,M21,O21,Q21,R21,T21,W21,Y21,AA21,AC21,AE21,AG21,AI21,AL21,AN21) -> 11 | BF21: =SUM('BONUS GAZZETTA 2013 2014'!D21,'BONUS GAZZETTA 2013 2014'!F21,'BONUS GAZZETTA 2013 2014'!H21,'BONUS GAZZETTA 2013 2014'!J21,'BONUS GAZZETTA 2013 2014'!L21,'BONUS GAZZETTA 2013 2014'!N21,'BONUS GAZZETTA 2013 2014'!P21,'BONUS GAZZETTA 2013 2014'!S21,'BONUS GAZZETTA 2013 2014'!U21,'BONUS GAZZETTA 2013 2014'!V21,'BONUS GAZZETTA 2013 2014'!X21,'BONUS GAZZETTA 2013 2014'!Z21,'BONUS GAZZETTA 2013 2014'!AB21,'BONUS GAZZETTA 2013 2014'!AD21,'BONUS GAZZETTA 2013 2014'!AF21,'BONUS GAZZETTA 2013 2014'!AH21,'BONUS GAZZETTA 2013 2014'!AJ21,'BONUS GAZZETTA 2013 2014'!AK21,'BONUS GAZZETTA 2013 2014'!AM21) -> 0 | BG21: =SUM('BONUS GAZZETTA 2013 2014'!C21,'BONUS GAZZETTA 2013 2014'!E21,'BONUS GAZZETTA 2013 2014'!G21,'BONUS GAZZETTA 2013 2014'!I21,'BONUS GAZZETTA 2013 2014'!K21,'BONUS GAZZETTA 2013 2014'!M21,'BONUS GAZZETTA 2013 2014'!O21,'BONUS GAZZETTA 2013 2014'!Q21,'BONUS GAZZETTA 2013 2014'!R21,'BONUS GAZZETTA 2013 2014'!T21,'BONUS GAZZETTA 2013 2014'!W21,'BONUS GAZZETTA 2013 2014'!Y21,'BONUS GAZZETTA 2013 2014'!AA21,'BONUS GAZZETTA 2013 2014'!AC21,'BONUS GAZZETTA 2013 2014'!AE21,'BONUS GAZZETTA 2013 2014'!AG21,'BONUS GAZZETTA 2013 2014'!AI21,'BONUS GAZZETTA 2013 2014'!AL21,'BONUS GAZZETTA 2013 2014'!AN21) -> -1 | BH21: =SUM(BD21,BF21) -> 12.5 | BI21: =SUM(BE21,BG21) -> 10
A22: C | B22: CIGARINI | C22: 5 | D22: 5.5 | E22: 4.5 | G22: 6.5 | H22: 7 | I22: 7 | J22: 7.5 | K22: 6.5 | L22: 6 | M22: 5 | N22: 6 | O22: 5.5 | P22: 6 | R22: 5.5 | S22: 6.5 | T22: 6 | U22: 5 | V22: 5.5 | W22: 6 | X22: 6.5 | Y22: 5.5 | AA22: 6 | AB22: 7 | AD22: 6.5 | AE22: 6.5 | AF22: 6.5 | AG22: 6 | AH22: 5 | AI22: 6 | AJ22: 5.5 | AK22: 6 | AM22: 6.5 | AN22: 6 | AO22: =COUNT(C22:AN22) -> 33 | AP22: =COUNT(D22,F22,H22,J22,L22,N22,P22,S22,U22,V22,X22,Z22,AB22,AD22,AF22,AH22,AJ22,AK22,AM22) -> 17 | AQ22: =COUNT(C22,E22,G22,I22,K22,M22,O22,Q22,R22,T22,W22,Y22,AA22,AC22,AE22,AG22,AI22,AL22,AN22) -> 16 | AR22: =AVERAGE(C22:AN22) -> 6 | AS22: =AVERAGE(C22:U22) -> 5.9411765 | AT22: =AVERAGE(V22:AN22) -> 6.0625 | AU22: =MODE(C22:AN22) -> 6 | AV22: =AVERAGE(D22,F22,H22,J22,L22,N22,P22,S22,U22,V22,X22,Z22,AB22,AD22,AF22,AH22,AJ22,AK22,AM22) -> 6.1470588 | AW22: =AVERAGE(C22,E22,G22,I22,K22,M22,O22,Q22,R22,T22,W22,Y22,AA22,AC22,AE22,AG22,AI22,AL22,AN22) -> 5.84375 | AX22: =BC22/AO22 -> 5.9848485 | AY22: =BH22/AP22 -> 6.3823529 | AZ22: =BI22/AQ22 -> 5.5625 | BA22: =SUM(C22:AN22) -> 198 | BB22: =SUM('BONUS GAZZETTA 2013 2014'!C22:AN22) -> -0.5 | BC22: =SUM(BA22:BB22) -> 197.5 | BD22: =SUM(D22,F22,H22,J22,L22,N22,P22,S22,U22,V22,X22,Z22,AB22,AD22,AF22,AH22,AJ22,AK22,AM22) -> 104.5 | BE22: =SUM(C22,E22,G22,I22,K22,M22,O22,Q22,R22,T22,W22,Y22,AA22,AC22,AE22,AG22,AI22,AL22,AN22) -> 93.5 | BF22: =SUM('BONUS GAZZETTA 2013 2014'!D22,'BONUS GAZZETTA 2013 2014'!F22,'BONUS GAZZETTA 2013 2014'!H22,'BONUS GAZZETTA 2013 2014'!J22,'BONUS GAZZETTA 2013 2014'!L22,'BONUS GAZZETTA 2013 2014'!N22,'BONUS GAZZETTA 2013 2014'!P22,'BONUS GAZZETTA 2013 2014'!S22,'BONUS GAZZETTA 2013 2014'!U22,'BONUS GAZZETTA 2013 2014'!V22,'BONUS GAZZETTA 2013 2014'!X22,'BONUS GAZZETTA 2013 2014'!Z22,'BONUS GAZZETTA 2013 2014'!AB22,'BONUS GAZZETTA 2013 2014'!AD22,'BONUS GAZZETTA 2013 2014'!AF22,'BONUS GAZZETTA 2013 2014'!AH22,'BONUS GAZZETTA 2013 2014'!AJ22,'BONUS GAZZETTA 2013 2014'!AK22,'BONUS GAZZETTA 2013 2014'!AM22) -> 4 | BG22: =SUM('BONUS GAZZETTA 2013 2014'!C22,'BONUS GAZZETTA 2013 2014'!E22,'BONUS GAZZETTA 2013 2014'!G22,'BONUS GAZZETTA 2013 2014'!I22,'BONUS GAZZETTA 2013 2014'!K22,'BONUS GAZZETTA 2013 2014'!M22,'BONUS GAZZETTA 2013 2014'!O22,'BONUS GAZZETTA 2013 2014'!Q22,'BONUS GAZZETTA 2013 2014'!R22,'BONUS GAZZETTA 2013 2014'!T22,'BONUS GAZZETTA 2013 2014'!W22,'BONUS GAZZETTA 2013 2014'!Y22,'BONUS GAZZETTA 2013 2014'!AA22,'BONUS GAZZETTA 2013 2014'!AC22,'BONUS GAZZETTA 2013 2014'!AE22,'BONUS GAZZETTA 2013 2014'!AG22,'BONUS GAZZETTA 2013 2014'!AI22,'BONUS GAZZETTA 2013 2014'!AL22,'BONUS GAZZETTA 2013 2014'!AN22) -> -4.5 | BH22: =SUM(BD22,BF22) -> 108.5 | BI22: =SUM(BE22,BG22) -> 89
A23: C | B23: ESTIGARRIBIA | Y23: 6 | AA23: SV | AC23: 6 | AD23: 6.5 | AE23: 5 | AF23: 5.5 | AG23: 7 | AH23: 6.5 | AI23: 5.5 | AJ23: 6 | AK23: SV | AL23: 5.5 | AO23: =COUNT(C23:AN23) -> 10 | AP23: =COUNT(D23,F23,H23,J23,L23,N23,P23,S23,U23,V23,X23,Z23,AB23,AD23,AF23,AH23,AJ23,AK23,AM23) -> 4 | AQ23: =COUNT(C23,E23,G23,I23,K23,M23,O23,Q23,R23,T23,W23,Y23,AA23,AC23,AE23,AG23,AI23,AL23,AN23) -> 6 | AR23: =AVERAGE(C23:AN23) -> 5.95 | AS23: =AVERAGE(C23:U23) -> #DIV/0! | AT23: =AVERAGE(V23:AN23) -> 5.95 | AU23: =MODE(C23:AN23) -> 6 | AV23: =AVERAGE(D23,F23,H23,J23,L23,N23,P23,S23,U23,V23,X23,Z23,AB23,AD23,AF23,AH23,AJ23,AK23,AM23) -> 6.125 | AW23: =AVERAGE(C23,E23,G23,I23,K23,M23,O23,Q23,R23,T23,W23,Y23,AA23,AC23,AE23,AG23,AI23,AL23,AN23) -> 5.8333333 | AX23: =BC23/AO23 -> 6.15 | AY23: =BH23/AP23 -> 6.125 | AZ23: =BI23/AQ23 -> 6.1666667 | BA23: =SUM(C23:AN23) -> 59.5 | BB23: =SUM('BONUS GAZZETTA 2013 2014'!C23:AN23) -> 2 | BC23: =SUM(BA23:BB23) -> 61.5 | BD23: =SUM(D23,F23,H23,J23,L23,N23,P23,S23,U23,V23,X23,Z23,AB23,AD23,AF23,AH23,AJ23,AK23,AM23) -> 24.5 | BE23: =SUM(C23,E23,G23,I23,K23,M23,O23,Q23,R23,T23,W23,Y23,AA23,AC23,AE23,AG23,AI23,AL23,AN23) -> 35 | BF23: =SUM('BONUS GAZZETTA 2013 2014'!D23,'BONUS GAZZETTA 2013 2014'!F23,'BONUS GAZZETTA 2013 2014'!H23,'BONUS GAZZETTA 2013 2014'!J23,'BONUS GAZZETTA 2013 2014'!L23,'BONUS GAZZETTA 2013 2014'!N23,'BONUS GAZZETTA 2013 2014'!P23,'BONUS GAZZETTA 2013 2014'!S23,'BONUS GAZZETTA 2013 2014'!U23,'BONUS GAZZETTA 2013 2014'!V23,'BONUS GAZZETTA 2013 2014'!X23,'BONUS GAZZETTA 2013 2014'!Z23,'BONUS GAZZETTA 2013 2014'!AB23,'BONUS GAZZETTA 2013 2014'!AD23,'BONUS GAZZETTA 2013 2014'!AF23,'BONUS GAZZETTA 2013 2014'!AH23,'BONUS GAZZETTA 2013 2014'!AJ23,'BONUS GAZZETTA 2013 2014'!AK23,'BONUS GAZZETTA 2013 2014'!AM23) -> 0 | BG23: =SUM('BONUS GAZZETTA 2013 2014'!C23,'BONUS GAZZETTA 2013 2014'!E23,'BONUS GAZZETTA 2013 2014'!G23,'BONUS GAZZETTA 2013 2014'!I23,'BONUS GAZZETTA 2013 2014'!K23,'BONUS GAZZETTA 2013 2014'!M23,'BONUS GAZZETTA 2013 2014'!O23,'BONUS GAZZETTA 2013 2014'!Q23,'BONUS GAZZETTA 2013 2014'!R23,'BONUS GAZZETTA 2013 2014'!T23,'BONUS GAZZETTA 2013 2014'!W23,'BONUS GAZZETTA 2013 2014'!Y23,'BONUS GAZZETTA 2013 2014'!AA23,'BONUS GAZZETTA 2013 2014'!AC23,'BONUS GAZZETTA 2013 2014'!AE23,'BONUS GAZZETTA 2013 2014'!AG23,'BONUS GAZZETTA 2013 2014'!AI23,'BONUS GAZZETTA 2013 2014'!AL23,'BONUS GAZZETTA 2013 2014'!AN23) -> 2 | BH23: =SUM(BD23,BF23) -> 24.5 | BI23: =SUM(BE23,BG23) -> 37
A24: C | B24: GIORGI | Q24: 6 | AO24: =COUNT(C24:AN24) -> 1 | AP24: =COUNT(D24,F24,H24,J24,L24,N24,P24,S24,U24,V24,X24,Z24,AB24,AD24,AF24,AH24,AJ24,AK24,AM24) -> 0 | AQ24: =COUNT(C24,E24,G24,I24,K24,M24,O24,Q24,R24,T24,W24,Y24,AA24,AC24,AE24,AG24,AI24,AL24,AN24) -> 1 | AR24: =AVERAGE(C24:AN24) -> 6 | AS24: =AVERAGE(C24:U24) -> 6 | AT24: =AVERAGE(V24:AN24) -> #DIV/0! | AU24: =MODE(C24:AN24) -> #N/A | AV24: =AVERAGE(D24,F24,H24,J24,L24,N24,P24,S24,U24,V24,X24,Z24,AB24,AD24,AF24,AH24,AJ24,AK24,AM24) -> #DIV/0! | AW24: =AVERAGE(C24,E24,G24,I24,K24,M24,O24,Q24,R24,T24,W24,Y24,AA24,AC24,AE24,AG24,AI24,AL24,AN24) -> 6 | AX24: =BC24/AO24 -> 6 | AY24: =BH24/AP24 -> #DIV/0! | AZ24: =BI24/AQ24 -> 6 | BA24: =SUM(C24:AN24) -> 6 | BB24: =SUM('BONUS GAZZETTA 2013 2014'!C24:AN24) -> 0 | BC24: =SUM(BA24:BB24) -> 6 | BD24: =SUM(D24,F24,H24,J24,L24,N24,P24,S24,U24,V24,X24,Z24,AB24,AD24,AF24,AH24,AJ24,AK24,AM24) -> 0 | BE24: =SUM(C24,E24,G24,I24,K24,M24,O24,Q24,R24,T24,W24,Y24,AA24,AC24,AE24,AG24,AI24,AL24,AN24) -> 6 | BF24: =SUM('BONUS GAZZETTA 2013 2014'!D24,'BONUS GAZZETTA 2013 2014'!F24,'BONUS GAZZETTA 2013 2014'!H24,'BONUS GAZZETTA 2013 2014'!J24,'BONUS GAZZETTA 2013 2014'!L24,'BONUS GAZZETTA 2013 2014'!N24,'BONUS GAZZETTA 2013 2014'!P24,'BONUS GAZZETTA 2013 2014'!S24,'BONUS GAZZETTA 2013 2014'!U24,'BONUS GAZZETTA 2013 2014'!V24,'BONUS GAZZETTA 2013 2014'!X24,'BONUS GAZZETTA 2013 2014'!Z24,'BONUS GAZZETTA 2013 2014'!AB24,'BONUS GAZZETTA 2013 2014'!AD24,'BONUS GAZZETTA 2013 2014'!AF24,'BONUS GAZZETTA 2013 2014'!AH24,'BONUS GAZZETTA 2013 2014'!AJ24,'BONUS GAZZETTA 2013 2014'!AK24,'BONUS GAZZETTA 2013 2014'!AM24) -> 0 | BG24: =SUM('BONUS GAZZETTA 2013 2014'!C24,'BONUS GAZZETTA 2013 2014'!E24,'BONUS GAZZETTA 2013 2014'!G24,'BONUS GAZZETTA 2013 2014'!I24,'BONUS GAZZETTA 2013 2014'!K24,'BONUS GAZZETTA 2013 2014'!M24,'BONUS GAZZETTA 2013 2014'!O24,'BONUS GAZZETTA 2013 2014'!Q24,'BONUS GAZZETTA 2013 2014'!R24,'BONUS GAZZETTA 2013 2014'!T24,'BONUS GAZZETTA 2013 2014'!W24,'BONUS GAZZETTA 2013 2014'!Y24,'BONUS GAZZETTA 2013 2014'!AA24,'BONUS GAZZETTA 2013 2014'!AC24,'BONUS GAZZETTA 2013 2014'!AE24,'BONUS GAZZETTA 2013 2014'!AG24,'BONUS GAZZETTA 2013 2014'!AI24,'BONUS GAZZETTA 2013 2014'!AL24,'BONUS GAZZETTA 2013 2014'!AN24) -> 0 | BH24: =SUM(BD24,BF24) -> 0 | BI24: =SUM(BE24,BG24) -> 6
A25: C | B25: KONE M. | C25: 5.5 | D25: 5.5 | P25: 5.5 | Q25: 6 | R25: 6 | S25: SV | U25: SV | AN25: 6.5 | AO25: =COUNT(C25:AN25) -> 6 | AP25: =COUNT(D25,F25,H25,J25,L25,N25,P25,S25,U25,V25,X25,Z25,AB25,AD25,AF25,AH25,AJ25,AK25,AM25) -> 2 | AQ25: =COUNT(C25,E25,G25,I25,K25,M25,O25,Q25,R25,T25,W25,Y25,AA25,AC25,AE25,AG25,AI25,AL25,AN25) -> 4 | AR25: =AVERAGE(C25:AN25) -> 5.8333333 | AS25: =AVERAGE(C25:U25) -> 5.7 | AT25: =AVERAGE(V25:AN25) -> 6.5 | AU25: =MODE(C25:AN25) -> 5.5 | AV25: =AVERAGE(D25,F25,H25,J25,L25,N25,P25,S25,U25,V25,X25,Z25,AB25,AD25,AF25,AH25,AJ25,AK25,AM25) -> 5.5 | AW25: =AVERAGE(C25,E25,G25,I25,K25,M25,O25,Q25,R25,T25,W25,Y25,AA25,AC25,AE25,AG25,AI25,AL25,AN25) -> 6 | AX25: =BC25/AO25 -> 6.25 | AY25: =BH25/AP25 -> 5.5 | AZ25: =BI25/AQ25 -> 6.625 | BA25: =SUM(C25:AN25) -> 35 | BB25: =SUM('BONUS GAZZETTA 2013 2014'!C25:AN25) -> 2.5 | BC25: =SUM(BA25:BB25) -> 37.5 | BD25: =SUM(D25,F25,H25,J25,L25,N25,P25,S25,U25,V25,X25,Z25,AB25,AD25,AF25,AH25,AJ25,AK25,AM25) -> 11 | BE25: =SUM(C25,E25,G25,I25,K25,M25,O25,Q25,R25,T25,W25,Y25,AA25,AC25,AE25,AG25,AI25,AL25,AN25) -> 24 | BF25: =SUM('BONUS GAZZETTA 2013 2014'!D25,'BONUS GAZZETTA 2013 2014'!F25,'BONUS GAZZETTA 2013 2014'!H25,'BONUS GAZZETTA 2013 2014'!J25,'BONUS GAZZETTA 2013 2014'!L25,'BONUS GAZZETTA 2013 2014'!N25,'BONUS GAZZETTA 2013 2014'!P25,'BONUS GAZZETTA 2013 2014'!S25,'BONUS GAZZETTA 2013 2014'!U25,'BONUS GAZZETTA 2013 2014'!V25,'BONUS GAZZETTA 2013 2014'!X25,'BONUS GAZZETTA 2013 2014'!Z25,'BONUS GAZZETTA 2013 2014'!AB25,'BONUS GAZZETTA 2013 2014'!AD25,'BONUS GAZZETTA 2013 2014'!AF25,'BONUS GAZZETTA 2013 2014'!AH25,'BONUS GAZZETTA 2013 2014'!AJ25,'BONUS GAZZETTA 2013 2014'!AK25,'BONUS GAZZETTA 2013 2014'!AM25) -> 0 | BG25: =SUM('BONUS GAZZETTA 2013 2014'!C25,'BONUS GAZZETTA 2013 2014'!E25,'BONUS GAZZETTA 2013 2014'!G25,'BONUS GAZZETTA 2013 2014'!I25,'BONUS GAZZETTA 2013 2014'!K25,'BONUS GAZZETTA 2013 2014'!M25,'BONUS GAZZETTA 2013 2014'!O25,'BONUS GAZZETTA 2013 2014'!Q25,'BONUS GAZZETTA 2013 2014'!R25,'BONUS GAZZETTA 2013 2014'!T25,'BONUS GAZZETTA 2013 2014'!W25,'BONUS GAZZETTA 2013 2014'!Y25,'BONUS GAZZETTA 2013 2014'!AA25,'BONUS GAZZETTA 2013 2014'!AC25,'BONUS GAZZETTA 2013 2014'!AE25,'BONUS GAZZETTA 2013 2014'!AG25,'BONUS GAZZETTA 2013 2014'!AI25,'BONUS GAZZETTA 2013 2014'!AL25,'BONUS GAZZETTA 2013 2014'!AN25) -> 2.5 | BH25: =SUM(BD25,BF25) -> 11 | BI25: =SUM(BE25,BG25) -> 26.5
A26: C | B26: MIGLIACCIO | F26: 5.5 | H26: 6.5 | L26: SV | M26: 5 | N26: 6 | O26: 5.5 | Q26: 5.5 | R26: 6.5 | S26: 4.5 | T26: 5 | U26: 6 | V26: 5.5 | X26: 6.5 | Y26: 6 | Z26: 5.5 | AB26: SV | AC26: 6 | AI26: 6 | AK26: 6 | AM26: 6 | AO26: =COUNT(C26:AN26) -> 18 | AP26: =COUNT(D26,F26,H26,J26,L26,N26,P26,S26,U26,V26,X26,Z26,AB26,AD26,AF26,AH26,AJ26,AK26,AM26) -> 10 | AQ26: =COUNT(C26,E26,G26,I26,K26,M26,O26,Q26,R26,T26,W26,Y26,AA26,AC26,AE26,AG26,AI26,AL26,AN26) -> 8 | AR26: =AVERAGE(C26:AN26) -> 5.75 | AS26: =AVERAGE(C26:U26) -> 5.6 | AT26: =AVERAGE(V26:AN26) -> 5.9375 | AU26: =MODE(C26:AN26) -> 6 | AV26: =AVERAGE(D26,F26,H26,J26,L26,N26,P26,S26,U26,V26,X26,Z26,AB26,AD26,AF26,AH26,AJ26,AK26,AM26) -> 5.8 | AW26: =AVERAGE(C26,E26,G26,I26,K26,M26,O26,Q26,R26,T26,W26,Y26,AA26,AC26,AE26,AG26,AI26,AL26,AN26) -> 5.6875 | AX26: =BC26/AO26 -> 5.75 | AY26: =BH26/AP26 -> 5.55 | AZ26: =BI26/AQ26 -> 6 | BA26: =SUM(C26:AN26) -> 103.5 | BB26: =SUM('BONUS GAZZETTA 2013 2014'!C26:AN26) -> 0 | BC26: =SUM(BA26:BB26) -> 103.5 | BD26: =SUM(D26,F26,H26,J26,L26,N26,P26,S26,U26,V26,X26,Z26,AB26,AD26,AF26,AH26,AJ26,AK26,AM26) -> 58 | BE26: =SUM(C26,E26,G26,I26,K26,M26,O26,Q26,R26,T26,W26,Y26,AA26,AC26,AE26,AG26,AI26,AL26,AN26) -> 45.5 | BF26: =SUM('BONUS GAZZETTA 2013 2014'!D26,'BONUS GAZZETTA 2013 2014'!F26,'BONUS GAZZETTA 2013 2014'!H26,'BONUS GAZZETTA 2013 2014'!J26,'BONUS GAZZETTA 2013 2014'!L26,'BONUS GAZZETTA 2013 2014'!N26,'BONUS GAZZETTA 2013 2014'!P26,'BONUS GAZZETTA 2013 2014'!S26,'BONUS GAZZETTA 2013 2014'!U26,'BONUS GAZZETTA 2013 2014'!V26,'BONUS GAZZETTA 2013 2014'!X26,'BONUS GAZZETTA 2013 2014'!Z26,'BONUS GAZZETTA 2013 2014'!AB26,'BONUS GAZZETTA 2013 2014'!AD26,'BONUS GAZZETTA 2013 2014'!AF26,'BONUS GAZZETTA 2013 2014'!AH26,'BONUS GAZZETTA 2013 2014'!AJ26,'BONUS GAZZETTA 2013 2014'!AK26,'BONUS GAZZETTA 2013 2014'!AM26) -> -2.5 | BG26: =SUM('BONUS GAZZETTA 2013 2014'!C26,'BONUS GAZZETTA 2013 2014'!E26,'BONUS GAZZETTA 2013 2014'!G26,'BONUS GAZZETTA 2013 2014'!I26,'BONUS GAZZETTA 2013 2014'!K26,'BONUS GAZZETTA 2013 2014'!M26,'BONUS GAZZETTA 2013 2014'!O26,'BONUS GAZZETTA 2013 2014'!Q26,'BONUS GAZZETTA 2013 2014'!R26,'BONUS GAZZETTA 2013 2014'!T26,'BONUS GAZZETTA 2013 2014'!W26,'BONUS GAZZETTA 2013 2014'!Y26,'BONUS GAZZETTA 2013 2014'!AA26,'BONUS GAZZETTA 2013 2014'!AC26,'BONUS GAZZETTA 2013 2014'!AE26,'BONUS GAZZETTA 2013 2014'!AG26,'BONUS GAZZETTA 2013 2014'!AI26,'BONUS GAZZETTA 2013 2014'!AL26,'BONUS GAZZETTA 2013 2014'!AN26) -> 2.5 | BH26: =SUM(BD26,BF26) -> 55.5 | BI26: =SUM(BE26,BG26) -> 48
