Workbook

Sheet DB 2013-2014
A1: Giocatore | B1: Ruolo | C1: Squadra | D1: Presenze | E1: MV | F1: TotV | G1: FM | H1: TotF | I1: Gol | J1: Golsub | K1: Au | L1: As | M1: Gia | N1: Ros | O1: Rig+ | P1: Rig- | Q1: Rigsub | R1: Rigpar
A2: DOUKARA | B2: A | C2: catania | D2: 1 | E2: 5 | F2: 5 | G2: 1.5 | H2: 1.5 | I2: 0 | J2: 0 | K2: 0 | L2: 0 | M2: 1 | N2: 0 | O2: 0 | P2: 1 | Q2: 0 | R2: 0
A3: GOMIS A. | B3: P | C3: torino | D3: 1 | E3: 5.5 | F3: 5.5 | G3: 4 | H3: 4 | I3: 0 | J3: 1 | K3: 0 | L3: 0 | M3: 1 | N3: 0 | O3: 0 | P3: 0 | Q3: 0 | R3: 0
A4: DONSAH | B4: C | C4: verona | D4: 1 | E4: 6 | F4: 6 | G4: 5.5 | H4: 5.5 | I4: 0 | J4: 0 | K4: 0 | L4: 0 | M4: 1 | N4: 0 | O4: 0 | P4: 0 | Q4: 0 | R4: 0
A5: ERAMO | B5: C | C5: sampdoria | D5: 1 | E5: 5.5 | F5: 5.5 | G5: 5 | H5: 5 | I5: 0 | J5: 0 | K5: 0 | L5: 0 | M5: 1 | N5: 0 | O5: 0 | P5: 0 | Q5: 0 | R5: 0
A6: NICA | B6: D | C6: atalanta | D6: 4 | E6: 5.75 | F6: 23 | G6: 5.375 | H6: 21.5 | I6: 0 | J6: 0 | K6: 0 | L6: 0 | M6: 1 | N6: 1 | O6: 0 | P6: 0 | Q6: 0 | R6: 0
A7: SILVESTRI | B7: P | C7: cagliari | D7: 3 | E7: 6.1666667 | F7: 18.5 | G7: 3.5 | H7: 10.5 | I7: 0 | J7: 5 | K7: 1 | L7: 0 | M7: 0 | N7: 1 | O7: 0 | P7: 0 | Q7: 1 | R7: 0
A8: SAMPIRISI | B8: D | C8: genoa | D8: 3 | E8: 5.3333333 | F8: 16 | G8: 5 | H8: 15 | I8: 0 | J8: 0 | K8: 0 | L8: 0 | M8: 0 | N8: 1 | O8: 0 | P8: 0 | Q8: 0 | R8: 0
A9: BARILLA' | B9: C | C9: sampdoria | D9: 3 | E9: 5.3333333 | F9: 16 | G9: 5 | H9: 15 | I9: 0 | J9: 0 | K9: 0 | L9: 0 | M9: 0 | N9: 1 | O9: 0 | P9: 0 | Q9: 0 | R9: 0
A10: SAMUEL | B10: D | C10: inter | D10: 14 | E10: 6.0714286 | F10: 85 | G10: 6.1785714 | H10: 86.5 | I10: 2 | J10: 0 | K10: 0 | L10: 0 | M10: 9 | N10: 0 | O10: 0 | P10: 0 | Q10: 0 | R10: 0
A11: GUANA | B11: C | C11: chievo | D11: 8 | E11: 5.875 | F11: 47 | G11: 5.5625 | H11: 44.5 | I11: 0 | J11: 0 | K11: 0 | L11: 0 | M11: 5 | N11: 0 | O11: 0 | P11: 0 | Q11: 0 | R11: 0
A12: MANFREDINI | B12: D | C12: sassuolo | D12: 18 | E12: 5.5277778 | F12: 99.5 | G12: 5.1111111 | H12: 92 | I12: 0 | J12: 0 | K12: 1 | L12: 0 | M12: 7 | N12: 2 | O12: 0 | P12: 0 | Q12: 0 | R12: 0
A13: COSTA | B13: D | C13: sampdoria | D13: 20 | E13: 5.6 | F13: 112 | G13: 5.375 | H13: 107.5 | I13: 0 | J13: 0 | K13: 0 | L13: 1 | M13: 9 | N13: 1 | O13: 0 | P13: 0 | Q13: 0 | R13: 0
... A544: YAKOVENKO | B544: A | C544: fiorentina | D544: 2 | E544: 5.25 | F544: 10.5 | G544: 5.25 | H544: 10.5 | I544: 0 | J544: 0 | K544: 0 | L544: 0 | M544: 0 | N544: 0 | O544: 0 | P544: 0 | Q544: 0 | R544: 0

Sheet Cart
E1: 2013-2014 | L1: 2013-2014 | S1: 2013-2014
B2: Difesa | C2: Squadr | D2: Gare | E2: M/G | F2: Giall | G2: Ros | I2: Centrocampo | J2: Squadr | K2: Gare | L2: M/G | M2: Giall | N2: Ros | P2: Attacco | Q2: Squadr | R2: Gare | S2: M/G | T2: Giall | U2: Ros
B3: PINILLA | C3: =LEFT(VLOOKUP($B3,'DB 2013-2014'!$A:$X,3,0),3) -> cag | D3: =VLOOKUP($B3,'DB 2013-2014'!$A:$X,4,0) -> 24 | E3: =(F3/2+G3)/D3 -> 0.20833333 | F3: =VLOOKUP($B3,'DB 2013-2014'!$A:$X,13,0) -> 8 | G3: =VLOOKUP($B3,'DB 2013-2014'!$A:$X,14,0) -> 1 | I3: PINZI | J3: =LEFT(VLOOKUP($I3,'DB 2013-2014'!$A:$X,3,0),3) -> udi | K3: =VLOOKUP($I3,'DB 2013-2014'!$A:$X,4,0) -> 22 | L3: =(M3/2+N3)/K3 -> 0.27272727 | M3: =VLOOKUP($I3,'DB 2013-2014'!$A:$X,13,0) -> 12 | N3: =VLOOKUP($I3,'DB 2013-2014'!$A:$X,14,0) -> 0 | P3: CESAR | Q3: =LEFT(VLOOKUP($P3,'DB 2013-2014'!$A:$X,3,0),3) -> chi | R3: =VLOOKUP($P3,'DB 2013-2014'!$A:$X,4,0) -> 32 | S3: =(T3/2+U3)/R3 -> 0.265625 | T3: =VLOOKUP($P3,'DB 2013-2014'!$A:$X,13,0) -> 15 | U3: =VLOOKUP($P3,'DB 2013-2014'!$A:$X,14,0) -> 1
B4: BERARDI D. | C4: =LEFT(VLOOKUP($B4,'DB 2013-2014'!$A:$X,3,0),3) -> sas | D4: =VLOOKUP($B4,'DB 2013-2014'!$A:$X,4,0) -> 29 | E4: =(F4/2+G4)/D4 -> 0.20689655 | F4: =VLOOKUP($B4,'DB 2013-2014'!$A:$X,13,0) -> 10 | G4: =VLOOKUP($B4,'DB 2013-2014'!$A:$X,14,0) -> 1 | I4: CONTI | J4: =LEFT(VLOOKUP($I4,'DB 2013-2014'!$A:$X,3,0),3) -> cag | K4: =VLOOKUP($I4,'DB 2013-2014'!$A:$X,4,0) -> 31 | L4: =(M4/2+N4)/K4 -> 0.25806452 | M4: =VLOOKUP($I4,'DB 2013-2014'!$A:$X,13,0) -> 12 | N4: =VLOOKUP($I4,'DB 2013-2014'!$A:$X,14,0) -> 2 | P4: LUCARELLI | Q4: =LEFT(VLOOKUP($P4,'DB 2013-2014'!$A:$X,3,0),3) -> par | R4: =VLOOKUP($P4,'DB 2013-2014'!$A:$X,4,0) -> 34 | S4: =(T4/2+U4)/R4 -> 0.23529412 | T4: =VLOOKUP($P4,'DB 2013-2014'!$A:$X,13,0) -> 14 | U4: =VLOOKUP($P4,'DB 2013-2014'!$A:$X,14,0) -> 1
B5: BALOTELLI | C5: =LEFT(VLOOKUP($B5,'DB 2013-2014'!$A:$X,3,0),3) -> mil | D5: =VLOOKUP($B5,'DB 2013-2014'!$A:$X,4,0) -> 30 | E5: =(F5/2+G5)/D5 -> 0.18333333 | F5: =VLOOKUP($B5,'DB 2013-2014'!$A:$X,13,0) -> 9 | G5: =VLOOKUP($B5,'DB 2013-2014'!$A:$X,14,0) -> 1 | I5: KONE | J5: =LEFT(VLOOKUP($I5,'DB 2013-2014'!$A:$X,3,0),3) -> bol | K5: =VLOOKUP($I5,'DB 2013-2014'!$A:$X,4,0) -> 28 | L5: =(M5/2+N5)/K5 -> 0.25 | M5: =VLOOKUP($I5,'DB 2013-2014'!$A:$X,13,0) -> 12 | N5: =VLOOKUP($I5,'DB 2013-2014'!$A:$X,14,0) -> 1 | P5: CANNAVARO | Q5: =LEFT(VLOOKUP($P5,'DB 2013-2014'!$A:$X,3,0),3) -> sas | R5: =VLOOKUP($P5,'DB 2013-2014'!$A:$X,4,0) -> 20 | S5: =(T5/2+U5)/R5 -> 0.2 | T5: =VLOOKUP($P5,'DB 2013-2014'!$A:$X,13,0) -> 4 | U5: =VLOOKUP($P5,'DB 2013-2014'!$A:$X,14,0) -> 2
B6: IMMOBILE | C6: =LEFT(VLOOKUP($B6,'DB 2013-2014'!$A:$X,3,0),3) -> tor | D6: =VLOOKUP($B6,'DB 2013-2014'!$A:$X,4,0) -> 33 | E6: =(F6/2+G6)/D6 -> 0.18181818 | F6: =VLOOKUP($B6,'DB 2013-2014'!$A:$X,13,0) -> 10 | G6: =VLOOKUP($B6,'DB 2013-2014'!$A:$X,14,0) -> 1 | I6: DIAMANTI | J6: =LEFT(VLOOKUP($I6,'DB 2013-2014'!$A:$X,3,0),3) -> bol | K6: =VLOOKUP($I6,'DB 2013-2014'!$A:$X,4,0) -> 19 | L6: =(M6/2+N6)/K6 -> 0.23684211 | M6: =VLOOKUP($I6,'DB 2013-2014'!$A:$X,13,0) -> 9 | N6: =VLOOKUP($I6,'DB 2013-2014'!$A:$X,14,0) -> 0 | P6: RODRIGUEZ GON. | Q6: =LEFT(VLOOKUP($P6,'DB 2013-2014'!$A:$X,3,0),3) -> fio | R6: =VLOOKUP($P6,'DB 2013-2014'!$A:$X,4,0) -> 33 | S6: =(T6/2+U6)/R6 -> 0.1969697 | T6: =VLOOKUP($P6,'DB 2013-2014'!$A:$X,13,0) -> 13 | U6: =VLOOKUP($P6,'DB 2013-2014'!$A:$X,14,0) -> 0
B7: ZAZA | C7: =LEFT(VLOOKUP($B7,'DB 2013-2014'!$A:$X,3,0),3) -> sas | D7: =VLOOKUP($B7,'DB 2013-2014'!$A:$X,4,0) -> 33 | E7: =(F7/2+G7)/D7 -> 0.18181818 | F7: =VLOOKUP($B7,'DB 2013-2014'!$A:$X,13,0) -> 10 | G7: =VLOOKUP($B7,'DB 2013-2014'!$A:$X,14,0) -> 1 | I7: VIVES | J7: =LEFT(VLOOKUP($I7,'DB 2013-2014'!$A:$X,3,0),3) -> tor | K7: =VLOOKUP($I7,'DB 2013-2014'!$A:$X,4,0) -> 33 | L7: =(M7/2+N7)/K7 -> 0.22727273 | M7: =VLOOKUP($I7,'DB 2013-2014'!$A:$X,13,0) -> 15 | N7: =VLOOKUP($I7,'DB 2013-2014'!$A:$X,14,0) -> 0 | P7: DOMIZZI | Q7: =LEFT(VLOOKUP($P7,'DB 2013-2014'!$A:$X,3,0),3) -> udi | R7: =VLOOKUP($P7,'DB 2013-2014'!$A:$X,4,0) -> 26 | S7: =(T7/2+U7)/R7 -> 0.19230769 | T7: =VLOOKUP($P7,'DB 2013-2014'!$A:$X,13,0) -> 10 | U7: =VLOOKUP($P7,'DB 2013-2014'!$A:$X,14,0) -> 0
B8: BERGESSIO | C8: =LEFT(VLOOKUP($B8,'DB 2013-2014'!$A:$X,3,0),3) -> cat | D8: =VLOOKUP($B8,'DB 2013-2014'!$A:$X,4,0) -> 29 | E8: =(F8/2+G8)/D8 -> 0.15517241 | F8: =VLOOKUP($B8,'DB 2013-2014'!$A:$X,13,0) -> 7 | G8: =VLOOKUP($B8,'DB 2013-2014'!$A:$X,14,0) -> 1 | I8: RIGONI L. | J8: =LEFT(VLOOKUP($I8,'DB 2013-2014'!$A:$X,3,0),3) -> chi | K8: =VLOOKUP($I8,'DB 2013-2014'!$A:$X,4,0) -> 33 | L8: =(M8/2+N8)/K8 -> 0.22727273 | M8: =VLOOKUP($I8,'DB 2013-2014'!$A:$X,13,0) -> 15 | N8: =VLOOKUP($I8,'DB 2013-2014'!$A:$X,14,0) -> 0 | P8: RANOCCHIA | Q8: =LEFT(VLOOKUP($P8,'DB 2013-2014'!$A:$X,3,0),3) -> int | R8: =VLOOKUP($P8,'DB 2013-2014'!$A:$X,4,0) -> 24 | S8: =(T8/2+U8)/R8 -> 0.1875 | T8: =VLOOKUP($P8,'DB 2013-2014'!$A:$X,13,0) -> 9 | U8: =VLOOKUP($P8,'DB 2013-2014'!$A:$X,14,0) -> 0
B9: DESTRO | C9: =LEFT(VLOOKUP($B9,'DB 2013-2014'!$A:$X,3,0),3) -> rom | D9: =VLOOKUP($B9,'DB 2013-2014'!$A:$X,4,0) -> 18 | E9: =(F9/2+G9)/D9 -> 0.13888889 | F9: =VLOOKUP($B9,'DB 2013-2014'!$A:$X,13,0) -> 5 | G9: =VLOOKUP($B9,'DB 2013-2014'!$A:$X,14,0) -> 0 | I9: PEREZ | J9: =LEFT(VLOOKUP($I9,'DB 2013-2014'!$A:$X,3,0),3) -> bol | K9: =VLOOKUP($I9,'DB 2013-2014'!$A:$X,4,0) -> 24 | L9: =(M9/2+N9)/K9 -> 0.20833333 | M9: =VLOOKUP($I9,'DB 2013-2014'!$A:$X,13,0) -> 10 | N9: =VLOOKUP($I9,'DB 2013-2014'!$A:$X,14,0) -> 0 | P9: DE SCIGLIO | Q9: =LEFT(VLOOKUP($P9,'DB 2013-2014'!$A:$X,3,0),3) -> mil | R9: =VLOOKUP($P9,'DB 2013-2014'!$A:$X,4,0) -> 16 | S9: =(T9/2+U9)/R9 -> 0.1875 | T9: =VLOOKUP($P9,'DB 2013-2014'!$A:$X,13,0) -> 4 | U9: =VLOOKUP($P9,'DB 2013-2014'!$A:$X,14,0) -> 1
B10: EDER | C10: =LEFT(VLOOKUP($B10,'DB 2013-2014'!$A:$X,3,0),3) -> sam | D10: =VLOOKUP($B10,'DB 2013-2014'!$A:$X,4,0) -> 33 | E10: =(F10/2+G10)/D10 -> 0.13636364 | F10: =VLOOKUP($B10,'DB 2013-2014'!$A:$X,13,0) -> 7 | G10: =VLOOKUP($B10,'DB 2013-2014'!$A:$X,14,0) -> 1 | I10: LULIC | J10: =LEFT(VLOOKUP($I10,'DB 2013-2014'!$A:$X,3,0),3) -> laz | K10: =VLOOKUP($I10,'DB 2013-2014'!$A:$X,4,0) -> 30 | L10: =(M10/2+N10)/K10 -> 0.2 | M10: =VLOOKUP($I10,'DB 2013-2014'!$A:$X,13,0) -> 10 | N10: =VLOOKUP($I10,'DB 2013-2014'!$A:$X,14,0) -> 1 | P10: BURDISSO | Q10: =LEFT(VLOOKUP($P10,'DB 2013-2014'!$A:$X,3,0),3) -> gen | R10: =VLOOKUP($P10,'DB 2013-2014'!$A:$X,4,0) -> 19 | S10: =(T10/2+U10)/R10 -> 0.18421053 | T10: =VLOOKUP($P10,'DB 2013-2014'!$A:$X,13,0) -> 7 | U10: =VLOOKUP($P10,'DB 2013-2014'!$A:$X,14,0) -> 0
B11: OKAKA | C11: =LEFT(VLOOKUP($B11,'DB 2013-2014'!$A:$X,3,0),3) -> sam | D11: =VLOOKUP($B11,'DB 2013-2014'!$A:$X,4,0) -> 15 | E11: =(F11/2+G11)/D11 -> 0.13333333 | F11: =VLOOKUP($B11,'DB 2013-2014'!$A:$X,13,0) -> 4 | G11: =VLOOKUP($B11,'DB 2013-2014'!$A:$X,14,0) -> 0 | I11: CIGARINI | J11: =LEFT(VLOOKUP($I11,'DB 2013-2014'!$A:$X,3,0),3) -> ata | K11: =VLOOKUP($I11,'DB 2013-2014'!$A:$X,4,0) -> 33 | L11: =(M11/2+N11)/K11 -> 0.1969697 | M11: =VLOOKUP($I11,'DB 2013-2014'!$A:$X,13,0) -> 9 | N11: =VLOOKUP($I11,'DB 2013-2014'!$A:$X,14,0) -> 2 | P11: RADU | Q11: =LEFT(VLOOKUP($P11,'DB 2013-2014'!$A:$X,3,0),3) -> laz | R11: =VLOOKUP($P11,'DB 2013-2014'!$A:$X,4,0) -> 25 | S11: =(T11/2+U11)/R11 -> 0.18 | T11: =VLOOKUP($P11,'DB 2013-2014'!$A:$X,13,0) -> 9 | U11: =VLOOKUP($P11,'DB 2013-2014'!$A:$X,14,0) -> 0
B12: IBARBO | C12: =LEFT(VLOOKUP($B12,'DB 2013-2014'!$A:$X,3,0),3) -> cag | D12: =VLOOKUP($B12,'DB 2013-2014'!$A:$X,4,0) -> 29 | E12: =(F12/2+G12)/D12 -> 0.12068966 | F12: =VLOOKUP($B12,'DB 2013-2014'!$A:$X,13,0) -> 5 | G12: =VLOOKUP($B12,'DB 2013-2014'!$A:$X,14,0) -> 1 | I12: GRECO | J12: =LEFT(VLOOKUP($I12,'DB 2013-2014'!$A:$X,3,0),3) -> liv | K12: =VLOOKUP($I12,'DB 2013-2014'!$A:$X,4,0) -> 31 | L12: =(M12/2+N12)/K12 -> 0.19354839 | M12: =VLOOKUP($I12,'DB 2013-2014'!$A:$X,13,0) -> 12 | N12: =VLOOKUP($I12,'DB 2013-2014'!$A:$X,14,0) -> 0 | P12: PALETTA | Q12: =LEFT(VLOOKUP($P12,'DB 2013-2014'!$A:$X,3,0),3) -> par | R12: =VLOOKUP($P12,'DB 2013-2014'!$A:$X,4,0) -> 20 | S12: =(T12/2+U12)/R12 -> 0.175 | T12: =VLOOKUP($P12,'DB 2013-2014'!$A:$X,13,0) -> 5 | U12: =VLOOKUP($P12,'DB 2013-2014'!$A:$X,14,0) -> 1
B13: GILARDINO | C13: =LEFT(VLOOKUP($B13,'DB 2013-2014'!$A:$X,3,0),3) -> gen | D13: =VLOOKUP($B13,'DB 2013-2014'!$A:$X,4,0) -> 35 | E13: =(F13/2+G13)/D13 -> 0.11428571 | F13: =VLOOKUP($B13,'DB 2013-2014'!$A:$X,13,0) -> 8 | G13: =VLOOKUP($B13,'DB 2013-2014'!$A:$X,14,0) -> 0 | I13: HETEMAJ | J13: =LEFT(VLOOKUP($I13,'DB 2013-2014'!$A:$X,3,0),3) -> chi | K13: =VLOOKUP($I13,'DB 2013-2014'!$A:$X,4,0) -> 32 | L13: =(M13/2+N13)/K13 -> 0.1875 | M13: =VLOOKUP($I13,'DB 2013-2014'!$A:$X,13,0) -> 12 | N13: =VLOOKUP($I13,'DB 2013-2014'!$A:$X,14,0) -> 0 | P13: YEPES | Q13: =LEFT(VLOOKUP($P13,'DB 2013-2014'!$A:$X,3,0),3) -> ata | R13: =VLOOKUP($P13,'DB 2013-2014'!$A:$X,4,0) -> 23 | S13: =(T13/2+U13)/R13 -> 0.17391304 | T13: =VLOOKUP($P13,'DB 2013-2014'!$A:$X,13,0) -> 8 | U13: =VLOOKUP($P13,'DB 2013-2014'!$A:$X,14,0) -> 0
B14: PAULINHO | C14: =LEFT(VLOOKUP($B14,'DB 2013-2014'!$A:$X,3,0),3) -> liv | D14: =VLOOKUP($B14,'DB 2013-2014'!$A:$X,4,0) -> 35 | E14: =(F14/2+G14)/D14 -> 0.11428571 | F14: =VLOOKUP($B14,'DB 2013-2014'!$A:$X,13,0) -> 8 | G14: =VLOOKUP($B14,'DB 2013-2014'!$A:$X,14,0) -> 0 | I14: BARRIENTOS | J14: =LEFT(VLOOKUP($I14,'DB 2013-2014'!$A:$X,3,0),3) -> cat | K14: =VLOOKUP($I14,'DB 2013-2014'!$A:$X,4,0) -> 28 | L14: =(M14/2+N14)/K14 -> 0.17857143 | M14: =VLOOKUP($I14,'DB 2013-2014'!$A:$X,13,0) -> 10 | N14: =VLOOKUP($I14,'DB 2013-2014'!$A:$X,14,0) -> 0 | P14: BENALOUANE | Q14: =LEFT(VLOOKUP($P14,'DB 2013-2014'!$A:$X,3,0),3) -> ata | R14: =VLOOKUP($P14,'DB 2013-2014'!$A:$X,4,0) -> 21 | S14: =(T14/2+U14)/R14 -> 0.16666667 | T14: =VLOOKUP($P14,'DB 2013-2014'!$A:$X,13,0) -> 7 | U14: =VLOOKUP($P14,'DB 2013-2014'!$A:$X,14,0) -> 0
... B17: CALLEJON | C17: =LEFT(VLOOKUP($B17,'DB 2013-2014'!$A:$X,3,0),3) -> nap | D17: =VLOOKUP($B17,'DB 2013-2014'!$A:$X,4,0) -> 37 | E17: =(F17/2+G17)/D17 -> 0.094594595 | F17: =VLOOKUP($B17,'DB 2013-2014'!$A:$X,13,0) -> 7 | G17: =VLOOKUP($B17,'DB 2013-2014'!$A:$X,14,0) -> 0 | I17: CUADRADO | J17: =LEFT(VLOOKUP($I17,'DB 2013-2014'!$A:$X,3,0),3) -> fio | K17: =VLOOKUP($I17,'DB 2013-2014'!$A:$X,4,0) -> 32 | L17: =(M17/2+N17)/K17 -> 0.15625 | M17: =VLOOKUP($I17,'DB 2013-2014'!$A:$X,13,0) -> 8 | N17: =VLOOKUP($I17,'DB 2013-2014'!$A:$X,14,0) -> 1 | P17: STENDARDO | Q17: =LEFT(VLOOKUP($P17,'DB 2013-2014'!$A:$X,3,0),3) -> ata | R17: =VLOOKUP($P17,'DB 2013-2014'!$A:$X,4,0) -> 28 | S17: =(T17/2+U17)/R17 -> 0.16071429 | T17: =VLOOKUP($P17,'DB 2013-2014'!$A:$X,13,0) -> 9 | U17: =VLOOKUP($P17,'DB 2013-2014'!$A:$X,14,0) -> 0
I18: KRSTICIC | J18: =LEFT(VLOOKUP($I18,'DB 2013-2014'!$A:$X,3,0),3) -> sam | K18: =VLOOKUP($I18,'DB 2013-2014'!$A:$X,4,0) -> 32 | L18: =(M18/2+N18)/K18 -> 0.15625 | M18: =VLOOKUP($I18,'DB 2013-2014'!$A:$X,13,0) -> 8 | N18: =VLOOKUP($I18,'DB 2013-2014'!$A:$X,14,0) -> 1 | P18: MBAYE | Q18: =LEFT(VLOOKUP($P18,'DB 2013-2014'!$A:$X,3,0),3) -> liv | R18: =VLOOKUP($P18,'DB 2013-2014'!$A:$X,4,0) -> 25 | S18: =(T18/2+U18)/R18 -> 0.16 | T18: =VLOOKUP($P18,'DB 2013-2014'!$A:$X,13,0) -> 6 | U18: =VLOOKUP($P18,'DB 2013-2014'!$A:$X,14,0) -> 1
I19: CARMONA | J19: =LEFT(VLOOKUP($I19,'DB 2013-2014'!$A:$X,3,0),3) -> ata | K19: =VLOOKUP($I19,'DB 2013-2014'!$A:$X,4,0) -> 32 | L19: =(M19/2+N19)/K19 -> 0.15625 | M19: =VLOOKUP($I19,'DB 2013-2014'!$A:$X,13,0) -> 8 | N19: =VLOOKUP($I19,'DB 2013-2014'!$A:$X,14,0) -> 1 | P19: CASSANI | Q19: =LEFT(VLOOKUP($P19,'DB 2013-2014'!$A:$X,3,0),3) -> par | R19: =VLOOKUP($P19,'DB 2013-2014'!$A:$X,4,0) -> 36 | S19: =(T19/2+U19)/R19 -> 0.15277778 | T19: =VLOOKUP($P19,'DB 2013-2014'!$A:$X,13,0) -> 11 | U19: =VLOOKUP($P19,'DB 2013-2014'!$A:$X,14,0) -> 0
I20: LEDESMA | J20: =LEFT(VLOOKUP($I20,'DB 2013-2014'!$A:$X,3,0),3) -> laz | K20: =VLOOKUP($I20,'DB 2013-2014'!$A:$X,4,0) -> 27 | L20: =(M20/2+N20)/K20 -> 0.14814815 | M20: =VLOOKUP($I20,'DB 2013-2014'!$A:$X,13,0) -> 6 | N20: =VLOOKUP($I20,'DB 2013-2014'!$A:$X,14,0) -> 1 | P20: ROSSETTINI | Q20: =LEFT(VLOOKUP($P20,'DB 2013-2014'!$A:$X,3,0),3) -> cag | R20: =VLOOKUP($P20,'DB 2013-2014'!$A:$X,4,0) -> 36 | S20: =(T20/2+U20)/R20 -> 0.15277778 | T20: =VLOOKUP($P20,'DB 2013-2014'!$A:$X,13,0) -> 11 | U20: =VLOOKUP($P20,'DB 2013-2014'!$A:$X,14,0) -> 0
I21: BERTOLACCI | J21: =LEFT(VLOOKUP($I21,'DB 2013-2014'!$A:$X,3,0),3) -> gen | K21: =VLOOKUP($I21,'DB 2013-2014'!$A:$X,4,0) -> 25 | L21: =(M21/2+N21)/K21 -> 0.14 | M21: =VLOOKUP($I21,'DB 2013-2014'!$A:$X,13,0) -> 7 | N21: =VLOOKUP($I21,'DB 2013-2014'!$A:$X,14,0) -> 0 | P21: MUSTAFI | Q21: =LEFT(VLOOKUP($P21,'DB 2013-2014'!$A:$X,3,0),3) -> sam | R21: =VLOOKUP($P21,'DB 2013-2014'!$A:$X,4,0) -> 33 | S21: =(T21/2+U21)/R21 -> 0.15151515 | T21: =VLOOKUP($P21,'DB 2013-2014'!$A:$X,13,0) -> 8 | U21: =VLOOKUP($P21,'DB 2013-2014'!$A:$X,14,0) -> 1
I22: VIDAL | J22: =LEFT(VLOOKUP($I22,'DB 2013-2014'!$A:$X,3,0),3) -> juv | K22: =VLOOKUP($I22,'DB 2013-2014'!$A:$X,4,0) -> 29 | L22: =(M22/2+N22)/K22 -> 0.13793103 | M22: =VLOOKUP($I22,'DB 2013-2014'!$A:$X,13,0) -> 8 | N22: =VLOOKUP($I22,'DB 2013-2014'!$A:$X,14,0) -> 0 | P22: REGINI | Q22: =LEFT(VLOOKUP($P22,'DB 2013-2014'!$A:$X,3,0),3) -> sam | R22: =VLOOKUP($P22,'DB 2013-2014'!$A:$X,4,0) -> 27 | S22: =(T22/2+U22)/R22 -> 0.14814815 | T22: =VLOOKUP($P22,'DB 2013-2014'!$A:$X,13,0) -> 6 | U22: =VLOOKUP($P22,'DB 2013-2014'!$A:$X,14,0) -> 1
I23: DE JONG | J23: =LEFT(VLOOKUP($I23,'DB 2013-2014'!$A:$X,3,0),3) -> mil | K23: =VLOOKUP($I23,'DB 2013-2014'!$A:$X,4,0) -> 33 | L23: =(M23/2+N23)/K23 -> 0.13636364 | M23: =VLOOKUP($I23,'DB 2013-2014'!$A:$X,13,0) -> 9 | N23: =VLOOKUP($I23,'DB 2013-2014'!$A:$X,14,0) -> 0 | P23: FREY N. | Q23: =LEFT(VLOOKUP($P23,'DB 2013-2014'!$A:$X,3,0),3) -> chi | R23: =VLOOKUP($P23,'DB 2013-2014'!$A:$X,4,0) -> 31 | S23: =(T23/2+U23)/R23 -> 0.14516129 | T23: =VLOOKUP($P23,'DB 2013-2014'!$A:$X,13,0) -> 9 | U23: =VLOOKUP($P23,'DB 2013-2014'!$A:$X,14,0) -> 0
I24: MARCHIONNI M. | J24: =LEFT(VLOOKUP($I24,'DB 2013-2014'!$A:$X,3,0),3) -> par | K24: =VLOOKUP($I24,'DB 2013-2014'!$A:$X,4,0) -> 33 | L24: =(M24/2+N24)/K24 -> 0.13636364 | M24: =VLOOKUP($I24,'DB 2013-2014'!$A:$X,13,0) -> 9 | N24: =VLOOKUP($I24,'DB 2013-2014'!$A:$X,14,0) -> 0 | P24: MAKSIMOVIC | Q24: =LEFT(VLOOKUP($P24,'DB 2013-2014'!$A:$X,3,0),3) -> tor | R24: =VLOOKUP($P24,'DB 2013-2014'!$A:$X,4,0) -> 21 | S24: =(T24/2+U24)/R24 -> 0.14285714 | T24: =VLOOKUP($P24,'DB 2013-2014'!$A:$X,13,0) -> 6 | U24: =VLOOKUP($P24,'DB 2013-2014'!$A:$X,14,0) -> 0
I25: BIGLIA | J25: =LEFT(VLOOKUP($I25,'DB 2013-2014'!$A:$X,3,0),3) -> laz | K25: =VLOOKUP($I25,'DB 2013-2014'!$A:$X,4,0) -> 26 | L25: =(M25/2+N25)/K25 -> 0.13461538 | M25: =VLOOKUP($I25,'DB 2013-2014'!$A:$X,13,0) -> 5 | N25: =VLOOKUP($I25,'DB 2013-2014'!$A:$X,14,0) -> 1 | P25: SPOLLI | Q25: =LEFT(VLOOKUP($P25,'DB 2013-2014'!$A:$X,3,0),3) -> cat | R25: =VLOOKUP($P25,'DB 2013-2014'!$A:$X,4,0) -> 21 | S25: =(T25/2+U25)/R25 -> 0.14285714 | T25: =VLOOKUP($P25,'DB 2013-2014'!$A:$X,13,0) -> 6 | U25: =VLOOKUP($P25,'DB 2013-2014'!$A:$X,14,0) -> 0
I26: OBIANG | J26: =LEFT(VLOOKUP($I26,'DB 2013-2014'!$A:$X,3,0),3) -> sam | K26: =VLOOKUP($I26,'DB 2013-2014'!$A:$X,4,0) -> 27 | L26: =(M26/2+N26)/K26 -> 0.12962963 | M26: =VLOOKUP($I26,'DB 2013-2014'!$A:$X,13,0) -> 7 | N26: =VLOOKUP($I26,'DB 2013-2014'!$A:$X,14,0) -> 0 | P26: DE MAIO | Q26: =LEFT(VLOOKUP($P26,'DB 2013-2014'!$A:$X,3,0),3) -> gen | R26: =VLOOKUP($P26,'DB 2013-2014'!$A:$X,4,0) -> 22 | S26: =(T26/2+U26)/R26 -> 0.13636364 | T26: =VLOOKUP($P26,'DB 2013-2014'!$A:$X,13,0) -> 6 | U26: =VLOOKUP($P26,'DB 2013-2014'!$A:$X,14,0) -> 0
I27: HERNANES | J27: =LEFT(VLOOKUP($I27,'DB 2013-2014'!$A:$X,3,0),3) -> int | K27: =VLOOKUP($I27,'DB 2013-2014'!$A:$X,4,0) -> 31 | L27: =(M27/2+N27)/K27 -> 0.12903226 | M27: =VLOOKUP($I27,'DB 2013-2014'!$A:$X,13,0) -> 6 | N27: =VLOOKUP($I27,'DB 2013-2014'!$A:$X,14,0) -> 1 | P27: FERNANDEZ F. | Q27: =LEFT(VLOOKUP($P27,'DB 2013-2014'!$A:$X,3,0),3) -> nap | R27: =VLOOKUP($P27,'DB 2013-2014'!$A:$X,4,0) -> 26 | S27: =(T27/2+U27)/R27 -> 0.13461538 | T27: =VLOOKUP($P27,'DB 2013-2014'!$A:$X,13,0) -> 5 | U27: =VLOOKUP($P27,'DB 2013-2014'!$A:$X,14,0) -> 1
I28: PJANIC | J28: =LEFT(VLOOKUP($I28,'DB 2013-2014'!$A:$X,3,0),3) -> rom | K28: =VLOOKUP($I28,'DB 2013-2014'!$A:$X,4,0) -> 35 | L28: =(M28/2+N28)/K28 -> 0.12857143 | M28: =VLOOKUP($I28,'DB 2013-2014'!$A:$X,13,0) -> 7 | N28: =VLOOKUP($I28,'DB 2013-2014'!$A:$X,14,0) -> 1 | P28: EMERSON | Q28: =LEFT(VLOOKUP($P28,'DB 2013-2014'!$A:$X,3,0),3) -> liv | R28: =VLOOKUP($P28,'DB 2013-2014'!$A:$X,4,0) -> 30 | S28: =(T28/2+U28)/R28 -> 0.13333333 | T28: =VLOOKUP($P28,'DB 2013-2014'!$A:$X,13,0) -> 8 | U28: =VLOOKUP($P28,'DB 2013-2014'!$A:$X,14,0) -> 0
I29: PAROLO | J29: =LEFT(VLOOKUP($I29,'DB 2013-2014'!$A:$X,3,0),3) -> par | K29: =VLOOKUP($I29,'DB 2013-2014'!$A:$X,4,0) -> 36 | L29: =(M29/2+N29)/K29 -> 0.125 | M29: =VLOOKUP($I29,'DB 2013-2014'!$A:$X,13,0) -> 9 | N29: =VLOOKUP($I29,'DB 2013-2014'!$A:$X,14,0) -> 0 | P29: RAIMONDI | Q29: =LEFT(VLOOKUP($P29,'DB 2013-2014'!$A:$X,3,0),3) -> ata | R29: =VLOOKUP($P29,'DB 2013-2014'!$A:$X,4,0) -> 27 | S29: =(T29/2+U29)/R29 -> 0.12962963 | T29: =VLOOKUP($P29,'DB 2013-2014'!$A:$X,13,0) -> 7 | U29: =VLOOKUP($P29,'DB 2013-2014'!$A:$X,14,0) -> 0
... I39: JORGINHO | J39: =LEFT(VLOOKUP($I39,'DB 2013-2014'!$A:$X,3,0),3) -> nap | K39: =VLOOKUP($I39,'DB 2013-2014'!$A:$X,4,0) -> 33 | L39: =(M39/2+N39)/K39 -> 0.10606061 | M39: =VLOOKUP($I39,'DB 2013-2014'!$A:$X,13,0) -> 7 | N39: =VLOOKUP($I39,'DB 2013-2014'!$A:$X,14,0) -> 0 | P39: DANILO | Q39: =LEFT(VLOOKUP($P39,'DB 2013-2014'!$A:$X,3,0),3) -> udi | R39: =VLOOKUP($P39,'DB 2013-2014'!$A:$X,4,0) -> 36 | S39: =(T39/2+U39)/R39 -> 0.11111111 | T39: =VLOOKUP($P39,'DB 2013-2014'!$A:$X,13,0) -> 8 | U39: =VLOOKUP($P39,'DB 2013-2014'!$A:$X,14,0) -> 0
P40: MAICON | Q40: =LEFT(VLOOKUP($P40,'DB 2013-2014'!$A:$X,3,0),3) -> rom | R40: =VLOOKUP($P40,'DB 2013-2014'!$A:$X,4,0) -> 28 | S40: =(T40/2+U40)/R40 -> 0.10714286 | T40: =VLOOKUP($P40,'DB 2013-2014'!$A:$X,13,0) -> 4 | U40: =VLOOKUP($P40,'DB 2013-2014'!$A:$X,14,0) -> 1

Sheet Rig
B2: rigori | C2: 13/14 | D2: 12/13 | E2: 11/12 | F2: 10/11
B3: totale | C3: 124 | D3: =SUM(D18:D49) -> 132 | E3: =SUM(E18:E49) -> 135 | F3: =SUM(F18:F49) -> 109
B4: per squadra | C4: =C3/20 -> 6.2 | D4: =D3/20 -> 6.6 | E4: =E3/20 -> 6.75 | F4: =F3/20 -> 5.45
B5: diff stagioni | C5: =(C3-D3)/D3 -> -0.060606061 | D5: =(D3-E3)/E3 -> -0.022222222 | E5: =(E3-F3)/F3 -> 0.23853211
B7: rigori | C7: 13/14 | D7: 12/13 | E7: 11/12 | F7: 10/11
B8: rig totali | C8: 124 | D8: 132 | E8: 135 | F8: 109
B9: segnati | C9: 96 | D9: 98 | E9: 106 | F9: 80
B10: sbagliati | C10: 34 | D10: =D8-D9 -> 34 | E10: =E8-E9 -> 29 | F10: =F8-F9 -> 29
B11: % segnati | C11: 0.74242424 | D11: =D9/D8 -> 0.74242424 | E11: =E9/E8 -> 0.78518519 | F11: =F9/F8 -> 0.73394495
B13: rigori | C13: 13/14 | D13: 12/13 | E13: 11/12 | F13: 10/11
B14: gol totali | C14: 1035 | D14: 1003 | E14: 972 | F14: 954
B15: % rigori* | C15: =C9/C14 -> 0.092753623 | D15: =D9/D14 -> 0.097706879 | E15: =E9/E14 -> 0.1090535 | F15: =F9/F14 -> 0.083857442
I16: rigori per squadra 2013/14
B17: rigori | C17: 13/14 | D17: 12/13 | E17: 11/12 | F17: 10/11 | I17: Squadra | J17: Rigorista | K17: Tirati | L17: Segnat | M17: Secondo
B18: fiorentina | C18: 11 | D18: 10 | E18: 8 | F18: 4 | I18: fiorentina | J18: rossi | K18: 5 | L18: 5 | M18: rodriguez
B19: napoli | C19: 9 | D19: 11 | E19: 9 | F19: 11 | I19: napoli | J19: higuain | K19: 5 | L19: 5 | M19: mertens
B20: cagliari | C20: 8 | D20: 10 | E20: 7 | F20: 2 | I20: cagliari | J20: pinilla | K20: 6 | L20: 4
B21: lazio | C21: 8 | D21: 9 | E21: 7 | F21: 5 | I21: lazio | J21: candreva | K21: 6 | L21: 6
B22: udinese | C22: 8 | D22: 6 | E22: 5 | F22: 7 | I22: udinese | J22: dinatale | K22: 6 | L22: 4 | M22: muriel
B23: torino | C23: 8 | D23: 6 | I23: torino | J23: cerci | K23: 7 | L23: 5
B24: genoa | C24: 8 | D24: 4 | E24: 6 | F24: 2 | I24: genoa | J24: gilardino | K24: 7 | L24: 4
B25: sassuolo | C25: 8 | I25: sassuolo | J25: berardi | K25: 6 | L25: 6
B26: verona | C26: 8 | I26: verona | J26: toni | K26: 3 | L26: 3 | M26: jorginho
B27: chievo | C27: 7 | D27: 6 | E27: 5 | F27: 2 | I27: chievo | J27: paloschi | K27: 4 | L27: 4 | M27: thereau
B28: roma | C28: 6 | D28: 7 | E28: 4 | F28: 13 | I28: roma | J28: totti | K28: 2 | L28: 2 | M28: strootman
B29: parma | C29: 6 | D29: 5 | E29: 8 | F29: 3 | I29: parma | J29: cassano | K29: 3 | L29: 1 | M29: amauri
B30: milan | C30: 5 | D30: 11 | E30: 10 | F30: 8 | I30: milan | J30: balotelli | K30: 5 | L30: 3
B31: juventus | C31: 4 | D31: 11 | E31: 4 | F31: 6 | I31: juventus | J31: vidal | K31: 2 | L31: 2 | M31: tevez
B32: sampdoria | C32: 4 | D32: 5 | F32: 4 | I32: sampdoria | J32: eder | K32: 2 | L32: 2
B33: atalanta | C33: 3 | D33: 5 | E33: 4 | I33: atalanta | J33: denis | K33: 3 | L33: 2
B34: inter | C34: 1 | D34: 5 | E34: 11 | F34: 8 | I34: inter | J34: milito | K34: 1 | L34: 0
B36: bologna | C36: 5 | D36: 5 | E36: 3 | F36: 4 | I36: bologna | J36: diamanti | K36: 3 | L36: 3 | M36: christodou.
B37: livorno | C37: 4 | I37: livorno | J37: paulinho | K37: 3 | L37: 3
B38: catania | C38: 3 | D38: 2 | E38: 11 | F38: 2 | I38: catania | J38: lodi | K38: 2 | L38: 2
B40: palermo | D40: 2 | E40: 4 | F40: 4
B41: pescara | D41: 3
B42: siena | D42: 9 | E42: 8
B44: lecce | E44: 7 | F44: 5
B45: cesena | E45: 7 | F45: 5
B46: bari | F46: 8
...

Sheet Ass
D1: 2013-2014 | I1: 2012-2013 | N1: 2011-2012 | S1: 2010-2011
B2: ASS | C2: Ruo | D2: Calciatore | E2: Squad | G2: ASS | H2: Ruo | I2: Calciatore | J2: Squad | L2: ASS | N2: Calciatore | O2: Squad | Q2: ASS | S2: Calciatore | T2: Squad
B3: 12 | G3: 12 | L3: 12 | Q3: 12
B4: 11 | G4: 11 | L4: 11 | Q4: 11
H5: A | I5: Totti | J5: Rom | M5: C | N5: Pirlo | O5: Juv | R5: C | S5: Cossu | T5: Cag
M6: A | N6: Miccoli | O6: Pal | R6: A | S6: Ibrahimovic | T6: Mil
B8: 10 | G8: 10 | L8: 10 | Q8: 10
H9: C | I9: Hamsik | J9: Nap | M9: A | N9: Giovinco | O9: Par | R9: A | S9: Lavezzi | T9: Nap
B11: 9 | G11: 9 | L11: 9 | Q11: 9
C12: C | D12: Cerci | E12: Tor | H12: C | I12: Borja Valero | J12: Fio
C13: A | D13: Gervinho | E13: Rom
B15: 8 | G15: 8 | L15: 8 | Q15: 8
C16: C | D16: Romulo | E16: Ver | H16: C | I16: Cerci | J16: Tor | M16: A | N16: Cassano | O16: Mil | R16: C | S16: Ledesma | T16: Laz
B18: 7 | G18: 7 | L18: 7 | Q18: 7
H19: C | I19: Cossu | J19: Cag
H20: C | I20: Gomez | J20: Cat | R20: C | S20: Palacio | T20: Gen
H21: C | I21: Diamanti | J21: Bol | R21: C | S21: Ilicic | T21: Pal
C22: C | D22: Borja Valero | E22: Fio | H22: C | I22: Lodi | J22: Cat | M22: A | N22: Vucinic | O22: Juv | R22: C | S22: Olivera | T22: Lec
C23: D | D23: Lichsteiner | E23: Juv | H23: A | I23: Cassano | J23: Int | R23: A | S23: Eto'o | T23: Int
H24: A | I24: Miccoli | J24: Pal | R24: A | S24: Totti | T24: Rom
H25: A | I25: Pandev | J25: Nap
B27: 6 | G27: 6 | L27: 6 | Q27: 6
R28: C | S28: Sanchez | T28: Udi
C29: C | D29: Pogba | E29: Juv | R29: C | S29: Hamsik | T29: Nap
C30: C | D30: Pereyra | E30: Udi | H30: C | I30: Vidal | J30: Juv | M30: C | N30: Diamanti | O30: Bol | R30: C | S30: Mauri | T30: Laz
C31: C | D31: Cigarini | E31: Ata | H31: C | I31: Cuadrado | J31: Fio | M31: C | N31: Pjanic | O31: Rom | R31: C | S31: Isla | T31: Udi
C32: C | D32: El Kaddouri | E32: Rtor | H32: C | I32: Pirlo | J32: Juv | M32: A | N32: Di Natale | O32: Udi | R32: C | S32: Munari | T32: Lec
C33: C | D33: Alvarez | E33: Int | H33: A | I33: Bergessio | J33: Cat | M33: A | N33: Lavezzi | O33: Nap | R33: A | S33: Di Natale | T33: Udi
C34: A | D34: Higuain | E34: Nap | H34: A | I34: Vucinic | J34: Juv | M34: A | N34: Totti | O34: Rom | R34: A | S34: Zarate | T34: Laz
C35: A | D35: Cassano | E35: Par | H35: D | I35: Pasqual | J35: Fio | R35: A | S35: Cassano | T35: Mil
C36: A | D36: Sansone n. | E36: Sas | R36: D | S36: Balzaretti | T36: Pal
R37: D | S37: Maicon | T37: Int
B39: 5 | G39: 5 | L39: 5 | Q39: 5
C40: C | D40: Candreva | E40: Laz
C41: C | D41: Florenzi | E41: Rom | M41: C | N41: Lodi | O41: Cat
C42: C | D42: Ljajic | E42: Rom | H42: C | I42: Candreva | J42: Laz | M42: C | N42: Moralez | O42: Ata
C43: C | D43: Biabiany | E43: Par | H43: C | I43: Barrientos | J43: Cat | M43: C | N43: Lamela | O43: Rom
C44: C | D44: Moralez | E44: Ata | H44: C | I44: Castro | J44: Cat | M44: C | N44: Brienza | O44: Sie | R44: C | S44: Aquilani | T44: Juv
C45: C | D45: Pirlo | E45: Juv | H45: C | I45: Pjanic | J45: Rom | M45: C | N45: Ledesma | O45: Laz | R45: C | S45: Lazzari | T45: Cag
C46: A | D46: Totti | E46: Rom | H46: C | I46: Cambiasso | J46: Int | M46: C | N46: Aquilani | O46: Mil | R46: A | S46: Di Michele | T46: Lec
...

Sheet ass conf
B2: Assist | C2: 2013/14 | E2: 2012/13 | G2: 2011/12 | I2: 2010/11
B4: gol stagionali | C4: 1035 | E4: 1003 | G4: 972 | I4: 954 | L4: gol tot in leggero aumento
B5: assist tot gazzetta | C5: 482 | D5: =C5/C$4 -> 0.46570048 | E5: 507 | F5: =E5/E$4 -> 0.50548355 | G5: 471 | H5: =G5/G$4 -> 0.4845679 | I5: 487 | J5: =I5/I$4 -> 0.51048218 | L5: metà dei gol segnati è assistita
B8: Assist | C8: 2013/14 | E8: 2012/13 | G8: 2011/12 | I8: 2010/11
B10: Attaccanti
B11: assist totali | C11: 151 | D11: =C11/C$20 -> 0.31327801 | E11: 134 | F11: =E11/E$20 -> 0.2642998 | G11: 158 | H11: =G11/G$20 -> 0.33545648 | I11: 133 | J11: =I11/I$20 -> 0.27310062 | L11: attacco = - di un terzo degli assist
B13: Centrocampisti
B14: assist totali | C14: 243 | D14: =C14/C$20 -> 0.50414938 | E14: 291 | F14: =E14/E$20 -> 0.5739645 | G14: 238 | H14: =G14/G$20 -> 0.50530786 | I14: 269 | J14: =I14/I$20 -> 0.5523614 | L14: centro = + della metà degli assist
B16: Difensori (e portieri)
B17: assist totali | C17: 88 | D17: =C17/C$20 -> 0.18257261 | E17: 82 | F17: =E17/E$20 -> 0.1617357 | G17: 75 | H17: =G17/G$20 -> 0.15923567 | I17: 85 | J17: =I17/I$20 -> 0.17453799 | L17: difesa = pochi assist, circa 1/5
C20: =C17+C14+C11 -> 482 | E20: =E17+E14+E11 -> 507 | G20: =G17+G14+G11 -> 471 | I20: =I17+I14+I11 -> 487

Sheet C gol
D1: 2013-2014 | I1: 2012-2013 | N1: 2011-2012 | S1: 2010-2011
B2: GOL | C2: Rig | D2: Calciatore | E2: Squad | G2: GOL | H2: Rig | I2: Calciatore | J2: Squad | L2: GOL | M2: Rig | N2: Calciatore | O2: Squad | Q2: GOL | R2: Rig | S2: Calciatore | T2: Squad
B3: 16 | G3: 16 | L3: 16 | Q3: 16
B4: 15 | G4: 15 | H4: 0 | I4: Lamela | J4: Rom | L4: 15 | Q4: 15
B5: 14 | G5: 14 | L5: 14 | M5: 4 | N5: Jovetic | O5: Fio | Q5: 14
B6: 13 | C6: 5 | D6: Cerci | E6: Tor | G6: 13 | L6: 13 | Q6: 13
B7: 12 | C7: 6 | D7: Candreva | E7: Laz | G7: 12 | H7: 0 | I7: Hamsik | J7: Nap | L7: 12 | Q7: 12 | R7: 0 | S7: Sanchez | T7: Udi
B8: 11 | C8: 2 | D8: Vidal | E8: Juv | G8: 11 | H8: 1 | I8: Ljajic | J8: Fio | L8: 11 | M8: 6 | N8: Rigoni M. | O8: Nov | Q8: 11 | R8: 0 | S8: Pastore | T8: Pal
R9: 1 | S9: Hernanes | T9: Laz
C10: 0 | D10: Cuadrado | E10: Fio | H10: 2 | I10: Hernanes | J10: Laz | R10: 2 | S10: Hamsik | T10: Nap
B11: 10 | G11: 10 | H11: 5 | I11: Vidal | J11: Juv | L11: 10 | M11: 0 | N11: Nocerino | O11: Mil | Q11: 10
H12: 0 | I12: Ilicic | J12: Pal
B13: 9 | G13: 9 | L13: 9 | M13: 0 | N13: Hamsik | O13: Nap | Q13: 9 | R13: 1 | S13: Palacio | T13: Gen
M14: 7 | N14: Lodi | O14: Cat
M15: 0 | N15: Marchisio | O15: Juv | R15: 2 | S15: Jimenez | T15: Ces
B16: 8 | C16: 0 | D16: Parolo | E16: Par | G16: 8 | H16: 1 | I16: Cerci | J16: Tor | L16: 8 | M16: 4 | N16: Hernanes | O16: Laz | Q16: 8 | R16: 0 | S16: Ilicic | T16: Pal
H17: 0 | I17: Gomez | J17: Cat | M17: 0 | N17: Ramirez | O17: Bol
B18: 7 | C18: 0 | D18: Hamsik | E18: Nap | G18: 7 | H18: 3 | I18: Diamanti | J18: Bol | L18: 7 | M18: 1 | N18: Diamanti | O18: Bol | Q18: 7 | R18: 0 | S18: Giovinco | T18: Par
C19: 0 | D19: Kaka | E19: Mil | R19: 0 | S19: Giaccherini | T19: Ces
C20: 0 | D20: Pogba | E20: Juv | H20: 0 | I20: Bonaventura | J20: Ata | R20: 0 | S20: Cambiasso | T20: Int
C21: 0 | D21: Lulic | E21: Laz | H21: 0 | I21: Aquilani | J21: Fio | M21: 1 | N21: Vidal | O21: Juv | R21: 0 | S21: Cerci | T21: Fio
C22: 5 | D22: Jorginho | E22: Ver | H22: 0 | I22: Dzemaili | J22: Nap | R22: 0 | S22: Krasic | T22: Juv
B23: 6 | C23: 1 | D23: Aquilani | E23: Fio | G23: 6 | H23: 0 | I23: Marchisio | J23: Juv | L23: 6 | M23: 0 | N23: Biabiany | O23: Par | Q23: 6 | R23: 1 | S23: Diamanti | T23: Bre
C24: 0 | D24: Borja Valero | E24: Fio
C25: 0 | D25: Florenzi | E25: Rom | H25: 3 | I25: Candreva | J25: Laz
C26: 1 | D26: Ljajic | E26: Rom | H26: 1 | I26: Lodi | J26: Cat | M26: 0 | N26: Jankovic | O26: Gen
C27: 0 | D27: Romulo | E27: Ver | H27: 1 | I27: Lodi | J27: Cat | M27: 0 | N27: Moralez | R27: 0 | S27: Mauri | T27: Laz
C28: 0 | D28: Dzemaili | E28: Nap | H28: 0 | I28: Inler | J28: Nap | M28: 0 | N28: Moralez | O28: Ata
C29: 0 | D29: El Kaddouri | E29: Tor | H29: 0 | I29: Kone | J29: Bol | M29: 0 | N29: Pepe | O29: Juv
B30: < 6 | G30: < 6 | L30: < 6 | Q30: < 6

Sheet A gol
D1: 2013-2014 | I1: 2012-2013 | N1: 2011-2012 | S1: 2010-2011
B2: GOL | C2: Rig | D2: Calciatore | E2: Squad | G2: GOL | H2: Rig | I2: Calciatore | J2: Squad | L2: GOL | M2: Rig | N2: Calciatore | O2: Squad | Q2: GOL | R2: Rig | S2: Calciatore | T2: Squad
B3: 30 | G3: 30 | L3: 30 | Q3: 30
B4: 29 | G4: 29 | H4: 7 | I4: Cavani | J4: Nap | L4: 29 | Q4: 29
B5: 28 | G5: 28 | L5: 28 | M5: 10 | N5: Ibrahimovic | O5: Mil | Q5: 28 | R5: 5 | S5: Di Natale | T5: Udi
B6: 27 | G6: 27 | L6: 27 | Q6: 27
B7: 26 | G7: 26 | L7: 26 | Q7: 26 | R7: 5 | S7: Cavani | T7: Nap
B8: 25 | G8: 25 | L8: 25 | Q8: 25
B9: 24 | G9: 24 | L9: 24 | M9: 8 | N9: Milito | O9: Int | Q9: 24
B10: 23 | G10: 23 | H10: 4 | I10: Di Natale | J10: Udi | L10: 23 | M10: 3 | N10: Cavani | O10: Nap | Q10: 23
M11: 4 | N11: Di Natale | O11: Udi
B12: 22 | C12: 0 | D12: Immobile | E12: Tor | G12: 22 | L12: 22 | Q12: 22
B13: 21 | G13: 21 | L13: 21 | Q13: 21 | R13: 5 | S13: Eto'o | T13: Int
B14: 20 | C14: 3 | D14: Toni | E14: Ver | G14: 20 | L14: 20 | Q14: 20 | R14: 1 | S14: Matri | T14: Juv
B15: 19 | C15: 1 | D15: Tevez | E15: Juv | G15: 19 | L15: 19 | Q15: 19 | R15: 1 | S15: Di Vaio | T15: Bol
B16: 18 | G16: 18 | L16: 18 | M16: 3 | N16: Palacio | O16: Gen | Q16: 18
B17: 17 | C17: 5 | D17: Higuain | E17: Nap | G17: 17 | L17: 17 | Q17: 17 | R17: 2 | S17: Pazzini | T17: Int
C18: 0 | D18: Palacio | E18: Int
B19: 16 | C19: 4 | D19: Di Natale | E19: Udi | G19: 16 | H19: 0 | I19: El Shaarawy | J19: Mil | L19: 16 | M19: 3 | N19: Denis | O19: Ata | Q19: 16
C20: 5 | D20: Rossi | E20: Fio
C21: 0 | D21: Llorente | E21: Juv | H21: 2 | I21: Osvaldo | J21: Rom | M21: 2 | N21: Miccoli | O21: Pal
C22: 6 | D22: Berardi | E22: Sas
B23: 15 | C23: 0 | D23: callejon | E23: Nap | G23: 15 | H23: 3 | I23: Pazzini | J23: Mil | L23: 15 | M23: 4 | N23: Giovinco | O23: Par | Q23: 15 | R23: 8 | S23: Totti | T23: Rom
C24: 4 | D24: Gilardino | E24: Gen | H24: 0 | I24: Klose | J24: Laz
C25: 3 | D25: Paulinho | E25: Liv | H25: 5 | I25: Denis | J25: Ata
B26: 14 | C26: 3 | D26: Balotelli | E26: Mil | G26: 14 | L26: 14 | M26: 4 | N26: Jovetic (cen) | O26: Fio | Q26: 14 | R26: 3 | S26: Ibrahimovic | T26: Mil
C27: 0 | D27: Robinho | E27: Mil | M27: 0 | N27: Robinho | O27: Mil | R27: 0 | S27: Robinho | T27: Mil
C28: 0 | D28: Pato | E28: Mil | M28: 0 | N28: Pato | O28: Mil | R28: 0 | S28: Pato | T28: Mil
B29: 13 | C29: 2 | D29: Denis | E29: Ata | G29: 13 | H29: 0 | I29: Bergessio | J29: Cat | L29: 13 | M29: 0 | N29: Klose | O29: Laz | Q29: 13 | R29: 0 | S29: Floro Flores | T29: Gen
C30: 0 | D30: Destro | E30: Rom | H30: 1 | I30: Jovetic | J30: Fio
C31: 4 | D31: Paloschi | E31: Chi | H31: 0 | I31: Gilardino | J31: Bol
B32: 12 | C32: 1 | D32: Cassano | E32: Par | G32: 12 | H32: 3 | I32: Totti | J32: Rom | L32: 12 | M32: 0 | N32: Destro | O32: Sie | Q32: 12 | R32: 4 | S32: Caracciolo | T32: Bre
H33: 6 | I33: Balotelli | J33: Mil
H34: 1 | I34: Sau | J34: Cag
C35: 2 | D35: Eder | E35: Sam | H35: 2 | I35: Borriello | J35: Gen | R35: 0 | S35: Gilardino | T35: Fio
H36: 0 | I36: Palacio | J36: Int
B37: 11 | C37: 2 | D37: Mertens | E37: Nap | G37: 11 | H37: 3 | I37: Bianchi | J37: Tor | L37: 11 | M37: 4 | N37: Calaio' | O37: Sie | Q37: 11 | R37: 1 | S37: Borriello | T37: Rom
M38: 5 | N38: Di Michele | O38: Lec | R38: 1 | S38: Pellissier | T38: Chi
M39: 0 | N39: Osvaldo | O39: Rom | R39: 1 | S39: Pellissier | T39: Chi
B40: 10 | C40: 0 | D40: Bergessio | E40: Cat | G40: 10 | H40: 1 | I40: Amauri | J40: Par | L40: 10 | M40: 1 | N40: Di Vaio | O40: Bol | Q40: 10 | R40: 1 | S40: Vucinic | T40: Rom
...
