Workbook

Sheet DB tot
A1: ruolo | B1: giornata | C1: giocatore | D1: squadra | E1: giallo | F1: rosso | G1: cartellino | H1: V-gazz | I1: Gf-gazz | J1: Gs-gazz | K1: Au-gazz | L1: As-gazz | M1: rig-Trasformato | N1: rig-Sbagliato | O1: rig-subito | P1: rig-Parato | Q1: fan-gazz
A2: Portiere | B2: 38 | C2: SPORTIELLO | D2: atalanta | E2: =IF($G2="Ammonito",1,"") | F2: =IF($G2="Espulsione",1,"") | H2: 6 | J2: 2 | Q2: 4
A3: Portiere | B3: 38 | C3: STOJANOVIC | D3: bologna | E3: =IF($G3="Ammonito",1,"") | F3: =IF($G3="Espulsione",1,"") | H3: 6.5 | J3: 1 | O3: 1 | Q3: 5.5
A4: Portiere | B4: 38 | C4: SILVESTRI | D4: cagliari | E4: =IF($G4="Ammonito",1,"") | F4: =IF($G4="Espulsione",1,"") | H4: 6.5 | J4: 3 | K4: 1 | Q4: 1.5
A5: Portiere | B5: 38 | C5: FRISON | D5: catania | E5: =IF($G5="Ammonito",1,"") | F5: =IF($G5="Espulsione",1,"") | H5: 6.5 | J5: 1 | Q5: 5.5
A6: Portiere | B6: 38 | C6: SQUIZZI | D6: chievo | E6: =IF($G6="Ammonito",1,"") | F6: =IF($G6="Espulsione",1,"") | H6: 6.5 | J6: 1 | Q6: 5.5
A7: Portiere | B7: 38 | C7: ROSATI | D7: fiorentina | E7: =IF($G7="Ammonito",1,"") | F7: =IF($G7="Espulsione",1,"") | H7: 6.5 | J7: 2 | P7: 1 | Q7: 7.5
A8: Portiere | B8: 38 | C8: PERIN | D8: genoa | E8: =IF($G8="Ammonito",1,"") | F8: =IF($G8="Espulsione",1,"") | H8: 6.5 | Q8: 6.5
A9: Portiere | B9: 38 | C9: CARRIZO | D9: inter | E9: =IF($G9="Ammonito",1,"") | F9: =IF($G9="Espulsione",1,"") | H9: 5 | J9: 2 | Q9: 3
A10: Portiere | B10: 38 | C10: BUFFON | D10: juventus | E10: =IF($G10="Ammonito",1,"") | F10: =IF($G10="Espulsione",1,"") | H10: 7 | Q10: 7
A11: Portiere | B11: 38 | C11: RUBINHO | D11: juventus | E11: =IF($G11="Ammonito",1,"") | F11: =IF($G11="Espulsione",1,"") | H11: 6 | Q11: 6
A12: Portiere | B12: 38 | C12: BERISHA | D12: lazio | E12: =IF($G12="Ammonito",1,"") | F12: =IF($G12="Espulsione",1,"") | H12: 6 | Q12: 6
A13: Portiere | B13: 38 | C13: ALDEGANI | D13: livorno | E13: =IF($G13="Ammonito",1,"") | F13: =IF($G13="Espulsione",1,"") | H13: 6 | Q13: 6
A14: Portiere | B14: 38 | C14: ANANIA | D14: livorno | E14: =IF($G14="Ammonito",1,"") | F14: =IF($G14="Espulsione",1,"") | H14: 6 | J14: 2 | Q14: 4
A15: Portiere | B15: 38 | C15: ABBIATI | D15: milan | E15: =IF($G15="Ammonito",1,"") | F15: =IF($G15="Espulsione",1,"") | H15: 6 | J15: 1 | O15: 1 | Q15: 5
A16: Portiere | B16: 38 | C16: DOBLAS | D16: napoli | E16: =IF($G16="Ammonito",1,"") | F16: =IF($G16="Espulsione",1,"") | H16: 6 | J16: 1 | Q16: 5
A17: Portiere | B17: 38 | C17: MIRANTE | D17: parma | E17: =IF($G17="Ammonito",1,"") | F17: =IF($G17="Espulsione",1,"") | H17: 6 | Q17: 6
A18: Portiere | B18: 38 | C18: PAVARINI | D18: parma | E18: =IF($G18="Ammonito",1,"") | F18: =IF($G18="Espulsione",1,"") | H18: 6 | Q18: 6
A19: Portiere | B19: 38 | C19: SKORUPSKI | D19: roma | E19: =IF($G19="Ammonito",1,"") | F19: =IF($G19="Espulsione",1,"") | H19: 6.5 | J19: 1 | Q19: 5.5
A20: Portiere | B20: 38 | C20: FIORILLO | D20: sampdoria | E20: =IF($G20="Ammonito",1,"") | F20: =IF($G20="Espulsione",1,"") | H20: 6.5 | J20: 3 | Q20: 3.5
A21: Portiere | B21: 38 | C21: POMINI | D21: sassuolo | E21: =IF($G21="Ammonito",1,"") | F21: =IF($G21="Espulsione",1,"") | H21: 6 | J21: 2 | Q21: 4
A22: Portiere | B22: 38 | C22: PADELLI D. | D22: torino | E22: =IF($G22="Ammonito",1,"") | F22: =IF($G22="Espulsione",1,"") | H22: 6.5 | J22: 2 | Q22: 4.5
A23: Portiere | B23: 38 | C23: BRKIC | D23: udinese | E23: =IF($G23="Ammonito",1,"") | F23: =IF($G23="Espulsione",1,"") | H23: 6 | J23: 3 | Q23: 3
A24: Portiere | B24: 38 | C24: ANDRADE | D24: verona | E24: =IF($G24="Ammonito",1,"") | F24: =IF($G24="Espulsione",1,"") | H24: 4.5 | J24: 5 | Q24: -0.5
A25: Difensore | B25: 38 | C25: BELLINI | D25: atalanta | E25: =IF($G25="Ammonito",1,"") | F25: =IF($G25="Espulsione",1,"") | H25: 6 | Q25: 6
A26: Difensore | B26: 38 | C26: BENALOUANE | D26: atalanta | E26: =IF($G26="Ammonito",1,"") | F26: =IF($G26="Espulsione",1,"") | H26: 6 | Q26: 6
A27: Difensore | B27: 38 | C27: BRIVIO | D27: atalanta | E27: =IF($G27="Ammonito",1,"") | F27: =IF($G27="Espulsione",1,"") | H27: 5.5 | Q27: 5.5
A28: Difensore | B28: 38 | C28: RAIMONDI | D28: atalanta | E28: =IF($G28="Ammonito",1,"") | F28: =IF($G28="Espulsione",1,"") | H28: 6 | Q28: 6
A29: Difensore | B29: 38 | C29: ANTONSSON | D29: bologna | E29: =IF($G29="Ammonito",1,"") | F29: =IF($G29="Espulsione",1,"") | H29: 5.5 | Q29: 5.5
A30: Difensore | B30: 38 | C30: CHERUBIN | D30: bologna | E30: =IF($G30="Ammonito",1,"") | F30: =IF($G30="Espulsione",1,"") | H30: 6 | Q30: 6
A31: Difensore | B31: 38 | C31: CRESPO | D31: bologna | E31: =IF($G31="Ammonito",1,"") | F31: =IF($G31="Espulsione",1,"") | H31: 6 | Q31: 6
A32: Difensore | B32: 38 | C32: MORLEO | D32: bologna | E32: =IF($G32="Ammonito",1,"") | F32: =IF($G32="Espulsione",1,"") | H32: 5 | Q32: 5
A33: Difensore | B33: 38 | C33: NATALI | D33: bologna | E33: =IF($G33="Ammonito",1,"") | F33: =IF($G33="Espulsione",1,"") | H33: 6 | Q33: 6
A34: Difensore | B34: 38 | C34: SORENSEN | D34: bologna | E34: =IF($G34="Ammonito",1,"") | F34: =IF($G34="Espulsione",1,"") | H34: 6.5 | Q34: 6.5
A35: Difensore | B35: 38 | C35: CECH | D35: bologna | E35: =IF($G35="Ammonito",1,"") | F35: =IF($G35="Espulsione",1,"") | H35: 6 | Q35: 6
A36: Difensore | B36: 38 | C36: ASTORI | D36: cagliari | E36: =IF($G36="Ammonito",1,"") | F36: =IF($G36="Espulsione",1,"") | H36: 5 | Q36: 5
... A46: Difensore | B46: 38 | C46: DAINELLI | D46: chievo | E46: =IF($G46="Ammonito",1,"") | F46: =IF($G46="Espulsione",1,"") | H46: 6 | Q46: 6
A47: Difensore | B47: 38 | C47: DRAME' | D47: chievo | E47: =IF($G47="Ammonito",1,"") -> 1 | F47: =IF($G47="Espulsione",1,"") | G47: Ammonito | H47: 6 | Q47: 5.5
A48: Difensore | B48: 38 | C48: FREY N. | D48: chievo | E48: =IF($G48="Ammonito",1,"") -> 1 | F48: =IF($G48="Espulsione",1,"") | G48: Ammonito | H48: 6 | Q48: 5.5
A49: Difensore | B49: 38 | C49: RUBIN | D49: chievo | E49: =IF($G49="Ammonito",1,"") | F49: =IF($G49="Espulsione",1,"") | H49: 6 | Q49: 6
A50: Difensore | B50: 38 | C50: HEGAZY | D50: fiorentina | E50: =IF($G50="Ammonito",1,"") | F50: =IF($G50="Espulsione",1,"") | H50: 6 | Q50: 6
A51: Difensore | B51: 38 | C51: PASQUAL | D51: fiorentina | E51: =IF($G51="Ammonito",1,"") | F51: =IF($G51="Espulsione",1,"") | H51: 5.5 | Q51: 5.5
A52: Difensore | B52: 38 | C52: RODRIGUEZ GON. | D52: fiorentina | E52: =IF($G52="Ammonito",1,"") -> 1 | F52: =IF($G52="Espulsione",1,"") | G52: Ammonito | H52: 6 | Q52: 5.5
A53: Difensore | B53: 38 | C53: RONCAGLIA | D53: fiorentina | E53: =IF($G53="Ammonito",1,"") -> 1 | F53: =IF($G53="Espulsione",1,"") | G53: Ammonito | H53: 6 | Q53: 5.5
A54: Difensore | B54: 38 | C54: BURDISSO | D54: genoa | E54: =IF($G54="Ammonito",1,"") | F54: =IF($G54="Espulsione",1,"") | H54: 6 | Q54: 6
A55: Difensore | B55: 38 | C55: DE MAIO | D55: genoa | E55: =IF($G55="Ammonito",1,"") | F55: =IF($G55="Espulsione",1,"") | H55: 6 | Q55: 6
A56: Difensore | B56: 38 | C56: MARCHESE | D56: genoa | E56: =IF($G56="Ammonito",1,"") | F56: =IF($G56="Espulsione",1,"") | H56: 6 | Q56: 6
A57: Difensore | B57: 38 | C57: PORTANOVA | D57: genoa | E57: =IF($G57="Ammonito",1,"") | F57: =IF($G57="Espulsione",1,"") | H57: 6 | Q57: 6
A58: Difensore | B58: 38 | C58: VRSALJKO | D58: genoa | E58: =IF($G58="Ammonito",1,"") | F58: =IF($G58="Espulsione",1,"") | H58: 5.5 | Q58: 5.5
A59: Difensore | B59: 38 | C59: ANDREOLLI | D59: inter | E59: =IF($G59="Ammonito",1,"") -> 1 | F59: =IF($G59="Espulsione",1,"") | G59: Ammonito | H59: 6.5 | I59: 1 | Q59: 9
A60: Difensore | B60: 38 | C60: CAMPAGNARO | D60: inter | E60: =IF($G60="Ammonito",1,"") | F60: =IF($G60="Espulsione",1,"") | H60: 6 | Q60: 6
A61: Difensore | B61: 38 | C61: D'AMBROSIO | D61: inter | E61: =IF($G61="Ammonito",1,"") | F61: =IF($G61="Espulsione",1,"") | H61: 6 | Q61: 6
A62: Difensore | B62: 38 | C62: RANOCCHIA | D62: inter | E62: =IF($G62="Ammonito",1,"") | F62: =IF($G62="Espulsione",1,"") | H62: 6 | Q62: 6
A63: Difensore | B63: 38 | C63: BONUCCI | D63: juventus | E63: =IF($G63="Ammonito",1,"") | F63: =IF($G63="Espulsione",1,"") | H63: 6 | Q63: 6
A64: Difensore | B64: 38 | C64: CACERES P. | D64: juventus | E64: =IF($G64="Ammonito",1,"") | F64: =IF($G64="Espulsione",1,"") | H64: 6 | Q64: 6
A65: Difensore | B65: 38 | C65: LICHTSTEINER | D65: juventus | E65: =IF($G65="Ammonito",1,"") | F65: =IF($G65="Espulsione",1,"") | H65: 6 | Q65: 6
A66: Difensore | B66: 38 | C66: OGBONNA | D66: juventus | E66: =IF($G66="Ammonito",1,"") | F66: =IF($G66="Espulsione",1,"") | H66: 6 | Q66: 6
A67: Difensore | B67: 38 | C67: BIAVA | D67: lazio | E67: =IF($G67="Ammonito",1,"") | F67: =IF($G67="Espulsione",1,"") | H67: 6 | Q67: 6
A68: Difensore | B68: 38 | C68: DIAS | D68: lazio | E68: =IF($G68="Ammonito",1,"") | F68: =IF($G68="Espulsione",1,"") | H68: 6 | Q68: 6
A69: Difensore | B69: 38 | C69: PEREIRINHA | D69: lazio | E69: =IF($G69="Ammonito",1,"") -> 1 | F69: =IF($G69="Espulsione",1,"") | G69: Ammonito | H69: 6 | Q69: 5.5
A70: Difensore | B70: 38 | C70: RADU | D70: lazio | E70: =IF($G70="Ammonito",1,"") | F70: =IF($G70="Espulsione",1,"") | H70: 6 | Q70: 6
A71: Difensore | B71: 38 | C71: CECCHERINI | D71: livorno | E71: =IF($G71="Ammonito",1,"") -> 1 | F71: =IF($G71="Espulsione",1,"") | G71: Ammonito | H71: 5 | Q71: 4.5
A72: Difensore | B72: 38 | C72: EMERSON | D72: livorno | E72: =IF($G72="Ammonito",1,"") -> 1 | F72: =IF($G72="Espulsione",1,"") | G72: Ammonito | H72: 6 | Q72: 5.5
A73: Difensore | B73: 38 | C73: GEMITI | D73: livorno | E73: =IF($G73="Ammonito",1,"") | F73: =IF($G73="Espulsione",1,"") | H73: 5 | Q73: 5
A74: Difensore | B74: 38 | C74: PICCINI | D74: livorno | E74: =IF($G74="Ammonito",1,"") | F74: =IF($G74="Espulsione",1,"") | H74: 6 | Q74: 6
A75: Difensore | B75: 38 | C75: RINAUDO | D75: livorno | E75: =IF($G75="Ammonito",1,"") -> 1 | F75: =IF($G75="Espulsione",1,"") | G75: Ammonito | H75: 5 | Q75: 4.5
A76: Difensore | B76: 38 | C76: CONSTANT | D76: milan | E76: =IF($G76="Ammonito",1,"") | F76: =IF($G76="Espulsione",1,"") | H76: 6 | Q76: 6
A77: Difensore | B77: 38 | C77: DE SCIGLIO | D77: milan | E77: =IF($G77="Ammonito",1,"") | F77: =IF($G77="Espulsione",1,"") -> 1 | G77: Espulsione | H77: 6 | Q77: 5
A78: Difensore | B78: 38 | C78: MEXES | D78: milan | E78: =IF($G78="Ammonito",1,"") | F78: =IF($G78="Espulsione",1,"") -> 1 | G78: Espulsione | H78: 5 | Q78: 4
A79: Difensore | B79: 38 | C79: ZACCARDO | D79: milan | E79: =IF($G79="Ammonito",1,"") | F79: =IF($G79="Espulsione",1,"") | H79: 6 | Q79: 6
A80: Difensore | B80: 38 | C80: RAMI | D80: milan | E80: =IF($G80="Ammonito",1,"") | F80: =IF($G80="Espulsione",1,"") | H80: 6.5 | Q80: 6.5
A81: Difensore | B81: 38 | C81: BRITOS | D81: napoli | E81: =IF($G81="Ammonito",1,"") | F81: =IF($G81="Espulsione",1,"") | H81: 6 | Q81: 6
A82: Difensore | B82: 38 | C82: MAGGIO | D82: napoli | E82: =IF($G82="Ammonito",1,"") | F82: =IF($G82="Espulsione",1,"") | H82: 6 | Q82: 6
A83: Difensore | B83: 38 | C83: ZUNIGA | D83: napoli | E83: =IF($G83="Ammonito",1,"") | F83: =IF($G83="Espulsione",1,"") | H83: 6 | Q83: 6
A84: Difensore | B84: 38 | C84: GHOULAM | D84: napoli | E84: =IF($G84="Ammonito",1,"") | F84: =IF($G84="Espulsione",1,"") | H84: 6 | Q84: 6
A85: Difensore | B85: 38 | C85: HENRIQUE | D85: napoli | E85: =IF($G85="Ammonito",1,"") | F85: =IF($G85="Espulsione",1,"") | H85: 6.5 | Q85: 6.5
A86: Difensore | B86: 38 | C86: CASSANI | D86: parma | E86: =IF($G86="Ammonito",1,"") | F86: =IF($G86="Espulsione",1,"") | H86: 6 | Q86: 6
A87: Difensore | B87: 38 | C87: GOBBI | D87: parma | E87: =IF($G87="Ammonito",1,"") | F87: =IF($G87="Espulsione",1,"") | H87: 6 | Q87: 6
A88: Difensore | B88: 38 | C88: PALETTA | D88: parma | E88: =IF($G88="Ammonito",1,"") | F88: =IF($G88="Espulsione",1,"") | H88: 6.5 | Q88: 6.5
A89: Difensore | B89: 38 | C89: MOLINARO | D89: parma | E89: =IF($G89="Ammonito",1,"") | F89: =IF($G89="Espulsione",1,"") | H89: 6.5 | Q89: 6.5
A90: Difensore | B90: 38 | C90: BENATIA | D90: roma | E90: =IF($G90="Ammonito",1,"") | F90: =IF($G90="Espulsione",1,"") | H90: 6.5 | Q90: 6.5
... A92: Difensore | B92: 38 | C92: DODO' | D92: roma | E92: =IF($G92="Ammonito",1,"") | F92: =IF($G92="Espulsione",1,"") | H92: 5.5 | Q92: 5.5
A93: Difensore | B93: 38 | C93: JEDVAJ | D93: roma | E93: =IF($G93="Ammonito",1,"") -> 1 | F93: =IF($G93="Espulsione",1,"") | G93: Ammonito | H93: 5 | Q93: 4.5
A94: Difensore | B94: 38 | C94: DE SILVESTRI | D94: sampdoria | E94: =IF($G94="Ammonito",1,"") | F94: =IF($G94="Espulsione",1,"") | H94: 6 | Q94: 6
A95: Difensore | B95: 38 | C95: GASTALDELLO | D95: sampdoria | E95: =IF($G95="Ammonito",1,"") | F95: =IF($G95="Espulsione",1,"") | H95: 5.5 | Q95: 5.5
A96: Difensore | B96: 38 | C96: MUSTAFI | D96: sampdoria | E96: =IF($G96="Ammonito",1,"") -> 1 | F96: =IF($G96="Espulsione",1,"") | G96: Ammonito | H96: 5 | Q96: 4.5
A97: Difensore | B97: 38 | C97: PALOMBO | D97: sampdoria | E97: =IF($G97="Ammonito",1,"") | F97: =IF($G97="Espulsione",1,"") | H97: 5.5 | Q97: 5.5
A98: Difensore | B98: 38 | C98: REGINI | D98: sampdoria | E98: =IF($G98="Ammonito",1,"") | F98: =IF($G98="Espulsione",1,"") | H98: 6 | Q98: 6
A99: Difensore | B99: 38 | C99: ARIAUDO | D99: sassuolo | E99: =IF($G99="Ammonito",1,"") -> 1 | F99: =IF($G99="Espulsione",1,"") | G99: Ammonito | H99: 5 | Q99: 4.5
A100: Difensore | B100: 38 | C100: CANNAVARO | D100: sassuolo | E100: =IF($G100="Ammonito",1,"") | F100: =IF($G100="Espulsione",1,"") -> 1 | G100: Espulsione | H100: 5 | Q100: 4
A101: Difensore | B101: 38 | C101: LONGHI | D101: sassuolo | E101: =IF($G101="Ammonito",1,"") | F101: =IF($G101="Espulsione",1,"") | H101: 6 | Q101: 6
A102: Difensore | B102: 38 | C102: PEDRO MENDES | D102: sassuolo | E102: =IF($G102="Ammonito",1,"") | F102: =IF($G102="Espulsione",1,"") | H102: 5.5 | Q102: 5.5
A103: Difensore | B103: 38 | C103: DARMIAN | D103: torino | E103: =IF($G103="Ammonito",1,"") -> 1 | F103: =IF($G103="Espulsione",1,"") | G103: Ammonito | H103: 6 | Q103: 5.5
A104: Difensore | B104: 38 | C104: GLIK | D104: torino | E104: =IF($G104="Ammonito",1,"") | F104: =IF($G104="Espulsione",1,"") | H104: 6 | Q104: 6
A105: Difensore | B105: 38 | C105: MAKSIMOVIC | D105: torino | E105: =IF($G105="Ammonito",1,"") | F105: =IF($G105="Espulsione",1,"") | H105: 5.5 | Q105: 5.5
A106: Difensore | B106: 38 | C106: MORETTI | D106: torino | E106: =IF($G106="Ammonito",1,"") | F106: =IF($G106="Espulsione",1,"") | H106: 6 | Q106: 6
A107: Difensore | B107: 38 | C107: BUBNJIC | D107: udinese | E107: =IF($G107="Ammonito",1,"") | F107: =IF($G107="Espulsione",1,"") | H107: 5 | Q107: 5
A108: Difensore | B108: 38 | C108: DOMIZZI | D108: udinese | E108: =IF($G108="Ammonito",1,"") -> 1 | F108: =IF($G108="Espulsione",1,"") | G108: Ammonito | H108: 6 | Q108: 5.5
A109: Difensore | B109: 38 | C109: GABRIEL DA SILVA | D109: udinese | E109: =IF($G109="Ammonito",1,"") | F109: =IF($G109="Espulsione",1,"") | H109: 5.5 | Q109: 5.5
A110: Difensore | B110: 38 | C110: NALDO | D110: udinese | E110: =IF($G110="Ammonito",1,"") | F110: =IF($G110="Espulsione",1,"") | H110: 4.5 | Q110: 4.5
...

Sheet DB sing
A1: Giocatore | B1: Ruolo | C1: Squadra | D1: Presenze | E1: MV | F1: TotV | G1: FM | H1: TotF | I1: Gol | J1: Golsub | K1: Au | L1: As | M1: Gia | N1: Ros | O1: Rig+ | P1: Rig- | Q1: Rigsub | R1: Rigpar
A2: ABBIATI | B2: P | C2: milan | D2: 28 | E2: =F2/$D2 -> 6.0178571 | F2: 168.5 | G2: =H2/$D2 -> 4.7321429 | H2: 132.5 | I2: 0 | J2: 31 | K2: 1 | L2: 0 | M2: 4 | N2: 1 | O2: 0 | P2: 0 | Q2: 2 | R2: 0
A3: ADAN | B3: P | C3: cagliari | D3: 2 | E3: =F3/$D3 -> 5 | F3: 10 | G3: =H3/$D3 -> 3 | H3: 6 | I3: 0 | J3: 4 | K3: 0 | L3: 0 | M3: 0 | N3: 0 | O3: 0 | P3: 0 | Q3: 0 | R3: 0
A4: AGAZZI | B4: P | C4: chievo | D4: 25 | E4: =F4/$D4 -> 5.94 | F4: 148.5 | G4: =H4/$D4 -> 4.44 | H4: 111 | I4: 0 | J4: 40 | K4: 0 | L4: 0 | M4: 1 | N4: 0 | O4: 0 | P4: 0 | Q4: 2 | R4: 1
A5: ALDEGANI | B5: P | C5: livorno | D5: 1 | E5: =F5/$D5 -> 6 | F5: 6 | G5: =H5/$D5 -> 6 | H5: 6 | I5: 0 | J5: 0 | K5: 0 | L5: 0 | M5: 0 | N5: 0 | O5: 0 | P5: 0 | Q5: 0 | R5: 0
A6: AMELIA | B6: P | C6: milan | D6: 5 | E6: =F6/$D6 -> 5.9 | F6: 29.5 | G6: =H6/$D6 -> 4.3 | H6: 21.5 | I6: 0 | J6: 8 | K6: 0 | L6: 0 | M6: 0 | N6: 0 | O6: 0 | P6: 0 | Q6: 2 | R6: 0
A7: ANANIA | B7: P | C7: livorno | D7: 3 | E7: =F7/$D7 -> 5.8333333 | F7: 17.5 | G7: =H7/$D7 -> 4.1666667 | H7: 12.5 | I7: 0 | J7: 8 | K7: 0 | L7: 0 | M7: 0 | N7: 0 | O7: 0 | P7: 0 | Q7: 0 | R7: 1
A8: ANDRADE | B8: P | C8: verona | D8: 1 | E8: =F8/$D8 -> 4.5 | F8: 4.5 | G8: =H8/$D8 -> -0.5 | H8: -0.5 | I8: 0 | J8: 5 | K8: 0 | L8: 0 | M8: 0 | N8: 0 | O8: 0 | P8: 0 | Q8: 0 | R8: 0
A9: ANDUJAR | B9: P | C9: catania | D9: 24 | E9: =F9/$D9 -> 5.7291667 | F9: 137.5 | G9: =H9/$D9 -> 3.9583333 | H9: 95 | I9: 0 | J9: 42 | K9: 0 | L9: 0 | M9: 1 | N9: 0 | O9: 0 | P9: 0 | Q9: 1 | R9: 0
A10: AVRAMOV | B10: P | C10: cagliari | D10: 23 | E10: =F10/$D10 -> 6.0652174 | F10: 139.5 | G10: =H10/$D10 -> 4.8913043 | H10: 112.5 | I10: 0 | J10: 25 | K10: 0 | L10: 0 | M10: 4 | N10: 0 | O10: 0 | P10: 0 | Q10: 2 | R10: 0
A11: BAJZA | B11: P | C11: parma | D11: 4 | E11: =F11/$D11 -> 6 | F11: 24 | G11: =H11/$D11 -> 5 | H11: 20 | I11: 0 | J11: 4 | K11: 0 | L11: 0 | M11: 0 | N11: 0 | O11: 0 | P11: 0 | Q11: 3 | R11: 0
A12: BARDI | B12: P | C12: livorno | D12: 35 | E12: =F12/$D12 -> 5.9571429 | F12: 208.5 | G12: =H12/$D12 -> 3.8714286 | H12: 135.5 | I12: 0 | J12: 69 | K12: 1 | L12: 0 | M12: 4 | N12: 0 | O12: 0 | P12: 0 | Q12: 5 | R12: 0
A13: BERISHA | B13: P | C13: lazio | D13: 17 | E13: =F13/$D13 -> 6.0588235 | F13: 103 | G13: =H13/$D13 -> 4.5882353 | H13: 78 | I13: 0 | J13: 25 | K13: 0 | L13: 0 | M13: 0 | N13: 0 | O13: 0 | P13: 0 | Q13: 2 | R13: 0
... A544: ZAZA | B544: A | C544: sassuolo | D544: 33 | E544: =F544/$D544 -> 5.8787879 | F544: 194 | G544: =H544/$D544 -> 6.5454545 | H544: 216 | I544: 9 | J544: 0 | K544: 0 | L544: 1 | M544: 10 | N544: 1 | O544: 1 | P544: 0 | Q544: 0 | R544: 0

Sheet A (tt>10)
B1: 2013-2014
B2: Calciatore | C2: Squadra | D2: Gare | E2: FM | F2: MV | G2: Bonus a Gara | H2: Gol | I2: Rigori + - | K2: Assist | L2: Gialli | M2: Rossi
B3: ROSSI G. | C3: =LEFT(O3,3) -> fio | D3: =VLOOKUP($B3,'[1]stat gazz 13-14'!$A:$Z,4,0) -> 21 | E3: =VLOOKUP($B3,'[1]stat gazz 13-14'!$A:$Z,7,0) -> 9.0714286 | F3: =VLOOKUP($B3,'[1]stat gazz 13-14'!$A:$Z,5,0) -> 6.7619048 | G3: =(H3*3-J3*3+K3-L3*0.5-M3)/D3 -> 2.3095238 | H3: =VLOOKUP($B3,'[1]stat gazz 13-14'!$A:$Z,9,0) -> 16 | I3: =VLOOKUP($B3,'[1]stat gazz 13-14'!$A:$Z,15,0) -> 5 | J3: =VLOOKUP($B3,'[1]stat gazz 13-14'!$A:$Z,16,0) -> 0 | K3: =VLOOKUP($B3,'[1]stat gazz 13-14'!$A:$Z,12,0) -> 1 | L3: =VLOOKUP($B3,'[1]stat gazz 13-14'!$A:$Z,13,0) -> 1 | M3: =VLOOKUP($B3,'[1]stat gazz 13-14'!$A:$Z,14,0) -> 0 | O3: =VLOOKUP($B3,'[1]stat gazz 13-14'!$A:$Z,3,0) -> fiorentina
B4: TEVEZ | C4: =LEFT(O4,3) -> juv | D4: =VLOOKUP($B4,'[1]stat gazz 13-14'!$A:$Z,4,0) -> 34 | E4: =VLOOKUP($B4,'[1]stat gazz 13-14'!$A:$Z,7,0) -> 8.4852941 | F4: =VLOOKUP($B4,'[1]stat gazz 13-14'!$A:$Z,5,0) -> 6.75 | G4: =(H4*3-J4*3+K4-L4*0.5-M4)/D4 -> 1.7352941 | H4: =VLOOKUP($B4,'[1]stat gazz 13-14'!$A:$Z,9,0) -> 19 | I4: =VLOOKUP($B4,'[1]stat gazz 13-14'!$A:$Z,15,0) -> 1 | J4: =VLOOKUP($B4,'[1]stat gazz 13-14'!$A:$Z,16,0) -> 0 | K4: =VLOOKUP($B4,'[1]stat gazz 13-14'!$A:$Z,12,0) -> 4 | L4: =VLOOKUP($B4,'[1]stat gazz 13-14'!$A:$Z,13,0) -> 4 | M4: =VLOOKUP($B4,'[1]stat gazz 13-14'!$A:$Z,14,0) -> 0 | O4: =VLOOKUP($B4,'[1]stat gazz 13-14'!$A:$Z,3,0) -> juventus
B5: TONI | C5: =LEFT(O5,3) -> ver | D5: =VLOOKUP($B5,'[1]stat gazz 13-14'!$A:$Z,4,0) -> 34 | E5: =VLOOKUP($B5,'[1]stat gazz 13-14'!$A:$Z,7,0) -> 8.5 | F5: =VLOOKUP($B5,'[1]stat gazz 13-14'!$A:$Z,5,0) -> 6.6470588 | G5: =(H5*3-J5*3+K5-L5*0.5-M5)/D5 -> 1.8529412 | H5: =VLOOKUP($B5,'[1]stat gazz 13-14'!$A:$Z,9,0) -> 20 | I5: =VLOOKUP($B5,'[1]stat gazz 13-14'!$A:$Z,15,0) -> 3 | J5: =VLOOKUP($B5,'[1]stat gazz 13-14'!$A:$Z,16,0) -> 0 | K5: =VLOOKUP($B5,'[1]stat gazz 13-14'!$A:$Z,12,0) -> 5 | L5: =VLOOKUP($B5,'[1]stat gazz 13-14'!$A:$Z,13,0) -> 4 | M5: =VLOOKUP($B5,'[1]stat gazz 13-14'!$A:$Z,14,0) -> 0 | O5: =VLOOKUP($B5,'[1]stat gazz 13-14'!$A:$Z,3,0) -> verona
B6: TOTTI | C6: =LEFT(O6,3) -> rom | D6: =VLOOKUP($B6,'[1]stat gazz 13-14'!$A:$Z,4,0) -> 25 | E6: =VLOOKUP($B6,'[1]stat gazz 13-14'!$A:$Z,7,0) -> 7.48 | F6: =VLOOKUP($B6,'[1]stat gazz 13-14'!$A:$Z,5,0) -> 6.5 | G6: =(H6*3-J6*3+K6-L6*0.5-M6)/D6 -> 0.98 | H6: =VLOOKUP($B6,'[1]stat gazz 13-14'!$A:$Z,9,0) -> 7 | I6: =VLOOKUP($B6,'[1]stat gazz 13-14'!$A:$Z,15,0) -> 2 | J6: =VLOOKUP($B6,'[1]stat gazz 13-14'!$A:$Z,16,0) -> 0 | K6: =VLOOKUP($B6,'[1]stat gazz 13-14'!$A:$Z,12,0) -> 5 | L6: =VLOOKUP($B6,'[1]stat gazz 13-14'!$A:$Z,13,0) -> 3 | M6: =VLOOKUP($B6,'[1]stat gazz 13-14'!$A:$Z,14,0) -> 0 | O6: =VLOOKUP($B6,'[1]stat gazz 13-14'!$A:$Z,3,0) -> roma
B7: HIGUAIN | C7: =LEFT(O7,3) -> nap | D7: =VLOOKUP($B7,'[1]stat gazz 13-14'!$A:$Z,4,0) -> 31 | E7: =VLOOKUP($B7,'[1]stat gazz 13-14'!$A:$Z,7,0) -> 8.1774194 | F7: =VLOOKUP($B7,'[1]stat gazz 13-14'!$A:$Z,5,0) -> 6.4354839 | G7: =(H7*3-J7*3+K7-L7*0.5-M7)/D7 -> 1.7419355 | H7: =VLOOKUP($B7,'[1]stat gazz 13-14'!$A:$Z,9,0) -> 17 | I7: =VLOOKUP($B7,'[1]stat gazz 13-14'!$A:$Z,15,0) -> 5 | J7: =VLOOKUP($B7,'[1]stat gazz 13-14'!$A:$Z,16,0) -> 0 | K7: =VLOOKUP($B7,'[1]stat gazz 13-14'!$A:$Z,12,0) -> 6 | L7: =VLOOKUP($B7,'[1]stat gazz 13-14'!$A:$Z,13,0) -> 6 | M7: =VLOOKUP($B7,'[1]stat gazz 13-14'!$A:$Z,14,0) -> 0 | O7: =VLOOKUP($B7,'[1]stat gazz 13-14'!$A:$Z,3,0) -> napoli
B8: IMMOBILE | C8: =LEFT(O8,3) -> tor | D8: =VLOOKUP($B8,'[1]stat gazz 13-14'!$A:$Z,4,0) -> 33 | E8: =VLOOKUP($B8,'[1]stat gazz 13-14'!$A:$Z,7,0) -> 8.2121212 | F8: =VLOOKUP($B8,'[1]stat gazz 13-14'!$A:$Z,5,0) -> 6.4242424 | G8: =(H8*3-J8*3+K8-L8*0.5-M8)/D8 -> 1.7878788 | H8: =VLOOKUP($B8,'[1]stat gazz 13-14'!$A:$Z,9,0) -> 22 | I8: =VLOOKUP($B8,'[1]stat gazz 13-14'!$A:$Z,15,0) -> 0 | J8: =VLOOKUP($B8,'[1]stat gazz 13-14'!$A:$Z,16,0) -> 1 | K8: =VLOOKUP($B8,'[1]stat gazz 13-14'!$A:$Z,12,0) -> 2 | L8: =VLOOKUP($B8,'[1]stat gazz 13-14'!$A:$Z,13,0) -> 10 | M8: =VLOOKUP($B8,'[1]stat gazz 13-14'!$A:$Z,14,0) -> 1 | O8: =VLOOKUP($B8,'[1]stat gazz 13-14'!$A:$Z,3,0) -> torino
B9: ITURBE | C9: =LEFT(O9,3) -> ver | D9: =VLOOKUP($B9,'[1]stat gazz 13-14'!$A:$Z,4,0) -> 33 | E9: =VLOOKUP($B9,'[1]stat gazz 13-14'!$A:$Z,7,0) -> 7.1363636 | F9: =VLOOKUP($B9,'[1]stat gazz 13-14'!$A:$Z,5,0) -> 6.3484848 | G9: =(H9*3-J9*3+K9-L9*0.5-M9)/D9 -> 0.78787879 | H9: =VLOOKUP($B9,'[1]stat gazz 13-14'!$A:$Z,9,0) -> 8 | I9: =VLOOKUP($B9,'[1]stat gazz 13-14'!$A:$Z,15,0) -> 0 | J9: =VLOOKUP($B9,'[1]stat gazz 13-14'!$A:$Z,16,0) -> 0 | K9: =VLOOKUP($B9,'[1]stat gazz 13-14'!$A:$Z,12,0) -> 4 | L9: =VLOOKUP($B9,'[1]stat gazz 13-14'!$A:$Z,13,0) -> 4 | M9: =VLOOKUP($B9,'[1]stat gazz 13-14'!$A:$Z,14,0) -> 0 | O9: =VLOOKUP($B9,'[1]stat gazz 13-14'!$A:$Z,3,0) -> verona
B10: DESTRO | C10: =LEFT(O10,3) -> rom | D10: =VLOOKUP($B10,'[1]stat gazz 13-14'!$A:$Z,4,0) -> 18 | E10: =VLOOKUP($B10,'[1]stat gazz 13-14'!$A:$Z,7,0) -> 8.4166667 | F10: =VLOOKUP($B10,'[1]stat gazz 13-14'!$A:$Z,5,0) -> 6.3333333 | G10: =(H10*3-J10*3+K10-L10*0.5-M10)/D10 -> 2.0833333 | H10: =VLOOKUP($B10,'[1]stat gazz 13-14'!$A:$Z,9,0) -> 13 | I10: =VLOOKUP($B10,'[1]stat gazz 13-14'!$A:$Z,15,0) -> 0 | J10: =VLOOKUP($B10,'[1]stat gazz 13-14'!$A:$Z,16,0) -> 0 | K10: =VLOOKUP($B10,'[1]stat gazz 13-14'!$A:$Z,12,0) -> 1 | L10: =VLOOKUP($B10,'[1]stat gazz 13-14'!$A:$Z,13,0) -> 5 | M10: =VLOOKUP($B10,'[1]stat gazz 13-14'!$A:$Z,14,0) -> 0 | O10: =VLOOKUP($B10,'[1]stat gazz 13-14'!$A:$Z,3,0) -> roma
B11: CASSANO | C11: =LEFT(O11,3) -> par | D11: =VLOOKUP($B11,'[1]stat gazz 13-14'!$A:$Z,4,0) -> 33 | E11: =VLOOKUP($B11,'[1]stat gazz 13-14'!$A:$Z,7,0) -> 7.3181818 | F11: =VLOOKUP($B11,'[1]stat gazz 13-14'!$A:$Z,5,0) -> 6.3030303 | G11: =(H11*3-J11*3+K11-L11*0.5-M11)/D11 -> 1.0151515 | H11: =VLOOKUP($B11,'[1]stat gazz 13-14'!$A:$Z,9,0) -> 12 | I11: =VLOOKUP($B11,'[1]stat gazz 13-14'!$A:$Z,15,0) -> 1 | J11: =VLOOKUP($B11,'[1]stat gazz 13-14'!$A:$Z,16,0) -> 2 | K11: =VLOOKUP($B11,'[1]stat gazz 13-14'!$A:$Z,12,0) -> 6 | L11: =VLOOKUP($B11,'[1]stat gazz 13-14'!$A:$Z,13,0) -> 5 | M11: =VLOOKUP($B11,'[1]stat gazz 13-14'!$A:$Z,14,0) -> 0 | O11: =VLOOKUP($B11,'[1]stat gazz 13-14'!$A:$Z,3,0) -> parma
B12: GERVINHO | C12: =LEFT(O12,3) -> rom | D12: =VLOOKUP($B12,'[1]stat gazz 13-14'!$A:$Z,4,0) -> 33 | E12: =VLOOKUP($B12,'[1]stat gazz 13-14'!$A:$Z,7,0) -> 7.2727273 | F12: =VLOOKUP($B12,'[1]stat gazz 13-14'!$A:$Z,5,0) -> 6.3030303 | G12: =(H12*3-J12*3+K12-L12*0.5-M12)/D12 -> 0.96969697 | H12: =VLOOKUP($B12,'[1]stat gazz 13-14'!$A:$Z,9,0) -> 8 | I12: =VLOOKUP($B12,'[1]stat gazz 13-14'!$A:$Z,15,0) -> 0 | J12: =VLOOKUP($B12,'[1]stat gazz 13-14'!$A:$Z,16,0) -> 0 | K12: =VLOOKUP($B12,'[1]stat gazz 13-14'!$A:$Z,12,0) -> 9 | L12: =VLOOKUP($B12,'[1]stat gazz 13-14'!$A:$Z,13,0) -> 2 | M12: =VLOOKUP($B12,'[1]stat gazz 13-14'!$A:$Z,14,0) -> 0 | O12: =VLOOKUP($B12,'[1]stat gazz 13-14'!$A:$Z,3,0) -> roma
B13: KEITA | C13: =LEFT(O13,3) -> laz | D13: =VLOOKUP($B13,'[1]stat gazz 13-14'!$A:$Z,4,0) -> 23 | E13: =VLOOKUP($B13,'[1]stat gazz 13-14'!$A:$Z,7,0) -> 6.9782609 | F13: =VLOOKUP($B13,'[1]stat gazz 13-14'!$A:$Z,5,0) -> 6.2826087 | G13: =(H13*3-J13*3+K13-L13*0.5-M13)/D13 -> 0.69565217 | H13: =VLOOKUP($B13,'[1]stat gazz 13-14'!$A:$Z,9,0) -> 5 | I13: =VLOOKUP($B13,'[1]stat gazz 13-14'!$A:$Z,15,0) -> 0 | J13: =VLOOKUP($B13,'[1]stat gazz 13-14'!$A:$Z,16,0) -> 0 | K13: =VLOOKUP($B13,'[1]stat gazz 13-14'!$A:$Z,12,0) -> 2 | L13: =VLOOKUP($B13,'[1]stat gazz 13-14'!$A:$Z,13,0) -> 2 | M13: =VLOOKUP($B13,'[1]stat gazz 13-14'!$A:$Z,14,0) -> 0 | O13: =VLOOKUP($B13,'[1]stat gazz 13-14'!$A:$Z,3,0) -> lazio
B14: MERTENS | C14: =LEFT(O14,3) -> nap | D14: =VLOOKUP($B14,'[1]stat gazz 13-14'!$A:$Z,4,0) -> 30 | E14: =VLOOKUP($B14,'[1]stat gazz 13-14'!$A:$Z,7,0) -> 7.4333333 | F14: =VLOOKUP($B14,'[1]stat gazz 13-14'!$A:$Z,5,0) -> 6.2666667 | G14: =(H14*3-J14*3+K14-L14*0.5-M14)/D14 -> 1.1666667 | H14: =VLOOKUP($B14,'[1]stat gazz 13-14'!$A:$Z,9,0) -> 11 | I14: =VLOOKUP($B14,'[1]stat gazz 13-14'!$A:$Z,15,0) -> 2 | J14: =VLOOKUP($B14,'[1]stat gazz 13-14'!$A:$Z,16,0) -> 0 | K14: =VLOOKUP($B14,'[1]stat gazz 13-14'!$A:$Z,12,0) -> 4 | L14: =VLOOKUP($B14,'[1]stat gazz 13-14'!$A:$Z,13,0) -> 4 | M14: =VLOOKUP($B14,'[1]stat gazz 13-14'!$A:$Z,14,0) -> 0 | O14: =VLOOKUP($B14,'[1]stat gazz 13-14'!$A:$Z,3,0) -> napoli
... B76: ACQUAFRESCA | C76: =LEFT(O76,3) -> bol | D76: =VLOOKUP($B76,'[1]stat gazz 13-14'!$A:$Z,4,0) -> 16 | E76: =VLOOKUP($B76,'[1]stat gazz 13-14'!$A:$Z,7,0) -> 5.21875 | F76: =VLOOKUP($B76,'[1]stat gazz 13-14'!$A:$Z,5,0) -> 5.28125 | G76: =(H76*3-J76*3+K76-L76*0.5-M76)/D76 -> -0.0625 | H76: =VLOOKUP($B76,'[1]stat gazz 13-14'!$A:$Z,9,0) -> 0 | I76: =VLOOKUP($B76,'[1]stat gazz 13-14'!$A:$Z,15,0) -> 0 | J76: =VLOOKUP($B76,'[1]stat gazz 13-14'!$A:$Z,16,0) -> 0 | K76: =VLOOKUP($B76,'[1]stat gazz 13-14'!$A:$Z,12,0) -> 0 | L76: =VLOOKUP($B76,'[1]stat gazz 13-14'!$A:$Z,13,0) -> 2 | M76: =VLOOKUP($B76,'[1]stat gazz 13-14'!$A:$Z,14,0) -> 0 | O76: =VLOOKUP($B76,'[1]stat gazz 13-14'!$A:$Z,3,0) -> bologna

Sheet A andam
B1: 2013-2014
B2: Calciatore | C2: Squadra | E2: Gare | F2: FM | G2: MV | H2: Bonu a Gara | I2: Gol | J2: Rigori + - | L2: Assis | M2: Gialli | N2: Rossi
B3: ROSSI G. | C3: =LEFT(Q3,3) -> fio | E3: =VLOOKUP($B3,'[1]stat gazz 13-14'!$A:$Z,4,0) -> 21 | F3: =VLOOKUP($B3,'[1]stat gazz 13-14'!$A:$Z,7,0) -> 9.0714286 | G3: =VLOOKUP($B3,'[1]stat gazz 13-14'!$A:$Z,5,0) -> 6.7619048 | H3: =(I3*3-K3*3+L3-M3*0.5-N3)/E3 -> 2.3095238 | I3: =VLOOKUP($B3,'[1]stat gazz 13-14'!$A:$Z,9,0) -> 16 | J3: =VLOOKUP($B3,'[1]stat gazz 13-14'!$A:$Z,15,0) -> 5 | K3: =VLOOKUP($B3,'[1]stat gazz 13-14'!$A:$Z,16,0) -> 0 | L3: =VLOOKUP($B3,'[1]stat gazz 13-14'!$A:$Z,12,0) -> 1 | M3: =VLOOKUP($B3,'[1]stat gazz 13-14'!$A:$Z,13,0) -> 1 | N3: =VLOOKUP($B3,'[1]stat gazz 13-14'!$A:$Z,14,0) -> 0 | Q3: =VLOOKUP($B3,'[1]stat gazz 13-14'!$A:$Z,3,0) -> fiorentina
B4: TONI | C4: =LEFT(Q4,3) -> ver | E4: =VLOOKUP($B4,'[1]stat gazz 13-14'!$A:$Z,4,0) -> 34 | F4: =VLOOKUP($B4,'[1]stat gazz 13-14'!$A:$Z,7,0) -> 8.5 | G4: =VLOOKUP($B4,'[1]stat gazz 13-14'!$A:$Z,5,0) -> 6.6470588 | H4: =(I4*3-K4*3+L4-M4*0.5-N4)/E4 -> 1.8529412 | I4: =VLOOKUP($B4,'[1]stat gazz 13-14'!$A:$Z,9,0) -> 20 | J4: =VLOOKUP($B4,'[1]stat gazz 13-14'!$A:$Z,15,0) -> 3 | K4: =VLOOKUP($B4,'[1]stat gazz 13-14'!$A:$Z,16,0) -> 0 | L4: =VLOOKUP($B4,'[1]stat gazz 13-14'!$A:$Z,12,0) -> 5 | M4: =VLOOKUP($B4,'[1]stat gazz 13-14'!$A:$Z,13,0) -> 4 | N4: =VLOOKUP($B4,'[1]stat gazz 13-14'!$A:$Z,14,0) -> 0 | Q4: =VLOOKUP($B4,'[1]stat gazz 13-14'!$A:$Z,3,0) -> verona
B5: TEVEZ | C5: =LEFT(Q5,3) -> juv | E5: =VLOOKUP($B5,'[1]stat gazz 13-14'!$A:$Z,4,0) -> 34 | F5: =VLOOKUP($B5,'[1]stat gazz 13-14'!$A:$Z,7,0) -> 8.4852941 | G5: =VLOOKUP($B5,'[1]stat gazz 13-14'!$A:$Z,5,0) -> 6.75 | H5: =(I5*3-K5*3+L5-M5*0.5-N5)/E5 -> 1.7352941 | I5: =VLOOKUP($B5,'[1]stat gazz 13-14'!$A:$Z,9,0) -> 19 | J5: =VLOOKUP($B5,'[1]stat gazz 13-14'!$A:$Z,15,0) -> 1 | K5: =VLOOKUP($B5,'[1]stat gazz 13-14'!$A:$Z,16,0) -> 0 | L5: =VLOOKUP($B5,'[1]stat gazz 13-14'!$A:$Z,12,0) -> 4 | M5: =VLOOKUP($B5,'[1]stat gazz 13-14'!$A:$Z,13,0) -> 4 | N5: =VLOOKUP($B5,'[1]stat gazz 13-14'!$A:$Z,14,0) -> 0 | Q5: =VLOOKUP($B5,'[1]stat gazz 13-14'!$A:$Z,3,0) -> juventus
B6: DESTRO | C6: =LEFT(Q6,3) -> rom | E6: =VLOOKUP($B6,'[1]stat gazz 13-14'!$A:$Z,4,0) -> 18 | F6: =VLOOKUP($B6,'[1]stat gazz 13-14'!$A:$Z,7,0) -> 8.4166667 | G6: =VLOOKUP($B6,'[1]stat gazz 13-14'!$A:$Z,5,0) -> 6.3333333 | H6: =(I6*3-K6*3+L6-M6*0.5-N6)/E6 -> 2.0833333 | I6: =VLOOKUP($B6,'[1]stat gazz 13-14'!$A:$Z,9,0) -> 13 | J6: =VLOOKUP($B6,'[1]stat gazz 13-14'!$A:$Z,15,0) -> 0 | K6: =VLOOKUP($B6,'[1]stat gazz 13-14'!$A:$Z,16,0) -> 0 | L6: =VLOOKUP($B6,'[1]stat gazz 13-14'!$A:$Z,12,0) -> 1 | M6: =VLOOKUP($B6,'[1]stat gazz 13-14'!$A:$Z,13,0) -> 5 | N6: =VLOOKUP($B6,'[1]stat gazz 13-14'!$A:$Z,14,0) -> 0 | Q6: =VLOOKUP($B6,'[1]stat gazz 13-14'!$A:$Z,3,0) -> roma
B7: IMMOBILE | C7: =LEFT(Q7,3) -> tor | E7: =VLOOKUP($B7,'[1]stat gazz 13-14'!$A:$Z,4,0) -> 33 | F7: =VLOOKUP($B7,'[1]stat gazz 13-14'!$A:$Z,7,0) -> 8.2121212 | G7: =VLOOKUP($B7,'[1]stat gazz 13-14'!$A:$Z,5,0) -> 6.4242424 | H7: =(I7*3-K7*3+L7-M7*0.5-N7)/E7 -> 1.7878788 | I7: =VLOOKUP($B7,'[1]stat gazz 13-14'!$A:$Z,9,0) -> 22 | J7: =VLOOKUP($B7,'[1]stat gazz 13-14'!$A:$Z,15,0) -> 0 | K7: =VLOOKUP($B7,'[1]stat gazz 13-14'!$A:$Z,16,0) -> 1 | L7: =VLOOKUP($B7,'[1]stat gazz 13-14'!$A:$Z,12,0) -> 2 | M7: =VLOOKUP($B7,'[1]stat gazz 13-14'!$A:$Z,13,0) -> 10 | N7: =VLOOKUP($B7,'[1]stat gazz 13-14'!$A:$Z,14,0) -> 1 | Q7: =VLOOKUP($B7,'[1]stat gazz 13-14'!$A:$Z,3,0) -> torino
B8: HIGUAIN | C8: =LEFT(Q8,3) -> nap | E8: =VLOOKUP($B8,'[1]stat gazz 13-14'!$A:$Z,4,0) -> 31 | F8: =VLOOKUP($B8,'[1]stat gazz 13-14'!$A:$Z,7,0) -> 8.1774194 | G8: =VLOOKUP($B8,'[1]stat gazz 13-14'!$A:$Z,5,0) -> 6.4354839 | H8: =(I8*3-K8*3+L8-M8*0.5-N8)/E8 -> 1.7419355 | I8: =VLOOKUP($B8,'[1]stat gazz 13-14'!$A:$Z,9,0) -> 17 | J8: =VLOOKUP($B8,'[1]stat gazz 13-14'!$A:$Z,15,0) -> 5 | K8: =VLOOKUP($B8,'[1]stat gazz 13-14'!$A:$Z,16,0) -> 0 | L8: =VLOOKUP($B8,'[1]stat gazz 13-14'!$A:$Z,12,0) -> 6 | M8: =VLOOKUP($B8,'[1]stat gazz 13-14'!$A:$Z,13,0) -> 6 | N8: =VLOOKUP($B8,'[1]stat gazz 13-14'!$A:$Z,14,0) -> 0 | Q8: =VLOOKUP($B8,'[1]stat gazz 13-14'!$A:$Z,3,0) -> napoli
B9: LLORENTE | C9: =LEFT(Q9,3) -> juv | E9: =VLOOKUP($B9,'[1]stat gazz 13-14'!$A:$Z,4,0) -> 32 | F9: =VLOOKUP($B9,'[1]stat gazz 13-14'!$A:$Z,7,0) -> 7.765625 | G9: =VLOOKUP($B9,'[1]stat gazz 13-14'!$A:$Z,5,0) -> 6.25 | H9: =(I9*3-K9*3+L9-M9*0.5-N9)/E9 -> 1.515625 | I9: =VLOOKUP($B9,'[1]stat gazz 13-14'!$A:$Z,9,0) -> 16 | J9: =VLOOKUP($B9,'[1]stat gazz 13-14'!$A:$Z,15,0) -> 0 | K9: =VLOOKUP($B9,'[1]stat gazz 13-14'!$A:$Z,16,0) -> 0 | L9: =VLOOKUP($B9,'[1]stat gazz 13-14'!$A:$Z,12,0) -> 2 | M9: =VLOOKUP($B9,'[1]stat gazz 13-14'!$A:$Z,13,0) -> 3 | N9: =VLOOKUP($B9,'[1]stat gazz 13-14'!$A:$Z,14,0) -> 0 | Q9: =VLOOKUP($B9,'[1]stat gazz 13-14'!$A:$Z,3,0) -> juventus
B10: BERARDI D. | C10: =LEFT(Q10,3) -> sas | E10: =VLOOKUP($B10,'[1]stat gazz 13-14'!$A:$Z,4,0) -> 29 | F10: =VLOOKUP($B10,'[1]stat gazz 13-14'!$A:$Z,7,0) -> 7.7068966 | G10: =VLOOKUP($B10,'[1]stat gazz 13-14'!$A:$Z,5,0) -> 6.1206897 | H10: =(I10*3-K10*3+L10-M10*0.5-N10)/E10 -> 1.5862069 | I10: =VLOOKUP($B10,'[1]stat gazz 13-14'!$A:$Z,9,0) -> 16 | J10: =VLOOKUP($B10,'[1]stat gazz 13-14'!$A:$Z,15,0) -> 6 | K10: =VLOOKUP($B10,'[1]stat gazz 13-14'!$A:$Z,16,0) -> 0 | L10: =VLOOKUP($B10,'[1]stat gazz 13-14'!$A:$Z,12,0) -> 4 | M10: =VLOOKUP($B10,'[1]stat gazz 13-14'!$A:$Z,13,0) -> 10 | N10: =VLOOKUP($B10,'[1]stat gazz 13-14'!$A:$Z,14,0) -> 1 | Q10: =VLOOKUP($B10,'[1]stat gazz 13-14'!$A:$Z,3,0) -> sassuolo
B11: PALACIO | C11: =LEFT(Q11,3) -> int | E11: =VLOOKUP($B11,'[1]stat gazz 13-14'!$A:$Z,4,0) -> 37 | F11: =VLOOKUP($B11,'[1]stat gazz 13-14'!$A:$Z,7,0) -> 7.6351351 | G11: =VLOOKUP($B11,'[1]stat gazz 13-14'!$A:$Z,5,0) -> 6.1756757 | H11: =(I11*3-K11*3+L11-M11*0.5-N11)/E11 -> 1.4594595 | I11: =VLOOKUP($B11,'[1]stat gazz 13-14'!$A:$Z,9,0) -> 17 | J11: =VLOOKUP($B11,'[1]stat gazz 13-14'!$A:$Z,15,0) -> 0 | K11: =VLOOKUP($B11,'[1]stat gazz 13-14'!$A:$Z,16,0) -> 0 | L11: =VLOOKUP($B11,'[1]stat gazz 13-14'!$A:$Z,12,0) -> 5 | M11: =VLOOKUP($B11,'[1]stat gazz 13-14'!$A:$Z,13,0) -> 4 | N11: =VLOOKUP($B11,'[1]stat gazz 13-14'!$A:$Z,14,0) -> 0 | Q11: =VLOOKUP($B11,'[1]stat gazz 13-14'!$A:$Z,3,0) -> inter
B12: TOTTI | C12: =LEFT(Q12,3) -> rom | E12: =VLOOKUP($B12,'[1]stat gazz 13-14'!$A:$Z,4,0) -> 25 | F12: =VLOOKUP($B12,'[1]stat gazz 13-14'!$A:$Z,7,0) -> 7.48 | G12: =VLOOKUP($B12,'[1]stat gazz 13-14'!$A:$Z,5,0) -> 6.5 | H12: =(I12*3-K12*3+L12-M12*0.5-N12)/E12 -> 0.98 | I12: =VLOOKUP($B12,'[1]stat gazz 13-14'!$A:$Z,9,0) -> 7 | J12: =VLOOKUP($B12,'[1]stat gazz 13-14'!$A:$Z,15,0) -> 2 | K12: =VLOOKUP($B12,'[1]stat gazz 13-14'!$A:$Z,16,0) -> 0 | L12: =VLOOKUP($B12,'[1]stat gazz 13-14'!$A:$Z,12,0) -> 5 | M12: =VLOOKUP($B12,'[1]stat gazz 13-14'!$A:$Z,13,0) -> 3 | N12: =VLOOKUP($B12,'[1]stat gazz 13-14'!$A:$Z,14,0) -> 0 | Q12: =VLOOKUP($B12,'[1]stat gazz 13-14'!$A:$Z,3,0) -> roma
B13: ICARDI | C13: =LEFT(Q13,3) -> int | E13: =VLOOKUP($B13,'[1]stat gazz 13-14'!$A:$Z,4,0) -> 20 | F13: =VLOOKUP($B13,'[1]stat gazz 13-14'!$A:$Z,7,0) -> 7.475 | G13: =VLOOKUP($B13,'[1]stat gazz 13-14'!$A:$Z,5,0) -> 6.1 | H13: =(I13*3-K13*3+L13-M13*0.5-N13)/E13 -> 1.375 | I13: =VLOOKUP($B13,'[1]stat gazz 13-14'!$A:$Z,9,0) -> 9 | J13: =VLOOKUP($B13,'[1]stat gazz 13-14'!$A:$Z,15,0) -> 0 | K13: =VLOOKUP($B13,'[1]stat gazz 13-14'!$A:$Z,16,0) -> 0 | L13: =VLOOKUP($B13,'[1]stat gazz 13-14'!$A:$Z,12,0) -> 1 | M13: =VLOOKUP($B13,'[1]stat gazz 13-14'!$A:$Z,13,0) -> 1 | N13: =VLOOKUP($B13,'[1]stat gazz 13-14'!$A:$Z,14,0) -> 0 | Q13: =VLOOKUP($B13,'[1]stat gazz 13-14'!$A:$Z,3,0) -> inter
B14: ZAPATA D. | C14: =LEFT(Q14,3) -> nap | E14: =VLOOKUP($B14,'[1]stat gazz 13-14'!$A:$Z,4,0) -> 11 | F14: =VLOOKUP($B14,'[1]stat gazz 13-14'!$A:$Z,7,0) -> 7.4545455 | G14: =VLOOKUP($B14,'[1]stat gazz 13-14'!$A:$Z,5,0) -> 6 | H14: =(I14*3-K14*3+L14-M14*0.5-N14)/E14 -> 1.4545455 | I14: =VLOOKUP($B14,'[1]stat gazz 13-14'!$A:$Z,9,0) -> 5 | J14: =VLOOKUP($B14,'[1]stat gazz 13-14'!$A:$Z,15,0) -> 0 | K14: =VLOOKUP($B14,'[1]stat gazz 13-14'!$A:$Z,16,0) -> 0 | L14: =VLOOKUP($B14,'[1]stat gazz 13-14'!$A:$Z,12,0) -> 2 | M14: =VLOOKUP($B14,'[1]stat gazz 13-14'!$A:$Z,13,0) -> 2 | N14: =VLOOKUP($B14,'[1]stat gazz 13-14'!$A:$Z,14,0) -> 0 | Q14: =VLOOKUP($B14,'[1]stat gazz 13-14'!$A:$Z,3,0) -> napoli
... B47: MILITO | C47: =LEFT(Q47,3) -> int | E47: =VLOOKUP($B47,'[1]stat gazz 13-14'!$A:$Z,4,0) -> 13 | F47: =VLOOKUP($B47,'[1]stat gazz 13-14'!$A:$Z,7,0) -> 5.9230769 | G47: =VLOOKUP($B47,'[1]stat gazz 13-14'!$A:$Z,5,0) -> 5.6153846 | H47: =(I47*3-K47*3+L47-M47*0.5-N47)/E47 -> 0.30769231 | I47: =VLOOKUP($B47,'[1]stat gazz 13-14'!$A:$Z,9,0) -> 2 | J47: =VLOOKUP($B47,'[1]stat gazz 13-14'!$A:$Z,15,0) -> 0 | K47: =VLOOKUP($B47,'[1]stat gazz 13-14'!$A:$Z,16,0) -> 1 | L47: =VLOOKUP($B47,'[1]stat gazz 13-14'!$A:$Z,12,0) -> 1 | M47: =VLOOKUP($B47,'[1]stat gazz 13-14'!$A:$Z,13,0) -> 0 | N47: =VLOOKUP($B47,'[1]stat gazz 13-14'!$A:$Z,14,0) -> 0 | Q47: =VLOOKUP($B47,'[1]stat gazz 13-14'!$A:$Z,3,0) -> inter

Sheet A conf
F1: 2013-2014 | O1: 2012-2013 | X1: 2011-2012 | AG1: 2010-2011
B2: Calciatore | C2: i | D2: Squadr | E2: Gare | F2: FM | G2: MV | H2: Bonus | I2: B/G | J2: Gol | K2: Ass | L2: i | M2: Squadr | N2: Gare | O2: FM | P2: MV | Q2: Bonus | R2: B/G | S2: Gol | T2: Ass | U2: i | V2: Squadr | W2: Gare | X2: FM | Y2: MV | Z2: Bonus | AA2: B/G | AB2: Gol | AC2: Ass | AD2: i | AE2: Squadr | AF2: Gare | AG2: FM | AH2: MV | AI2: Bonus | AJ2: B/G | AK2: Gol | AL2: Ass | AM2: i
B3: ROSSI G. | D3: =VLOOKUP($B3,'A (tt>10)'!$B:$M,2,0) -> fio | E3: =VLOOKUP($B3,'A (tt>10)'!$B:$M,3,0) -> 21 | F3: =VLOOKUP($B3,'A (tt>10)'!$B:$M,4,0) -> 9.0714286 | G3: =VLOOKUP($B3,'A (tt>10)'!$B:$M,5,0) -> 6.7619048 | H3: =J3*3+K3 -> 49 | I3: =H3/E3 -> 2.3333333 | J3: =VLOOKUP($B3,'A (tt>10)'!$B:$M,7,0) -> 16 | K3: =VLOOKUP($B3,'A (tt>10)'!$B:$M,10,0) -> 1 | M3: =LOWER(IF(ISNA(VLOOKUP($B3,'A conf old'!$B:$AH,3,0)),"",VLOOKUP($B3,'A conf old'!$B:$AH,3,0))) | N3: =IF(ISNA(VLOOKUP($B3,'A conf old'!$B:$AH,3,0)),"",VLOOKUP($B3,'A conf old'!$B:$AH,4,0)) | O3: =IF(ISNA(VLOOKUP($B3,'A conf old'!$B:$AH,3,0)),"",VLOOKUP($B3,'A conf old'!$B:$AH,5,0)) | P3: =IF(ISNA(VLOOKUP($B3,'A conf old'!$B:$AH,3,0)),"",VLOOKUP($B3,'A conf old'!$B:$AH,6,0)) | Q3: =S3*3+T3 -> #VALUE! | S3: =IF(ISNA(VLOOKUP($B3,'A conf old'!$B:$AH,3,0)),"",VLOOKUP($B3,'A conf old'!$B:$AH,9,0)) | T3: =IF(ISNA(VLOOKUP($B3,'A conf old'!$B:$AH,3,0)),"",VLOOKUP($B3,'A conf old'!$B:$AH,10,0)) | V3: =LOWER(IF(ISNA(VLOOKUP($B3,'A conf old'!$B:$AH,12,0)),"",VLOOKUP($B3,'A conf old'!$B:$AH,12,0))) | W3: =IF(ISNA(VLOOKUP($B3,'A conf old'!$B:$AH,3,0)),"",VLOOKUP($B3,'A conf old'!$B:$AH,13,0)) | X3: =IF(ISNA(VLOOKUP($B3,'A conf old'!$B:$AH,3,0)),"",VLOOKUP($B3,'A conf old'!$B:$AH,14,0)) | Y3: =IF(ISNA(VLOOKUP($B3,'A conf old'!$B:$AH,3,0)),"",VLOOKUP($B3,'A conf old'!$B:$AH,15,0)) | Z3: =AB3*3+AC3 -> #VALUE! | AB3: =IF(ISNA(VLOOKUP($B3,'A conf old'!$B:$AH,3,0)),"",VLOOKUP($B3,'A conf old'!$B:$AH,18,0)) | AC3: =IF(ISNA(VLOOKUP($B3,'A conf old'!$B:$AH,3,0)),"",VLOOKUP($B3,'A conf old'!$B:$AH,19,0)) | AE3: =LOWER(IF(ISNA(VLOOKUP($B3,'A conf old'!$B:$AH,21,0)),"",VLOOKUP($B3,'A conf old'!$B:$AH,21,0))) | AF3: =IF(ISNA(VLOOKUP($B3,'A conf old'!$B:$AH,3,0)),"",VLOOKUP($B3,'A conf old'!$B:$AH,22,0)) | AG3: =IF(ISNA(VLOOKUP($B3,'A conf old'!$B:$AH,3,0)),"",VLOOKUP($B3,'A conf old'!$B:$AH,23,0)) | AH3: =IF(ISNA(VLOOKUP($B3,'A conf old'!$B:$AH,3,0)),"",VLOOKUP($B3,'A conf old'!$B:$AH,24,0)) | AI3: =AK3*3+AL3 -> #VALUE! | AK3: =IF(ISNA(VLOOKUP($B3,'A conf old'!$B:$AH,3,0)),"",VLOOKUP($B3,'A conf old'!$B:$AH,27,0)) | AL3: =IF(ISNA(VLOOKUP($B3,'A conf old'!$B:$AH,3,0)),"",VLOOKUP($B3,'A conf old'!$B:$AH,28,0))
B4: TONI | D4: =VLOOKUP($B4,'A (tt>10)'!$B:$M,2,0) -> ver | E4: =VLOOKUP($B4,'A (tt>10)'!$B:$M,3,0) -> 34 | F4: =VLOOKUP($B4,'A (tt>10)'!$B:$M,4,0) -> 8.5 | G4: =VLOOKUP($B4,'A (tt>10)'!$B:$M,5,0) -> 6.6470588 | H4: =J4*3+K4 -> 65 | I4: =H4/E4 -> 1.9117647 | J4: =VLOOKUP($B4,'A (tt>10)'!$B:$M,7,0) -> 20 | K4: =VLOOKUP($B4,'A (tt>10)'!$B:$M,10,0) -> 5 | M4: =LOWER(IF(ISNA(VLOOKUP($B4,'A conf old'!$B:$AH,3,0)),"",VLOOKUP($B4,'A conf old'!$B:$AH,3,0))) -> fio | N4: =IF(ISNA(VLOOKUP($B4,'A conf old'!$B:$AH,3,0)),"",VLOOKUP($B4,'A conf old'!$B:$AH,4,0)) -> 26 | O4: =IF(ISNA(VLOOKUP($B4,'A conf old'!$B:$AH,3,0)),"",VLOOKUP($B4,'A conf old'!$B:$AH,5,0)) -> 6.85 | P4: =IF(ISNA(VLOOKUP($B4,'A conf old'!$B:$AH,3,0)),"",VLOOKUP($B4,'A conf old'!$B:$AH,6,0)) -> 5.94 | Q4: =S4*3+T4 -> 25 | R4: =Q4/N4 -> 0.96153846 | S4: =IF(ISNA(VLOOKUP($B4,'A conf old'!$B:$AH,3,0)),"",VLOOKUP($B4,'A conf old'!$B:$AH,9,0)) -> 8 | T4: =IF(ISNA(VLOOKUP($B4,'A conf old'!$B:$AH,3,0)),"",VLOOKUP($B4,'A conf old'!$B:$AH,10,0)) -> 1 | V4: =LOWER(IF(ISNA(VLOOKUP($B4,'A conf old'!$B:$AH,12,0)),"",VLOOKUP($B4,'A conf old'!$B:$AH,12,0))) | AE4: =LOWER(IF(ISNA(VLOOKUP($B4,'A conf old'!$B:$AH,21,0)),"",VLOOKUP($B4,'A conf old'!$B:$AH,21,0))) -> juv | AF4: =IF(ISNA(VLOOKUP($B4,'A conf old'!$B:$AH,3,0)),"",VLOOKUP($B4,'A conf old'!$B:$AH,22,0)) -> 30 | AG4: =IF(ISNA(VLOOKUP($B4,'A conf old'!$B:$AH,3,0)),"",VLOOKUP($B4,'A conf old'!$B:$AH,23,0)) -> 6.2 | AH4: =IF(ISNA(VLOOKUP($B4,'A conf old'!$B:$AH,3,0)),"",VLOOKUP($B4,'A conf old'!$B:$AH,24,0)) -> 5.7 | AI4: =AK4*3+AL4 -> 16 | AJ4: =AI4/AF4 -> 0.53333333 | AK4: =IF(ISNA(VLOOKUP($B4,'A conf old'!$B:$AH,3,0)),"",VLOOKUP($B4,'A conf old'!$B:$AH,27,0)) -> 5 | AL4: =IF(ISNA(VLOOKUP($B4,'A conf old'!$B:$AH,3,0)),"",VLOOKUP($B4,'A conf old'!$B:$AH,28,0)) -> 1
B5: TEVEZ | D5: =VLOOKUP($B5,'A (tt>10)'!$B:$M,2,0) -> juv | E5: =VLOOKUP($B5,'A (tt>10)'!$B:$M,3,0) -> 34 | F5: =VLOOKUP($B5,'A (tt>10)'!$B:$M,4,0) -> 8.4852941 | G5: =VLOOKUP($B5,'A (tt>10)'!$B:$M,5,0) -> 6.75 | H5: =J5*3+K5 -> 61 | I5: =H5/E5 -> 1.7941176 | J5: =VLOOKUP($B5,'A (tt>10)'!$B:$M,7,0) -> 19 | K5: =VLOOKUP($B5,'A (tt>10)'!$B:$M,10,0) -> 4 | M5: =LOWER(IF(ISNA(VLOOKUP($B5,'A conf old'!$B:$AH,3,0)),"",VLOOKUP($B5,'A conf old'!$B:$AH,3,0))) | N5: =IF(ISNA(VLOOKUP($B5,'A conf old'!$B:$AH,3,0)),"",VLOOKUP($B5,'A conf old'!$B:$AH,4,0)) | O5: =IF(ISNA(VLOOKUP($B5,'A conf old'!$B:$AH,3,0)),"",VLOOKUP($B5,'A conf old'!$B:$AH,5,0)) | P5: =IF(ISNA(VLOOKUP($B5,'A conf old'!$B:$AH,3,0)),"",VLOOKUP($B5,'A conf old'!$B:$AH,6,0)) | Q5: =S5*3+T5 -> #VALUE! | S5: =IF(ISNA(VLOOKUP($B5,'A conf old'!$B:$AH,3,0)),"",VLOOKUP($B5,'A conf old'!$B:$AH,9,0)) | T5: =IF(ISNA(VLOOKUP($B5,'A conf old'!$B:$AH,3,0)),"",VLOOKUP($B5,'A conf old'!$B:$AH,10,0)) | V5: =LOWER(IF(ISNA(VLOOKUP($B5,'A conf old'!$B:$AH,12,0)),"",VLOOKUP($B5,'A conf old'!$B:$AH,12,0))) | W5: =IF(ISNA(VLOOKUP($B5,'A conf old'!$B:$AH,3,0)),"",VLOOKUP($B5,'A conf old'!$B:$AH,13,0)) | X5: =IF(ISNA(VLOOKUP($B5,'A conf old'!$B:$AH,3,0)),"",VLOOKUP($B5,'A conf old'!$B:$AH,14,0)) | Y5: =IF(ISNA(VLOOKUP($B5,'A conf old'!$B:$AH,3,0)),"",VLOOKUP($B5,'A conf old'!$B:$AH,15,0)) | Z5: =AB5*3+AC5 -> #VALUE! | AB5: =IF(ISNA(VLOOKUP($B5,'A conf old'!$B:$AH,3,0)),"",VLOOKUP($B5,'A conf old'!$B:$AH,18,0)) | AC5: =IF(ISNA(VLOOKUP($B5,'A conf old'!$B:$AH,3,0)),"",VLOOKUP($B5,'A conf old'!$B:$AH,19,0)) | AE5: =LOWER(IF(ISNA(VLOOKUP($B5,'A conf old'!$B:$AH,21,0)),"",VLOOKUP($B5,'A conf old'!$B:$AH,21,0))) | AF5: =IF(ISNA(VLOOKUP($B5,'A conf old'!$B:$AH,3,0)),"",VLOOKUP($B5,'A conf old'!$B:$AH,22,0)) | AG5: =IF(ISNA(VLOOKUP($B5,'A conf old'!$B:$AH,3,0)),"",VLOOKUP($B5,'A conf old'!$B:$AH,23,0)) | AH5: =IF(ISNA(VLOOKUP($B5,'A conf old'!$B:$AH,3,0)),"",VLOOKUP($B5,'A conf old'!$B:$AH,24,0)) | AI5: =AK5*3+AL5 -> #VALUE! | AK5: =IF(ISNA(VLOOKUP($B5,'A conf old'!$B:$AH,3,0)),"",VLOOKUP($B5,'A conf old'!$B:$AH,27,0)) | AL5: =IF(ISNA(VLOOKUP($B5,'A conf old'!$B:$AH,3,0)),"",VLOOKUP($B5,'A conf old'!$B:$AH,28,0))
B6: DESTRO | D6: =VLOOKUP($B6,'A (tt>10)'!$B:$M,2,0) -> rom | E6: =VLOOKUP($B6,'A (tt>10)'!$B:$M,3,0) -> 18 | F6: =VLOOKUP($B6,'A (tt>10)'!$B:$M,4,0) -> 8.4166667 | G6: =VLOOKUP($B6,'A (tt>10)'!$B:$M,5,0) -> 6.3333333 | H6: =J6*3+K6 -> 40 | I6: =H6/E6 -> 2.2222222 | J6: =VLOOKUP($B6,'A (tt>10)'!$B:$M,7,0) -> 13 | K6: =VLOOKUP($B6,'A (tt>10)'!$B:$M,10,0) -> 1 | M6: =LOWER(IF(ISNA(VLOOKUP($B6,'A conf old'!$B:$AH,3,0)),"",VLOOKUP($B6,'A conf old'!$B:$AH,3,0))) -> rom | N6: =IF(ISNA(VLOOKUP($B6,'A conf old'!$B:$AH,3,0)),"",VLOOKUP($B6,'A conf old'!$B:$AH,4,0)) -> 18 | O6: =IF(ISNA(VLOOKUP($B6,'A conf old'!$B:$AH,3,0)),"",VLOOKUP($B6,'A conf old'!$B:$AH,5,0)) -> 6.56 | P6: =IF(ISNA(VLOOKUP($B6,'A conf old'!$B:$AH,3,0)),"",VLOOKUP($B6,'A conf old'!$B:$AH,6,0)) -> 5.69 | Q6: =S6*3+T6 -> 19 | R6: =Q6/N6 -> 1.0555556 | S6: =IF(ISNA(VLOOKUP($B6,'A conf old'!$B:$AH,3,0)),"",VLOOKUP($B6,'A conf old'!$B:$AH,9,0)) -> 6 | T6: =IF(ISNA(VLOOKUP($B6,'A conf old'!$B:$AH,3,0)),"",VLOOKUP($B6,'A conf old'!$B:$AH,10,0)) -> 1 | V6: =LOWER(IF(ISNA(VLOOKUP($B6,'A conf old'!$B:$AH,12,0)),"",VLOOKUP($B6,'A conf old'!$B:$AH,12,0))) -> sie | W6: =IF(ISNA(VLOOKUP($B6,'A conf old'!$B:$AH,3,0)),"",VLOOKUP($B6,'A conf old'!$B:$AH,13,0)) -> 28 | X6: =IF(ISNA(VLOOKUP($B6,'A conf old'!$B:$AH,3,0)),"",VLOOKUP($B6,'A conf old'!$B:$AH,14,0)) -> 7.45 | Y6: =IF(ISNA(VLOOKUP($B6,'A conf old'!$B:$AH,3,0)),"",VLOOKUP($B6,'A conf old'!$B:$AH,15,0)) -> 6.16 | Z6: =AB6*3+AC6 -> 38 | AA6: =Z6/W6 -> 1.3571429 | AB6: =IF(ISNA(VLOOKUP($B6,'A conf old'!$B:$AH,3,0)),"",VLOOKUP($B6,'A conf old'!$B:$AH,18,0)) -> 12 | AC6: =IF(ISNA(VLOOKUP($B6,'A conf old'!$B:$AH,3,0)),"",VLOOKUP($B6,'A conf old'!$B:$AH,19,0)) -> 2 | AE6: =LOWER(IF(ISNA(VLOOKUP($B6,'A conf old'!$B:$AH,21,0)),"",VLOOKUP($B6,'A conf old'!$B:$AH,21,0))) -> gen | AF6: =IF(ISNA(VLOOKUP($B6,'A conf old'!$B:$AH,3,0)),"",VLOOKUP($B6,'A conf old'!$B:$AH,22,0)) -> 14 | AG6: =IF(ISNA(VLOOKUP($B6,'A conf old'!$B:$AH,3,0)),"",VLOOKUP($B6,'A conf old'!$B:$AH,23,0)) -> 6.21 | AH6: =IF(ISNA(VLOOKUP($B6,'A conf old'!$B:$AH,3,0)),"",VLOOKUP($B6,'A conf old'!$B:$AH,24,0)) -> 5.86 | AI6: =AK6*3+AL6 -> 7 | AJ6: =AI6/AF6 -> 0.5 | AK6: =IF(ISNA(VLOOKUP($B6,'A conf old'!$B:$AH,3,0)),"",VLOOKUP($B6,'A conf old'!$B:$AH,27,0)) -> 2 | AL6: =IF(ISNA(VLOOKUP($B6,'A conf old'!$B:$AH,3,0)),"",VLOOKUP($B6,'A conf old'!$B:$AH,28,0)) -> 1
B7: IMMOBILE | D7: =VLOOKUP($B7,'A (tt>10)'!$B:$M,2,0) -> tor | E7: =VLOOKUP($B7,'A (tt>10)'!$B:$M,3,0) -> 33 | F7: =VLOOKUP($B7,'A (tt>10)'!$B:$M,4,0) -> 8.2121212 | G7: =VLOOKUP($B7,'A (tt>10)'!$B:$M,5,0) -> 6.4242424 | H7: =J7*3+K7 -> 68 | I7: =H7/E7 -> 2.0606061 | J7: =VLOOKUP($B7,'A (tt>10)'!$B:$M,7,0) -> 22 | K7: =VLOOKUP($B7,'A (tt>10)'!$B:$M,10,0) -> 2 | M7: =LOWER(IF(ISNA(VLOOKUP($B7,'A conf old'!$B:$AH,3,0)),"",VLOOKUP($B7,'A conf old'!$B:$AH,3,0))) -> gen | N7: =IF(ISNA(VLOOKUP($B7,'A conf old'!$B:$AH,3,0)),"",VLOOKUP($B7,'A conf old'!$B:$AH,4,0)) -> 29 | O7: =IF(ISNA(VLOOKUP($B7,'A conf old'!$B:$AH,3,0)),"",VLOOKUP($B7,'A conf old'!$B:$AH,5,0)) -> 6.12 | P7: =IF(ISNA(VLOOKUP($B7,'A conf old'!$B:$AH,3,0)),"",VLOOKUP($B7,'A conf old'!$B:$AH,6,0)) -> 5.59 | Q7: =S7*3+T7 -> 18 | R7: =Q7/N7 -> 0.62068966 | S7: =IF(ISNA(VLOOKUP($B7,'A conf old'!$B:$AH,3,0)),"",VLOOKUP($B7,'A conf old'!$B:$AH,9,0)) -> 5 | T7: =IF(ISNA(VLOOKUP($B7,'A conf old'!$B:$AH,3,0)),"",VLOOKUP($B7,'A conf old'!$B:$AH,10,0)) -> 3 | V7: =LOWER(IF(ISNA(VLOOKUP($B7,'A conf old'!$B:$AH,12,0)),"",VLOOKUP($B7,'A conf old'!$B:$AH,12,0))) | AE7: =LOWER(IF(ISNA(VLOOKUP($B7,'A conf old'!$B:$AH,21,0)),"",VLOOKUP($B7,'A conf old'!$B:$AH,21,0)))
B8: HIGUAIN | D8: =VLOOKUP($B8,'A (tt>10)'!$B:$M,2,0) -> nap | E8: =VLOOKUP($B8,'A (tt>10)'!$B:$M,3,0) -> 31 | F8: =VLOOKUP($B8,'A (tt>10)'!$B:$M,4,0) -> 8.1774194 | G8: =VLOOKUP($B8,'A (tt>10)'!$B:$M,5,0) -> 6.4354839 | H8: =J8*3+K8 -> 57 | I8: =H8/E8 -> 1.8387097 | J8: =VLOOKUP($B8,'A (tt>10)'!$B:$M,7,0) -> 17 | K8: =VLOOKUP($B8,'A (tt>10)'!$B:$M,10,0) -> 6 | M8: =LOWER(IF(ISNA(VLOOKUP($B8,'A conf old'!$B:$AH,3,0)),"",VLOOKUP($B8,'A conf old'!$B:$AH,3,0))) | N8: =IF(ISNA(VLOOKUP($B8,'A conf old'!$B:$AH,3,0)),"",VLOOKUP($B8,'A conf old'!$B:$AH,4,0)) | O8: =IF(ISNA(VLOOKUP($B8,'A conf old'!$B:$AH,3,0)),"",VLOOKUP($B8,'A conf old'!$B:$AH,5,0)) | P8: =IF(ISNA(VLOOKUP($B8,'A conf old'!$B:$AH,3,0)),"",VLOOKUP($B8,'A conf old'!$B:$AH,6,0)) | Q8: =S8*3+T8 -> #VALUE! | S8: =IF(ISNA(VLOOKUP($B8,'A conf old'!$B:$AH,3,0)),"",VLOOKUP($B8,'A conf old'!$B:$AH,9,0)) | T8: =IF(ISNA(VLOOKUP($B8,'A conf old'!$B:$AH,3,0)),"",VLOOKUP($B8,'A conf old'!$B:$AH,10,0)) | V8: =LOWER(IF(ISNA(VLOOKUP($B8,'A conf old'!$B:$AH,12,0)),"",VLOOKUP($B8,'A conf old'!$B:$AH,12,0))) | AE8: =LOWER(IF(ISNA(VLOOKUP($B8,'A conf old'!$B:$AH,21,0)),"",VLOOKUP($B8,'A conf old'!$B:$AH,21,0)))
B9: LLORENTE | D9: =VLOOKUP($B9,'A (tt>10)'!$B:$M,2,0) -> juv | E9: =VLOOKUP($B9,'A (tt>10)'!$B:$M,3,0) -> 32 | F9: =VLOOKUP($B9,'A (tt>10)'!$B:$M,4,0) -> 7.765625 | G9: =VLOOKUP($B9,'A (tt>10)'!$B:$M,5,0) -> 6.25 | H9: =J9*3+K9 -> 50 | I9: =H9/E9 -> 1.5625 | J9: =VLOOKUP($B9,'A (tt>10)'!$B:$M,7,0) -> 16 | K9: =VLOOKUP($B9,'A (tt>10)'!$B:$M,10,0) -> 2 | M9: =LOWER(IF(ISNA(VLOOKUP($B9,'A conf old'!$B:$AH,3,0)),"",VLOOKUP($B9,'A conf old'!$B:$AH,3,0))) | N9: =IF(ISNA(VLOOKUP($B9,'A conf old'!$B:$AH,3,0)),"",VLOOKUP($B9,'A conf old'!$B:$AH,4,0)) | O9: =IF(ISNA(VLOOKUP($B9,'A conf old'!$B:$AH,3,0)),"",VLOOKUP($B9,'A conf old'!$B:$AH,5,0)) | P9: =IF(ISNA(VLOOKUP($B9,'A conf old'!$B:$AH,3,0)),"",VLOOKUP($B9,'A conf old'!$B:$AH,6,0)) | Q9: =S9*3+T9 -> #VALUE! | S9: =IF(ISNA(VLOOKUP($B9,'A conf old'!$B:$AH,3,0)),"",VLOOKUP($B9,'A conf old'!$B:$AH,9,0)) | T9: =IF(ISNA(VLOOKUP($B9,'A conf old'!$B:$AH,3,0)),"",VLOOKUP($B9,'A conf old'!$B:$AH,10,0)) | V9: =LOWER(IF(ISNA(VLOOKUP($B9,'A conf old'!$B:$AH,12,0)),"",VLOOKUP($B9,'A conf old'!$B:$AH,12,0))) | W9: =IF(ISNA(VLOOKUP($B9,'A conf old'!$B:$AH,3,0)),"",VLOOKUP($B9,'A conf old'!$B:$AH,13,0)) | X9: =IF(ISNA(VLOOKUP($B9,'A conf old'!$B:$AH,3,0)),"",VLOOKUP($B9,'A conf old'!$B:$AH,14,0)) | Y9: =IF(ISNA(VLOOKUP($B9,'A conf old'!$B:$AH,3,0)),"",VLOOKUP($B9,'A conf old'!$B:$AH,15,0)) | Z9: =AB9*3+AC9 -> #VALUE! | AB9: =IF(ISNA(VLOOKUP($B9,'A conf old'!$B:$AH,3,0)),"",VLOOKUP($B9,'A conf old'!$B:$AH,18,0)) | AC9: =IF(ISNA(VLOOKUP($B9,'A conf old'!$B:$AH,3,0)),"",VLOOKUP($B9,'A conf old'!$B:$AH,19,0)) | AE9: =LOWER(IF(ISNA(VLOOKUP($B9,'A conf old'!$B:$AH,21,0)),"",VLOOKUP($B9,'A conf old'!$B:$AH,21,0))) | AF9: =IF(ISNA(VLOOKUP($B9,'A conf old'!$B:$AH,3,0)),"",VLOOKUP($B9,'A conf old'!$B:$AH,22,0)) | AG9: =IF(ISNA(VLOOKUP($B9,'A conf old'!$B:$AH,3,0)),"",VLOOKUP($B9,'A conf old'!$B:$AH,23,0)) | AH9: =IF(ISNA(VLOOKUP($B9,'A conf old'!$B:$AH,3,0)),"",VLOOKUP($B9,'A conf old'!$B:$AH,24,0)) | AI9: =AK9*3+AL9 -> #VALUE! | AK9: =IF(ISNA(VLOOKUP($B9,'A conf old'!$B:$AH,3,0)),"",VLOOKUP($B9,'A conf old'!$B:$AH,27,0)) | AL9: =IF(ISNA(VLOOKUP($B9,'A conf old'!$B:$AH,3,0)),"",VLOOKUP($B9,'A conf old'!$B:$AH,28,0))
B10: BERARDI D. | D10: =VLOOKUP($B10,'A (tt>10)'!$B:$M,2,0) -> sas | E10: =VLOOKUP($B10,'A (tt>10)'!$B:$M,3,0) -> 29 | F10: =VLOOKUP($B10,'A (tt>10)'!$B:$M,4,0) -> 7.7068966 | G10: =VLOOKUP($B10,'A (tt>10)'!$B:$M,5,0) -> 6.1206897 | H10: =J10*3+K10 -> 52 | I10: =H10/E10 -> 1.7931034 | J10: =VLOOKUP($B10,'A (tt>10)'!$B:$M,7,0) -> 16 | K10: =VLOOKUP($B10,'A (tt>10)'!$B:$M,10,0) -> 4 | M10: =LOWER(IF(ISNA(VLOOKUP($B10,'A conf old'!$B:$AH,3,0)),"",VLOOKUP($B10,'A conf old'!$B:$AH,3,0))) | N10: =IF(ISNA(VLOOKUP($B10,'A conf old'!$B:$AH,3,0)),"",VLOOKUP($B10,'A conf old'!$B:$AH,4,0)) | O10: =IF(ISNA(VLOOKUP($B10,'A conf old'!$B:$AH,3,0)),"",VLOOKUP($B10,'A conf old'!$B:$AH,5,0)) | P10: =IF(ISNA(VLOOKUP($B10,'A conf old'!$B:$AH,3,0)),"",VLOOKUP($B10,'A conf old'!$B:$AH,6,0)) | Q10: =S10*3+T10 -> #VALUE! | S10: =IF(ISNA(VLOOKUP($B10,'A conf old'!$B:$AH,3,0)),"",VLOOKUP($B10,'A conf old'!$B:$AH,9,0)) | T10: =IF(ISNA(VLOOKUP($B10,'A conf old'!$B:$AH,3,0)),"",VLOOKUP($B10,'A conf old'!$B:$AH,10,0)) | V10: =LOWER(IF(ISNA(VLOOKUP($B10,'A conf old'!$B:$AH,12,0)),"",VLOOKUP($B10,'A conf old'!$B:$AH,12,0))) | W10: =IF(ISNA(VLOOKUP($B10,'A conf old'!$B:$AH,3,0)),"",VLOOKUP($B10,'A conf old'!$B:$AH,13,0)) | X10: =IF(ISNA(VLOOKUP($B10,'A conf old'!$B:$AH,3,0)),"",VLOOKUP($B10,'A conf old'!$B:$AH,14,0)) | Y10: =IF(ISNA(VLOOKUP($B10,'A conf old'!$B:$AH,3,0)),"",VLOOKUP($B10,'A conf old'!$B:$AH,15,0)) | Z10: =AB10*3+AC10 -> #VALUE! | AB10: =IF(ISNA(VLOOKUP($B10,'A conf old'!$B:$AH,3,0)),"",VLOOKUP($B10,'A conf old'!$B:$AH,18,0)) | AC10: =IF(ISNA(VLOOKUP($B10,'A conf old'!$B:$AH,3,0)),"",VLOOKUP($B10,'A conf old'!$B:$AH,19,0)) | AE10: =LOWER(IF(ISNA(VLOOKUP($B10,'A conf old'!$B:$AH,21,0)),"",VLOOKUP($B10,'A conf old'!$B:$AH,21,0)))
B11: PALACIO | D11: =VLOOKUP($B11,'A (tt>10)'!$B:$M,2,0) -> int | E11: =VLOOKUP($B11,'A (tt>10)'!$B:$M,3,0) -> 37 | F11: =VLOOKUP($B11,'A (tt>10)'!$B:$M,4,0) -> 7.6351351 | G11: =VLOOKUP($B11,'A (tt>10)'!$B:$M,5,0) -> 6.1756757 | H11: =J11*3+K11 -> 56 | I11: =H11/E11 -> 1.5135135 | J11: =VLOOKUP($B11,'A (tt>10)'!$B:$M,7,0) -> 17 | K11: =VLOOKUP($B11,'A (tt>10)'!$B:$M,10,0) -> 5 | M11: =LOWER(IF(ISNA(VLOOKUP($B11,'A conf old'!$B:$AH,3,0)),"",VLOOKUP($B11,'A conf old'!$B:$AH,3,0))) -> int | N11: =IF(ISNA(VLOOKUP($B11,'A conf old'!$B:$AH,3,0)),"",VLOOKUP($B11,'A conf old'!$B:$AH,4,0)) -> 26 | O11: =IF(ISNA(VLOOKUP($B11,'A conf old'!$B:$AH,3,0)),"",VLOOKUP($B11,'A conf old'!$B:$AH,5,0)) -> 7.62 | P11: =IF(ISNA(VLOOKUP($B11,'A conf old'!$B:$AH,3,0)),"",VLOOKUP($B11,'A conf old'!$B:$AH,6,0)) -> 6.1 | Q11: =S11*3+T11 -> 41 | R11: =Q11/N11 -> 1.5769231 | S11: =IF(ISNA(VLOOKUP($B11,'A conf old'!$B:$AH,3,0)),"",VLOOKUP($B11,'A conf old'!$B:$AH,9,0)) -> 12 | T11: =IF(ISNA(VLOOKUP($B11,'A conf old'!$B:$AH,3,0)),"",VLOOKUP($B11,'A conf old'!$B:$AH,10,0)) -> 5 | V11: =LOWER(IF(ISNA(VLOOKUP($B11,'A conf old'!$B:$AH,12,0)),"",VLOOKUP($B11,'A conf old'!$B:$AH,12,0))) -> gen | W11: =IF(ISNA(VLOOKUP($B11,'A conf old'!$B:$AH,3,0)),"",VLOOKUP($B11,'A conf old'!$B:$AH,13,0)) -> 32 | X11: =IF(ISNA(VLOOKUP($B11,'A conf old'!$B:$AH,3,0)),"",VLOOKUP($B11,'A conf old'!$B:$AH,14,0)) -> 7.97 | Y11: =IF(ISNA(VLOOKUP($B11,'A conf old'!$B:$AH,3,0)),"",VLOOKUP($B11,'A conf old'!$B:$AH,15,0)) -> 6.34 | Z11: =AB11*3+AC11 -> 59 | AA11: =Z11/W11 -> 1.84375 | AB11: =IF(ISNA(VLOOKUP($B11,'A conf old'!$B:$AH,3,0)),"",VLOOKUP($B11,'A conf old'!$B:$AH,18,0)) -> 18 | AC11: =IF(ISNA(VLOOKUP($B11,'A conf old'!$B:$AH,3,0)),"",VLOOKUP($B11,'A conf old'!$B:$AH,19,0)) -> 5 | AE11: =LOWER(IF(ISNA(VLOOKUP($B11,'A conf old'!$B:$AH,21,0)),"",VLOOKUP($B11,'A conf old'!$B:$AH,21,0))) -> gen | AF11: =IF(ISNA(VLOOKUP($B11,'A conf old'!$B:$AH,3,0)),"",VLOOKUP($B11,'A conf old'!$B:$AH,22,0)) -> 27 | AG11: =IF(ISNA(VLOOKUP($B11,'A conf old'!$B:$AH,3,0)),"",VLOOKUP($B11,'A conf old'!$B:$AH,23,0)) -> 7.52 | AH11: =IF(ISNA(VLOOKUP($B11,'A conf old'!$B:$AH,3,0)),"",VLOOKUP($B11,'A conf old'!$B:$AH,24,0)) -> 6.33 | AI11: =AK11*3+AL11 -> 34 | AJ11: =AI11/AF11 -> 1.2592593 | AK11: =IF(ISNA(VLOOKUP($B11,'A conf old'!$B:$AH,3,0)),"",VLOOKUP($B11,'A conf old'!$B:$AH,27,0)) -> 9 | AL11: =IF(ISNA(VLOOKUP($B11,'A conf old'!$B:$AH,3,0)),"",VLOOKUP($B11,'A conf old'!$B:$AH,28,0)) -> 7
B12: TOTTI | D12: =VLOOKUP($B12,'A (tt>10)'!$B:$M,2,0) -> rom | E12: =VLOOKUP($B12,'A (tt>10)'!$B:$M,3,0) -> 25 | F12: =VLOOKUP($B12,'A (tt>10)'!$B:$M,4,0) -> 7.48 | G12: =VLOOKUP($B12,'A (tt>10)'!$B:$M,5,0) -> 6.5 | H12: =J12*3+K12 -> 26 | I12: =H12/E12 -> 1.04 | J12: =VLOOKUP($B12,'A (tt>10)'!$B:$M,7,0) -> 7 | K12: =VLOOKUP($B12,'A (tt>10)'!$B:$M,10,0) -> 5 | M12: =LOWER(IF(ISNA(VLOOKUP($B12,'A conf old'!$B:$AH,3,0)),"",VLOOKUP($B12,'A conf old'!$B:$AH,3,0))) -> rom | N12: =IF(ISNA(VLOOKUP($B12,'A conf old'!$B:$AH,3,0)),"",VLOOKUP($B12,'A conf old'!$B:$AH,4,0)) -> 34 | O12: =IF(ISNA(VLOOKUP($B12,'A conf old'!$B:$AH,3,0)),"",VLOOKUP($B12,'A conf old'!$B:$AH,5,0)) -> 7.74 | P12: =IF(ISNA(VLOOKUP($B12,'A conf old'!$B:$AH,3,0)),"",VLOOKUP($B12,'A conf old'!$B:$AH,6,0)) -> 6.56 | Q12: =S12*3+T12 -> 47 | R12: =Q12/N12 -> 1.3823529 | S12: =IF(ISNA(VLOOKUP($B12,'A conf old'!$B:$AH,3,0)),"",VLOOKUP($B12,'A conf old'!$B:$AH,9,0)) -> 12 | T12: =IF(ISNA(VLOOKUP($B12,'A conf old'!$B:$AH,3,0)),"",VLOOKUP($B12,'A conf old'!$B:$AH,10,0)) -> 11 | V12: =LOWER(IF(ISNA(VLOOKUP($B12,'A conf old'!$B:$AH,12,0)),"",VLOOKUP($B12,'A conf old'!$B:$AH,12,0))) -> rom | W12: =IF(ISNA(VLOOKUP($B12,'A conf old'!$B:$AH,3,0)),"",VLOOKUP($B12,'A conf old'!$B:$AH,13,0)) -> 27 | X12: =IF(ISNA(VLOOKUP($B12,'A conf old'!$B:$AH,3,0)),"",VLOOKUP($B12,'A conf old'!$B:$AH,14,0)) -> 7.13 | Y12: =IF(ISNA(VLOOKUP($B12,'A conf old'!$B:$AH,3,0)),"",VLOOKUP($B12,'A conf old'!$B:$AH,15,0)) -> 6.37 | Z12: =AB12*3+AC12 -> 30 | AA12: =Z12/W12 -> 1.1111111 | AB12: =IF(ISNA(VLOOKUP($B12,'A conf old'!$B:$AH,3,0)),"",VLOOKUP($B12,'A conf old'!$B:$AH,18,0)) -> 8 | AC12: =IF(ISNA(VLOOKUP($B12,'A conf old'!$B:$AH,3,0)),"",VLOOKUP($B12,'A conf old'!$B:$AH,19,0)) -> 6 | AE12: =LOWER(IF(ISNA(VLOOKUP($B12,'A conf old'!$B:$AH,21,0)),"",VLOOKUP($B12,'A conf old'!$B:$AH,21,0))) -> rom | AF12: =IF(ISNA(VLOOKUP($B12,'A conf old'!$B:$AH,3,0)),"",VLOOKUP($B12,'A conf old'!$B:$AH,22,0)) -> 30 | AG12: =IF(ISNA(VLOOKUP($B12,'A conf old'!$B:$AH,3,0)),"",VLOOKUP($B12,'A conf old'!$B:$AH,23,0)) -> 7.73 | AH12: =IF(ISNA(VLOOKUP($B12,'A conf old'!$B:$AH,3,0)),"",VLOOKUP($B12,'A conf old'!$B:$AH,24,0)) -> 6.33 | AI12: =AK12*3+AL12 -> 52 | AJ12: =AI12/AF12 -> 1.7333333 | AK12: =IF(ISNA(VLOOKUP($B12,'A conf old'!$B:$AH,3,0)),"",VLOOKUP($B12,'A conf old'!$B:$AH,27,0)) -> 15 | AL12: =IF(ISNA(VLOOKUP($B12,'A conf old'!$B:$AH,3,0)),"",VLOOKUP($B12,'A conf old'!$B:$AH,28,0)) -> 7
B13: ICARDI | D13: =VLOOKUP($B13,'A (tt>10)'!$B:$M,2,0) -> int | E13: =VLOOKUP($B13,'A (tt>10)'!$B:$M,3,0) -> 20 | F13: =VLOOKUP($B13,'A (tt>10)'!$B:$M,4,0) -> 7.475 | G13: =VLOOKUP($B13,'A (tt>10)'!$B:$M,5,0) -> 6.1 | H13: =J13*3+K13 -> 28 | I13: =H13/E13 -> 1.4 | J13: =VLOOKUP($B13,'A (tt>10)'!$B:$M,7,0) -> 9 | K13: =VLOOKUP($B13,'A (tt>10)'!$B:$M,10,0) -> 1 | M13: =LOWER(IF(ISNA(VLOOKUP($B13,'A conf old'!$B:$AH,3,0)),"",VLOOKUP($B13,'A conf old'!$B:$AH,3,0))) -> sam | N13: =IF(ISNA(VLOOKUP($B13,'A conf old'!$B:$AH,3,0)),"",VLOOKUP($B13,'A conf old'!$B:$AH,4,0)) -> 29 | O13: =IF(ISNA(VLOOKUP($B13,'A conf old'!$B:$AH,3,0)),"",VLOOKUP($B13,'A conf old'!$B:$AH,5,0)) -> 6.81 | P13: =IF(ISNA(VLOOKUP($B13,'A conf old'!$B:$AH,3,0)),"",VLOOKUP($B13,'A conf old'!$B:$AH,6,0)) -> 5.79 | Q13: =S13*3+T13 -> 31 | R13: =Q13/N13 -> 1.0689655 | S13: =IF(ISNA(VLOOKUP($B13,'A conf old'!$B:$AH,3,0)),"",VLOOKUP($B13,'A conf old'!$B:$AH,9,0)) -> 10 | T13: =IF(ISNA(VLOOKUP($B13,'A conf old'!$B:$AH,3,0)),"",VLOOKUP($B13,'A conf old'!$B:$AH,10,0)) -> 1 | V13: =LOWER(IF(ISNA(VLOOKUP($B13,'A conf old'!$B:$AH,12,0)),"",VLOOKUP($B13,'A conf old'!$B:$AH,12,0))) | AE13: =LOWER(IF(ISNA(VLOOKUP($B13,'A conf old'!$B:$AH,21,0)),"",VLOOKUP($B13,'A conf old'!$B:$AH,21,0)))
B14: ZAPATA D. | D14: =VLOOKUP($B14,'A (tt>10)'!$B:$M,2,0) -> nap | E14: =VLOOKUP($B14,'A (tt>10)'!$B:$M,3,0) -> 11 | F14: =VLOOKUP($B14,'A (tt>10)'!$B:$M,4,0) -> 7.4545455 | G14: =VLOOKUP($B14,'A (tt>10)'!$B:$M,5,0) -> 6 | H14: =J14*3+K14 -> 17 | I14: =H14/E14 -> 1.5454545 | J14: =VLOOKUP($B14,'A (tt>10)'!$B:$M,7,0) -> 5 | K14: =VLOOKUP($B14,'A (tt>10)'!$B:$M,10,0) -> 2 | M14: =LOWER(IF(ISNA(VLOOKUP($B14,'A conf old'!$B:$AH,3,0)),"",VLOOKUP($B14,'A conf old'!$B:$AH,3,0))) | N14: =IF(ISNA(VLOOKUP($B14,'A conf old'!$B:$AH,3,0)),"",VLOOKUP($B14,'A conf old'!$B:$AH,4,0)) | O14: =IF(ISNA(VLOOKUP($B14,'A conf old'!$B:$AH,3,0)),"",VLOOKUP($B14,'A conf old'!$B:$AH,5,0)) | P14: =IF(ISNA(VLOOKUP($B14,'A conf old'!$B:$AH,3,0)),"",VLOOKUP($B14,'A conf old'!$B:$AH,6,0)) | Q14: =S14*3+T14 -> #VALUE! | S14: =IF(ISNA(VLOOKUP($B14,'A conf old'!$B:$AH,3,0)),"",VLOOKUP($B14,'A conf old'!$B:$AH,9,0)) | T14: =IF(ISNA(VLOOKUP($B14,'A conf old'!$B:$AH,3,0)),"",VLOOKUP($B14,'A conf old'!$B:$AH,10,0)) | V14: =LOWER(IF(ISNA(VLOOKUP($B14,'A conf old'!$B:$AH,12,0)),"",VLOOKUP($B14,'A conf old'!$B:$AH,12,0))) | W14: =IF(ISNA(VLOOKUP($B14,'A conf old'!$B:$AH,3,0)),"",VLOOKUP($B14,'A conf old'!$B:$AH,13,0)) | X14: =IF(ISNA(VLOOKUP($B14,'A conf old'!$B:$AH,3,0)),"",VLOOKUP($B14,'A conf old'!$B:$AH,14,0)) | Y14: =IF(ISNA(VLOOKUP($B14,'A conf old'!$B:$AH,3,0)),"",VLOOKUP($B14,'A conf old'!$B:$AH,15,0)) | Z14: =AB14*3+AC14 -> #VALUE! | AB14: =IF(ISNA(VLOOKUP($B14,'A conf old'!$B:$AH,3,0)),"",VLOOKUP($B14,'A conf old'!$B:$AH,18,0)) | AC14: =IF(ISNA(VLOOKUP($B14,'A conf old'!$B:$AH,3,0)),"",VLOOKUP($B14,'A conf old'!$B:$AH,19,0)) | AE14: =LOWER(IF(ISNA(VLOOKUP($B14,'A conf old'!$B:$AH,21,0)),"",VLOOKUP($B14,'A conf old'!$B:$AH,21,0))) | AF14: =IF(ISNA(VLOOKUP($B14,'A conf old'!$B:$AH,3,0)),"",VLOOKUP($B14,'A conf old'!$B:$AH,22,0)) | AG14: =IF(ISNA(VLOOKUP($B14,'A conf old'!$B:$AH,3,0)),"",VLOOKUP($B14,'A conf old'!$B:$AH,23,0)) | AH14: =IF(ISNA(VLOOKUP($B14,'A conf old'!$B:$AH,3,0)),"",VLOOKUP($B14,'A conf old'!$B:$AH,24,0)) | AI14: =AK14*3+AL14 -> #VALUE! | AK14: =IF(ISNA(VLOOKUP($B14,'A conf old'!$B:$AH,3,0)),"",VLOOKUP($B14,'A conf old'!$B:$AH,27,0)) | AL14: =IF(ISNA(VLOOKUP($B14,'A conf old'!$B:$AH,3,0)),"",VLOOKUP($B14,'A conf old'!$B:$AH,28,0))
B15: MERTENS | D15: =VLOOKUP($B15,'A (tt>10)'!$B:$M,2,0) -> nap | E15: =VLOOKUP($B15,'A (tt>10)'!$B:$M,3,0) -> 30 | F15: =VLOOKUP($B15,'A (tt>10)'!$B:$M,4,0) -> 7.4333333 | G15: =VLOOKUP($B15,'A (tt>10)'!$B:$M,5,0) -> 6.2666667 | H15: =J15*3+K15 -> 37 | I15: =H15/E15 -> 1.2333333 | J15: =VLOOKUP($B15,'A (tt>10)'!$B:$M,7,0) -> 11 | K15: =VLOOKUP($B15,'A (tt>10)'!$B:$M,10,0) -> 4 | M15: =LOWER(IF(ISNA(VLOOKUP($B15,'A conf old'!$B:$AH,3,0)),"",VLOOKUP($B15,'A conf old'!$B:$AH,3,0))) | N15: =IF(ISNA(VLOOKUP($B15,'A conf old'!$B:$AH,3,0)),"",VLOOKUP($B15,'A conf old'!$B:$AH,4,0)) | O15: =IF(ISNA(VLOOKUP($B15,'A conf old'!$B:$AH,3,0)),"",VLOOKUP($B15,'A conf old'!$B:$AH,5,0)) | P15: =IF(ISNA(VLOOKUP($B15,'A conf old'!$B:$AH,3,0)),"",VLOOKUP($B15,'A conf old'!$B:$AH,6,0)) | Q15: =S15*3+T15 -> #VALUE! | S15: =IF(ISNA(VLOOKUP($B15,'A conf old'!$B:$AH,3,0)),"",VLOOKUP($B15,'A conf old'!$B:$AH,9,0)) | T15: =IF(ISNA(VLOOKUP($B15,'A conf old'!$B:$AH,3,0)),"",VLOOKUP($B15,'A conf old'!$B:$AH,10,0)) | V15: =LOWER(IF(ISNA(VLOOKUP($B15,'A conf old'!$B:$AH,12,0)),"",VLOOKUP($B15,'A conf old'!$B:$AH,12,0))) | W15: =IF(ISNA(VLOOKUP($B15,'A conf old'!$B:$AH,3,0)),"",VLOOKUP($B15,'A conf old'!$B:$AH,13,0)) | X15: =IF(ISNA(VLOOKUP($B15,'A conf old'!$B:$AH,3,0)),"",VLOOKUP($B15,'A conf old'!$B:$AH,14,0)) | Y15: =IF(ISNA(VLOOKUP($B15,'A conf old'!$B:$AH,3,0)),"",VLOOKUP($B15,'A conf old'!$B:$AH,15,0)) | Z15: =AB15*3+AC15 -> #VALUE! | AB15: =IF(ISNA(VLOOKUP($B15,'A conf old'!$B:$AH,3,0)),"",VLOOKUP($B15,'A conf old'!$B:$AH,18,0)) | AC15: =IF(ISNA(VLOOKUP($B15,'A conf old'!$B:$AH,3,0)),"",VLOOKUP($B15,'A conf old'!$B:$AH,19,0)) | AE15: =LOWER(IF(ISNA(VLOOKUP($B15,'A conf old'!$B:$AH,21,0)),"",VLOOKUP($B15,'A conf old'!$B:$AH,21,0))) | AF15: =IF(ISNA(VLOOKUP($B15,'A conf old'!$B:$AH,3,0)),"",VLOOKUP($B15,'A conf old'!$B:$AH,22,0)) | AG15: =IF(ISNA(VLOOKUP($B15,'A conf old'!$B:$AH,3,0)),"",VLOOKUP($B15,'A conf old'!$B:$AH,23,0)) | AH15: =IF(ISNA(VLOOKUP($B15,'A conf old'!$B:$AH,3,0)),"",VLOOKUP($B15,'A conf old'!$B:$AH,24,0)) | AI15: =AK15*3+AL15 -> #VALUE! | AK15: =IF(ISNA(VLOOKUP($B15,'A conf old'!$B:$AH,3,0)),"",VLOOKUP($B15,'A conf old'!$B:$AH,27,0)) | AL15: =IF(ISNA(VLOOKUP($B15,'A conf old'!$B:$AH,3,0)),"",VLOOKUP($B15,'A conf old'!$B:$AH,28,0))
B16: DI NATALE | D16: =VLOOKUP($B16,'A (tt>10)'!$B:$M,2,0) -> udi | E16: =VLOOKUP($B16,'A (tt>10)'!$B:$M,3,0) -> 30 | F16: =VLOOKUP($B16,'A (tt>10)'!$B:$M,4,0) -> 7.4333333 | G16: =VLOOKUP($B16,'A (tt>10)'!$B:$M,5,0) -> 6.05 | H16: =J16*3+K16 -> 48 | I16: =H16/E16 -> 1.6 | J16: =VLOOKUP($B16,'A (tt>10)'!$B:$M,7,0) -> 16 | K16: =VLOOKUP($B16,'A (tt>10)'!$B:$M,10,0) -> 0 | M16: =LOWER(IF(ISNA(VLOOKUP($B16,'A conf old'!$B:$AH,3,0)),"",VLOOKUP($B16,'A conf old'!$B:$AH,3,0))) -> udi | N16: =IF(ISNA(VLOOKUP($B16,'A conf old'!$B:$AH,3,0)),"",VLOOKUP($B16,'A conf old'!$B:$AH,4,0)) -> 33 | O16: =IF(ISNA(VLOOKUP($B16,'A conf old'!$B:$AH,3,0)),"",VLOOKUP($B16,'A conf old'!$B:$AH,5,0)) -> 8.26 | P16: =IF(ISNA(VLOOKUP($B16,'A conf old'!$B:$AH,3,0)),"",VLOOKUP($B16,'A conf old'!$B:$AH,6,0)) -> 6.29 | Q16: =S16*3+T16 -> 73 | R16: =Q16/N16 -> 2.2121212 | S16: =IF(ISNA(VLOOKUP($B16,'A conf old'!$B:$AH,3,0)),"",VLOOKUP($B16,'A conf old'!$B:$AH,9,0)) -> 23 | T16: =IF(ISNA(VLOOKUP($B16,'A conf old'!$B:$AH,3,0)),"",VLOOKUP($B16,'A conf old'!$B:$AH,10,0)) -> 4 | V16: =LOWER(IF(ISNA(VLOOKUP($B16,'A conf old'!$B:$AH,12,0)),"",VLOOKUP($B16,'A conf old'!$B:$AH,12,0))) -> udi | W16: =IF(ISNA(VLOOKUP($B16,'A conf old'!$B:$AH,3,0)),"",VLOOKUP($B16,'A conf old'!$B:$AH,13,0)) -> 36 | X16: =IF(ISNA(VLOOKUP($B16,'A conf old'!$B:$AH,3,0)),"",VLOOKUP($B16,'A conf old'!$B:$AH,14,0)) -> 8.43 | Y16: =IF(ISNA(VLOOKUP($B16,'A conf old'!$B:$AH,3,0)),"",VLOOKUP($B16,'A conf old'!$B:$AH,15,0)) -> 6.46 | Z16: =AB16*3+AC16 -> 75 | AA16: =Z16/W16 -> 2.0833333 | AB16: =IF(ISNA(VLOOKUP($B16,'A conf old'!$B:$AH,3,0)),"",VLOOKUP($B16,'A conf old'!$B:$AH,18,0)) -> 23 | AC16: =IF(ISNA(VLOOKUP($B16,'A conf old'!$B:$AH,3,0)),"",VLOOKUP($B16,'A conf old'!$B:$AH,19,0)) -> 6 | AE16: =LOWER(IF(ISNA(VLOOKUP($B16,'A conf old'!$B:$AH,21,0)),"",VLOOKUP($B16,'A conf old'!$B:$AH,21,0))) -> udi | AF16: =IF(ISNA(VLOOKUP($B16,'A conf old'!$B:$AH,3,0)),"",VLOOKUP($B16,'A conf old'!$B:$AH,22,0)) -> 36 | AG16: =IF(ISNA(VLOOKUP($B16,'A conf old'!$B:$AH,3,0)),"",VLOOKUP($B16,'A conf old'!$B:$AH,23,0)) -> 8.71 | AH16: =IF(ISNA(VLOOKUP($B16,'A conf old'!$B:$AH,3,0)),"",VLOOKUP($B16,'A conf old'!$B:$AH,24,0)) -> 6.42 | AI16: =AK16*3+AL16 -> 90 | AJ16: =AI16/AF16 -> 2.5 | AK16: =IF(ISNA(VLOOKUP($B16,'A conf old'!$B:$AH,3,0)),"",VLOOKUP($B16,'A conf old'!$B:$AH,27,0)) -> 28 | AL16: =IF(ISNA(VLOOKUP($B16,'A conf old'!$B:$AH,3,0)),"",VLOOKUP($B16,'A conf old'!$B:$AH,28,0)) -> 6
B17: CALLEJON | D17: =VLOOKUP($B17,'A (tt>10)'!$B:$M,2,0) -> nap | E17: =VLOOKUP($B17,'A (tt>10)'!$B:$M,3,0) -> 37 | F17: =VLOOKUP($B17,'A (tt>10)'!$B:$M,4,0) -> 7.4054054 | G17: =VLOOKUP($B17,'A (tt>10)'!$B:$M,5,0) -> 6.1486486 | H17: =J17*3+K17 -> 50 | I17: =H17/E17 -> 1.3513514 | J17: =VLOOKUP($B17,'A (tt>10)'!$B:$M,7,0) -> 15 | K17: =VLOOKUP($B17,'A (tt>10)'!$B:$M,10,0) -> 5 | M17: =LOWER(IF(ISNA(VLOOKUP($B17,'A conf old'!$B:$AH,3,0)),"",VLOOKUP($B17,'A conf old'!$B:$AH,3,0))) | N17: =IF(ISNA(VLOOKUP($B17,'A conf old'!$B:$AH,3,0)),"",VLOOKUP($B17,'A conf old'!$B:$AH,4,0)) | O17: =IF(ISNA(VLOOKUP($B17,'A conf old'!$B:$AH,3,0)),"",VLOOKUP($B17,'A conf old'!$B:$AH,5,0)) | P17: =IF(ISNA(VLOOKUP($B17,'A conf old'!$B:$AH,3,0)),"",VLOOKUP($B17,'A conf old'!$B:$AH,6,0)) | Q17: =S17*3+T17 -> #VALUE! | S17: =IF(ISNA(VLOOKUP($B17,'A conf old'!$B:$AH,3,0)),"",VLOOKUP($B17,'A conf old'!$B:$AH,9,0)) | T17: =IF(ISNA(VLOOKUP($B17,'A conf old'!$B:$AH,3,0)),"",VLOOKUP($B17,'A conf old'!$B:$AH,10,0)) | V17: =LOWER(IF(ISNA(VLOOKUP($B17,'A conf old'!$B:$AH,12,0)),"",VLOOKUP($B17,'A conf old'!$B:$AH,12,0))) | W17: =IF(ISNA(VLOOKUP($B17,'A conf old'!$B:$AH,3,0)),"",VLOOKUP($B17,'A conf old'!$B:$AH,13,0)) | X17: =IF(ISNA(VLOOKUP($B17,'A conf old'!$B:$AH,3,0)),"",VLOOKUP($B17,'A conf old'!$B:$AH,14,0)) | Y17: =IF(ISNA(VLOOKUP($B17,'A conf old'!$B:$AH,3,0)),"",VLOOKUP($B17,'A conf old'!$B:$AH,15,0)) | Z17: =AB17*3+AC17 -> #VALUE! | AB17: =IF(ISNA(VLOOKUP($B17,'A conf old'!$B:$AH,3,0)),"",VLOOKUP($B17,'A conf old'!$B:$AH,18,0)) | AC17: =IF(ISNA(VLOOKUP($B17,'A conf old'!$B:$AH,3,0)),"",VLOOKUP($B17,'A conf old'!$B:$AH,19,0)) | AE17: =LOWER(IF(ISNA(VLOOKUP($B17,'A conf old'!$B:$AH,21,0)),"",VLOOKUP($B17,'A conf old'!$B:$AH,21,0)))
B18: CASSANO | D18: =VLOOKUP($B18,'A (tt>10)'!$B:$M,2,0) -> par | E18: =VLOOKUP($B18,'A (tt>10)'!$B:$M,3,0) -> 33 | F18: =VLOOKUP($B18,'A (tt>10)'!$B:$M,4,0) -> 7.3181818 | G18: =VLOOKUP($B18,'A (tt>10)'!$B:$M,5,0) -> 6.3030303 | H18: =J18*3+K18 -> 42 | I18: =H18/E18 -> 1.2727273 | J18: =VLOOKUP($B18,'A (tt>10)'!$B:$M,7,0) -> 12 | K18: =VLOOKUP($B18,'A (tt>10)'!$B:$M,10,0) -> 6 | M18: =LOWER(IF(ISNA(VLOOKUP($B18,'A conf old'!$B:$AH,3,0)),"",VLOOKUP($B18,'A conf old'!$B:$AH,3,0))) -> int | N18: =IF(ISNA(VLOOKUP($B18,'A conf old'!$B:$AH,3,0)),"",VLOOKUP($B18,'A conf old'!$B:$AH,4,0)) -> 28 | O18: =IF(ISNA(VLOOKUP($B18,'A conf old'!$B:$AH,3,0)),"",VLOOKUP($B18,'A conf old'!$B:$AH,5,0)) -> 7.23 | P18: =IF(ISNA(VLOOKUP($B18,'A conf old'!$B:$AH,3,0)),"",VLOOKUP($B18,'A conf old'!$B:$AH,6,0)) -> 6.13 | Q18: =S18*3+T18 -> 31 | R18: =Q18/N18 -> 1.1071429 | S18: =IF(ISNA(VLOOKUP($B18,'A conf old'!$B:$AH,3,0)),"",VLOOKUP($B18,'A conf old'!$B:$AH,9,0)) -> 8 | T18: =IF(ISNA(VLOOKUP($B18,'A conf old'!$B:$AH,3,0)),"",VLOOKUP($B18,'A conf old'!$B:$AH,10,0)) -> 7 | V18: =LOWER(IF(ISNA(VLOOKUP($B18,'A conf old'!$B:$AH,12,0)),"",VLOOKUP($B18,'A conf old'!$B:$AH,12,0))) -> mil | W18: =IF(ISNA(VLOOKUP($B18,'A conf old'!$B:$AH,3,0)),"",VLOOKUP($B18,'A conf old'!$B:$AH,13,0)) -> 15 | X18: =IF(ISNA(VLOOKUP($B18,'A conf old'!$B:$AH,3,0)),"",VLOOKUP($B18,'A conf old'!$B:$AH,14,0)) -> 7.4 | Y18: =IF(ISNA(VLOOKUP($B18,'A conf old'!$B:$AH,3,0)),"",VLOOKUP($B18,'A conf old'!$B:$AH,15,0)) -> 6.3 | Z18: =AB18*3+AC18 -> 17 | AA18: =Z18/W18 -> 1.1333333 | AB18: =IF(ISNA(VLOOKUP($B18,'A conf old'!$B:$AH,3,0)),"",VLOOKUP($B18,'A conf old'!$B:$AH,18,0)) -> 3 | AC18: =IF(ISNA(VLOOKUP($B18,'A conf old'!$B:$AH,3,0)),"",VLOOKUP($B18,'A conf old'!$B:$AH,19,0)) -> 8 | AE18: =LOWER(IF(ISNA(VLOOKUP($B18,'A conf old'!$B:$AH,21,0)),"",VLOOKUP($B18,'A conf old'!$B:$AH,21,0))) -> mil | AF18: =IF(ISNA(VLOOKUP($B18,'A conf old'!$B:$AH,3,0)),"",VLOOKUP($B18,'A conf old'!$B:$AH,22,0)) -> 24 | AG18: =IF(ISNA(VLOOKUP($B18,'A conf old'!$B:$AH,3,0)),"",VLOOKUP($B18,'A conf old'!$B:$AH,23,0)) -> 7.21 | AH18: =IF(ISNA(VLOOKUP($B18,'A conf old'!$B:$AH,3,0)),"",VLOOKUP($B18,'A conf old'!$B:$AH,24,0)) -> 6.02 | AI18: =AK18*3+AL18 -> 30 | AJ18: =AI18/AF18 -> 1.25 | AK18: =IF(ISNA(VLOOKUP($B18,'A conf old'!$B:$AH,3,0)),"",VLOOKUP($B18,'A conf old'!$B:$AH,27,0)) -> 8 | AL18: =IF(ISNA(VLOOKUP($B18,'A conf old'!$B:$AH,3,0)),"",VLOOKUP($B18,'A conf old'!$B:$AH,28,0)) -> 6
B19: PAULINHO | D19: =VLOOKUP($B19,'A (tt>10)'!$B:$M,2,0) -> liv | E19: =VLOOKUP($B19,'A (tt>10)'!$B:$M,3,0) -> 35 | F19: =VLOOKUP($B19,'A (tt>10)'!$B:$M,4,0) -> 7.3 | G19: =VLOOKUP($B19,'A (tt>10)'!$B:$M,5,0) -> 6.1 | H19: =J19*3+K19 -> 46 | I19: =H19/E19 -> 1.3142857 | J19: =VLOOKUP($B19,'A (tt>10)'!$B:$M,7,0) -> 15 | K19: =VLOOKUP($B19,'A (tt>10)'!$B:$M,10,0) -> 1 | M19: =LOWER(IF(ISNA(VLOOKUP($B19,'A conf old'!$B:$AH,3,0)),"",VLOOKUP($B19,'A conf old'!$B:$AH,3,0))) | N19: =IF(ISNA(VLOOKUP($B19,'A conf old'!$B:$AH,3,0)),"",VLOOKUP($B19,'A conf old'!$B:$AH,4,0)) | O19: =IF(ISNA(VLOOKUP($B19,'A conf old'!$B:$AH,3,0)),"",VLOOKUP($B19,'A conf old'!$B:$AH,5,0)) | P19: =IF(ISNA(VLOOKUP($B19,'A conf old'!$B:$AH,3,0)),"",VLOOKUP($B19,'A conf old'!$B:$AH,6,0)) | Q19: =S19*3+T19 -> #VALUE! | S19: =IF(ISNA(VLOOKUP($B19,'A conf old'!$B:$AH,3,0)),"",VLOOKUP($B19,'A conf old'!$B:$AH,9,0)) | T19: =IF(ISNA(VLOOKUP($B19,'A conf old'!$B:$AH,3,0)),"",VLOOKUP($B19,'A conf old'!$B:$AH,10,0)) | V19: =LOWER(IF(ISNA(VLOOKUP($B19,'A conf old'!$B:$AH,12,0)),"",VLOOKUP($B19,'A conf old'!$B:$AH,12,0))) | AE19: =LOWER(IF(ISNA(VLOOKUP($B19,'A conf old'!$B:$AH,21,0)),"",VLOOKUP($B19,'A conf old'!$B:$AH,21,0)))
B20: GERVINHO | D20: =VLOOKUP($B20,'A (tt>10)'!$B:$M,2,0) -> rom | E20: =VLOOKUP($B20,'A (tt>10)'!$B:$M,3,0) -> 33 | F20: =VLOOKUP($B20,'A (tt>10)'!$B:$M,4,0) -> 7.2727273 | G20: =VLOOKUP($B20,'A (tt>10)'!$B:$M,5,0) -> 6.3030303 | H20: =J20*3+K20 -> 33 | I20: =H20/E20 -> 1 | J20: =VLOOKUP($B20,'A (tt>10)'!$B:$M,7,0) -> 8 | K20: =VLOOKUP($B20,'A (tt>10)'!$B:$M,10,0) -> 9 | M20: =LOWER(IF(ISNA(VLOOKUP($B20,'A conf old'!$B:$AH,3,0)),"",VLOOKUP($B20,'A conf old'!$B:$AH,3,0))) | N20: =IF(ISNA(VLOOKUP($B20,'A conf old'!$B:$AH,3,0)),"",VLOOKUP($B20,'A conf old'!$B:$AH,4,0)) | O20: =IF(ISNA(VLOOKUP($B20,'A conf old'!$B:$AH,3,0)),"",VLOOKUP($B20,'A conf old'!$B:$AH,5,0)) | P20: =IF(ISNA(VLOOKUP($B20,'A conf old'!$B:$AH,3,0)),"",VLOOKUP($B20,'A conf old'!$B:$AH,6,0)) | Q20: =S20*3+T20 -> #VALUE! | S20: =IF(ISNA(VLOOKUP($B20,'A conf old'!$B:$AH,3,0)),"",VLOOKUP($B20,'A conf old'!$B:$AH,9,0)) | T20: =IF(ISNA(VLOOKUP($B20,'A conf old'!$B:$AH,3,0)),"",VLOOKUP($B20,'A conf old'!$B:$AH,10,0)) | V20: =LOWER(IF(ISNA(VLOOKUP($B20,'A conf old'!$B:$AH,12,0)),"",VLOOKUP($B20,'A conf old'!$B:$AH,12,0))) | W20: =IF(ISNA(VLOOKUP($B20,'A conf old'!$B:$AH,3,0)),"",VLOOKUP($B20,'A conf old'!$B:$AH,13,0)) | X20: =IF(ISNA(VLOOKUP($B20,'A conf old'!$B:$AH,3,0)),"",VLOOKUP($B20,'A conf old'!$B:$AH,14,0)) | Y20: =IF(ISNA(VLOOKUP($B20,'A conf old'!$B:$AH,3,0)),"",VLOOKUP($B20,'A conf old'!$B:$AH,15,0)) | Z20: =AB20*3+AC20 -> #VALUE! | AB20: =IF(ISNA(VLOOKUP($B20,'A conf old'!$B:$AH,3,0)),"",VLOOKUP($B20,'A conf old'!$B:$AH,18,0)) | AC20: =IF(ISNA(VLOOKUP($B20,'A conf old'!$B:$AH,3,0)),"",VLOOKUP($B20,'A conf old'!$B:$AH,19,0)) | AE20: =LOWER(IF(ISNA(VLOOKUP($B20,'A conf old'!$B:$AH,21,0)),"",VLOOKUP($B20,'A conf old'!$B:$AH,21,0))) | AF20: =IF(ISNA(VLOOKUP($B20,'A conf old'!$B:$AH,3,0)),"",VLOOKUP($B20,'A conf old'!$B:$AH,22,0)) | AG20: =IF(ISNA(VLOOKUP($B20,'A conf old'!$B:$AH,3,0)),"",VLOOKUP($B20,'A conf old'!$B:$AH,23,0)) | AH20: =IF(ISNA(VLOOKUP($B20,'A conf old'!$B:$AH,3,0)),"",VLOOKUP($B20,'A conf old'!$B:$AH,24,0)) | AI20: =AK20*3+AL20 -> #VALUE! | AK20: =IF(ISNA(VLOOKUP($B20,'A conf old'!$B:$AH,3,0)),"",VLOOKUP($B20,'A conf old'!$B:$AH,27,0)) | AL20: =IF(ISNA(VLOOKUP($B20,'A conf old'!$B:$AH,3,0)),"",VLOOKUP($B20,'A conf old'!$B:$AH,28,0))
B21: EDER | D21: =VLOOKUP($B21,'A (tt>10)'!$B:$M,2,0) -> sam | E21: =VLOOKUP($B21,'A (tt>10)'!$B:$M,3,0) -> 33 | F21: =VLOOKUP($B21,'A (tt>10)'!$B:$M,4,0) -> 7.1515152 | G21: =VLOOKUP($B21,'A (tt>10)'!$B:$M,5,0) -> 6.0757576 | H21: =J21*3+K21 -> 40 | I21: =H21/E21 -> 1.2121212 | J21: =VLOOKUP($B21,'A (tt>10)'!$B:$M,7,0) -> 12 | K21: =VLOOKUP($B21,'A (tt>10)'!$B:$M,10,0) -> 4 | M21: =LOWER(IF(ISNA(VLOOKUP($B21,'A conf old'!$B:$AH,3,0)),"",VLOOKUP($B21,'A conf old'!$B:$AH,3,0))) -> sam | N21: =IF(ISNA(VLOOKUP($B21,'A conf old'!$B:$AH,3,0)),"",VLOOKUP($B21,'A conf old'!$B:$AH,4,0)) -> 30 | O21: =IF(ISNA(VLOOKUP($B21,'A conf old'!$B:$AH,3,0)),"",VLOOKUP($B21,'A conf old'!$B:$AH,5,0)) -> 6.93 | P21: =IF(ISNA(VLOOKUP($B21,'A conf old'!$B:$AH,3,0)),"",VLOOKUP($B21,'A conf old'!$B:$AH,6,0)) -> 6.18 | Q21: =S21*3+T21 -> 25 | R21: =Q21/N21 -> 0.83333333 | S21: =IF(ISNA(VLOOKUP($B21,'A conf old'!$B:$AH,3,0)),"",VLOOKUP($B21,'A conf old'!$B:$AH,9,0)) -> 7 | T21: =IF(ISNA(VLOOKUP($B21,'A conf old'!$B:$AH,3,0)),"",VLOOKUP($B21,'A conf old'!$B:$AH,10,0)) -> 4 | V21: =LOWER(IF(ISNA(VLOOKUP($B21,'A conf old'!$B:$AH,12,0)),"",VLOOKUP($B21,'A conf old'!$B:$AH,12,0))) -> ces | W21: =IF(ISNA(VLOOKUP($B21,'A conf old'!$B:$AH,3,0)),"",VLOOKUP($B21,'A conf old'!$B:$AH,13,0)) -> 16 | X21: =IF(ISNA(VLOOKUP($B21,'A conf old'!$B:$AH,3,0)),"",VLOOKUP($B21,'A conf old'!$B:$AH,14,0)) -> 5.91 | Y21: =IF(ISNA(VLOOKUP($B21,'A conf old'!$B:$AH,3,0)),"",VLOOKUP($B21,'A conf old'!$B:$AH,15,0)) -> 5.56 | Z21: =AB21*3+AC21 -> 7 | AA21: =Z21/W21 -> 0.4375 | AB21: =IF(ISNA(VLOOKUP($B21,'A conf old'!$B:$AH,3,0)),"",VLOOKUP($B21,'A conf old'!$B:$AH,18,0)) -> 2 | AC21: =IF(ISNA(VLOOKUP($B21,'A conf old'!$B:$AH,3,0)),"",VLOOKUP($B21,'A conf old'!$B:$AH,19,0)) -> 1 | AE21: =LOWER(IF(ISNA(VLOOKUP($B21,'A conf old'!$B:$AH,21,0)),"",VLOOKUP($B21,'A conf old'!$B:$AH,21,0))) -> bre | AF21: =IF(ISNA(VLOOKUP($B21,'A conf old'!$B:$AH,3,0)),"",VLOOKUP($B21,'A conf old'!$B:$AH,22,0)) -> 34 | AG21: =IF(ISNA(VLOOKUP($B21,'A conf old'!$B:$AH,3,0)),"",VLOOKUP($B21,'A conf old'!$B:$AH,23,0)) -> 6.31 | AH21: =IF(ISNA(VLOOKUP($B21,'A conf old'!$B:$AH,3,0)),"",VLOOKUP($B21,'A conf old'!$B:$AH,24,0)) -> 5.82 | AI21: =AK21*3+AL21 -> 19 | AJ21: =AI21/AF21 -> 0.55882353 | AK21: =IF(ISNA(VLOOKUP($B21,'A conf old'!$B:$AH,3,0)),"",VLOOKUP($B21,'A conf old'!$B:$AH,27,0)) -> 6 | AL21: =IF(ISNA(VLOOKUP($B21,'A conf old'!$B:$AH,3,0)),"",VLOOKUP($B21,'A conf old'!$B:$AH,28,0)) -> 1
B22: PALOSCHI | D22: =VLOOKUP($B22,'A (tt>10)'!$B:$M,2,0) -> chi | E22: =VLOOKUP($B22,'A (tt>10)'!$B:$M,3,0) -> 33 | F22: =VLOOKUP($B22,'A (tt>10)'!$B:$M,4,0) -> 7.1515152 | G22: =VLOOKUP($B22,'A (tt>10)'!$B:$M,5,0) -> 5.9848485 | H22: =J22*3+K22 -> 40 | I22: =H22/E22 -> 1.2121212 | J22: =VLOOKUP($B22,'A (tt>10)'!$B:$M,7,0) -> 13 | K22: =VLOOKUP($B22,'A (tt>10)'!$B:$M,10,0) -> 1 | M22: =LOWER(IF(ISNA(VLOOKUP($B22,'A conf old'!$B:$AH,3,0)),"",VLOOKUP($B22,'A conf old'!$B:$AH,3,0))) -> chi | N22: =IF(ISNA(VLOOKUP($B22,'A conf old'!$B:$AH,3,0)),"",VLOOKUP($B22,'A conf old'!$B:$AH,4,0)) -> 18 | O22: =IF(ISNA(VLOOKUP($B22,'A conf old'!$B:$AH,3,0)),"",VLOOKUP($B22,'A conf old'!$B:$AH,5,0)) -> 6.97 | P22: =IF(ISNA(VLOOKUP($B22,'A conf old'!$B:$AH,3,0)),"",VLOOKUP($B22,'A conf old'!$B:$AH,6,0)) -> 5.83 | Q22: =S22*3+T22 -> 21 | R22: =Q22/N22 -> 1.1666667 | S22: =IF(ISNA(VLOOKUP($B22,'A conf old'!$B:$AH,3,0)),"",VLOOKUP($B22,'A conf old'!$B:$AH,9,0)) -> 7 | T22: =IF(ISNA(VLOOKUP($B22,'A conf old'!$B:$AH,3,0)),"",VLOOKUP($B22,'A conf old'!$B:$AH,10,0)) -> 0 | V22: =LOWER(IF(ISNA(VLOOKUP($B22,'A conf old'!$B:$AH,12,0)),"",VLOOKUP($B22,'A conf old'!$B:$AH,12,0))) -> chi | W22: =IF(ISNA(VLOOKUP($B22,'A conf old'!$B:$AH,3,0)),"",VLOOKUP($B22,'A conf old'!$B:$AH,13,0)) -> 29 | X22: =IF(ISNA(VLOOKUP($B22,'A conf old'!$B:$AH,3,0)),"",VLOOKUP($B22,'A conf old'!$B:$AH,14,0)) -> 6.52 | Y22: =IF(ISNA(VLOOKUP($B22,'A conf old'!$B:$AH,3,0)),"",VLOOKUP($B22,'A conf old'!$B:$AH,15,0)) -> 5.91 | Z22: =AB22*3+AC22 -> 18 | AA22: =Z22/W22 -> 0.62068966 | AB22: =IF(ISNA(VLOOKUP($B22,'A conf old'!$B:$AH,3,0)),"",VLOOKUP($B22,'A conf old'!$B:$AH,18,0)) -> 5 | AC22: =IF(ISNA(VLOOKUP($B22,'A conf old'!$B:$AH,3,0)),"",VLOOKUP($B22,'A conf old'!$B:$AH,19,0)) -> 3 | AE22: =LOWER(IF(ISNA(VLOOKUP($B22,'A conf old'!$B:$AH,21,0)),"",VLOOKUP($B22,'A conf old'!$B:$AH,21,0))) -> gen | AF22: =IF(ISNA(VLOOKUP($B22,'A conf old'!$B:$AH,3,0)),"",VLOOKUP($B22,'A conf old'!$B:$AH,22,0)) -> 11 | AG22: =IF(ISNA(VLOOKUP($B22,'A conf old'!$B:$AH,3,0)),"",VLOOKUP($B22,'A conf old'!$B:$AH,23,0)) -> 6.36 | AH22: =IF(ISNA(VLOOKUP($B22,'A conf old'!$B:$AH,3,0)),"",VLOOKUP($B22,'A conf old'!$B:$AH,24,0)) -> 5.82 | AI22: =AK22*3+AL22 -> 6 | AJ22: =AI22/AF22 -> 0.54545455 | AK22: =IF(ISNA(VLOOKUP($B22,'A conf old'!$B:$AH,3,0)),"",VLOOKUP($B22,'A conf old'!$B:$AH,27,0)) -> 2 | AL22: =IF(ISNA(VLOOKUP($B22,'A conf old'!$B:$AH,3,0)),"",VLOOKUP($B22,'A conf old'!$B:$AH,28,0)) -> 0
B23: ITURBE | D23: =VLOOKUP($B23,'A (tt>10)'!$B:$M,2,0) -> ver | E23: =VLOOKUP($B23,'A (tt>10)'!$B:$M,3,0) -> 33 | F23: =VLOOKUP($B23,'A (tt>10)'!$B:$M,4,0) -> 7.1363636 | G23: =VLOOKUP($B23,'A (tt>10)'!$B:$M,5,0) -> 6.3484848 | H23: =J23*3+K23 -> 28 | I23: =H23/E23 -> 0.84848485 | J23: =VLOOKUP($B23,'A (tt>10)'!$B:$M,7,0) -> 8 | K23: =VLOOKUP($B23,'A (tt>10)'!$B:$M,10,0) -> 4 | M23: =LOWER(IF(ISNA(VLOOKUP($B23,'A conf old'!$B:$AH,3,0)),"",VLOOKUP($B23,'A conf old'!$B:$AH,3,0))) | N23: =IF(ISNA(VLOOKUP($B23,'A conf old'!$B:$AH,3,0)),"",VLOOKUP($B23,'A conf old'!$B:$AH,4,0)) | O23: =IF(ISNA(VLOOKUP($B23,'A conf old'!$B:$AH,3,0)),"",VLOOKUP($B23,'A conf old'!$B:$AH,5,0)) | P23: =IF(ISNA(VLOOKUP($B23,'A conf old'!$B:$AH,3,0)),"",VLOOKUP($B23,'A conf old'!$B:$AH,6,0)) | Q23: =S23*3+T23 -> #VALUE! | S23: =IF(ISNA(VLOOKUP($B23,'A conf old'!$B:$AH,3,0)),"",VLOOKUP($B23,'A conf old'!$B:$AH,9,0)) | T23: =IF(ISNA(VLOOKUP($B23,'A conf old'!$B:$AH,3,0)),"",VLOOKUP($B23,'A conf old'!$B:$AH,10,0)) | V23: =LOWER(IF(ISNA(VLOOKUP($B23,'A conf old'!$B:$AH,12,0)),"",VLOOKUP($B23,'A conf old'!$B:$AH,12,0))) | AE23: =LOWER(IF(ISNA(VLOOKUP($B23,'A conf old'!$B:$AH,21,0)),"",VLOOKUP($B23,'A conf old'!$B:$AH,21,0)))
B24: DENIS | D24: =VLOOKUP($B24,'A (tt>10)'!$B:$M,2,0) -> ata | E24: =VLOOKUP($B24,'A (tt>10)'!$B:$M,3,0) -> 37 | F24: =VLOOKUP($B24,'A (tt>10)'!$B:$M,4,0) -> 7.0675676 | G24: =VLOOKUP($B24,'A (tt>10)'!$B:$M,5,0) -> 6.027027 | H24: =J24*3+K24 -> 43 | I24: =H24/E24 -> 1.1621622 | J24: =VLOOKUP($B24,'A (tt>10)'!$B:$M,7,0) -> 13 | K24: =VLOOKUP($B24,'A (tt>10)'!$B:$M,10,0) -> 4 | M24: =LOWER(IF(ISNA(VLOOKUP($B24,'A conf old'!$B:$AH,3,0)),"",VLOOKUP($B24,'A conf old'!$B:$AH,3,0))) -> ata | N24: =IF(ISNA(VLOOKUP($B24,'A conf old'!$B:$AH,3,0)),"",VLOOKUP($B24,'A conf old'!$B:$AH,4,0)) -> 36 | O24: =IF(ISNA(VLOOKUP($B24,'A conf old'!$B:$AH,3,0)),"",VLOOKUP($B24,'A conf old'!$B:$AH,5,0)) -> 7.19 | P24: =IF(ISNA(VLOOKUP($B24,'A conf old'!$B:$AH,3,0)),"",VLOOKUP($B24,'A conf old'!$B:$AH,6,0)) -> 5.93 | Q24: =S24*3+T24 -> 48 | R24: =Q24/N24 -> 1.3333333 | S24: =IF(ISNA(VLOOKUP($B24,'A conf old'!$B:$AH,3,0)),"",VLOOKUP($B24,'A conf old'!$B:$AH,9,0)) -> 15 | T24: =IF(ISNA(VLOOKUP($B24,'A conf old'!$B:$AH,3,0)),"",VLOOKUP($B24,'A conf old'!$B:$AH,10,0)) -> 3 | V24: =LOWER(IF(ISNA(VLOOKUP($B24,'A conf old'!$B:$AH,12,0)),"",VLOOKUP($B24,'A conf old'!$B:$AH,12,0))) -> ata | W24: =IF(ISNA(VLOOKUP($B24,'A conf old'!$B:$AH,3,0)),"",VLOOKUP($B24,'A conf old'!$B:$AH,13,0)) -> 33 | X24: =IF(ISNA(VLOOKUP($B24,'A conf old'!$B:$AH,3,0)),"",VLOOKUP($B24,'A conf old'!$B:$AH,14,0)) -> 7.55 | Y24: =IF(ISNA(VLOOKUP($B24,'A conf old'!$B:$AH,3,0)),"",VLOOKUP($B24,'A conf old'!$B:$AH,15,0)) -> 6.21 | Z24: =AB24*3+AC24 -> 50 | AA24: =Z24/W24 -> 1.5151515 | AB24: =IF(ISNA(VLOOKUP($B24,'A conf old'!$B:$AH,3,0)),"",VLOOKUP($B24,'A conf old'!$B:$AH,18,0)) -> 16 | AC24: =IF(ISNA(VLOOKUP($B24,'A conf old'!$B:$AH,3,0)),"",VLOOKUP($B24,'A conf old'!$B:$AH,19,0)) -> 2 | AE24: =LOWER(IF(ISNA(VLOOKUP($B24,'A conf old'!$B:$AH,21,0)),"",VLOOKUP($B24,'A conf old'!$B:$AH,21,0))) -> udi | AF24: =IF(ISNA(VLOOKUP($B24,'A conf old'!$B:$AH,3,0)),"",VLOOKUP($B24,'A conf old'!$B:$AH,22,0)) -> 22 | AG24: =IF(ISNA(VLOOKUP($B24,'A conf old'!$B:$AH,3,0)),"",VLOOKUP($B24,'A conf old'!$B:$AH,23,0)) -> 6.32 | AH24: =IF(ISNA(VLOOKUP($B24,'A conf old'!$B:$AH,3,0)),"",VLOOKUP($B24,'A conf old'!$B:$AH,24,0)) -> 5.7 | AI24: =AK24*3+AL24 -> 14 | AJ24: =AI24/AF24 -> 0.63636364 | AK24: =IF(ISNA(VLOOKUP($B24,'A conf old'!$B:$AH,3,0)),"",VLOOKUP($B24,'A conf old'!$B:$AH,27,0)) -> 4 | AL24: =IF(ISNA(VLOOKUP($B24,'A conf old'!$B:$AH,3,0)),"",VLOOKUP($B24,'A conf old'!$B:$AH,28,0)) -> 2
B25: OKAKA | D25: =VLOOKUP($B25,'A (tt>10)'!$B:$M,2,0) -> sam | E25: =VLOOKUP($B25,'A (tt>10)'!$B:$M,3,0) -> 15 | F25: =VLOOKUP($B25,'A (tt>10)'!$B:$M,4,0) -> 7.0666667 | G25: =VLOOKUP($B25,'A (tt>10)'!$B:$M,5,0) -> 6 | H25: =J25*3+K25 -> 18 | I25: =H25/E25 -> 1.2 | J25: =VLOOKUP($B25,'A (tt>10)'!$B:$M,7,0) -> 5 | K25: =VLOOKUP($B25,'A (tt>10)'!$B:$M,10,0) -> 3 | M25: =LOWER(IF(ISNA(VLOOKUP($B25,'A conf old'!$B:$AH,3,0)),"",VLOOKUP($B25,'A conf old'!$B:$AH,3,0))) | N25: =IF(ISNA(VLOOKUP($B25,'A conf old'!$B:$AH,3,0)),"",VLOOKUP($B25,'A conf old'!$B:$AH,4,0)) | O25: =IF(ISNA(VLOOKUP($B25,'A conf old'!$B:$AH,3,0)),"",VLOOKUP($B25,'A conf old'!$B:$AH,5,0)) | P25: =IF(ISNA(VLOOKUP($B25,'A conf old'!$B:$AH,3,0)),"",VLOOKUP($B25,'A conf old'!$B:$AH,6,0)) | Q25: =S25*3+T25 -> #VALUE! | S25: =IF(ISNA(VLOOKUP($B25,'A conf old'!$B:$AH,3,0)),"",VLOOKUP($B25,'A conf old'!$B:$AH,9,0)) | T25: =IF(ISNA(VLOOKUP($B25,'A conf old'!$B:$AH,3,0)),"",VLOOKUP($B25,'A conf old'!$B:$AH,10,0)) | V25: =LOWER(IF(ISNA(VLOOKUP($B25,'A conf old'!$B:$AH,12,0)),"",VLOOKUP($B25,'A conf old'!$B:$AH,12,0))) | AE25: =LOWER(IF(ISNA(VLOOKUP($B25,'A conf old'!$B:$AH,21,0)),"",VLOOKUP($B25,'A conf old'!$B:$AH,21,0))) | AF25: =IF(ISNA(VLOOKUP($B25,'A conf old'!$B:$AH,3,0)),"",VLOOKUP($B25,'A conf old'!$B:$AH,22,0)) | AG25: =IF(ISNA(VLOOKUP($B25,'A conf old'!$B:$AH,3,0)),"",VLOOKUP($B25,'A conf old'!$B:$AH,23,0)) | AH25: =IF(ISNA(VLOOKUP($B25,'A conf old'!$B:$AH,3,0)),"",VLOOKUP($B25,'A conf old'!$B:$AH,24,0)) | AI25: =AK25*3+AL25 -> #VALUE! | AK25: =IF(ISNA(VLOOKUP($B25,'A conf old'!$B:$AH,3,0)),"",VLOOKUP($B25,'A conf old'!$B:$AH,27,0)) | AL25: =IF(ISNA(VLOOKUP($B25,'A conf old'!$B:$AH,3,0)),"",VLOOKUP($B25,'A conf old'!$B:$AH,28,0))
B26: BALOTELLI | D26: =VLOOKUP($B26,'A (tt>10)'!$B:$M,2,0) -> mil | E26: =VLOOKUP($B26,'A (tt>10)'!$B:$M,3,0) -> 30 | F26: =VLOOKUP($B26,'A (tt>10)'!$B:$M,4,0) -> 7.0666667 | G26: =VLOOKUP($B26,'A (tt>10)'!$B:$M,5,0) -> 5.9166667 | H26: =J26*3+K26 -> 46 | I26: =H26/E26 -> 1.5333333 | J26: =VLOOKUP($B26,'A (tt>10)'!$B:$M,7,0) -> 14 | K26: =VLOOKUP($B26,'A (tt>10)'!$B:$M,10,0) -> 4 | M26: =LOWER(IF(ISNA(VLOOKUP($B26,'A conf old'!$B:$AH,3,0)),"",VLOOKUP($B26,'A conf old'!$B:$AH,3,0))) -> mil | N26: =IF(ISNA(VLOOKUP($B26,'A conf old'!$B:$AH,3,0)),"",VLOOKUP($B26,'A conf old'!$B:$AH,4,0)) -> 13 | O26: =IF(ISNA(VLOOKUP($B26,'A conf old'!$B:$AH,3,0)),"",VLOOKUP($B26,'A conf old'!$B:$AH,5,0)) -> 9 | P26: =IF(ISNA(VLOOKUP($B26,'A conf old'!$B:$AH,3,0)),"",VLOOKUP($B26,'A conf old'!$B:$AH,6,0)) -> 6.46 | Q26: =S26*3+T26 -> 36 | R26: =Q26/N26 -> 2.7692308 | S26: =IF(ISNA(VLOOKUP($B26,'A conf old'!$B:$AH,3,0)),"",VLOOKUP($B26,'A conf old'!$B:$AH,9,0)) -> 12 | T26: =IF(ISNA(VLOOKUP($B26,'A conf old'!$B:$AH,3,0)),"",VLOOKUP($B26,'A conf old'!$B:$AH,10,0)) -> 0 | V26: =LOWER(IF(ISNA(VLOOKUP($B26,'A conf old'!$B:$AH,12,0)),"",VLOOKUP($B26,'A conf old'!$B:$AH,12,0))) | AE26: =LOWER(IF(ISNA(VLOOKUP($B26,'A conf old'!$B:$AH,21,0)),"",VLOOKUP($B26,'A conf old'!$B:$AH,21,0)))
B27: SANSONE N. | D27: =VLOOKUP($B27,'A (tt>10)'!$B:$M,2,0) -> sas | E27: =VLOOKUP($B27,'A (tt>10)'!$B:$M,3,0) -> 25 | F27: =VLOOKUP($B27,'A (tt>10)'!$B:$M,4,0) -> 7.04 | G27: =VLOOKUP($B27,'A (tt>10)'!$B:$M,5,0) -> 6.12 | H27: =J27*3+K27 -> 24 | I27: =H27/E27 -> 0.96 | J27: =VLOOKUP($B27,'A (tt>10)'!$B:$M,7,0) -> 6 | K27: =VLOOKUP($B27,'A (tt>10)'!$B:$M,10,0) -> 6 | M27: =LOWER(IF(ISNA(VLOOKUP($B27,'A conf old'!$B:$AH,3,0)),"",VLOOKUP($B27,'A conf old'!$B:$AH,3,0))) -> par | N27: =IF(ISNA(VLOOKUP($B27,'A conf old'!$B:$AH,3,0)),"",VLOOKUP($B27,'A conf old'!$B:$AH,4,0)) -> 22 | O27: =IF(ISNA(VLOOKUP($B27,'A conf old'!$B:$AH,3,0)),"",VLOOKUP($B27,'A conf old'!$B:$AH,5,0)) -> 6.84 | P27: =IF(ISNA(VLOOKUP($B27,'A conf old'!$B:$AH,3,0)),"",VLOOKUP($B27,'A conf old'!$B:$AH,6,0)) -> 6 | Q27: =S27*3+T27 -> 20 | R27: =Q27/N27 -> 0.90909091 | S27: =IF(ISNA(VLOOKUP($B27,'A conf old'!$B:$AH,3,0)),"",VLOOKUP($B27,'A conf old'!$B:$AH,9,0)) -> 6 | T27: =IF(ISNA(VLOOKUP($B27,'A conf old'!$B:$AH,3,0)),"",VLOOKUP($B27,'A conf old'!$B:$AH,10,0)) -> 2 | V27: =LOWER(IF(ISNA(VLOOKUP($B27,'A conf old'!$B:$AH,12,0)),"",VLOOKUP($B27,'A conf old'!$B:$AH,12,0))) | AE27: =LOWER(IF(ISNA(VLOOKUP($B27,'A conf old'!$B:$AH,21,0)),"",VLOOKUP($B27,'A conf old'!$B:$AH,21,0)))
B28: GILARDINO | D28: =VLOOKUP($B28,'A (tt>10)'!$B:$M,2,0) -> gen | E28: =VLOOKUP($B28,'A (tt>10)'!$B:$M,3,0) -> 35 | F28: =VLOOKUP($B28,'A (tt>10)'!$B:$M,4,0) -> 7.0285714 | G28: =VLOOKUP($B28,'A (tt>10)'!$B:$M,5,0) -> 6.1142857 | H28: =J28*3+K28 -> 45 | I28: =H28/E28 -> 1.2857143 | J28: =VLOOKUP($B28,'A (tt>10)'!$B:$M,7,0) -> 15 | K28: =VLOOKUP($B28,'A (tt>10)'!$B:$M,10,0) -> 0 | M28: =LOWER(IF(ISNA(VLOOKUP($B28,'A conf old'!$B:$AH,3,0)),"",VLOOKUP($B28,'A conf old'!$B:$AH,3,0))) -> bol | N28: =IF(ISNA(VLOOKUP($B28,'A conf old'!$B:$AH,3,0)),"",VLOOKUP($B28,'A conf old'!$B:$AH,4,0)) -> 36 | O28: =IF(ISNA(VLOOKUP($B28,'A conf old'!$B:$AH,3,0)),"",VLOOKUP($B28,'A conf old'!$B:$AH,5,0)) -> 6.94 | P28: =IF(ISNA(VLOOKUP($B28,'A conf old'!$B:$AH,3,0)),"",VLOOKUP($B28,'A conf old'!$B:$AH,6,0)) -> 5.9 | Q28: =S28*3+T28 -> 39 | R28: =Q28/N28 -> 1.0833333 | S28: =IF(ISNA(VLOOKUP($B28,'A conf old'!$B:$AH,3,0)),"",VLOOKUP($B28,'A conf old'!$B:$AH,9,0)) -> 13 | T28: =IF(ISNA(VLOOKUP($B28,'A conf old'!$B:$AH,3,0)),"",VLOOKUP($B28,'A conf old'!$B:$AH,10,0)) -> 0 | V28: =LOWER(IF(ISNA(VLOOKUP($B28,'A conf old'!$B:$AH,12,0)),"",VLOOKUP($B28,'A conf old'!$B:$AH,12,0))) -> gen | W28: =IF(ISNA(VLOOKUP($B28,'A conf old'!$B:$AH,3,0)),"",VLOOKUP($B28,'A conf old'!$B:$AH,13,0)) -> 25 | X28: =IF(ISNA(VLOOKUP($B28,'A conf old'!$B:$AH,3,0)),"",VLOOKUP($B28,'A conf old'!$B:$AH,14,0)) -> 6.5 | Y28: =IF(ISNA(VLOOKUP($B28,'A conf old'!$B:$AH,3,0)),"",VLOOKUP($B28,'A conf old'!$B:$AH,15,0)) -> 5.74 | Z28: =AB28*3+AC28 -> 21 | AA28: =Z28/W28 -> 0.84 | AB28: =IF(ISNA(VLOOKUP($B28,'A conf old'!$B:$AH,3,0)),"",VLOOKUP($B28,'A conf old'!$B:$AH,18,0)) -> 6 | AC28: =IF(ISNA(VLOOKUP($B28,'A conf old'!$B:$AH,3,0)),"",VLOOKUP($B28,'A conf old'!$B:$AH,19,0)) -> 3 | AE28: =LOWER(IF(ISNA(VLOOKUP($B28,'A conf old'!$B:$AH,21,0)),"",VLOOKUP($B28,'A conf old'!$B:$AH,21,0))) -> fio | AF28: =IF(ISNA(VLOOKUP($B28,'A conf old'!$B:$AH,3,0)),"",VLOOKUP($B28,'A conf old'!$B:$AH,22,0)) -> 35 | AG28: =IF(ISNA(VLOOKUP($B28,'A conf old'!$B:$AH,3,0)),"",VLOOKUP($B28,'A conf old'!$B:$AH,23,0)) -> 6.84 | AH28: =IF(ISNA(VLOOKUP($B28,'A conf old'!$B:$AH,3,0)),"",VLOOKUP($B28,'A conf old'!$B:$AH,24,0)) -> 5.77 | AI28: =AK28*3+AL28 -> 39 | AJ28: =AI28/AF28 -> 1.1142857 | AK28: =IF(ISNA(VLOOKUP($B28,'A conf old'!$B:$AH,3,0)),"",VLOOKUP($B28,'A conf old'!$B:$AH,27,0)) -> 12 | AL28: =IF(ISNA(VLOOKUP($B28,'A conf old'!$B:$AH,3,0)),"",VLOOKUP($B28,'A conf old'!$B:$AH,28,0)) -> 3
B29: KEITA | D29: =VLOOKUP($B29,'A (tt>10)'!$B:$M,2,0) -> laz | E29: =VLOOKUP($B29,'A (tt>10)'!$B:$M,3,0) -> 23 | F29: =VLOOKUP($B29,'A (tt>10)'!$B:$M,4,0) -> 6.9782609 | G29: =VLOOKUP($B29,'A (tt>10)'!$B:$M,5,0) -> 6.2826087 | H29: =J29*3+K29 -> 17 | I29: =H29/E29 -> 0.73913043 | J29: =VLOOKUP($B29,'A (tt>10)'!$B:$M,7,0) -> 5 | K29: =VLOOKUP($B29,'A (tt>10)'!$B:$M,10,0) -> 2 | M29: =LOWER(IF(ISNA(VLOOKUP($B29,'A conf old'!$B:$AH,3,0)),"",VLOOKUP($B29,'A conf old'!$B:$AH,3,0))) | N29: =IF(ISNA(VLOOKUP($B29,'A conf old'!$B:$AH,3,0)),"",VLOOKUP($B29,'A conf old'!$B:$AH,4,0)) | O29: =IF(ISNA(VLOOKUP($B29,'A conf old'!$B:$AH,3,0)),"",VLOOKUP($B29,'A conf old'!$B:$AH,5,0)) | P29: =IF(ISNA(VLOOKUP($B29,'A conf old'!$B:$AH,3,0)),"",VLOOKUP($B29,'A conf old'!$B:$AH,6,0)) | Q29: =S29*3+T29 -> #VALUE! | S29: =IF(ISNA(VLOOKUP($B29,'A conf old'!$B:$AH,3,0)),"",VLOOKUP($B29,'A conf old'!$B:$AH,9,0)) | T29: =IF(ISNA(VLOOKUP($B29,'A conf old'!$B:$AH,3,0)),"",VLOOKUP($B29,'A conf old'!$B:$AH,10,0)) | V29: =LOWER(IF(ISNA(VLOOKUP($B29,'A conf old'!$B:$AH,12,0)),"",VLOOKUP($B29,'A conf old'!$B:$AH,12,0))) | W29: =IF(ISNA(VLOOKUP($B29,'A conf old'!$B:$AH,3,0)),"",VLOOKUP($B29,'A conf old'!$B:$AH,13,0)) | X29: =IF(ISNA(VLOOKUP($B29,'A conf old'!$B:$AH,3,0)),"",VLOOKUP($B29,'A conf old'!$B:$AH,14,0)) | Y29: =IF(ISNA(VLOOKUP($B29,'A conf old'!$B:$AH,3,0)),"",VLOOKUP($B29,'A conf old'!$B:$AH,15,0)) | Z29: =AB29*3+AC29 -> #VALUE! | AB29: =IF(ISNA(VLOOKUP($B29,'A conf old'!$B:$AH,3,0)),"",VLOOKUP($B29,'A conf old'!$B:$AH,18,0)) | AC29: =IF(ISNA(VLOOKUP($B29,'A conf old'!$B:$AH,3,0)),"",VLOOKUP($B29,'A conf old'!$B:$AH,19,0)) | AE29: =LOWER(IF(ISNA(VLOOKUP($B29,'A conf old'!$B:$AH,21,0)),"",VLOOKUP($B29,'A conf old'!$B:$AH,21,0))) | AF29: =IF(ISNA(VLOOKUP($B29,'A conf old'!$B:$AH,3,0)),"",VLOOKUP($B29,'A conf old'!$B:$AH,22,0)) | AG29: =IF(ISNA(VLOOKUP($B29,'A conf old'!$B:$AH,3,0)),"",VLOOKUP($B29,'A conf old'!$B:$AH,23,0)) | AH29: =IF(ISNA(VLOOKUP($B29,'A conf old'!$B:$AH,3,0)),"",VLOOKUP($B29,'A conf old'!$B:$AH,24,0)) | AI29: =AK29*3+AL29 -> #VALUE! | AK29: =IF(ISNA(VLOOKUP($B29,'A conf old'!$B:$AH,3,0)),"",VLOOKUP($B29,'A conf old'!$B:$AH,27,0)) | AL29: =IF(ISNA(VLOOKUP($B29,'A conf old'!$B:$AH,3,0)),"",VLOOKUP($B29,'A conf old'!$B:$AH,28,0))
B30: GOMEZ T. | D30: =VLOOKUP($B30,'A (tt>10)'!$B:$M,2,0) -> ver | E30: =VLOOKUP($B30,'A (tt>10)'!$B:$M,3,0) -> 23 | F30: =VLOOKUP($B30,'A (tt>10)'!$B:$M,4,0) -> 6.8695652 | G30: =VLOOKUP($B30,'A (tt>10)'!$B:$M,5,0) -> 6.0434783 | H30: =J30*3+K30 -> 20 | I30: =H30/E30 -> 0.86956522 | J30: =VLOOKUP($B30,'A (tt>10)'!$B:$M,7,0) -> 5 | K30: =VLOOKUP($B30,'A (tt>10)'!$B:$M,10,0) -> 5 | M30: =LOWER(IF(ISNA(VLOOKUP($B30,'A conf old'!$B:$AH,3,0)),"",VLOOKUP($B30,'A conf old'!$B:$AH,3,0))) | N30: =IF(ISNA(VLOOKUP($B30,'A conf old'!$B:$AH,3,0)),"",VLOOKUP($B30,'A conf old'!$B:$AH,4,0)) | O30: =IF(ISNA(VLOOKUP($B30,'A conf old'!$B:$AH,3,0)),"",VLOOKUP($B30,'A conf old'!$B:$AH,5,0)) | P30: =IF(ISNA(VLOOKUP($B30,'A conf old'!$B:$AH,3,0)),"",VLOOKUP($B30,'A conf old'!$B:$AH,6,0)) | Q30: =S30*3+T30 -> #VALUE! | S30: =IF(ISNA(VLOOKUP($B30,'A conf old'!$B:$AH,3,0)),"",VLOOKUP($B30,'A conf old'!$B:$AH,9,0)) | T30: =IF(ISNA(VLOOKUP($B30,'A conf old'!$B:$AH,3,0)),"",VLOOKUP($B30,'A conf old'!$B:$AH,10,0)) | V30: =LOWER(IF(ISNA(VLOOKUP($B30,'A conf old'!$B:$AH,12,0)),"",VLOOKUP($B30,'A conf old'!$B:$AH,12,0))) | W30: =IF(ISNA(VLOOKUP($B30,'A conf old'!$B:$AH,3,0)),"",VLOOKUP($B30,'A conf old'!$B:$AH,13,0)) | X30: =IF(ISNA(VLOOKUP($B30,'A conf old'!$B:$AH,3,0)),"",VLOOKUP($B30,'A conf old'!$B:$AH,14,0)) | Y30: =IF(ISNA(VLOOKUP($B30,'A conf old'!$B:$AH,3,0)),"",VLOOKUP($B30,'A conf old'!$B:$AH,15,0)) | Z30: =AB30*3+AC30 -> #VALUE! | AB30: =IF(ISNA(VLOOKUP($B30,'A conf old'!$B:$AH,3,0)),"",VLOOKUP($B30,'A conf old'!$B:$AH,18,0)) | AC30: =IF(ISNA(VLOOKUP($B30,'A conf old'!$B:$AH,3,0)),"",VLOOKUP($B30,'A conf old'!$B:$AH,19,0)) | AE30: =LOWER(IF(ISNA(VLOOKUP($B30,'A conf old'!$B:$AH,21,0)),"",VLOOKUP($B30,'A conf old'!$B:$AH,21,0))) | AF30: =IF(ISNA(VLOOKUP($B30,'A conf old'!$B:$AH,3,0)),"",VLOOKUP($B30,'A conf old'!$B:$AH,22,0)) | AG30: =IF(ISNA(VLOOKUP($B30,'A conf old'!$B:$AH,3,0)),"",VLOOKUP($B30,'A conf old'!$B:$AH,23,0)) | AH30: =IF(ISNA(VLOOKUP($B30,'A conf old'!$B:$AH,3,0)),"",VLOOKUP($B30,'A conf old'!$B:$AH,24,0)) | AI30: =AK30*3+AL30 -> #VALUE! | AK30: =IF(ISNA(VLOOKUP($B30,'A conf old'!$B:$AH,3,0)),"",VLOOKUP($B30,'A conf old'!$B:$AH,27,0)) | AL30: =IF(ISNA(VLOOKUP($B30,'A conf old'!$B:$AH,3,0)),"",VLOOKUP($B30,'A conf old'!$B:$AH,28,0))
B31: PANDEV | D31: =VLOOKUP($B31,'A (tt>10)'!$B:$M,2,0) -> nap | E31: =VLOOKUP($B31,'A (tt>10)'!$B:$M,3,0) -> 24 | F31: =VLOOKUP($B31,'A (tt>10)'!$B:$M,4,0) -> 6.8125 | G31: =VLOOKUP($B31,'A (tt>10)'!$B:$M,5,0) -> 6 | H31: =J31*3+K31 -> 24 | I31: =H31/E31 -> 1 | J31: =VLOOKUP($B31,'A (tt>10)'!$B:$M,7,0) -> 7 | K31: =VLOOKUP($B31,'A (tt>10)'!$B:$M,10,0) -> 3 | M31: =LOWER(IF(ISNA(VLOOKUP($B31,'A conf old'!$B:$AH,3,0)),"",VLOOKUP($B31,'A conf old'!$B:$AH,3,0))) -> nap | N31: =IF(ISNA(VLOOKUP($B31,'A conf old'!$B:$AH,3,0)),"",VLOOKUP($B31,'A conf old'!$B:$AH,4,0)) -> 32 | O31: =IF(ISNA(VLOOKUP($B31,'A conf old'!$B:$AH,3,0)),"",VLOOKUP($B31,'A conf old'!$B:$AH,5,0)) -> 6.69 | P31: =IF(ISNA(VLOOKUP($B31,'A conf old'!$B:$AH,3,0)),"",VLOOKUP($B31,'A conf old'!$B:$AH,6,0)) -> 5.95 | Q31: =S31*3+T31 -> 25 | R31: =Q31/N31 -> 0.78125 | S31: =IF(ISNA(VLOOKUP($B31,'A conf old'!$B:$AH,3,0)),"",VLOOKUP($B31,'A conf old'!$B:$AH,9,0)) -> 6 | T31: =IF(ISNA(VLOOKUP($B31,'A conf old'!$B:$AH,3,0)),"",VLOOKUP($B31,'A conf old'!$B:$AH,10,0)) -> 7 | V31: =LOWER(IF(ISNA(VLOOKUP($B31,'A conf old'!$B:$AH,12,0)),"",VLOOKUP($B31,'A conf old'!$B:$AH,12,0))) -> nap | W31: =IF(ISNA(VLOOKUP($B31,'A conf old'!$B:$AH,3,0)),"",VLOOKUP($B31,'A conf old'!$B:$AH,13,0)) -> 27 | X31: =IF(ISNA(VLOOKUP($B31,'A conf old'!$B:$AH,3,0)),"",VLOOKUP($B31,'A conf old'!$B:$AH,14,0)) -> 6.74 | Y31: =IF(ISNA(VLOOKUP($B31,'A conf old'!$B:$AH,3,0)),"",VLOOKUP($B31,'A conf old'!$B:$AH,15,0)) -> 5.98 | Z31: =AB31*3+AC31 -> 22 | AA31: =Z31/W31 -> 0.81481481 | AB31: =IF(ISNA(VLOOKUP($B31,'A conf old'!$B:$AH,3,0)),"",VLOOKUP($B31,'A conf old'!$B:$AH,18,0)) -> 6 | AC31: =IF(ISNA(VLOOKUP($B31,'A conf old'!$B:$AH,3,0)),"",VLOOKUP($B31,'A conf old'!$B:$AH,19,0)) -> 4 | AE31: =LOWER(IF(ISNA(VLOOKUP($B31,'A conf old'!$B:$AH,21,0)),"",VLOOKUP($B31,'A conf old'!$B:$AH,21,0))) -> int | AF31: =IF(ISNA(VLOOKUP($B31,'A conf old'!$B:$AH,3,0)),"",VLOOKUP($B31,'A conf old'!$B:$AH,22,0)) -> 26 | AG31: =IF(ISNA(VLOOKUP($B31,'A conf old'!$B:$AH,3,0)),"",VLOOKUP($B31,'A conf old'!$B:$AH,23,0)) -> 5.67 | AH31: =IF(ISNA(VLOOKUP($B31,'A conf old'!$B:$AH,3,0)),"",VLOOKUP($B31,'A conf old'!$B:$AH,24,0)) -> 5.4 | AI31: =AK31*3+AL31 -> 8 | AJ31: =AI31/AF31 -> 0.30769231 | AK31: =IF(ISNA(VLOOKUP($B31,'A conf old'!$B:$AH,3,0)),"",VLOOKUP($B31,'A conf old'!$B:$AH,27,0)) -> 2 | AL31: =IF(ISNA(VLOOKUP($B31,'A conf old'!$B:$AH,3,0)),"",VLOOKUP($B31,'A conf old'!$B:$AH,28,0)) -> 2
B32: GABBIADINI | D32: =VLOOKUP($B32,'A (tt>10)'!$B:$M,2,0) -> sam | E32: =VLOOKUP($B32,'A (tt>10)'!$B:$M,3,0) -> 34 | F32: =VLOOKUP($B32,'A (tt>10)'!$B:$M,4,0) -> 6.7647059 | G32: =VLOOKUP($B32,'A (tt>10)'!$B:$M,5,0) -> 5.9705882 | H32: =J32*3+K32 -> 30 | I32: =H32/E32 -> 0.88235294 | J32: =VLOOKUP($B32,'A (tt>10)'!$B:$M,7,0) -> 9 | K32: =VLOOKUP($B32,'A (tt>10)'!$B:$M,10,0) -> 3 | M32: =LOWER(IF(ISNA(VLOOKUP($B32,'A conf old'!$B:$AH,3,0)),"",VLOOKUP($B32,'A conf old'!$B:$AH,3,0))) -> bol | N32: =IF(ISNA(VLOOKUP($B32,'A conf old'!$B:$AH,3,0)),"",VLOOKUP($B32,'A conf old'!$B:$AH,4,0)) -> 28 | O32: =IF(ISNA(VLOOKUP($B32,'A conf old'!$B:$AH,3,0)),"",VLOOKUP($B32,'A conf old'!$B:$AH,5,0)) -> 6.38 | P32: =IF(ISNA(VLOOKUP($B32,'A conf old'!$B:$AH,3,0)),"",VLOOKUP($B32,'A conf old'!$B:$AH,6,0)) -> 5.84 | Q32: =S32*3+T32 -> 19 | R32: =Q32/N32 -> 0.67857143 | S32: =IF(ISNA(VLOOKUP($B32,'A conf old'!$B:$AH,3,0)),"",VLOOKUP($B32,'A conf old'!$B:$AH,9,0)) -> 6 | T32: =IF(ISNA(VLOOKUP($B32,'A conf old'!$B:$AH,3,0)),"",VLOOKUP($B32,'A conf old'!$B:$AH,10,0)) -> 1 | V32: =LOWER(IF(ISNA(VLOOKUP($B32,'A conf old'!$B:$AH,12,0)),"",VLOOKUP($B32,'A conf old'!$B:$AH,12,0))) -> ata | W32: =IF(ISNA(VLOOKUP($B32,'A conf old'!$B:$AH,3,0)),"",VLOOKUP($B32,'A conf old'!$B:$AH,13,0)) -> 16 | X32: =IF(ISNA(VLOOKUP($B32,'A conf old'!$B:$AH,3,0)),"",VLOOKUP($B32,'A conf old'!$B:$AH,14,0)) -> 6.13 | Y32: =IF(ISNA(VLOOKUP($B32,'A conf old'!$B:$AH,3,0)),"",VLOOKUP($B32,'A conf old'!$B:$AH,15,0)) -> 5.88 | Z32: =AB32*3+AC32 -> 4 | AA32: =Z32/W32 -> 0.25 | AB32: =IF(ISNA(VLOOKUP($B32,'A conf old'!$B:$AH,3,0)),"",VLOOKUP($B32,'A conf old'!$B:$AH,18,0)) -> 1 | AC32: =IF(ISNA(VLOOKUP($B32,'A conf old'!$B:$AH,3,0)),"",VLOOKUP($B32,'A conf old'!$B:$AH,19,0)) -> 1 | AE32: =LOWER(IF(ISNA(VLOOKUP($B32,'A conf old'!$B:$AH,21,0)),"",VLOOKUP($B32,'A conf old'!$B:$AH,21,0)))
B33: FLORO FLORES | D33: =VLOOKUP($B33,'A (tt>10)'!$B:$M,2,0) -> sas | E33: =VLOOKUP($B33,'A (tt>10)'!$B:$M,3,0) -> 27 | F33: =VLOOKUP($B33,'A (tt>10)'!$B:$M,4,0) -> 6.7592593 | G33: =VLOOKUP($B33,'A (tt>10)'!$B:$M,5,0) -> 5.9444444 | H33: =J33*3+K33 -> 24 | I33: =H33/E33 -> 0.88888889 | J33: =VLOOKUP($B33,'A (tt>10)'!$B:$M,7,0) -> 7 | K33: =VLOOKUP($B33,'A (tt>10)'!$B:$M,10,0) -> 3 | M33: =LOWER(IF(ISNA(VLOOKUP($B33,'A conf old'!$B:$AH,3,0)),"",VLOOKUP($B33,'A conf old'!$B:$AH,3,0))) | N33: =IF(ISNA(VLOOKUP($B33,'A conf old'!$B:$AH,3,0)),"",VLOOKUP($B33,'A conf old'!$B:$AH,4,0)) | O33: =IF(ISNA(VLOOKUP($B33,'A conf old'!$B:$AH,3,0)),"",VLOOKUP($B33,'A conf old'!$B:$AH,5,0)) | P33: =IF(ISNA(VLOOKUP($B33,'A conf old'!$B:$AH,3,0)),"",VLOOKUP($B33,'A conf old'!$B:$AH,6,0)) | Q33: =S33*3+T33 -> #VALUE! | S33: =IF(ISNA(VLOOKUP($B33,'A conf old'!$B:$AH,3,0)),"",VLOOKUP($B33,'A conf old'!$B:$AH,9,0)) | T33: =IF(ISNA(VLOOKUP($B33,'A conf old'!$B:$AH,3,0)),"",VLOOKUP($B33,'A conf old'!$B:$AH,10,0)) | V33: =LOWER(IF(ISNA(VLOOKUP($B33,'A conf old'!$B:$AH,12,0)),"",VLOOKUP($B33,'A conf old'!$B:$AH,12,0))) | AE33: =LOWER(IF(ISNA(VLOOKUP($B33,'A conf old'!$B:$AH,21,0)),"",VLOOKUP($B33,'A conf old'!$B:$AH,21,0)))
B34: BERGESSIO | D34: =VLOOKUP($B34,'A (tt>10)'!$B:$M,2,0) -> cat | E34: =VLOOKUP($B34,'A (tt>10)'!$B:$M,3,0) -> 29 | F34: =VLOOKUP($B34,'A (tt>10)'!$B:$M,4,0) -> 6.7068966 | G34: =VLOOKUP($B34,'A (tt>10)'!$B:$M,5,0) -> 5.7586207 | H34: =J34*3+K34 -> 32 | I34: =H34/E34 -> 1.1034483 | J34: =VLOOKUP($B34,'A (tt>10)'!$B:$M,7,0) -> 10 | K34: =VLOOKUP($B34,'A (tt>10)'!$B:$M,10,0) -> 2 | M34: =LOWER(IF(ISNA(VLOOKUP($B34,'A conf old'!$B:$AH,3,0)),"",VLOOKUP($B34,'A conf old'!$B:$AH,3,0))) -> cat | N34: =IF(ISNA(VLOOKUP($B34,'A conf old'!$B:$AH,3,0)),"",VLOOKUP($B34,'A conf old'!$B:$AH,4,0)) -> 32 | O34: =IF(ISNA(VLOOKUP($B34,'A conf old'!$B:$AH,3,0)),"",VLOOKUP($B34,'A conf old'!$B:$AH,5,0)) -> 7.41 | P34: =IF(ISNA(VLOOKUP($B34,'A conf old'!$B:$AH,3,0)),"",VLOOKUP($B34,'A conf old'!$B:$AH,6,0)) -> 6.2 | Q34: =S34*3+T34 -> 45 | R34: =Q34/N34 -> 1.40625 | S34: =IF(ISNA(VLOOKUP($B34,'A conf old'!$B:$AH,3,0)),"",VLOOKUP($B34,'A conf old'!$B:$AH,9,0)) -> 13 | T34: =IF(ISNA(VLOOKUP($B34,'A conf old'!$B:$AH,3,0)),"",VLOOKUP($B34,'A conf old'!$B:$AH,10,0)) -> 6 | V34: =LOWER(IF(ISNA(VLOOKUP($B34,'A conf old'!$B:$AH,12,0)),"",VLOOKUP($B34,'A conf old'!$B:$AH,12,0))) -> cat | W34: =IF(ISNA(VLOOKUP($B34,'A conf old'!$B:$AH,3,0)),"",VLOOKUP($B34,'A conf old'!$B:$AH,13,0)) -> 34 | X34: =IF(ISNA(VLOOKUP($B34,'A conf old'!$B:$AH,3,0)),"",VLOOKUP($B34,'A conf old'!$B:$AH,14,0)) -> 6.56 | Y34: =IF(ISNA(VLOOKUP($B34,'A conf old'!$B:$AH,3,0)),"",VLOOKUP($B34,'A conf old'!$B:$AH,15,0)) -> 5.94 | Z34: =AB34*3+AC34 -> 22 | AA34: =Z34/W34 -> 0.64705882 | AB34: =IF(ISNA(VLOOKUP($B34,'A conf old'!$B:$AH,3,0)),"",VLOOKUP($B34,'A conf old'!$B:$AH,18,0)) -> 7 | AC34: =IF(ISNA(VLOOKUP($B34,'A conf old'!$B:$AH,3,0)),"",VLOOKUP($B34,'A conf old'!$B:$AH,19,0)) -> 1 | AE34: =LOWER(IF(ISNA(VLOOKUP($B34,'A conf old'!$B:$AH,21,0)),"",VLOOKUP($B34,'A conf old'!$B:$AH,21,0))) -> cat | AF34: =IF(ISNA(VLOOKUP($B34,'A conf old'!$B:$AH,3,0)),"",VLOOKUP($B34,'A conf old'!$B:$AH,22,0)) -> 13 | AG34: =IF(ISNA(VLOOKUP($B34,'A conf old'!$B:$AH,3,0)),"",VLOOKUP($B34,'A conf old'!$B:$AH,23,0)) -> 7 | AH34: =IF(ISNA(VLOOKUP($B34,'A conf old'!$B:$AH,3,0)),"",VLOOKUP($B34,'A conf old'!$B:$AH,24,0)) -> 5.85 | AI34: =AK34*3+AL34 -> 16 | AJ34: =AI34/AF34 -> 1.2307692 | AK34: =IF(ISNA(VLOOKUP($B34,'A conf old'!$B:$AH,3,0)),"",VLOOKUP($B34,'A conf old'!$B:$AH,27,0)) -> 5 | AL34: =IF(ISNA(VLOOKUP($B34,'A conf old'!$B:$AH,3,0)),"",VLOOKUP($B34,'A conf old'!$B:$AH,28,0)) -> 1
B35: AMAURI | D35: =VLOOKUP($B35,'A (tt>10)'!$B:$M,2,0) -> par | E35: =VLOOKUP($B35,'A (tt>10)'!$B:$M,3,0) -> 26 | F35: =VLOOKUP($B35,'A (tt>10)'!$B:$M,4,0) -> 6.6730769 | G35: =VLOOKUP($B35,'A (tt>10)'!$B:$M,5,0) -> 5.9615385 | H35: =J35*3+K35 -> 24 | I35: =H35/E35 -> 0.92307692 | J35: =VLOOKUP($B35,'A (tt>10)'!$B:$M,7,0) -> 8 | K35: =VLOOKUP($B35,'A (tt>10)'!$B:$M,10,0) -> 0 | M35: =LOWER(IF(ISNA(VLOOKUP($B35,'A conf old'!$B:$AH,3,0)),"",VLOOKUP($B35,'A conf old'!$B:$AH,3,0))) -> par | N35: =IF(ISNA(VLOOKUP($B35,'A conf old'!$B:$AH,3,0)),"",VLOOKUP($B35,'A conf old'!$B:$AH,4,0)) -> 32 | O35: =IF(ISNA(VLOOKUP($B35,'A conf old'!$B:$AH,3,0)),"",VLOOKUP($B35,'A conf old'!$B:$AH,5,0)) -> 7 | P35: =IF(ISNA(VLOOKUP($B35,'A conf old'!$B:$AH,3,0)),"",VLOOKUP($B35,'A conf old'!$B:$AH,6,0)) -> 6.08 | Q35: =S35*3+T35 -> 31 | R35: =Q35/N35 -> 0.96875 | S35: =IF(ISNA(VLOOKUP($B35,'A conf old'!$B:$AH,3,0)),"",VLOOKUP($B35,'A conf old'!$B:$AH,9,0)) -> 10 | T35: =IF(ISNA(VLOOKUP($B35,'A conf old'!$B:$AH,3,0)),"",VLOOKUP($B35,'A conf old'!$B:$AH,10,0)) -> 1 | V35: =LOWER(IF(ISNA(VLOOKUP($B35,'A conf old'!$B:$AH,12,0)),"",VLOOKUP($B35,'A conf old'!$B:$AH,12,0))) -> fio | W35: =IF(ISNA(VLOOKUP($B35,'A conf old'!$B:$AH,3,0)),"",VLOOKUP($B35,'A conf old'!$B:$AH,13,0)) -> 13 | X35: =IF(ISNA(VLOOKUP($B35,'A conf old'!$B:$AH,3,0)),"",VLOOKUP($B35,'A conf old'!$B:$AH,14,0)) -> 5.65 | Y35: =IF(ISNA(VLOOKUP($B35,'A conf old'!$B:$AH,3,0)),"",VLOOKUP($B35,'A conf old'!$B:$AH,15,0)) -> 5.58 | Z35: =AB35*3+AC35 -> 3 | AA35: =Z35/W35 -> 0.23076923 | AB35: =IF(ISNA(VLOOKUP($B35,'A conf old'!$B:$AH,3,0)),"",VLOOKUP($B35,'A conf old'!$B:$AH,18,0)) -> 1 | AC35: =IF(ISNA(VLOOKUP($B35,'A conf old'!$B:$AH,3,0)),"",VLOOKUP($B35,'A conf old'!$B:$AH,19,0)) -> 0 | AE35: =LOWER(IF(ISNA(VLOOKUP($B35,'A conf old'!$B:$AH,21,0)),"",VLOOKUP($B35,'A conf old'!$B:$AH,21,0))) -> par | AF35: =IF(ISNA(VLOOKUP($B35,'A conf old'!$B:$AH,3,0)),"",VLOOKUP($B35,'A conf old'!$B:$AH,22,0)) -> 18 | AG35: =IF(ISNA(VLOOKUP($B35,'A conf old'!$B:$AH,3,0)),"",VLOOKUP($B35,'A conf old'!$B:$AH,23,0)) -> 7.06 | AH35: =IF(ISNA(VLOOKUP($B35,'A conf old'!$B:$AH,3,0)),"",VLOOKUP($B35,'A conf old'!$B:$AH,24,0)) -> 5.94 | AI35: =AK35*3+AL35 -> 21 | AJ35: =AI35/AF35 -> 1.1666667 | AK35: =IF(ISNA(VLOOKUP($B35,'A conf old'!$B:$AH,3,0)),"",VLOOKUP($B35,'A conf old'!$B:$AH,27,0)) -> 7 | AL35: =IF(ISNA(VLOOKUP($B35,'A conf old'!$B:$AH,3,0)),"",VLOOKUP($B35,'A conf old'!$B:$AH,28,0)) -> 0
B36: KLOSE | D36: =VLOOKUP($B36,'A (tt>10)'!$B:$M,2,0) -> laz | E36: =VLOOKUP($B36,'A (tt>10)'!$B:$M,3,0) -> 24 | F36: =VLOOKUP($B36,'A (tt>10)'!$B:$M,4,0) -> 6.6666667 | G36: =VLOOKUP($B36,'A (tt>10)'!$B:$M,5,0) -> 5.7916667 | H36: =J36*3+K36 -> 22 | I36: =H36/E36 -> 0.91666667 | J36: =VLOOKUP($B36,'A (tt>10)'!$B:$M,7,0) -> 7 | K36: =VLOOKUP($B36,'A (tt>10)'!$B:$M,10,0) -> 1 | M36: =LOWER(IF(ISNA(VLOOKUP($B36,'A conf old'!$B:$AH,3,0)),"",VLOOKUP($B36,'A conf old'!$B:$AH,3,0))) -> laz | N36: =IF(ISNA(VLOOKUP($B36,'A conf old'!$B:$AH,3,0)),"",VLOOKUP($B36,'A conf old'!$B:$AH,4,0)) -> 29 | O36: =IF(ISNA(VLOOKUP($B36,'A conf old'!$B:$AH,3,0)),"",VLOOKUP($B36,'A conf old'!$B:$AH,5,0)) -> 7.62 | P36: =IF(ISNA(VLOOKUP($B36,'A conf old'!$B:$AH,3,0)),"",VLOOKUP($B36,'A conf old'!$B:$AH,6,0)) -> 6.16 | Q36: =S36*3+T36 -> 45 | R36: =Q36/N36 -> 1.5517241 | S36: =IF(ISNA(VLOOKUP($B36,'A conf old'!$B:$AH,3,0)),"",VLOOKUP($B36,'A conf old'!$B:$AH,9,0)) -> 15 | T36: =IF(ISNA(VLOOKUP($B36,'A conf old'!$B:$AH,3,0)),"",VLOOKUP($B36,'A conf old'!$B:$AH,10,0)) -> 0 | V36: =LOWER(IF(ISNA(VLOOKUP($B36,'A conf old'!$B:$AH,12,0)),"",VLOOKUP($B36,'A conf old'!$B:$AH,12,0))) -> laz | W36: =IF(ISNA(VLOOKUP($B36,'A conf old'!$B:$AH,3,0)),"",VLOOKUP($B36,'A conf old'!$B:$AH,13,0)) -> 27 | X36: =IF(ISNA(VLOOKUP($B36,'A conf old'!$B:$AH,3,0)),"",VLOOKUP($B36,'A conf old'!$B:$AH,14,0)) -> 7.72 | Y36: =IF(ISNA(VLOOKUP($B36,'A conf old'!$B:$AH,3,0)),"",VLOOKUP($B36,'A conf old'!$B:$AH,15,0)) -> 6.19 | Z36: =AB36*3+AC36 -> 42 | AA36: =Z36/W36 -> 1.5555556 | AB36: =IF(ISNA(VLOOKUP($B36,'A conf old'!$B:$AH,3,0)),"",VLOOKUP($B36,'A conf old'!$B:$AH,18,0)) -> 13 | AC36: =IF(ISNA(VLOOKUP($B36,'A conf old'!$B:$AH,3,0)),"",VLOOKUP($B36,'A conf old'!$B:$AH,19,0)) -> 3 | AE36: =LOWER(IF(ISNA(VLOOKUP($B36,'A conf old'!$B:$AH,21,0)),"",VLOOKUP($B36,'A conf old'!$B:$AH,21,0)))
B37: ZAZA | D37: =VLOOKUP($B37,'A (tt>10)'!$B:$M,2,0) -> sas | E37: =VLOOKUP($B37,'A (tt>10)'!$B:$M,3,0) -> 33 | F37: =VLOOKUP($B37,'A (tt>10)'!$B:$M,4,0) -> 6.5454545 | G37: =VLOOKUP($B37,'A (tt>10)'!$B:$M,5,0) -> 5.8787879 | H37: =J37*3+K37 -> 28 | I37: =H37/E37 -> 0.84848485 | J37: =VLOOKUP($B37,'A (tt>10)'!$B:$M,7,0) -> 9 | K37: =VLOOKUP($B37,'A (tt>10)'!$B:$M,10,0) -> 1 | M37: =LOWER(IF(ISNA(VLOOKUP($B37,'A conf old'!$B:$AH,3,0)),"",VLOOKUP($B37,'A conf old'!$B:$AH,3,0))) | N37: =IF(ISNA(VLOOKUP($B37,'A conf old'!$B:$AH,3,0)),"",VLOOKUP($B37,'A conf old'!$B:$AH,4,0)) | O37: =IF(ISNA(VLOOKUP($B37,'A conf old'!$B:$AH,3,0)),"",VLOOKUP($B37,'A conf old'!$B:$AH,5,0)) | P37: =IF(ISNA(VLOOKUP($B37,'A conf old'!$B:$AH,3,0)),"",VLOOKUP($B37,'A conf old'!$B:$AH,6,0)) | Q37: =S37*3+T37 -> #VALUE! | S37: =IF(ISNA(VLOOKUP($B37,'A conf old'!$B:$AH,3,0)),"",VLOOKUP($B37,'A conf old'!$B:$AH,9,0)) | T37: =IF(ISNA(VLOOKUP($B37,'A conf old'!$B:$AH,3,0)),"",VLOOKUP($B37,'A conf old'!$B:$AH,10,0)) | V37: =LOWER(IF(ISNA(VLOOKUP($B37,'A conf old'!$B:$AH,12,0)),"",VLOOKUP($B37,'A conf old'!$B:$AH,12,0))) | AE37: =LOWER(IF(ISNA(VLOOKUP($B37,'A conf old'!$B:$AH,21,0)),"",VLOOKUP($B37,'A conf old'!$B:$AH,21,0)))
B38: SAU | D38: =VLOOKUP($B38,'A (tt>10)'!$B:$M,2,0) -> cag | E38: =VLOOKUP($B38,'A (tt>10)'!$B:$M,3,0) -> 30 | F38: =VLOOKUP($B38,'A (tt>10)'!$B:$M,4,0) -> 6.5 | G38: =VLOOKUP($B38,'A (tt>10)'!$B:$M,5,0) -> 5.8833333 | H38: =J38*3+K38 -> 19 | I38: =H38/E38 -> 0.63333333 | J38: =VLOOKUP($B38,'A (tt>10)'!$B:$M,7,0) -> 6 | K38: =VLOOKUP($B38,'A (tt>10)'!$B:$M,10,0) -> 1 | M38: =LOWER(IF(ISNA(VLOOKUP($B38,'A conf old'!$B:$AH,3,0)),"",VLOOKUP($B38,'A conf old'!$B:$AH,3,0))) -> cag | N38: =IF(ISNA(VLOOKUP($B38,'A conf old'!$B:$AH,3,0)),"",VLOOKUP($B38,'A conf old'!$B:$AH,4,0)) -> 29 | O38: =IF(ISNA(VLOOKUP($B38,'A conf old'!$B:$AH,3,0)),"",VLOOKUP($B38,'A conf old'!$B:$AH,5,0)) -> 7.45 | P38: =IF(ISNA(VLOOKUP($B38,'A conf old'!$B:$AH,3,0)),"",VLOOKUP($B38,'A conf old'!$B:$AH,6,0)) -> 6.22 | Q38: =S38*3+T38 -> 37 | R38: =Q38/N38 -> 1.2758621 | S38: =IF(ISNA(VLOOKUP($B38,'A conf old'!$B:$AH,3,0)),"",VLOOKUP($B38,'A conf old'!$B:$AH,9,0)) -> 12 | T38: =IF(ISNA(VLOOKUP($B38,'A conf old'!$B:$AH,3,0)),"",VLOOKUP($B38,'A conf old'!$B:$AH,10,0)) -> 1 | V38: =LOWER(IF(ISNA(VLOOKUP($B38,'A conf old'!$B:$AH,12,0)),"",VLOOKUP($B38,'A conf old'!$B:$AH,12,0))) | AE38: =LOWER(IF(ISNA(VLOOKUP($B38,'A conf old'!$B:$AH,21,0)),"",VLOOKUP($B38,'A conf old'!$B:$AH,21,0)))
B39: THEREAU | D39: =VLOOKUP($B39,'A (tt>10)'!$B:$M,2,0) -> chi | E39: =VLOOKUP($B39,'A (tt>10)'!$B:$M,3,0) -> 31 | F39: =VLOOKUP($B39,'A (tt>10)'!$B:$M,4,0) -> 6.3709677 | G39: =VLOOKUP($B39,'A (tt>10)'!$B:$M,5,0) -> 5.7903226 | H39: =J39*3+K39 -> 22 | I39: =H39/E39 -> 0.70967742 | J39: =VLOOKUP($B39,'A (tt>10)'!$B:$M,7,0) -> 7 | K39: =VLOOKUP($B39,'A (tt>10)'!$B:$M,10,0) -> 1 | M39: =LOWER(IF(ISNA(VLOOKUP($B39,'A conf old'!$B:$AH,3,0)),"",VLOOKUP($B39,'A conf old'!$B:$AH,3,0))) -> chi | N39: =IF(ISNA(VLOOKUP($B39,'A conf old'!$B:$AH,3,0)),"",VLOOKUP($B39,'A conf old'!$B:$AH,4,0)) -> 37 | O39: =IF(ISNA(VLOOKUP($B39,'A conf old'!$B:$AH,3,0)),"",VLOOKUP($B39,'A conf old'!$B:$AH,5,0)) -> 7 | P39: =IF(ISNA(VLOOKUP($B39,'A conf old'!$B:$AH,3,0)),"",VLOOKUP($B39,'A conf old'!$B:$AH,6,0)) -> 6.07 | Q39: =S39*3+T39 -> 36 | R39: =Q39/N39 -> 0.97297297 | S39: =IF(ISNA(VLOOKUP($B39,'A conf old'!$B:$AH,3,0)),"",VLOOKUP($B39,'A conf old'!$B:$AH,9,0)) -> 11 | T39: =IF(ISNA(VLOOKUP($B39,'A conf old'!$B:$AH,3,0)),"",VLOOKUP($B39,'A conf old'!$B:$AH,10,0)) -> 3 | V39: =LOWER(IF(ISNA(VLOOKUP($B39,'A conf old'!$B:$AH,12,0)),"",VLOOKUP($B39,'A conf old'!$B:$AH,12,0))) -> chi | W39: =IF(ISNA(VLOOKUP($B39,'A conf old'!$B:$AH,3,0)),"",VLOOKUP($B39,'A conf old'!$B:$AH,13,0)) -> 31 | X39: =IF(ISNA(VLOOKUP($B39,'A conf old'!$B:$AH,3,0)),"",VLOOKUP($B39,'A conf old'!$B:$AH,14,0)) -> 6.48 | Y39: =IF(ISNA(VLOOKUP($B39,'A conf old'!$B:$AH,3,0)),"",VLOOKUP($B39,'A conf old'!$B:$AH,15,0)) -> 5.98 | Z39: =AB39*3+AC39 -> 20 | AA39: =Z39/W39 -> 0.64516129 | AB39: =IF(ISNA(VLOOKUP($B39,'A conf old'!$B:$AH,3,0)),"",VLOOKUP($B39,'A conf old'!$B:$AH,18,0)) -> 6 | AC39: =IF(ISNA(VLOOKUP($B39,'A conf old'!$B:$AH,3,0)),"",VLOOKUP($B39,'A conf old'!$B:$AH,19,0)) -> 2 | AE39: =LOWER(IF(ISNA(VLOOKUP($B39,'A conf old'!$B:$AH,21,0)),"",VLOOKUP($B39,'A conf old'!$B:$AH,21,0))) -> chi | AF39: =IF(ISNA(VLOOKUP($B39,'A conf old'!$B:$AH,3,0)),"",VLOOKUP($B39,'A conf old'!$B:$AH,22,0)) -> 21 | AG39: =IF(ISNA(VLOOKUP($B39,'A conf old'!$B:$AH,3,0)),"",VLOOKUP($B39,'A conf old'!$B:$AH,23,0)) -> 6.1 | AH39: =IF(ISNA(VLOOKUP($B39,'A conf old'!$B:$AH,3,0)),"",VLOOKUP($B39,'A conf old'!$B:$AH,24,0)) -> 5.83 | AI39: =AK39*3+AL39 -> 6 | AJ39: =AI39/AF39 -> 0.28571429 | AK39: =IF(ISNA(VLOOKUP($B39,'A conf old'!$B:$AH,3,0)),"",VLOOKUP($B39,'A conf old'!$B:$AH,27,0)) -> 2 | AL39: =IF(ISNA(VLOOKUP($B39,'A conf old'!$B:$AH,3,0)),"",VLOOKUP($B39,'A conf old'!$B:$AH,28,0)) -> 0
B40: PAZZINI | D40: =VLOOKUP($B40,'A (tt>10)'!$B:$M,2,0) -> mil | E40: =VLOOKUP($B40,'A (tt>10)'!$B:$M,3,0) -> 15 | F40: =VLOOKUP($B40,'A (tt>10)'!$B:$M,4,0) -> 6.3666667 | G40: =VLOOKUP($B40,'A (tt>10)'!$B:$M,5,0) -> 6 | H40: =J40*3+K40 -> 6 | I40: =H40/E40 -> 0.4 | J40: =VLOOKUP($B40,'A (tt>10)'!$B:$M,7,0) -> 2 | K40: =VLOOKUP($B40,'A (tt>10)'!$B:$M,10,0) -> 0 | M40: =LOWER(IF(ISNA(VLOOKUP($B40,'A conf old'!$B:$AH,3,0)),"",VLOOKUP($B40,'A conf old'!$B:$AH,3,0))) -> mil | N40: =IF(ISNA(VLOOKUP($B40,'A conf old'!$B:$AH,3,0)),"",VLOOKUP($B40,'A conf old'!$B:$AH,4,0)) -> 27 | O40: =IF(ISNA(VLOOKUP($B40,'A conf old'!$B:$AH,3,0)),"",VLOOKUP($B40,'A conf old'!$B:$AH,5,0)) -> 7.74 | P40: =IF(ISNA(VLOOKUP($B40,'A conf old'!$B:$AH,3,0)),"",VLOOKUP($B40,'A conf old'!$B:$AH,6,0)) -> 6.17 | Q40: =S40*3+T40 -> 46 | R40: =Q40/N40 -> 1.7037037 | S40: =IF(ISNA(VLOOKUP($B40,'A conf old'!$B:$AH,3,0)),"",VLOOKUP($B40,'A conf old'!$B:$AH,9,0)) -> 15 | T40: =IF(ISNA(VLOOKUP($B40,'A conf old'!$B:$AH,3,0)),"",VLOOKUP($B40,'A conf old'!$B:$AH,10,0)) -> 1 | V40: =LOWER(IF(ISNA(VLOOKUP($B40,'A conf old'!$B:$AH,12,0)),"",VLOOKUP($B40,'A conf old'!$B:$AH,12,0))) -> int | W40: =IF(ISNA(VLOOKUP($B40,'A conf old'!$B:$AH,3,0)),"",VLOOKUP($B40,'A conf old'!$B:$AH,13,0)) -> 33 | X40: =IF(ISNA(VLOOKUP($B40,'A conf old'!$B:$AH,3,0)),"",VLOOKUP($B40,'A conf old'!$B:$AH,14,0)) -> 5.94 | Y40: =IF(ISNA(VLOOKUP($B40,'A conf old'!$B:$AH,3,0)),"",VLOOKUP($B40,'A conf old'!$B:$AH,15,0)) -> 5.56 | Z40: =AB40*3+AC40 -> 16 | AA40: =Z40/W40 -> 0.48484848 | AB40: =IF(ISNA(VLOOKUP($B40,'A conf old'!$B:$AH,3,0)),"",VLOOKUP($B40,'A conf old'!$B:$AH,18,0)) -> 5 | AC40: =IF(ISNA(VLOOKUP($B40,'A conf old'!$B:$AH,3,0)),"",VLOOKUP($B40,'A conf old'!$B:$AH,19,0)) -> 1 | AE40: =LOWER(IF(ISNA(VLOOKUP($B40,'A conf old'!$B:$AH,21,0)),"",VLOOKUP($B40,'A conf old'!$B:$AH,21,0))) -> int | AF40: =IF(ISNA(VLOOKUP($B40,'A conf old'!$B:$AH,3,0)),"",VLOOKUP($B40,'A conf old'!$B:$AH,22,0)) -> 36 | AG40: =IF(ISNA(VLOOKUP($B40,'A conf old'!$B:$AH,3,0)),"",VLOOKUP($B40,'A conf old'!$B:$AH,23,0)) -> 7.4 | AH40: =IF(ISNA(VLOOKUP($B40,'A conf old'!$B:$AH,3,0)),"",VLOOKUP($B40,'A conf old'!$B:$AH,24,0)) -> 6.03 | AI40: =AK40*3+AL40 -> 51 | AJ40: =AI40/AF40 -> 1.4166667 | AK40: =IF(ISNA(VLOOKUP($B40,'A conf old'!$B:$AH,3,0)),"",VLOOKUP($B40,'A conf old'!$B:$AH,27,0)) -> 17 | AL40: =IF(ISNA(VLOOKUP($B40,'A conf old'!$B:$AH,3,0)),"",VLOOKUP($B40,'A conf old'!$B:$AH,28,0)) -> 0
B41: INSIGNE | D41: =VLOOKUP($B41,'A (tt>10)'!$B:$M,2,0) -> nap | E41: =VLOOKUP($B41,'A (tt>10)'!$B:$M,3,0) -> 35 | F41: =VLOOKUP($B41,'A (tt>10)'!$B:$M,4,0) -> 6.2571429 | G41: =VLOOKUP($B41,'A (tt>10)'!$B:$M,5,0) -> 5.9428571 | H41: =J41*3+K41 -> 12 | I41: =H41/E41 -> 0.34285714 | J41: =VLOOKUP($B41,'A (tt>10)'!$B:$M,7,0) -> 3 | K41: =VLOOKUP($B41,'A (tt>10)'!$B:$M,10,0) -> 3 | M41: =LOWER(IF(ISNA(VLOOKUP($B41,'A conf old'!$B:$AH,3,0)),"",VLOOKUP($B41,'A conf old'!$B:$AH,3,0))) -> nap | N41: =IF(ISNA(VLOOKUP($B41,'A conf old'!$B:$AH,3,0)),"",VLOOKUP($B41,'A conf old'!$B:$AH,4,0)) -> 34 | O41: =IF(ISNA(VLOOKUP($B41,'A conf old'!$B:$AH,3,0)),"",VLOOKUP($B41,'A conf old'!$B:$AH,5,0)) -> 6.51 | P41: =IF(ISNA(VLOOKUP($B41,'A conf old'!$B:$AH,3,0)),"",VLOOKUP($B41,'A conf old'!$B:$AH,6,0)) -> 6.01 | Q41: =S41*3+T41 -> 19 | R41: =Q41/N41 -> 0.55882353 | S41: =IF(ISNA(VLOOKUP($B41,'A conf old'!$B:$AH,3,0)),"",VLOOKUP($B41,'A conf old'!$B:$AH,9,0)) -> 5 | T41: =IF(ISNA(VLOOKUP($B41,'A conf old'!$B:$AH,3,0)),"",VLOOKUP($B41,'A conf old'!$B:$AH,10,0)) -> 4 | V41: =LOWER(IF(ISNA(VLOOKUP($B41,'A conf old'!$B:$AH,12,0)),"",VLOOKUP($B41,'A conf old'!$B:$AH,12,0))) | AE41: =LOWER(IF(ISNA(VLOOKUP($B41,'A conf old'!$B:$AH,21,0)),"",VLOOKUP($B41,'A conf old'!$B:$AH,21,0)))
B42: OSVALDO | D42: =VLOOKUP($B42,'A (tt>10)'!$B:$M,2,0) -> juv | E42: =VLOOKUP($B42,'A (tt>10)'!$B:$M,3,0) -> 16 | F42: =VLOOKUP($B42,'A (tt>10)'!$B:$M,4,0) -> 6.25 | G42: =VLOOKUP($B42,'A (tt>10)'!$B:$M,5,0) -> 5.8125 | H42: =J42*3+K42 -> 8 | I42: =H42/E42 -> 0.5 | J42: =VLOOKUP($B42,'A (tt>10)'!$B:$M,7,0) -> 2 | K42: =VLOOKUP($B42,'A (tt>10)'!$B:$M,10,0) -> 2 | M42: =LOWER(IF(ISNA(VLOOKUP($B42,'A conf old'!$B:$AH,3,0)),"",VLOOKUP($B42,'A conf old'!$B:$AH,3,0))) -> rom | N42: =IF(ISNA(VLOOKUP($B42,'A conf old'!$B:$AH,3,0)),"",VLOOKUP($B42,'A conf old'!$B:$AH,4,0)) -> 29 | O42: =IF(ISNA(VLOOKUP($B42,'A conf old'!$B:$AH,3,0)),"",VLOOKUP($B42,'A conf old'!$B:$AH,5,0)) -> 7.5 | P42: =IF(ISNA(VLOOKUP($B42,'A conf old'!$B:$AH,3,0)),"",VLOOKUP($B42,'A conf old'!$B:$AH,6,0)) -> 6 | Q42: =S42*3+T42 -> 50 | R42: =Q42/N42 -> 1.7241379 | S42: =IF(ISNA(VLOOKUP($B42,'A conf old'!$B:$AH,3,0)),"",VLOOKUP($B42,'A conf old'!$B:$AH,9,0)) -> 16 | T42: =IF(ISNA(VLOOKUP($B42,'A conf old'!$B:$AH,3,0)),"",VLOOKUP($B42,'A conf old'!$B:$AH,10,0)) -> 2 | V42: =LOWER(IF(ISNA(VLOOKUP($B42,'A conf old'!$B:$AH,12,0)),"",VLOOKUP($B42,'A conf old'!$B:$AH,12,0))) -> rom | W42: =IF(ISNA(VLOOKUP($B42,'A conf old'!$B:$AH,3,0)),"",VLOOKUP($B42,'A conf old'!$B:$AH,13,0)) -> 26 | X42: =IF(ISNA(VLOOKUP($B42,'A conf old'!$B:$AH,3,0)),"",VLOOKUP($B42,'A conf old'!$B:$AH,14,0)) -> 7.06 | Y42: =IF(ISNA(VLOOKUP($B42,'A conf old'!$B:$AH,3,0)),"",VLOOKUP($B42,'A conf old'!$B:$AH,15,0)) -> 5.85 | Z42: =AB42*3+AC42 -> 35 | AA42: =Z42/W42 -> 1.3461538 | AB42: =IF(ISNA(VLOOKUP($B42,'A conf old'!$B:$AH,3,0)),"",VLOOKUP($B42,'A conf old'!$B:$AH,18,0)) -> 11 | AC42: =IF(ISNA(VLOOKUP($B42,'A conf old'!$B:$AH,3,0)),"",VLOOKUP($B42,'A conf old'!$B:$AH,19,0)) -> 2 | AE42: =LOWER(IF(ISNA(VLOOKUP($B42,'A conf old'!$B:$AH,21,0)),"",VLOOKUP($B42,'A conf old'!$B:$AH,21,0)))
B43: IBARBO | D43: =VLOOKUP($B43,'A (tt>10)'!$B:$M,2,0) -> cag | E43: =VLOOKUP($B43,'A (tt>10)'!$B:$M,3,0) -> 29 | F43: =VLOOKUP($B43,'A (tt>10)'!$B:$M,4,0) -> 6.2068966 | G43: =VLOOKUP($B43,'A (tt>10)'!$B:$M,5,0) -> 5.9827586 | H43: =J43*3+K43 -> 13 | I43: =H43/E43 -> 0.44827586 | J43: =VLOOKUP($B43,'A (tt>10)'!$B:$M,7,0) -> 4 | K43: =VLOOKUP($B43,'A (tt>10)'!$B:$M,10,0) -> 1 | M43: =LOWER(IF(ISNA(VLOOKUP($B43,'A conf old'!$B:$AH,3,0)),"",VLOOKUP($B43,'A conf old'!$B:$AH,3,0))) -> cag | N43: =IF(ISNA(VLOOKUP($B43,'A conf old'!$B:$AH,3,0)),"",VLOOKUP($B43,'A conf old'!$B:$AH,4,0)) -> 32 | O43: =IF(ISNA(VLOOKUP($B43,'A conf old'!$B:$AH,3,0)),"",VLOOKUP($B43,'A conf old'!$B:$AH,5,0)) -> 6.77 | P43: =IF(ISNA(VLOOKUP($B43,'A conf old'!$B:$AH,3,0)),"",VLOOKUP($B43,'A conf old'!$B:$AH,6,0)) -> 6.19 | Q43: =S43*3+T43 -> 19 | R43: =Q43/N43 -> 0.59375 | S43: =IF(ISNA(VLOOKUP($B43,'A conf old'!$B:$AH,3,0)),"",VLOOKUP($B43,'A conf old'!$B:$AH,9,0)) -> 6 | T43: =IF(ISNA(VLOOKUP($B43,'A conf old'!$B:$AH,3,0)),"",VLOOKUP($B43,'A conf old'!$B:$AH,10,0)) -> 1 | V43: =LOWER(IF(ISNA(VLOOKUP($B43,'A conf old'!$B:$AH,12,0)),"",VLOOKUP($B43,'A conf old'!$B:$AH,12,0))) -> cag | W43: =IF(ISNA(VLOOKUP($B43,'A conf old'!$B:$AH,3,0)),"",VLOOKUP($B43,'A conf old'!$B:$AH,13,0)) -> 35 | X43: =IF(ISNA(VLOOKUP($B43,'A conf old'!$B:$AH,3,0)),"",VLOOKUP($B43,'A conf old'!$B:$AH,14,0)) -> 6.3 | Y43: =IF(ISNA(VLOOKUP($B43,'A conf old'!$B:$AH,3,0)),"",VLOOKUP($B43,'A conf old'!$B:$AH,15,0)) -> 5.94 | Z43: =AB43*3+AC43 -> 13 | AA43: =Z43/W43 -> 0.37142857 | AB43: =IF(ISNA(VLOOKUP($B43,'A conf old'!$B:$AH,3,0)),"",VLOOKUP($B43,'A conf old'!$B:$AH,18,0)) -> 3 | AC43: =IF(ISNA(VLOOKUP($B43,'A conf old'!$B:$AH,3,0)),"",VLOOKUP($B43,'A conf old'!$B:$AH,19,0)) -> 4 | AE43: =LOWER(IF(ISNA(VLOOKUP($B43,'A conf old'!$B:$AH,21,0)),"",VLOOKUP($B43,'A conf old'!$B:$AH,21,0)))
B44: MURIEL | D44: =VLOOKUP($B44,'A (tt>10)'!$B:$M,2,0) -> udi | E44: =VLOOKUP($B44,'A (tt>10)'!$B:$M,3,0) -> 23 | F44: =VLOOKUP($B44,'A (tt>10)'!$B:$M,4,0) -> 6.173913 | G44: =VLOOKUP($B44,'A (tt>10)'!$B:$M,5,0) -> 5.673913 | H44: =J44*3+K44 -> 13 | I44: =H44/E44 -> 0.56521739 | J44: =VLOOKUP($B44,'A (tt>10)'!$B:$M,7,0) -> 4 | K44: =VLOOKUP($B44,'A (tt>10)'!$B:$M,10,0) -> 1 | M44: =LOWER(IF(ISNA(VLOOKUP($B44,'A conf old'!$B:$AH,3,0)),"",VLOOKUP($B44,'A conf old'!$B:$AH,3,0))) -> udi | N44: =IF(ISNA(VLOOKUP($B44,'A conf old'!$B:$AH,3,0)),"",VLOOKUP($B44,'A conf old'!$B:$AH,4,0)) -> 22 | O44: =IF(ISNA(VLOOKUP($B44,'A conf old'!$B:$AH,3,0)),"",VLOOKUP($B44,'A conf old'!$B:$AH,5,0)) -> 7.77 | P44: =IF(ISNA(VLOOKUP($B44,'A conf old'!$B:$AH,3,0)),"",VLOOKUP($B44,'A conf old'!$B:$AH,6,0)) -> 6.25 | Q44: =S44*3+T44 -> 36 | R44: =Q44/N44 -> 1.6363636 | S44: =IF(ISNA(VLOOKUP($B44,'A conf old'!$B:$AH,3,0)),"",VLOOKUP($B44,'A conf old'!$B:$AH,9,0)) -> 11 | T44: =IF(ISNA(VLOOKUP($B44,'A conf old'!$B:$AH,3,0)),"",VLOOKUP($B44,'A conf old'!$B:$AH,10,0)) -> 3 | V44: =LOWER(IF(ISNA(VLOOKUP($B44,'A conf old'!$B:$AH,12,0)),"",VLOOKUP($B44,'A conf old'!$B:$AH,12,0))) -> lec | W44: =IF(ISNA(VLOOKUP($B44,'A conf old'!$B:$AH,3,0)),"",VLOOKUP($B44,'A conf old'!$B:$AH,13,0)) -> 29 | X44: =IF(ISNA(VLOOKUP($B44,'A conf old'!$B:$AH,3,0)),"",VLOOKUP($B44,'A conf old'!$B:$AH,14,0)) -> 6.66 | Y44: =IF(ISNA(VLOOKUP($B44,'A conf old'!$B:$AH,3,0)),"",VLOOKUP($B44,'A conf old'!$B:$AH,15,0)) -> 5.91 | Z44: =AB44*3+AC44 -> 24 | AA44: =Z44/W44 -> 0.82758621 | AB44: =IF(ISNA(VLOOKUP($B44,'A conf old'!$B:$AH,3,0)),"",VLOOKUP($B44,'A conf old'!$B:$AH,18,0)) -> 7 | AC44: =IF(ISNA(VLOOKUP($B44,'A conf old'!$B:$AH,3,0)),"",VLOOKUP($B44,'A conf old'!$B:$AH,19,0)) -> 3 | AE44: =LOWER(IF(ISNA(VLOOKUP($B44,'A conf old'!$B:$AH,21,0)),"",VLOOKUP($B44,'A conf old'!$B:$AH,21,0)))
B45: PINILLA | D45: =VLOOKUP($B45,'A (tt>10)'!$B:$M,2,0) -> cag | E45: =VLOOKUP($B45,'A (tt>10)'!$B:$M,3,0) -> 24 | F45: =VLOOKUP($B45,'A (tt>10)'!$B:$M,4,0) -> 6.1666667 | G45: =VLOOKUP($B45,'A (tt>10)'!$B:$M,5,0) -> 5.75 | H45: =J45*3+K45 -> 21 | I45: =H45/E45 -> 0.875 | J45: =VLOOKUP($B45,'A (tt>10)'!$B:$M,7,0) -> 7 | K45: =VLOOKUP($B45,'A (tt>10)'!$B:$M,10,0) -> 0 | M45: =LOWER(IF(ISNA(VLOOKUP($B45,'A conf old'!$B:$AH,3,0)),"",VLOOKUP($B45,'A conf old'!$B:$AH,3,0))) -> cag | N45: =IF(ISNA(VLOOKUP($B45,'A conf old'!$B:$AH,3,0)),"",VLOOKUP($B45,'A conf old'!$B:$AH,4,0)) -> 23 | O45: =IF(ISNA(VLOOKUP($B45,'A conf old'!$B:$AH,3,0)),"",VLOOKUP($B45,'A conf old'!$B:$AH,5,0)) -> 6.46 | P45: =IF(ISNA(VLOOKUP($B45,'A conf old'!$B:$AH,3,0)),"",VLOOKUP($B45,'A conf old'!$B:$AH,6,0)) -> 5.89 | Q45: =S45*3+T45 -> 21 | R45: =Q45/N45 -> 0.91304348 | S45: =IF(ISNA(VLOOKUP($B45,'A conf old'!$B:$AH,3,0)),"",VLOOKUP($B45,'A conf old'!$B:$AH,9,0)) -> 7 | T45: =IF(ISNA(VLOOKUP($B45,'A conf old'!$B:$AH,3,0)),"",VLOOKUP($B45,'A conf old'!$B:$AH,10,0)) -> 0 | V45: =LOWER(IF(ISNA(VLOOKUP($B45,'A conf old'!$B:$AH,12,0)),"",VLOOKUP($B45,'A conf old'!$B:$AH,12,0))) -> cag | W45: =IF(ISNA(VLOOKUP($B45,'A conf old'!$B:$AH,3,0)),"",VLOOKUP($B45,'A conf old'!$B:$AH,13,0)) -> 26 | X45: =IF(ISNA(VLOOKUP($B45,'A conf old'!$B:$AH,3,0)),"",VLOOKUP($B45,'A conf old'!$B:$AH,14,0)) -> 6.98 | Y45: =IF(ISNA(VLOOKUP($B45,'A conf old'!$B:$AH,3,0)),"",VLOOKUP($B45,'A conf old'!$B:$AH,15,0)) -> 5.92 | Z45: =AB45*3+AC45 -> 31 | AA45: =Z45/W45 -> 1.1923077 | AB45: =IF(ISNA(VLOOKUP($B45,'A conf old'!$B:$AH,3,0)),"",VLOOKUP($B45,'A conf old'!$B:$AH,18,0)) -> 10 | AC45: =IF(ISNA(VLOOKUP($B45,'A conf old'!$B:$AH,3,0)),"",VLOOKUP($B45,'A conf old'!$B:$AH,19,0)) -> 1 | AE45: =LOWER(IF(ISNA(VLOOKUP($B45,'A conf old'!$B:$AH,21,0)),"",VLOOKUP($B45,'A conf old'!$B:$AH,21,0))) -> pal | AF45: =IF(ISNA(VLOOKUP($B45,'A conf old'!$B:$AH,3,0)),"",VLOOKUP($B45,'A conf old'!$B:$AH,22,0)) -> 19 | AG45: =IF(ISNA(VLOOKUP($B45,'A conf old'!$B:$AH,3,0)),"",VLOOKUP($B45,'A conf old'!$B:$AH,23,0)) -> 7.68 | AH45: =IF(ISNA(VLOOKUP($B45,'A conf old'!$B:$AH,3,0)),"",VLOOKUP($B45,'A conf old'!$B:$AH,24,0)) -> 6.32 | AI45: =AK45*3+AL45 -> 27 | AJ45: =AI45/AF45 -> 1.4210526 | AK45: =IF(ISNA(VLOOKUP($B45,'A conf old'!$B:$AH,3,0)),"",VLOOKUP($B45,'A conf old'!$B:$AH,27,0)) -> 8 | AL45: =IF(ISNA(VLOOKUP($B45,'A conf old'!$B:$AH,3,0)),"",VLOOKUP($B45,'A conf old'!$B:$AH,28,0)) -> 3
B46: MATRI | D46: =VLOOKUP($B46,'A (tt>10)'!$B:$M,2,0) -> fio | E46: =VLOOKUP($B46,'A (tt>10)'!$B:$M,3,0) -> 27 | F46: =VLOOKUP($B46,'A (tt>10)'!$B:$M,4,0) -> 5.9444444 | G46: =VLOOKUP($B46,'A (tt>10)'!$B:$M,5,0) -> 5.3703704 | H46: =J46*3+K46 -> 17 | I46: =H46/E46 -> 0.62962963 | J46: =VLOOKUP($B46,'A (tt>10)'!$B:$M,7,0) -> 5 | K46: =VLOOKUP($B46,'A (tt>10)'!$B:$M,10,0) -> 2 | M46: =LOWER(IF(ISNA(VLOOKUP($B46,'A conf old'!$B:$AH,3,0)),"",VLOOKUP($B46,'A conf old'!$B:$AH,3,0))) -> juv | N46: =IF(ISNA(VLOOKUP($B46,'A conf old'!$B:$AH,3,0)),"",VLOOKUP($B46,'A conf old'!$B:$AH,4,0)) -> 18 | O46: =IF(ISNA(VLOOKUP($B46,'A conf old'!$B:$AH,3,0)),"",VLOOKUP($B46,'A conf old'!$B:$AH,5,0)) -> 7.25 | P46: =IF(ISNA(VLOOKUP($B46,'A conf old'!$B:$AH,3,0)),"",VLOOKUP($B46,'A conf old'!$B:$AH,6,0)) -> 6 | Q46: =S46*3+T46 -> 24 | R46: =Q46/N46 -> 1.3333333 | S46: =IF(ISNA(VLOOKUP($B46,'A conf old'!$B:$AH,3,0)),"",VLOOKUP($B46,'A conf old'!$B:$AH,9,0)) -> 8 | T46: =IF(ISNA(VLOOKUP($B46,'A conf old'!$B:$AH,3,0)),"",VLOOKUP($B46,'A conf old'!$B:$AH,10,0)) -> 0 | V46: =LOWER(IF(ISNA(VLOOKUP($B46,'A conf old'!$B:$AH,12,0)),"",VLOOKUP($B46,'A conf old'!$B:$AH,12,0))) -> juv | W46: =IF(ISNA(VLOOKUP($B46,'A conf old'!$B:$AH,3,0)),"",VLOOKUP($B46,'A conf old'!$B:$AH,13,0)) -> 30 | X46: =IF(ISNA(VLOOKUP($B46,'A conf old'!$B:$AH,3,0)),"",VLOOKUP($B46,'A conf old'!$B:$AH,14,0)) -> 6.93 | Y46: =IF(ISNA(VLOOKUP($B46,'A conf old'!$B:$AH,3,0)),"",VLOOKUP($B46,'A conf old'!$B:$AH,15,0)) -> 5.87 | Z46: =AB46*3+AC46 -> 34 | AA46: =Z46/W46 -> 1.1333333 | AB46: =IF(ISNA(VLOOKUP($B46,'A conf old'!$B:$AH,3,0)),"",VLOOKUP($B46,'A conf old'!$B:$AH,18,0)) -> 10 | AC46: =IF(ISNA(VLOOKUP($B46,'A conf old'!$B:$AH,3,0)),"",VLOOKUP($B46,'A conf old'!$B:$AH,19,0)) -> 4 | AE46: =LOWER(IF(ISNA(VLOOKUP($B46,'A conf old'!$B:$AH,21,0)),"",VLOOKUP($B46,'A conf old'!$B:$AH,21,0))) -> juv | AF46: =IF(ISNA(VLOOKUP($B46,'A conf old'!$B:$AH,3,0)),"",VLOOKUP($B46,'A conf old'!$B:$AH,22,0)) -> 38 | AG46: =IF(ISNA(VLOOKUP($B46,'A conf old'!$B:$AH,3,0)),"",VLOOKUP($B46,'A conf old'!$B:$AH,23,0)) -> 7.51 | AH46: =IF(ISNA(VLOOKUP($B46,'A conf old'!$B:$AH,3,0)),"",VLOOKUP($B46,'A conf old'!$B:$AH,24,0)) -> 5.95 | AI46: =AK46*3+AL46 -> 61 | AJ46: =AI46/AF46 -> 1.6052632 | AK46: =IF(ISNA(VLOOKUP($B46,'A conf old'!$B:$AH,3,0)),"",VLOOKUP($B46,'A conf old'!$B:$AH,27,0)) -> 20 | AL46: =IF(ISNA(VLOOKUP($B46,'A conf old'!$B:$AH,3,0)),"",VLOOKUP($B46,'A conf old'!$B:$AH,28,0)) -> 1
B47: MILITO | D47: =VLOOKUP($B47,'A (tt>10)'!$B:$M,2,0) -> int | E47: =VLOOKUP($B47,'A (tt>10)'!$B:$M,3,0) -> 13 | F47: =VLOOKUP($B47,'A (tt>10)'!$B:$M,4,0) -> 5.9230769 | G47: =VLOOKUP($B47,'A (tt>10)'!$B:$M,5,0) -> 5.6153846 | H47: =J47*3+K47 -> 7 | I47: =H47/E47 -> 0.53846154 | J47: =VLOOKUP($B47,'A (tt>10)'!$B:$M,7,0) -> 2 | K47: =VLOOKUP($B47,'A (tt>10)'!$B:$M,10,0) -> 1 | M47: =LOWER(IF(ISNA(VLOOKUP($B47,'A conf old'!$B:$AH,3,0)),"",VLOOKUP($B47,'A conf old'!$B:$AH,3,0))) -> int | N47: =IF(ISNA(VLOOKUP($B47,'A conf old'!$B:$AH,3,0)),"",VLOOKUP($B47,'A conf old'!$B:$AH,4,0)) -> 19 | O47: =IF(ISNA(VLOOKUP($B47,'A conf old'!$B:$AH,3,0)),"",VLOOKUP($B47,'A conf old'!$B:$AH,5,0)) -> 7.53 | P47: =IF(ISNA(VLOOKUP($B47,'A conf old'!$B:$AH,3,0)),"",VLOOKUP($B47,'A conf old'!$B:$AH,6,0)) -> 5.95 | Q47: =S47*3+T47 -> 30 | R47: =Q47/N47 -> 1.5789474 | S47: =IF(ISNA(VLOOKUP($B47,'A conf old'!$B:$AH,3,0)),"",VLOOKUP($B47,'A conf old'!$B:$AH,9,0)) -> 9 | T47: =IF(ISNA(VLOOKUP($B47,'A conf old'!$B:$AH,3,0)),"",VLOOKUP($B47,'A conf old'!$B:$AH,10,0)) -> 3 | V47: =LOWER(IF(ISNA(VLOOKUP($B47,'A conf old'!$B:$AH,12,0)),"",VLOOKUP($B47,'A conf old'!$B:$AH,12,0))) -> int | W47: =IF(ISNA(VLOOKUP($B47,'A conf old'!$B:$AH,3,0)),"",VLOOKUP($B47,'A conf old'!$B:$AH,13,0)) -> 32 | X47: =IF(ISNA(VLOOKUP($B47,'A conf old'!$B:$AH,3,0)),"",VLOOKUP($B47,'A conf old'!$B:$AH,14,0)) -> 8.11 | Y47: =IF(ISNA(VLOOKUP($B47,'A conf old'!$B:$AH,3,0)),"",VLOOKUP($B47,'A conf old'!$B:$AH,15,0)) -> 6.02 | Z47: =AB47*3+AC47 -> 74 | AA47: =Z47/W47 -> 2.3125 | AB47: =IF(ISNA(VLOOKUP($B47,'A conf old'!$B:$AH,3,0)),"",VLOOKUP($B47,'A conf old'!$B:$AH,18,0)) -> 24 | AC47: =IF(ISNA(VLOOKUP($B47,'A conf old'!$B:$AH,3,0)),"",VLOOKUP($B47,'A conf old'!$B:$AH,19,0)) -> 2 | AE47: =LOWER(IF(ISNA(VLOOKUP($B47,'A conf old'!$B:$AH,21,0)),"",VLOOKUP($B47,'A conf old'!$B:$AH,21,0))) -> int | AF47: =IF(ISNA(VLOOKUP($B47,'A conf old'!$B:$AH,3,0)),"",VLOOKUP($B47,'A conf old'!$B:$AH,22,0)) -> 23 | AG47: =IF(ISNA(VLOOKUP($B47,'A conf old'!$B:$AH,3,0)),"",VLOOKUP($B47,'A conf old'!$B:$AH,23,0)) -> 6.26 | AH47: =IF(ISNA(VLOOKUP($B47,'A conf old'!$B:$AH,3,0)),"",VLOOKUP($B47,'A conf old'!$B:$AH,24,0)) -> 5.54 | AI47: =AK47*3+AL47 -> 17 | AJ47: =AI47/AF47 -> 0.73913043 | AK47: =IF(ISNA(VLOOKUP($B47,'A conf old'!$B:$AH,3,0)),"",VLOOKUP($B47,'A conf old'!$B:$AH,27,0)) -> 5 | AL47: =IF(ISNA(VLOOKUP($B47,'A conf old'!$B:$AH,3,0)),"",VLOOKUP($B47,'A conf old'!$B:$AH,28,0)) -> 2

Sheet A conf old
F1: 2012-2013 | O1: 2011-2012 | X1: 2010-2011
B2: Calciatore | C2: i | D2: Squadr | E2: Gare | F2: FM | G2: MV | H2: Bonus | I2: B/G | J2: Gol | K2: Ass | L2: i | M2: Squadr | N2: Gare | O2: FM | P2: MV | Q2: Bonus | R2: B/G | S2: Gol | T2: Ass | U2: i | V2: Squadr | W2: Gare | X2: FM | Y2: MV | Z2: Bonus | AA2: B/G | AB2: Gol | AC2: Ass | AD2: i
B3: Balotelli | D3: Mil | E3: 13 | F3: 9 | G3: 6.46 | H3: =J3*3+K3 -> 36 | I3: =H3/E3 -> 2.7692308 | J3: 12
B4: Cavani | D4: Nap | E4: 34 | F4: 8.63 | G4: 6.41 | H4: =J4*3+K4 -> 88 | I4: =H4/E4 -> 2.5882353 | J4: 29 | K4: 1 | M4: Nap | N4: 35 | O4: 7.79 | P4: 6.07 | Q4: =S4*3+T4 -> 71 | R4: =Q4/N4 -> 2.0285714 | S4: 23 | T4: 2 | V4: Nap | W4: 35 | X4: 8.53 | Y4: 6.47 | Z4: =AB4*3+AC4 -> 81 | AA4: =Z4/W4 -> 2.3142857 | AB4: 26 | AC4: 3
B5: Di Natale | D5: Udi | E5: 33 | F5: 8.26 | G5: 6.29 | H5: =J5*3+K5 -> 73 | I5: =H5/E5 -> 2.2121212 | J5: 23 | K5: 4 | M5: Udi | N5: 36 | O5: 8.43 | P5: 6.46 | Q5: =S5*3+T5 -> 75 | R5: =Q5/N5 -> 2.0833333 | S5: 23 | T5: 6 | V5: Udi | W5: 36 | X5: 8.71 | Y5: 6.42 | Z5: =AB5*3+AC5 -> 90 | AA5: =Z5/W5 -> 2.5 | AB5: 28 | AC5: 6
B6: Muriel | D6: Udi | E6: 22 | F6: 7.77 | G6: 6.25 | H6: =J6*3+K6 -> 36 | I6: =H6/E6 -> 1.6363636 | J6: 11 | K6: 3 | M6: Lec | N6: 29 | O6: 6.66 | P6: 5.91 | Q6: =S6*3+T6 -> 24 | R6: =Q6/N6 -> 0.82758621 | S6: 7 | T6: 3
B7: Totti | D7: Rom | E7: 34 | F7: 7.74 | G7: 6.56 | H7: =J7*3+K7 -> 47 | I7: =H7/E7 -> 1.3823529 | J7: 12 | K7: 11 | M7: Rom | N7: 27 | O7: 7.13 | P7: 6.37 | Q7: =S7*3+T7 -> 30 | R7: =Q7/N7 -> 1.1111111 | S7: 8 | T7: 6 | V7: Rom | W7: 30 | X7: 7.73 | Y7: 6.33 | Z7: =AB7*3+AC7 -> 52 | AA7: =Z7/W7 -> 1.7333333 | AB7: 15 | AC7: 7
B8: Pazzini | D8: Mil | E8: 27 | F8: 7.74 | G8: 6.17 | H8: =J8*3+K8 -> 46 | I8: =H8/E8 -> 1.7037037 | J8: 15 | K8: 1 | M8: Int | N8: 33 | O8: 5.94 | P8: 5.56 | Q8: =S8*3+T8 -> 16 | R8: =Q8/N8 -> 0.48484848 | S8: 5 | T8: 1 | V8: Int | W8: 36 | X8: 7.4 | Y8: 6.03 | Z8: =AB8*3+AC8 -> 51 | AA8: =Z8/W8 -> 1.4166667 | AB8: 17
B9: Palacio | D9: Int | E9: 26 | F9: 7.62 | G9: 6.1 | H9: =J9*3+K9 -> 41 | I9: =H9/E9 -> 1.5769231 | J9: 12 | K9: 5 | M9: Gen | N9: 32 | O9: 7.97 | P9: 6.34 | Q9: =S9*3+T9 -> 59 | R9: =Q9/N9 -> 1.84375 | S9: 18 | T9: 5 | V9: Gen | W9: 27 | X9: 7.52 | Y9: 6.33 | Z9: =AB9*3+AC9 -> 34 | AA9: =Z9/W9 -> 1.2592593 | AB9: 9 | AC9: 7
B10: Klose | D10: Laz | E10: 29 | F10: 7.62 | G10: 6.16 | H10: =J10*3+K10 -> 45 | I10: =H10/E10 -> 1.5517241 | J10: 15 | M10: Laz | N10: 27 | O10: 7.72 | P10: 6.19 | Q10: =S10*3+T10 -> 42 | R10: =Q10/N10 -> 1.5555556 | S10: 13 | T10: 3
B11: El Shaarawy | D11: Mil | E11: 37 | F11: 7.54 | G11: 6.23 | H11: =J11*3+K11 -> 50 | I11: =H11/E11 -> 1.3513514 | J11: 16 | K11: 2 | M11: Mil | N11: 15 | O11: 6.57 | P11: 6.1 | Q11: =S11*3+T11 -> 7 | R11: =Q11/N11 -> 0.46666667 | S11: 2 | T11: 1
B12: Milito | D12: Int | E12: 19 | F12: 7.53 | G12: 5.95 | H12: =J12*3+K12 -> 30 | I12: =H12/E12 -> 1.5789474 | J12: 9 | K12: 3 | M12: Int | N12: 32 | O12: 8.11 | P12: 6.02 | Q12: =S12*3+T12 -> 74 | R12: =Q12/N12 -> 2.3125 | S12: 24 | T12: 2 | V12: Int | W12: 23 | X12: 6.26 | Y12: 5.54 | Z12: =AB12*3+AC12 -> 17 | AA12: =Z12/W12 -> 0.73913043 | AB12: 5 | AC12: 2
B13: Osvaldo | D13: Rom | E13: 29 | F13: 7.5 | G13: 6 | H13: =J13*3+K13 -> 50 | I13: =H13/E13 -> 1.7241379 | J13: 16 | K13: 2 | M13: Rom | N13: 26 | O13: 7.06 | P13: 5.85 | Q13: =S13*3+T13 -> 35 | R13: =Q13/N13 -> 1.3461538 | S13: 11 | T13: 2
B14: Sau | D14: Cag | E14: 29 | F14: 7.45 | G14: 6.22 | H14: =J14*3+K14 -> 37 | I14: =H14/E14 -> 1.2758621 | J14: 12 | K14: 1
B15: Jovetic | D15: Fio | E15: 31 | F15: 7.42 | G15: 6.18 | H15: =J15*3+K15 -> 43 | I15: =H15/E15 -> 1.3870968 | J15: 13 | K15: 4 | M15: Fio | N15: 27 | O15: 7.72 | P15: 6.22 | Q15: =S15*3+T15 -> 45 | R15: =Q15/N15 -> 1.6666667 | S15: 14 | T15: 3
B16: Quagliarella | D16: Juv | E16: 22 | F16: 7.41 | G16: 6.05 | H16: =J16*3+K16 -> 30 | I16: =H16/E16 -> 1.3636364 | J16: 9 | K16: 3 | M16: Juv | N16: 19 | O16: 6.47 | P16: 5.95 | Q16: =S16*3+T16 -> 12 | R16: =Q16/N16 -> 0.63157895 | S16: 4 | V16: Juv | W16: 16 | X16: 7.91 | Y16: 6.22 | Z16: =AB16*3+AC16 -> 27 | AA16: =Z16/W16 -> 1.6875 | AB16: 9
B17: Bergessio | D17: Cat | E17: 32 | F17: 7.41 | G17: 6.2 | H17: =J17*3+K17 -> 45 | I17: =H17/E17 -> 1.40625 | J17: 13 | K17: 6 | M17: Cat | N17: 34 | O17: 6.56 | P17: 5.94 | Q17: =S17*3+T17 -> 22 | R17: =Q17/N17 -> 0.64705882 | S17: 7 | T17: 1 | V17: Cat | W17: 13 | X17: 7 | Y17: 5.85 | Z17: =AB17*3+AC17 -> 16 | AA17: =Z17/W17 -> 1.2307692 | AB17: 5 | AC17: 1
B18: Emeghara | D18: Sie | E18: 17 | F18: 7.35 | G18: 6.21 | H18: =J18*3+K18 -> 21 | I18: =H18/E18 -> 1.2352941 | J18: 7
B19: Matri | D19: Juv | E19: 18 | F19: 7.25 | G19: 6 | H19: =J19*3+K19 -> 24 | I19: =H19/E19 -> 1.3333333 | J19: 8 | M19: Juv | N19: 30 | O19: 6.93 | P19: 5.87 | Q19: =S19*3+T19 -> 34 | R19: =Q19/N19 -> 1.1333333 | S19: 10 | T19: 4 | V19: Juv | W19: 38 | X19: 7.51 | Y19: 5.95 | Z19: =AB19*3+AC19 -> 61 | AA19: =Z19/W19 -> 1.6052632 | AB19: 20 | AC19: 1
B20: Cassano | D20: Int | E20: 28 | F20: 7.23 | G20: 6.13 | H20: =J20*3+K20 -> 31 | I20: =H20/E20 -> 1.1071429 | J20: 8 | K20: 7 | M20: Mil | N20: 15 | O20: 7.4 | P20: 6.3 | Q20: =S20*3+T20 -> 17 | R20: =Q20/N20 -> 1.1333333 | S20: 3 | T20: 8 | V20: Mil | W20: 24 | X20: 7.21 | Y20: 6.02 | Z20: =AB20*3+AC20 -> 30 | AA20: =Z20/W20 -> 1.25 | AB20: 8 | AC20: 6
B21: Denis | D21: Ata | E21: 36 | F21: 7.19 | G21: 5.93 | H21: =J21*3+K21 -> 48 | I21: =H21/E21 -> 1.3333333 | J21: 15 | K21: 3 | M21: Ata | N21: 33 | O21: 7.55 | P21: 6.21 | Q21: =S21*3+T21 -> 50 | R21: =Q21/N21 -> 1.5151515 | S21: 16 | T21: 2 | V21: Udi | W21: 22 | X21: 6.32 | Y21: 5.7 | Z21: =AB21*3+AC21 -> 14 | AA21: =Z21/W21 -> 0.63636364 | AB21: 4 | AC21: 2
B22: Borriello | D22: Gen | E22: 28 | F22: 7.14 | G22: 6.11 | H22: =J22*3+K22 -> 37 | I22: =H22/E22 -> 1.3214286 | J22: 12 | K22: 1 | M22: Juv | N22: 15 | O22: 6.47 | P22: 5.9 | Q22: =S22*3+T22 -> 9 | R22: =Q22/N22 -> 0.6 | S22: 2 | T22: 3 | V22: Rom | W22: 34 | X22: 7.12 | Y22: 6.12 | Z22: =AB22*3+AC22 -> 35 | AA22: =Z22/W22 -> 1.0294118 | AB22: 11 | AC22: 2
B23: Miccoli | D23: Pal | E23: 27 | F23: 7.13 | G23: 6.11 | H23: =J23*3+K23 -> 31 | I23: =H23/E23 -> 1.1481481 | J23: 8 | K23: 7 | M23: Pal | N23: 27 | O23: 8.31 | P23: 6.24 | Q23: =S23*3+T23 -> 59 | R23: =Q23/N23 -> 2.1851852 | S23: 16 | T23: 11 | V23: Pal | W23: 19 | X23: 7.55 | Y23: 6.18 | Z23: =AB23*3+AC23 -> 29 | AA23: =Z23/W23 -> 1.5263158 | AB23: 9 | AC23: 2
B24: Vucinic | D24: Juv | E24: 31 | F24: 7.1 | G24: 6.02 | H24: =J24*3+K24 -> 36 | I24: =H24/E24 -> 1.1612903 | J24: 10 | K24: 6 | M24: Juv | N24: 32 | O24: 7.16 | P24: 6.23 | Q24: =S24*3+T24 -> 31 | R24: =Q24/N24 -> 0.96875 | S24: 8 | T24: 7 | V24: Rom | W24: 28 | X24: 6.91 | Y24: 5.88 | Z24: =AB24*3+AC24 -> 31 | AA24: =Z24/W24 -> 1.1071429 | AB24: 10 | AC24: 1
B25: Amauri | D25: Par | E25: 32 | F25: 7 | G25: 6.08 | H25: =J25*3+K25 -> 31 | I25: =H25/E25 -> 0.96875 | J25: 10 | K25: 1 | M25: Fio | N25: 13 | O25: 5.65 | P25: 5.58 | Q25: =S25*3+T25 -> 3 | R25: =Q25/N25 -> 0.23076923 | S25: 1 | V25: Par | W25: 18 | X25: 7.06 | Y25: 5.94 | Z25: =AB25*3+AC25 -> 21 | AA25: =Z25/W25 -> 1.1666667 | AB25: 7
B26: Thereau | D26: Chi | E26: 37 | F26: 7 | G26: 6.07 | H26: =J26*3+K26 -> 36 | I26: =H26/E26 -> 0.97297297 | J26: 11 | K26: 3 | M26: Chi | N26: 31 | O26: 6.48 | P26: 5.98 | Q26: =S26*3+T26 -> 20 | R26: =Q26/N26 -> 0.64516129 | S26: 6 | T26: 2 | V26: Chi | W26: 21 | X26: 6.1 | Y26: 5.83 | Z26: =AB26*3+AC26 -> 6 | AA26: =Z26/W26 -> 0.28571429 | AB26: 2
B27: Paloschi | D27: Chi | E27: 18 | F27: 6.97 | G27: 5.83 | H27: =J27*3+K27 -> 21 | I27: =H27/E27 -> 1.1666667 | J27: 7 | M27: Chi | N27: 29 | O27: 6.52 | P27: 5.91 | Q27: =S27*3+T27 -> 18 | R27: =Q27/N27 -> 0.62068966 | S27: 5 | T27: 3 | V27: Gen | W27: 11 | X27: 6.36 | Y27: 5.82 | Z27: =AB27*3+AC27 -> 6 | AA27: =Z27/W27 -> 0.54545455 | AB27: 2
B28: Gilardino | D28: Bol | E28: 36 | F28: 6.94 | G28: 5.9 | H28: =J28*3+K28 -> 39 | I28: =H28/E28 -> 1.0833333 | J28: 13 | M28: Gen | N28: 25 | O28: 6.5 | P28: 5.74 | Q28: =S28*3+T28 -> 21 | R28: =Q28/N28 -> 0.84 | S28: 6 | T28: 3 | V28: Fio | W28: 35 | X28: 6.84 | Y28: 5.77 | Z28: =AB28*3+AC28 -> 39 | AA28: =Z28/W28 -> 1.1142857 | AB28: 12 | AC28: 3
B29: Eder | D29: Sam | E29: 30 | F29: 6.93 | G29: 6.18 | H29: =J29*3+K29 -> 25 | I29: =H29/E29 -> 0.83333333 | J29: 7 | K29: 4 | M29: Ces | N29: 16 | O29: 5.91 | P29: 5.56 | Q29: =S29*3+T29 -> 7 | R29: =Q29/N29 -> 0.4375 | S29: 2 | T29: 1 | V29: Bre | W29: 34 | X29: 6.31 | Y29: 5.82 | Z29: =AB29*3+AC29 -> 19 | AA29: =Z29/W29 -> 0.55882353 | AB29: 6 | AC29: 1
B30: Toni | D30: Fio | E30: 26 | F30: 6.85 | G30: 5.94 | H30: =J30*3+K30 -> 25 | I30: =H30/E30 -> 0.96153846 | J30: 8 | K30: 1 | V30: Juv | W30: 30 | X30: 6.2 | Y30: 5.7 | Z30: =AB30*3+AC30 -> 16 | AA30: =Z30/W30 -> 0.53333333 | AB30: 5 | AC30: 1
B31: Sansone N. | D31: Par | E31: 22 | F31: 6.84 | G31: 6 | H31: =J31*3+K31 -> 20 | I31: =H31/E31 -> 0.90909091 | J31: 6 | K31: 2
B32: Icardi | D32: Sam | E32: 29 | F32: 6.81 | G32: 5.79 | H32: =J32*3+K32 -> 31 | I32: =H32/E32 -> 1.0689655 | J32: 10 | K32: 1
B33: Bianchi | D33: Tor | E33: 32 | F33: 6.78 | G33: 5.91 | H33: =J33*3+K33 -> 34 | I33: =H33/E33 -> 1.0625 | J33: 11 | K33: 1
B34: Ibarbo | D34: Cag | E34: 32 | F34: 6.77 | G34: 6.19 | H34: =J34*3+K34 -> 19 | I34: =H34/E34 -> 0.59375 | J34: 6 | K34: 1 | M34: Cag | N34: 35 | O34: 6.3 | P34: 5.94 | Q34: =S34*3+T34 -> 13 | R34: =Q34/N34 -> 0.37142857 | S34: 3 | T34: 4
B35: Pandev | D35: Nap | E35: 32 | F35: 6.69 | G35: 5.95 | H35: =J35*3+K35 -> 25 | I35: =H35/E35 -> 0.78125 | J35: 6 | K35: 7 | M35: Nap | N35: 27 | O35: 6.74 | P35: 5.98 | Q35: =S35*3+T35 -> 22 | R35: =Q35/N35 -> 0.81481481 | S35: 6 | T35: 4 | V35: Int | W35: 26 | X35: 5.67 | Y35: 5.4 | Z35: =AB35*3+AC35 -> 8 | AA35: =Z35/W35 -> 0.30769231 | AB35: 2 | AC35: 2
B36: Giovinco | D36: Juv | E36: 30 | F36: 6.65 | G36: 5.83 | H36: =J36*3+K36 -> 26 | I36: =H36/E36 -> 0.86666667 | J36: 7 | K36: 5 | M36: Par | N36: 36 | O36: 7.86 | P36: 6.49 | Q36: =S36*3+T36 -> 55 | R36: =Q36/N36 -> 1.5277778 | S36: 15 | T36: 10 | V36: Par | W36: 29 | X36: 7.17 | Y36: 6.43 | Z36: =AB36*3+AC36 -> 24 | AA36: =Z36/W36 -> 0.82758621 | AB36: 7 | AC36: 3
B37: Belfodil | D37: Par | E37: 31 | F37: 6.65 | G37: 5.92 | H37: =J37*3+K37 -> 27 | I37: =H37/E37 -> 0.87096774 | J37: 8 | K37: 3 | M37: Bol | N37: 5 | O37: 5.8 | P37: 5.9 | Q37: =S37*3+T37 -> 0 | R37: =Q37/N37 -> 0
B38: Destro | D38: Rom | E38: 18 | F38: 6.56 | G38: 5.69 | H38: =J38*3+K38 -> 19 | I38: =H38/E38 -> 1.0555556 | J38: 6 | K38: 1 | M38: Sie | N38: 28 | O38: 7.45 | P38: 6.16 | Q38: =S38*3+T38 -> 38 | R38: =Q38/N38 -> 1.3571429 | S38: 12 | T38: 2 | V38: Gen | W38: 14 | X38: 6.21 | Y38: 5.86 | Z38: =AB38*3+AC38 -> 7 | AA38: =Z38/W38 -> 0.5 | AB38: 2 | AC38: 1
B39: Insigne | D39: Nap | E39: 34 | F39: 6.51 | G39: 6.01 | H39: =J39*3+K39 -> 19 | I39: =H39/E39 -> 0.55882353 | J39: 5 | K39: 4
B40: Pinilla | D40: Cag | E40: 23 | F40: 6.46 | G40: 5.89 | H40: =J40*3+K40 -> 21 | I40: =H40/E40 -> 0.91304348 | J40: 7 | M40: Cag | N40: 26 | O40: 6.98 | P40: 5.92 | Q40: =S40*3+T40 -> 31 | R40: =Q40/N40 -> 1.1923077 | S40: 10 | T40: 1 | V40: Pal | W40: 19 | X40: 7.68 | Y40: 6.32 | Z40: =AB40*3+AC40 -> 27 | AA40: =Z40/W40 -> 1.4210526 | AB40: 8 | AC40: 3
B41: Gabbiadini | D41: Bol | E41: 28 | F41: 6.38 | G41: 5.84 | H41: =J41*3+K41 -> 19 | I41: =H41/E41 -> 0.67857143 | J41: 6 | K41: 1 | M41: Ata | N41: 16 | O41: 6.13 | P41: 5.88 | Q41: =S41*3+T41 -> 4 | R41: =Q41/N41 -> 0.25 | S41: 1 | T41: 1
B42: Immobile | D42: Gen | E42: 29 | F42: 6.12 | G42: 5.59 | H42: =J42*3+K42 -> 18 | I42: =H42/E42 -> 0.62068966 | J42: 5 | K42: 3

Sheet C (tt>10)
B1: 2013-2014
B2: Calciatore | C2: Squadra | D2: Gare | E2: FM | F2: MV | G2: Bonus a Gara | H2: Gol | I2: Rigori + - | K2: Assist | L2: Gialli | M2: Rossi
B3: CUADRADO | C3: =LEFT(O3,3) -> fio | D3: =VLOOKUP($B3,'[1]stat gazz 13-14'!$A:$Z,4,0) -> 32 | E3: =VLOOKUP($B3,'[1]stat gazz 13-14'!$A:$Z,7,0) -> 7.359375 | F3: =VLOOKUP($B3,'[1]stat gazz 13-14'!$A:$Z,5,0) -> 6.359375 | G3: =(H3*3-J3*3+K3-L3*0.5-M3)/D3 -> 1 | H3: =VLOOKUP($B3,'[1]stat gazz 13-14'!$A:$Z,9,0) -> 11 | I3: =VLOOKUP($B3,'[1]stat gazz 13-14'!$A:$Z,15,0) -> 0 | J3: =VLOOKUP($B3,'[1]stat gazz 13-14'!$A:$Z,16,0) -> 0 | K3: =VLOOKUP($B3,'[1]stat gazz 13-14'!$A:$Z,12,0) -> 4 | L3: =VLOOKUP($B3,'[1]stat gazz 13-14'!$A:$Z,13,0) -> 8 | M3: =VLOOKUP($B3,'[1]stat gazz 13-14'!$A:$Z,14,0) -> 1 | O3: =VLOOKUP($B3,'[1]stat gazz 13-14'!$A:$Z,3,0) -> fiorentina
B4: CANDREVA | C4: =LEFT(O4,3) -> laz | D4: =VLOOKUP($B4,'[1]stat gazz 13-14'!$A:$Z,4,0) -> 37 | E4: =VLOOKUP($B4,'[1]stat gazz 13-14'!$A:$Z,7,0) -> 7.3513514 | F4: =VLOOKUP($B4,'[1]stat gazz 13-14'!$A:$Z,5,0) -> 6.3108108 | G4: =(H4*3-J4*3+K4-L4*0.5-M4)/D4 -> 1.0405405 | H4: =VLOOKUP($B4,'[1]stat gazz 13-14'!$A:$Z,9,0) -> 12 | I4: =VLOOKUP($B4,'[1]stat gazz 13-14'!$A:$Z,15,0) -> 6 | J4: =VLOOKUP($B4,'[1]stat gazz 13-14'!$A:$Z,16,0) -> 0 | K4: =VLOOKUP($B4,'[1]stat gazz 13-14'!$A:$Z,12,0) -> 5 | L4: =VLOOKUP($B4,'[1]stat gazz 13-14'!$A:$Z,13,0) -> 3 | M4: =VLOOKUP($B4,'[1]stat gazz 13-14'!$A:$Z,14,0) -> 1 | O4: =VLOOKUP($B4,'[1]stat gazz 13-14'!$A:$Z,3,0) -> lazio
B5: CERCI | C5: =LEFT(O5,3) -> tor | D5: =VLOOKUP($B5,'[1]stat gazz 13-14'!$A:$Z,4,0) -> 37 | E5: =VLOOKUP($B5,'[1]stat gazz 13-14'!$A:$Z,7,0) -> 7.3108108 | F5: =VLOOKUP($B5,'[1]stat gazz 13-14'!$A:$Z,5,0) -> 6.2297297 | G5: =(H5*3-J5*3+K5-L5*0.5-M5)/D5 -> 1.0810811 | H5: =VLOOKUP($B5,'[1]stat gazz 13-14'!$A:$Z,9,0) -> 13 | I5: =VLOOKUP($B5,'[1]stat gazz 13-14'!$A:$Z,15,0) -> 5 | J5: =VLOOKUP($B5,'[1]stat gazz 13-14'!$A:$Z,16,0) -> 2 | K5: =VLOOKUP($B5,'[1]stat gazz 13-14'!$A:$Z,12,0) -> 9 | L5: =VLOOKUP($B5,'[1]stat gazz 13-14'!$A:$Z,13,0) -> 4 | M5: =VLOOKUP($B5,'[1]stat gazz 13-14'!$A:$Z,14,0) -> 0 | O5: =VLOOKUP($B5,'[1]stat gazz 13-14'!$A:$Z,3,0) -> torino
B6: POGBA | C6: =LEFT(O6,3) -> juv | D6: =VLOOKUP($B6,'[1]stat gazz 13-14'!$A:$Z,4,0) -> 36 | E6: =VLOOKUP($B6,'[1]stat gazz 13-14'!$A:$Z,7,0) -> 7.1805556 | F6: =VLOOKUP($B6,'[1]stat gazz 13-14'!$A:$Z,5,0) -> 6.4861111 | G6: =(H6*3-J6*3+K6-L6*0.5-M6)/D6 -> 0.69444444 | H6: =VLOOKUP($B6,'[1]stat gazz 13-14'!$A:$Z,9,0) -> 7 | I6: =VLOOKUP($B6,'[1]stat gazz 13-14'!$A:$Z,15,0) -> 0 | J6: =VLOOKUP($B6,'[1]stat gazz 13-14'!$A:$Z,16,0) -> 0 | K6: =VLOOKUP($B6,'[1]stat gazz 13-14'!$A:$Z,12,0) -> 6 | L6: =VLOOKUP($B6,'[1]stat gazz 13-14'!$A:$Z,13,0) -> 4 | M6: =VLOOKUP($B6,'[1]stat gazz 13-14'!$A:$Z,14,0) -> 0 | O6: =VLOOKUP($B6,'[1]stat gazz 13-14'!$A:$Z,3,0) -> juventus
B7: VIDAL | C7: =LEFT(O7,3) -> juv | D7: =VLOOKUP($B7,'[1]stat gazz 13-14'!$A:$Z,4,0) -> 29 | E7: =VLOOKUP($B7,'[1]stat gazz 13-14'!$A:$Z,7,0) -> 7.137931 | F7: =VLOOKUP($B7,'[1]stat gazz 13-14'!$A:$Z,5,0) -> 6.1034483 | G7: =(H7*3-J7*3+K7-L7*0.5-M7)/D7 -> 1.0344828 | H7: =VLOOKUP($B7,'[1]stat gazz 13-14'!$A:$Z,9,0) -> 11 | I7: =VLOOKUP($B7,'[1]stat gazz 13-14'!$A:$Z,15,0) -> 2 | J7: =VLOOKUP($B7,'[1]stat gazz 13-14'!$A:$Z,16,0) -> 0 | K7: =VLOOKUP($B7,'[1]stat gazz 13-14'!$A:$Z,12,0) -> 1 | L7: =VLOOKUP($B7,'[1]stat gazz 13-14'!$A:$Z,13,0) -> 8 | M7: =VLOOKUP($B7,'[1]stat gazz 13-14'!$A:$Z,14,0) -> 0 | O7: =VLOOKUP($B7,'[1]stat gazz 13-14'!$A:$Z,3,0) -> juventus
B8: STROOTMAN | C8: =LEFT(O8,3) -> rom | D8: =VLOOKUP($B8,'[1]stat gazz 13-14'!$A:$Z,4,0) -> 24 | E8: =VLOOKUP($B8,'[1]stat gazz 13-14'!$A:$Z,7,0) -> 7.1041667 | F8: =VLOOKUP($B8,'[1]stat gazz 13-14'!$A:$Z,5,0) -> 6.4375 | G8: =(H8*3-J8*3+K8-L8*0.5-M8)/D8 -> 0.66666667 | H8: =VLOOKUP($B8,'[1]stat gazz 13-14'!$A:$Z,9,0) -> 5 | I8: =VLOOKUP($B8,'[1]stat gazz 13-14'!$A:$Z,15,0) -> 2 | J8: =VLOOKUP($B8,'[1]stat gazz 13-14'!$A:$Z,16,0) -> 0 | K8: =VLOOKUP($B8,'[1]stat gazz 13-14'!$A:$Z,12,0) -> 4 | L8: =VLOOKUP($B8,'[1]stat gazz 13-14'!$A:$Z,13,0) -> 6 | M8: =VLOOKUP($B8,'[1]stat gazz 13-14'!$A:$Z,14,0) -> 0 | O8: =VLOOKUP($B8,'[1]stat gazz 13-14'!$A:$Z,3,0) -> roma
B9: ROMULO | C9: =LEFT(O9,3) -> ver | D9: =VLOOKUP($B9,'[1]stat gazz 13-14'!$A:$Z,4,0) -> 32 | E9: =VLOOKUP($B9,'[1]stat gazz 13-14'!$A:$Z,7,0) -> 7.03125 | F9: =VLOOKUP($B9,'[1]stat gazz 13-14'!$A:$Z,5,0) -> 6.28125 | G9: =(H9*3-J9*3+K9-L9*0.5-M9)/D9 -> 0.75 | H9: =VLOOKUP($B9,'[1]stat gazz 13-14'!$A:$Z,9,0) -> 6 | I9: =VLOOKUP($B9,'[1]stat gazz 13-14'!$A:$Z,15,0) -> 0 | J9: =VLOOKUP($B9,'[1]stat gazz 13-14'!$A:$Z,16,0) -> 0 | K9: =VLOOKUP($B9,'[1]stat gazz 13-14'!$A:$Z,12,0) -> 8 | L9: =VLOOKUP($B9,'[1]stat gazz 13-14'!$A:$Z,13,0) -> 4 | M9: =VLOOKUP($B9,'[1]stat gazz 13-14'!$A:$Z,14,0) -> 0 | O9: =VLOOKUP($B9,'[1]stat gazz 13-14'!$A:$Z,3,0) -> verona
B10: BORJA VALERO | C10: =LEFT(O10,3) -> fio | D10: =VLOOKUP($B10,'[1]stat gazz 13-14'!$A:$Z,4,0) -> 32 | E10: =VLOOKUP($B10,'[1]stat gazz 13-14'!$A:$Z,7,0) -> 7 | F10: =VLOOKUP($B10,'[1]stat gazz 13-14'!$A:$Z,5,0) -> 6.328125 | G10: =(H10*3-J10*3+K10-L10*0.5-M10)/D10 -> 0.671875 | H10: =VLOOKUP($B10,'[1]stat gazz 13-14'!$A:$Z,9,0) -> 6 | I10: =VLOOKUP($B10,'[1]stat gazz 13-14'!$A:$Z,15,0) -> 0 | J10: =VLOOKUP($B10,'[1]stat gazz 13-14'!$A:$Z,16,0) -> 0 | K10: =VLOOKUP($B10,'[1]stat gazz 13-14'!$A:$Z,12,0) -> 7 | L10: =VLOOKUP($B10,'[1]stat gazz 13-14'!$A:$Z,13,0) -> 5 | M10: =VLOOKUP($B10,'[1]stat gazz 13-14'!$A:$Z,14,0) -> 1 | O10: =VLOOKUP($B10,'[1]stat gazz 13-14'!$A:$Z,3,0) -> fiorentina
B11: TAARABT | C11: =LEFT(O11,3) -> mil | D11: =VLOOKUP($B11,'[1]stat gazz 13-14'!$A:$Z,4,0) -> 14 | E11: =VLOOKUP($B11,'[1]stat gazz 13-14'!$A:$Z,7,0) -> 6.9642857 | F11: =VLOOKUP($B11,'[1]stat gazz 13-14'!$A:$Z,5,0) -> 6.2142857 | G11: =(H11*3-J11*3+K11-L11*0.5-M11)/D11 -> 0.75 | H11: =VLOOKUP($B11,'[1]stat gazz 13-14'!$A:$Z,9,0) -> 4 | I11: =VLOOKUP($B11,'[1]stat gazz 13-14'!$A:$Z,15,0) -> 0 | J11: =VLOOKUP($B11,'[1]stat gazz 13-14'!$A:$Z,16,0) -> 0 | K11: =VLOOKUP($B11,'[1]stat gazz 13-14'!$A:$Z,12,0) -> 0 | L11: =VLOOKUP($B11,'[1]stat gazz 13-14'!$A:$Z,13,0) -> 3 | M11: =VLOOKUP($B11,'[1]stat gazz 13-14'!$A:$Z,14,0) -> 0 | O11: =VLOOKUP($B11,'[1]stat gazz 13-14'!$A:$Z,3,0) -> milan
B12: MAURI S. | C12: =LEFT(O12,3) -> laz | D12: =VLOOKUP($B12,'[1]stat gazz 13-14'!$A:$Z,4,0) -> 10 | E12: =VLOOKUP($B12,'[1]stat gazz 13-14'!$A:$Z,7,0) -> 6.95 | F12: =VLOOKUP($B12,'[1]stat gazz 13-14'!$A:$Z,5,0) -> 6 | G12: =(H12*3-J12*3+K12-L12*0.5-M12)/D12 -> 0.95 | H12: =VLOOKUP($B12,'[1]stat gazz 13-14'!$A:$Z,9,0) -> 4 | I12: =VLOOKUP($B12,'[1]stat gazz 13-14'!$A:$Z,15,0) -> 0 | J12: =VLOOKUP($B12,'[1]stat gazz 13-14'!$A:$Z,16,0) -> 1 | K12: =VLOOKUP($B12,'[1]stat gazz 13-14'!$A:$Z,12,0) -> 1 | L12: =VLOOKUP($B12,'[1]stat gazz 13-14'!$A:$Z,13,0) -> 1 | M12: =VLOOKUP($B12,'[1]stat gazz 13-14'!$A:$Z,14,0) -> 0 | O12: =VLOOKUP($B12,'[1]stat gazz 13-14'!$A:$Z,3,0) -> lazio
B13: PJANIC | C13: =LEFT(O13,3) -> rom | D13: =VLOOKUP($B13,'[1]stat gazz 13-14'!$A:$Z,4,0) -> 35 | E13: =VLOOKUP($B13,'[1]stat gazz 13-14'!$A:$Z,7,0) -> 6.9142857 | F13: =VLOOKUP($B13,'[1]stat gazz 13-14'!$A:$Z,5,0) -> 6.5285714 | G13: =(H13*3-J13*3+K13-L13*0.5-M13)/D13 -> 0.38571429 | H13: =VLOOKUP($B13,'[1]stat gazz 13-14'!$A:$Z,9,0) -> 5 | I13: =VLOOKUP($B13,'[1]stat gazz 13-14'!$A:$Z,15,0) -> 1 | J13: =VLOOKUP($B13,'[1]stat gazz 13-14'!$A:$Z,16,0) -> 0 | K13: =VLOOKUP($B13,'[1]stat gazz 13-14'!$A:$Z,12,0) -> 3 | L13: =VLOOKUP($B13,'[1]stat gazz 13-14'!$A:$Z,13,0) -> 7 | M13: =VLOOKUP($B13,'[1]stat gazz 13-14'!$A:$Z,14,0) -> 1 | O13: =VLOOKUP($B13,'[1]stat gazz 13-14'!$A:$Z,3,0) -> roma
B14: FLORENZI | C14: =LEFT(O14,3) -> rom | D14: =VLOOKUP($B14,'[1]stat gazz 13-14'!$A:$Z,4,0) -> 30 | E14: =VLOOKUP($B14,'[1]stat gazz 13-14'!$A:$Z,7,0) -> 6.9 | F14: =VLOOKUP($B14,'[1]stat gazz 13-14'!$A:$Z,5,0) -> 6.2 | G14: =(H14*3-J14*3+K14-L14*0.5-M14)/D14 -> 0.7 | H14: =VLOOKUP($B14,'[1]stat gazz 13-14'!$A:$Z,9,0) -> 6 | I14: =VLOOKUP($B14,'[1]stat gazz 13-14'!$A:$Z,15,0) -> 0 | J14: =VLOOKUP($B14,'[1]stat gazz 13-14'!$A:$Z,16,0) -> 0 | K14: =VLOOKUP($B14,'[1]stat gazz 13-14'!$A:$Z,12,0) -> 5 | L14: =VLOOKUP($B14,'[1]stat gazz 13-14'!$A:$Z,13,0) -> 4 | M14: =VLOOKUP($B14,'[1]stat gazz 13-14'!$A:$Z,14,0) -> 0 | O14: =VLOOKUP($B14,'[1]stat gazz 13-14'!$A:$Z,3,0) -> roma
... B150: KUZMANOVIC Z. | C150: =LEFT(O150,3) -> int | D150: =VLOOKUP($B150,'[1]stat gazz 13-14'!$A:$Z,4,0) -> 13 | E150: =VLOOKUP($B150,'[1]stat gazz 13-14'!$A:$Z,7,0) -> 5.2692308 | F150: =VLOOKUP($B150,'[1]stat gazz 13-14'!$A:$Z,5,0) -> 5.3461538 | G150: =(H150*3-J150*3+K150-L150*0.5-M150)/D150 -> -0.076923077 | H150: =VLOOKUP($B150,'[1]stat gazz 13-14'!$A:$Z,9,0) -> 0 | I150: =VLOOKUP($B150,'[1]stat gazz 13-14'!$A:$Z,15,0) -> 0 | J150: =VLOOKUP($B150,'[1]stat gazz 13-14'!$A:$Z,16,0) -> 0 | K150: =VLOOKUP($B150,'[1]stat gazz 13-14'!$A:$Z,12,0) -> 0 | L150: =VLOOKUP($B150,'[1]stat gazz 13-14'!$A:$Z,13,0) -> 2 | M150: =VLOOKUP($B150,'[1]stat gazz 13-14'!$A:$Z,14,0) -> 0 | O150: =VLOOKUP($B150,'[1]stat gazz 13-14'!$A:$Z,3,0) -> inter

Sheet C andam
B1: 2013-2014
B2: Calciatore | C2: Squadra | E2: Gare | F2: FM | G2: MV | H2: Bonu a Gara | I2: Gol | J2: Rigori + - | L2: Assis | M2: Gialli | N2: Rossi
B3: CUADRADO | C3: =LEFT(Q3,3) -> fio | E3: =VLOOKUP($B3,'[1]stat gazz 13-14'!$A:$Z,4,0) -> 32 | F3: =VLOOKUP($B3,'[1]stat gazz 13-14'!$A:$Z,7,0) -> 7.359375 | G3: =VLOOKUP($B3,'[1]stat gazz 13-14'!$A:$Z,5,0) -> 6.359375 | H3: =(I3*3-K3*3+L3-M3*0.5-N3)/E3 -> 1 | I3: =VLOOKUP($B3,'[1]stat gazz 13-14'!$A:$Z,9,0) -> 11 | J3: =VLOOKUP($B3,'[1]stat gazz 13-14'!$A:$Z,15,0) -> 0 | K3: =VLOOKUP($B3,'[1]stat gazz 13-14'!$A:$Z,16,0) -> 0 | L3: =VLOOKUP($B3,'[1]stat gazz 13-14'!$A:$Z,12,0) -> 4 | M3: =VLOOKUP($B3,'[1]stat gazz 13-14'!$A:$Z,13,0) -> 8 | N3: =VLOOKUP($B3,'[1]stat gazz 13-14'!$A:$Z,14,0) -> 1 | Q3: =VLOOKUP($B3,'[1]stat gazz 13-14'!$A:$Z,3,0) -> fiorentina
B4: CANDREVA | C4: =LEFT(Q4,3) -> laz | E4: =VLOOKUP($B4,'[1]stat gazz 13-14'!$A:$Z,4,0) -> 37 | F4: =VLOOKUP($B4,'[1]stat gazz 13-14'!$A:$Z,7,0) -> 7.3513514 | G4: =VLOOKUP($B4,'[1]stat gazz 13-14'!$A:$Z,5,0) -> 6.3108108 | H4: =(I4*3-K4*3+L4-M4*0.5-N4)/E4 -> 1.0405405 | I4: =VLOOKUP($B4,'[1]stat gazz 13-14'!$A:$Z,9,0) -> 12 | J4: =VLOOKUP($B4,'[1]stat gazz 13-14'!$A:$Z,15,0) -> 6 | K4: =VLOOKUP($B4,'[1]stat gazz 13-14'!$A:$Z,16,0) -> 0 | L4: =VLOOKUP($B4,'[1]stat gazz 13-14'!$A:$Z,12,0) -> 5 | M4: =VLOOKUP($B4,'[1]stat gazz 13-14'!$A:$Z,13,0) -> 3 | N4: =VLOOKUP($B4,'[1]stat gazz 13-14'!$A:$Z,14,0) -> 1 | Q4: =VLOOKUP($B4,'[1]stat gazz 13-14'!$A:$Z,3,0) -> lazio
B5: CERCI | C5: =LEFT(Q5,3) -> tor | E5: =VLOOKUP($B5,'[1]stat gazz 13-14'!$A:$Z,4,0) -> 37 | F5: =VLOOKUP($B5,'[1]stat gazz 13-14'!$A:$Z,7,0) -> 7.3108108 | G5: =VLOOKUP($B5,'[1]stat gazz 13-14'!$A:$Z,5,0) -> 6.2297297 | H5: =(I5*3-K5*3+L5-M5*0.5-N5)/E5 -> 1.0810811 | I5: =VLOOKUP($B5,'[1]stat gazz 13-14'!$A:$Z,9,0) -> 13 | J5: =VLOOKUP($B5,'[1]stat gazz 13-14'!$A:$Z,15,0) -> 5 | K5: =VLOOKUP($B5,'[1]stat gazz 13-14'!$A:$Z,16,0) -> 2 | L5: =VLOOKUP($B5,'[1]stat gazz 13-14'!$A:$Z,12,0) -> 9 | M5: =VLOOKUP($B5,'[1]stat gazz 13-14'!$A:$Z,13,0) -> 4 | N5: =VLOOKUP($B5,'[1]stat gazz 13-14'!$A:$Z,14,0) -> 0 | Q5: =VLOOKUP($B5,'[1]stat gazz 13-14'!$A:$Z,3,0) -> torino
B6: POGBA | C6: =LEFT(Q6,3) -> juv | E6: =VLOOKUP($B6,'[1]stat gazz 13-14'!$A:$Z,4,0) -> 36 | F6: =VLOOKUP($B6,'[1]stat gazz 13-14'!$A:$Z,7,0) -> 7.1805556 | G6: =VLOOKUP($B6,'[1]stat gazz 13-14'!$A:$Z,5,0) -> 6.4861111 | H6: =(I6*3-K6*3+L6-M6*0.5-N6)/E6 -> 0.69444444 | I6: =VLOOKUP($B6,'[1]stat gazz 13-14'!$A:$Z,9,0) -> 7 | J6: =VLOOKUP($B6,'[1]stat gazz 13-14'!$A:$Z,15,0) -> 0 | K6: =VLOOKUP($B6,'[1]stat gazz 13-14'!$A:$Z,16,0) -> 0 | L6: =VLOOKUP($B6,'[1]stat gazz 13-14'!$A:$Z,12,0) -> 6 | M6: =VLOOKUP($B6,'[1]stat gazz 13-14'!$A:$Z,13,0) -> 4 | N6: =VLOOKUP($B6,'[1]stat gazz 13-14'!$A:$Z,14,0) -> 0 | Q6: =VLOOKUP($B6,'[1]stat gazz 13-14'!$A:$Z,3,0) -> juventus
B7: VIDAL | C7: =LEFT(Q7,3) -> juv | E7: =VLOOKUP($B7,'[1]stat gazz 13-14'!$A:$Z,4,0) -> 29 | F7: =VLOOKUP($B7,'[1]stat gazz 13-14'!$A:$Z,7,0) -> 7.137931 | G7: =VLOOKUP($B7,'[1]stat gazz 13-14'!$A:$Z,5,0) -> 6.1034483 | H7: =(I7*3-K7*3+L7-M7*0.5-N7)/E7 -> 1.0344828 | I7: =VLOOKUP($B7,'[1]stat gazz 13-14'!$A:$Z,9,0) -> 11 | J7: =VLOOKUP($B7,'[1]stat gazz 13-14'!$A:$Z,15,0) -> 2 | K7: =VLOOKUP($B7,'[1]stat gazz 13-14'!$A:$Z,16,0) -> 0 | L7: =VLOOKUP($B7,'[1]stat gazz 13-14'!$A:$Z,12,0) -> 1 | M7: =VLOOKUP($B7,'[1]stat gazz 13-14'!$A:$Z,13,0) -> 8 | N7: =VLOOKUP($B7,'[1]stat gazz 13-14'!$A:$Z,14,0) -> 0 | Q7: =VLOOKUP($B7,'[1]stat gazz 13-14'!$A:$Z,3,0) -> juventus
B8: STROOTMAN | C8: =LEFT(Q8,3) -> rom | E8: =VLOOKUP($B8,'[1]stat gazz 13-14'!$A:$Z,4,0) -> 24 | F8: =VLOOKUP($B8,'[1]stat gazz 13-14'!$A:$Z,7,0) -> 7.1041667 | G8: =VLOOKUP($B8,'[1]stat gazz 13-14'!$A:$Z,5,0) -> 6.4375 | H8: =(I8*3-K8*3+L8-M8*0.5-N8)/E8 -> 0.66666667 | I8: =VLOOKUP($B8,'[1]stat gazz 13-14'!$A:$Z,9,0) -> 5 | J8: =VLOOKUP($B8,'[1]stat gazz 13-14'!$A:$Z,15,0) -> 2 | K8: =VLOOKUP($B8,'[1]stat gazz 13-14'!$A:$Z,16,0) -> 0 | L8: =VLOOKUP($B8,'[1]stat gazz 13-14'!$A:$Z,12,0) -> 4 | M8: =VLOOKUP($B8,'[1]stat gazz 13-14'!$A:$Z,13,0) -> 6 | N8: =VLOOKUP($B8,'[1]stat gazz 13-14'!$A:$Z,14,0) -> 0 | Q8: =VLOOKUP($B8,'[1]stat gazz 13-14'!$A:$Z,3,0) -> roma
B9: ROMULO | C9: =LEFT(Q9,3) -> ver | E9: =VLOOKUP($B9,'[1]stat gazz 13-14'!$A:$Z,4,0) -> 32 | F9: =VLOOKUP($B9,'[1]stat gazz 13-14'!$A:$Z,7,0) -> 7.03125 | G9: =VLOOKUP($B9,'[1]stat gazz 13-14'!$A:$Z,5,0) -> 6.28125 | H9: =(I9*3-K9*3+L9-M9*0.5-N9)/E9 -> 0.75 | I9: =VLOOKUP($B9,'[1]stat gazz 13-14'!$A:$Z,9,0) -> 6 | J9: =VLOOKUP($B9,'[1]stat gazz 13-14'!$A:$Z,15,0) -> 0 | K9: =VLOOKUP($B9,'[1]stat gazz 13-14'!$A:$Z,16,0) -> 0 | L9: =VLOOKUP($B9,'[1]stat gazz 13-14'!$A:$Z,12,0) -> 8 | M9: =VLOOKUP($B9,'[1]stat gazz 13-14'!$A:$Z,13,0) -> 4 | N9: =VLOOKUP($B9,'[1]stat gazz 13-14'!$A:$Z,14,0) -> 0 | Q9: =VLOOKUP($B9,'[1]stat gazz 13-14'!$A:$Z,3,0) -> verona
B10: BORJA VALERO | C10: =LEFT(Q10,3) -> fio | E10: =VLOOKUP($B10,'[1]stat gazz 13-14'!$A:$Z,4,0) -> 32 | F10: =VLOOKUP($B10,'[1]stat gazz 13-14'!$A:$Z,7,0) -> 7 | G10: =VLOOKUP($B10,'[1]stat gazz 13-14'!$A:$Z,5,0) -> 6.328125 | H10: =(I10*3-K10*3+L10-M10*0.5-N10)/E10 -> 0.671875 | I10: =VLOOKUP($B10,'[1]stat gazz 13-14'!$A:$Z,9,0) -> 6 | J10: =VLOOKUP($B10,'[1]stat gazz 13-14'!$A:$Z,15,0) -> 0 | K10: =VLOOKUP($B10,'[1]stat gazz 13-14'!$A:$Z,16,0) -> 0 | L10: =VLOOKUP($B10,'[1]stat gazz 13-14'!$A:$Z,12,0) -> 7 | M10: =VLOOKUP($B10,'[1]stat gazz 13-14'!$A:$Z,13,0) -> 5 | N10: =VLOOKUP($B10,'[1]stat gazz 13-14'!$A:$Z,14,0) -> 1 | Q10: =VLOOKUP($B10,'[1]stat gazz 13-14'!$A:$Z,3,0) -> fiorentina
B11: TAARABT | C11: =LEFT(Q11,3) -> mil | E11: =VLOOKUP($B11,'[1]stat gazz 13-14'!$A:$Z,4,0) -> 14 | F11: =VLOOKUP($B11,'[1]stat gazz 13-14'!$A:$Z,7,0) -> 6.9642857 | G11: =VLOOKUP($B11,'[1]stat gazz 13-14'!$A:$Z,5,0) -> 6.2142857 | H11: =(I11*3-K11*3+L11-M11*0.5-N11)/E11 -> 0.75 | I11: =VLOOKUP($B11,'[1]stat gazz 13-14'!$A:$Z,9,0) -> 4 | J11: =VLOOKUP($B11,'[1]stat gazz 13-14'!$A:$Z,15,0) -> 0 | K11: =VLOOKUP($B11,'[1]stat gazz 13-14'!$A:$Z,16,0) -> 0 | L11: =VLOOKUP($B11,'[1]stat gazz 13-14'!$A:$Z,12,0) -> 0 | M11: =VLOOKUP($B11,'[1]stat gazz 13-14'!$A:$Z,13,0) -> 3 | N11: =VLOOKUP($B11,'[1]stat gazz 13-14'!$A:$Z,14,0) -> 0 | Q11: =VLOOKUP($B11,'[1]stat gazz 13-14'!$A:$Z,3,0) -> milan
B12: MAURI S. | C12: =LEFT(Q12,3) -> laz | E12: =VLOOKUP($B12,'[1]stat gazz 13-14'!$A:$Z,4,0) -> 10 | F12: =VLOOKUP($B12,'[1]stat gazz 13-14'!$A:$Z,7,0) -> 6.95 | G12: =VLOOKUP($B12,'[1]stat gazz 13-14'!$A:$Z,5,0) -> 6 | H12: =(I12*3-K12*3+L12-M12*0.5-N12)/E12 -> 0.95 | I12: =VLOOKUP($B12,'[1]stat gazz 13-14'!$A:$Z,9,0) -> 4 | J12: =VLOOKUP($B12,'[1]stat gazz 13-14'!$A:$Z,15,0) -> 0 | K12: =VLOOKUP($B12,'[1]stat gazz 13-14'!$A:$Z,16,0) -> 1 | L12: =VLOOKUP($B12,'[1]stat gazz 13-14'!$A:$Z,12,0) -> 1 | M12: =VLOOKUP($B12,'[1]stat gazz 13-14'!$A:$Z,13,0) -> 1 | N12: =VLOOKUP($B12,'[1]stat gazz 13-14'!$A:$Z,14,0) -> 0 | Q12: =VLOOKUP($B12,'[1]stat gazz 13-14'!$A:$Z,3,0) -> lazio
B13: PJANIC | C13: =LEFT(Q13,3) -> rom | E13: =VLOOKUP($B13,'[1]stat gazz 13-14'!$A:$Z,4,0) -> 35 | F13: =VLOOKUP($B13,'[1]stat gazz 13-14'!$A:$Z,7,0) -> 6.9142857 | G13: =VLOOKUP($B13,'[1]stat gazz 13-14'!$A:$Z,5,0) -> 6.5285714 | H13: =(I13*3-K13*3+L13-M13*0.5-N13)/E13 -> 0.38571429 | I13: =VLOOKUP($B13,'[1]stat gazz 13-14'!$A:$Z,9,0) -> 5 | J13: =VLOOKUP($B13,'[1]stat gazz 13-14'!$A:$Z,15,0) -> 1 | K13: =VLOOKUP($B13,'[1]stat gazz 13-14'!$A:$Z,16,0) -> 0 | L13: =VLOOKUP($B13,'[1]stat gazz 13-14'!$A:$Z,12,0) -> 3 | M13: =VLOOKUP($B13,'[1]stat gazz 13-14'!$A:$Z,13,0) -> 7 | N13: =VLOOKUP($B13,'[1]stat gazz 13-14'!$A:$Z,14,0) -> 1 | Q13: =VLOOKUP($B13,'[1]stat gazz 13-14'!$A:$Z,3,0) -> roma
B14: FLORENZI | C14: =LEFT(Q14,3) -> rom | E14: =VLOOKUP($B14,'[1]stat gazz 13-14'!$A:$Z,4,0) -> 30 | F14: =VLOOKUP($B14,'[1]stat gazz 13-14'!$A:$Z,7,0) -> 6.9 | G14: =VLOOKUP($B14,'[1]stat gazz 13-14'!$A:$Z,5,0) -> 6.2 | H14: =(I14*3-K14*3+L14-M14*0.5-N14)/E14 -> 0.7 | I14: =VLOOKUP($B14,'[1]stat gazz 13-14'!$A:$Z,9,0) -> 6 | J14: =VLOOKUP($B14,'[1]stat gazz 13-14'!$A:$Z,15,0) -> 0 | K14: =VLOOKUP($B14,'[1]stat gazz 13-14'!$A:$Z,16,0) -> 0 | L14: =VLOOKUP($B14,'[1]stat gazz 13-14'!$A:$Z,12,0) -> 5 | M14: =VLOOKUP($B14,'[1]stat gazz 13-14'!$A:$Z,13,0) -> 4 | N14: =VLOOKUP($B14,'[1]stat gazz 13-14'!$A:$Z,14,0) -> 0 | Q14: =VLOOKUP($B14,'[1]stat gazz 13-14'!$A:$Z,3,0) -> roma
... B40: GUARIN | C40: =LEFT(Q40,3) -> int | E40: =VLOOKUP($B40,'[1]stat gazz 13-14'!$A:$Z,4,0) -> 31 | F40: =VLOOKUP($B40,'[1]stat gazz 13-14'!$A:$Z,7,0) -> 6.4032258 | G40: =VLOOKUP($B40,'[1]stat gazz 13-14'!$A:$Z,5,0) -> 5.9677419 | H40: =(I40*3-K40*3+L40-M40*0.5-N40)/E40 -> 0.43548387 | I40: =VLOOKUP($B40,'[1]stat gazz 13-14'!$A:$Z,9,0) -> 4 | J40: =VLOOKUP($B40,'[1]stat gazz 13-14'!$A:$Z,15,0) -> 0 | K40: =VLOOKUP($B40,'[1]stat gazz 13-14'!$A:$Z,16,0) -> 0 | L40: =VLOOKUP($B40,'[1]stat gazz 13-14'!$A:$Z,12,0) -> 4 | M40: =VLOOKUP($B40,'[1]stat gazz 13-14'!$A:$Z,13,0) -> 5 | N40: =VLOOKUP($B40,'[1]stat gazz 13-14'!$A:$Z,14,0) -> 0 | Q40: =VLOOKUP($B40,'[1]stat gazz 13-14'!$A:$Z,3,0) -> inter
B42: 2013-2014
B43: Calciatore | C43: Squadra | E43: Gare | F43: FM | G43: MV | H43: Bonu a Gara | I43: Gol | J43: Rigori + - | L43: Assis | M43: Gialli | N43: Rossi
B44: SORIANO | C44: =LEFT(Q44,3) -> sam | E44: =VLOOKUP($B44,'[1]stat gazz 13-14'!$A:$Z,4,0) -> 27 | F44: =VLOOKUP($B44,'[1]stat gazz 13-14'!$A:$Z,7,0) -> 6.3888889 | G44: =VLOOKUP($B44,'[1]stat gazz 13-14'!$A:$Z,5,0) -> 5.9444444 | H44: =(I44*3-K44*3+L44-M44*0.5-N44)/E44 -> 0.44444444 | I44: =VLOOKUP($B44,'[1]stat gazz 13-14'!$A:$Z,9,0) -> 5 | J44: =VLOOKUP($B44,'[1]stat gazz 13-14'!$A:$Z,15,0) -> 0 | K44: =VLOOKUP($B44,'[1]stat gazz 13-14'!$A:$Z,16,0) -> 0 | L44: =VLOOKUP($B44,'[1]stat gazz 13-14'!$A:$Z,12,0) -> 0 | M44: =VLOOKUP($B44,'[1]stat gazz 13-14'!$A:$Z,13,0) -> 4 | N44: =VLOOKUP($B44,'[1]stat gazz 13-14'!$A:$Z,14,0) -> 1 | Q44: =VLOOKUP($B44,'[1]stat gazz 13-14'!$A:$Z,3,0) -> sampdoria
B45: PEREYRA | C45: =LEFT(Q45,3) -> udi | E45: =VLOOKUP($B45,'[1]stat gazz 13-14'!$A:$Z,4,0) -> 35 | F45: =VLOOKUP($B45,'[1]stat gazz 13-14'!$A:$Z,7,0) -> 6.3857143 | G45: =VLOOKUP($B45,'[1]stat gazz 13-14'!$A:$Z,5,0) -> 6.1285714 | H45: =(I45*3-K45*3+L45-M45*0.5-N45)/E45 -> 0.25714286 | I45: =VLOOKUP($B45,'[1]stat gazz 13-14'!$A:$Z,9,0) -> 2 | J45: =VLOOKUP($B45,'[1]stat gazz 13-14'!$A:$Z,15,0) -> 0 | K45: =VLOOKUP($B45,'[1]stat gazz 13-14'!$A:$Z,16,0) -> 0 | L45: =VLOOKUP($B45,'[1]stat gazz 13-14'!$A:$Z,12,0) -> 6 | M45: =VLOOKUP($B45,'[1]stat gazz 13-14'!$A:$Z,13,0) -> 6 | N45: =VLOOKUP($B45,'[1]stat gazz 13-14'!$A:$Z,14,0) -> 0 | Q45: =VLOOKUP($B45,'[1]stat gazz 13-14'!$A:$Z,3,0) -> udinese
B46: MUNTARI | C46: =LEFT(Q46,3) -> mil | E46: =VLOOKUP($B46,'[1]stat gazz 13-14'!$A:$Z,4,0) -> 25 | F46: =VLOOKUP($B46,'[1]stat gazz 13-14'!$A:$Z,7,0) -> 6.38 | G46: =VLOOKUP($B46,'[1]stat gazz 13-14'!$A:$Z,5,0) -> 5.9 | H46: =(I46*3-K46*3+L46-M46*0.5-N46)/E46 -> 0.48 | I46: =VLOOKUP($B46,'[1]stat gazz 13-14'!$A:$Z,9,0) -> 5 | J46: =VLOOKUP($B46,'[1]stat gazz 13-14'!$A:$Z,15,0) -> 0 | K46: =VLOOKUP($B46,'[1]stat gazz 13-14'!$A:$Z,16,0) -> 0 | L46: =VLOOKUP($B46,'[1]stat gazz 13-14'!$A:$Z,12,0) -> 1 | M46: =VLOOKUP($B46,'[1]stat gazz 13-14'!$A:$Z,13,0) -> 6 | N46: =VLOOKUP($B46,'[1]stat gazz 13-14'!$A:$Z,14,0) -> 1 | Q46: =VLOOKUP($B46,'[1]stat gazz 13-14'!$A:$Z,3,0) -> milan
B47: DE ROSSI | C47: =LEFT(Q47,3) -> rom | E47: =VLOOKUP($B47,'[1]stat gazz 13-14'!$A:$Z,4,0) -> 32 | F47: =VLOOKUP($B47,'[1]stat gazz 13-14'!$A:$Z,7,0) -> 6.375 | G47: =VLOOKUP($B47,'[1]stat gazz 13-14'!$A:$Z,5,0) -> 6.34375 | H47: =(I47*3-K47*3+L47-M47*0.5-N47)/E47 -> 0.03125 | I47: =VLOOKUP($B47,'[1]stat gazz 13-14'!$A:$Z,9,0) -> 1 | J47: =VLOOKUP($B47,'[1]stat gazz 13-14'!$A:$Z,15,0) -> 0 | K47: =VLOOKUP($B47,'[1]stat gazz 13-14'!$A:$Z,16,0) -> 0 | L47: =VLOOKUP($B47,'[1]stat gazz 13-14'!$A:$Z,12,0) -> 1 | M47: =VLOOKUP($B47,'[1]stat gazz 13-14'!$A:$Z,13,0) -> 4 | N47: =VLOOKUP($B47,'[1]stat gazz 13-14'!$A:$Z,14,0) -> 1 | Q47: =VLOOKUP($B47,'[1]stat gazz 13-14'!$A:$Z,3,0) -> roma
B48: HALLFREDSSON | C48: =LEFT(Q48,3) -> ver | E48: =VLOOKUP($B48,'[1]stat gazz 13-14'!$A:$Z,4,0) -> 30 | F48: =VLOOKUP($B48,'[1]stat gazz 13-14'!$A:$Z,7,0) -> 6.3 | G48: =VLOOKUP($B48,'[1]stat gazz 13-14'!$A:$Z,5,0) -> 6.0833333 | H48: =(I48*3-K48*3+L48-M48*0.5-N48)/E48 -> 0.21666667 | I48: =VLOOKUP($B48,'[1]stat gazz 13-14'!$A:$Z,9,0) -> 2 | J48: =VLOOKUP($B48,'[1]stat gazz 13-14'!$A:$Z,15,0) -> 0 | K48: =VLOOKUP($B48,'[1]stat gazz 13-14'!$A:$Z,16,0) -> 0 | L48: =VLOOKUP($B48,'[1]stat gazz 13-14'!$A:$Z,12,0) -> 3 | M48: =VLOOKUP($B48,'[1]stat gazz 13-14'!$A:$Z,13,0) -> 5 | N48: =VLOOKUP($B48,'[1]stat gazz 13-14'!$A:$Z,14,0) -> 0 | Q48: =VLOOKUP($B48,'[1]stat gazz 13-14'!$A:$Z,3,0) -> verona
B49: FETFATZIDIS | C49: =LEFT(Q49,3) -> gen | E49: =VLOOKUP($B49,'[1]stat gazz 13-14'!$A:$Z,4,0) -> 29 | F49: =VLOOKUP($B49,'[1]stat gazz 13-14'!$A:$Z,7,0) -> 6.2931034 | G49: =VLOOKUP($B49,'[1]stat gazz 13-14'!$A:$Z,5,0) -> 6 | H49: =(I49*3-K49*3+L49-M49*0.5-N49)/E49 -> 0.29310345 | I49: =VLOOKUP($B49,'[1]stat gazz 13-14'!$A:$Z,9,0) -> 2 | J49: =VLOOKUP($B49,'[1]stat gazz 13-14'!$A:$Z,15,0) -> 0 | K49: =VLOOKUP($B49,'[1]stat gazz 13-14'!$A:$Z,16,0) -> 0 | L49: =VLOOKUP($B49,'[1]stat gazz 13-14'!$A:$Z,12,0) -> 3 | M49: =VLOOKUP($B49,'[1]stat gazz 13-14'!$A:$Z,13,0) -> 1 | N49: =VLOOKUP($B49,'[1]stat gazz 13-14'!$A:$Z,14,0) -> 0 | Q49: =VLOOKUP($B49,'[1]stat gazz 13-14'!$A:$Z,3,0) -> genoa
B50: BARRIENTOS | C50: =LEFT(Q50,3) -> cat | E50: =VLOOKUP($B50,'[1]stat gazz 13-14'!$A:$Z,4,0) -> 28 | F50: =VLOOKUP($B50,'[1]stat gazz 13-14'!$A:$Z,7,0) -> 6.2678571 | G50: =VLOOKUP($B50,'[1]stat gazz 13-14'!$A:$Z,5,0) -> 5.7678571 | H50: =(I50*3-K50*3+L50-M50*0.5-N50)/E50 -> 0.5 | I50: =VLOOKUP($B50,'[1]stat gazz 13-14'!$A:$Z,9,0) -> 5 | J50: =VLOOKUP($B50,'[1]stat gazz 13-14'!$A:$Z,15,0) -> 0 | K50: =VLOOKUP($B50,'[1]stat gazz 13-14'!$A:$Z,16,0) -> 0 | L50: =VLOOKUP($B50,'[1]stat gazz 13-14'!$A:$Z,12,0) -> 4 | M50: =VLOOKUP($B50,'[1]stat gazz 13-14'!$A:$Z,13,0) -> 10 | N50: =VLOOKUP($B50,'[1]stat gazz 13-14'!$A:$Z,14,0) -> 0 | Q50: =VLOOKUP($B50,'[1]stat gazz 13-14'!$A:$Z,3,0) -> catania
B51: ILICIC | C51: =LEFT(Q51,3) -> fio | E51: =VLOOKUP($B51,'[1]stat gazz 13-14'!$A:$Z,4,0) -> 20 | F51: =VLOOKUP($B51,'[1]stat gazz 13-14'!$A:$Z,7,0) -> 6.25 | G51: =VLOOKUP($B51,'[1]stat gazz 13-14'!$A:$Z,5,0) -> 5.775 | H51: =(I51*3-K51*3+L51-M51*0.5-N51)/E51 -> 0.475 | I51: =VLOOKUP($B51,'[1]stat gazz 13-14'!$A:$Z,9,0) -> 3 | J51: =VLOOKUP($B51,'[1]stat gazz 13-14'!$A:$Z,15,0) -> 0 | K51: =VLOOKUP($B51,'[1]stat gazz 13-14'!$A:$Z,16,0) -> 0 | L51: =VLOOKUP($B51,'[1]stat gazz 13-14'!$A:$Z,12,0) -> 1 | M51: =VLOOKUP($B51,'[1]stat gazz 13-14'!$A:$Z,13,0) -> 1 | N51: =VLOOKUP($B51,'[1]stat gazz 13-14'!$A:$Z,14,0) -> 0 | Q51: =VLOOKUP($B51,'[1]stat gazz 13-14'!$A:$Z,3,0) -> fiorentina
B52: IZCO | C52: =LEFT(Q52,3) -> cat | E52: =VLOOKUP($B52,'[1]stat gazz 13-14'!$A:$Z,4,0) -> 29 | F52: =VLOOKUP($B52,'[1]stat gazz 13-14'!$A:$Z,7,0) -> 6.2241379 | G52: =VLOOKUP($B52,'[1]stat gazz 13-14'!$A:$Z,5,0) -> 5.9310345 | H52: =(I52*3-K52*3+L52-M52*0.5-N52)/E52 -> 0.29310345 | I52: =VLOOKUP($B52,'[1]stat gazz 13-14'!$A:$Z,9,0) -> 3 | J52: =VLOOKUP($B52,'[1]stat gazz 13-14'!$A:$Z,15,0) -> 0 | K52: =VLOOKUP($B52,'[1]stat gazz 13-14'!$A:$Z,16,0) -> 0 | L52: =VLOOKUP($B52,'[1]stat gazz 13-14'!$A:$Z,12,0) -> 1 | M52: =VLOOKUP($B52,'[1]stat gazz 13-14'!$A:$Z,13,0) -> 3 | N52: =VLOOKUP($B52,'[1]stat gazz 13-14'!$A:$Z,14,0) -> 0 | Q52: =VLOOKUP($B52,'[1]stat gazz 13-14'!$A:$Z,3,0) -> catania
B53: KURTIC | C53: =LEFT(Q53,3) -> tor | E53: =VLOOKUP($B53,'[1]stat gazz 13-14'!$A:$Z,4,0) -> 34 | F53: =VLOOKUP($B53,'[1]stat gazz 13-14'!$A:$Z,7,0) -> 6.2205882 | G53: =VLOOKUP($B53,'[1]stat gazz 13-14'!$A:$Z,5,0) -> 5.9705882 | H53: =(I53*3-K53*3+L53-M53*0.5-N53)/E53 -> 0.25 | I53: =VLOOKUP($B53,'[1]stat gazz 13-14'!$A:$Z,9,0) -> 2 | J53: =VLOOKUP($B53,'[1]stat gazz 13-14'!$A:$Z,15,0) -> 0 | K53: =VLOOKUP($B53,'[1]stat gazz 13-14'!$A:$Z,16,0) -> 0 | L53: =VLOOKUP($B53,'[1]stat gazz 13-14'!$A:$Z,12,0) -> 4 | M53: =VLOOKUP($B53,'[1]stat gazz 13-14'!$A:$Z,13,0) -> 3 | N53: =VLOOKUP($B53,'[1]stat gazz 13-14'!$A:$Z,14,0) -> 0 | Q53: =VLOOKUP($B53,'[1]stat gazz 13-14'!$A:$Z,3,0) -> torino
B54: RIGONI L. | C54: =LEFT(Q54,3) -> chi | E54: =VLOOKUP($B54,'[1]stat gazz 13-14'!$A:$Z,4,0) -> 33 | F54: =VLOOKUP($B54,'[1]stat gazz 13-14'!$A:$Z,7,0) -> 6.1969697 | G54: =VLOOKUP($B54,'[1]stat gazz 13-14'!$A:$Z,5,0) -> 6.030303 | H54: =(I54*3-K54*3+L54-M54*0.5-N54)/E54 -> 0.16666667 | I54: =VLOOKUP($B54,'[1]stat gazz 13-14'!$A:$Z,9,0) -> 4 | J54: =VLOOKUP($B54,'[1]stat gazz 13-14'!$A:$Z,15,0) -> 0 | K54: =VLOOKUP($B54,'[1]stat gazz 13-14'!$A:$Z,16,0) -> 0 | L54: =VLOOKUP($B54,'[1]stat gazz 13-14'!$A:$Z,12,0) -> 1 | M54: =VLOOKUP($B54,'[1]stat gazz 13-14'!$A:$Z,13,0) -> 15 | N54: =VLOOKUP($B54,'[1]stat gazz 13-14'!$A:$Z,14,0) -> 0 | Q54: =VLOOKUP($B54,'[1]stat gazz 13-14'!$A:$Z,3,0) -> chievo
B55: DE JONG | C55: =LEFT(Q55,3) -> mil | E55: =VLOOKUP($B55,'[1]stat gazz 13-14'!$A:$Z,4,0) -> 33 | F55: =VLOOKUP($B55,'[1]stat gazz 13-14'!$A:$Z,7,0) -> 6.1818182 | G55: =VLOOKUP($B55,'[1]stat gazz 13-14'!$A:$Z,5,0) -> 6.0757576 | H55: =(I55*3-K55*3+L55-M55*0.5-N55)/E55 -> 0.10606061 | I55: =VLOOKUP($B55,'[1]stat gazz 13-14'!$A:$Z,9,0) -> 2 | J55: =VLOOKUP($B55,'[1]stat gazz 13-14'!$A:$Z,15,0) -> 0 | K55: =VLOOKUP($B55,'[1]stat gazz 13-14'!$A:$Z,16,0) -> 0 | L55: =VLOOKUP($B55,'[1]stat gazz 13-14'!$A:$Z,12,0) -> 2 | M55: =VLOOKUP($B55,'[1]stat gazz 13-14'!$A:$Z,13,0) -> 9 | N55: =VLOOKUP($B55,'[1]stat gazz 13-14'!$A:$Z,14,0) -> 0 | Q55: =VLOOKUP($B55,'[1]stat gazz 13-14'!$A:$Z,3,0) -> milan
... B84: KRSTICIC | C84: =LEFT(Q84,3) -> sam | E84: =VLOOKUP($B84,'[1]stat gazz 13-14'!$A:$Z,4,0) -> 32 | F84: =VLOOKUP($B84,'[1]stat gazz 13-14'!$A:$Z,7,0) -> 5.5625 | G84: =VLOOKUP($B84,'[1]stat gazz 13-14'!$A:$Z,5,0) -> 5.59375 | H84: =(I84*3-K84*3+L84-M84*0.5-N84)/E84 -> -0.03125 | I84: =VLOOKUP($B84,'[1]stat gazz 13-14'!$A:$Z,9,0) -> 1 | J84: =VLOOKUP($B84,'[1]stat gazz 13-14'!$A:$Z,15,0) -> 0 | K84: =VLOOKUP($B84,'[1]stat gazz 13-14'!$A:$Z,16,0) -> 0 | L84: =VLOOKUP($B84,'[1]stat gazz 13-14'!$A:$Z,12,0) -> 1 | M84: =VLOOKUP($B84,'[1]stat gazz 13-14'!$A:$Z,13,0) -> 8 | N84: =VLOOKUP($B84,'[1]stat gazz 13-14'!$A:$Z,14,0) -> 1 | Q84: =VLOOKUP($B84,'[1]stat gazz 13-14'!$A:$Z,3,0) -> sampdoria

Sheet C conf
F1: 2013-2014 | O1: 2012-2013 | X1: 2011-2012 | AG1: 2010-2011
B2: Calciatore | C2: i | D2: Squadr | E2: Gare | F2: FM | G2: MV | H2: Bonus | I2: B/G | J2: Gol | K2: Ass | L2: i | M2: Squadr | N2: Gare | O2: FM | P2: MV | Q2: Bonus | R2: B/G | S2: Gol | T2: Ass | U2: i | V2: Squadr | W2: Gare | X2: FM | Y2: MV | Z2: Bonus | AA2: B/G | AB2: Gol | AC2: Ass | AD2: i | AE2: Squadr | AF2: Gare | AG2: FM | AH2: MV | AI2: Bonus | AJ2: B/G | AK2: Gol | AL2: Ass | AM2: i
B3: CUADRADO | D3: =VLOOKUP($B3,'C (tt>10)'!$B:$M,2,0) -> fio | E3: =VLOOKUP($B3,'C (tt>10)'!$B:$M,3,0) -> 32 | F3: =VLOOKUP($B3,'C (tt>10)'!$B:$M,4,0) -> 7.359375 | G3: =VLOOKUP($B3,'C (tt>10)'!$B:$M,5,0) -> 6.359375 | H3: =J3*3+K3 -> 37 | I3: =H3/E3 -> 1.15625 | J3: =VLOOKUP($B3,'C (tt>10)'!$B:$M,7,0) -> 11 | K3: =VLOOKUP($B3,'C (tt>10)'!$B:$M,10,0) -> 4 | M3: =LOWER(IF(ISNA(VLOOKUP($B3,'C conf old'!$B:$AH,3,0)),"",VLOOKUP($B3,'C conf old'!$B:$AH,3,0))) -> fio | N3: =IF(ISNA(VLOOKUP($B3,'C conf old'!$B:$AH,3,0)),"",VLOOKUP($B3,'C conf old'!$B:$AH,4,0)) -> 35 | O3: =IF(ISNA(VLOOKUP($B3,'C conf old'!$B:$AH,3,0)),"",VLOOKUP($B3,'C conf old'!$B:$AH,5,0)) -> 6.83 | P3: =IF(ISNA(VLOOKUP($B3,'C conf old'!$B:$AH,3,0)),"",VLOOKUP($B3,'C conf old'!$B:$AH,6,0)) -> 6.39 | Q3: =S3*3+T3 -> 21 | R3: =Q3/N3 -> 0.6 | S3: =IF(ISNA(VLOOKUP($B3,'C conf old'!$B:$AH,3,0)),"",VLOOKUP($B3,'C conf old'!$B:$AH,9,0)) -> 5 | T3: =IF(ISNA(VLOOKUP($B3,'C conf old'!$B:$AH,3,0)),"",VLOOKUP($B3,'C conf old'!$B:$AH,10,0)) -> 6 | V3: =LOWER(IF(ISNA(VLOOKUP($B3,'C conf old'!$B:$AH,3,0)),"",VLOOKUP($B3,'C conf old'!$B:$AH,13,0))) -> lec | W3: =IF(ISNA(VLOOKUP($B3,'C conf old'!$B:$AH,3,0)),"",VLOOKUP($B3,'C conf old'!$B:$AH,14,0)) -> 33 | X3: =IF(ISNA(VLOOKUP($B3,'C conf old'!$B:$AH,3,0)),"",VLOOKUP($B3,'C conf old'!$B:$AH,15,0)) -> 6 | Y3: =IF(ISNA(VLOOKUP($B3,'C conf old'!$B:$AH,3,0)),"",VLOOKUP($B3,'C conf old'!$B:$AH,16,0)) -> 5.85 | Z3: =AB3*3+AC3 -> 10 | AA3: =Z3/W3 -> 0.3030303 | AB3: =IF(ISNA(VLOOKUP($B3,'C conf old'!$B:$AH,3,0)),"",VLOOKUP($B3,'C conf old'!$B:$AH,19,0)) -> 3 | AC3: =IF(ISNA(VLOOKUP($B3,'C conf old'!$B:$AH,3,0)),"",VLOOKUP($B3,'C conf old'!$B:$AH,20,0)) -> 1 | AE3: =LOWER(IF(ISNA(VLOOKUP($B3,'C conf old'!$B:$AH,3,0)),"",VLOOKUP($B3,'C conf old'!$B:$AH,23,0))) -> udi | AF3: =IF(ISNA(VLOOKUP($B3,'C conf old'!$B:$AH,3,0)),"",VLOOKUP($B3,'C conf old'!$B:$AH,24,0)) -> 7 | AG3: =IF(ISNA(VLOOKUP($B3,'C conf old'!$B:$AH,3,0)),"",VLOOKUP($B3,'C conf old'!$B:$AH,25,0)) -> 5.57 | AH3: =IF(ISNA(VLOOKUP($B3,'C conf old'!$B:$AH,3,0)),"",VLOOKUP($B3,'C conf old'!$B:$AH,26,0)) -> 5.71 | AI3: =AK3*3+AL3 -> -0.42857143 | AJ3: =AI3/AF3 -> -0.06122449 | AK3: =IF(ISNA(VLOOKUP($B3,'C conf old'!$B:$AH,3,0)),"",VLOOKUP($B3,'C conf old'!$B:$AH,28,0)) -> -0.14285714 | AL3: =IF(ISNA(VLOOKUP($B3,'C conf old'!$B:$AH,3,0)),"",VLOOKUP($B3,'C conf old'!$B:$AH,29,0)) -> 0
B4: CANDREVA | D4: =VLOOKUP($B4,'C (tt>10)'!$B:$M,2,0) -> laz | E4: =VLOOKUP($B4,'C (tt>10)'!$B:$M,3,0) -> 37 | F4: =VLOOKUP($B4,'C (tt>10)'!$B:$M,4,0) -> 7.3513514 | G4: =VLOOKUP($B4,'C (tt>10)'!$B:$M,5,0) -> 6.3108108 | H4: =J4*3+K4 -> 41 | I4: =H4/E4 -> 1.1081081 | J4: =VLOOKUP($B4,'C (tt>10)'!$B:$M,7,0) -> 12 | K4: =VLOOKUP($B4,'C (tt>10)'!$B:$M,10,0) -> 5 | M4: =LOWER(IF(ISNA(VLOOKUP($B4,'C conf old'!$B:$AH,3,0)),"",VLOOKUP($B4,'C conf old'!$B:$AH,3,0))) -> laz | N4: =IF(ISNA(VLOOKUP($B4,'C conf old'!$B:$AH,3,0)),"",VLOOKUP($B4,'C conf old'!$B:$AH,4,0)) -> 35 | O4: =IF(ISNA(VLOOKUP($B4,'C conf old'!$B:$AH,3,0)),"",VLOOKUP($B4,'C conf old'!$B:$AH,5,0)) -> 6.79 | P4: =IF(ISNA(VLOOKUP($B4,'C conf old'!$B:$AH,3,0)),"",VLOOKUP($B4,'C conf old'!$B:$AH,6,0)) -> 6.24 | Q4: =S4*3+T4 -> 23 | R4: =Q4/N4 -> 0.65714286 | S4: =IF(ISNA(VLOOKUP($B4,'C conf old'!$B:$AH,3,0)),"",VLOOKUP($B4,'C conf old'!$B:$AH,9,0)) -> 6 | T4: =IF(ISNA(VLOOKUP($B4,'C conf old'!$B:$AH,3,0)),"",VLOOKUP($B4,'C conf old'!$B:$AH,10,0)) -> 5 | V4: =LOWER(IF(ISNA(VLOOKUP($B4,'C conf old'!$B:$AH,3,0)),"",VLOOKUP($B4,'C conf old'!$B:$AH,13,0))) -> laz | W4: =IF(ISNA(VLOOKUP($B4,'C conf old'!$B:$AH,3,0)),"",VLOOKUP($B4,'C conf old'!$B:$AH,14,0)) -> 30 | X4: =IF(ISNA(VLOOKUP($B4,'C conf old'!$B:$AH,3,0)),"",VLOOKUP($B4,'C conf old'!$B:$AH,15,0)) -> 6.38 | Y4: =IF(ISNA(VLOOKUP($B4,'C conf old'!$B:$AH,3,0)),"",VLOOKUP($B4,'C conf old'!$B:$AH,16,0)) -> 6 | Z4: =AB4*3+AC4 -> 17 | AA4: =Z4/W4 -> 0.56666667 | AB4: =IF(ISNA(VLOOKUP($B4,'C conf old'!$B:$AH,3,0)),"",VLOOKUP($B4,'C conf old'!$B:$AH,19,0)) -> 5 | AC4: =IF(ISNA(VLOOKUP($B4,'C conf old'!$B:$AH,3,0)),"",VLOOKUP($B4,'C conf old'!$B:$AH,20,0)) -> 2 | AE4: =LOWER(IF(ISNA(VLOOKUP($B4,'C conf old'!$B:$AH,3,0)),"",VLOOKUP($B4,'C conf old'!$B:$AH,23,0))) -> par | AF4: =IF(ISNA(VLOOKUP($B4,'C conf old'!$B:$AH,3,0)),"",VLOOKUP($B4,'C conf old'!$B:$AH,24,0)) -> 31 | AG4: =IF(ISNA(VLOOKUP($B4,'C conf old'!$B:$AH,3,0)),"",VLOOKUP($B4,'C conf old'!$B:$AH,25,0)) -> 6.1 | AH4: =IF(ISNA(VLOOKUP($B4,'C conf old'!$B:$AH,3,0)),"",VLOOKUP($B4,'C conf old'!$B:$AH,26,0)) -> 5.84 | AI4: =AK4*3+AL4 -> 3.7741935 | AJ4: =AI4/AF4 -> 0.12174818 | AK4: =IF(ISNA(VLOOKUP($B4,'C conf old'!$B:$AH,3,0)),"",VLOOKUP($B4,'C conf old'!$B:$AH,28,0)) -> 0.25806452 | AL4: =IF(ISNA(VLOOKUP($B4,'C conf old'!$B:$AH,3,0)),"",VLOOKUP($B4,'C conf old'!$B:$AH,29,0)) -> 3
B5: CERCI | D5: =VLOOKUP($B5,'C (tt>10)'!$B:$M,2,0) -> tor | E5: =VLOOKUP($B5,'C (tt>10)'!$B:$M,3,0) -> 37 | F5: =VLOOKUP($B5,'C (tt>10)'!$B:$M,4,0) -> 7.3108108 | G5: =VLOOKUP($B5,'C (tt>10)'!$B:$M,5,0) -> 6.2297297 | H5: =J5*3+K5 -> 48 | I5: =H5/E5 -> 1.2972973 | J5: =VLOOKUP($B5,'C (tt>10)'!$B:$M,7,0) -> 13 | K5: =VLOOKUP($B5,'C (tt>10)'!$B:$M,10,0) -> 9 | M5: =LOWER(IF(ISNA(VLOOKUP($B5,'C conf old'!$B:$AH,3,0)),"",VLOOKUP($B5,'C conf old'!$B:$AH,3,0))) -> tor | N5: =IF(ISNA(VLOOKUP($B5,'C conf old'!$B:$AH,3,0)),"",VLOOKUP($B5,'C conf old'!$B:$AH,4,0)) -> 35 | O5: =IF(ISNA(VLOOKUP($B5,'C conf old'!$B:$AH,3,0)),"",VLOOKUP($B5,'C conf old'!$B:$AH,5,0)) -> 7.2 | P5: =IF(ISNA(VLOOKUP($B5,'C conf old'!$B:$AH,3,0)),"",VLOOKUP($B5,'C conf old'!$B:$AH,6,0)) -> 6.36 | Q5: =S5*3+T5 -> 32 | R5: =Q5/N5 -> 0.91428571 | S5: =IF(ISNA(VLOOKUP($B5,'C conf old'!$B:$AH,3,0)),"",VLOOKUP($B5,'C conf old'!$B:$AH,9,0)) -> 8 | T5: =IF(ISNA(VLOOKUP($B5,'C conf old'!$B:$AH,3,0)),"",VLOOKUP($B5,'C conf old'!$B:$AH,10,0)) -> 8 | V5: =LOWER(IF(ISNA(VLOOKUP($B5,'C conf old'!$B:$AH,3,0)),"",VLOOKUP($B5,'C conf old'!$B:$AH,13,0))) -> fio | W5: =IF(ISNA(VLOOKUP($B5,'C conf old'!$B:$AH,3,0)),"",VLOOKUP($B5,'C conf old'!$B:$AH,14,0)) -> 23 | X5: =IF(ISNA(VLOOKUP($B5,'C conf old'!$B:$AH,3,0)),"",VLOOKUP($B5,'C conf old'!$B:$AH,15,0)) -> 6.35 | Y5: =IF(ISNA(VLOOKUP($B5,'C conf old'!$B:$AH,3,0)),"",VLOOKUP($B5,'C conf old'!$B:$AH,16,0)) -> 5.78 | Z5: =AB5*3+AC5 -> 16 | AA5: =Z5/W5 -> 0.69565217 | AB5: =IF(ISNA(VLOOKUP($B5,'C conf old'!$B:$AH,3,0)),"",VLOOKUP($B5,'C conf old'!$B:$AH,19,0)) -> 5 | AC5: =IF(ISNA(VLOOKUP($B5,'C conf old'!$B:$AH,3,0)),"",VLOOKUP($B5,'C conf old'!$B:$AH,20,0)) -> 1 | AE5: =LOWER(IF(ISNA(VLOOKUP($B5,'C conf old'!$B:$AH,3,0)),"",VLOOKUP($B5,'C conf old'!$B:$AH,23,0))) -> fio | AF5: =IF(ISNA(VLOOKUP($B5,'C conf old'!$B:$AH,3,0)),"",VLOOKUP($B5,'C conf old'!$B:$AH,24,0)) -> 24 | AG5: =IF(ISNA(VLOOKUP($B5,'C conf old'!$B:$AH,3,0)),"",VLOOKUP($B5,'C conf old'!$B:$AH,25,0)) -> 6.77 | AH5: =IF(ISNA(VLOOKUP($B5,'C conf old'!$B:$AH,3,0)),"",VLOOKUP($B5,'C conf old'!$B:$AH,26,0)) -> 5.83 | AI5: =AK5*3+AL5 -> 9.8125 | AJ5: =AI5/AF5 -> 0.40885417 | AK5: =IF(ISNA(VLOOKUP($B5,'C conf old'!$B:$AH,3,0)),"",VLOOKUP($B5,'C conf old'!$B:$AH,28,0)) -> 0.9375 | AL5: =IF(ISNA(VLOOKUP($B5,'C conf old'!$B:$AH,3,0)),"",VLOOKUP($B5,'C conf old'!$B:$AH,29,0)) -> 7
B6: POGBA | D6: =VLOOKUP($B6,'C (tt>10)'!$B:$M,2,0) -> juv | E6: =VLOOKUP($B6,'C (tt>10)'!$B:$M,3,0) -> 36 | F6: =VLOOKUP($B6,'C (tt>10)'!$B:$M,4,0) -> 7.1805556 | G6: =VLOOKUP($B6,'C (tt>10)'!$B:$M,5,0) -> 6.4861111 | H6: =J6*3+K6 -> 27 | I6: =H6/E6 -> 0.75 | J6: =VLOOKUP($B6,'C (tt>10)'!$B:$M,7,0) -> 7 | K6: =VLOOKUP($B6,'C (tt>10)'!$B:$M,10,0) -> 6 | M6: =LOWER(IF(ISNA(VLOOKUP($B6,'C conf old'!$B:$AH,3,0)),"",VLOOKUP($B6,'C conf old'!$B:$AH,3,0))) -> juv | N6: =IF(ISNA(VLOOKUP($B6,'C conf old'!$B:$AH,3,0)),"",VLOOKUP($B6,'C conf old'!$B:$AH,4,0)) -> 24 | O6: =IF(ISNA(VLOOKUP($B6,'C conf old'!$B:$AH,3,0)),"",VLOOKUP($B6,'C conf old'!$B:$AH,5,0)) -> 6.92 | P6: =IF(ISNA(VLOOKUP($B6,'C conf old'!$B:$AH,3,0)),"",VLOOKUP($B6,'C conf old'!$B:$AH,6,0)) -> 6.35 | Q6: =S6*3+T6 -> 15 | R6: =Q6/N6 -> 0.625 | S6: =IF(ISNA(VLOOKUP($B6,'C conf old'!$B:$AH,3,0)),"",VLOOKUP($B6,'C conf old'!$B:$AH,9,0)) -> 5 | T6: =IF(ISNA(VLOOKUP($B6,'C conf old'!$B:$AH,3,0)),"",VLOOKUP($B6,'C conf old'!$B:$AH,10,0)) -> 0
B7: VIDAL | D7: =VLOOKUP($B7,'C (tt>10)'!$B:$M,2,0) -> juv | E7: =VLOOKUP($B7,'C (tt>10)'!$B:$M,3,0) -> 29 | F7: =VLOOKUP($B7,'C (tt>10)'!$B:$M,4,0) -> 7.137931 | G7: =VLOOKUP($B7,'C (tt>10)'!$B:$M,5,0) -> 6.1034483 | H7: =J7*3+K7 -> 34 | I7: =H7/E7 -> 1.1724138 | J7: =VLOOKUP($B7,'C (tt>10)'!$B:$M,7,0) -> 11 | K7: =VLOOKUP($B7,'C (tt>10)'!$B:$M,10,0) -> 1 | M7: =LOWER(IF(ISNA(VLOOKUP($B7,'C conf old'!$B:$AH,3,0)),"",VLOOKUP($B7,'C conf old'!$B:$AH,3,0))) -> juv | N7: =IF(ISNA(VLOOKUP($B7,'C conf old'!$B:$AH,3,0)),"",VLOOKUP($B7,'C conf old'!$B:$AH,4,0)) -> 31 | O7: =IF(ISNA(VLOOKUP($B7,'C conf old'!$B:$AH,3,0)),"",VLOOKUP($B7,'C conf old'!$B:$AH,5,0)) -> 7.03 | P7: =IF(ISNA(VLOOKUP($B7,'C conf old'!$B:$AH,3,0)),"",VLOOKUP($B7,'C conf old'!$B:$AH,6,0)) -> 6.24 | Q7: =S7*3+T7 -> 36 | R7: =Q7/N7 -> 1.1612903 | S7: =IF(ISNA(VLOOKUP($B7,'C conf old'!$B:$AH,3,0)),"",VLOOKUP($B7,'C conf old'!$B:$AH,9,0)) -> 10 | T7: =IF(ISNA(VLOOKUP($B7,'C conf old'!$B:$AH,3,0)),"",VLOOKUP($B7,'C conf old'!$B:$AH,10,0)) -> 6 | V7: =LOWER(IF(ISNA(VLOOKUP($B7,'C conf old'!$B:$AH,3,0)),"",VLOOKUP($B7,'C conf old'!$B:$AH,13,0))) -> juv | W7: =IF(ISNA(VLOOKUP($B7,'C conf old'!$B:$AH,3,0)),"",VLOOKUP($B7,'C conf old'!$B:$AH,14,0)) -> 33 | X7: =IF(ISNA(VLOOKUP($B7,'C conf old'!$B:$AH,3,0)),"",VLOOKUP($B7,'C conf old'!$B:$AH,15,0)) -> 6.61 | Y7: =IF(ISNA(VLOOKUP($B7,'C conf old'!$B:$AH,3,0)),"",VLOOKUP($B7,'C conf old'!$B:$AH,16,0)) -> 6.12 | Z7: =AB7*3+AC7 -> 23 | AA7: =Z7/W7 -> 0.6969697 | AB7: =IF(ISNA(VLOOKUP($B7,'C conf old'!$B:$AH,3,0)),"",VLOOKUP($B7,'C conf old'!$B:$AH,19,0)) -> 7 | AC7: =IF(ISNA(VLOOKUP($B7,'C conf old'!$B:$AH,3,0)),"",VLOOKUP($B7,'C conf old'!$B:$AH,20,0)) -> 2
B8: STROOTMAN | D8: =VLOOKUP($B8,'C (tt>10)'!$B:$M,2,0) -> rom | E8: =VLOOKUP($B8,'C (tt>10)'!$B:$M,3,0) -> 24 | F8: =VLOOKUP($B8,'C (tt>10)'!$B:$M,4,0) -> 7.1041667 | G8: =VLOOKUP($B8,'C (tt>10)'!$B:$M,5,0) -> 6.4375 | H8: =J8*3+K8 -> 19 | I8: =H8/E8 -> 0.79166667 | J8: =VLOOKUP($B8,'C (tt>10)'!$B:$M,7,0) -> 5 | K8: =VLOOKUP($B8,'C (tt>10)'!$B:$M,10,0) -> 4 | M8: =LOWER(IF(ISNA(VLOOKUP($B8,'C conf old'!$B:$AH,3,0)),"",VLOOKUP($B8,'C conf old'!$B:$AH,3,0))) | N8: =IF(ISNA(VLOOKUP($B8,'C conf old'!$B:$AH,3,0)),"",VLOOKUP($B8,'C conf old'!$B:$AH,4,0)) | O8: =IF(ISNA(VLOOKUP($B8,'C conf old'!$B:$AH,3,0)),"",VLOOKUP($B8,'C conf old'!$B:$AH,5,0))
B9: ROMULO | D9: =VLOOKUP($B9,'C (tt>10)'!$B:$M,2,0) -> ver | E9: =VLOOKUP($B9,'C (tt>10)'!$B:$M,3,0) -> 32 | F9: =VLOOKUP($B9,'C (tt>10)'!$B:$M,4,0) -> 7.03125 | G9: =VLOOKUP($B9,'C (tt>10)'!$B:$M,5,0) -> 6.28125 | H9: =J9*3+K9 -> 26 | I9: =H9/E9 -> 0.8125 | J9: =VLOOKUP($B9,'C (tt>10)'!$B:$M,7,0) -> 6 | K9: =VLOOKUP($B9,'C (tt>10)'!$B:$M,10,0) -> 8 | M9: =LOWER(IF(ISNA(VLOOKUP($B9,'C conf old'!$B:$AH,3,0)),"",VLOOKUP($B9,'C conf old'!$B:$AH,3,0))) | N9: =IF(ISNA(VLOOKUP($B9,'C conf old'!$B:$AH,3,0)),"",VLOOKUP($B9,'C conf old'!$B:$AH,4,0)) | O9: =IF(ISNA(VLOOKUP($B9,'C conf old'!$B:$AH,3,0)),"",VLOOKUP($B9,'C conf old'!$B:$AH,5,0)) | V9: =LOWER(IF(ISNA(VLOOKUP($B9,'C conf old'!$B:$AH,3,0)),"",VLOOKUP($B9,'C conf old'!$B:$AH,3,0))) | W9: =IF(ISNA(VLOOKUP($B9,'C conf old'!$B:$AH,3,0)),"",VLOOKUP($B9,'C conf old'!$B:$AH,4,0)) | X9: =IF(ISNA(VLOOKUP($B9,'C conf old'!$B:$AH,3,0)),"",VLOOKUP($B9,'C conf old'!$B:$AH,5,0)) | AE9: =LOWER(IF(ISNA(VLOOKUP($B9,'C conf old'!$B:$AH,3,0)),"",VLOOKUP($B9,'C conf old'!$B:$AH,3,0))) | AF9: =IF(ISNA(VLOOKUP($B9,'C conf old'!$B:$AH,3,0)),"",VLOOKUP($B9,'C conf old'!$B:$AH,4,0)) | AG9: =IF(ISNA(VLOOKUP($B9,'C conf old'!$B:$AH,3,0)),"",VLOOKUP($B9,'C conf old'!$B:$AH,5,0))
B10: BORJA VALERO | D10: =VLOOKUP($B10,'C (tt>10)'!$B:$M,2,0) -> fio | E10: =VLOOKUP($B10,'C (tt>10)'!$B:$M,3,0) -> 32 | F10: =VLOOKUP($B10,'C (tt>10)'!$B:$M,4,0) -> 7 | G10: =VLOOKUP($B10,'C (tt>10)'!$B:$M,5,0) -> 6.328125 | H10: =J10*3+K10 -> 25 | I10: =H10/E10 -> 0.78125 | J10: =VLOOKUP($B10,'C (tt>10)'!$B:$M,7,0) -> 6 | K10: =VLOOKUP($B10,'C (tt>10)'!$B:$M,10,0) -> 7 | M10: =LOWER(IF(ISNA(VLOOKUP($B10,'C conf old'!$B:$AH,3,0)),"",VLOOKUP($B10,'C conf old'!$B:$AH,3,0))) -> fio | N10: =IF(ISNA(VLOOKUP($B10,'C conf old'!$B:$AH,3,0)),"",VLOOKUP($B10,'C conf old'!$B:$AH,4,0)) -> 37 | O10: =IF(ISNA(VLOOKUP($B10,'C conf old'!$B:$AH,3,0)),"",VLOOKUP($B10,'C conf old'!$B:$AH,5,0)) -> 6.74 | P10: =IF(ISNA(VLOOKUP($B10,'C conf old'!$B:$AH,3,0)),"",VLOOKUP($B10,'C conf old'!$B:$AH,6,0)) -> 6.47 | Q10: =S10*3+T10 -> 12 | R10: =Q10/N10 -> 0.32432432 | S10: =IF(ISNA(VLOOKUP($B10,'C conf old'!$B:$AH,3,0)),"",VLOOKUP($B10,'C conf old'!$B:$AH,9,0)) -> 1 | T10: =IF(ISNA(VLOOKUP($B10,'C conf old'!$B:$AH,3,0)),"",VLOOKUP($B10,'C conf old'!$B:$AH,10,0)) -> 9
B11: TAARABT | D11: =VLOOKUP($B11,'C (tt>10)'!$B:$M,2,0) -> mil | E11: =VLOOKUP($B11,'C (tt>10)'!$B:$M,3,0) -> 14 | F11: =VLOOKUP($B11,'C (tt>10)'!$B:$M,4,0) -> 6.9642857 | G11: =VLOOKUP($B11,'C (tt>10)'!$B:$M,5,0) -> 6.2142857 | H11: =J11*3+K11 -> 12 | I11: =H11/E11 -> 0.85714286 | J11: =VLOOKUP($B11,'C (tt>10)'!$B:$M,7,0) -> 4 | K11: =VLOOKUP($B11,'C (tt>10)'!$B:$M,10,0) -> 0 | M11: =LOWER(IF(ISNA(VLOOKUP($B11,'C conf old'!$B:$AH,3,0)),"",VLOOKUP($B11,'C conf old'!$B:$AH,3,0))) | N11: =IF(ISNA(VLOOKUP($B11,'C conf old'!$B:$AH,3,0)),"",VLOOKUP($B11,'C conf old'!$B:$AH,4,0)) | O11: =IF(ISNA(VLOOKUP($B11,'C conf old'!$B:$AH,3,0)),"",VLOOKUP($B11,'C conf old'!$B:$AH,5,0))
B12: MAURI S. | D12: =VLOOKUP($B12,'C (tt>10)'!$B:$M,2,0) -> laz | E12: =VLOOKUP($B12,'C (tt>10)'!$B:$M,3,0) -> 10 | F12: =VLOOKUP($B12,'C (tt>10)'!$B:$M,4,0) -> 6.95 | G12: =VLOOKUP($B12,'C (tt>10)'!$B:$M,5,0) -> 6 | H12: =J12*3+K12 -> 13 | I12: =H12/E12 -> 1.3 | J12: =VLOOKUP($B12,'C (tt>10)'!$B:$M,7,0) -> 4 | K12: =VLOOKUP($B12,'C (tt>10)'!$B:$M,10,0) -> 1 | M12: =LOWER(IF(ISNA(VLOOKUP($B12,'C conf old'!$B:$AH,3,0)),"",VLOOKUP($B12,'C conf old'!$B:$AH,3,0))) | N12: =IF(ISNA(VLOOKUP($B12,'C conf old'!$B:$AH,3,0)),"",VLOOKUP($B12,'C conf old'!$B:$AH,4,0)) | O12: =IF(ISNA(VLOOKUP($B12,'C conf old'!$B:$AH,3,0)),"",VLOOKUP($B12,'C conf old'!$B:$AH,5,0))
B13: PJANIC | D13: =VLOOKUP($B13,'C (tt>10)'!$B:$M,2,0) -> rom | E13: =VLOOKUP($B13,'C (tt>10)'!$B:$M,3,0) -> 35 | F13: =VLOOKUP($B13,'C (tt>10)'!$B:$M,4,0) -> 6.9142857 | G13: =VLOOKUP($B13,'C (tt>10)'!$B:$M,5,0) -> 6.5285714 | H13: =J13*3+K13 -> 18 | I13: =H13/E13 -> 0.51428571 | J13: =VLOOKUP($B13,'C (tt>10)'!$B:$M,7,0) -> 5 | K13: =VLOOKUP($B13,'C (tt>10)'!$B:$M,10,0) -> 3 | M13: =LOWER(IF(ISNA(VLOOKUP($B13,'C conf old'!$B:$AH,3,0)),"",VLOOKUP($B13,'C conf old'!$B:$AH,3,0))) -> rom | N13: =IF(ISNA(VLOOKUP($B13,'C conf old'!$B:$AH,3,0)),"",VLOOKUP($B13,'C conf old'!$B:$AH,4,0)) -> 25 | O13: =IF(ISNA(VLOOKUP($B13,'C conf old'!$B:$AH,3,0)),"",VLOOKUP($B13,'C conf old'!$B:$AH,5,0)) -> 6.4 | P13: =IF(ISNA(VLOOKUP($B13,'C conf old'!$B:$AH,3,0)),"",VLOOKUP($B13,'C conf old'!$B:$AH,6,0)) -> 6 | Q13: =S13*3+T13 -> 14 | R13: =Q13/N13 -> 0.56 | S13: =IF(ISNA(VLOOKUP($B13,'C conf old'!$B:$AH,3,0)),"",VLOOKUP($B13,'C conf old'!$B:$AH,9,0)) -> 3 | T13: =IF(ISNA(VLOOKUP($B13,'C conf old'!$B:$AH,3,0)),"",VLOOKUP($B13,'C conf old'!$B:$AH,10,0)) -> 5 | V13: =LOWER(IF(ISNA(VLOOKUP($B13,'C conf old'!$B:$AH,3,0)),"",VLOOKUP($B13,'C conf old'!$B:$AH,13,0))) -> rom | W13: =IF(ISNA(VLOOKUP($B13,'C conf old'!$B:$AH,3,0)),"",VLOOKUP($B13,'C conf old'!$B:$AH,14,0)) -> 30 | X13: =IF(ISNA(VLOOKUP($B13,'C conf old'!$B:$AH,3,0)),"",VLOOKUP($B13,'C conf old'!$B:$AH,15,0)) -> 6.35 | Y13: =IF(ISNA(VLOOKUP($B13,'C conf old'!$B:$AH,3,0)),"",VLOOKUP($B13,'C conf old'!$B:$AH,16,0)) -> 5.93 | Z13: =AB13*3+AC13 -> 15 | AA13: =Z13/W13 -> 0.5 | AB13: =IF(ISNA(VLOOKUP($B13,'C conf old'!$B:$AH,3,0)),"",VLOOKUP($B13,'C conf old'!$B:$AH,19,0)) -> 3 | AC13: =IF(ISNA(VLOOKUP($B13,'C conf old'!$B:$AH,3,0)),"",VLOOKUP($B13,'C conf old'!$B:$AH,20,0)) -> 6
B14: FLORENZI | D14: =VLOOKUP($B14,'C (tt>10)'!$B:$M,2,0) -> rom | E14: =VLOOKUP($B14,'C (tt>10)'!$B:$M,3,0) -> 30 | F14: =VLOOKUP($B14,'C (tt>10)'!$B:$M,4,0) -> 6.9 | G14: =VLOOKUP($B14,'C (tt>10)'!$B:$M,5,0) -> 6.2 | H14: =J14*3+K14 -> 23 | I14: =H14/E14 -> 0.76666667 | J14: =VLOOKUP($B14,'C (tt>10)'!$B:$M,7,0) -> 6 | K14: =VLOOKUP($B14,'C (tt>10)'!$B:$M,10,0) -> 5 | M14: =LOWER(IF(ISNA(VLOOKUP($B14,'C conf old'!$B:$AH,3,0)),"",VLOOKUP($B14,'C conf old'!$B:$AH,3,0))) -> rom | N14: =IF(ISNA(VLOOKUP($B14,'C conf old'!$B:$AH,3,0)),"",VLOOKUP($B14,'C conf old'!$B:$AH,4,0)) -> 33 | O14: =IF(ISNA(VLOOKUP($B14,'C conf old'!$B:$AH,3,0)),"",VLOOKUP($B14,'C conf old'!$B:$AH,5,0)) -> 6.44 | P14: =IF(ISNA(VLOOKUP($B14,'C conf old'!$B:$AH,3,0)),"",VLOOKUP($B14,'C conf old'!$B:$AH,6,0)) -> 6.12 | Q14: =S14*3+T14 -> 12 | R14: =Q14/N14 -> 0.36363636 | S14: =IF(ISNA(VLOOKUP($B14,'C conf old'!$B:$AH,3,0)),"",VLOOKUP($B14,'C conf old'!$B:$AH,9,0)) -> 3 | T14: =IF(ISNA(VLOOKUP($B14,'C conf old'!$B:$AH,3,0)),"",VLOOKUP($B14,'C conf old'!$B:$AH,10,0)) -> 3
B15: DIAMANTI | D15: =VLOOKUP($B15,'C (tt>10)'!$B:$M,2,0) -> bol | E15: =VLOOKUP($B15,'C (tt>10)'!$B:$M,3,0) -> 19 | F15: =VLOOKUP($B15,'C (tt>10)'!$B:$M,4,0) -> 6.8947368 | G15: =VLOOKUP($B15,'C (tt>10)'!$B:$M,5,0) -> 6.1842105 | H15: =J15*3+K15 -> 18 | I15: =H15/E15 -> 0.94736842 | J15: =VLOOKUP($B15,'C (tt>10)'!$B:$M,7,0) -> 5 | K15: =VLOOKUP($B15,'C (tt>10)'!$B:$M,10,0) -> 3 | M15: =LOWER(IF(ISNA(VLOOKUP($B15,'C conf old'!$B:$AH,3,0)),"",VLOOKUP($B15,'C conf old'!$B:$AH,3,0))) -> bol | N15: =IF(ISNA(VLOOKUP($B15,'C conf old'!$B:$AH,3,0)),"",VLOOKUP($B15,'C conf old'!$B:$AH,4,0)) -> 34 | O15: =IF(ISNA(VLOOKUP($B15,'C conf old'!$B:$AH,3,0)),"",VLOOKUP($B15,'C conf old'!$B:$AH,5,0)) -> 6.9 | P15: =IF(ISNA(VLOOKUP($B15,'C conf old'!$B:$AH,3,0)),"",VLOOKUP($B15,'C conf old'!$B:$AH,6,0)) -> 6.31 | Q15: =S15*3+T15 -> 28 | R15: =Q15/N15 -> 0.82352941 | S15: =IF(ISNA(VLOOKUP($B15,'C conf old'!$B:$AH,3,0)),"",VLOOKUP($B15,'C conf old'!$B:$AH,9,0)) -> 7 | T15: =IF(ISNA(VLOOKUP($B15,'C conf old'!$B:$AH,3,0)),"",VLOOKUP($B15,'C conf old'!$B:$AH,10,0)) -> 7 | V15: =LOWER(IF(ISNA(VLOOKUP($B15,'C conf old'!$B:$AH,3,0)),"",VLOOKUP($B15,'C conf old'!$B:$AH,13,0))) -> bol | W15: =IF(ISNA(VLOOKUP($B15,'C conf old'!$B:$AH,3,0)),"",VLOOKUP($B15,'C conf old'!$B:$AH,14,0)) -> 26 | X15: =IF(ISNA(VLOOKUP($B15,'C conf old'!$B:$AH,3,0)),"",VLOOKUP($B15,'C conf old'!$B:$AH,15,0)) -> 7.33 | Y15: =IF(ISNA(VLOOKUP($B15,'C conf old'!$B:$AH,3,0)),"",VLOOKUP($B15,'C conf old'!$B:$AH,16,0)) -> 6.4 | Z15: =AB15*3+AC15 -> 27 | AA15: =Z15/W15 -> 1.0384615 | AB15: =IF(ISNA(VLOOKUP($B15,'C conf old'!$B:$AH,3,0)),"",VLOOKUP($B15,'C conf old'!$B:$AH,19,0)) -> 7 | AC15: =IF(ISNA(VLOOKUP($B15,'C conf old'!$B:$AH,3,0)),"",VLOOKUP($B15,'C conf old'!$B:$AH,20,0)) -> 6 | AE15: =LOWER(IF(ISNA(VLOOKUP($B15,'C conf old'!$B:$AH,3,0)),"",VLOOKUP($B15,'C conf old'!$B:$AH,23,0))) -> bre | AF15: =IF(ISNA(VLOOKUP($B15,'C conf old'!$B:$AH,3,0)),"",VLOOKUP($B15,'C conf old'!$B:$AH,24,0)) -> 32 | AG15: =IF(ISNA(VLOOKUP($B15,'C conf old'!$B:$AH,3,0)),"",VLOOKUP($B15,'C conf old'!$B:$AH,25,0)) -> 6.55 | AH15: =IF(ISNA(VLOOKUP($B15,'C conf old'!$B:$AH,3,0)),"",VLOOKUP($B15,'C conf old'!$B:$AH,26,0)) -> 6.02 | AI15: =AK15*3+AL15 -> 7.6875 | AJ15: =AI15/AF15 -> 0.24023438 | AK15: =IF(ISNA(VLOOKUP($B15,'C conf old'!$B:$AH,3,0)),"",VLOOKUP($B15,'C conf old'!$B:$AH,28,0)) -> 0.5625 | AL15: =IF(ISNA(VLOOKUP($B15,'C conf old'!$B:$AH,3,0)),"",VLOOKUP($B15,'C conf old'!$B:$AH,29,0)) -> 6
B16: DZEMAILI | D16: =VLOOKUP($B16,'C (tt>10)'!$B:$M,2,0) -> nap | E16: =VLOOKUP($B16,'C (tt>10)'!$B:$M,3,0) -> 20 | F16: =VLOOKUP($B16,'C (tt>10)'!$B:$M,4,0) -> 6.85 | G16: =VLOOKUP($B16,'C (tt>10)'!$B:$M,5,0) -> 6 | H16: =J16*3+K16 -> 19 | I16: =H16/E16 -> 0.95 | J16: =VLOOKUP($B16,'C (tt>10)'!$B:$M,7,0) -> 6 | K16: =VLOOKUP($B16,'C (tt>10)'!$B:$M,10,0) -> 1 | M16: =LOWER(IF(ISNA(VLOOKUP($B16,'C conf old'!$B:$AH,3,0)),"",VLOOKUP($B16,'C conf old'!$B:$AH,3,0))) -> nap | N16: =IF(ISNA(VLOOKUP($B16,'C conf old'!$B:$AH,3,0)),"",VLOOKUP($B16,'C conf old'!$B:$AH,4,0)) -> 29 | O16: =IF(ISNA(VLOOKUP($B16,'C conf old'!$B:$AH,3,0)),"",VLOOKUP($B16,'C conf old'!$B:$AH,5,0)) -> 6.62 | P16: =IF(ISNA(VLOOKUP($B16,'C conf old'!$B:$AH,3,0)),"",VLOOKUP($B16,'C conf old'!$B:$AH,6,0)) -> 5.95 | Q16: =S16*3+T16 -> 23 | R16: =Q16/N16 -> 0.79310345 | S16: =IF(ISNA(VLOOKUP($B16,'C conf old'!$B:$AH,3,0)),"",VLOOKUP($B16,'C conf old'!$B:$AH,9,0)) -> 7 | T16: =IF(ISNA(VLOOKUP($B16,'C conf old'!$B:$AH,3,0)),"",VLOOKUP($B16,'C conf old'!$B:$AH,10,0)) -> 2 | V16: =LOWER(IF(ISNA(VLOOKUP($B16,'C conf old'!$B:$AH,3,0)),"",VLOOKUP($B16,'C conf old'!$B:$AH,13,0))) -> nap | W16: =IF(ISNA(VLOOKUP($B16,'C conf old'!$B:$AH,3,0)),"",VLOOKUP($B16,'C conf old'!$B:$AH,14,0)) -> 28 | X16: =IF(ISNA(VLOOKUP($B16,'C conf old'!$B:$AH,3,0)),"",VLOOKUP($B16,'C conf old'!$B:$AH,15,0)) -> 6.05 | Y16: =IF(ISNA(VLOOKUP($B16,'C conf old'!$B:$AH,3,0)),"",VLOOKUP($B16,'C conf old'!$B:$AH,16,0)) -> 5.77 | Z16: =AB16*3+AC16 -> 13 | AA16: =Z16/W16 -> 0.46428571 | AB16: =IF(ISNA(VLOOKUP($B16,'C conf old'!$B:$AH,3,0)),"",VLOOKUP($B16,'C conf old'!$B:$AH,19,0)) -> 3 | AC16: =IF(ISNA(VLOOKUP($B16,'C conf old'!$B:$AH,3,0)),"",VLOOKUP($B16,'C conf old'!$B:$AH,20,0)) -> 4 | AE16: =LOWER(IF(ISNA(VLOOKUP($B16,'C conf old'!$B:$AH,3,0)),"",VLOOKUP($B16,'C conf old'!$B:$AH,23,0))) -> par | AF16: =IF(ISNA(VLOOKUP($B16,'C conf old'!$B:$AH,3,0)),"",VLOOKUP($B16,'C conf old'!$B:$AH,24,0)) -> 29 | AG16: =IF(ISNA(VLOOKUP($B16,'C conf old'!$B:$AH,3,0)),"",VLOOKUP($B16,'C conf old'!$B:$AH,25,0)) -> 5.93 | AH16: =IF(ISNA(VLOOKUP($B16,'C conf old'!$B:$AH,3,0)),"",VLOOKUP($B16,'C conf old'!$B:$AH,26,0)) -> 6.03 | AI16: =AK16*3+AL16 -> 0.89655172 | AJ16: =AI16/AF16 -> 0.030915577 | AK16: =IF(ISNA(VLOOKUP($B16,'C conf old'!$B:$AH,3,0)),"",VLOOKUP($B16,'C conf old'!$B:$AH,28,0)) -> -0.034482759 | AL16: =IF(ISNA(VLOOKUP($B16,'C conf old'!$B:$AH,3,0)),"",VLOOKUP($B16,'C conf old'!$B:$AH,29,0)) -> 1
B17: PAROLO | D17: =VLOOKUP($B17,'C (tt>10)'!$B:$M,2,0) -> par | E17: =VLOOKUP($B17,'C (tt>10)'!$B:$M,3,0) -> 36 | F17: =VLOOKUP($B17,'C (tt>10)'!$B:$M,4,0) -> 6.8472222 | G17: =VLOOKUP($B17,'C (tt>10)'!$B:$M,5,0) -> 6.1944444 | H17: =J17*3+K17 -> 28 | I17: =H17/E17 -> 0.77777778 | J17: =VLOOKUP($B17,'C (tt>10)'!$B:$M,7,0) -> 8 | K17: =VLOOKUP($B17,'C (tt>10)'!$B:$M,10,0) -> 4 | M17: =LOWER(IF(ISNA(VLOOKUP($B17,'C conf old'!$B:$AH,3,0)),"",VLOOKUP($B17,'C conf old'!$B:$AH,3,0))) | N17: =IF(ISNA(VLOOKUP($B17,'C conf old'!$B:$AH,3,0)),"",VLOOKUP($B17,'C conf old'!$B:$AH,4,0)) | O17: =IF(ISNA(VLOOKUP($B17,'C conf old'!$B:$AH,3,0)),"",VLOOKUP($B17,'C conf old'!$B:$AH,5,0)) | V17: =LOWER(IF(ISNA(VLOOKUP($B17,'C conf old'!$B:$AH,3,0)),"",VLOOKUP($B17,'C conf old'!$B:$AH,3,0))) | W17: =IF(ISNA(VLOOKUP($B17,'C conf old'!$B:$AH,3,0)),"",VLOOKUP($B17,'C conf old'!$B:$AH,4,0)) | X17: =IF(ISNA(VLOOKUP($B17,'C conf old'!$B:$AH,3,0)),"",VLOOKUP($B17,'C conf old'!$B:$AH,5,0)) | AE17: =LOWER(IF(ISNA(VLOOKUP($B17,'C conf old'!$B:$AH,3,0)),"",VLOOKUP($B17,'C conf old'!$B:$AH,3,0))) | AF17: =IF(ISNA(VLOOKUP($B17,'C conf old'!$B:$AH,3,0)),"",VLOOKUP($B17,'C conf old'!$B:$AH,4,0)) | AG17: =IF(ISNA(VLOOKUP($B17,'C conf old'!$B:$AH,3,0)),"",VLOOKUP($B17,'C conf old'!$B:$AH,5,0))
B18: BONAVENTURA | D18: =VLOOKUP($B18,'C (tt>10)'!$B:$M,2,0) -> ata | E18: =VLOOKUP($B18,'C (tt>10)'!$B:$M,3,0) -> 31 | F18: =VLOOKUP($B18,'C (tt>10)'!$B:$M,4,0) -> 6.8387097 | G18: =VLOOKUP($B18,'C (tt>10)'!$B:$M,5,0) -> 6.3064516 | H18: =J18*3+K18 -> 17 | I18: =H18/E18 -> 0.5483871 | J18: =VLOOKUP($B18,'C (tt>10)'!$B:$M,7,0) -> 5 | K18: =VLOOKUP($B18,'C (tt>10)'!$B:$M,10,0) -> 2 | M18: =LOWER(IF(ISNA(VLOOKUP($B18,'C conf old'!$B:$AH,3,0)),"",VLOOKUP($B18,'C conf old'!$B:$AH,3,0))) -> ata | N18: =IF(ISNA(VLOOKUP($B18,'C conf old'!$B:$AH,3,0)),"",VLOOKUP($B18,'C conf old'!$B:$AH,4,0)) -> 34 | O18: =IF(ISNA(VLOOKUP($B18,'C conf old'!$B:$AH,3,0)),"",VLOOKUP($B18,'C conf old'!$B:$AH,5,0)) -> 6.71 | P18: =IF(ISNA(VLOOKUP($B18,'C conf old'!$B:$AH,3,0)),"",VLOOKUP($B18,'C conf old'!$B:$AH,6,0)) -> 6.18 | Q18: =S18*3+T18 -> 22 | R18: =Q18/N18 -> 0.64705882 | S18: =IF(ISNA(VLOOKUP($B18,'C conf old'!$B:$AH,3,0)),"",VLOOKUP($B18,'C conf old'!$B:$AH,9,0)) -> 7 | T18: =IF(ISNA(VLOOKUP($B18,'C conf old'!$B:$AH,3,0)),"",VLOOKUP($B18,'C conf old'!$B:$AH,10,0)) -> 1 | V18: =LOWER(IF(ISNA(VLOOKUP($B18,'C conf old'!$B:$AH,3,0)),"",VLOOKUP($B18,'C conf old'!$B:$AH,13,0))) -> ata | W18: =IF(ISNA(VLOOKUP($B18,'C conf old'!$B:$AH,3,0)),"",VLOOKUP($B18,'C conf old'!$B:$AH,14,0)) -> 28 | X18: =IF(ISNA(VLOOKUP($B18,'C conf old'!$B:$AH,3,0)),"",VLOOKUP($B18,'C conf old'!$B:$AH,15,0)) -> 6.3 | Y18: =IF(ISNA(VLOOKUP($B18,'C conf old'!$B:$AH,3,0)),"",VLOOKUP($B18,'C conf old'!$B:$AH,16,0)) -> 6.07 | Z18: =AB18*3+AC18 -> 7 | AA18: =Z18/W18 -> 0.25 | AB18: =IF(ISNA(VLOOKUP($B18,'C conf old'!$B:$AH,3,0)),"",VLOOKUP($B18,'C conf old'!$B:$AH,19,0)) -> 2 | AC18: =IF(ISNA(VLOOKUP($B18,'C conf old'!$B:$AH,3,0)),"",VLOOKUP($B18,'C conf old'!$B:$AH,20,0)) -> 1
B19: LJAJIC | D19: =VLOOKUP($B19,'C (tt>10)'!$B:$M,2,0) -> rom | E19: =VLOOKUP($B19,'C (tt>10)'!$B:$M,3,0) -> 27 | F19: =VLOOKUP($B19,'C (tt>10)'!$B:$M,4,0) -> 6.7592593 | G19: =VLOOKUP($B19,'C (tt>10)'!$B:$M,5,0) -> 6 | H19: =J19*3+K19 -> 23 | I19: =H19/E19 -> 0.85185185 | J19: =VLOOKUP($B19,'C (tt>10)'!$B:$M,7,0) -> 6 | K19: =VLOOKUP($B19,'C (tt>10)'!$B:$M,10,0) -> 5 | M19: =LOWER(IF(ISNA(VLOOKUP($B19,'C conf old'!$B:$AH,3,0)),"",VLOOKUP($B19,'C conf old'!$B:$AH,3,0))) -> fio | N19: =IF(ISNA(VLOOKUP($B19,'C conf old'!$B:$AH,3,0)),"",VLOOKUP($B19,'C conf old'!$B:$AH,4,0)) -> 26 | O19: =IF(ISNA(VLOOKUP($B19,'C conf old'!$B:$AH,3,0)),"",VLOOKUP($B19,'C conf old'!$B:$AH,5,0)) -> 7.63 | P19: =IF(ISNA(VLOOKUP($B19,'C conf old'!$B:$AH,3,0)),"",VLOOKUP($B19,'C conf old'!$B:$AH,6,0)) -> 6.29 | Q19: =S19*3+T19 -> 36 | R19: =Q19/N19 -> 1.3846154 | S19: =IF(ISNA(VLOOKUP($B19,'C conf old'!$B:$AH,3,0)),"",VLOOKUP($B19,'C conf old'!$B:$AH,9,0)) -> 11 | T19: =IF(ISNA(VLOOKUP($B19,'C conf old'!$B:$AH,3,0)),"",VLOOKUP($B19,'C conf old'!$B:$AH,10,0)) -> 3 | V19: =LOWER(IF(ISNA(VLOOKUP($B19,'C conf old'!$B:$AH,3,0)),"",VLOOKUP($B19,'C conf old'!$B:$AH,13,0))) -> fio | W19: =IF(ISNA(VLOOKUP($B19,'C conf old'!$B:$AH,3,0)),"",VLOOKUP($B19,'C conf old'!$B:$AH,14,0)) -> 13 | X19: =IF(ISNA(VLOOKUP($B19,'C conf old'!$B:$AH,3,0)),"",VLOOKUP($B19,'C conf old'!$B:$AH,15,0)) -> 5.23 | Y19: =IF(ISNA(VLOOKUP($B19,'C conf old'!$B:$AH,3,0)),"",VLOOKUP($B19,'C conf old'!$B:$AH,16,0)) -> 5.19 | Z19: =AB19*3+AC19 -> 4 | AA19: =Z19/W19 -> 0.30769231 | AB19: =IF(ISNA(VLOOKUP($B19,'C conf old'!$B:$AH,3,0)),"",VLOOKUP($B19,'C conf old'!$B:$AH,19,0)) -> 1 | AC19: =IF(ISNA(VLOOKUP($B19,'C conf old'!$B:$AH,3,0)),"",VLOOKUP($B19,'C conf old'!$B:$AH,20,0)) -> 1 | AE19: =LOWER(IF(ISNA(VLOOKUP($B19,'C conf old'!$B:$AH,3,0)),"",VLOOKUP($B19,'C conf old'!$B:$AH,23,0))) -> fio | AF19: =IF(ISNA(VLOOKUP($B19,'C conf old'!$B:$AH,3,0)),"",VLOOKUP($B19,'C conf old'!$B:$AH,24,0)) -> 25 | AG19: =IF(ISNA(VLOOKUP($B19,'C conf old'!$B:$AH,3,0)),"",VLOOKUP($B19,'C conf old'!$B:$AH,25,0)) -> 6.1 | AH19: =IF(ISNA(VLOOKUP($B19,'C conf old'!$B:$AH,3,0)),"",VLOOKUP($B19,'C conf old'!$B:$AH,26,0)) -> 5.78 | AI19: =AK19*3+AL19 -> 4.32 | AJ19: =AI19/AF19 -> 0.1728 | AK19: =IF(ISNA(VLOOKUP($B19,'C conf old'!$B:$AH,3,0)),"",VLOOKUP($B19,'C conf old'!$B:$AH,28,0)) -> 0.44 | AL19: =IF(ISNA(VLOOKUP($B19,'C conf old'!$B:$AH,3,0)),"",VLOOKUP($B19,'C conf old'!$B:$AH,29,0)) -> 3
B20: KAKA | D20: =VLOOKUP($B20,'C (tt>10)'!$B:$M,2,0) -> mil | E20: =VLOOKUP($B20,'C (tt>10)'!$B:$M,3,0) -> 30 | F20: =VLOOKUP($B20,'C (tt>10)'!$B:$M,4,0) -> 6.75 | G20: =VLOOKUP($B20,'C (tt>10)'!$B:$M,5,0) -> 6.0166667 | H20: =J20*3+K20 -> 23 | I20: =H20/E20 -> 0.76666667 | J20: =VLOOKUP($B20,'C (tt>10)'!$B:$M,7,0) -> 7 | K20: =VLOOKUP($B20,'C (tt>10)'!$B:$M,10,0) -> 2 | M20: =LOWER(IF(ISNA(VLOOKUP($B20,'C conf old'!$B:$AH,3,0)),"",VLOOKUP($B20,'C conf old'!$B:$AH,3,0))) | N20: =IF(ISNA(VLOOKUP($B20,'C conf old'!$B:$AH,3,0)),"",VLOOKUP($B20,'C conf old'!$B:$AH,4,0)) | O20: =IF(ISNA(VLOOKUP($B20,'C conf old'!$B:$AH,3,0)),"",VLOOKUP($B20,'C conf old'!$B:$AH,5,0)) | P20: =IF(ISNA(VLOOKUP($B20,'C conf old'!$B:$AH,3,0)),"",VLOOKUP($B20,'C conf old'!$B:$AH,6,0)) | Q20: =S20*3+T20 -> 0
B21: FERNANDES | D21: =VLOOKUP($B21,'C (tt>10)'!$B:$M,2,0) -> udi | E21: =VLOOKUP($B21,'C (tt>10)'!$B:$M,3,0) -> 24 | F21: =VLOOKUP($B21,'C (tt>10)'!$B:$M,4,0) -> 6.6875 | G21: =VLOOKUP($B21,'C (tt>10)'!$B:$M,5,0) -> 6.0208333 | H21: =J21*3+K21 -> 18 | I21: =H21/E21 -> 0.75 | J21: =VLOOKUP($B21,'C (tt>10)'!$B:$M,7,0) -> 5 | K21: =VLOOKUP($B21,'C (tt>10)'!$B:$M,10,0) -> 3 | M21: =LOWER(IF(ISNA(VLOOKUP($B21,'C conf old'!$B:$AH,3,0)),"",VLOOKUP($B21,'C conf old'!$B:$AH,3,0))) | N21: =IF(ISNA(VLOOKUP($B21,'C conf old'!$B:$AH,3,0)),"",VLOOKUP($B21,'C conf old'!$B:$AH,4,0)) | O21: =IF(ISNA(VLOOKUP($B21,'C conf old'!$B:$AH,3,0)),"",VLOOKUP($B21,'C conf old'!$B:$AH,5,0)) | P21: =IF(ISNA(VLOOKUP($B21,'C conf old'!$B:$AH,3,0)),"",VLOOKUP($B21,'C conf old'!$B:$AH,6,0)) | Q21: =S21*3+T21 -> 0
B22: BIABIANY | D22: =VLOOKUP($B22,'C (tt>10)'!$B:$M,2,0) -> par | E22: =VLOOKUP($B22,'C (tt>10)'!$B:$M,3,0) -> 35 | F22: =VLOOKUP($B22,'C (tt>10)'!$B:$M,4,0) -> 6.6428571 | G22: =VLOOKUP($B22,'C (tt>10)'!$B:$M,5,0) -> 6.0714286 | H22: =J22*3+K22 -> 20 | I22: =H22/E22 -> 0.57142857 | J22: =VLOOKUP($B22,'C (tt>10)'!$B:$M,7,0) -> 5 | K22: =VLOOKUP($B22,'C (tt>10)'!$B:$M,10,0) -> 5 | M22: =LOWER(IF(ISNA(VLOOKUP($B22,'C conf old'!$B:$AH,3,0)),"",VLOOKUP($B22,'C conf old'!$B:$AH,3,0))) -> par | N22: =IF(ISNA(VLOOKUP($B22,'C conf old'!$B:$AH,3,0)),"",VLOOKUP($B22,'C conf old'!$B:$AH,4,0)) -> 33 | O22: =IF(ISNA(VLOOKUP($B22,'C conf old'!$B:$AH,3,0)),"",VLOOKUP($B22,'C conf old'!$B:$AH,5,0)) -> 6.27 | P22: =IF(ISNA(VLOOKUP($B22,'C conf old'!$B:$AH,3,0)),"",VLOOKUP($B22,'C conf old'!$B:$AH,6,0)) -> 6.09 | Q22: =S22*3+T22 -> 9 | R22: =Q22/N22 -> 0.27272727 | S22: =IF(ISNA(VLOOKUP($B22,'C conf old'!$B:$AH,3,0)),"",VLOOKUP($B22,'C conf old'!$B:$AH,9,0)) -> 2 | T22: =IF(ISNA(VLOOKUP($B22,'C conf old'!$B:$AH,3,0)),"",VLOOKUP($B22,'C conf old'!$B:$AH,10,0)) -> 3 | V22: =LOWER(IF(ISNA(VLOOKUP($B22,'C conf old'!$B:$AH,3,0)),"",VLOOKUP($B22,'C conf old'!$B:$AH,13,0))) -> par | W22: =IF(ISNA(VLOOKUP($B22,'C conf old'!$B:$AH,3,0)),"",VLOOKUP($B22,'C conf old'!$B:$AH,14,0)) -> 37 | X22: =IF(ISNA(VLOOKUP($B22,'C conf old'!$B:$AH,3,0)),"",VLOOKUP($B22,'C conf old'!$B:$AH,15,0)) -> 6.84 | Y22: =IF(ISNA(VLOOKUP($B22,'C conf old'!$B:$AH,3,0)),"",VLOOKUP($B22,'C conf old'!$B:$AH,16,0)) -> 6.28 | Z22: =AB22*3+AC22 -> 22 | AA22: =Z22/W22 -> 0.59459459 | AB22: =IF(ISNA(VLOOKUP($B22,'C conf old'!$B:$AH,3,0)),"",VLOOKUP($B22,'C conf old'!$B:$AH,19,0)) -> 6 | AC22: =IF(ISNA(VLOOKUP($B22,'C conf old'!$B:$AH,3,0)),"",VLOOKUP($B22,'C conf old'!$B:$AH,20,0)) -> 4 | AE22: =LOWER(IF(ISNA(VLOOKUP($B22,'C conf old'!$B:$AH,3,0)),"",VLOOKUP($B22,'C conf old'!$B:$AH,23,0))) -> sam | AF22: =IF(ISNA(VLOOKUP($B22,'C conf old'!$B:$AH,3,0)),"",VLOOKUP($B22,'C conf old'!$B:$AH,24,0)) -> 27 | AG22: =IF(ISNA(VLOOKUP($B22,'C conf old'!$B:$AH,3,0)),"",VLOOKUP($B22,'C conf old'!$B:$AH,25,0)) -> 5.69 | AH22: =IF(ISNA(VLOOKUP($B22,'C conf old'!$B:$AH,3,0)),"",VLOOKUP($B22,'C conf old'!$B:$AH,26,0)) -> 5.5 | AI22: =AK22*3+AL22 -> 1.5555556 | AJ22: =AI22/AF22 -> 0.057613169 | AK22: =IF(ISNA(VLOOKUP($B22,'C conf old'!$B:$AH,3,0)),"",VLOOKUP($B22,'C conf old'!$B:$AH,28,0)) -> 0.18518519 | AL22: =IF(ISNA(VLOOKUP($B22,'C conf old'!$B:$AH,3,0)),"",VLOOKUP($B22,'C conf old'!$B:$AH,29,0)) -> 1
B23: EL KADDOURI | D23: =VLOOKUP($B23,'C (tt>10)'!$B:$M,2,0) -> tor | E23: =VLOOKUP($B23,'C (tt>10)'!$B:$M,3,0) -> 29 | F23: =VLOOKUP($B23,'C (tt>10)'!$B:$M,4,0) -> 6.637931 | G23: =VLOOKUP($B23,'C (tt>10)'!$B:$M,5,0) -> 5.8965517 | H23: =J23*3+K23 -> 24 | I23: =H23/E23 -> 0.82758621 | J23: =VLOOKUP($B23,'C (tt>10)'!$B:$M,7,0) -> 6 | K23: =VLOOKUP($B23,'C (tt>10)'!$B:$M,10,0) -> 6 | M23: =LOWER(IF(ISNA(VLOOKUP($B23,'C conf old'!$B:$AH,3,0)),"",VLOOKUP($B23,'C conf old'!$B:$AH,3,0))) | N23: =IF(ISNA(VLOOKUP($B23,'C conf old'!$B:$AH,3,0)),"",VLOOKUP($B23,'C conf old'!$B:$AH,4,0)) | O23: =IF(ISNA(VLOOKUP($B23,'C conf old'!$B:$AH,3,0)),"",VLOOKUP($B23,'C conf old'!$B:$AH,5,0)) | P23: =IF(ISNA(VLOOKUP($B23,'C conf old'!$B:$AH,3,0)),"",VLOOKUP($B23,'C conf old'!$B:$AH,6,0)) | Q23: =S23*3+T23 -> 0 | AL23: =IF(ISNA(VLOOKUP($B23,'C conf old'!$B:$AH,3,0)),"",VLOOKUP($B23,'C conf old'!$B:$AH,29,0))
B24: HAMSIK | D24: =VLOOKUP($B24,'C (tt>10)'!$B:$M,2,0) -> nap | E24: =VLOOKUP($B24,'C (tt>10)'!$B:$M,3,0) -> 27 | F24: =VLOOKUP($B24,'C (tt>10)'!$B:$M,4,0) -> 6.6296296 | G24: =VLOOKUP($B24,'C (tt>10)'!$B:$M,5,0) -> 5.8888889 | H24: =J24*3+K24 -> 24 | I24: =H24/E24 -> 0.88888889 | J24: =VLOOKUP($B24,'C (tt>10)'!$B:$M,7,0) -> 7 | K24: =VLOOKUP($B24,'C (tt>10)'!$B:$M,10,0) -> 3 | M24: =LOWER(IF(ISNA(VLOOKUP($B24,'C conf old'!$B:$AH,3,0)),"",VLOOKUP($B24,'C conf old'!$B:$AH,3,0))) -> nap | N24: =IF(ISNA(VLOOKUP($B24,'C conf old'!$B:$AH,3,0)),"",VLOOKUP($B24,'C conf old'!$B:$AH,4,0)) -> 38 | O24: =IF(ISNA(VLOOKUP($B24,'C conf old'!$B:$AH,3,0)),"",VLOOKUP($B24,'C conf old'!$B:$AH,5,0)) -> 7.55 | P24: =IF(ISNA(VLOOKUP($B24,'C conf old'!$B:$AH,3,0)),"",VLOOKUP($B24,'C conf old'!$B:$AH,6,0)) -> 6.45 | Q24: =S24*3+T24 -> 46 | R24: =Q24/N24 -> 1.2105263 | S24: =IF(ISNA(VLOOKUP($B24,'C conf old'!$B:$AH,3,0)),"",VLOOKUP($B24,'C conf old'!$B:$AH,9,0)) -> 12 | T24: =IF(ISNA(VLOOKUP($B24,'C conf old'!$B:$AH,3,0)),"",VLOOKUP($B24,'C conf old'!$B:$AH,10,0)) -> 10 | V24: =LOWER(IF(ISNA(VLOOKUP($B24,'C conf old'!$B:$AH,3,0)),"",VLOOKUP($B24,'C conf old'!$B:$AH,13,0))) -> nap | W24: =IF(ISNA(VLOOKUP($B24,'C conf old'!$B:$AH,3,0)),"",VLOOKUP($B24,'C conf old'!$B:$AH,14,0)) -> 37 | X24: =IF(ISNA(VLOOKUP($B24,'C conf old'!$B:$AH,3,0)),"",VLOOKUP($B24,'C conf old'!$B:$AH,15,0)) -> 6.5 | Y24: =IF(ISNA(VLOOKUP($B24,'C conf old'!$B:$AH,3,0)),"",VLOOKUP($B24,'C conf old'!$B:$AH,16,0)) -> 5.88 | Z24: =AB24*3+AC24 -> 31 | AA24: =Z24/W24 -> 0.83783784 | AB24: =IF(ISNA(VLOOKUP($B24,'C conf old'!$B:$AH,3,0)),"",VLOOKUP($B24,'C conf old'!$B:$AH,19,0)) -> 9 | AC24: =IF(ISNA(VLOOKUP($B24,'C conf old'!$B:$AH,3,0)),"",VLOOKUP($B24,'C conf old'!$B:$AH,20,0)) -> 4 | AE24: =LOWER(IF(ISNA(VLOOKUP($B24,'C conf old'!$B:$AH,3,0)),"",VLOOKUP($B24,'C conf old'!$B:$AH,23,0))) -> nap | AF24: =IF(ISNA(VLOOKUP($B24,'C conf old'!$B:$AH,3,0)),"",VLOOKUP($B24,'C conf old'!$B:$AH,24,0)) -> 37 | AG24: =IF(ISNA(VLOOKUP($B24,'C conf old'!$B:$AH,3,0)),"",VLOOKUP($B24,'C conf old'!$B:$AH,25,0)) -> 6.91 | AH24: =IF(ISNA(VLOOKUP($B24,'C conf old'!$B:$AH,3,0)),"",VLOOKUP($B24,'C conf old'!$B:$AH,26,0)) -> 5.99 | AI24: =AK24*3+AL24 -> 14 | AJ24: =AI24/AF24 -> 0.37837838 | AK24: =IF(ISNA(VLOOKUP($B24,'C conf old'!$B:$AH,3,0)),"",VLOOKUP($B24,'C conf old'!$B:$AH,28,0)) -> 1 | AL24: =IF(ISNA(VLOOKUP($B24,'C conf old'!$B:$AH,3,0)),"",VLOOKUP($B24,'C conf old'!$B:$AH,29,0)) -> 11
