Workbook

Sheet DB tot
A1: ruolo | B1: giornata | C1: giocatore | D1: squadra | E1: giallo | F1: rosso | G1: cartellino | H1: V-gazz | I1: Gf-gazz | J1: Gs-gazz | K1: Au-gazz | L1: As-gazz | M1: rig-Trasformato | N1: rig-Sbagliato | O1: rig-subito | P1: rig-Parato | Q1: fan-gazz
A2: Portiere | B2: 38 | C2: SPORTIELLO | D2: atalanta | E2: =IF($G2="Ammonito",1,"") | F2: =IF($G2="Espulsione",1,"") | H2: 6 | J2: 2 | Q2: 4
A3: Portiere | B3: 38 | C3: STOJANOVIC | D3: bologna | E3: =IF($G3="Ammonito",1,"") | F3: =IF($G3="Espulsione",1,"") | H3: 6.5 | J3: 1 | O3: 1 | Q3: 5.5
A4: Portiere | B4: 38 | C4: SILVESTRI | D4: cagliari | E4: =IF($G4="Ammonito",1,"") | F4: =IF($G4="Espulsione",1,"") | H4: 6.5 | J4: 3 | K4: 1 | Q4: 1.5
A5: Portiere | B5: 38 | C5: FRISON | D5: catania | E5: =IF($G5="Ammonito",1,"") | F5: =IF($G5="Espulsione",1,"") | H5: 6.5 | J5: 1 | Q5: 5.5
A6: Portiere | B6: 38 | C6: SQUIZZI | D6: chievo | E6: =IF($G6="Ammonito",1,"") | F6: =IF($G6="Espulsione",1,"") | H6: 6.5 | J6: 1 | Q6: 5.5
A7: Portiere | B7: 38 | C7: ROSATI | D7: fiorentina | E7: =IF($G7="Ammonito",1,"") | F7: =IF($G7="Espulsione",1,"") | H7: 6.5 | J7: 2 | P7: 1 | Q7: 7.5
A8: Portiere | B8: 38 | C8: PERIN | D8: genoa | E8: =IF($G8="Ammonito",1,"") | F8: =IF($G8="Espulsione",1,"") | H8: 6.5 | Q8: 6.5
A9: Portiere | B9: 38 | C9: CARRIZO | D9: inter | E9: =IF($G9="Ammonito",1,"") | F9: =IF($G9="Espulsione",1,"") | H9: 5 | J9: 2 | Q9: 3
A10: Portiere | B10: 38 | C10: BUFFON | D10: juventus | E10: =IF($G10="Ammonito",1,"") | F10: =IF($G10="Espulsione",1,"") | H10: 7 | Q10: 7
A11: Portiere | B11: 38 | C11: RUBINHO | D11: juventus | E11: =IF($G11="Ammonito",1,"") | F11: =IF($G11="Espulsione",1,"") | H11: 6 | Q11: 6
A12: Portiere | B12: 38 | C12: BERISHA | D12: lazio | E12: =IF($G12="Ammonito",1,"") | F12: =IF($G12="Espulsione",1,"") | H12: 6 | Q12: 6
A13: Portiere | B13: 38 | C13: ALDEGANI | D13: livorno | E13: =IF($G13="Ammonito",1,"") | F13: =IF($G13="Espulsione",1,"") | H13: 6 | Q13: 6
A14: Portiere | B14: 38 | C14: ANANIA | D14: livorno | E14: =IF($G14="Ammonito",1,"") | F14: =IF($G14="Espulsione",1,"") | H14: 6 | J14: 2 | Q14: 4
A15: Portiere | B15: 38 | C15: ABBIATI | D15: milan | E15: =IF($G15="Ammonito",1,"") | F15: =IF($G15="Espulsione",1,"") | H15: 6 | J15: 1 | O15: 1 | Q15: 5
A16: Portiere | B16: 38 | C16: DOBLAS | D16: napoli | E16: =IF($G16="Ammonito",1,"") | F16: =IF($G16="Espulsione",1,"") | H16: 6 | J16: 1 | Q16: 5
A17: Portiere | B17: 38 | C17: MIRANTE | D17: parma | E17: =IF($G17="Ammonito",1,"") | F17: =IF($G17="Espulsione",1,"") | H17: 6 | Q17: 6
A18: Portiere | B18: 38 | C18: PAVARINI | D18: parma | E18: =IF($G18="Ammonito",1,"") | F18: =IF($G18="Espulsione",1,"") | H18: 6 | Q18: 6
A19: Portiere | B19: 38 | C19: SKORUPSKI | D19: roma | E19: =IF($G19="Ammonito",1,"") | F19: =IF($G19="Espulsione",1,"") | H19: 6.5 | J19: 1 | Q19: 5.5
A20: Portiere | B20: 38 | C20: FIORILLO | D20: sampdoria | E20: =IF($G20="Ammonito",1,"") | F20: =IF($G20="Espulsione",1,"") | H20: 6.5 | J20: 3 | Q20: 3.5
A21: Portiere | B21: 38 | C21: POMINI | D21: sassuolo | E21: =IF($G21="Ammonito",1,"") | F21: =IF($G21="Espulsione",1,"") | H21: 6 | J21: 2 | Q21: 4
A22: Portiere | B22: 38 | C22: PADELLI D. | D22: torino | E22: =IF($G22="Ammonito",1,"") | F22: =IF($G22="Espulsione",1,"") | H22: 6.5 | J22: 2 | Q22: 4.5
A23: Portiere | B23: 38 | C23: BRKIC | D23: udinese | E23: =IF($G23="Ammonito",1,"") | F23: =IF($G23="Espulsione",1,"") | H23: 6 | J23: 3 | Q23: 3
A24: Portiere | B24: 38 | C24: ANDRADE | D24: verona | E24: =IF($G24="Ammonito",1,"") | F24: =IF($G24="Espulsione",1,"") | H24: 4.5 | J24: 5 | Q24: -0.5
A25: Difensore | B25: 38 | C25: BELLINI | D25: atalanta | E25: =IF($G25="Ammonito",1,"") | F25: =IF($G25="Espulsione",1,"") | H25: 6 | Q25: 6
A26: Difensore | B26: 38 | C26: BENALOUANE | D26: atalanta | E26: =IF($G26="Ammonito",1,"") | F26: =IF($G26="Espulsione",1,"") | H26: 6 | Q26: 6
A27: Difensore | B27: 38 | C27: BRIVIO | D27: atalanta | E27: =IF($G27="Ammonito",1,"") | F27: =IF($G27="Espulsione",1,"") | H27: 5.5 | Q27: 5.5
A28: Difensore | B28: 38 | C28: RAIMONDI | D28: atalanta | E28: =IF($G28="Ammonito",1,"") | F28: =IF($G28="Espulsione",1,"") | H28: 6 | Q28: 6
A29: Difensore | B29: 38 | C29: ANTONSSON | D29: bologna | E29: =IF($G29="Ammonito",1,"") | F29: =IF($G29="Espulsione",1,"") | H29: 5.5 | Q29: 5.5
A30: Difensore | B30: 38 | C30: CHERUBIN | D30: bologna | E30: =IF($G30="Ammonito",1,"") | F30: =IF($G30="Espulsione",1,"") | H30: 6 | Q30: 6
A31: Difensore | B31: 38 | C31: CRESPO | D31: bologna | E31: =IF($G31="Ammonito",1,"") | F31: =IF($G31="Espulsione",1,"") | H31: 6 | Q31: 6
A32: Difensore | B32: 38 | C32: MORLEO | D32: bologna | E32: =IF($G32="Ammonito",1,"") | F32: =IF($G32="Espulsione",1,"") | H32: 5 | Q32: 5
A33: Difensore | B33: 38 | C33: NATALI | D33: bologna | E33: =IF($G33="Ammonito",1,"") | F33: =IF($G33="Espulsione",1,"") | H33: 6 | Q33: 6
A34: Difensore | B34: 38 | C34: SORENSEN | D34: bologna | E34: =IF($G34="Ammonito",1,"") | F34: =IF($G34="Espulsione",1,"") | H34: 6.5 | Q34: 6.5
A35: Difensore | B35: 38 | C35: CECH | D35: bologna | E35: =IF($G35="Ammonito",1,"") | F35: =IF($G35="Espulsione",1,"") | H35: 6 | Q35: 6
A36: Difensore | B36: 38 | C36: ASTORI | D36: cagliari | E36: =IF($G36="Ammonito",1,"") | F36: =IF($G36="Espulsione",1,"") | H36: 5 | Q36: 5
... A46: Difensore | B46: 38 | C46: DAINELLI | D46: chievo | E46: =IF($G46="Ammonito",1,"") | F46: =IF($G46="Espulsione",1,"") | H46: 6 | Q46: 6
A47: Difensore | B47: 38 | C47: DRAME' | D47: chievo | E47: =IF($G47="Ammonito",1,"") -> 1 | F47: =IF($G47="Espulsione",1,"") | G47: Ammonito | H47: 6 | Q47: 5.5
A48: Difensore | B48: 38 | C48: FREY N. | D48: chievo | E48: =IF($G48="Ammonito",1,"") -> 1 | F48: =IF($G48="Espulsione",1,"") | G48: Ammonito | H48: 6 | Q48: 5.5
A49: Difensore | B49: 38 | C49: RUBIN | D49: chievo | E49: =IF($G49="Ammonito",1,"") | F49: =IF($G49="Espulsione",1,"") | H49: 6 | Q49: 6
...

Sheet DB sing
A1: Giocatore | B1: Ruolo | C1: Squadra | D1: Presenze | E1: MV | F1: TotV | G1: FM | H1: TotF | I1: Gol | J1: Golsub | K1: Au | L1: As | M1: Gia | N1: Ros | O1: Rig+ | P1: Rig- | Q1: Rigsub | R1: Rigpar
A2: ABBIATI | B2: P | C2: milan | D2: 28 | E2: =F2/$D2 -> 6.0178571 | F2: 168.5 | G2: =H2/$D2 -> 4.7321429 | H2: 132.5 | I2: 0 | J2: 31 | K2: 1 | L2: 0 | M2: 4 | N2: 1 | O2: 0 | P2: 0 | Q2: 2 | R2: 0
A3: ADAN | B3: P | C3: cagliari | D3: 2 | E3: =F3/$D3 -> 5 | F3: 10 | G3: =H3/$D3 -> 3 | H3: 6 | I3: 0 | J3: 4 | K3: 0 | L3: 0 | M3: 0 | N3: 0 | O3: 0 | P3: 0 | Q3: 0 | R3: 0
A4: AGAZZI | B4: P | C4: chievo | D4: 25 | E4: =F4/$D4 -> 5.94 | F4: 148.5 | G4: =H4/$D4 -> 4.44 | H4: 111 | I4: 0 | J4: 40 | K4: 0 | L4: 0 | M4: 1 | N4: 0 | O4: 0 | P4: 0 | Q4: 2 | R4: 1
A5: ALDEGANI | B5: P | C5: livorno | D5: 1 | E5: =F5/$D5 -> 6 | F5: 6 | G5: =H5/$D5 -> 6 | H5: 6 | I5: 0 | J5: 0 | K5: 0 | L5: 0 | M5: 0 | N5: 0 | O5: 0 | P5: 0 | Q5: 0 | R5: 0
A6: AMELIA | B6: P | C6: milan | D6: 5 | E6: =F6/$D6 -> 5.9 | F6: 29.5 | G6: =H6/$D6 -> 4.3 | H6: 21.5 | I6: 0 | J6: 8 | K6: 0 | L6: 0 | M6: 0 | N6: 0 | O6: 0 | P6: 0 | Q6: 2 | R6: 0
A7: ANANIA | B7: P | C7: livorno | D7: 3 | E7: =F7/$D7 -> 5.8333333 | F7: 17.5 | G7: =H7/$D7 -> 4.1666667 | H7: 12.5 | I7: 0 | J7: 8 | K7: 0 | L7: 0 | M7: 0 | N7: 0 | O7: 0 | P7: 0 | Q7: 0 | R7: 1
A8: ANDRADE | B8: P | C8: verona | D8: 1 | E8: =F8/$D8 -> 4.5 | F8: 4.5 | G8: =H8/$D8 -> -0.5 | H8: -0.5 | I8: 0 | J8: 5 | K8: 0 | L8: 0 | M8: 0 | N8: 0 | O8: 0 | P8: 0 | Q8: 0 | R8: 0
A9: ANDUJAR | B9: P | C9: catania | D9: 24 | E9: =F9/$D9 -> 5.7291667 | F9: 137.5 | G9: =H9/$D9 -> 3.9583333 | H9: 95 | I9: 0 | J9: 42 | K9: 0 | L9: 0 | M9: 1 | N9: 0 | O9: 0 | P9: 0 | Q9: 1 | R9: 0
A10: AVRAMOV | B10: P | C10: cagliari | D10: 23 | E10: =F10/$D10 -> 6.0652174 | F10: 139.5 | G10: =H10/$D10 -> 4.8913043 | H10: 112.5 | I10: 0 | J10: 25 | K10: 0 | L10: 0 | M10: 4 | N10: 0 | O10: 0 | P10: 0 | Q10: 2 | R10: 0
A11: BAJZA | B11: P | C11: parma | D11: 4 | E11: =F11/$D11 -> 6 | F11: 24 | G11: =H11/$D11 -> 5 | H11: 20 | I11: 0 | J11: 4 | K11: 0 | L11: 0 | M11: 0 | N11: 0 | O11: 0 | P11: 0 | Q11: 3 | R11: 0
A12: BARDI | B12: P | C12: livorno | D12: 35 | E12: =F12/$D12 -> 5.9571429 | F12: 208.5 | G12: =H12/$D12 -> 3.8714286 | H12: 135.5 | I12: 0 | J12: 69 | K12: 1 | L12: 0 | M12: 4 | N12: 0 | O12: 0 | P12: 0 | Q12: 5 | R12: 0
A13: BERISHA | B13: P | C13: lazio | D13: 17 | E13: =F13/$D13 -> 6.0588235 | F13: 103 | G13: =H13/$D13 -> 4.5882353 | H13: 78 | I13: 0 | J13: 25 | K13: 0 | L13: 0 | M13: 0 | N13: 0 | O13: 0 | P13: 0 | Q13: 2 | R13: 0
... A544: ZAZA | B544: A | C544: sassuolo | D544: 33 | E544: =F544/$D544 -> 5.8787879 | F544: 194 | G544: =H544/$D544 -> 6.5454545 | H544: 216 | I544: 9 | J544: 0 | K544: 0 | L544: 1 | M544: 10 | N544: 1 | O544: 1 | P544: 0 | Q544: 0 | R544: 0

Sheet A (tt>10)
B1: 2013-2014
B2: Calciatore | C2: Squadra | D2: Gare | E2: FM | F2: MV | G2: Bonus a Gara | H2: Gol | I2: Rigori + - | K2: Assist | L2: Gialli | M2: Rossi
B3: ROSSI G. | C3: =LEFT(O3,3) -> fio | D3: =VLOOKUP($B3,'[1]stat gazz 13-14'!$A:$Z,4,0) -> 21 | E3: =VLOOKUP($B3,'[1]stat gazz 13-14'!$A:$Z,7,0) -> 9.0714286 | F3: =VLOOKUP($B3,'[1]stat gazz 13-14'!$A:$Z,5,0) -> 6.7619048 | G3: =(H3*3-J3*3+K3-L3*0.5-M3)/D3 -> 2.3095238 | H3: =VLOOKUP($B3,'[1]stat gazz 13-14'!$A:$Z,9,0) -> 16 | I3: =VLOOKUP($B3,'[1]stat gazz 13-14'!$A:$Z,15,0) -> 5 | J3: =VLOOKUP($B3,'[1]stat gazz 13-14'!$A:$Z,16,0) -> 0 | K3: =VLOOKUP($B3,'[1]stat gazz 13-14'!$A:$Z,12,0) -> 1 | L3: =VLOOKUP($B3,'[1]stat gazz 13-14'!$A:$Z,13,0) -> 1 | M3: =VLOOKUP($B3,'[1]stat gazz 13-14'!$A:$Z,14,0) -> 0 | O3: =VLOOKUP($B3,'[1]stat gazz 13-14'!$A:$Z,3,0) -> fiorentina
B4: TEVEZ | C4: =LEFT(O4,3) -> juv | D4: =VLOOKUP($B4,'[1]stat gazz 13-14'!$A:$Z,4,0) -> 34 | E4: =VLOOKUP($B4,'[1]stat gazz 13-14'!$A:$Z,7,0) -> 8.4852941 | F4: =VLOOKUP($B4,'[1]stat gazz 13-14'!$A:$Z,5,0) -> 6.75 | G4: =(H4*3-J4*3+K4-L4*0.5-M4)/D4 -> 1.7352941 | H4: =VLOOKUP($B4,'[1]stat gazz 13-14'!$A:$Z,9,0) -> 19 | I4: =VLOOKUP($B4,'[1]stat gazz 13-14'!$A:$Z,15,0) -> 1 | J4: =VLOOKUP($B4,'[1]stat gazz 13-14'!$A:$Z,16,0) -> 0 | K4: =VLOOKUP($B4,'[1]stat gazz 13-14'!$A:$Z,12,0) -> 4 | L4: =VLOOKUP($B4,'[1]stat gazz 13-14'!$A:$Z,13,0) -> 4 | M4: =VLOOKUP($B4,'[1]stat gazz 13-14'!$A:$Z,14,0) -> 0 | O4: =VLOOKUP($B4,'[1]stat gazz 13-14'!$A:$Z,3,0) -> juventus
B5: TONI | C5: =LEFT(O5,3) -> ver | D5: =VLOOKUP($B5,'[1]stat gazz 13-14'!$A:$Z,4,0) -> 34 | E5: =VLOOKUP($B5,'[1]stat gazz 13-14'!$A:$Z,7,0) -> 8.5 | F5: =VLOOKUP($B5,'[1]stat gazz 13-14'!$A:$Z,5,0) -> 6.6470588 | G5: =(H5*3-J5*3+K5-L5*0.5-M5)/D5 -> 1.8529412 | H5: =VLOOKUP($B5,'[1]stat gazz 13-14'!$A:$Z,9,0) -> 20 | I5: =VLOOKUP($B5,'[1]stat gazz 13-14'!$A:$Z,15,0) -> 3 | J5: =VLOOKUP($B5,'[1]stat gazz 13-14'!$A:$Z,16,0) -> 0 | K5: =VLOOKUP($B5,'[1]stat gazz 13-14'!$A:$Z,12,0) -> 5 | L5: =VLOOKUP($B5,'[1]stat gazz 13-14'!$A:$Z,13,0) -> 4 | M5: =VLOOKUP($B5,'[1]stat gazz 13-14'!$A:$Z,14,0) -> 0 | O5: =VLOOKUP($B5,'[1]stat gazz 13-14'!$A:$Z,3,0) -> verona
B6: TOTTI | C6: =LEFT(O6,3) -> rom | D6: =VLOOKUP($B6,'[1]stat gazz 13-14'!$A:$Z,4,0) -> 25 | E6: =VLOOKUP($B6,'[1]stat gazz 13-14'!$A:$Z,7,0) -> 7.48 | F6: =VLOOKUP($B6,'[1]stat gazz 13-14'!$A:$Z,5,0) -> 6.5 | G6: =(H6*3-J6*3+K6-L6*0.5-M6)/D6 -> 0.98 | H6: =VLOOKUP($B6,'[1]stat gazz 13-14'!$A:$Z,9,0) -> 7 | I6: =VLOOKUP($B6,'[1]stat gazz 13-14'!$A:$Z,15,0) -> 2 | J6: =VLOOKUP($B6,'[1]stat gazz 13-14'!$A:$Z,16,0) -> 0 | K6: =VLOOKUP($B6,'[1]stat gazz 13-14'!$A:$Z,12,0) -> 5 | L6: =VLOOKUP($B6,'[1]stat gazz 13-14'!$A:$Z,13,0) -> 3 | M6: =VLOOKUP($B6,'[1]stat gazz 13-14'!$A:$Z,14,0) -> 0 | O6: =VLOOKUP($B6,'[1]stat gazz 13-14'!$A:$Z,3,0) -> roma
B7: HIGUAIN | C7: =LEFT(O7,3) -> nap | D7: =VLOOKUP($B7,'[1]stat gazz 13-14'!$A:$Z,4,0) -> 31 | E7: =VLOOKUP($B7,'[1]stat gazz 13-14'!$A:$Z,7,0) -> 8.1774194 | F7: =VLOOKUP($B7,'[1]stat gazz 13-14'!$A:$Z,5,0) -> 6.4354839 | G7: =(H7*3-J7*3+K7-L7*0.5-M7)/D7 -> 1.7419355 | H7: =VLOOKUP($B7,'[1]stat gazz 13-14'!$A:$Z,9,0) -> 17 | I7: =VLOOKUP($B7,'[1]stat gazz 13-14'!$A:$Z,15,0) -> 5 | J7: =VLOOKUP($B7,'[1]stat gazz 13-14'!$A:$Z,16,0) -> 0 | K7: =VLOOKUP($B7,'[1]stat gazz 13-14'!$A:$Z,12,0) -> 6 | L7: =VLOOKUP($B7,'[1]stat gazz 13-14'!$A:$Z,13,0) -> 6 | M7: =VLOOKUP($B7,'[1]stat gazz 13-14'!$A:$Z,14,0) -> 0 | O7: =VLOOKUP($B7,'[1]stat gazz 13-14'!$A:$Z,3,0) -> napoli
B8: IMMOBILE | C8: =LEFT(O8,3) -> tor | D8: =VLOOKUP($B8,'[1]stat gazz 13-14'!$A:$Z,4,0) -> 33 | E8: =VLOOKUP($B8,'[1]stat gazz 13-14'!$A:$Z,7,0) -> 8.2121212 | F8: =VLOOKUP($B8,'[1]stat gazz 13-14'!$A:$Z,5,0) -> 6.4242424 | G8: =(H8*3-J8*3+K8-L8*0.5-M8)/D8 -> 1.7878788 | H8: =VLOOKUP($B8,'[1]stat gazz 13-14'!$A:$Z,9,0) -> 22 | I8: =VLOOKUP($B8,'[1]stat gazz 13-14'!$A:$Z,15,0) -> 0 | J8: =VLOOKUP($B8,'[1]stat gazz 13-14'!$A:$Z,16,0) -> 1 | K8: =VLOOKUP($B8,'[1]stat gazz 13-14'!$A:$Z,12,0) -> 2 | L8: =VLOOKUP($B8,'[1]stat gazz 13-14'!$A:$Z,13,0) -> 10 | M8: =VLOOKUP($B8,'[1]stat gazz 13-14'!$A:$Z,14,0) -> 1 | O8: =VLOOKUP($B8,'[1]stat gazz 13-14'!$A:$Z,3,0) -> torino
B9: ITURBE | C9: =LEFT(O9,3) -> ver | D9: =VLOOKUP($B9,'[1]stat gazz 13-14'!$A:$Z,4,0) -> 33 | E9: =VLOOKUP($B9,'[1]stat gazz 13-14'!$A:$Z,7,0) -> 7.1363636 | F9: =VLOOKUP($B9,'[1]stat gazz 13-14'!$A:$Z,5,0) -> 6.3484848 | G9: =(H9*3-J9*3+K9-L9*0.5-M9)/D9 -> 0.78787879 | H9: =VLOOKUP($B9,'[1]stat gazz 13-14'!$A:$Z,9,0) -> 8 | I9: =VLOOKUP($B9,'[1]stat gazz 13-14'!$A:$Z,15,0) -> 0 | J9: =VLOOKUP($B9,'[1]stat gazz 13-14'!$A:$Z,16,0) -> 0 | K9: =VLOOKUP($B9,'[1]stat gazz 13-14'!$A:$Z,12,0) -> 4 | L9: =VLOOKUP($B9,'[1]stat gazz 13-14'!$A:$Z,13,0) -> 4 | M9: =VLOOKUP($B9,'[1]stat gazz 13-14'!$A:$Z,14,0) -> 0 | O9: =VLOOKUP($B9,'[1]stat gazz 13-14'!$A:$Z,3,0) -> verona
B10: DESTRO | C10: =LEFT(O10,3) -> rom | D10: =VLOOKUP($B10,'[1]stat gazz 13-14'!$A:$Z,4,0) -> 18 | E10: =VLOOKUP($B10,'[1]stat gazz 13-14'!$A:$Z,7,0) -> 8.4166667 | F10: =VLOOKUP($B10,'[1]stat gazz 13-14'!$A:$Z,5,0) -> 6.3333333 | G10: =(H10*3-J10*3+K10-L10*0.5-M10)/D10 -> 2.0833333 | H10: =VLOOKUP($B10,'[1]stat gazz 13-14'!$A:$Z,9,0) -> 13 | I10: =VLOOKUP($B10,'[1]stat gazz 13-14'!$A:$Z,15,0) -> 0 | J10: =VLOOKUP($B10,'[1]stat gazz 13-14'!$A:$Z,16,0) -> 0 | K10: =VLOOKUP($B10,'[1]stat gazz 13-14'!$A:$Z,12,0) -> 1 | L10: =VLOOKUP($B10,'[1]stat gazz 13-14'!$A:$Z,13,0) -> 5 | M10: =VLOOKUP($B10,'[1]stat gazz 13-14'!$A:$Z,14,0) -> 0 | O10: =VLOOKUP($B10,'[1]stat gazz 13-14'!$A:$Z,3,0) -> roma
B11: CASSANO | C11: =LEFT(O11,3) -> par | D11: =VLOOKUP($B11,'[1]stat gazz 13-14'!$A:$Z,4,0) -> 33 | E11: =VLOOKUP($B11,'[1]stat gazz 13-14'!$A:$Z,7,0) -> 7.3181818 | F11: =VLOOKUP($B11,'[1]stat gazz 13-14'!$A:$Z,5,0) -> 6.3030303 | G11: =(H11*3-J11*3+K11-L11*0.5-M11)/D11 -> 1.0151515 | H11: =VLOOKUP($B11,'[1]stat gazz 13-14'!$A:$Z,9,0) -> 12 | I11: =VLOOKUP($B11,'[1]stat gazz 13-14'!$A:$Z,15,0) -> 1 | J11: =VLOOKUP($B11,'[1]stat gazz 13-14'!$A:$Z,16,0) -> 2 | K11: =VLOOKUP($B11,'[1]stat gazz 13-14'!$A:$Z,12,0) -> 6 | L11: =VLOOKUP($B11,'[1]stat gazz 13-14'!$A:$Z,13,0) -> 5 | M11: =VLOOKUP($B11,'[1]stat gazz 13-14'!$A:$Z,14,0) -> 0 | O11: =VLOOKUP($B11,'[1]stat gazz 13-14'!$A:$Z,3,0) -> parma
B12: GERVINHO | C12: =LEFT(O12,3) -> rom | D12: =VLOOKUP($B12,'[1]stat gazz 13-14'!$A:$Z,4,0) -> 33 | E12: =VLOOKUP($B12,'[1]stat gazz 13-14'!$A:$Z,7,0) -> 7.2727273 | F12: =VLOOKUP($B12,'[1]stat gazz 13-14'!$A:$Z,5,0) -> 6.3030303 | G12: =(H12*3-J12*3+K12-L12*0.5-M12)/D12 -> 0.96969697 | H12: =VLOOKUP($B12,'[1]stat gazz 13-14'!$A:$Z,9,0) -> 8 | I12: =VLOOKUP($B12,'[1]stat gazz 13-14'!$A:$Z,15,0) -> 0 | J12: =VLOOKUP($B12,'[1]stat gazz 13-14'!$A:$Z,16,0) -> 0 | K12: =VLOOKUP($B12,'[1]stat gazz 13-14'!$A:$Z,12,0) -> 9 | L12: =VLOOKUP($B12,'[1]stat gazz 13-14'!$A:$Z,13,0) -> 2 | M12: =VLOOKUP($B12,'[1]stat gazz 13-14'!$A:$Z,14,0) -> 0 | O12: =VLOOKUP($B12,'[1]stat gazz 13-14'!$A:$Z,3,0) -> roma
B13: KEITA | C13: =LEFT(O13,3) -> laz | D13: =VLOOKUP($B13,'[1]stat gazz 13-14'!$A:$Z,4,0) -> 23 | E13: =VLOOKUP($B13,'[1]stat gazz 13-14'!$A:$Z,7,0) -> 6.9782609 | F13: =VLOOKUP($B13,'[1]stat gazz 13-14'!$A:$Z,5,0) -> 6.2826087 | G13: =(H13*3-J13*3+K13-L13*0.5-M13)/D13 -> 0.69565217 | H13: =VLOOKUP($B13,'[1]stat gazz 13-14'!$A:$Z,9,0) -> 5 | I13: =VLOOKUP($B13,'[1]stat gazz 13-14'!$A:$Z,15,0) -> 0 | J13: =VLOOKUP($B13,'[1]stat gazz 13-14'!$A:$Z,16,0) -> 0 | K13: =VLOOKUP($B13,'[1]stat gazz 13-14'!$A:$Z,12,0) -> 2 | L13: =VLOOKUP($B13,'[1]stat gazz 13-14'!$A:$Z,13,0) -> 2 | M13: =VLOOKUP($B13,'[1]stat gazz 13-14'!$A:$Z,14,0) -> 0 | O13: =VLOOKUP($B13,'[1]stat gazz 13-14'!$A:$Z,3,0) -> lazio
B14: MERTENS | C14: =LEFT(O14,3) -> nap | D14: =VLOOKUP($B14,'[1]stat gazz 13-14'!$A:$Z,4,0) -> 30 | E14: =VLOOKUP($B14,'[1]stat gazz 13-14'!$A:$Z,7,0) -> 7.4333333 | F14: =VLOOKUP($B14,'[1]stat gazz 13-14'!$A:$Z,5,0) -> 6.2666667 | G14: =(H14*3-J14*3+K14-L14*0.5-M14)/D14 -> 1.1666667 | H14: =VLOOKUP($B14,'[1]stat gazz 13-14'!$A:$Z,9,0) -> 11 | I14: =VLOOKUP($B14,'[1]stat gazz 13-14'!$A:$Z,15,0) -> 2 | J14: =VLOOKUP($B14,'[1]stat gazz 13-14'!$A:$Z,16,0) -> 0 | K14: =VLOOKUP($B14,'[1]stat gazz 13-14'!$A:$Z,12,0) -> 4 | L14: =VLOOKUP($B14,'[1]stat gazz 13-14'!$A:$Z,13,0) -> 4 | M14: =VLOOKUP($B14,'[1]stat gazz 13-14'!$A:$Z,14,0) -> 0 | O14: =VLOOKUP($B14,'[1]stat gazz 13-14'!$A:$Z,3,0) -> napoli
... B76: ACQUAFRESCA | C76: =LEFT(O76,3) -> bol | D76: =VLOOKUP($B76,'[1]stat gazz 13-14'!$A:$Z,4,0) -> 16 | E76: =VLOOKUP($B76,'[1]stat gazz 13-14'!$A:$Z,7,0) -> 5.21875 | F76: =VLOOKUP($B76,'[1]stat gazz 13-14'!$A:$Z,5,0) -> 5.28125 | G76: =(H76*3-J76*3+K76-L76*0.5-M76)/D76 -> -0.0625 | H76: =VLOOKUP($B76,'[1]stat gazz 13-14'!$A:$Z,9,0) -> 0 | I76: =VLOOKUP($B76,'[1]stat gazz 13-14'!$A:$Z,15,0) -> 0 | J76: =VLOOKUP($B76,'[1]stat gazz 13-14'!$A:$Z,16,0) -> 0 | K76: =VLOOKUP($B76,'[1]stat gazz 13-14'!$A:$Z,12,0) -> 0 | L76: =VLOOKUP($B76,'[1]stat gazz 13-14'!$A:$Z,13,0) -> 2 | M76: =VLOOKUP($B76,'[1]stat gazz 13-14'!$A:$Z,14,0) -> 0 | O76: =VLOOKUP($B76,'[1]stat gazz 13-14'!$A:$Z,3,0) -> bologna

Sheet A andam
B1: 2013-2014
B2: Calciatore | C2: Squadra | E2: Gare | F2: FM | G2: MV | H2: Bonu a Gara | I2: Gol | J2: Rigori + - | L2: Assis | M2: Gialli | N2: Rossi
B3: ROSSI G. | C3: =LEFT(Q3,3) -> fio | E3: =VLOOKUP($B3,'[1]stat gazz 13-14'!$A:$Z,4,0) -> 21 | F3: =VLOOKUP($B3,'[1]stat gazz 13-14'!$A:$Z,7,0) -> 9.0714286 | G3: =VLOOKUP($B3,'[1]stat gazz 13-14'!$A:$Z,5,0) -> 6.7619048 | H3: =(I3*3-K3*3+L3-M3*0.5-N3)/E3 -> 2.3095238 | I3: =VLOOKUP($B3,'[1]stat gazz 13-14'!$A:$Z,9,0) -> 16 | J3: =VLOOKUP($B3,'[1]stat gazz 13-14'!$A:$Z,15,0) -> 5 | K3: =VLOOKUP($B3,'[1]stat gazz 13-14'!$A:$Z,16,0) -> 0 | L3: =VLOOKUP($B3,'[1]stat gazz 13-14'!$A:$Z,12,0) -> 1 | M3: =VLOOKUP($B3,'[1]stat gazz 13-14'!$A:$Z,13,0) -> 1 | N3: =VLOOKUP($B3,'[1]stat gazz 13-14'!$A:$Z,14,0) -> 0 | Q3: =VLOOKUP($B3,'[1]stat gazz 13-14'!$A:$Z,3,0) -> fiorentina
B4: TONI | C4: =LEFT(Q4,3) -> ver | E4: =VLOOKUP($B4,'[1]stat gazz 13-14'!$A:$Z,4,0) -> 34 | F4: =VLOOKUP($B4,'[1]stat gazz 13-14'!$A:$Z,7,0) -> 8.5 | G4: =VLOOKUP($B4,'[1]stat gazz 13-14'!$A:$Z,5,0) -> 6.6470588 | H4: =(I4*3-K4*3+L4-M4*0.5-N4)/E4 -> 1.8529412 | I4: =VLOOKUP($B4,'[1]stat gazz 13-14'!$A:$Z,9,0) -> 20 | J4: =VLOOKUP($B4,'[1]stat gazz 13-14'!$A:$Z,15,0) -> 3 | K4: =VLOOKUP($B4,'[1]stat gazz 13-14'!$A:$Z,16,0) -> 0 | L4: =VLOOKUP($B4,'[1]stat gazz 13-14'!$A:$Z,12,0) -> 5 | M4: =VLOOKUP($B4,'[1]stat gazz 13-14'!$A:$Z,13,0) -> 4 | N4: =VLOOKUP($B4,'[1]stat gazz 13-14'!$A:$Z,14,0) -> 0 | Q4: =VLOOKUP($B4,'[1]stat gazz 13-14'!$A:$Z,3,0) -> verona
B5: TEVEZ | C5: =LEFT(Q5,3) -> juv | E5: =VLOOKUP($B5,'[1]stat gazz 13-14'!$A:$Z,4,0) -> 34 | F5: =VLOOKUP($B5,'[1]stat gazz 13-14'!$A:$Z,7,0) -> 8.4852941 | G5: =VLOOKUP($B5,'[1]stat gazz 13-14'!$A:$Z,5,0) -> 6.75 | H5: =(I5*3-K5*3+L5-M5*0.5-N5)/E5 -> 1.7352941 | I5: =VLOOKUP($B5,'[1]stat gazz 13-14'!$A:$Z,9,0) -> 19 | J5: =VLOOKUP($B5,'[1]stat gazz 13-14'!$A:$Z,15,0) -> 1 | K5: =VLOOKUP($B5,'[1]stat gazz 13-14'!$A:$Z,16,0) -> 0 | L5: =VLOOKUP($B5,'[1]stat gazz 13-14'!$A:$Z,12,0) -> 4 | M5: =VLOOKUP($B5,'[1]stat gazz 13-14'!$A:$Z,13,0) -> 4 | N5: =VLOOKUP($B5,'[1]stat gazz 13-14'!$A:$Z,14,0) -> 0 | Q5: =VLOOKUP($B5,'[1]stat gazz 13-14'!$A:$Z,3,0) -> juventus
B6: DESTRO | C6: =LEFT(Q6,3) -> rom | E6: =VLOOKUP($B6,'[1]stat gazz 13-14'!$A:$Z,4,0) -> 18 | F6: =VLOOKUP($B6,'[1]stat gazz 13-14'!$A:$Z,7,0) -> 8.4166667 | G6: =VLOOKUP($B6,'[1]stat gazz 13-14'!$A:$Z,5,0) -> 6.3333333 | H6: =(I6*3-K6*3+L6-M6*0.5-N6)/E6 -> 2.0833333 | I6: =VLOOKUP($B6,'[1]stat gazz 13-14'!$A:$Z,9,0) -> 13 | J6: =VLOOKUP($B6,'[1]stat gazz 13-14'!$A:$Z,15,0) -> 0 | K6: =VLOOKUP($B6,'[1]stat gazz 13-14'!$A:$Z,16,0) -> 0 | L6: =VLOOKUP($B6,'[1]stat gazz 13-14'!$A:$Z,12,0) -> 1 | M6: =VLOOKUP($B6,'[1]stat gazz 13-14'!$A:$Z,13,0) -> 5 | N6: =VLOOKUP($B6,'[1]stat gazz 13-14'!$A:$Z,14,0) -> 0 | Q6: =VLOOKUP($B6,'[1]stat gazz 13-14'!$A:$Z,3,0) -> roma
B7: IMMOBILE | C7: =LEFT(Q7,3) -> tor | E7: =VLOOKUP($B7,'[1]stat gazz 13-14'!$A:$Z,4,0) -> 33 | F7: =VLOOKUP($B7,'[1]stat gazz 13-14'!$A:$Z,7,0) -> 8.2121212 | G7: =VLOOKUP($B7,'[1]stat gazz 13-14'!$A:$Z,5,0) -> 6.4242424 | H7: =(I7*3-K7*3+L7-M7*0.5-N7)/E7 -> 1.7878788 | I7: =VLOOKUP($B7,'[1]stat gazz 13-14'!$A:$Z,9,0) -> 22 | J7: =VLOOKUP($B7,'[1]stat gazz 13-14'!$A:$Z,15,0) -> 0 | K7: =VLOOKUP($B7,'[1]stat gazz 13-14'!$A:$Z,16,0) -> 1 | L7: =VLOOKUP($B7,'[1]stat gazz 13-14'!$A:$Z,12,0) -> 2 | M7: =VLOOKUP($B7,'[1]stat gazz 13-14'!$A:$Z,13,0) -> 10 | N7: =VLOOKUP($B7,'[1]stat gazz 13-14'!$A:$Z,14,0) -> 1 | Q7: =VLOOKUP($B7,'[1]stat gazz 13-14'!$A:$Z,3,0) -> torino
B8: HIGUAIN | C8: =LEFT(Q8,3) -> nap | E8: =VLOOKUP($B8,'[1]stat gazz 13-14'!$A:$Z,4,0) -> 31 | F8: =VLOOKUP($B8,'[1]stat gazz 13-14'!$A:$Z,7,0) -> 8.1774194 | G8: =VLOOKUP($B8,'[1]stat gazz 13-14'!$A:$Z,5,0) -> 6.4354839 | H8: =(I8*3-K8*3+L8-M8*0.5-N8)/E8 -> 1.7419355 | I8: =VLOOKUP($B8,'[1]stat gazz 13-14'!$A:$Z,9,0) -> 17 | J8: =VLOOKUP($B8,'[1]stat gazz 13-14'!$A:$Z,15,0) -> 5 | K8: =VLOOKUP($B8,'[1]stat gazz 13-14'!$A:$Z,16,0) -> 0 | L8: =VLOOKUP($B8,'[1]stat gazz 13-14'!$A:$Z,12,0) -> 6 | M8: =VLOOKUP($B8,'[1]stat gazz 13-14'!$A:$Z,13,0) -> 6 | N8: =VLOOKUP($B8,'[1]stat gazz 13-14'!$A:$Z,14,0) -> 0 | Q8: =VLOOKUP($B8,'[1]stat gazz 13-14'!$A:$Z,3,0) -> napoli
B9: LLORENTE | C9: =LEFT(Q9,3) -> juv | E9: =VLOOKUP($B9,'[1]stat gazz 13-14'!$A:$Z,4,0) -> 32 | F9: =VLOOKUP($B9,'[1]stat gazz 13-14'!$A:$Z,7,0) -> 7.765625 | G9: =VLOOKUP($B9,'[1]stat gazz 13-14'!$A:$Z,5,0) -> 6.25 | H9: =(I9*3-K9*3+L9-M9*0.5-N9)/E9 -> 1.515625 | I9: =VLOOKUP($B9,'[1]stat gazz 13-14'!$A:$Z,9,0) -> 16 | J9: =VLOOKUP($B9,'[1]stat gazz 13-14'!$A:$Z,15,0) -> 0 | K9: =VLOOKUP($B9,'[1]stat gazz 13-14'!$A:$Z,16,0) -> 0 | L9: =VLOOKUP($B9,'[1]stat gazz 13-14'!$A:$Z,12,0) -> 2 | M9: =VLOOKUP($B9,'[1]stat gazz 13-14'!$A:$Z,13,0) -> 3 | N9: =VLOOKUP($B9,'[1]stat gazz 13-14'!$A:$Z,14,0) -> 0 | Q9: =VLOOKUP($B9,'[1]stat gazz 13-14'!$A:$Z,3,0) -> juventus
B10: BERARDI D. | C10: =LEFT(Q10,3) -> sas | E10: =VLOOKUP($B10,'[1]stat gazz 13-14'!$A:$Z,4,0) -> 29 | F10: =VLOOKUP($B10,'[1]stat gazz 13-14'!$A:$Z,7,0) -> 7.7068966 | G10: =VLOOKUP($B10,'[1]stat gazz 13-14'!$A:$Z,5,0) -> 6.1206897 | H10: =(I10*3-K10*3+L10-M10*0.5-N10)/E10 -> 1.5862069 | I10: =VLOOKUP($B10,'[1]stat gazz 13-14'!$A:$Z,9,0) -> 16 | J10: =VLOOKUP($B10,'[1]stat gazz 13-14'!$A:$Z,15,0) -> 6 | K10: =VLOOKUP($B10,'[1]stat gazz 13-14'!$A:$Z,16,0) -> 0 | L10: =VLOOKUP($B10,'[1]stat gazz 13-14'!$A:$Z,12,0) -> 4 | M10: =VLOOKUP($B10,'[1]stat gazz 13-14'!$A:$Z,13,0) -> 10 | N10: =VLOOKUP($B10,'[1]stat gazz 13-14'!$A:$Z,14,0) -> 1 | Q10: =VLOOKUP($B10,'[1]stat gazz 13-14'!$A:$Z,3,0) -> sassuolo
B11: PALACIO | C11: =LEFT(Q11,3) -> int | E11: =VLOOKUP($B11,'[1]stat gazz 13-14'!$A:$Z,4,0) -> 37 | F11: =VLOOKUP($B11,'[1]stat gazz 13-14'!$A:$Z,7,0) -> 7.6351351 | G11: =VLOOKUP($B11,'[1]stat gazz 13-14'!$A:$Z,5,0) -> 6.1756757 | H11: =(I11*3-K11*3+L11-M11*0.5-N11)/E11 -> 1.4594595 | I11: =VLOOKUP($B11,'[1]stat gazz 13-14'!$A:$Z,9,0) -> 17 | J11: =VLOOKUP($B11,'[1]stat gazz 13-14'!$A:$Z,15,0) -> 0 | K11: =VLOOKUP($B11,'[1]stat gazz 13-14'!$A:$Z,16,0) -> 0 | L11: =VLOOKUP($B11,'[1]stat gazz 13-14'!$A:$Z,12,0) -> 5 | M11: =VLOOKUP($B11,'[1]stat gazz 13-14'!$A:$Z,13,0) -> 4 | N11: =VLOOKUP($B11,'[1]stat gazz 13-14'!$A:$Z,14,0) -> 0 | Q11: =VLOOKUP($B11,'[1]stat gazz 13-14'!$A:$Z,3,0) -> inter
B12: TOTTI | C12: =LEFT(Q12,3) -> rom | E12: =VLOOKUP($B12,'[1]stat gazz 13-14'!$A:$Z,4,0) -> 25 | F12: =VLOOKUP($B12,'[1]stat gazz 13-14'!$A:$Z,7,0) -> 7.48 | G12: =VLOOKUP($B12,'[1]stat gazz 13-14'!$A:$Z,5,0) -> 6.5 | H12: =(I12*3-K12*3+L12-M12*0.5-N12)/E12 -> 0.98 | I12: =VLOOKUP($B12,'[1]stat gazz 13-14'!$A:$Z,9,0) -> 7 | J12: =VLOOKUP($B12,'[1]stat gazz 13-14'!$A:$Z,15,0) -> 2 | K12: =VLOOKUP($B12,'[1]stat gazz 13-14'!$A:$Z,16,0) -> 0 | L12: =VLOOKUP($B12,'[1]stat gazz 13-14'!$A:$Z,12,0) -> 5 | M12: =VLOOKUP($B12,'[1]stat gazz 13-14'!$A:$Z,13,0) -> 3 | N12: =VLOOKUP($B12,'[1]stat gazz 13-14'!$A:$Z,14,0) -> 0 | Q12: =VLOOKUP($B12,'[1]stat gazz 13-14'!$A:$Z,3,0) -> roma
B13: ICARDI | C13: =LEFT(Q13,3) -> int | E13: =VLOOKUP($B13,'[1]stat gazz 13-14'!$A:$Z,4,0) -> 20 | F13: =VLOOKUP($B13,'[1]stat gazz 13-14'!$A:$Z,7,0) -> 7.475 | G13: =VLOOKUP($B13,'[1]stat gazz 13-14'!$A:$Z,5,0) -> 6.1 | H13: =(I13*3-K13*3+L13-M13*0.5-N13)/E13 -> 1.375 | I13: =VLOOKUP($B13,'[1]stat gazz 13-14'!$A:$Z,9,0) -> 9 | J13: =VLOOKUP($B13,'[1]stat gazz 13-14'!$A:$Z,15,0) -> 0 | K13: =VLOOKUP($B13,'[1]stat gazz 13-14'!$A:$Z,16,0) -> 0 | L13: =VLOOKUP($B13,'[1]stat gazz 13-14'!$A:$Z,12,0) -> 1 | M13: =VLOOKUP($B13,'[1]stat gazz 13-14'!$A:$Z,13,0) -> 1 | N13: =VLOOKUP($B13,'[1]stat gazz 13-14'!$A:$Z,14,0) -> 0 | Q13: =VLOOKUP($B13,'[1]stat gazz 13-14'!$A:$Z,3,0) -> inter
B14: ZAPATA D. | C14: =LEFT(Q14,3) -> nap | E14: =VLOOKUP($B14,'[1]stat gazz 13-14'!$A:$Z,4,0) -> 11 | F14: =VLOOKUP($B14,'[1]stat gazz 13-14'!$A:$Z,7,0) -> 7.4545455 | G14: =VLOOKUP($B14,'[1]stat gazz 13-14'!$A:$Z,5,0) -> 6 | H14: =(I14*3-K14*3+L14-M14*0.5-N14)/E14 -> 1.4545455 | I14: =VLOOKUP($B14,'[1]stat gazz 13-14'!$A:$Z,9,0) -> 5 | J14: =VLOOKUP($B14,'[1]stat gazz 13-14'!$A:$Z,15,0) -> 0 | K14: =VLOOKUP($B14,'[1]stat gazz 13-14'!$A:$Z,16,0) -> 0 | L14: =VLOOKUP($B14,'[1]stat gazz 13-14'!$A:$Z,12,0) -> 2 | M14: =VLOOKUP($B14,'[1]stat gazz 13-14'!$A:$Z,13,0) -> 2 | N14: =VLOOKUP($B14,'[1]stat gazz 13-14'!$A:$Z,14,0) -> 0 | Q14: =VLOOKUP($B14,'[1]stat gazz 13-14'!$A:$Z,3,0) -> napoli
... B47: MILITO | C47: =LEFT(Q47,3) -> int | E47: =VLOOKUP($B47,'[1]stat gazz 13-14'!$A:$Z,4,0) -> 13 | F47: =VLOOKUP($B47,'[1]stat gazz 13-14'!$A:$Z,7,0) -> 5.9230769 | G47: =VLOOKUP($B47,'[1]stat gazz 13-14'!$A:$Z,5,0) -> 5.6153846 | H47: =(I47*3-K47*3+L47-M47*0.5-N47)/E47 -> 0.30769231 | I47: =VLOOKUP($B47,'[1]stat gazz 13-14'!$A:$Z,9,0) -> 2 | J47: =VLOOKUP($B47,'[1]stat gazz 13-14'!$A:$Z,15,0) -> 0 | K47: =VLOOKUP($B47,'[1]stat gazz 13-14'!$A:$Z,16,0) -> 1 | L47: =VLOOKUP($B47,'[1]stat gazz 13-14'!$A:$Z,12,0) -> 1 | M47: =VLOOKUP($B47,'[1]stat gazz 13-14'!$A:$Z,13,0) -> 0 | N47: =VLOOKUP($B47,'[1]stat gazz 13-14'!$A:$Z,14,0) -> 0 | Q47: =VLOOKUP($B47,'[1]stat gazz 13-14'!$A:$Z,3,0) -> inter

Sheet A conf
F1: 2013-2014 | O1: 2012-2013 | X1: 2011-2012 | AG1: 2010-2011
B2: Calciatore | C2: i | D2: Squadr | E2: Gare | F2: FM | G2: MV | H2: Bonus | I2: B/G | J2: Gol | K2: Ass | L2: i | M2: Squadr | N2: Gare | O2: FM | P2: MV | Q2: Bonus | R2: B/G | S2: Gol | T2: Ass | U2: i | V2: Squadr | W2: Gare | X2: FM | Y2: MV | Z2: Bonus | AA2: B/G | AB2: Gol | AC2: Ass | AD2: i | AE2: Squadr | AF2: Gare | AG2: FM | AH2: MV | AI2: Bonus | AJ2: B/G | AK2: Gol | AL2: Ass | AM2: i
B3: ROSSI G. | D3: =VLOOKUP($B3,'A (tt>10)'!$B:$M,2,0) -> fio | E3: =VLOOKUP($B3,'A (tt>10)'!$B:$M,3,0) -> 21 | F3: =VLOOKUP($B3,'A (tt>10)'!$B:$M,4,0) -> 9.0714286 | G3: =VLOOKUP($B3,'A (tt>10)'!$B:$M,5,0) -> 6.7619048 | H3: =J3*3+K3 -> 49 | I3: =H3/E3 -> 2.3333333 | J3: =VLOOKUP($B3,'A (tt>10)'!$B:$M,7,0) -> 16 | K3: =VLOOKUP($B3,'A (tt>10)'!$B:$M,10,0) -> 1 | M3: =LOWER(IF(ISNA(VLOOKUP($B3,'A conf old'!$B:$AH,3,0)),"",VLOOKUP($B3,'A conf old'!$B:$AH,3,0))) | N3: =IF(ISNA(VLOOKUP($B3,'A conf old'!$B:$AH,3,0)),"",VLOOKUP($B3,'A conf old'!$B:$AH,4,0)) | O3: =IF(ISNA(VLOOKUP($B3,'A conf old'!$B:$AH,3,0)),"",VLOOKUP($B3,'A conf old'!$B:$AH,5,0)) | P3: =IF(ISNA(VLOOKUP($B3,'A conf old'!$B:$AH,3,0)),"",VLOOKUP($B3,'A conf old'!$B:$AH,6,0)) | Q3: =S3*3+T3 -> #VALUE! | S3: =IF(ISNA(VLOOKUP($B3,'A conf old'!$B:$AH,3,0)),"",VLOOKUP($B3,'A conf old'!$B:$AH,9,0)) | T3: =IF(ISNA(VLOOKUP($B3,'A conf old'!$B:$AH,3,0)),"",VLOOKUP($B3,'A conf old'!$B:$AH,10,0)) | V3: =LOWER(IF(ISNA(VLOOKUP($B3,'A conf old'!$B:$AH,12,0)),"",VLOOKUP($B3,'A conf old'!$B:$AH,12,0))) | W3: =IF(ISNA(VLOOKUP($B3,'A conf old'!$B:$AH,3,0)),"",VLOOKUP($B3,'A conf old'!$B:$AH,13,0)) | X3: =IF(ISNA(VLOOKUP($B3,'A conf old'!$B:$AH,3,0)),"",VLOOKUP($B3,'A conf old'!$B:$AH,14,0)) | Y3: =IF(ISNA(VLOOKUP($B3,'A conf old'!$B:$AH,3,0)),"",VLOOKUP($B3,'A conf old'!$B:$AH,15,0)) | Z3: =AB3*3+AC3 -> #VALUE! | AB3: =IF(ISNA(VLOOKUP($B3,'A conf old'!$B:$AH,3,0)),"",VLOOKUP($B3,'A conf old'!$B:$AH,18,0)) | AC3: =IF(ISNA(VLOOKUP($B3,'A conf old'!$B:$AH,3,0)),"",VLOOKUP($B3,'A conf old'!$B:$AH,19,0)) | AE3: =LOWER(IF(ISNA(VLOOKUP($B3,'A conf old'!$B:$AH,21,0)),"",VLOOKUP($B3,'A conf old'!$B:$AH,21,0))) | AF3: =IF(ISNA(VLOOKUP($B3,'A conf old'!$B:$AH,3,0)),"",VLOOKUP($B3,'A conf old'!$B:$AH,22,0)) | AG3: =IF(ISNA(VLOOKUP($B3,'A conf old'!$B:$AH,3,0)),"",VLOOKUP($B3,'A conf old'!$B:$AH,23,0)) | AH3: =IF(ISNA(VLOOKUP($B3,'A conf old'!$B:$AH,3,0)),"",VLOOKUP($B3,'A conf old'!$B:$AH,24,0)) | AI3: =AK3*3+AL3 -> #VALUE! | AK3: =IF(ISNA(VLOOKUP($B3,'A conf old'!$B:$AH,3,0)),"",VLOOKUP($B3,'A conf old'!$B:$AH,27,0)) | AL3: =IF(ISNA(VLOOKUP($B3,'A conf old'!$B:$AH,3,0)),"",VLOOKUP($B3,'A conf old'!$B:$AH,28,0))
B4: TONI | D4: =VLOOKUP($B4,'A (tt>10)'!$B:$M,2,0) -> ver | E4: =VLOOKUP($B4,'A (tt>10)'!$B:$M,3,0) -> 34 | F4: =VLOOKUP($B4,'A (tt>10)'!$B:$M,4,0) -> 8.5 | G4: =VLOOKUP($B4,'A (tt>10)'!$B:$M,5,0) -> 6.6470588 | H4: =J4*3+K4 -> 65 | I4: =H4/E4 -> 1.9117647 | J4: =VLOOKUP($B4,'A (tt>10)'!$B:$M,7,0) -> 20 | K4: =VLOOKUP($B4,'A (tt>10)'!$B:$M,10,0) -> 5 | M4: =LOWER(IF(ISNA(VLOOKUP($B4,'A conf old'!$B:$AH,3,0)),"",VLOOKUP($B4,'A conf old'!$B:$AH,3,0))) -> fio | N4: =IF(ISNA(VLOOKUP($B4,'A conf old'!$B:$AH,3,0)),"",VLOOKUP($B4,'A conf old'!$B:$AH,4,0)) -> 26 | O4: =IF(ISNA(VLOOKUP($B4,'A conf old'!$B:$AH,3,0)),"",VLOOKUP($B4,'A conf old'!$B:$AH,5,0)) -> 6.85 | P4: =IF(ISNA(VLOOKUP($B4,'A conf old'!$B:$AH,3,0)),"",VLOOKUP($B4,'A conf old'!$B:$AH,6,0)) -> 5.94 | Q4: =S4*3+T4 -> 25 | R4: =Q4/N4 -> 0.96153846 | S4: =IF(ISNA(VLOOKUP($B4,'A conf old'!$B:$AH,3,0)),"",VLOOKUP($B4,'A conf old'!$B:$AH,9,0)) -> 8 | T4: =IF(ISNA(VLOOKUP($B4,'A conf old'!$B:$AH,3,0)),"",VLOOKUP($B4,'A conf old'!$B:$AH,10,0)) -> 1 | V4: =LOWER(IF(ISNA(VLOOKUP($B4,'A conf old'!$B:$AH,12,0)),"",VLOOKUP($B4,'A conf old'!$B:$AH,12,0))) | AE4: =LOWER(IF(ISNA(VLOOKUP($B4,'A conf old'!$B:$AH,21,0)),"",VLOOKUP($B4,'A conf old'!$B:$AH,21,0))) -> juv | AF4: =IF(ISNA(VLOOKUP($B4,'A conf old'!$B:$AH,3,0)),"",VLOOKUP($B4,'A conf old'!$B:$AH,22,0)) -> 30 | AG4: =IF(ISNA(VLOOKUP($B4,'A conf old'!$B:$AH,3,0)),"",VLOOKUP($B4,'A conf old'!$B:$AH,23,0)) -> 6.2 | AH4: =IF(ISNA(VLOOKUP($B4,'A conf old'!$B:$AH,3,0)),"",VLOOKUP($B4,'A conf old'!$B:$AH,24,0)) -> 5.7 | AI4: =AK4*3+AL4 -> 16 | AJ4: =AI4/AF4 -> 0.53333333 | AK4: =IF(ISNA(VLOOKUP($B4,'A conf old'!$B:$AH,3,0)),"",VLOOKUP($B4,'A conf old'!$B:$AH,27,0)) -> 5 | AL4: =IF(ISNA(VLOOKUP($B4,'A conf old'!$B:$AH,3,0)),"",VLOOKUP($B4,'A conf old'!$B:$AH,28,0)) -> 1
B5: TEVEZ | D5: =VLOOKUP($B5,'A (tt>10)'!$B:$M,2,0) -> juv | E5: =VLOOKUP($B5,'A (tt>10)'!$B:$M,3,0) -> 34 | F5: =VLOOKUP($B5,'A (tt>10)'!$B:$M,4,0) -> 8.4852941 | G5: =VLOOKUP($B5,'A (tt>10)'!$B:$M,5,0) -> 6.75 | H5: =J5*3+K5 -> 61 | I5: =H5/E5 -> 1.7941176 | J5: =VLOOKUP($B5,'A (tt>10)'!$B:$M,7,0) -> 19 | K5: =VLOOKUP($B5,'A (tt>10)'!$B:$M,10,0) -> 4 | M5: =LOWER(IF(ISNA(VLOOKUP($B5,'A conf old'!$B:$AH,3,0)),"",VLOOKUP($B5,'A conf old'!$B:$AH,3,0))) | N5: =IF(ISNA(VLOOKUP($B5,'A conf old'!$B:$AH,3,0)),"",VLOOKUP($B5,'A conf old'!$B:$AH,4,0)) | O5: =IF(ISNA(VLOOKUP($B5,'A conf old'!$B:$AH,3,0)),"",VLOOKUP($B5,'A conf old'!$B:$AH,5,0)) | P5: =IF(ISNA(VLOOKUP($B5,'A conf old'!$B:$AH,3,0)),"",VLOOKUP($B5,'A conf old'!$B:$AH,6,0)) | Q5: =S5*3+T5 -> #VALUE! | S5: =IF(ISNA(VLOOKUP($B5,'A conf old'!$B:$AH,3,0)),"",VLOOKUP($B5,'A conf old'!$B:$AH,9,0)) | T5: =IF(ISNA(VLOOKUP($B5,'A conf old'!$B:$AH,3,0)),"",VLOOKUP($B5,'A conf old'!$B:$AH,10,0)) | V5: =LOWER(IF(ISNA(VLOOKUP($B5,'A conf old'!$B:$AH,12,0)),"",VLOOKUP($B5,'A conf old'!$B:$AH,12,0))) | W5: =IF(ISNA(VLOOKUP($B5,'A conf old'!$B:$AH,3,0)),"",VLOOKUP($B5,'A conf old'!$B:$AH,13,0)) | X5: =IF(ISNA(VLOOKUP($B5,'A conf old'!$B:$AH,3,0)),"",VLOOKUP($B5,'A conf old'!$B:$AH,14,0)) | Y5: =IF(ISNA(VLOOKUP($B5,'A conf old'!$B:$AH,3,0)),"",VLOOKUP($B5,'A conf old'!$B:$AH,15,0)) | Z5: =AB5*3+AC5 -> #VALUE! | AB5: =IF(ISNA(VLOOKUP($B5,'A conf old'!$B:$AH,3,0)),"",VLOOKUP($B5,'A conf old'!$B:$AH,18,0)) | AC5: =IF(ISNA(VLOOKUP($B5,'A conf old'!$B:$AH,3,0)),"",VLOOKUP($B5,'A conf old'!$B:$AH,19,0)) | AE5: =LOWER(IF(ISNA(VLOOKUP($B5,'A conf old'!$B:$AH,21,0)),"",VLOOKUP($B5,'A conf old'!$B:$AH,21,0))) | AF5: =IF(ISNA(VLOOKUP($B5,'A conf old'!$B:$AH,3,0)),"",VLOOKUP($B5,'A conf old'!$B:$AH,22,0)) | AG5: =IF(ISNA(VLOOKUP($B5,'A conf old'!$B:$AH,3,0)),"",VLOOKUP($B5,'A conf old'!$B:$AH,23,0)) | AH5: =IF(ISNA(VLOOKUP($B5,'A conf old'!$B:$AH,3,0)),"",VLOOKUP($B5,'A conf old'!$B:$AH,24,0)) | AI5: =AK5*3+AL5 -> #VALUE! | AK5: =IF(ISNA(VLOOKUP($B5,'A conf old'!$B:$AH,3,0)),"",VLOOKUP($B5,'A conf old'!$B:$AH,27,0)) | AL5: =IF(ISNA(VLOOKUP($B5,'A conf old'!$B:$AH,3,0)),"",VLOOKUP($B5,'A conf old'!$B:$AH,28,0))
B6: DESTRO | D6: =VLOOKUP($B6,'A (tt>10)'!$B:$M,2,0) -> rom | E6: =VLOOKUP($B6,'A (tt>10)'!$B:$M,3,0) -> 18 | F6: =VLOOKUP($B6,'A (tt>10)'!$B:$M,4,0) -> 8.4166667 | G6: =VLOOKUP($B6,'A (tt>10)'!$B:$M,5,0) -> 6.3333333 | H6: =J6*3+K6 -> 40 | I6: =H6/E6 -> 2.2222222 | J6: =VLOOKUP($B6,'A (tt>10)'!$B:$M,7,0) -> 13 | K6: =VLOOKUP($B6,'A (tt>10)'!$B:$M,10,0) -> 1 | M6: =LOWER(IF(ISNA(VLOOKUP($B6,'A conf old'!$B:$AH,3,0)),"",VLOOKUP($B6,'A conf old'!$B:$AH,3,0))) -> rom | N6: =IF(ISNA(VLOOKUP($B6,'A conf old'!$B:$AH,3,0)),"",VLOOKUP($B6,'A conf old'!$B:$AH,4,0)) -> 18 | O6: =IF(ISNA(VLOOKUP($B6,'A conf old'!$B:$AH,3,0)),"",VLOOKUP($B6,'A conf old'!$B:$AH,5,0)) -> 6.56 | P6: =IF(ISNA(VLOOKUP($B6,'A conf old'!$B:$AH,3,0)),"",VLOOKUP($B6,'A conf old'!$B:$AH,6,0)) -> 5.69 | Q6: =S6*3+T6 -> 19 | R6: =Q6/N6 -> 1.0555556 | S6: =IF(ISNA(VLOOKUP($B6,'A conf old'!$B:$AH,3,0)),"",VLOOKUP($B6,'A conf old'!$B:$AH,9,0)) -> 6 | T6: =IF(ISNA(VLOOKUP($B6,'A conf old'!$B:$AH,3,0)),"",VLOOKUP($B6,'A conf old'!$B:$AH,10,0)) -> 1 | V6: =LOWER(IF(ISNA(VLOOKUP($B6,'A conf old'!$B:$AH,12,0)),"",VLOOKUP($B6,'A conf old'!$B:$AH,12,0))) -> sie | W6: =IF(ISNA(VLOOKUP($B6,'A conf old'!$B:$AH,3,0)),"",VLOOKUP($B6,'A conf old'!$B:$AH,13,0)) -> 28 | X6: =IF(ISNA(VLOOKUP($B6,'A conf old'!$B:$AH,3,0)),"",VLOOKUP($B6,'A conf old'!$B:$AH,14,0)) -> 7.45 | Y6: =IF(ISNA(VLOOKUP($B6,'A conf old'!$B:$AH,3,0)),"",VLOOKUP($B6,'A conf old'!$B:$AH,15,0)) -> 6.16 | Z6: =AB6*3+AC6 -> 38 | AA6: =Z6/W6 -> 1.3571429 | AB6: =IF(ISNA(VLOOKUP($B6,'A conf old'!$B:$AH,3,0)),"",VLOOKUP($B6,'A conf old'!$B:$AH,18,0)) -> 12 | AC6: =IF(ISNA(VLOOKUP($B6,'A conf old'!$B:$AH,3,0)),"",VLOOKUP($B6,'A conf old'!$B:$AH,19,0)) -> 2 | AE6: =LOWER(IF(ISNA(VLOOKUP($B6,'A conf old'!$B:$AH,21,0)),"",VLOOKUP($B6,'A conf old'!$B:$AH,21,0))) -> gen | AF6: =IF(ISNA(VLOOKUP($B6,'A conf old'!$B:$AH,3,0)),"",VLOOKUP($B6,'A conf old'!$B:$AH,22,0)) -> 14 | AG6: =IF(ISNA(VLOOKUP($B6,'A conf old'!$B:$AH,3,0)),"",VLOOKUP($B6,'A conf old'!$B:$AH,23,0)) -> 6.21 | AH6: =IF(ISNA(VLOOKUP($B6,'A conf old'!$B:$AH,3,0)),"",VLOOKUP($B6,'A conf old'!$B:$AH,24,0)) -> 5.86 | AI6: =AK6*3+AL6 -> 7 | AJ6: =AI6/AF6 -> 0.5 | AK6: =IF(ISNA(VLOOKUP($B6,'A conf old'!$B:$AH,3,0)),"",VLOOKUP($B6,'A conf old'!$B:$AH,27,0)) -> 2 | AL6: =IF(ISNA(VLOOKUP($B6,'A conf old'!$B:$AH,3,0)),"",VLOOKUP($B6,'A conf old'!$B:$AH,28,0)) -> 1
B7: IMMOBILE | D7: =VLOOKUP($B7,'A (tt>10)'!$B:$M,2,0) -> tor | E7: =VLOOKUP($B7,'A (tt>10)'!$B:$M,3,0) -> 33 | F7: =VLOOKUP($B7,'A (tt>10)'!$B:$M,4,0) -> 8.2121212 | G7: =VLOOKUP($B7,'A (tt>10)'!$B:$M,5,0) -> 6.4242424 | H7: =J7*3+K7 -> 68 | I7: =H7/E7 -> 2.0606061 | J7: =VLOOKUP($B7,'A (tt>10)'!$B:$M,7,0) -> 22 | K7: =VLOOKUP($B7,'A (tt>10)'!$B:$M,10,0) -> 2 | M7: =LOWER(IF(ISNA(VLOOKUP($B7,'A conf old'!$B:$AH,3,0)),"",VLOOKUP($B7,'A conf old'!$B:$AH,3,0))) -> gen | N7: =IF(ISNA(VLOOKUP($B7,'A conf old'!$B:$AH,3,0)),"",VLOOKUP($B7,'A conf old'!$B:$AH,4,0)) -> 29 | O7: =IF(ISNA(VLOOKUP($B7,'A conf old'!$B:$AH,3,0)),"",VLOOKUP($B7,'A conf old'!$B:$AH,5,0)) -> 6.12 | P7: =IF(ISNA(VLOOKUP($B7,'A conf old'!$B:$AH,3,0)),"",VLOOKUP($B7,'A conf old'!$B:$AH,6,0)) -> 5.59 | Q7: =S7*3+T7 -> 18 | R7: =Q7/N7 -> 0.62068966 | S7: =IF(ISNA(VLOOKUP($B7,'A conf old'!$B:$AH,3,0)),"",VLOOKUP($B7,'A conf old'!$B:$AH,9,0)) -> 5 | T7: =IF(ISNA(VLOOKUP($B7,'A conf old'!$B:$AH,3,0)),"",VLOOKUP($B7,'A conf old'!$B:$AH,10,0)) -> 3 | V7: =LOWER(IF(ISNA(VLOOKUP($B7,'A conf old'!$B:$AH,12,0)),"",VLOOKUP($B7,'A conf old'!$B:$AH,12,0))) | AE7: =LOWER(IF(ISNA(VLOOKUP($B7,'A conf old'!$B:$AH,21,0)),"",VLOOKUP($B7,'A conf old'!$B:$AH,21,0)))
B8: HIGUAIN | D8: =VLOOKUP($B8,'A (tt>10)'!$B:$M,2,0) -> nap | E8: =VLOOKUP($B8,'A (tt>10)'!$B:$M,3,0) -> 31 | F8: =VLOOKUP($B8,'A (tt>10)'!$B:$M,4,0) -> 8.1774194 | G8: =VLOOKUP($B8,'A (tt>10)'!$B:$M,5,0) -> 6.4354839 | H8: =J8*3+K8 -> 57 | I8: =H8/E8 -> 1.8387097 | J8: =VLOOKUP($B8,'A (tt>10)'!$B:$M,7,0) -> 17 | K8: =VLOOKUP($B8,'A (tt>10)'!$B:$M,10,0) -> 6 | M8: =LOWER(IF(ISNA(VLOOKUP($B8,'A conf old'!$B:$AH,3,0)),"",VLOOKUP($B8,'A conf old'!$B:$AH,3,0))) | N8: =IF(ISNA(VLOOKUP($B8,'A conf old'!$B:$AH,3,0)),"",VLOOKUP($B8,'A conf old'!$B:$AH,4,0)) | O8: =IF(ISNA(VLOOKUP($B8,'A conf old'!$B:$AH,3,0)),"",VLOOKUP($B8,'A conf old'!$B:$AH,5,0)) | P8: =IF(ISNA(VLOOKUP($B8,'A conf old'!$B:$AH,3,0)),"",VLOOKUP($B8,'A conf old'!$B:$AH,6,0)) | Q8: =S8*3+T8 -> #VALUE! | S8: =IF(ISNA(VLOOKUP($B8,'A conf old'!$B:$AH,3,0)),"",VLOOKUP($B8,'A conf old'!$B:$AH,9,0)) | T8: =IF(ISNA(VLOOKUP($B8,'A conf old'!$B:$AH,3,0)),"",VLOOKUP($B8,'A conf old'!$B:$AH,10,0)) | V8: =LOWER(IF(ISNA(VLOOKUP($B8,'A conf old'!$B:$AH,12,0)),"",VLOOKUP($B8,'A conf old'!$B:$AH,12,0))) | AE8: =LOWER(IF(ISNA(VLOOKUP($B8,'A conf old'!$B:$AH,21,0)),"",VLOOKUP($B8,'A conf old'!$B:$AH,21,0)))
B9: LLORENTE | D9: =VLOOKUP($B9,'A (tt>10)'!$B:$M,2,0) -> juv | E9: =VLOOKUP($B9,'A (tt>10)'!$B:$M,3,0) -> 32 | F9: =VLOOKUP($B9,'A (tt>10)'!$B:$M,4,0) -> 7.765625 | G9: =VLOOKUP($B9,'A (tt>10)'!$B:$M,5,0) -> 6.25 | H9: =J9*3+K9 -> 50 | I9: =H9/E9 -> 1.5625 | J9: =VLOOKUP($B9,'A (tt>10)'!$B:$M,7,0) -> 16 | K9: =VLOOKUP($B9,'A (tt>10)'!$B:$M,10,0) -> 2 | M9: =LOWER(IF(ISNA(VLOOKUP($B9,'A conf old'!$B:$AH,3,0)),"",VLOOKUP($B9,'A conf old'!$B:$AH,3,0))) | N9: =IF(ISNA(VLOOKUP($B9,'A conf old'!$B:$AH,3,0)),"",VLOOKUP($B9,'A conf old'!$B:$AH,4,0)) | O9: =IF(ISNA(VLOOKUP($B9,'A conf old'!$B:$AH,3,0)),"",VLOOKUP($B9,'A conf old'!$B:$AH,5,0)) | P9: =IF(ISNA(VLOOKUP($B9,'A conf old'!$B:$AH,3,0)),"",VLOOKUP($B9,'A conf old'!$B:$AH,6,0)) | Q9: =S9*3+T9 -> #VALUE! | S9: =IF(ISNA(VLOOKUP($B9,'A conf old'!$B:$AH,3,0)),"",VLOOKUP($B9,'A conf old'!$B:$AH,9,0)) | T9: =IF(ISNA(VLOOKUP($B9,'A conf old'!$B:$AH,3,0)),"",VLOOKUP($B9,'A conf old'!$B:$AH,10,0)) | V9: =LOWER(IF(ISNA(VLOOKUP($B9,'A conf old'!$B:$AH,12,0)),"",VLOOKUP($B9,'A conf old'!$B:$AH,12,0))) | W9: =IF(ISNA(VLOOKUP($B9,'A conf old'!$B:$AH,3,0)),"",VLOOKUP($B9,'A conf old'!$B:$AH,13,0)) | X9: =IF(ISNA(VLOOKUP($B9,'A conf old'!$B:$AH,3,0)),"",VLOOKUP($B9,'A conf old'!$B:$AH,14,0)) | Y9: =IF(ISNA(VLOOKUP($B9,'A conf old'!$B:$AH,3,0)),"",VLOOKUP($B9,'A conf old'!$B:$AH,15,0)) | Z9: =AB9*3+AC9 -> #VALUE! | AB9: =IF(ISNA(VLOOKUP($B9,'A conf old'!$B:$AH,3,0)),"",VLOOKUP($B9,'A conf old'!$B:$AH,18,0)) | AC9: =IF(ISNA(VLOOKUP($B9,'A conf old'!$B:$AH,3,0)),"",VLOOKUP($B9,'A conf old'!$B:$AH,19,0)) | AE9: =LOWER(IF(ISNA(VLOOKUP($B9,'A conf old'!$B:$AH,21,0)),"",VLOOKUP($B9,'A conf old'!$B:$AH,21,0))) | AF9: =IF(ISNA(VLOOKUP($B9,'A conf old'!$B:$AH,3,0)),"",VLOOKUP($B9,'A conf old'!$B:$AH,22,0)) | AG9: =IF(ISNA(VLOOKUP($B9,'A conf old'!$B:$AH,3,0)),"",VLOOKUP($B9,'A conf old'!$B:$AH,23,0)) | AH9: =IF(ISNA(VLOOKUP($B9,'A conf old'!$B:$AH,3,0)),"",VLOOKUP($B9,'A conf old'!$B:$AH,24,0)) | AI9: =AK9*3+AL9 -> #VALUE! | AK9: =IF(ISNA(VLOOKUP($B9,'A conf old'!$B:$AH,3,0)),"",VLOOKUP($B9,'A conf old'!$B:$AH,27,0)) | AL9: =IF(ISNA(VLOOKUP($B9,'A conf old'!$B:$AH,3,0)),"",VLOOKUP($B9,'A conf old'!$B:$AH,28,0))
B10: BERARDI D. | D10: =VLOOKUP($B10,'A (tt>10)'!$B:$M,2,0) -> sas | E10: =VLOOKUP($B10,'A (tt>10)'!$B:$M,3,0) -> 29 | F10: =VLOOKUP($B10,'A (tt>10)'!$B:$M,4,0) -> 7.7068966 | G10: =VLOOKUP($B10,'A (tt>10)'!$B:$M,5,0) -> 6.1206897 | H10: =J10*3+K10 -> 52 | I10: =H10/E10 -> 1.7931034 | J10: =VLOOKUP($B10,'A (tt>10)'!$B:$M,7,0) -> 16 | K10: =VLOOKUP($B10,'A (tt>10)'!$B:$M,10,0) -> 4 | M10: =LOWER(IF(ISNA(VLOOKUP($B10,'A conf old'!$B:$AH,3,0)),"",VLOOKUP($B10,'A conf old'!$B:$AH,3,0))) | N10: =IF(ISNA(VLOOKUP($B10,'A conf old'!$B:$AH,3,0)),"",VLOOKUP($B10,'A conf old'!$B:$AH,4,0)) | O10: =IF(ISNA(VLOOKUP($B10,'A conf old'!$B:$AH,3,0)),"",VLOOKUP($B10,'A conf old'!$B:$AH,5,0)) | P10: =IF(ISNA(VLOOKUP($B10,'A conf old'!$B:$AH,3,0)),"",VLOOKUP($B10,'A conf old'!$B:$AH,6,0)) | Q10: =S10*3+T10 -> #VALUE! | S10: =IF(ISNA(VLOOKUP($B10,'A conf old'!$B:$AH,3,0)),"",VLOOKUP($B10,'A conf old'!$B:$AH,9,0)) | T10: =IF(ISNA(VLOOKUP($B10,'A conf old'!$B:$AH,3,0)),"",VLOOKUP($B10,'A conf old'!$B:$AH,10,0)) | V10: =LOWER(IF(ISNA(VLOOKUP($B10,'A conf old'!$B:$AH,12,0)),"",VLOOKUP($B10,'A conf old'!$B:$AH,12,0))) | W10: =IF(ISNA(VLOOKUP($B10,'A conf old'!$B:$AH,3,0)),"",VLOOKUP($B10,'A conf old'!$B:$AH,13,0)) | X10: =IF(ISNA(VLOOKUP($B10,'A conf old'!$B:$AH,3,0)),"",VLOOKUP($B10,'A conf old'!$B:$AH,14,0)) | Y10: =IF(ISNA(VLOOKUP($B10,'A conf old'!$B:$AH,3,0)),"",VLOOKUP($B10,'A conf old'!$B:$AH,15,0)) | Z10: =AB10*3+AC10 -> #VALUE! | AB10: =IF(ISNA(VLOOKUP($B10,'A conf old'!$B:$AH,3,0)),"",VLOOKUP($B10,'A conf old'!$B:$AH,18,0)) | AC10: =IF(ISNA(VLOOKUP($B10,'A conf old'!$B:$AH,3,0)),"",VLOOKUP($B10,'A conf old'!$B:$AH,19,0)) | AE10: =LOWER(IF(ISNA(VLOOKUP($B10,'A conf old'!$B:$AH,21,0)),"",VLOOKUP($B10,'A conf old'!$B:$AH,21,0)))
B11: PALACIO | D11: =VLOOKUP($B11,'A (tt>10)'!$B:$M,2,0) -> int | E11: =VLOOKUP($B11,'A (tt>10)'!$B:$M,3,0) -> 37 | F11: =VLOOKUP($B11,'A (tt>10)'!$B:$M,4,0) -> 7.6351351 | G11: =VLOOKUP($B11,'A (tt>10)'!$B:$M,5,0) -> 6.1756757 | H11: =J11*3+K11 -> 56 | I11: =H11/E11 -> 1.5135135 | J11: =VLOOKUP($B11,'A (tt>10)'!$B:$M,7,0) -> 17 | K11: =VLOOKUP($B11,'A (tt>10)'!$B:$M,10,0) -> 5 | M11: =LOWER(IF(ISNA(VLOOKUP($B11,'A conf old'!$B:$AH,3,0)),"",VLOOKUP($B11,'A conf old'!$B:$AH,3,0))) -> int | N11: =IF(ISNA(VLOOKUP($B11,'A conf old'!$B:$AH,3,0)),"",VLOOKUP($B11,'A conf old'!$B:$AH,4,0)) -> 26 | O11: =IF(ISNA(VLOOKUP($B11,'A conf old'!$B:$AH,3,0)),"",VLOOKUP($B11,'A conf old'!$B:$AH,5,0)) -> 7.62 | P11: =IF(ISNA(VLOOKUP($B11,'A conf old'!$B:$AH,3,0)),"",VLOOKUP($B11,'A conf old'!$B:$AH,6,0)) -> 6.1 | Q11: =S11*3+T11 -> 41 | R11: =Q11/N11 -> 1.5769231 | S11: =IF(ISNA(VLOOKUP($B11,'A conf old'!$B:$AH,3,0)),"",VLOOKUP($B11,'A conf old'!$B:$AH,9,0)) -> 12 | T11: =IF(ISNA(VLOOKUP($B11,'A conf old'!$B:$AH,3,0)),"",VLOOKUP($B11,'A conf old'!$B:$AH,10,0)) -> 5 | V11: =LOWER(IF(ISNA(VLOOKUP($B11,'A conf old'!$B:$AH,12,0)),"",VLOOKUP($B11,'A conf old'!$B:$AH,12,0))) -> gen | W11: =IF(ISNA(VLOOKUP($B11,'A conf old'!$B:$AH,3,0)),"",VLOOKUP($B11,'A conf old'!$B:$AH,13,0)) -> 32 | X11: =IF(ISNA(VLOOKUP($B11,'A conf old'!$B:$AH,3,0)),"",VLOOKUP($B11,'A conf old'!$B:$AH,14,0)) -> 7.97 | Y11: =IF(ISNA(VLOOKUP($B11,'A conf old'!$B:$AH,3,0)),"",VLOOKUP($B11,'A conf old'!$B:$AH,15,0)) -> 6.34 | Z11: =AB11*3+AC11 -> 59 | AA11: =Z11/W11 -> 1.84375 | AB11: =IF(ISNA(VLOOKUP($B11,'A conf old'!$B:$AH,3,0)),"",VLOOKUP($B11,'A conf old'!$B:$AH,18,0)) -> 18 | AC11: =IF(ISNA(VLOOKUP($B11,'A conf old'!$B:$AH,3,0)),"",VLOOKUP($B11,'A conf old'!$B:$AH,19,0)) -> 5 | AE11: =LOWER(IF(ISNA(VLOOKUP($B11,'A conf old'!$B:$AH,21,0)),"",VLOOKUP($B11,'A conf old'!$B:$AH,21,0))) -> gen | AF11: =IF(ISNA(VLOOKUP($B11,'A conf old'!$B:$AH,3,0)),"",VLOOKUP($B11,'A conf old'!$B:$AH,22,0)) -> 27 | AG11: =IF(ISNA(VLOOKUP($B11,'A conf old'!$B:$AH,3,0)),"",VLOOKUP($B11,'A conf old'!$B:$AH,23,0)) -> 7.52 | AH11: =IF(ISNA(VLOOKUP($B11,'A conf old'!$B:$AH,3,0)),"",VLOOKUP($B11,'A conf old'!$B:$AH,24,0)) -> 6.33 | AI11: =AK11*3+AL11 -> 34 | AJ11: =AI11/AF11 -> 1.2592593 | AK11: =IF(ISNA(VLOOKUP($B11,'A conf old'!$B:$AH,3,0)),"",VLOOKUP($B11,'A conf old'!$B:$AH,27,0)) -> 9 | AL11: =IF(ISNA(VLOOKUP($B11,'A conf old'!$B:$AH,3,0)),"",VLOOKUP($B11,'A conf old'!$B:$AH,28,0)) -> 7
B12: TOTTI | D12: =VLOOKUP($B12,'A (tt>10)'!$B:$M,2,0) -> rom | E12: =VLOOKUP($B12,'A (tt>10)'!$B:$M,3,0) -> 25 | F12: =VLOOKUP($B12,'A (tt>10)'!$B:$M,4,0) -> 7.48 | G12: =VLOOKUP($B12,'A (tt>10)'!$B:$M,5,0) -> 6.5 | H12: =J12*3+K12 -> 26 | I12: =H12/E12 -> 1.04 | J12: =VLOOKUP($B12,'A (tt>10)'!$B:$M,7,0) -> 7 | K12: =VLOOKUP($B12,'A (tt>10)'!$B:$M,10,0) -> 5 | M12: =LOWER(IF(ISNA(VLOOKUP($B12,'A conf old'!$B:$AH,3,0)),"",VLOOKUP($B12,'A conf old'!$B:$AH,3,0))) -> rom | N12: =IF(ISNA(VLOOKUP($B12,'A conf old'!$B:$AH,3,0)),"",VLOOKUP($B12,'A conf old'!$B:$AH,4,0)) -> 34 | O12: =IF(ISNA(VLOOKUP($B12,'A conf old'!$B:$AH,3,0)),"",VLOOKUP($B12,'A conf old'!$B:$AH,5,0)) -> 7.74 | P12: =IF(ISNA(VLOOKUP($B12,'A conf old'!$B:$AH,3,0)),"",VLOOKUP($B12,'A conf old'!$B:$AH,6,0)) -> 6.56 | Q12: =S12*3+T12 -> 47 | R12: =Q12/N12 -> 1.3823529 | S12: =IF(ISNA(VLOOKUP($B12,'A conf old'!$B:$AH,3,0)),"",VLOOKUP($B12,'A conf old'!$B:$AH,9,0)) -> 12 | T12: =IF(ISNA(VLOOKUP($B12,'A conf old'!$B:$AH,3,0)),"",VLOOKUP($B12,'A conf old'!$B:$AH,10,0)) -> 11 | V12: =LOWER(IF(ISNA(VLOOKUP($B12,'A conf old'!$B:$AH,12,0)),"",VLOOKUP($B12,'A conf old'!$B:$AH,12,0))) -> rom | W12: =IF(ISNA(VLOOKUP($B12,'A conf old'!$B:$AH,3,0)),"",VLOOKUP($B12,'A conf old'!$B:$AH,13,0)) -> 27 | X12: =IF(ISNA(VLOOKUP($B12,'A conf old'!$B:$AH,3,0)),"",VLOOKUP($B12,'A conf old'!$B:$AH,14,0)) -> 7.13 | Y12: =IF(ISNA(VLOOKUP($B12,'A conf old'!$B:$AH,3,0)),"",VLOOKUP($B12,'A conf old'!$B:$AH,15,0)) -> 6.37 | Z12: =AB12*3+AC12 -> 30 | AA12: =Z12/W12 -> 1.1111111 | AB12: =IF(ISNA(VLOOKUP($B12,'A conf old'!$B:$AH,3,0)),"",VLOOKUP($B12,'A conf old'!$B:$AH,18,0)) -> 8 | AC12: =IF(ISNA(VLOOKUP($B12,'A conf old'!$B:$AH,3,0)),"",VLOOKUP($B12,'A conf old'!$B:$AH,19,0)) -> 6 | AE12: =LOWER(IF(ISNA(VLOOKUP($B12,'A conf old'!$B:$AH,21,0)),"",VLOOKUP($B12,'A conf old'!$B:$AH,21,0))) -> rom | AF12: =IF(ISNA(VLOOKUP($B12,'A conf old'!$B:$AH,3,0)),"",VLOOKUP($B12,'A conf old'!$B:$AH,22,0)) -> 30 | AG12: =IF(ISNA(VLOOKUP($B12,'A conf old'!$B:$AH,3,0)),"",VLOOKUP($B12,'A conf old'!$B:$AH,23,0)) -> 7.73 | AH12: =IF(ISNA(VLOOKUP($B12,'A conf old'!$B:$AH,3,0)),"",VLOOKUP($B12,'A conf old'!$B:$AH,24,0)) -> 6.33 | AI12: =AK12*3+AL12 -> 52 | AJ12: =AI12/AF12 -> 1.7333333 | AK12: =IF(ISNA(VLOOKUP($B12,'A conf old'!$B:$AH,3,0)),"",VLOOKUP($B12,'A conf old'!$B:$AH,27,0)) -> 15 | AL12: =IF(ISNA(VLOOKUP($B12,'A conf old'!$B:$AH,3,0)),"",VLOOKUP($B12,'A conf old'!$B:$AH,28,0)) -> 7
B13: ICARDI | D13: =VLOOKUP($B13,'A (tt>10)'!$B:$M,2,0) -> int | E13: =VLOOKUP($B13,'A (tt>10)'!$B:$M,3,0) -> 20 | F13: =VLOOKUP($B13,'A (tt>10)'!$B:$M,4,0) -> 7.475 | G13: =VLOOKUP($B13,'A (tt>10)'!$B:$M,5,0) -> 6.1 | H13: =J13*3+K13 -> 28 | I13: =H13/E13 -> 1.4 | J13: =VLOOKUP($B13,'A (tt>10)'!$B:$M,7,0) -> 9 | K13: =VLOOKUP($B13,'A (tt>10)'!$B:$M,10,0) -> 1 | M13: =LOWER(IF(ISNA(VLOOKUP($B13,'A conf old'!$B:$AH,3,0)),"",VLOOKUP($B13,'A conf old'!$B:$AH,3,0))) -> sam | N13: =IF(ISNA(VLOOKUP($B13,'A conf old'!$B:$AH,3,0)),"",VLOOKUP($B13,'A conf old'!$B:$AH,4,0)) -> 29 | O13: =IF(ISNA(VLOOKUP($B13,'A conf old'!$B:$AH,3,0)),"",VLOOKUP($B13,'A conf old'!$B:$AH,5,0)) -> 6.81 | P13: =IF(ISNA(VLOOKUP($B13,'A conf old'!$B:$AH,3,0)),"",VLOOKUP($B13,'A conf old'!$B:$AH,6,0)) -> 5.79 | Q13: =S13*3+T13 -> 31 | R13: =Q13/N13 -> 1.0689655 | S13: =IF(ISNA(VLOOKUP($B13,'A conf old'!$B:$AH,3,0)),"",VLOOKUP($B13,'A conf old'!$B:$AH,9,0)) -> 10 | T13: =IF(ISNA(VLOOKUP($B13,'A conf old'!$B:$AH,3,0)),"",VLOOKUP($B13,'A conf old'!$B:$AH,10,0)) -> 1 | V13: =LOWER(IF(ISNA(VLOOKUP($B13,'A conf old'!$B:$AH,12,0)),"",VLOOKUP($B13,'A conf old'!$B:$AH,12,0))) | AE13: =LOWER(IF(ISNA(VLOOKUP($B13,'A conf old'!$B:$AH,21,0)),"",VLOOKUP($B13,'A conf old'!$B:$AH,21,0)))
B14: ZAPATA D. | D14: =VLOOKUP($B14,'A (tt>10)'!$B:$M,2,0) -> nap | E14: =VLOOKUP($B14,'A (tt>10)'!$B:$M,3,0) -> 11 | F14: =VLOOKUP($B14,'A (tt>10)'!$B:$M,4,0) -> 7.4545455 | G14: =VLOOKUP($B14,'A (tt>10)'!$B:$M,5,0) -> 6 | H14: =J14*3+K14 -> 17 | I14: =H14/E14 -> 1.5454545 | J14: =VLOOKUP($B14,'A (tt>10)'!$B:$M,7,0) -> 5 | K14: =VLOOKUP($B14,'A (tt>10)'!$B:$M,10,0) -> 2 | M14: =LOWER(IF(ISNA(VLOOKUP($B14,'A conf old'!$B:$AH,3,0)),"",VLOOKUP($B14,'A conf old'!$B:$AH,3,0))) | N14: =IF(ISNA(VLOOKUP($B14,'A conf old'!$B:$AH,3,0)),"",VLOOKUP($B14,'A conf old'!$B:$AH,4,0)) | O14: =IF(ISNA(VLOOKUP($B14,'A conf old'!$B:$AH,3,0)),"",VLOOKUP($B14,'A conf old'!$B:$AH,5,0)) | P14: =IF(ISNA(VLOOKUP($B14,'A conf old'!$B:$AH,3,0)),"",VLOOKUP($B14,'A conf old'!$B:$AH,6,0)) | Q14: =S14*3+T14 -> #VALUE! | S14: =IF(ISNA(VLOOKUP($B14,'A conf old'!$B:$AH,3,0)),"",VLOOKUP($B14,'A conf old'!$B:$AH,9,0)) | T14: =IF(ISNA(VLOOKUP($B14,'A conf old'!$B:$AH,3,0)),"",VLOOKUP($B14,'A conf old'!$B:$AH,10,0)) | V14: =LOWER(IF(ISNA(VLOOKUP($B14,'A conf old'!$B:$AH,12,0)),"",VLOOKUP($B14,'A conf old'!$B:$AH,12,0))) | W14: =IF(ISNA(VLOOKUP($B14,'A conf old'!$B:$AH,3,0)),"",VLOOKUP($B14,'A conf old'!$B:$AH,13,0)) | X14: =IF(ISNA(VLOOKUP($B14,'A conf old'!$B:$AH,3,0)),"",VLOOKUP($B14,'A conf old'!$B:$AH,14,0)) | Y14: =IF(ISNA(VLOOKUP($B14,'A conf old'!$B:$AH,3,0)),"",VLOOKUP($B14,'A conf old'!$B:$AH,15,0)) | Z14: =AB14*3+AC14 -> #VALUE! | AB14: =IF(ISNA(VLOOKUP($B14,'A conf old'!$B:$AH,3,0)),"",VLOOKUP($B14,'A conf old'!$B:$AH,18,0)) | AC14: =IF(ISNA(VLOOKUP($B14,'A conf old'!$B:$AH,3,0)),"",VLOOKUP($B14,'A conf old'!$B:$AH,19,0)) | AE14: =LOWER(IF(ISNA(VLOOKUP($B14,'A conf old'!$B:$AH,21,0)),"",VLOOKUP($B14,'A conf old'!$B:$AH,21,0))) | AF14: =IF(ISNA(VLOOKUP($B14,'A conf old'!$B:$AH,3,0)),"",VLOOKUP($B14,'A conf old'!$B:$AH,22,0)) | AG14: =IF(ISNA(VLOOKUP($B14,'A conf old'!$B:$AH,3,0)),"",VLOOKUP($B14,'A conf old'!$B:$AH,23,0)) | AH14: =IF(ISNA(VLOOKUP($B14,'A conf old'!$B:$AH,3,0)),"",VLOOKUP($B14,'A conf old'!$B:$AH,24,0)) | AI14: =AK14*3+AL14 -> #VALUE! | AK14: =IF(ISNA(VLOOKUP($B14,'A conf old'!$B:$AH,3,0)),"",VLOOKUP($B14,'A conf old'!$B:$AH,27,0)) | AL14: =IF(ISNA(VLOOKUP($B14,'A conf old'!$B:$AH,3,0)),"",VLOOKUP($B14,'A conf old'!$B:$AH,28,0))
B15: MERTENS | D15: =VLOOKUP($B15,'A (tt>10)'!$B:$M,2,0) -> nap | E15: =VLOOKUP($B15,'A (tt>10)'!$B:$M,3,0) -> 30 | F15: =VLOOKUP($B15,'A (tt>10)'!$B:$M,4,0) -> 7.4333333 | G15: =VLOOKUP($B15,'A (tt>10)'!$B:$M,5,0) -> 6.2666667 | H15: =J15*3+K15 -> 37 | I15: =H15/E15 -> 1.2333333 | J15: =VLOOKUP($B15,'A (tt>10)'!$B:$M,7,0) -> 11 | K15: =VLOOKUP($B15,'A (tt>10)'!$B:$M,10,0) -> 4 | M15: =LOWER(IF(ISNA(VLOOKUP($B15,'A conf old'!$B:$AH,3,0)),"",VLOOKUP($B15,'A conf old'!$B:$AH,3,0))) | N15: =IF(ISNA(VLOOKUP($B15,'A conf old'!$B:$AH,3,0)),"",VLOOKUP($B15,'A conf old'!$B:$AH,4,0)) | O15: =IF(ISNA(VLOOKUP($B15,'A conf old'!$B:$AH,3,0)),"",VLOOKUP($B15,'A conf old'!$B:$AH,5,0)) | P15: =IF(ISNA(VLOOKUP($B15,'A conf old'!$B:$AH,3,0)),"",VLOOKUP($B15,'A conf old'!$B:$AH,6,0)) | Q15: =S15*3+T15 -> #VALUE! | S15: =IF(ISNA(VLOOKUP($B15,'A conf old'!$B:$AH,3,0)),"",VLOOKUP($B15,'A conf old'!$B:$AH,9,0)) | T15: =IF(ISNA(VLOOKUP($B15,'A conf old'!$B:$AH,3,0)),"",VLOOKUP($B15,'A conf old'!$B:$AH,10,0)) | V15: =LOWER(IF(ISNA(VLOOKUP($B15,'A conf old'!$B:$AH,12,0)),"",VLOOKUP($B15,'A conf old'!$B:$AH,12,0))) | W15: =IF(ISNA(VLOOKUP($B15,'A conf old'!$B:$AH,3,0)),"",VLOOKUP($B15,'A conf old'!$B:$AH,13,0)) | X15: =IF(ISNA(VLOOKUP($B15,'A conf old'!$B:$AH,3,0)),"",VLOOKUP($B15,'A conf old'!$B:$AH,14,0)) | Y15: =IF(ISNA(VLOOKUP($B15,'A conf old'!$B:$AH,3,0)),"",VLOOKUP($B15,'A conf old'!$B:$AH,15,0)) | Z15: =AB15*3+AC15 -> #VALUE! | AB15: =IF(ISNA(VLOOKUP($B15,'A conf old'!$B:$AH,3,0)),"",VLOOKUP($B15,'A conf old'!$B:$AH,18,0)) | AC15: =IF(ISNA(VLOOKUP($B15,'A conf old'!$B:$AH,3,0)),"",VLOOKUP($B15,'A conf old'!$B:$AH,19,0)) | AE15: =LOWER(IF(ISNA(VLOOKUP($B15,'A conf old'!$B:$AH,21,0)),"",VLOOKUP($B15,'A conf old'!$B:$AH,21,0))) | AF15: =IF(ISNA(VLOOKUP($B15,'A conf old'!$B:$AH,3,0)),"",VLOOKUP($B15,'A conf old'!$B:$AH,22,0)) | AG15: =IF(ISNA(VLOOKUP($B15,'A conf old'!$B:$AH,3,0)),"",VLOOKUP($B15,'A conf old'!$B:$AH,23,0)) | AH15: =IF(ISNA(VLOOKUP($B15,'A conf old'!$B:$AH,3,0)),"",VLOOKUP($B15,'A conf old'!$B:$AH,24,0)) | AI15: =AK15*3+AL15 -> #VALUE! | AK15: =IF(ISNA(VLOOKUP($B15,'A conf old'!$B:$AH,3,0)),"",VLOOKUP($B15,'A conf old'!$B:$AH,27,0)) | AL15: =IF(ISNA(VLOOKUP($B15,'A conf old'!$B:$AH,3,0)),"",VLOOKUP($B15,'A conf old'!$B:$AH,28,0))
B16: DI NATALE | D16: =VLOOKUP($B16,'A (tt>10)'!$B:$M,2,0) -> udi | E16: =VLOOKUP($B16,'A (tt>10)'!$B:$M,3,0) -> 30 | F16: =VLOOKUP($B16,'A (tt>10)'!$B:$M,4,0) -> 7.4333333 | G16: =VLOOKUP($B16,'A (tt>10)'!$B:$M,5,0) -> 6.05 | H16: =J16*3+K16 -> 48 | I16: =H16/E16 -> 1.6 | J16: =VLOOKUP($B16,'A (tt>10)'!$B:$M,7,0) -> 16 | K16: =VLOOKUP($B16,'A (tt>10)'!$B:$M,10,0) -> 0 | M16: =LOWER(IF(ISNA(VLOOKUP($B16,'A conf old'!$B:$AH,3,0)),"",VLOOKUP($B16,'A conf old'!$B:$AH,3,0))) -> udi | N16: =IF(ISNA(VLOOKUP($B16,'A conf old'!$B:$AH,3,0)),"",VLOOKUP($B16,'A conf old'!$B:$AH,4,0)) -> 33 | O16: =IF(ISNA(VLOOKUP($B16,'A conf old'!$B:$AH,3,0)),"",VLOOKUP($B16,'A conf old'!$B:$AH,5,0)) -> 8.26 | P16: =IF(ISNA(VLOOKUP($B16,'A conf old'!$B:$AH,3,0)),"",VLOOKUP($B16,'A conf old'!$B:$AH,6,0)) -> 6.29 | Q16: =S16*3+T16 -> 73 | R16: =Q16/N16 -> 2.2121212 | S16: =IF(ISNA(VLOOKUP($B16,'A conf old'!$B:$AH,3,0)),"",VLOOKUP($B16,'A conf old'!$B:$AH,9,0)) -> 23 | T16: =IF(ISNA(VLOOKUP($B16,'A conf old'!$B:$AH,3,0)),"",VLOOKUP($B16,'A conf old'!$B:$AH,10,0)) -> 4 | V16: =LOWER(IF(ISNA(VLOOKUP($B16,'A conf old'!$B:$AH,12,0)),"",VLOOKUP($B16,'A conf old'!$B:$AH,12,0))) -> udi | W16: =IF(ISNA(VLOOKUP($B16,'A conf old'!$B:$AH,3,0)),"",VLOOKUP($B16,'A conf old'!$B:$AH,13,0)) -> 36 | X16: =IF(ISNA(VLOOKUP($B16,'A conf old'!$B:$AH,3,0)),"",VLOOKUP($B16,'A conf old'!$B:$AH,14,0)) -> 8.43 | Y16: =IF(ISNA(VLOOKUP($B16,'A conf old'!$B:$AH,3,0)),"",VLOOKUP($B16,'A conf old'!$B:$AH,15,0)) -> 6.46 | Z16: =AB16*3+AC16 -> 75 | AA16: =Z16/W16 -> 2.0833333 | AB16: =IF(ISNA(VLOOKUP($B16,'A conf old'!$B:$AH,3,0)),"",VLOOKUP($B16,'A conf old'!$B:$AH,18,0)) -> 23 | AC16: =IF(ISNA(VLOOKUP($B16,'A conf old'!$B:$AH,3,0)),"",VLOOKUP($B16,'A conf old'!$B:$AH,19,0)) -> 6 | AE16: =LOWER(IF(ISNA(VLOOKUP($B16,'A conf old'!$B:$AH,21,0)),"",VLOOKUP($B16,'A conf old'!$B:$AH,21,0))) -> udi | AF16: =IF(ISNA(VLOOKUP($B16,'A conf old'!$B:$AH,3,0)),"",VLOOKUP($B16,'A conf old'!$B:$AH,22,0)) -> 36 | AG16: =IF(ISNA(VLOOKUP($B16,'A conf old'!$B:$AH,3,0)),"",VLOOKUP($B16,'A conf old'!$B:$AH,23,0)) -> 8.71 | AH16: =IF(ISNA(VLOOKUP($B16,'A conf old'!$B:$AH,3,0)),"",VLOOKUP($B16,'A conf old'!$B:$AH,24,0)) -> 6.42 | AI16: =AK16*3+AL16 -> 90 | AJ16: =AI16/AF16 -> 2.5 | AK16: =IF(ISNA(VLOOKUP($B16,'A conf old'!$B:$AH,3,0)),"",VLOOKUP($B16,'A conf old'!$B:$AH,27,0)) -> 28 | AL16: =IF(ISNA(VLOOKUP($B16,'A conf old'!$B:$AH,3,0)),"",VLOOKUP($B16,'A conf old'!$B:$AH,28,0)) -> 6
B17: CALLEJON | D17: =VLOOKUP($B17,'A (tt>10)'!$B:$M,2,0) -> nap | E17: =VLOOKUP($B17,'A (tt>10)'!$B:$M,3,0) -> 37 | F17: =VLOOKUP($B17,'A (tt>10)'!$B:$M,4,0) -> 7.4054054 | G17: =VLOOKUP($B17,'A (tt>10)'!$B:$M,5,0) -> 6.1486486 | H17: =J17*3+K17 -> 50 | I17: =H17/E17 -> 1.3513514 | J17: =VLOOKUP($B17,'A (tt>10)'!$B:$M,7,0) -> 15 | K17: =VLOOKUP($B17,'A (tt>10)'!$B:$M,10,0) -> 5 | M17: =LOWER(IF(ISNA(VLOOKUP($B17,'A conf old'!$B:$AH,3,0)),"",VLOOKUP($B17,'A conf old'!$B:$AH,3,0))) | N17: =IF(ISNA(VLOOKUP($B17,'A conf old'!$B:$AH,3,0)),"",VLOOKUP($B17,'A conf old'!$B:$AH,4,0)) | O17: =IF(ISNA(VLOOKUP($B17,'A conf old'!$B:$AH,3,0)),"",VLOOKUP($B17,'A conf old'!$B:$AH,5,0)) | P17: =IF(ISNA(VLOOKUP($B17,'A conf old'!$B:$AH,3,0)),"",VLOOKUP($B17,'A conf old'!$B:$AH,6,0)) | Q17: =S17*3+T17 -> #VALUE! | S17: =IF(ISNA(VLOOKUP($B17,'A conf old'!$B:$AH,3,0)),"",VLOOKUP($B17,'A conf old'!$B:$AH,9,0)) | T17: =IF(ISNA(VLOOKUP($B17,'A conf old'!$B:$AH,3,0)),"",VLOOKUP($B17,'A conf old'!$B:$AH,10,0)) | V17: =LOWER(IF(ISNA(VLOOKUP($B17,'A conf old'!$B:$AH,12,0)),"",VLOOKUP($B17,'A conf old'!$B:$AH,12,0))) | W17: =IF(ISNA(VLOOKUP($B17,'A conf old'!$B:$AH,3,0)),"",VLOOKUP($B17,'A conf old'!$B:$AH,13,0)) | X17: =IF(ISNA(VLOOKUP($B17,'A conf old'!$B:$AH,3,0)),"",VLOOKUP($B17,'A conf old'!$B:$AH,14,0)) | Y17: =IF(ISNA(VLOOKUP($B17,'A conf old'!$B:$AH,3,0)),"",VLOOKUP($B17,'A conf old'!$B:$AH,15,0)) | Z17: =AB17*3+AC17 -> #VALUE! | AB17: =IF(ISNA(VLOOKUP($B17,'A conf old'!$B:$AH,3,0)),"",VLOOKUP($B17,'A conf old'!$B:$AH,18,0)) | AC17: =IF(ISNA(VLOOKUP($B17,'A conf old'!$B:$AH,3,0)),"",VLOOKUP($B17,'A conf old'!$B:$AH,19,0)) | AE17: =LOWER(IF(ISNA(VLOOKUP($B17,'A conf old'!$B:$AH,21,0)),"",VLOOKUP($B17,'A conf old'!$B:$AH,21,0)))
B18: CASSANO | D18: =VLOOKUP($B18,'A (tt>10)'!$B:$M,2,0) -> par | E18: =VLOOKUP($B18,'A (tt>10)'!$B:$M,3,0) -> 33 | F18: =VLOOKUP($B18,'A (tt>10)'!$B:$M,4,0) -> 7.3181818 | G18: =VLOOKUP($B18,'A (tt>10)'!$B:$M,5,0) -> 6.3030303 | H18: =J18*3+K18 -> 42 | I18: =H18/E18 -> 1.2727273 | J18: =VLOOKUP($B18,'A (tt>10)'!$B:$M,7,0) -> 12 | K18: =VLOOKUP($B18,'A (tt>10)'!$B:$M,10,0) -> 6 | M18: =LOWER(IF(ISNA(VLOOKUP($B18,'A conf old'!$B:$AH,3,0)),"",VLOOKUP($B18,'A conf old'!$B:$AH,3,0))) -> int | N18: =IF(ISNA(VLOOKUP($B18,'A conf old'!$B:$AH,3,0)),"",VLOOKUP($B18,'A conf old'!$B:$AH,4,0)) -> 28 | O18: =IF(ISNA(VLOOKUP($B18,'A conf old'!$B:$AH,3,0)),"",VLOOKUP($B18,'A conf old'!$B:$AH,5,0)) -> 7.23 | P18: =IF(ISNA(VLOOKUP($B18,'A conf old'!$B:$AH,3,0)),"",VLOOKUP($B18,'A conf old'!$B:$AH,6,0)) -> 6.13 | Q18: =S18*3+T18 -> 31 | R18: =Q18/N18 -> 1.1071429 | S18: =IF(ISNA(VLOOKUP($B18,'A conf old'!$B:$AH,3,0)),"",VLOOKUP($B18,'A conf old'!$B:$AH,9,0)) -> 8 | T18: =IF(ISNA(VLOOKUP($B18,'A conf old'!$B:$AH,3,0)),"",VLOOKUP($B18,'A conf old'!$B:$AH,10,0)) -> 7 | V18: =LOWER(IF(ISNA(VLOOKUP($B18,'A conf old'!$B:$AH,12,0)),"",VLOOKUP($B18,'A conf old'!$B:$AH,12,0))) -> mil | W18: =IF(ISNA(VLOOKUP($B18,'A conf old'!$B:$AH,3,0)),"",VLOOKUP($B18,'A conf old'!$B:$AH,13,0)) -> 15 | X18: =IF(ISNA(VLOOKUP($B18,'A conf old'!$B:$AH,3,0)),"",VLOOKUP($B18,'A conf old'!$B:$AH,14,0)) -> 7.4 | Y18: =IF(ISNA(VLOOKUP($B18,'A conf old'!$B:$AH,3,0)),"",VLOOKUP($B18,'A conf old'!$B:$AH,15,0)) -> 6.3 | Z18: =AB18*3+AC18 -> 17 | AA18: =Z18/W18 -> 1.1333333 | AB18: =IF(ISNA(VLOOKUP($B18,'A conf old'!$B:$AH,3,0)),"",VLOOKUP($B18,'A conf old'!$B:$AH,18,0)) -> 3 | AC18: =IF(ISNA(VLOOKUP($B18,'A conf old'!$B:$AH,3,0)),"",VLOOKUP($B18,'A conf old'!$B:$AH,19,0)) -> 8 | AE18: =LOWER(IF(ISNA(VLOOKUP($B18,'A conf old'!$B:$AH,21,0)),"",VLOOKUP($B18,'A conf old'!$B:$AH,21,0))) -> mil | AF18: =IF(ISNA(VLOOKUP($B18,'A conf old'!$B:$AH,3,0)),"",VLOOKUP($B18,'A conf old'!$B:$AH,22,0)) -> 24 | AG18: =IF(ISNA(VLOOKUP($B18,'A conf old'!$B:$AH,3,0)),"",VLOOKUP($B18,'A conf old'!$B:$AH,23,0)) -> 7.21 | AH18: =IF(ISNA(VLOOKUP($B18,'A conf old'!$B:$AH,3,0)),"",VLOOKUP($B18,'A conf old'!$B:$AH,24,0)) -> 6.02 | AI18: =AK18*3+AL18 -> 30 | AJ18: =AI18/AF18 -> 1.25 | AK18: =IF(ISNA(VLOOKUP($B18,'A conf old'!$B:$AH,3,0)),"",VLOOKUP($B18,'A conf old'!$B:$AH,27,0)) -> 8 | AL18: =IF(ISNA(VLOOKUP($B18,'A conf old'!$B:$AH,3,0)),"",VLOOKUP($B18,'A conf old'!$B:$AH,28,0)) -> 6
