Workbook

Sheet Foglio1
A1: Calciatore | B1: Giocatore | C1: Media voto | D1: MV pulita | E1: Gol Rigore | F1: Gol | G1: Presenze gol | H1: Presenze senza gol | I1: Presenze | J1: % Presenze gol | K1: Valutazione MV
A2: =Foglio2!A2 -> 3387 | B2: =Foglio2!B2 -> MATRI | C2: =AVERAGEIF(Foglio2!C2:AN2,">0") -> 5.9692105 | D2: =SUM(IF(Foglio2!C3="NO",Foglio2!C2,0),IF(Foglio2!D3="NO",Foglio2!D2,0),IF(Foglio2!E3="NO",Foglio2!E2,0),IF(Foglio2!F3="NO",Foglio2!F2,0),IF(Foglio2!G3="NO",Foglio2!G2,0),IF(Foglio2!H3="NO",Foglio2!H2,0),IF(Foglio2!I3="NO",Foglio2!I2,0),IF(Foglio2!J3="NO",Foglio2!J2,0),IF(Foglio2!K3="NO",Foglio2!K2,0),IF(Foglio2!L3="NO",Foglio2!L2,0),IF(Foglio2!M3="NO",Foglio2!M2,0),IF(Foglio2!N3="NO",Foglio2!N2,0),IF(Foglio2!O3="NO",Foglio2!O2,0),IF(Foglio2!P3="NO",Foglio2!P2,0),IF(Foglio2!Q3="NO",Foglio2!Q2,0),IF(Foglio2!R3="NO",Foglio2!R2,0),IF(Foglio2!S3="NO",Foglio2!S2,0),IF(Foglio2!T3="NO",Foglio2!T2,0),IF(Foglio2!U3="NO",Foglio2!U2,0),IF(Foglio2!V3="NO",Foglio2!V2,0),IF(Foglio2!W3="NO",Foglio2!W2,0),IF(Foglio2!X3="NO",Foglio2!X2,0),IF(Foglio2!Y3="NO",Foglio2!Y2,0),IF(Foglio2!Z3="NO",Foglio2!Z2,0),IF(Foglio2!AA3="NO",Foglio2!AA2,0),IF(Foglio2!AB3="NO",Foglio2!AB2,0),IF(Foglio2!AC3="NO",Foglio2!AC2,0),IF(Foglio2!AD3="NO",Foglio2!AD2,0),IF(Foglio2!AE3="NO",Foglio2!AE2,0),IF(Foglio2!AF3="NO",Foglio2!AF2,0),IF(Foglio2!AG3="NO",Foglio2!AG2,0),IF(Foglio2!AH3="NO",Foglio2!AH2,0),IF(Foglio2!AI3="NO",Foglio2!AI2,0),IF(Foglio2!AJ3="NO",Foglio2!AJ2,0),IF(Foglio2!AK3="NO",Foglio2!AK2,0),IF(Foglio2!AL3="NO",Foglio2!AL2,0),IF(Foglio2!AM3="NO",Foglio2!AM2,0),IF(Foglio2!AN3="NO",Foglio2!AN2,0))/COUNTIF(Foglio2!C3:AN3,"NO") -> 5.3154167 | E2: =SUM( IF(IFERROR(VLOOKUP(A2,'[1]1'!$A$5:$O$440,9,FALSE),0)=0,0,VLOOKUP(A2,'[1]1'!$A$5:$O$440,9,FALSE)), IF(IFERROR(VLOOKUP(A2,'[2]2'!$A$5:$O$440,9,FALSE),0)=0,0,VLOOKUP(A2,'[2]2'!$A$5:$O$440,9,FALSE)), IF(IFERROR(VLOOKUP(A2:'[3]3'!$A$5:$O$440,9,FALSE),0)=0,0,VLOOKUP(A2,'[3]3'!$A$5:$O$440,9,FALSE)), IF(IFERROR(VLOOKUP(A2,'[4]4'!$A$5:$O$440,9,FALSE),0)=0,0,VLOOKUP(A2,'[4]4'!$A$5:$O$440,9,FALSE)), IF(IFERROR(VLOOKUP(A2,'[5]5'!$A$5:$O$440,9,FALSE),0)=0,0,VLOOKUP(A2,'[5]5'!$A$5:$O$440,9,FALSE)), IF(IFERROR(VLOOKUP(A2,'[6]6'!$A$5:$O$440,9,FALSE),0)=0,0,VLOOKUP(A2,'[6]6'!$A$5:$O$440,9,FALSE)), IF(IFERROR(VLOOKUP(A2,'[7]7'!$A$5:$O$440,9,FALSE),0)=0,0,VLOOKUP(A2,'[7]7'!$A$5:$O$440,9,FALSE)), IF(IFERROR(VLOOKUP(A2,'[8]8'!$A$5:$O$440,9,FALSE),0)=0,0,VLOOKUP(A2,'[8]8'!$A$5:$O$440,9,FALSE)), IF(IFERROR(VLOOKUP(A2,'[9]9'!$A$5:$O$440,9,FALSE),0)=0,0,VLOOKUP(A2,'[9]9'!$A$5:$O$440,9,FALSE)), IF(IFERROR(VLOOKUP(A2,'[10]10'!$A$5:$O$440,9,FALSE),0)=0,0,VLOOKUP(A2,'[10]10'!$A$5:$O$440,9,FALSE)), IF(IFERROR(VLOOKUP(A2,'[11]11'!$A$5:$O$440,9,FALSE),0)=0,0,VLOOKUP(A2,'[11]11'!$A$5:$O$440,9,FALSE)), IF(IFERROR(VLOOKUP(A2,'[12]12'!$A$5:$O$440,9,FALSE),0)=0,0,VLOOKUP(A2,'[12]12'!$A$5:$O$440,9,FALSE)), IF(IFERROR(VLOOKUP(A2,'[13]13'!$A$5:$O$440,9,FALSE),0)=0,0,VLOOKUP(A2,'[13]13'!$A$5:$O$440,9,FALSE)), IF(IFERROR(VLOOKUP(A2,'[14]14'!$A$5:$O$440,9,FALSE),0)=0,0,VLOOKUP(A2,'[14]14'!$A$5:$O$440,9,FALSE)), IF(IFERROR(VLOOKUP(A2,'[15]15'!$A$5:$O$440,9,FALSE),0)=0,0,VLOOKUP(A2,'[15]15'!$A$5:$O$440,9,FALSE)), IF(IFERROR(VLOOKUP(A2,'[16]16'!$A$5:$O$440,9,FALSE),0)=0,0,VLOOKUP(A2,'[16]16'!$A$5:$O$440,9,FALSE)), IF(IFERROR(VLOOKUP(A2,'[17]17'!$A$5:$O$440,9,FALSE),0)=0,0,VLOOKUP(A2,'[17]17'!$A$5:$O$440,9,FALSE)), IF(IFERROR(VLOOKUP(A2,'[18]18'!$A$5:$O$440,9,FALSE),0)=0,0,VLOOKUP(A2,'[18]18'!$A$5:$O$440,9,FALSE)), IF(IFERROR(VLOOKUP(A2,'[19]19'!$A$5:$O$440,9,FALSE),0)=0,0,VLOOKUP(A2,'[19]19'!$A$5:$O$440,9,FALSE)), IF(IFERROR(VLOOKUP(A2,'[20]20'!$A$5:$O$440,9,FALSE),0)=0,0,VLOOKUP(A2,'[20]20'!$A$5:$O$440,9,FALSE)), IF(IFERROR(VLOOKUP(A2,'[21]21'!$A$5:$O$440,9,FALSE),0)=0,0,VLOOKUP(A2,'[21]21'!$A$5:$O$440,9,FALSE)), IF(IFERROR(VLOOKUP(A2,'[22]22'!$A$5:$O$440,9,FALSE),0)=0,0,VLOOKUP(A2,'[22]22'!$A$5:$O$440,9,FALSE)), IF(IFERROR(VLOOKUP(A2,'[23]23'!$A$5:$O$440,9,FALSE),0)=0,0,VLOOKUP(A2,'[23]23'!$A$5:$O$440,9,FALSE)), IF(IFERROR(VLOOKUP(A2,'[24]24'!$A$5:$O$440,9,FALSE),0)=0,0,VLOOKUP(A2,'[24]24'!$A$5:$O$440,9,FALSE)), IF(IFERROR(VLOOKUP(A2,'[25]25'!$A$5:$O$440,9,FALSE),0)=0,0,VLOOKUP(A2,'[25]25'!$A$5:$O$440,9,FALSE)), IF(IFERROR(VLOOKUP(A2,'[26]26'!$A$5:$O$440,9,FALSE),0)=0,0,VLOOKUP(A2,'[26]26'!$A$5:$O$440,9,FALSE)), IF(IFERROR(VLOOKUP(A2,'[27]27'!$A$5:$O$440,9,FALSE),0)=0,0,VLOOKUP(A2,'[27]27'!$A$5:$O$440,9,FALSE)), IF(IFERROR(VLOOKUP(A2,'[28]28'!$A$5:$O$440,9,FALSE),0)=0,0,VLOOKUP(A2,'[28]28'!$A$5:$O$440,9,FALSE)), IF(IFERROR(VLOOKUP(A2,'[29]29'!$A$5:$O$440,9,FALSE),0)=0,0,VLOOKUP(A2,'[29]29'!$A$5:$O$440,9,FALSE)), IF(IFERROR(VLOOKUP(A2,'[30]30'!$A$5:$O$440,9,FALSE),0)=0,0,VLOOKUP(A2,'[30]30'!$A$5:$O$440,9,FALSE)), IF(IFERROR(VLOOKUP(A2,'[31]31'!$A$5:$O$440,9,FALSE),0)=0,0,VLOOKUP(A2,'[31]31'!$A$5:$O$440,9,FALSE)), IF(IFERROR(VLOOKUP(A2,'[32]32'!$A$5:$O$440,9,FALSE),0)=0,0,VLOOKUP(A2,'[32]32'!$A$5:$O$440,9,FALSE)), IF(IFERROR(VLOOKUP(A2,'[33]33'!$A$5:$O$440,9,FALSE),0)=0,0,VLOOKUP(A2,'[33]33'!$A$5:$O$440,9,FALSE)), IF(IFERROR(VLOOKUP(A2,'[34]34'!$A$5:$O$440,9,FALSE),0)=0,0,VLOOKUP(A2,'[34]34'!$A$5:$O$440,9,FALSE)), IF(IFERROR(VLOOKUP(A2,'[35]35'!$A$5:$O$440,9,FALSE),0)=0,0,VLOOKUP(A2,'[35]35'!$A$5:$O$440,9,FALSE)), IF(IFERROR(VLOOKUP(A2,'[36]36'!$A$5:$O$440,9,FALSE),0)=0,0,VLOOKUP(A2,'[36]36'!$A$5:$O$440,9,FALSE)), IF(IFERROR(VLOOKUP(A2,'[37]37'!$A$5:$O$440,9,FALSE),0)=0,0,VLOOKUP(A2,'[37]37'!$A$5:$O$440,9,FALSE)), IF(IFERROR(VLOOKUP(A2,'[38]38'!$A$5:$O$440,9,FALSE),0)=0,0,VLOOKUP(A2,'[38]38'!$A$5:$O$440,9,FALSE)) ) -> 1 | F2: =SUM(E2, IF(IFERROR(VLOOKUP(A2,'[1]1'!$A$5:$O$440,5,FALSE),0)=0,0,VLOOKUP(A2,'[1]1'!$A$5:$O$440,5,FALSE)), IF(IFERROR(VLOOKUP(A2,'[2]2'!$A$5:$O$440,5,FALSE),0)=0,0,VLOOKUP(A2,'[2]2'!$A$5:$O$440,5,FALSE)), IF(IFERROR(VLOOKUP(A2,'[3]3'!$A$5:$O$440,5,FALSE),0)=0,0,VLOOKUP(A2,'[3]3'!$A$5:$O$440,5,FALSE)), IF(IFERROR(VLOOKUP(A2,'[4]4'!$A$5:$O$440,5,FALSE),0)=0,0,VLOOKUP(A2,'[4]4'!$A$5:$O$440,5,FALSE)), IF(IFERROR(VLOOKUP(A2,'[5]5'!$A$5:$O$440,5,FALSE),0)=0,0,VLOOKUP(A2,'[5]5'!$A$5:$O$440,5,FALSE)), IF(IFERROR(VLOOKUP(A2,'[6]6'!$A$5:$O$440,5,FALSE),0)=0,0,VLOOKUP(A2,'[6]6'!$A$5:$O$440,5,FALSE)), IF(IFERROR(VLOOKUP(A2,'[7]7'!$A$5:$O$440,5,FALSE),0)=0,0,VLOOKUP(A2,'[7]7'!$A$5:$O$440,5,FALSE)), IF(IFERROR(VLOOKUP(A2,'[8]8'!$A$5:$O$440,5,FALSE),0)=0,0,VLOOKUP(A2,'[8]8'!$A$5:$O$440,5,FALSE)), IF(IFERROR(VLOOKUP(A2,'[9]9'!$A$5:$O$440,5,FALSE),0)=0,0,VLOOKUP(A2,'[9]9'!$A$5:$O$440,5,FALSE)), IF(IFERROR(VLOOKUP(A2,'[10]10'!$A$5:$O$440,5,FALSE),0)=0,0,VLOOKUP(A2,'[10]10'!$A$5:$O$440,5,FALSE)), IF(IFERROR(VLOOKUP(A2,'[11]11'!$A$5:$O$440,5,FALSE),0)=0,0,VLOOKUP(A2,'[11]11'!$A$5:$O$440,5,FALSE)), IF(IFERROR(VLOOKUP(A2,'[12]12'!$A$5:$O$440,5,FALSE),0)=0,0,VLOOKUP(A2,'[12]12'!$A$5:$O$440,5,FALSE)), IF(IFERROR(VLOOKUP(A2,'[13]13'!$A$5:$O$440,5,FALSE),0)=0,0,VLOOKUP(A2,'[13]13'!$A$5:$O$440,5,FALSE)), IF(IFERROR(VLOOKUP(A2,'[14]14'!$A$5:$O$440,5,FALSE),0)=0,0,VLOOKUP(A2,'[14]14'!$A$5:$O$440,5,FALSE)), IF(IFERROR(VLOOKUP(A2,'[15]15'!$A$5:$O$440,5,FALSE),0)=0,0,VLOOKUP(A2,'[15]15'!$A$5:$O$440,5,FALSE)), IF(IFERROR(VLOOKUP(A2,'[16]16'!$A$5:$O$440,5,FALSE),0)=0,0,VLOOKUP(A2,'[16]16'!$A$5:$O$440,5,FALSE)), IF(IFERROR(VLOOKUP(A2,'[17]17'!$A$5:$O$440,5,FALSE),0)=0,0,VLOOKUP(A2,'[17]17'!$A$5:$O$440,5,FALSE)), IF(IFERROR(VLOOKUP(A2,'[18]18'!$A$5:$O$440,5,FALSE),0)=0,0,VLOOKUP(A2,'[18]18'!$A$5:$O$440,5,FALSE)), IF(IFERROR(VLOOKUP(A2,'[19]19'!$A$5:$O$440,5,FALSE),0)=0,0,VLOOKUP(A2,'[19]19'!$A$5:$O$440,5,FALSE)), IF(IFERROR(VLOOKUP(A2,'[20]20'!$A$5:$O$440,5,FALSE),0)=0,0,VLOOKUP(A2,'[20]20'!$A$5:$O$440,5,FALSE)), IF(IFERROR(VLOOKUP(A2,'[21]21'!$A$5:$O$440,5,FALSE),0)=0,0,VLOOKUP(A2,'[21]21'!$A$5:$O$440,5,FALSE)), IF(IFERROR(VLOOKUP(A2,'[22]22'!$A$5:$O$440,5,FALSE),0)=0,0,VLOOKUP(A2,'[22]22'!$A$5:$O$440,5,FALSE)), IF(IFERROR(VLOOKUP(A2,'[23]23'!$A$5:$O$440,5,FALSE),0)=0,0,VLOOKUP(A2,'[23]23'!$A$5:$O$440,5,FALSE)), IF(IFERROR(VLOOKUP(A2,'[24]24'!$A$5:$O$440,5,FALSE),0)=0,0,VLOOKUP(A2,'[24]24'!$A$5:$O$440,5,FALSE)), IF(IFERROR(VLOOKUP(A2,'[25]25'!$A$5:$O$440,5,FALSE),0)=0,0,VLOOKUP(A2,'[25]25'!$A$5:$O$440,5,FALSE)), IF(IFERROR(VLOOKUP(A2,'[26]26'!$A$5:$O$440,5,FALSE),0)=0,0,VLOOKUP(A2,'[26]26'!$A$5:$O$440,5,FALSE)), IF(IFERROR(VLOOKUP(A2,'[27]27'!$A$5:$O$440,5,FALSE),0)=0,0,VLOOKUP(A2,'[27]27'!$A$5:$O$440,5,FALSE)), IF(IFERROR(VLOOKUP(A2,'[28]28'!$A$5:$O$440,5,FALSE),0)=0,0,VLOOKUP(A2,'[28]28'!$A$5:$O$440,5,FALSE)), IF(IFERROR(VLOOKUP(A2,'[29]29'!$A$5:$O$440,5,FALSE),0)=0,0,VLOOKUP(A2,'[29]29'!$A$5:$O$440,5,FALSE)), IF(IFERROR(VLOOKUP(A2,'[30]30'!$A$5:$O$440,5,FALSE),0)=0,0,VLOOKUP(A2,'[30]30'!$A$5:$O$440,5,FALSE)), IF(IFERROR(VLOOKUP(A2,'[31]31'!$A$5:$O$440,5,FALSE),0)=0,0,VLOOKUP(A2,'[31]31'!$A$5:$O$440,5,FALSE)), IF(IFERROR(VLOOKUP(A2,'[32]32'!$A$5:$O$440,5,FALSE),0)=0,0,VLOOKUP(A2,'[32]32'!$A$5:$O$440,5,FALSE)), IF(IFERROR(VLOOKUP(A2,'[33]33'!$A$5:$O$440,5,FALSE),0)=0,0,VLOOKUP(A2,'[33]33'!$A$5:$O$440,5,FALSE)), IF(IFERROR(VLOOKUP(A2,'[34]34'!$A$5:$O$440,5,FALSE),0)=0,0,VLOOKUP(A2,'[34]34'!$A$5:$O$440,5,FALSE)), IF(IFERROR(VLOOKUP(A2,'[35]35'!$A$5:$O$440,5,FALSE),0)=0,0,VLOOKUP(A2,'[35]35'!$A$5:$O$440,5,FALSE)), IF(IFERROR(VLOOKUP(A2,'[36]36'!$A$5:$O$440,5,FALSE),0)=0,0,VLOOKUP(A2,'[36]36'!$A$5:$O$440,5,FALSE)), IF(IFERROR(VLOOKUP(A2,'[37]37'!$A$5:$O$440,5,FALSE),0)=0,0,VLOOKUP(A2,'[37]37'!$A$5:$O$440,5,FALSE)), IF(IFERROR(VLOOKUP(A2,'[38]38'!$A$5:$O$440,5,FALSE),0)=0,0,VLOOKUP(A2,'[38]38'!$A$5:$O$440,5,FALSE)) ) -> 20 | G2: =COUNTIF(Foglio2!C3:AN3,"GOL") -> 14 | H2: =I2-G2 -> 24 | I2: =38-COUNTIF(Foglio2!C3:AN3,"ASSENTE") -> 38 | J2: =G2/I2 -> 0.36842105 | K2: =IF(D2<5,"PESSIMA",IF(D2<5.25,"CATTIVA",IF(D2<5.5,"MEDIOCRE",IF(D2<5.75,"ACCETTABILE",IF(D2<6,"BUONA","ECCELLENTE"))))) -> MEDIOCRE
A4: =Foglio2!A4 -> 3358 | B4: =Foglio2!B4 -> DI NATALE | C4: =AVERAGEIF(Foglio2!C4:AN4,">0") -> 6.435 | D4: =SUM(IF(Foglio2!C5="NO",Foglio2!C4,0),IF(Foglio2!D5="NO",Foglio2!D4,0),IF(Foglio2!E5="NO",Foglio2!E4,0),IF(Foglio2!F5="NO",Foglio2!F4,0),IF(Foglio2!G5="NO",Foglio2!G4,0),IF(Foglio2!H5="NO",Foglio2!H4,0),IF(Foglio2!I5="NO",Foglio2!I4,0),IF(Foglio2!J5="NO",Foglio2!J4,0),IF(Foglio2!K5="NO",Foglio2!K4,0),IF(Foglio2!L5="NO",Foglio2!L4,0),IF(Foglio2!M5="NO",Foglio2!M4,0),IF(Foglio2!N5="NO",Foglio2!N4,0),IF(Foglio2!O5="NO",Foglio2!O4,0),IF(Foglio2!P5="NO",Foglio2!P4,0),IF(Foglio2!Q5="NO",Foglio2!Q4,0),IF(Foglio2!R5="NO",Foglio2!R4,0),IF(Foglio2!S5="NO",Foglio2!S4,0),IF(Foglio2!T5="NO",Foglio2!T4,0),IF(Foglio2!U5="NO",Foglio2!U4,0),IF(Foglio2!V5="NO",Foglio2!V4,0),IF(Foglio2!W5="NO",Foglio2!W4,0),IF(Foglio2!X5="NO",Foglio2!X4,0),IF(Foglio2!Y5="NO",Foglio2!Y4,0),IF(Foglio2!Z5="NO",Foglio2!Z4,0),IF(Foglio2!AA5="NO",Foglio2!AA4,0),IF(Foglio2!AB5="NO",Foglio2!AB4,0),IF(Foglio2!AC5="NO",Foglio2!AC4,0),IF(Foglio2!AD5="NO",Foglio2!AD4,0),IF(Foglio2!AE5="NO",Foglio2!AE4,0),IF(Foglio2!AF5="NO",Foglio2!AF4,0),IF(Foglio2!AG5="NO",Foglio2!AG4,0),IF(Foglio2!AH5="NO",Foglio2!AH4,0),IF(Foglio2!AI5="NO",Foglio2!AI4,0),IF(Foglio2!AJ5="NO",Foglio2!AJ4,0),IF(Foglio2!AK5="NO",Foglio2!AK4,0),IF(Foglio2!AL5="NO",Foglio2!AL4,0),IF(Foglio2!AM5="NO",Foglio2!AM4,0),IF(Foglio2!AN5="NO",Foglio2!AN4,0))/COUNTIF(Foglio2!C5:AN5,"NO") -> 5.7416667 | E4: =SUM( IF(IFERROR(VLOOKUP(A4,'[1]1'!$A$5:$O$440,9,FALSE),0)=0,0,VLOOKUP(A4,'[1]1'!$A$5:$O$440,9,FALSE)), IF(IFERROR(VLOOKUP(A4,'[2]2'!$A$5:$O$440,9,FALSE),0)=0,0,VLOOKUP(A4,'[2]2'!$A$5:$O$440,9,FALSE)), IF(IFERROR(VLOOKUP(A4:'[3]3'!$A$5:$O$440,9,FALSE),0)=0,0,VLOOKUP(A4,'[3]3'!$A$5:$O$440,9,FALSE)), IF(IFERROR(VLOOKUP(A4,'[4]4'!$A$5:$O$440,9,FALSE),0)=0,0,VLOOKUP(A4,'[4]4'!$A$5:$O$440,9,FALSE)), IF(IFERROR(VLOOKUP(A4,'[5]5'!$A$5:$O$440,9,FALSE),0)=0,0,VLOOKUP(A4,'[5]5'!$A$5:$O$440,9,FALSE)), IF(IFERROR(VLOOKUP(A4,'[6]6'!$A$5:$O$440,9,FALSE),0)=0,0,VLOOKUP(A4,'[6]6'!$A$5:$O$440,9,FALSE)), IF(IFERROR(VLOOKUP(A4,'[7]7'!$A$5:$O$440,9,FALSE),0)=0,0,VLOOKUP(A4,'[7]7'!$A$5:$O$440,9,FALSE)), IF(IFERROR(VLOOKUP(A4,'[8]8'!$A$5:$O$440,9,FALSE),0)=0,0,VLOOKUP(A4,'[8]8'!$A$5:$O$440,9,FALSE)), IF(IFERROR(VLOOKUP(A4,'[9]9'!$A$5:$O$440,9,FALSE),0)=0,0,VLOOKUP(A4,'[9]9'!$A$5:$O$440,9,FALSE)), IF(IFERROR(VLOOKUP(A4,'[10]10'!$A$5:$O$440,9,FALSE),0)=0,0,VLOOKUP(A4,'[10]10'!$A$5:$O$440,9,FALSE)), IF(IFERROR(VLOOKUP(A4,'[11]11'!$A$5:$O$440,9,FALSE),0)=0,0,VLOOKUP(A4,'[11]11'!$A$5:$O$440,9,FALSE)), IF(IFERROR(VLOOKUP(A4,'[12]12'!$A$5:$O$440,9,FALSE),0)=0,0,VLOOKUP(A4,'[12]12'!$A$5:$O$440,9,FALSE)), IF(IFERROR(VLOOKUP(A4,'[13]13'!$A$5:$O$440,9,FALSE),0)=0,0,VLOOKUP(A4,'[13]13'!$A$5:$O$440,9,FALSE)), IF(IFERROR(VLOOKUP(A4,'[14]14'!$A$5:$O$440,9,FALSE),0)=0,0,VLOOKUP(A4,'[14]14'!$A$5:$O$440,9,FALSE)), IF(IFERROR(VLOOKUP(A4,'[15]15'!$A$5:$O$440,9,FALSE),0)=0,0,VLOOKUP(A4,'[15]15'!$A$5:$O$440,9,FALSE)), IF(IFERROR(VLOOKUP(A4,'[16]16'!$A$5:$O$440,9,FALSE),0)=0,0,VLOOKUP(A4,'[16]16'!$A$5:$O$440,9,FALSE)), IF(IFERROR(VLOOKUP(A4,'[17]17'!$A$5:$O$440,9,FALSE),0)=0,0,VLOOKUP(A4,'[17]17'!$A$5:$O$440,9,FALSE)), IF(IFERROR(VLOOKUP(A4,'[18]18'!$A$5:$O$440,9,FALSE),0)=0,0,VLOOKUP(A4,'[18]18'!$A$5:$O$440,9,FALSE)), IF(IFERROR(VLOOKUP(A4,'[19]19'!$A$5:$O$440,9,FALSE),0)=0,0,VLOOKUP(A4,'[19]19'!$A$5:$O$440,9,FALSE)), IF(IFERROR(VLOOKUP(A4,'[20]20'!$A$5:$O$440,9,FALSE),0)=0,0,VLOOKUP(A4,'[20]20'!$A$5:$O$440,9,FALSE)), IF(IFERROR(VLOOKUP(A4,'[21]21'!$A$5:$O$440,9,FALSE),0)=0,0,VLOOKUP(A4,'[21]21'!$A$5:$O$440,9,FALSE)), IF(IFERROR(VLOOKUP(A4,'[22]22'!$A$5:$O$440,9,FALSE),0)=0,0,VLOOKUP(A4,'[22]22'!$A$5:$O$440,9,FALSE)), IF(IFERROR(VLOOKUP(A4,'[23]23'!$A$5:$O$440,9,FALSE),0)=0,0,VLOOKUP(A4,'[23]23'!$A$5:$O$440,9,FALSE)), IF(IFERROR(VLOOKUP(A4,'[24]24'!$A$5:$O$440,9,FALSE),0)=0,0,VLOOKUP(A4,'[24]24'!$A$5:$O$440,9,FALSE)), IF(IFERROR(VLOOKUP(A4,'[25]25'!$A$5:$O$440,9,FALSE),0)=0,0,VLOOKUP(A4,'[25]25'!$A$5:$O$440,9,FALSE)), IF(IFERROR(VLOOKUP(A4,'[26]26'!$A$5:$O$440,9,FALSE),0)=0,0,VLOOKUP(A4,'[26]26'!$A$5:$O$440,9,FALSE)), IF(IFERROR(VLOOKUP(A4,'[27]27'!$A$5:$O$440,9,FALSE),0)=0,0,VLOOKUP(A4,'[27]27'!$A$5:$O$440,9,FALSE)), IF(IFERROR(VLOOKUP(A4,'[28]28'!$A$5:$O$440,9,FALSE),0)=0,0,VLOOKUP(A4,'[28]28'!$A$5:$O$440,9,FALSE)), IF(IFERROR(VLOOKUP(A4,'[29]29'!$A$5:$O$440,9,FALSE),0)=0,0,VLOOKUP(A4,'[29]29'!$A$5:$O$440,9,FALSE)), IF(IFERROR(VLOOKUP(A4,'[30]30'!$A$5:$O$440,9,FALSE),0)=0,0,VLOOKUP(A4,'[30]30'!$A$5:$O$440,9,FALSE)), IF(IFERROR(VLOOKUP(A4,'[31]31'!$A$5:$O$440,9,FALSE),0)=0,0,VLOOKUP(A4,'[31]31'!$A$5:$O$440,9,FALSE)), IF(IFERROR(VLOOKUP(A4,'[32]32'!$A$5:$O$440,9,FALSE),0)=0,0,VLOOKUP(A4,'[32]32'!$A$5:$O$440,9,FALSE)), IF(IFERROR(VLOOKUP(A4,'[33]33'!$A$5:$O$440,9,FALSE),0)=0,0,VLOOKUP(A4,'[33]33'!$A$5:$O$440,9,FALSE)), IF(IFERROR(VLOOKUP(A4,'[34]34'!$A$5:$O$440,9,FALSE),0)=0,0,VLOOKUP(A4,'[34]34'!$A$5:$O$440,9,FALSE)), IF(IFERROR(VLOOKUP(A4,'[35]35'!$A$5:$O$440,9,FALSE),0)=0,0,VLOOKUP(A4,'[35]35'!$A$5:$O$440,9,FALSE)), IF(IFERROR(VLOOKUP(A4,'[36]36'!$A$5:$O$440,9,FALSE),0)=0,0,VLOOKUP(A4,'[36]36'!$A$5:$O$440,9,FALSE)), IF(IFERROR(VLOOKUP(A4,'[37]37'!$A$5:$O$440,9,FALSE),0)=0,0,VLOOKUP(A4,'[37]37'!$A$5:$O$440,9,FALSE)), IF(IFERROR(VLOOKUP(A4,'[38]38'!$A$5:$O$440,9,FALSE),0)=0,0,VLOOKUP(A4,'[38]38'!$A$5:$O$440,9,FALSE)) ) -> 5 | F4: =SUM(E4, IF(IFERROR(VLOOKUP(A4,'[1]1'!$A$5:$O$440,5,FALSE),0)=0,0,VLOOKUP(A4,'[1]1'!$A$5:$O$440,5,FALSE)), IF(IFERROR(VLOOKUP(A4,'[2]2'!$A$5:$O$440,5,FALSE),0)=0,0,VLOOKUP(A4,'[2]2'!$A$5:$O$440,5,FALSE)), IF(IFERROR(VLOOKUP(A4,'[3]3'!$A$5:$O$440,5,FALSE),0)=0,0,VLOOKUP(A4,'[3]3'!$A$5:$O$440,5,FALSE)), IF(IFERROR(VLOOKUP(A4,'[4]4'!$A$5:$O$440,5,FALSE),0)=0,0,VLOOKUP(A4,'[4]4'!$A$5:$O$440,5,FALSE)), IF(IFERROR(VLOOKUP(A4,'[5]5'!$A$5:$O$440,5,FALSE),0)=0,0,VLOOKUP(A4,'[5]5'!$A$5:$O$440,5,FALSE)), IF(IFERROR(VLOOKUP(A4,'[6]6'!$A$5:$O$440,5,FALSE),0)=0,0,VLOOKUP(A4,'[6]6'!$A$5:$O$440,5,FALSE)), IF(IFERROR(VLOOKUP(A4,'[7]7'!$A$5:$O$440,5,FALSE),0)=0,0,VLOOKUP(A4,'[7]7'!$A$5:$O$440,5,FALSE)), IF(IFERROR(VLOOKUP(A4,'[8]8'!$A$5:$O$440,5,FALSE),0)=0,0,VLOOKUP(A4,'[8]8'!$A$5:$O$440,5,FALSE)), IF(IFERROR(VLOOKUP(A4,'[9]9'!$A$5:$O$440,5,FALSE),0)=0,0,VLOOKUP(A4,'[9]9'!$A$5:$O$440,5,FALSE)), IF(IFERROR(VLOOKUP(A4,'[10]10'!$A$5:$O$440,5,FALSE),0)=0,0,VLOOKUP(A4,'[10]10'!$A$5:$O$440,5,FALSE)), IF(IFERROR(VLOOKUP(A4,'[11]11'!$A$5:$O$440,5,FALSE),0)=0,0,VLOOKUP(A4,'[11]11'!$A$5:$O$440,5,FALSE)), IF(IFERROR(VLOOKUP(A4,'[12]12'!$A$5:$O$440,5,FALSE),0)=0,0,VLOOKUP(A4,'[12]12'!$A$5:$O$440,5,FALSE)), IF(IFERROR(VLOOKUP(A4,'[13]13'!$A$5:$O$440,5,FALSE),0)=0,0,VLOOKUP(A4,'[13]13'!$A$5:$O$440,5,FALSE)), IF(IFERROR(VLOOKUP(A4,'[14]14'!$A$5:$O$440,5,FALSE),0)=0,0,VLOOKUP(A4,'[14]14'!$A$5:$O$440,5,FALSE)), IF(IFERROR(VLOOKUP(A4,'[15]15'!$A$5:$O$440,5,FALSE),0)=0,0,VLOOKUP(A4,'[15]15'!$A$5:$O$440,5,FALSE)), IF(IFERROR(VLOOKUP(A4,'[16]16'!$A$5:$O$440,5,FALSE),0)=0,0,VLOOKUP(A4,'[16]16'!$A$5:$O$440,5,FALSE)), IF(IFERROR(VLOOKUP(A4,'[17]17'!$A$5:$O$440,5,FALSE),0)=0,0,VLOOKUP(A4,'[17]17'!$A$5:$O$440,5,FALSE)), IF(IFERROR(VLOOKUP(A4,'[18]18'!$A$5:$O$440,5,FALSE),0)=0,0,VLOOKUP(A4,'[18]18'!$A$5:$O$440,5,FALSE)), IF(IFERROR(VLOOKUP(A4,'[19]19'!$A$5:$O$440,5,FALSE),0)=0,0,VLOOKUP(A4,'[19]19'!$A$5:$O$440,5,FALSE)), IF(IFERROR(VLOOKUP(A4,'[20]20'!$A$5:$O$440,5,FALSE),0)=0,0,VLOOKUP(A4,'[20]20'!$A$5:$O$440,5,FALSE)), IF(IFERROR(VLOOKUP(A4,'[21]21'!$A$5:$O$440,5,FALSE),0)=0,0,VLOOKUP(A4,'[21]21'!$A$5:$O$440,5,FALSE)), IF(IFERROR(VLOOKUP(A4,'[22]22'!$A$5:$O$440,5,FALSE),0)=0,0,VLOOKUP(A4,'[22]22'!$A$5:$O$440,5,FALSE)), IF(IFERROR(VLOOKUP(A4,'[23]23'!$A$5:$O$440,5,FALSE),0)=0,0,VLOOKUP(A4,'[23]23'!$A$5:$O$440,5,FALSE)), IF(IFERROR(VLOOKUP(A4,'[24]24'!$A$5:$O$440,5,FALSE),0)=0,0,VLOOKUP(A4,'[24]24'!$A$5:$O$440,5,FALSE)), IF(IFERROR(VLOOKUP(A4,'[25]25'!$A$5:$O$440,5,FALSE),0)=0,0,VLOOKUP(A4,'[25]25'!$A$5:$O$440,5,FALSE)), IF(IFERROR(VLOOKUP(A4,'[26]26'!$A$5:$O$440,5,FALSE),0)=0,0,VLOOKUP(A4,'[26]26'!$A$5:$O$440,5,FALSE)), IF(IFERROR(VLOOKUP(A4,'[27]27'!$A$5:$O$440,5,FALSE),0)=0,0,VLOOKUP(A4,'[27]27'!$A$5:$O$440,5,FALSE)), IF(IFERROR(VLOOKUP(A4,'[28]28'!$A$5:$O$440,5,FALSE),0)=0,0,VLOOKUP(A4,'[28]28'!$A$5:$O$440,5,FALSE)), IF(IFERROR(VLOOKUP(A4,'[29]29'!$A$5:$O$440,5,FALSE),0)=0,0,VLOOKUP(A4,'[29]29'!$A$5:$O$440,5,FALSE)), IF(IFERROR(VLOOKUP(A4,'[30]30'!$A$5:$O$440,5,FALSE),0)=0,0,VLOOKUP(A4,'[30]30'!$A$5:$O$440,5,FALSE)), IF(IFERROR(VLOOKUP(A4,'[31]31'!$A$5:$O$440,5,FALSE),0)=0,0,VLOOKUP(A4,'[31]31'!$A$5:$O$440,5,FALSE)), IF(IFERROR(VLOOKUP(A4,'[32]32'!$A$5:$O$440,5,FALSE),0)=0,0,VLOOKUP(A4,'[32]32'!$A$5:$O$440,5,FALSE)), IF(IFERROR(VLOOKUP(A4,'[33]33'!$A$5:$O$440,5,FALSE),0)=0,0,VLOOKUP(A4,'[33]33'!$A$5:$O$440,5,FALSE)), IF(IFERROR(VLOOKUP(A4,'[34]34'!$A$5:$O$440,5,FALSE),0)=0,0,VLOOKUP(A4,'[34]34'!$A$5:$O$440,5,FALSE)), IF(IFERROR(VLOOKUP(A4,'[35]35'!$A$5:$O$440,5,FALSE),0)=0,0,VLOOKUP(A4,'[35]35'!$A$5:$O$440,5,FALSE)), IF(IFERROR(VLOOKUP(A4,'[36]36'!$A$5:$O$440,5,FALSE),0)=0,0,VLOOKUP(A4,'[36]36'!$A$5:$O$440,5,FALSE)), IF(IFERROR(VLOOKUP(A4,'[37]37'!$A$5:$O$440,5,FALSE),0)=0,0,VLOOKUP(A4,'[37]37'!$A$5:$O$440,5,FALSE)), IF(IFERROR(VLOOKUP(A4,'[38]38'!$A$5:$O$440,5,FALSE),0)=0,0,VLOOKUP(A4,'[38]38'!$A$5:$O$440,5,FALSE)) ) -> 28 | G4: =COUNTIF(Foglio2!C5:AN5,"GOL") -> 18 | H4: =I4-G4 -> 18 | I4: =38-COUNTIF(Foglio2!C5:AN5,"ASSENTE") -> 36 | J4: =G4/I4 -> 0.5 | K4: =IF(D4<5,"PESSIMA",IF(D4<5.25,"CATTIVA",IF(D4<5.5,"MEDIOCRE",IF(D4<5.75,"ACCETTABILE",IF(D4<6,"BUONA","ECCELLENTE"))))) -> ACCETTABILE
A6: =Foglio2!A6 -> 3361 | B6: =Foglio2!B6 -> ETO'O | C6: =AVERAGEIF(Foglio2!C6:AN6,">0") -> 6.5068571 | D6: =SUM(IF(Foglio2!C7="NO",Foglio2!C6,0),IF(Foglio2!D7="NO",Foglio2!D6,0),IF(Foglio2!E7="NO",Foglio2!E6,0),IF(Foglio2!F7="NO",Foglio2!F6,0),IF(Foglio2!G7="NO",Foglio2!G6,0),IF(Foglio2!H7="NO",Foglio2!H6,0),IF(Foglio2!I7="NO",Foglio2!I6,0),IF(Foglio2!J7="NO",Foglio2!J6,0),IF(Foglio2!K7="NO",Foglio2!K6,0),IF(Foglio2!L7="NO",Foglio2!L6,0),IF(Foglio2!M7="NO",Foglio2!M6,0),IF(Foglio2!N7="NO",Foglio2!N6,0),IF(Foglio2!O7="NO",Foglio2!O6,0),IF(Foglio2!P7="NO",Foglio2!P6,0),IF(Foglio2!Q7="NO",Foglio2!Q6,0),IF(Foglio2!R7="NO",Foglio2!R6,0),IF(Foglio2!S7="NO",Foglio2!S6,0),IF(Foglio2!T7="NO",Foglio2!T6,0),IF(Foglio2!U7="NO",Foglio2!U6,0),IF(Foglio2!V7="NO",Foglio2!V6,0),IF(Foglio2!W7="NO",Foglio2!W6,0),IF(Foglio2!X7="NO",Foglio2!X6,0),IF(Foglio2!Y7="NO",Foglio2!Y6,0),IF(Foglio2!Z7="NO",Foglio2!Z6,0),IF(Foglio2!AA7="NO",Foglio2!AA6,0),IF(Foglio2!AB7="NO",Foglio2!AB6,0),IF(Foglio2!AC7="NO",Foglio2!AC6,0),IF(Foglio2!AD7="NO",Foglio2!AD6,0),IF(Foglio2!AE7="NO",Foglio2!AE6,0),IF(Foglio2!AF7="NO",Foglio2!AF6,0),IF(Foglio2!AG7="NO",Foglio2!AG6,0),IF(Foglio2!AH7="NO",Foglio2!AH6,0),IF(Foglio2!AI7="NO",Foglio2!AI6,0),IF(Foglio2!AJ7="NO",Foglio2!AJ6,0),IF(Foglio2!AK7="NO",Foglio2!AK6,0),IF(Foglio2!AL7="NO",Foglio2!AL6,0),IF(Foglio2!AM7="NO",Foglio2!AM6,0),IF(Foglio2!AN7="NO",Foglio2!AN6,0))/COUNTIF(Foglio2!C7:AN7,"NO") -> 5.9652632 | E6: =SUM( IF(IFERROR(VLOOKUP(A6,'[1]1'!$A$5:$O$440,9,FALSE),0)=0,0,VLOOKUP(A6,'[1]1'!$A$5:$O$440,9,FALSE)), IF(IFERROR(VLOOKUP(A6,'[2]2'!$A$5:$O$440,9,FALSE),0)=0,0,VLOOKUP(A6,'[2]2'!$A$5:$O$440,9,FALSE)), IF(IFERROR(VLOOKUP(A6:'[3]3'!$A$5:$O$440,9,FALSE),0)=0,0,VLOOKUP(A6,'[3]3'!$A$5:$O$440,9,FALSE)), IF(IFERROR(VLOOKUP(A6,'[4]4'!$A$5:$O$440,9,FALSE),0)=0,0,VLOOKUP(A6,'[4]4'!$A$5:$O$440,9,FALSE)), IF(IFERROR(VLOOKUP(A6,'[5]5'!$A$5:$O$440,9,FALSE),0)=0,0,VLOOKUP(A6,'[5]5'!$A$5:$O$440,9,FALSE)), IF(IFERROR(VLOOKUP(A6,'[6]6'!$A$5:$O$440,9,FALSE),0)=0,0,VLOOKUP(A6,'[6]6'!$A$5:$O$440,9,FALSE)), IF(IFERROR(VLOOKUP(A6,'[7]7'!$A$5:$O$440,9,FALSE),0)=0,0,VLOOKUP(A6,'[7]7'!$A$5:$O$440,9,FALSE)), IF(IFERROR(VLOOKUP(A6,'[8]8'!$A$5:$O$440,9,FALSE),0)=0,0,VLOOKUP(A6,'[8]8'!$A$5:$O$440,9,FALSE)), IF(IFERROR(VLOOKUP(A6,'[9]9'!$A$5:$O$440,9,FALSE),0)=0,0,VLOOKUP(A6,'[9]9'!$A$5:$O$440,9,FALSE)), IF(IFERROR(VLOOKUP(A6,'[10]10'!$A$5:$O$440,9,FALSE),0)=0,0,VLOOKUP(A6,'[10]10'!$A$5:$O$440,9,FALSE)), IF(IFERROR(VLOOKUP(A6,'[11]11'!$A$5:$O$440,9,FALSE),0)=0,0,VLOOKUP(A6,'[11]11'!$A$5:$O$440,9,FALSE)), IF(IFERROR(VLOOKUP(A6,'[12]12'!$A$5:$O$440,9,FALSE),0)=0,0,VLOOKUP(A6,'[12]12'!$A$5:$O$440,9,FALSE)), IF(IFERROR(VLOOKUP(A6,'[13]13'!$A$5:$O$440,9,FALSE),0)=0,0,VLOOKUP(A6,'[13]13'!$A$5:$O$440,9,FALSE)), IF(IFERROR(VLOOKUP(A6,'[14]14'!$A$5:$O$440,9,FALSE),0)=0,0,VLOOKUP(A6,'[14]14'!$A$5:$O$440,9,FALSE)), IF(IFERROR(VLOOKUP(A6,'[15]15'!$A$5:$O$440,9,FALSE),0)=0,0,VLOOKUP(A6,'[15]15'!$A$5:$O$440,9,FALSE)), IF(IFERROR(VLOOKUP(A6,'[16]16'!$A$5:$O$440,9,FALSE),0)=0,0,VLOOKUP(A6,'[16]16'!$A$5:$O$440,9,FALSE)), IF(IFERROR(VLOOKUP(A6,'[17]17'!$A$5:$O$440,9,FALSE),0)=0,0,VLOOKUP(A6,'[17]17'!$A$5:$O$440,9,FALSE)), IF(IFERROR(VLOOKUP(A6,'[18]18'!$A$5:$O$440,9,FALSE),0)=0,0,VLOOKUP(A6,'[18]18'!$A$5:$O$440,9,FALSE)), IF(IFERROR(VLOOKUP(A6,'[19]19'!$A$5:$O$440,9,FALSE),0)=0,0,VLOOKUP(A6,'[19]19'!$A$5:$O$440,9,FALSE)), IF(IFERROR(VLOOKUP(A6,'[20]20'!$A$5:$O$440,9,FALSE),0)=0,0,VLOOKUP(A6,'[20]20'!$A$5:$O$440,9,FALSE)), IF(IFERROR(VLOOKUP(A6,'[21]21'!$A$5:$O$440,9,FALSE),0)=0,0,VLOOKUP(A6,'[21]21'!$A$5:$O$440,9,FALSE)), IF(IFERROR(VLOOKUP(A6,'[22]22'!$A$5:$O$440,9,FALSE),0)=0,0,VLOOKUP(A6,'[22]22'!$A$5:$O$440,9,FALSE)), IF(IFERROR(VLOOKUP(A6,'[23]23'!$A$5:$O$440,9,FALSE),0)=0,0,VLOOKUP(A6,'[23]23'!$A$5:$O$440,9,FALSE)), IF(IFERROR(VLOOKUP(A6,'[24]24'!$A$5:$O$440,9,FALSE),0)=0,0,VLOOKUP(A6,'[24]24'!$A$5:$O$440,9,FALSE)), IF(IFERROR(VLOOKUP(A6,'[25]25'!$A$5:$O$440,9,FALSE),0)=0,0,VLOOKUP(A6,'[25]25'!$A$5:$O$440,9,FALSE)), IF(IFERROR(VLOOKUP(A6,'[26]26'!$A$5:$O$440,9,FALSE),0)=0,0,VLOOKUP(A6,'[26]26'!$A$5:$O$440,9,FALSE)), IF(IFERROR(VLOOKUP(A6,'[27]27'!$A$5:$O$440,9,FALSE),0)=0,0,VLOOKUP(A6,'[27]27'!$A$5:$O$440,9,FALSE)), IF(IFERROR(VLOOKUP(A6,'[28]28'!$A$5:$O$440,9,FALSE),0)=0,0,VLOOKUP(A6,'[28]28'!$A$5:$O$440,9,FALSE)), IF(IFERROR(VLOOKUP(A6,'[29]29'!$A$5:$O$440,9,FALSE),0)=0,0,VLOOKUP(A6,'[29]29'!$A$5:$O$440,9,FALSE)), IF(IFERROR(VLOOKUP(A6,'[30]30'!$A$5:$O$440,9,FALSE),0)=0,0,VLOOKUP(A6,'[30]30'!$A$5:$O$440,9,FALSE)), IF(IFERROR(VLOOKUP(A6,'[31]31'!$A$5:$O$440,9,FALSE),0)=0,0,VLOOKUP(A6,'[31]31'!$A$5:$O$440,9,FALSE)), IF(IFERROR(VLOOKUP(A6,'[32]32'!$A$5:$O$440,9,FALSE),0)=0,0,VLOOKUP(A6,'[32]32'!$A$5:$O$440,9,FALSE)), IF(IFERROR(VLOOKUP(A6,'[33]33'!$A$5:$O$440,9,FALSE),0)=0,0,VLOOKUP(A6,'[33]33'!$A$5:$O$440,9,FALSE)), IF(IFERROR(VLOOKUP(A6,'[34]34'!$A$5:$O$440,9,FALSE),0)=0,0,VLOOKUP(A6,'[34]34'!$A$5:$O$440,9,FALSE)), IF(IFERROR(VLOOKUP(A6,'[35]35'!$A$5:$O$440,9,FALSE),0)=0,0,VLOOKUP(A6,'[35]35'!$A$5:$O$440,9,FALSE)), IF(IFERROR(VLOOKUP(A6,'[36]36'!$A$5:$O$440,9,FALSE),0)=0,0,VLOOKUP(A6,'[36]36'!$A$5:$O$440,9,FALSE)), IF(IFERROR(VLOOKUP(A6,'[37]37'!$A$5:$O$440,9,FALSE),0)=0,0,VLOOKUP(A6,'[37]37'!$A$5:$O$440,9,FALSE)), IF(IFERROR(VLOOKUP(A6,'[38]38'!$A$5:$O$440,9,FALSE),0)=0,0,VLOOKUP(A6,'[38]38'!$A$5:$O$440,9,FALSE)) ) -> 5 | F6: =SUM(E6, IF(IFERROR(VLOOKUP(A6,'[1]1'!$A$5:$O$440,5,FALSE),0)=0,0,VLOOKUP(A6,'[1]1'!$A$5:$O$440,5,FALSE)), IF(IFERROR(VLOOKUP(A6,'[2]2'!$A$5:$O$440,5,FALSE),0)=0,0,VLOOKUP(A6,'[2]2'!$A$5:$O$440,5,FALSE)), IF(IFERROR(VLOOKUP(A6,'[3]3'!$A$5:$O$440,5,FALSE),0)=0,0,VLOOKUP(A6,'[3]3'!$A$5:$O$440,5,FALSE)), IF(IFERROR(VLOOKUP(A6,'[4]4'!$A$5:$O$440,5,FALSE),0)=0,0,VLOOKUP(A6,'[4]4'!$A$5:$O$440,5,FALSE)), IF(IFERROR(VLOOKUP(A6,'[5]5'!$A$5:$O$440,5,FALSE),0)=0,0,VLOOKUP(A6,'[5]5'!$A$5:$O$440,5,FALSE)), IF(IFERROR(VLOOKUP(A6,'[6]6'!$A$5:$O$440,5,FALSE),0)=0,0,VLOOKUP(A6,'[6]6'!$A$5:$O$440,5,FALSE)), IF(IFERROR(VLOOKUP(A6,'[7]7'!$A$5:$O$440,5,FALSE),0)=0,0,VLOOKUP(A6,'[7]7'!$A$5:$O$440,5,FALSE)), IF(IFERROR(VLOOKUP(A6,'[8]8'!$A$5:$O$440,5,FALSE),0)=0,0,VLOOKUP(A6,'[8]8'!$A$5:$O$440,5,FALSE)), IF(IFERROR(VLOOKUP(A6,'[9]9'!$A$5:$O$440,5,FALSE),0)=0,0,VLOOKUP(A6,'[9]9'!$A$5:$O$440,5,FALSE)), IF(IFERROR(VLOOKUP(A6,'[10]10'!$A$5:$O$440,5,FALSE),0)=0,0,VLOOKUP(A6,'[10]10'!$A$5:$O$440,5,FALSE)), IF(IFERROR(VLOOKUP(A6,'[11]11'!$A$5:$O$440,5,FALSE),0)=0,0,VLOOKUP(A6,'[11]11'!$A$5:$O$440,5,FALSE)), IF(IFERROR(VLOOKUP(A6,'[12]12'!$A$5:$O$440,5,FALSE),0)=0,0,VLOOKUP(A6,'[12]12'!$A$5:$O$440,5,FALSE)), IF(IFERROR(VLOOKUP(A6,'[13]13'!$A$5:$O$440,5,FALSE),0)=0,0,VLOOKUP(A6,'[13]13'!$A$5:$O$440,5,FALSE)), IF(IFERROR(VLOOKUP(A6,'[14]14'!$A$5:$O$440,5,FALSE),0)=0,0,VLOOKUP(A6,'[14]14'!$A$5:$O$440,5,FALSE)), IF(IFERROR(VLOOKUP(A6,'[15]15'!$A$5:$O$440,5,FALSE),0)=0,0,VLOOKUP(A6,'[15]15'!$A$5:$O$440,5,FALSE)), IF(IFERROR(VLOOKUP(A6,'[16]16'!$A$5:$O$440,5,FALSE),0)=0,0,VLOOKUP(A6,'[16]16'!$A$5:$O$440,5,FALSE)), IF(IFERROR(VLOOKUP(A6,'[17]17'!$A$5:$O$440,5,FALSE),0)=0,0,VLOOKUP(A6,'[17]17'!$A$5:$O$440,5,FALSE)), IF(IFERROR(VLOOKUP(A6,'[18]18'!$A$5:$O$440,5,FALSE),0)=0,0,VLOOKUP(A6,'[18]18'!$A$5:$O$440,5,FALSE)), IF(IFERROR(VLOOKUP(A6,'[19]19'!$A$5:$O$440,5,FALSE),0)=0,0,VLOOKUP(A6,'[19]19'!$A$5:$O$440,5,FALSE)), IF(IFERROR(VLOOKUP(A6,'[20]20'!$A$5:$O$440,5,FALSE),0)=0,0,VLOOKUP(A6,'[20]20'!$A$5:$O$440,5,FALSE)), IF(IFERROR(VLOOKUP(A6,'[21]21'!$A$5:$O$440,5,FALSE),0)=0,0,VLOOKUP(A6,'[21]21'!$A$5:$O$440,5,FALSE)), IF(IFERROR(VLOOKUP(A6,'[22]22'!$A$5:$O$440,5,FALSE),0)=0,0,VLOOKUP(A6,'[22]22'!$A$5:$O$440,5,FALSE)), IF(IFERROR(VLOOKUP(A6,'[23]23'!$A$5:$O$440,5,FALSE),0)=0,0,VLOOKUP(A6,'[23]23'!$A$5:$O$440,5,FALSE)), IF(IFERROR(VLOOKUP(A6,'[24]24'!$A$5:$O$440,5,FALSE),0)=0,0,VLOOKUP(A6,'[24]24'!$A$5:$O$440,5,FALSE)), IF(IFERROR(VLOOKUP(A6,'[25]25'!$A$5:$O$440,5,FALSE),0)=0,0,VLOOKUP(A6,'[25]25'!$A$5:$O$440,5,FALSE)), IF(IFERROR(VLOOKUP(A6,'[26]26'!$A$5:$O$440,5,FALSE),0)=0,0,VLOOKUP(A6,'[26]26'!$A$5:$O$440,5,FALSE)), IF(IFERROR(VLOOKUP(A6,'[27]27'!$A$5:$O$440,5,FALSE),0)=0,0,VLOOKUP(A6,'[27]27'!$A$5:$O$440,5,FALSE)), IF(IFERROR(VLOOKUP(A6,'[28]28'!$A$5:$O$440,5,FALSE),0)=0,0,VLOOKUP(A6,'[28]28'!$A$5:$O$440,5,FALSE)), IF(IFERROR(VLOOKUP(A6,'[29]29'!$A$5:$O$440,5,FALSE),0)=0,0,VLOOKUP(A6,'[29]29'!$A$5:$O$440,5,FALSE)), IF(IFERROR(VLOOKUP(A6,'[30]30'!$A$5:$O$440,5,FALSE),0)=0,0,VLOOKUP(A6,'[30]30'!$A$5:$O$440,5,FALSE)), IF(IFERROR(VLOOKUP(A6,'[31]31'!$A$5:$O$440,5,FALSE),0)=0,0,VLOOKUP(A6,'[31]31'!$A$5:$O$440,5,FALSE)), IF(IFERROR(VLOOKUP(A6,'[32]32'!$A$5:$O$440,5,FALSE),0)=0,0,VLOOKUP(A6,'[32]32'!$A$5:$O$440,5,FALSE)), IF(IFERROR(VLOOKUP(A6,'[33]33'!$A$5:$O$440,5,FALSE),0)=0,0,VLOOKUP(A6,'[33]33'!$A$5:$O$440,5,FALSE)), IF(IFERROR(VLOOKUP(A6,'[34]34'!$A$5:$O$440,5,FALSE),0)=0,0,VLOOKUP(A6,'[34]34'!$A$5:$O$440,5,FALSE)), IF(IFERROR(VLOOKUP(A6,'[35]35'!$A$5:$O$440,5,FALSE),0)=0,0,VLOOKUP(A6,'[35]35'!$A$5:$O$440,5,FALSE)), IF(IFERROR(VLOOKUP(A6,'[36]36'!$A$5:$O$440,5,FALSE),0)=0,0,VLOOKUP(A6,'[36]36'!$A$5:$O$440,5,FALSE)), IF(IFERROR(VLOOKUP(A6,'[37]37'!$A$5:$O$440,5,FALSE),0)=0,0,VLOOKUP(A6,'[37]37'!$A$5:$O$440,5,FALSE)), IF(IFERROR(VLOOKUP(A6,'[38]38'!$A$5:$O$440,5,FALSE),0)=0,0,VLOOKUP(A6,'[38]38'!$A$5:$O$440,5,FALSE)) ) -> 21 | G6: =COUNTIF(Foglio2!C7:AN7,"GOL") -> 16 | H6: =I6-G6 -> 19 | I6: =38-COUNTIF(Foglio2!C7:AN7,"ASSENTE") -> 35 | J6: =G6/I6 -> 0.45714286 | K6: =IF(D6<5,"PESSIMA",IF(D6<5.25,"CATTIVA",IF(D6<5.5,"MEDIOCRE",IF(D6<5.75,"ACCETTABILE",IF(D6<6,"BUONA","ECCELLENTE"))))) -> BUONA
A8: =Foglio2!A8 -> 3349 | B8: =Foglio2!B8 -> CAVANI | C8: =AVERAGEIF(Foglio2!C8:AN8,">0") -> 6.4905714 | D8: =SUM(IF(Foglio2!C9="NO",Foglio2!C8,0),IF(Foglio2!D9="NO",Foglio2!D8,0),IF(Foglio2!E9="NO",Foglio2!E8,0),IF(Foglio2!F9="NO",Foglio2!F8,0),IF(Foglio2!G9="NO",Foglio2!G8,0),IF(Foglio2!H9="NO",Foglio2!H8,0),IF(Foglio2!I9="NO",Foglio2!I8,0),IF(Foglio2!J9="NO",Foglio2!J8,0),IF(Foglio2!K9="NO",Foglio2!K8,0),IF(Foglio2!L9="NO",Foglio2!L8,0),IF(Foglio2!M9="NO",Foglio2!M8,0),IF(Foglio2!N9="NO",Foglio2!N8,0),IF(Foglio2!O9="NO",Foglio2!O8,0),IF(Foglio2!P9="NO",Foglio2!P8,0),IF(Foglio2!Q9="NO",Foglio2!Q8,0),IF(Foglio2!R9="NO",Foglio2!R8,0),IF(Foglio2!S9="NO",Foglio2!S8,0),IF(Foglio2!T9="NO",Foglio2!T8,0),IF(Foglio2!U9="NO",Foglio2!U8,0),IF(Foglio2!V9="NO",Foglio2!V8,0),IF(Foglio2!W9="NO",Foglio2!W8,0),IF(Foglio2!X9="NO",Foglio2!X8,0),IF(Foglio2!Y9="NO",Foglio2!Y8,0),IF(Foglio2!Z9="NO",Foglio2!Z8,0),IF(Foglio2!AA9="NO",Foglio2!AA8,0),IF(Foglio2!AB9="NO",Foglio2!AB8,0),IF(Foglio2!AC9="NO",Foglio2!AC8,0),IF(Foglio2!AD9="NO",Foglio2!AD8,0),IF(Foglio2!AE9="NO",Foglio2!AE8,0),IF(Foglio2!AF9="NO",Foglio2!AF8,0),IF(Foglio2!AG9="NO",Foglio2!AG8,0),IF(Foglio2!AH9="NO",Foglio2!AH8,0),IF(Foglio2!AI9="NO",Foglio2!AI8,0),IF(Foglio2!AJ9="NO",Foglio2!AJ8,0),IF(Foglio2!AK9="NO",Foglio2!AK8,0),IF(Foglio2!AL9="NO",Foglio2!AL8,0),IF(Foglio2!AM9="NO",Foglio2!AM8,0),IF(Foglio2!AN9="NO",Foglio2!AN8,0))/COUNTIF(Foglio2!C9:AN9,"NO") -> 5.7273684 | E8: =SUM( IF(IFERROR(VLOOKUP(A8,'[1]1'!$A$5:$O$440,9,FALSE),0)=0,0,VLOOKUP(A8,'[1]1'!$A$5:$O$440,9,FALSE)), IF(IFERROR(VLOOKUP(A8,'[2]2'!$A$5:$O$440,9,FALSE),0)=0,0,VLOOKUP(A8,'[2]2'!$A$5:$O$440,9,FALSE)), IF(IFERROR(VLOOKUP(A8:'[3]3'!$A$5:$O$440,9,FALSE),0)=0,0,VLOOKUP(A8,'[3]3'!$A$5:$O$440,9,FALSE)), IF(IFERROR(VLOOKUP(A8,'[4]4'!$A$5:$O$440,9,FALSE),0)=0,0,VLOOKUP(A8,'[4]4'!$A$5:$O$440,9,FALSE)), IF(IFERROR(VLOOKUP(A8,'[5]5'!$A$5:$O$440,9,FALSE),0)=0,0,VLOOKUP(A8,'[5]5'!$A$5:$O$440,9,FALSE)), IF(IFERROR(VLOOKUP(A8,'[6]6'!$A$5:$O$440,9,FALSE),0)=0,0,VLOOKUP(A8,'[6]6'!$A$5:$O$440,9,FALSE)), IF(IFERROR(VLOOKUP(A8,'[7]7'!$A$5:$O$440,9,FALSE),0)=0,0,VLOOKUP(A8,'[7]7'!$A$5:$O$440,9,FALSE)), IF(IFERROR(VLOOKUP(A8,'[8]8'!$A$5:$O$440,9,FALSE),0)=0,0,VLOOKUP(A8,'[8]8'!$A$5:$O$440,9,FALSE)), IF(IFERROR(VLOOKUP(A8,'[9]9'!$A$5:$O$440,9,FALSE),0)=0,0,VLOOKUP(A8,'[9]9'!$A$5:$O$440,9,FALSE)), IF(IFERROR(VLOOKUP(A8,'[10]10'!$A$5:$O$440,9,FALSE),0)=0,0,VLOOKUP(A8,'[10]10'!$A$5:$O$440,9,FALSE)), IF(IFERROR(VLOOKUP(A8,'[11]11'!$A$5:$O$440,9,FALSE),0)=0,0,VLOOKUP(A8,'[11]11'!$A$5:$O$440,9,FALSE)), IF(IFERROR(VLOOKUP(A8,'[12]12'!$A$5:$O$440,9,FALSE),0)=0,0,VLOOKUP(A8,'[12]12'!$A$5:$O$440,9,FALSE)), IF(IFERROR(VLOOKUP(A8,'[13]13'!$A$5:$O$440,9,FALSE),0)=0,0,VLOOKUP(A8,'[13]13'!$A$5:$O$440,9,FALSE)), IF(IFERROR(VLOOKUP(A8,'[14]14'!$A$5:$O$440,9,FALSE),0)=0,0,VLOOKUP(A8,'[14]14'!$A$5:$O$440,9,FALSE)), IF(IFERROR(VLOOKUP(A8,'[15]15'!$A$5:$O$440,9,FALSE),0)=0,0,VLOOKUP(A8,'[15]15'!$A$5:$O$440,9,FALSE)), IF(IFERROR(VLOOKUP(A8,'[16]16'!$A$5:$O$440,9,FALSE),0)=0,0,VLOOKUP(A8,'[16]16'!$A$5:$O$440,9,FALSE)), IF(IFERROR(VLOOKUP(A8,'[17]17'!$A$5:$O$440,9,FALSE),0)=0,0,VLOOKUP(A8,'[17]17'!$A$5:$O$440,9,FALSE)), IF(IFERROR(VLOOKUP(A8,'[18]18'!$A$5:$O$440,9,FALSE),0)=0,0,VLOOKUP(A8,'[18]18'!$A$5:$O$440,9,FALSE)), IF(IFERROR(VLOOKUP(A8,'[19]19'!$A$5:$O$440,9,FALSE),0)=0,0,VLOOKUP(A8,'[19]19'!$A$5:$O$440,9,FALSE)), IF(IFERROR(VLOOKUP(A8,'[20]20'!$A$5:$O$440,9,FALSE),0)=0,0,VLOOKUP(A8,'[20]20'!$A$5:$O$440,9,FALSE)), IF(IFERROR(VLOOKUP(A8,'[21]21'!$A$5:$O$440,9,FALSE),0)=0,0,VLOOKUP(A8,'[21]21'!$A$5:$O$440,9,FALSE)), IF(IFERROR(VLOOKUP(A8,'[22]22'!$A$5:$O$440,9,FALSE),0)=0,0,VLOOKUP(A8,'[22]22'!$A$5:$O$440,9,FALSE)), IF(IFERROR(VLOOKUP(A8,'[23]23'!$A$5:$O$440,9,FALSE),0)=0,0,VLOOKUP(A8,'[23]23'!$A$5:$O$440,9,FALSE)), IF(IFERROR(VLOOKUP(A8,'[24]24'!$A$5:$O$440,9,FALSE),0)=0,0,VLOOKUP(A8,'[24]24'!$A$5:$O$440,9,FALSE)), IF(IFERROR(VLOOKUP(A8,'[25]25'!$A$5:$O$440,9,FALSE),0)=0,0,VLOOKUP(A8,'[25]25'!$A$5:$O$440,9,FALSE)), IF(IFERROR(VLOOKUP(A8,'[26]26'!$A$5:$O$440,9,FALSE),0)=0,0,VLOOKUP(A8,'[26]26'!$A$5:$O$440,9,FALSE)), IF(IFERROR(VLOOKUP(A8,'[27]27'!$A$5:$O$440,9,FALSE),0)=0,0,VLOOKUP(A8,'[27]27'!$A$5:$O$440,9,FALSE)), IF(IFERROR(VLOOKUP(A8,'[28]28'!$A$5:$O$440,9,FALSE),0)=0,0,VLOOKUP(A8,'[28]28'!$A$5:$O$440,9,FALSE)), IF(IFERROR(VLOOKUP(A8,'[29]29'!$A$5:$O$440,9,FALSE),0)=0,0,VLOOKUP(A8,'[29]29'!$A$5:$O$440,9,FALSE)), IF(IFERROR(VLOOKUP(A8,'[30]30'!$A$5:$O$440,9,FALSE),0)=0,0,VLOOKUP(A8,'[30]30'!$A$5:$O$440,9,FALSE)), IF(IFERROR(VLOOKUP(A8,'[31]31'!$A$5:$O$440,9,FALSE),0)=0,0,VLOOKUP(A8,'[31]31'!$A$5:$O$440,9,FALSE)), IF(IFERROR(VLOOKUP(A8,'[32]32'!$A$5:$O$440,9,FALSE),0)=0,0,VLOOKUP(A8,'[32]32'!$A$5:$O$440,9,FALSE)), IF(IFERROR(VLOOKUP(A8,'[33]33'!$A$5:$O$440,9,FALSE),0)=0,0,VLOOKUP(A8,'[33]33'!$A$5:$O$440,9,FALSE)), IF(IFERROR(VLOOKUP(A8,'[34]34'!$A$5:$O$440,9,FALSE),0)=0,0,VLOOKUP(A8,'[34]34'!$A$5:$O$440,9,FALSE)), IF(IFERROR(VLOOKUP(A8,'[35]35'!$A$5:$O$440,9,FALSE),0)=0,0,VLOOKUP(A8,'[35]35'!$A$5:$O$440,9,FALSE)), IF(IFERROR(VLOOKUP(A8,'[36]36'!$A$5:$O$440,9,FALSE),0)=0,0,VLOOKUP(A8,'[36]36'!$A$5:$O$440,9,FALSE)), IF(IFERROR(VLOOKUP(A8,'[37]37'!$A$5:$O$440,9,FALSE),0)=0,0,VLOOKUP(A8,'[37]37'!$A$5:$O$440,9,FALSE)), IF(IFERROR(VLOOKUP(A8,'[38]38'!$A$5:$O$440,9,FALSE),0)=0,0,VLOOKUP(A8,'[38]38'!$A$5:$O$440,9,FALSE)) ) -> 5 | F8: =SUM(E8, IF(IFERROR(VLOOKUP(A8,'[1]1'!$A$5:$O$440,5,FALSE),0)=0,0,VLOOKUP(A8,'[1]1'!$A$5:$O$440,5,FALSE)), IF(IFERROR(VLOOKUP(A8,'[2]2'!$A$5:$O$440,5,FALSE),0)=0,0,VLOOKUP(A8,'[2]2'!$A$5:$O$440,5,FALSE)), IF(IFERROR(VLOOKUP(A8,'[3]3'!$A$5:$O$440,5,FALSE),0)=0,0,VLOOKUP(A8,'[3]3'!$A$5:$O$440,5,FALSE)), IF(IFERROR(VLOOKUP(A8,'[4]4'!$A$5:$O$440,5,FALSE),0)=0,0,VLOOKUP(A8,'[4]4'!$A$5:$O$440,5,FALSE)), IF(IFERROR(VLOOKUP(A8,'[5]5'!$A$5:$O$440,5,FALSE),0)=0,0,VLOOKUP(A8,'[5]5'!$A$5:$O$440,5,FALSE)), IF(IFERROR(VLOOKUP(A8,'[6]6'!$A$5:$O$440,5,FALSE),0)=0,0,VLOOKUP(A8,'[6]6'!$A$5:$O$440,5,FALSE)), IF(IFERROR(VLOOKUP(A8,'[7]7'!$A$5:$O$440,5,FALSE),0)=0,0,VLOOKUP(A8,'[7]7'!$A$5:$O$440,5,FALSE)), IF(IFERROR(VLOOKUP(A8,'[8]8'!$A$5:$O$440,5,FALSE),0)=0,0,VLOOKUP(A8,'[8]8'!$A$5:$O$440,5,FALSE)), IF(IFERROR(VLOOKUP(A8,'[9]9'!$A$5:$O$440,5,FALSE),0)=0,0,VLOOKUP(A8,'[9]9'!$A$5:$O$440,5,FALSE)), IF(IFERROR(VLOOKUP(A8,'[10]10'!$A$5:$O$440,5,FALSE),0)=0,0,VLOOKUP(A8,'[10]10'!$A$5:$O$440,5,FALSE)), IF(IFERROR(VLOOKUP(A8,'[11]11'!$A$5:$O$440,5,FALSE),0)=0,0,VLOOKUP(A8,'[11]11'!$A$5:$O$440,5,FALSE)), IF(IFERROR(VLOOKUP(A8,'[12]12'!$A$5:$O$440,5,FALSE),0)=0,0,VLOOKUP(A8,'[12]12'!$A$5:$O$440,5,FALSE)), IF(IFERROR(VLOOKUP(A8,'[13]13'!$A$5:$O$440,5,FALSE),0)=0,0,VLOOKUP(A8,'[13]13'!$A$5:$O$440,5,FALSE)), IF(IFERROR(VLOOKUP(A8,'[14]14'!$A$5:$O$440,5,FALSE),0)=0,0,VLOOKUP(A8,'[14]14'!$A$5:$O$440,5,FALSE)), IF(IFERROR(VLOOKUP(A8,'[15]15'!$A$5:$O$440,5,FALSE),0)=0,0,VLOOKUP(A8,'[15]15'!$A$5:$O$440,5,FALSE)), IF(IFERROR(VLOOKUP(A8,'[16]16'!$A$5:$O$440,5,FALSE),0)=0,0,VLOOKUP(A8,'[16]16'!$A$5:$O$440,5,FALSE)), IF(IFERROR(VLOOKUP(A8,'[17]17'!$A$5:$O$440,5,FALSE),0)=0,0,VLOOKUP(A8,'[17]17'!$A$5:$O$440,5,FALSE)), IF(IFERROR(VLOOKUP(A8,'[18]18'!$A$5:$O$440,5,FALSE),0)=0,0,VLOOKUP(A8,'[18]18'!$A$5:$O$440,5,FALSE)), IF(IFERROR(VLOOKUP(A8,'[19]19'!$A$5:$O$440,5,FALSE),0)=0,0,VLOOKUP(A8,'[19]19'!$A$5:$O$440,5,FALSE)), IF(IFERROR(VLOOKUP(A8,'[20]20'!$A$5:$O$440,5,FALSE),0)=0,0,VLOOKUP(A8,'[20]20'!$A$5:$O$440,5,FALSE)), IF(IFERROR(VLOOKUP(A8,'[21]21'!$A$5:$O$440,5,FALSE),0)=0,0,VLOOKUP(A8,'[21]21'!$A$5:$O$440,5,FALSE)), IF(IFERROR(VLOOKUP(A8,'[22]22'!$A$5:$O$440,5,FALSE),0)=0,0,VLOOKUP(A8,'[22]22'!$A$5:$O$440,5,FALSE)), IF(IFERROR(VLOOKUP(A8,'[23]23'!$A$5:$O$440,5,FALSE),0)=0,0,VLOOKUP(A8,'[23]23'!$A$5:$O$440,5,FALSE)), IF(IFERROR(VLOOKUP(A8,'[24]24'!$A$5:$O$440,5,FALSE),0)=0,0,VLOOKUP(A8,'[24]24'!$A$5:$O$440,5,FALSE)), IF(IFERROR(VLOOKUP(A8,'[25]25'!$A$5:$O$440,5,FALSE),0)=0,0,VLOOKUP(A8,'[25]25'!$A$5:$O$440,5,FALSE)), IF(IFERROR(VLOOKUP(A8,'[26]26'!$A$5:$O$440,5,FALSE),0)=0,0,VLOOKUP(A8,'[26]26'!$A$5:$O$440,5,FALSE)), IF(IFERROR(VLOOKUP(A8,'[27]27'!$A$5:$O$440,5,FALSE),0)=0,0,VLOOKUP(A8,'[27]27'!$A$5:$O$440,5,FALSE)), IF(IFERROR(VLOOKUP(A8,'[28]28'!$A$5:$O$440,5,FALSE),0)=0,0,VLOOKUP(A8,'[28]28'!$A$5:$O$440,5,FALSE)), IF(IFERROR(VLOOKUP(A8,'[29]29'!$A$5:$O$440,5,FALSE),0)=0,0,VLOOKUP(A8,'[29]29'!$A$5:$O$440,5,FALSE)), IF(IFERROR(VLOOKUP(A8,'[30]30'!$A$5:$O$440,5,FALSE),0)=0,0,VLOOKUP(A8,'[30]30'!$A$5:$O$440,5,FALSE)), IF(IFERROR(VLOOKUP(A8,'[31]31'!$A$5:$O$440,5,FALSE),0)=0,0,VLOOKUP(A8,'[31]31'!$A$5:$O$440,5,FALSE)), IF(IFERROR(VLOOKUP(A8,'[32]32'!$A$5:$O$440,5,FALSE),0)=0,0,VLOOKUP(A8,'[32]32'!$A$5:$O$440,5,FALSE)), IF(IFERROR(VLOOKUP(A8,'[33]33'!$A$5:$O$440,5,FALSE),0)=0,0,VLOOKUP(A8,'[33]33'!$A$5:$O$440,5,FALSE)), IF(IFERROR(VLOOKUP(A8,'[34]34'!$A$5:$O$440,5,FALSE),0)=0,0,VLOOKUP(A8,'[34]34'!$A$5:$O$440,5,FALSE)), IF(IFERROR(VLOOKUP(A8,'[35]35'!$A$5:$O$440,5,FALSE),0)=0,0,VLOOKUP(A8,'[35]35'!$A$5:$O$440,5,FALSE)), IF(IFERROR(VLOOKUP(A8,'[36]36'!$A$5:$O$440,5,FALSE),0)=0,0,VLOOKUP(A8,'[36]36'!$A$5:$O$440,5,FALSE)), IF(IFERROR(VLOOKUP(A8,'[37]37'!$A$5:$O$440,5,FALSE),0)=0,0,VLOOKUP(A8,'[37]37'!$A$5:$O$440,5,FALSE)), IF(IFERROR(VLOOKUP(A8,'[38]38'!$A$5:$O$440,5,FALSE),0)=0,0,VLOOKUP(A8,'[38]38'!$A$5:$O$440,5,FALSE)) ) -> 26 | G8: =COUNTIF(Foglio2!C9:AN9,"GOL") -> 16 | H8: =I8-G8 -> 19 | I8: =38-COUNTIF(Foglio2!C9:AN9,"ASSENTE") -> 35 | J8: =G8/I8 -> 0.45714286 | K8: =IF(D8<5,"PESSIMA",IF(D8<5.25,"CATTIVA",IF(D8<5.5,"MEDIOCRE",IF(D8<5.75,"ACCETTABILE",IF(D8<6,"BUONA","ECCELLENTE"))))) -> ACCETTABILE
A10: =Foglio2!A10 -> 3501 | B10: =Foglio2!B10 -> IBRAHIMOVIC | C10: =AVERAGEIF(Foglio2!C10:AN10,">0") -> 6.3834483 | D10: =SUM(IF(Foglio2!C11="NO",Foglio2!C10,0),IF(Foglio2!D11="NO",Foglio2!D10,0),IF(Foglio2!E11="NO",Foglio2!E10,0),IF(Foglio2!F11="NO",Foglio2!F10,0),IF(Foglio2!G11="NO",Foglio2!G10,0),IF(Foglio2!H11="NO",Foglio2!H10,0),IF(Foglio2!I11="NO",Foglio2!I10,0),IF(Foglio2!J11="NO",Foglio2!J10,0),IF(Foglio2!K11="NO",Foglio2!K10,0),IF(Foglio2!L11="NO",Foglio2!L10,0),IF(Foglio2!M11="NO",Foglio2!M10,0),IF(Foglio2!N11="NO",Foglio2!N10,0),IF(Foglio2!O11="NO",Foglio2!O10,0),IF(Foglio2!P11="NO",Foglio2!P10,0),IF(Foglio2!Q11="NO",Foglio2!Q10,0),IF(Foglio2!R11="NO",Foglio2!R10,0),IF(Foglio2!S11="NO",Foglio2!S10,0),IF(Foglio2!T11="NO",Foglio2!T10,0),IF(Foglio2!U11="NO",Foglio2!U10,0),IF(Foglio2!V11="NO",Foglio2!V10,0),IF(Foglio2!W11="NO",Foglio2!W10,0),IF(Foglio2!X11="NO",Foglio2!X10,0),IF(Foglio2!Y11="NO",Foglio2!Y10,0),IF(Foglio2!Z11="NO",Foglio2!Z10,0),IF(Foglio2!AA11="NO",Foglio2!AA10,0),IF(Foglio2!AB11="NO",Foglio2!AB10,0),IF(Foglio2!AC11="NO",Foglio2!AC10,0),IF(Foglio2!AD11="NO",Foglio2!AD10,0),IF(Foglio2!AE11="NO",Foglio2!AE10,0),IF(Foglio2!AF11="NO",Foglio2!AF10,0),IF(Foglio2!AG11="NO",Foglio2!AG10,0),IF(Foglio2!AH11="NO",Foglio2!AH10,0),IF(Foglio2!AI11="NO",Foglio2!AI10,0),IF(Foglio2!AJ11="NO",Foglio2!AJ10,0),IF(Foglio2!AK11="NO",Foglio2!AK10,0),IF(Foglio2!AL11="NO",Foglio2!AL10,0),IF(Foglio2!AM11="NO",Foglio2!AM10,0),IF(Foglio2!AN11="NO",Foglio2!AN10,0))/COUNTIF(Foglio2!C11:AN11,"NO") -> 5.7893333 | E10: =SUM( IF(IFERROR(VLOOKUP(A10,'[1]1'!$A$5:$O$440,9,FALSE),0)=0,0,VLOOKUP(A10,'[1]1'!$A$5:$O$440,9,FALSE)), IF(IFERROR(VLOOKUP(A10,'[2]2'!$A$5:$O$440,9,FALSE),0)=0,0,VLOOKUP(A10,'[2]2'!$A$5:$O$440,9,FALSE)), IF(IFERROR(VLOOKUP(A10:'[3]3'!$A$5:$O$440,9,FALSE),0)=0,0,VLOOKUP(A10,'[3]3'!$A$5:$O$440,9,FALSE)), IF(IFERROR(VLOOKUP(A10,'[4]4'!$A$5:$O$440,9,FALSE),0)=0,0,VLOOKUP(A10,'[4]4'!$A$5:$O$440,9,FALSE)), IF(IFERROR(VLOOKUP(A10,'[5]5'!$A$5:$O$440,9,FALSE),0)=0,0,VLOOKUP(A10,'[5]5'!$A$5:$O$440,9,FALSE)), IF(IFERROR(VLOOKUP(A10,'[6]6'!$A$5:$O$440,9,FALSE),0)=0,0,VLOOKUP(A10,'[6]6'!$A$5:$O$440,9,FALSE)), IF(IFERROR(VLOOKUP(A10,'[7]7'!$A$5:$O$440,9,FALSE),0)=0,0,VLOOKUP(A10,'[7]7'!$A$5:$O$440,9,FALSE)), IF(IFERROR(VLOOKUP(A10,'[8]8'!$A$5:$O$440,9,FALSE),0)=0,0,VLOOKUP(A10,'[8]8'!$A$5:$O$440,9,FALSE)), IF(IFERROR(VLOOKUP(A10,'[9]9'!$A$5:$O$440,9,FALSE),0)=0,0,VLOOKUP(A10,'[9]9'!$A$5:$O$440,9,FALSE)), IF(IFERROR(VLOOKUP(A10,'[10]10'!$A$5:$O$440,9,FALSE),0)=0,0,VLOOKUP(A10,'[10]10'!$A$5:$O$440,9,FALSE)), IF(IFERROR(VLOOKUP(A10,'[11]11'!$A$5:$O$440,9,FALSE),0)=0,0,VLOOKUP(A10,'[11]11'!$A$5:$O$440,9,FALSE)), IF(IFERROR(VLOOKUP(A10,'[12]12'!$A$5:$O$440,9,FALSE),0)=0,0,VLOOKUP(A10,'[12]12'!$A$5:$O$440,9,FALSE)), IF(IFERROR(VLOOKUP(A10,'[13]13'!$A$5:$O$440,9,FALSE),0)=0,0,VLOOKUP(A10,'[13]13'!$A$5:$O$440,9,FALSE)), IF(IFERROR(VLOOKUP(A10,'[14]14'!$A$5:$O$440,9,FALSE),0)=0,0,VLOOKUP(A10,'[14]14'!$A$5:$O$440,9,FALSE)), IF(IFERROR(VLOOKUP(A10,'[15]15'!$A$5:$O$440,9,FALSE),0)=0,0,VLOOKUP(A10,'[15]15'!$A$5:$O$440,9,FALSE)), IF(IFERROR(VLOOKUP(A10,'[16]16'!$A$5:$O$440,9,FALSE),0)=0,0,VLOOKUP(A10,'[16]16'!$A$5:$O$440,9,FALSE)), IF(IFERROR(VLOOKUP(A10,'[17]17'!$A$5:$O$440,9,FALSE),0)=0,0,VLOOKUP(A10,'[17]17'!$A$5:$O$440,9,FALSE)), IF(IFERROR(VLOOKUP(A10,'[18]18'!$A$5:$O$440,9,FALSE),0)=0,0,VLOOKUP(A10,'[18]18'!$A$5:$O$440,9,FALSE)), IF(IFERROR(VLOOKUP(A10,'[19]19'!$A$5:$O$440,9,FALSE),0)=0,0,VLOOKUP(A10,'[19]19'!$A$5:$O$440,9,FALSE)), IF(IFERROR(VLOOKUP(A10,'[20]20'!$A$5:$O$440,9,FALSE),0)=0,0,VLOOKUP(A10,'[20]20'!$A$5:$O$440,9,FALSE)), IF(IFERROR(VLOOKUP(A10,'[21]21'!$A$5:$O$440,9,FALSE),0)=0,0,VLOOKUP(A10,'[21]21'!$A$5:$O$440,9,FALSE)), IF(IFERROR(VLOOKUP(A10,'[22]22'!$A$5:$O$440,9,FALSE),0)=0,0,VLOOKUP(A10,'[22]22'!$A$5:$O$440,9,FALSE)), IF(IFERROR(VLOOKUP(A10,'[23]23'!$A$5:$O$440,9,FALSE),0)=0,0,VLOOKUP(A10,'[23]23'!$A$5:$O$440,9,FALSE)), IF(IFERROR(VLOOKUP(A10,'[24]24'!$A$5:$O$440,9,FALSE),0)=0,0,VLOOKUP(A10,'[24]24'!$A$5:$O$440,9,FALSE)), IF(IFERROR(VLOOKUP(A10,'[25]25'!$A$5:$O$440,9,FALSE),0)=0,0,VLOOKUP(A10,'[25]25'!$A$5:$O$440,9,FALSE)), IF(IFERROR(VLOOKUP(A10,'[26]26'!$A$5:$O$440,9,FALSE),0)=0,0,VLOOKUP(A10,'[26]26'!$A$5:$O$440,9,FALSE)), IF(IFERROR(VLOOKUP(A10,'[27]27'!$A$5:$O$440,9,FALSE),0)=0,0,VLOOKUP(A10,'[27]27'!$A$5:$O$440,9,FALSE)), IF(IFERROR(VLOOKUP(A10,'[28]28'!$A$5:$O$440,9,FALSE),0)=0,0,VLOOKUP(A10,'[28]28'!$A$5:$O$440,9,FALSE)), IF(IFERROR(VLOOKUP(A10,'[29]29'!$A$5:$O$440,9,FALSE),0)=0,0,VLOOKUP(A10,'[29]29'!$A$5:$O$440,9,FALSE)), IF(IFERROR(VLOOKUP(A10,'[30]30'!$A$5:$O$440,9,FALSE),0)=0,0,VLOOKUP(A10,'[30]30'!$A$5:$O$440,9,FALSE)), IF(IFERROR(VLOOKUP(A10,'[31]31'!$A$5:$O$440,9,FALSE),0)=0,0,VLOOKUP(A10,'[31]31'!$A$5:$O$440,9,FALSE)), IF(IFERROR(VLOOKUP(A10,'[32]32'!$A$5:$O$440,9,FALSE),0)=0,0,VLOOKUP(A10,'[32]32'!$A$5:$O$440,9,FALSE)), IF(IFERROR(VLOOKUP(A10,'[33]33'!$A$5:$O$440,9,FALSE),0)=0,0,VLOOKUP(A10,'[33]33'!$A$5:$O$440,9,FALSE)), IF(IFERROR(VLOOKUP(A10,'[34]34'!$A$5:$O$440,9,FALSE),0)=0,0,VLOOKUP(A10,'[34]34'!$A$5:$O$440,9,FALSE)), IF(IFERROR(VLOOKUP(A10,'[35]35'!$A$5:$O$440,9,FALSE),0)=0,0,VLOOKUP(A10,'[35]35'!$A$5:$O$440,9,FALSE)), IF(IFERROR(VLOOKUP(A10,'[36]36'!$A$5:$O$440,9,FALSE),0)=0,0,VLOOKUP(A10,'[36]36'!$A$5:$O$440,9,FALSE)), IF(IFERROR(VLOOKUP(A10,'[37]37'!$A$5:$O$440,9,FALSE),0)=0,0,VLOOKUP(A10,'[37]37'!$A$5:$O$440,9,FALSE)), IF(IFERROR(VLOOKUP(A10,'[38]38'!$A$5:$O$440,9,FALSE),0)=0,0,VLOOKUP(A10,'[38]38'!$A$5:$O$440,9,FALSE)) ) -> 3 | F10: =SUM(E10, IF(IFERROR(VLOOKUP(A10,'[1]1'!$A$5:$O$440,5,FALSE),0)=0,0,VLOOKUP(A10,'[1]1'!$A$5:$O$440,5,FALSE)), IF(IFERROR(VLOOKUP(A10,'[2]2'!$A$5:$O$440,5,FALSE),0)=0,0,VLOOKUP(A10,'[2]2'!$A$5:$O$440,5,FALSE)), IF(IFERROR(VLOOKUP(A10,'[3]3'!$A$5:$O$440,5,FALSE),0)=0,0,VLOOKUP(A10,'[3]3'!$A$5:$O$440,5,FALSE)), IF(IFERROR(VLOOKUP(A10,'[4]4'!$A$5:$O$440,5,FALSE),0)=0,0,VLOOKUP(A10,'[4]4'!$A$5:$O$440,5,FALSE)), IF(IFERROR(VLOOKUP(A10,'[5]5'!$A$5:$O$440,5,FALSE),0)=0,0,VLOOKUP(A10,'[5]5'!$A$5:$O$440,5,FALSE)), IF(IFERROR(VLOOKUP(A10,'[6]6'!$A$5:$O$440,5,FALSE),0)=0,0,VLOOKUP(A10,'[6]6'!$A$5:$O$440,5,FALSE)), IF(IFERROR(VLOOKUP(A10,'[7]7'!$A$5:$O$440,5,FALSE),0)=0,0,VLOOKUP(A10,'[7]7'!$A$5:$O$440,5,FALSE)), IF(IFERROR(VLOOKUP(A10,'[8]8'!$A$5:$O$440,5,FALSE),0)=0,0,VLOOKUP(A10,'[8]8'!$A$5:$O$440,5,FALSE)), IF(IFERROR(VLOOKUP(A10,'[9]9'!$A$5:$O$440,5,FALSE),0)=0,0,VLOOKUP(A10,'[9]9'!$A$5:$O$440,5,FALSE)), IF(IFERROR(VLOOKUP(A10,'[10]10'!$A$5:$O$440,5,FALSE),0)=0,0,VLOOKUP(A10,'[10]10'!$A$5:$O$440,5,FALSE)), IF(IFERROR(VLOOKUP(A10,'[11]11'!$A$5:$O$440,5,FALSE),0)=0,0,VLOOKUP(A10,'[11]11'!$A$5:$O$440,5,FALSE)), IF(IFERROR(VLOOKUP(A10,'[12]12'!$A$5:$O$440,5,FALSE),0)=0,0,VLOOKUP(A10,'[12]12'!$A$5:$O$440,5,FALSE)), IF(IFERROR(VLOOKUP(A10,'[13]13'!$A$5:$O$440,5,FALSE),0)=0,0,VLOOKUP(A10,'[13]13'!$A$5:$O$440,5,FALSE)), IF(IFERROR(VLOOKUP(A10,'[14]14'!$A$5:$O$440,5,FALSE),0)=0,0,VLOOKUP(A10,'[14]14'!$A$5:$O$440,5,FALSE)), IF(IFERROR(VLOOKUP(A10,'[15]15'!$A$5:$O$440,5,FALSE),0)=0,0,VLOOKUP(A10,'[15]15'!$A$5:$O$440,5,FALSE)), IF(IFERROR(VLOOKUP(A10,'[16]16'!$A$5:$O$440,5,FALSE),0)=0,0,VLOOKUP(A10,'[16]16'!$A$5:$O$440,5,FALSE)), IF(IFERROR(VLOOKUP(A10,'[17]17'!$A$5:$O$440,5,FALSE),0)=0,0,VLOOKUP(A10,'[17]17'!$A$5:$O$440,5,FALSE)), IF(IFERROR(VLOOKUP(A10,'[18]18'!$A$5:$O$440,5,FALSE),0)=0,0,VLOOKUP(A10,'[18]18'!$A$5:$O$440,5,FALSE)), IF(IFERROR(VLOOKUP(A10,'[19]19'!$A$5:$O$440,5,FALSE),0)=0,0,VLOOKUP(A10,'[19]19'!$A$5:$O$440,5,FALSE)), IF(IFERROR(VLOOKUP(A10,'[20]20'!$A$5:$O$440,5,FALSE),0)=0,0,VLOOKUP(A10,'[20]20'!$A$5:$O$440,5,FALSE)), IF(IFERROR(VLOOKUP(A10,'[21]21'!$A$5:$O$440,5,FALSE),0)=0,0,VLOOKUP(A10,'[21]21'!$A$5:$O$440,5,FALSE)), IF(IFERROR(VLOOKUP(A10,'[22]22'!$A$5:$O$440,5,FALSE),0)=0,0,VLOOKUP(A10,'[22]22'!$A$5:$O$440,5,FALSE)), IF(IFERROR(VLOOKUP(A10,'[23]23'!$A$5:$O$440,5,FALSE),0)=0,0,VLOOKUP(A10,'[23]23'!$A$5:$O$440,5,FALSE)), IF(IFERROR(VLOOKUP(A10,'[24]24'!$A$5:$O$440,5,FALSE),0)=0,0,VLOOKUP(A10,'[24]24'!$A$5:$O$440,5,FALSE)), IF(IFERROR(VLOOKUP(A10,'[25]25'!$A$5:$O$440,5,FALSE),0)=0,0,VLOOKUP(A10,'[25]25'!$A$5:$O$440,5,FALSE)), IF(IFERROR(VLOOKUP(A10,'[26]26'!$A$5:$O$440,5,FALSE),0)=0,0,VLOOKUP(A10,'[26]26'!$A$5:$O$440,5,FALSE)), IF(IFERROR(VLOOKUP(A10,'[27]27'!$A$5:$O$440,5,FALSE),0)=0,0,VLOOKUP(A10,'[27]27'!$A$5:$O$440,5,FALSE)), IF(IFERROR(VLOOKUP(A10,'[28]28'!$A$5:$O$440,5,FALSE),0)=0,0,VLOOKUP(A10,'[28]28'!$A$5:$O$440,5,FALSE)), IF(IFERROR(VLOOKUP(A10,'[29]29'!$A$5:$O$440,5,FALSE),0)=0,0,VLOOKUP(A10,'[29]29'!$A$5:$O$440,5,FALSE)), IF(IFERROR(VLOOKUP(A10,'[30]30'!$A$5:$O$440,5,FALSE),0)=0,0,VLOOKUP(A10,'[30]30'!$A$5:$O$440,5,FALSE)), IF(IFERROR(VLOOKUP(A10,'[31]31'!$A$5:$O$440,5,FALSE),0)=0,0,VLOOKUP(A10,'[31]31'!$A$5:$O$440,5,FALSE)), IF(IFERROR(VLOOKUP(A10,'[32]32'!$A$5:$O$440,5,FALSE),0)=0,0,VLOOKUP(A10,'[32]32'!$A$5:$O$440,5,FALSE)), IF(IFERROR(VLOOKUP(A10,'[33]33'!$A$5:$O$440,5,FALSE),0)=0,0,VLOOKUP(A10,'[33]33'!$A$5:$O$440,5,FALSE)), IF(IFERROR(VLOOKUP(A10,'[34]34'!$A$5:$O$440,5,FALSE),0)=0,0,VLOOKUP(A10,'[34]34'!$A$5:$O$440,5,FALSE)), IF(IFERROR(VLOOKUP(A10,'[35]35'!$A$5:$O$440,5,FALSE),0)=0,0,VLOOKUP(A10,'[35]35'!$A$5:$O$440,5,FALSE)), IF(IFERROR(VLOOKUP(A10,'[36]36'!$A$5:$O$440,5,FALSE),0)=0,0,VLOOKUP(A10,'[36]36'!$A$5:$O$440,5,FALSE)), IF(IFERROR(VLOOKUP(A10,'[37]37'!$A$5:$O$440,5,FALSE),0)=0,0,VLOOKUP(A10,'[37]37'!$A$5:$O$440,5,FALSE)), IF(IFERROR(VLOOKUP(A10,'[38]38'!$A$5:$O$440,5,FALSE),0)=0,0,VLOOKUP(A10,'[38]38'!$A$5:$O$440,5,FALSE)) ) -> 14 | G10: =COUNTIF(Foglio2!C11:AN11,"GOL") -> 14 | H10: =I10-G10 -> 15 | I10: =38-COUNTIF(Foglio2!C11:AN11,"ASSENTE") -> 29 | J10: =G10/I10 -> 0.48275862 | K10: =IF(D10<5,"PESSIMA",IF(D10<5.25,"CATTIVA",IF(D10<5.5,"MEDIOCRE",IF(D10<5.75,"ACCETTABILE",IF(D10<6,"BUONA","ECCELLENTE"))))) -> BUONA
A12: =Foglio2!A12 -> 3435 | B12: =Foglio2!B12 -> HERNANES | C12: =AVERAGEIF(Foglio2!C12:AN12,">0") -> 6.0869444 | D12: =SUM(IF(Foglio2!C13="NO",Foglio2!C12,0),IF(Foglio2!D13="NO",Foglio2!D12,0),IF(Foglio2!E13="NO",Foglio2!E12,0),IF(Foglio2!F13="NO",Foglio2!F12,0),IF(Foglio2!G13="NO",Foglio2!G12,0),IF(Foglio2!H13="NO",Foglio2!H12,0),IF(Foglio2!I13="NO",Foglio2!I12,0),IF(Foglio2!J13="NO",Foglio2!J12,0),IF(Foglio2!K13="NO",Foglio2!K12,0),IF(Foglio2!L13="NO",Foglio2!L12,0),IF(Foglio2!M13="NO",Foglio2!M12,0),IF(Foglio2!N13="NO",Foglio2!N12,0),IF(Foglio2!O13="NO",Foglio2!O12,0),IF(Foglio2!P13="NO",Foglio2!P12,0),IF(Foglio2!Q13="NO",Foglio2!Q12,0),IF(Foglio2!R13="NO",Foglio2!R12,0),IF(Foglio2!S13="NO",Foglio2!S12,0),IF(Foglio2!T13="NO",Foglio2!T12,0),IF(Foglio2!U13="NO",Foglio2!U12,0),IF(Foglio2!V13="NO",Foglio2!V12,0),IF(Foglio2!W13="NO",Foglio2!W12,0),IF(Foglio2!X13="NO",Foglio2!X12,0),IF(Foglio2!Y13="NO",Foglio2!Y12,0),IF(Foglio2!Z13="NO",Foglio2!Z12,0),IF(Foglio2!AA13="NO",Foglio2!AA12,0),IF(Foglio2!AB13="NO",Foglio2!AB12,0),IF(Foglio2!AC13="NO",Foglio2!AC12,0),IF(Foglio2!AD13="NO",Foglio2!AD12,0),IF(Foglio2!AE13="NO",Foglio2!AE12,0),IF(Foglio2!AF13="NO",Foglio2!AF12,0),IF(Foglio2!AG13="NO",Foglio2!AG12,0),IF(Foglio2!AH13="NO",Foglio2!AH12,0),IF(Foglio2!AI13="NO",Foglio2!AI12,0),IF(Foglio2!AJ13="NO",Foglio2!AJ12,0),IF(Foglio2!AK13="NO",Foglio2!AK12,0),IF(Foglio2!AL13="NO",Foglio2!AL12,0),IF(Foglio2!AM13="NO",Foglio2!AM12,0),IF(Foglio2!AN13="NO",Foglio2!AN12,0))/COUNTIF(Foglio2!C13:AN13,"NO") -> 5.7857692 | E12: =SUM( IF(IFERROR(VLOOKUP(A12,'[1]1'!$A$5:$O$440,9,FALSE),0)=0,0,VLOOKUP(A12,'[1]1'!$A$5:$O$440,9,FALSE)), IF(IFERROR(VLOOKUP(A12,'[2]2'!$A$5:$O$440,9,FALSE),0)=0,0,VLOOKUP(A12,'[2]2'!$A$5:$O$440,9,FALSE)), IF(IFERROR(VLOOKUP(A12:'[3]3'!$A$5:$O$440,9,FALSE),0)=0,0,VLOOKUP(A12,'[3]3'!$A$5:$O$440,9,FALSE)), IF(IFERROR(VLOOKUP(A12,'[4]4'!$A$5:$O$440,9,FALSE),0)=0,0,VLOOKUP(A12,'[4]4'!$A$5:$O$440,9,FALSE)), IF(IFERROR(VLOOKUP(A12,'[5]5'!$A$5:$O$440,9,FALSE),0)=0,0,VLOOKUP(A12,'[5]5'!$A$5:$O$440,9,FALSE)), IF(IFERROR(VLOOKUP(A12,'[6]6'!$A$5:$O$440,9,FALSE),0)=0,0,VLOOKUP(A12,'[6]6'!$A$5:$O$440,9,FALSE)), IF(IFERROR(VLOOKUP(A12,'[7]7'!$A$5:$O$440,9,FALSE),0)=0,0,VLOOKUP(A12,'[7]7'!$A$5:$O$440,9,FALSE)), IF(IFERROR(VLOOKUP(A12,'[8]8'!$A$5:$O$440,9,FALSE),0)=0,0,VLOOKUP(A12,'[8]8'!$A$5:$O$440,9,FALSE)), IF(IFERROR(VLOOKUP(A12,'[9]9'!$A$5:$O$440,9,FALSE),0)=0,0,VLOOKUP(A12,'[9]9'!$A$5:$O$440,9,FALSE)), IF(IFERROR(VLOOKUP(A12,'[10]10'!$A$5:$O$440,9,FALSE),0)=0,0,VLOOKUP(A12,'[10]10'!$A$5:$O$440,9,FALSE)), IF(IFERROR(VLOOKUP(A12,'[11]11'!$A$5:$O$440,9,FALSE),0)=0,0,VLOOKUP(A12,'[11]11'!$A$5:$O$440,9,FALSE)), IF(IFERROR(VLOOKUP(A12,'[12]12'!$A$5:$O$440,9,FALSE),0)=0,0,VLOOKUP(A12,'[12]12'!$A$5:$O$440,9,FALSE)), IF(IFERROR(VLOOKUP(A12,'[13]13'!$A$5:$O$440,9,FALSE),0)=0,0,VLOOKUP(A12,'[13]13'!$A$5:$O$440,9,FALSE)), IF(IFERROR(VLOOKUP(A12,'[14]14'!$A$5:$O$440,9,FALSE),0)=0,0,VLOOKUP(A12,'[14]14'!$A$5:$O$440,9,FALSE)), IF(IFERROR(VLOOKUP(A12,'[15]15'!$A$5:$O$440,9,FALSE),0)=0,0,VLOOKUP(A12,'[15]15'!$A$5:$O$440,9,FALSE)), IF(IFERROR(VLOOKUP(A12,'[16]16'!$A$5:$O$440,9,FALSE),0)=0,0,VLOOKUP(A12,'[16]16'!$A$5:$O$440,9,FALSE)), IF(IFERROR(VLOOKUP(A12,'[17]17'!$A$5:$O$440,9,FALSE),0)=0,0,VLOOKUP(A12,'[17]17'!$A$5:$O$440,9,FALSE)), IF(IFERROR(VLOOKUP(A12,'[18]18'!$A$5:$O$440,9,FALSE),0)=0,0,VLOOKUP(A12,'[18]18'!$A$5:$O$440,9,FALSE)), IF(IFERROR(VLOOKUP(A12,'[19]19'!$A$5:$O$440,9,FALSE),0)=0,0,VLOOKUP(A12,'[19]19'!$A$5:$O$440,9,FALSE)), IF(IFERROR(VLOOKUP(A12,'[20]20'!$A$5:$O$440,9,FALSE),0)=0,0,VLOOKUP(A12,'[20]20'!$A$5:$O$440,9,FALSE)), IF(IFERROR(VLOOKUP(A12,'[21]21'!$A$5:$O$440,9,FALSE),0)=0,0,VLOOKUP(A12,'[21]21'!$A$5:$O$440,9,FALSE)), IF(IFERROR(VLOOKUP(A12,'[22]22'!$A$5:$O$440,9,FALSE),0)=0,0,VLOOKUP(A12,'[22]22'!$A$5:$O$440,9,FALSE)), IF(IFERROR(VLOOKUP(A12,'[23]23'!$A$5:$O$440,9,FALSE),0)=0,0,VLOOKUP(A12,'[23]23'!$A$5:$O$440,9,FALSE)), IF(IFERROR(VLOOKUP(A12,'[24]24'!$A$5:$O$440,9,FALSE),0)=0,0,VLOOKUP(A12,'[24]24'!$A$5:$O$440,9,FALSE)), IF(IFERROR(VLOOKUP(A12,'[25]25'!$A$5:$O$440,9,FALSE),0)=0,0,VLOOKUP(A12,'[25]25'!$A$5:$O$440,9,FALSE)), IF(IFERROR(VLOOKUP(A12,'[26]26'!$A$5:$O$440,9,FALSE),0)=0,0,VLOOKUP(A12,'[26]26'!$A$5:$O$440,9,FALSE)), IF(IFERROR(VLOOKUP(A12,'[27]27'!$A$5:$O$440,9,FALSE),0)=0,0,VLOOKUP(A12,'[27]27'!$A$5:$O$440,9,FALSE)), IF(IFERROR(VLOOKUP(A12,'[28]28'!$A$5:$O$440,9,FALSE),0)=0,0,VLOOKUP(A12,'[28]28'!$A$5:$O$440,9,FALSE)), IF(IFERROR(VLOOKUP(A12,'[29]29'!$A$5:$O$440,9,FALSE),0)=0,0,VLOOKUP(A12,'[29]29'!$A$5:$O$440,9,FALSE)), IF(IFERROR(VLOOKUP(A12,'[30]30'!$A$5:$O$440,9,FALSE),0)=0,0,VLOOKUP(A12,'[30]30'!$A$5:$O$440,9,FALSE)), IF(IFERROR(VLOOKUP(A12,'[31]31'!$A$5:$O$440,9,FALSE),0)=0,0,VLOOKUP(A12,'[31]31'!$A$5:$O$440,9,FALSE)), IF(IFERROR(VLOOKUP(A12,'[32]32'!$A$5:$O$440,9,FALSE),0)=0,0,VLOOKUP(A12,'[32]32'!$A$5:$O$440,9,FALSE)), IF(IFERROR(VLOOKUP(A12,'[33]33'!$A$5:$O$440,9,FALSE),0)=0,0,VLOOKUP(A12,'[33]33'!$A$5:$O$440,9,FALSE)), IF(IFERROR(VLOOKUP(A12,'[34]34'!$A$5:$O$440,9,FALSE),0)=0,0,VLOOKUP(A12,'[34]34'!$A$5:$O$440,9,FALSE)), IF(IFERROR(VLOOKUP(A12,'[35]35'!$A$5:$O$440,9,FALSE),0)=0,0,VLOOKUP(A12,'[35]35'!$A$5:$O$440,9,FALSE)), IF(IFERROR(VLOOKUP(A12,'[36]36'!$A$5:$O$440,9,FALSE),0)=0,0,VLOOKUP(A12,'[36]36'!$A$5:$O$440,9,FALSE)), IF(IFERROR(VLOOKUP(A12,'[37]37'!$A$5:$O$440,9,FALSE),0)=0,0,VLOOKUP(A12,'[37]37'!$A$5:$O$440,9,FALSE)), IF(IFERROR(VLOOKUP(A12,'[38]38'!$A$5:$O$440,9,FALSE),0)=0,0,VLOOKUP(A12,'[38]38'!$A$5:$O$440,9,FALSE)) ) -> 1 | F12: =SUM(E12, IF(IFERROR(VLOOKUP(A12,'[1]1'!$A$5:$O$440,5,FALSE),0)=0,0,VLOOKUP(A12,'[1]1'!$A$5:$O$440,5,FALSE)), IF(IFERROR(VLOOKUP(A12,'[2]2'!$A$5:$O$440,5,FALSE),0)=0,0,VLOOKUP(A12,'[2]2'!$A$5:$O$440,5,FALSE)), IF(IFERROR(VLOOKUP(A12,'[3]3'!$A$5:$O$440,5,FALSE),0)=0,0,VLOOKUP(A12,'[3]3'!$A$5:$O$440,5,FALSE)), IF(IFERROR(VLOOKUP(A12,'[4]4'!$A$5:$O$440,5,FALSE),0)=0,0,VLOOKUP(A12,'[4]4'!$A$5:$O$440,5,FALSE)), IF(IFERROR(VLOOKUP(A12,'[5]5'!$A$5:$O$440,5,FALSE),0)=0,0,VLOOKUP(A12,'[5]5'!$A$5:$O$440,5,FALSE)), IF(IFERROR(VLOOKUP(A12,'[6]6'!$A$5:$O$440,5,FALSE),0)=0,0,VLOOKUP(A12,'[6]6'!$A$5:$O$440,5,FALSE)), IF(IFERROR(VLOOKUP(A12,'[7]7'!$A$5:$O$440,5,FALSE),0)=0,0,VLOOKUP(A12,'[7]7'!$A$5:$O$440,5,FALSE)), IF(IFERROR(VLOOKUP(A12,'[8]8'!$A$5:$O$440,5,FALSE),0)=0,0,VLOOKUP(A12,'[8]8'!$A$5:$O$440,5,FALSE)), IF(IFERROR(VLOOKUP(A12,'[9]9'!$A$5:$O$440,5,FALSE),0)=0,0,VLOOKUP(A12,'[9]9'!$A$5:$O$440,5,FALSE)), IF(IFERROR(VLOOKUP(A12,'[10]10'!$A$5:$O$440,5,FALSE),0)=0,0,VLOOKUP(A12,'[10]10'!$A$5:$O$440,5,FALSE)), IF(IFERROR(VLOOKUP(A12,'[11]11'!$A$5:$O$440,5,FALSE),0)=0,0,VLOOKUP(A12,'[11]11'!$A$5:$O$440,5,FALSE)), IF(IFERROR(VLOOKUP(A12,'[12]12'!$A$5:$O$440,5,FALSE),0)=0,0,VLOOKUP(A12,'[12]12'!$A$5:$O$440,5,FALSE)), IF(IFERROR(VLOOKUP(A12,'[13]13'!$A$5:$O$440,5,FALSE),0)=0,0,VLOOKUP(A12,'[13]13'!$A$5:$O$440,5,FALSE)), IF(IFERROR(VLOOKUP(A12,'[14]14'!$A$5:$O$440,5,FALSE),0)=0,0,VLOOKUP(A12,'[14]14'!$A$5:$O$440,5,FALSE)), IF(IFERROR(VLOOKUP(A12,'[15]15'!$A$5:$O$440,5,FALSE),0)=0,0,VLOOKUP(A12,'[15]15'!$A$5:$O$440,5,FALSE)), IF(IFERROR(VLOOKUP(A12,'[16]16'!$A$5:$O$440,5,FALSE),0)=0,0,VLOOKUP(A12,'[16]16'!$A$5:$O$440,5,FALSE)), IF(IFERROR(VLOOKUP(A12,'[17]17'!$A$5:$O$440,5,FALSE),0)=0,0,VLOOKUP(A12,'[17]17'!$A$5:$O$440,5,FALSE)), IF(IFERROR(VLOOKUP(A12,'[18]18'!$A$5:$O$440,5,FALSE),0)=0,0,VLOOKUP(A12,'[18]18'!$A$5:$O$440,5,FALSE)), IF(IFERROR(VLOOKUP(A12,'[19]19'!$A$5:$O$440,5,FALSE),0)=0,0,VLOOKUP(A12,'[19]19'!$A$5:$O$440,5,FALSE)), IF(IFERROR(VLOOKUP(A12,'[20]20'!$A$5:$O$440,5,FALSE),0)=0,0,VLOOKUP(A12,'[20]20'!$A$5:$O$440,5,FALSE)), IF(IFERROR(VLOOKUP(A12,'[21]21'!$A$5:$O$440,5,FALSE),0)=0,0,VLOOKUP(A12,'[21]21'!$A$5:$O$440,5,FALSE)), IF(IFERROR(VLOOKUP(A12,'[22]22'!$A$5:$O$440,5,FALSE),0)=0,0,VLOOKUP(A12,'[22]22'!$A$5:$O$440,5,FALSE)), IF(IFERROR(VLOOKUP(A12,'[23]23'!$A$5:$O$440,5,FALSE),0)=0,0,VLOOKUP(A12,'[23]23'!$A$5:$O$440,5,FALSE)), IF(IFERROR(VLOOKUP(A12,'[24]24'!$A$5:$O$440,5,FALSE),0)=0,0,VLOOKUP(A12,'[24]24'!$A$5:$O$440,5,FALSE)), IF(IFERROR(VLOOKUP(A12,'[25]25'!$A$5:$O$440,5,FALSE),0)=0,0,VLOOKUP(A12,'[25]25'!$A$5:$O$440,5,FALSE)), IF(IFERROR(VLOOKUP(A12,'[26]26'!$A$5:$O$440,5,FALSE),0)=0,0,VLOOKUP(A12,'[26]26'!$A$5:$O$440,5,FALSE)), IF(IFERROR(VLOOKUP(A12,'[27]27'!$A$5:$O$440,5,FALSE),0)=0,0,VLOOKUP(A12,'[27]27'!$A$5:$O$440,5,FALSE)), IF(IFERROR(VLOOKUP(A12,'[28]28'!$A$5:$O$440,5,FALSE),0)=0,0,VLOOKUP(A12,'[28]28'!$A$5:$O$440,5,FALSE)), IF(IFERROR(VLOOKUP(A12,'[29]29'!$A$5:$O$440,5,FALSE),0)=0,0,VLOOKUP(A12,'[29]29'!$A$5:$O$440,5,FALSE)), IF(IFERROR(VLOOKUP(A12,'[30]30'!$A$5:$O$440,5,FALSE),0)=0,0,VLOOKUP(A12,'[30]30'!$A$5:$O$440,5,FALSE)), IF(IFERROR(VLOOKUP(A12,'[31]31'!$A$5:$O$440,5,FALSE),0)=0,0,VLOOKUP(A12,'[31]31'!$A$5:$O$440,5,FALSE)), IF(IFERROR(VLOOKUP(A12,'[32]32'!$A$5:$O$440,5,FALSE),0)=0,0,VLOOKUP(A12,'[32]32'!$A$5:$O$440,5,FALSE)), IF(IFERROR(VLOOKUP(A12,'[33]33'!$A$5:$O$440,5,FALSE),0)=0,0,VLOOKUP(A12,'[33]33'!$A$5:$O$440,5,FALSE)), IF(IFERROR(VLOOKUP(A12,'[34]34'!$A$5:$O$440,5,FALSE),0)=0,0,VLOOKUP(A12,'[34]34'!$A$5:$O$440,5,FALSE)), IF(IFERROR(VLOOKUP(A12,'[35]35'!$A$5:$O$440,5,FALSE),0)=0,0,VLOOKUP(A12,'[35]35'!$A$5:$O$440,5,FALSE)), IF(IFERROR(VLOOKUP(A12,'[36]36'!$A$5:$O$440,5,FALSE),0)=0,0,VLOOKUP(A12,'[36]36'!$A$5:$O$440,5,FALSE)), IF(IFERROR(VLOOKUP(A12,'[37]37'!$A$5:$O$440,5,FALSE),0)=0,0,VLOOKUP(A12,'[37]37'!$A$5:$O$440,5,FALSE)), IF(IFERROR(VLOOKUP(A12,'[38]38'!$A$5:$O$440,5,FALSE),0)=0,0,VLOOKUP(A12,'[38]38'!$A$5:$O$440,5,FALSE)) ) -> 11 | G12: =COUNTIF(Foglio2!C13:AN13,"GOL") -> 10 | H12: =I12-G12 -> 26 | I12: =38-COUNTIF(Foglio2!C13:AN13,"ASSENTE") -> 36 | J12: =G12/I12 -> 0.27777778 | K12: =IF(D12<5,"PESSIMA",IF(D12<5.25,"CATTIVA",IF(D12<5.5,"MEDIOCRE",IF(D12<5.75,"ACCETTABILE",IF(D12<6,"BUONA","ECCELLENTE"))))) -> BUONA
