Workbook

Sheet Foglio1
A1: Calciatore | B1: Giocatore | C1: Media voto | D1: MV pulita | E1: Gol Rigore | F1: Gol | G1: Presenze gol | H1: Presenze senza gol | I1: Presenze | J1: % Presenze gol | K1: Valutazione MV
A2: =Foglio2!A2 -> 3387 | B2: =Foglio2!B2 -> MATRI | C2: =AVERAGEIF(Foglio2!C2:AN2,">0") -> 5.9692105 | D2: =SUM(IF(Foglio2!C3="NO",Foglio2!C2,0),IF(Foglio2!D3="NO",Foglio2!D2,0),IF(Foglio2!E3="NO",Foglio2!E2,0),IF(Foglio2!F3="NO",Foglio2!F2,0),IF(Foglio2!G3="NO",Foglio2!G2,0),IF(Foglio2!H3="NO",Foglio2!H2,0),IF(Foglio2!I3="NO",Foglio2!I2,0),IF(Foglio2!J3="NO",Foglio2!J2,0),IF(Foglio2!K3="NO",Foglio2!K2,0),IF(Foglio2!L3="NO",Foglio2!L2,0),IF(Foglio2!M3="NO",Foglio2!M2,0),IF(Foglio2!N3="NO",Foglio2!N2,0),IF(Foglio2!O3="NO",Foglio2!O2,0),IF(Foglio2!P3="NO",Foglio2!P2,0),IF(Foglio2!Q3="NO",Foglio2!Q2,0),IF(Foglio2!R3="NO",Foglio2!R2,0),IF(Foglio2!S3="NO",Foglio2!S2,0),IF(Foglio2!T3="NO",Foglio2!T2,0),IF(Foglio2!U3="NO",Foglio2!U2,0),IF(Foglio2!V3="NO",Foglio2!V2,0),IF(Foglio2!W3="NO",Foglio2!W2,0),IF(Foglio2!X3="NO",Foglio2!X2,0),IF(Foglio2!Y3="NO",Foglio2!Y2,0),IF(Foglio2!Z3="NO",Foglio2!Z2,0),IF(Foglio2!AA3="NO",Foglio2!AA2,0),IF(Foglio2!AB3="NO",Foglio2!AB2,0),IF(Foglio2!AC3="NO",Foglio2!AC2,0),IF(Foglio2!AD3="NO",Foglio2!AD2,0),IF(Foglio2!AE3="NO",Foglio2!AE2,0),IF(Foglio2!AF3="NO",Foglio2!AF2,0),IF(Foglio2!AG3="NO",Foglio2!AG2,0),IF(Foglio2!AH3="NO",Foglio2!AH2,0),IF(Foglio2!AI3="NO",Foglio2!AI2,0),IF(Foglio2!AJ3="NO",Foglio2!AJ2,0),IF(Foglio2!AK3="NO",Foglio2!AK2,0),IF(Foglio2!AL3="NO",Foglio2!AL2,0),IF(Foglio2!AM3="NO",Foglio2!AM2,0),IF(Foglio2!AN3="NO",Foglio2!AN2,0))/COUNTIF(Foglio2!C3:AN3,"NO") -> 5.3154167 | E2: =SUM( IF(IFERROR(VLOOKUP(A2,'[1]1'!$A$5:$O$440,9,FALSE),0)=0,0,VLOOKUP(A2,'[1]1'!$A$5:$O$440,9,FALSE)), IF(IFERROR(VLOOKUP(A2,'[2]2'!$A$5:$O$440,9,FALSE),0)=0,0,VLOOKUP(A2,'[2]2'!$A$5:$O$440,9,FALSE)), IF(IFERROR(VLOOKUP(A2:'[3]3'!$A$5:$O$440,9,FALSE),0)=0,0,VLOOKUP(A2,'[3]3'!$A$5:$O$440,9,FALSE)), IF(IFERROR(VLOOKUP(A2,'[4]4'!$A$5:$O$440,9,FALSE),0)=0,0,VLOOKUP(A2,'[4]4'!$A$5:$O$440,9,FALSE)), IF(IFERROR(VLOOKUP(A2,'[5]5'!$A$5:$O$440,9,FALSE),0)=0,0,VLOOKUP(A2,'[5]5'!$A$5:$O$440,9,FALSE)), IF(IFERROR(VLOOKUP(A2,'[6]6'!$A$5:$O$440,9,FALSE),0)=0,0,VLOOKUP(A2,'[6]6'!$A$5:$O$440,9,FALSE)), IF(IFERROR(VLOOKUP(A2,'[7]7'!$A$5:$O$440,9,FALSE),0)=0,0,VLOOKUP(A2,'[7]7'!$A$5:$O$440,9,FALSE)), IF(IFERROR(VLOOKUP(A2,'[8]8'!$A$5:$O$440,9,FALSE),0)=0,0,VLOOKUP(A2,'[8]8'!$A$5:$O$440,9,FALSE)), IF(IFERROR(VLOOKUP(A2,'[9]9'!$A$5:$O$440,9,FALSE),0)=0,0,VLOOKUP(A2,'[9]9'!$A$5:$O$440,9,FALSE)), IF(IFERROR(VLOOKUP(A2,'[10]10'!$A$5:$O$440,9,FALSE),0)=0,0,VLOOKUP(A2,'[10]10'!$A$5:$O$440,9,FALSE)), IF(IFERROR(VLOOKUP(A2,'[11]11'!$A$5:$O$440,9,FALSE),0)=0,0,VLOOKUP(A2,'[11]11'!$A$5:$O$440,9,FALSE)), IF(IFERROR(VLOOKUP(A2,'[12]12'!$A$5:$O$440,9,FALSE),0)=0,0,VLOOKUP(A2,'[12]12'!$A$5:$O$440,9,FALSE)), IF(IFERROR(VLOOKUP(A2,'[13]13'!$A$5:$O$440,9,FALSE),0)=0,0,VLOOKUP(A2,'[13]13'!$A$5:$O$440,9,FALSE)), IF(IFERROR(VLOOKUP(A2,'[14]14'!$A$5:$O$440,9,FALSE),0)=0,0,VLOOKUP(A2,'[14]14'!$A$5:$O$440,9,FALSE)), IF(IFERROR(VLOOKUP(A2,'[15]15'!$A$5:$O$440,9,FALSE),0)=0,0,VLOOKUP(A2,'[15]15'!$A$5:$O$440,9,FALSE)), IF(IFERROR(VLOOKUP(A2,'[16]16'!$A$5:$O$440,9,FALSE),0)=0,0,VLOOKUP(A2,'[16]16'!$A$5:$O$440,9,FALSE)), IF(IFERROR(VLOOKUP(A2,'[17]17'!$A$5:$O$440,9,FALSE),0)=0,0,VLOOKUP(A2,'[17]17'!$A$5:$O$440,9,FALSE)), IF(IFERROR(VLOOKUP(A2,'[18]18'!$A$5:$O$440,9,FALSE),0)=0,0,VLOOKUP(A2,'[18]18'!$A$5:$O$440,9,FALSE)), IF(IFERROR(VLOOKUP(A2,'[19]19'!$A$5:$O$440,9,FALSE),0)=0,0,VLOOKUP(A2,'[19]19'!$A$5:$O$440,9,FALSE)), IF(IFERROR(VLOOKUP(A2,'[20]20'!$A$5:$O$440,9,FALSE),0)=0,0,VLOOKUP(A2,'[20]20'!$A$5:$O$440,9,FALSE)), IF(IFERROR(VLOOKUP(A2,'[21]21'!$A$5:$O$440,9,FALSE),0)=0,0,VLOOKUP(A2,'[21]21'!$A$5:$O$440,9,FALSE)), IF(IFERROR(VLOOKUP(A2,'[22]22'!$A$5:$O$440,9,FALSE),0)=0,0,VLOOKUP(A2,'[22]22'!$A$5:$O$440,9,FALSE)), IF(IFERROR(VLOOKUP(A2,'[23]23'!$A$5:$O$440,9,FALSE),0)=0,0,VLOOKUP(A2,'[23]23'!$A$5:$O$440,9,FALSE)), IF(IFERROR(VLOOKUP(A2,'[24]24'!$A$5:$O$440,9,FALSE),0)=0,0,VLOOKUP(A2,'[24]24'!$A$5:$O$440,9,FALSE)), IF(IFERROR(VLOOKUP(A2,'[25]25'!$A$5:$O$440,9,FALSE),0)=0,0,VLOOKUP(A2,'[25]25'!$A$5:$O$440,9,FALSE)), IF(IFERROR(VLOOKUP(A2,'[26]26'!$A$5:$O$440,9,FALSE),0)=0,0,VLOOKUP(A2,'[26]26'!$A$5:$O$440,9,FALSE)), IF(IFERROR(VLOOKUP(A2,'[27]27'!$A$5:$O$440,9,FALSE),0)=0,0,VLOOKUP(A2,'[27]27'!$A$5:$O$440,9,FALSE)), IF(IFERROR(VLOOKUP(A2,'[28]28'!$A$5:$O$440,9,FALSE),0)=0,0,VLOOKUP(A2,'[28]28'!$A$5:$O$440,9,FALSE)), IF(IFERROR(VLOOKUP(A2,'[29]29'!$A$5:$O$440,9,FALSE),0)=0,0,VLOOKUP(A2,'[29]29'!$A$5:$O$440,9,FALSE)), IF(IFERROR(VLOOKUP(A2,'[30]30'!$A$5:$O$440,9,FALSE),0)=0,0,VLOOKUP(A2,'[30]30'!$A$5:$O$440,9,FALSE)), IF(IFERROR(VLOOKUP(A2,'[31]31'!$A$5:$O$440,9,FALSE),0)=0,0,VLOOKUP(A2,'[31]31'!$A$5:$O$440,9,FALSE)), IF(IFERROR(VLOOKUP(A2,'[32]32'!$A$5:$O$440,9,FALSE),0)=0,0,VLOOKUP(A2,'[32]32'!$A$5:$O$440,9,FALSE)), IF(IFERROR(VLOOKUP(A2,'[33]33'!$A$5:$O$440,9,FALSE),0)=0,0,VLOOKUP(A2,'[33]33'!$A$5:$O$440,9,FALSE)), IF(IFERROR(VLOOKUP(A2,'[34]34'!$A$5:$O$440,9,FALSE),0)=0,0,VLOOKUP(A2,'[34]34'!$A$5:$O$440,9,FALSE)), IF(IFERROR(VLOOKUP(A2,'[35]35'!$A$5:$O$440,9,FALSE),0)=0,0,VLOOKUP(A2,'[35]35'!$A$5:$O$440,9,FALSE)), IF(IFERROR(VLOOKUP(A2,'[36]36'!$A$5:$O$440,9,FALSE),0)=0,0,VLOOKUP(A2,'[36]36'!$A$5:$O$440,9,FALSE)), IF(IFERROR(VLOOKUP(A2,'[37]37'!$A$5:$O$440,9,FALSE),0)=0,0,VLOOKUP(A2,'[37]37'!$A$5:$O$440,9,FALSE)), IF(IFERROR(VLOOKUP(A2,'[38]38'!$A$5:$O$440,9,FALSE),0)=0,0,VLOOKUP(A2,'[38]38'!$A$5:$O$440,9,FALSE)) ) -> 1 | F2: =SUM(E2, IF(IFERROR(VLOOKUP(A2,'[1]1'!$A$5:$O$440,5,FALSE),0)=0,0,VLOOKUP(A2,'[1]1'!$A$5:$O$440,5,FALSE)), IF(IFERROR(VLOOKUP(A2,'[2]2'!$A$5:$O$440,5,FALSE),0)=0,0,VLOOKUP(A2,'[2]2'!$A$5:$O$440,5,FALSE)), IF(IFERROR(VLOOKUP(A2,'[3]3'!$A$5:$O$440,5,FALSE),0)=0,0,VLOOKUP(A2,'[3]3'!$A$5:$O$440,5,FALSE)), IF(IFERROR(VLOOKUP(A2,'[4]4'!$A$5:$O$440,5,FALSE),0)=0,0,VLOOKUP(A2,'[4]4'!$A$5:$O$440,5,FALSE)), IF(IFERROR(VLOOKUP(A2,'[5]5'!$A$5:$O$440,5,FALSE),0)=0,0,VLOOKUP(A2,'[5]5'!$A$5:$O$440,5,FALSE)), IF(IFERROR(VLOOKUP(A2,'[6]6'!$A$5:$O$440,5,FALSE),0)=0,0,VLOOKUP(A2,'[6]6'!$A$5:$O$440,5,FALSE)), IF(IFERROR(VLOOKUP(A2,'[7]7'!$A$5:$O$440,5,FALSE),0)=0,0,VLOOKUP(A2,'[7]7'!$A$5:$O$440,5,FALSE)), IF(IFERROR(VLOOKUP(A2,'[8]8'!$A$5:$O$440,5,FALSE),0)=0,0,VLOOKUP(A2,'[8]8'!$A$5:$O$440,5,FALSE)), IF(IFERROR(VLOOKUP(A2,'[9]9'!$A$5:$O$440,5,FALSE),0)=0,0,VLOOKUP(A2,'[9]9'!$A$5:$O$440,5,FALSE)), IF(IFERROR(VLOOKUP(A2,'[10]10'!$A$5:$O$440,5,FALSE),0)=0,0,VLOOKUP(A2,'[10]10'!$A$5:$O$440,5,FALSE)), IF(IFERROR(VLOOKUP(A2,'[11]11'!$A$5:$O$440,5,FALSE),0)=0,0,VLOOKUP(A2,'[11]11'!$A$5:$O$440,5,FALSE)), IF(IFERROR(VLOOKUP(A2,'[12]12'!$A$5:$O$440,5,FALSE),0)=0,0,VLOOKUP(A2,'[12]12'!$A$5:$O$440,5,FALSE)), IF(IFERROR(VLOOKUP(A2,'[13]13'!$A$5:$O$440,5,FALSE),0)=0,0,VLOOKUP(A2,'[13]13'!$A$5:$O$440,5,FALSE)), IF(IFERROR(VLOOKUP(A2,'[14]14'!$A$5:$O$440,5,FALSE),0)=0,0,VLOOKUP(A2,'[14]14'!$A$5:$O$440,5,FALSE)), IF(IFERROR(VLOOKUP(A2,'[15]15'!$A$5:$O$440,5,FALSE),0)=0,0,VLOOKUP(A2,'[15]15'!$A$5:$O$440,5,FALSE)), IF(IFERROR(VLOOKUP(A2,'[16]16'!$A$5:$O$440,5,FALSE),0)=0,0,VLOOKUP(A2,'[16]16'!$A$5:$O$440,5,FALSE)), IF(IFERROR(VLOOKUP(A2,'[17]17'!$A$5:$O$440,5,FALSE),0)=0,0,VLOOKUP(A2,'[17]17'!$A$5:$O$440,5,FALSE)), IF(IFERROR(VLOOKUP(A2,'[18]18'!$A$5:$O$440,5,FALSE),0)=0,0,VLOOKUP(A2,'[18]18'!$A$5:$O$440,5,FALSE)), IF(IFERROR(VLOOKUP(A2,'[19]19'!$A$5:$O$440,5,FALSE),0)=0,0,VLOOKUP(A2,'[19]19'!$A$5:$O$440,5,FALSE)), IF(IFERROR(VLOOKUP(A2,'[20]20'!$A$5:$O$440,5,FALSE),0)=0,0,VLOOKUP(A2,'[20]20'!$A$5:$O$440,5,FALSE)), IF(IFERROR(VLOOKUP(A2,'[21]21'!$A$5:$O$440,5,FALSE),0)=0,0,VLOOKUP(A2,'[21]21'!$A$5:$O$440,5,FALSE)), IF(IFERROR(VLOOKUP(A2,'[22]22'!$A$5:$O$440,5,FALSE),0)=0,0,VLOOKUP(A2,'[22]22'!$A$5:$O$440,5,FALSE)), IF(IFERROR(VLOOKUP(A2,'[23]23'!$A$5:$O$440,5,FALSE),0)=0,0,VLOOKUP(A2,'[23]23'!$A$5:$O$440,5,FALSE)), IF(IFERROR(VLOOKUP(A2,'[24]24'!$A$5:$O$440,5,FALSE),0)=0,0,VLOOKUP(A2,'[24]24'!$A$5:$O$440,5,FALSE)), IF(IFERROR(VLOOKUP(A2,'[25]25'!$A$5:$O$440,5,FALSE),0)=0,0,VLOOKUP(A2,'[25]25'!$A$5:$O$440,5,FALSE)), IF(IFERROR(VLOOKUP(A2,'[26]26'!$A$5:$O$440,5,FALSE),0)=0,0,VLOOKUP(A2,'[26]26'!$A$5:$O$440,5,FALSE)), IF(IFERROR(VLOOKUP(A2,'[27]27'!$A$5:$O$440,5,FALSE),0)=0,0,VLOOKUP(A2,'[27]27'!$A$5:$O$440,5,FALSE)), IF(IFERROR(VLOOKUP(A2,'[28]28'!$A$5:$O$440,5,FALSE),0)=0,0,VLOOKUP(A2,'[28]28'!$A$5:$O$440,5,FALSE)), IF(IFERROR(VLOOKUP(A2,'[29]29'!$A$5:$O$440,5,FALSE),0)=0,0,VLOOKUP(A2,'[29]29'!$A$5:$O$440,5,FALSE)), IF(IFERROR(VLOOKUP(A2,'[30]30'!$A$5:$O$440,5,FALSE),0)=0,0,VLOOKUP(A2,'[30]30'!$A$5:$O$440,5,FALSE)), IF(IFERROR(VLOOKUP(A2,'[31]31'!$A$5:$O$440,5,FALSE),0)=0,0,VLOOKUP(A2,'[31]31'!$A$5:$O$440,5,FALSE)), IF(IFERROR(VLOOKUP(A2,'[32]32'!$A$5:$O$440,5,FALSE),0)=0,0,VLOOKUP(A2,'[32]32'!$A$5:$O$440,5,FALSE)), IF(IFERROR(VLOOKUP(A2,'[33]33'!$A$5:$O$440,5,FALSE),0)=0,0,VLOOKUP(A2,'[33]33'!$A$5:$O$440,5,FALSE)), IF(IFERROR(VLOOKUP(A2,'[34]34'!$A$5:$O$440,5,FALSE),0)=0,0,VLOOKUP(A2,'[34]34'!$A$5:$O$440,5,FALSE)), IF(IFERROR(VLOOKUP(A2,'[35]35'!$A$5:$O$440,5,FALSE),0)=0,0,VLOOKUP(A2,'[35]35'!$A$5:$O$440,5,FALSE)), IF(IFERROR(VLOOKUP(A2,'[36]36'!$A$5:$O$440,5,FALSE),0)=0,0,VLOOKUP(A2,'[36]36'!$A$5:$O$440,5,FALSE)), IF(IFERROR(VLOOKUP(A2,'[37]37'!$A$5:$O$440,5,FALSE),0)=0,0,VLOOKUP(A2,'[37]37'!$A$5:$O$440,5,FALSE)), IF(IFERROR(VLOOKUP(A2,'[38]38'!$A$5:$O$440,5,FALSE),0)=0,0,VLOOKUP(A2,'[38]38'!$A$5:$O$440,5,FALSE)) ) -> 20 | G2: =COUNTIF(Foglio2!C3:AN3,"GOL") -> 14 | H2: =I2-G2 -> 24 | I2: =38-COUNTIF(Foglio2!C3:AN3,"ASSENTE") -> 38 | J2: =G2/I2 -> 0.36842105 | K2: =IF(D2<5,"PESSIMA",IF(D2<5.25,"CATTIVA",IF(D2<5.5,"MEDIOCRE",IF(D2<5.75,"ACCETTABILE",IF(D2<6,"BUONA","ECCELLENTE"))))) -> MEDIOCRE
A4: =Foglio2!A4 -> 3358 | B4: =Foglio2!B4 -> DI NATALE | C4: =AVERAGEIF(Foglio2!C4:AN4,">0") -> 6.435 | D4: =SUM(IF(Foglio2!C5="NO",Foglio2!C4,0),IF(Foglio2!D5="NO",Foglio2!D4,0),IF(Foglio2!E5="NO",Foglio2!E4,0),IF(Foglio2!F5="NO",Foglio2!F4,0),IF(Foglio2!G5="NO",Foglio2!G4,0),IF(Foglio2!H5="NO",Foglio2!H4,0),IF(Foglio2!I5="NO",Foglio2!I4,0),IF(Foglio2!J5="NO",Foglio2!J4,0),IF(Foglio2!K5="NO",Foglio2!K4,0),IF(Foglio2!L5="NO",Foglio2!L4,0),IF(Foglio2!M5="NO",Foglio2!M4,0),IF(Foglio2!N5="NO",Foglio2!N4,0),IF(Foglio2!O5="NO",Foglio2!O4,0),IF(Foglio2!P5="NO",Foglio2!P4,0),IF(Foglio2!Q5="NO",Foglio2!Q4,0),IF(Foglio2!R5="NO",Foglio2!R4,0),IF(Foglio2!S5="NO",Foglio2!S4,0),IF(Foglio2!T5="NO",Foglio2!T4,0),IF(Foglio2!U5="NO",Foglio2!U4,0),IF(Foglio2!V5="NO",Foglio2!V4,0),IF(Foglio2!W5="NO",Foglio2!W4,0),IF(Foglio2!X5="NO",Foglio2!X4,0),IF(Foglio2!Y5="NO",Foglio2!Y4,0),IF(Foglio2!Z5="NO",Foglio2!Z4,0),IF(Foglio2!AA5="NO",Foglio2!AA4,0),IF(Foglio2!AB5="NO",Foglio2!AB4,0),IF(Foglio2!AC5="NO",Foglio2!AC4,0),IF(Foglio2!AD5="NO",Foglio2!AD4,0),IF(Foglio2!AE5="NO",Foglio2!AE4,0),IF(Foglio2!AF5="NO",Foglio2!AF4,0),IF(Foglio2!AG5="NO",Foglio2!AG4,0),IF(Foglio2!AH5="NO",Foglio2!AH4,0),IF(Foglio2!AI5="NO",Foglio2!AI4,0),IF(Foglio2!AJ5="NO",Foglio2!AJ4,0),IF(Foglio2!AK5="NO",Foglio2!AK4,0),IF(Foglio2!AL5="NO",Foglio2!AL4,0),IF(Foglio2!AM5="NO",Foglio2!AM4,0),IF(Foglio2!AN5="NO",Foglio2!AN4,0))/COUNTIF(Foglio2!C5:AN5,"NO") -> 5.7416667 | E4: =SUM( IF(IFERROR(VLOOKUP(A4,'[1]1'!$A$5:$O$440,9,FALSE),0)=0,0,VLOOKUP(A4,'[1]1'!$A$5:$O$440,9,FALSE)), IF(IFERROR(VLOOKUP(A4,'[2]2'!$A$5:$O$440,9,FALSE),0)=0,0,VLOOKUP(A4,'[2]2'!$A$5:$O$440,9,FALSE)), IF(IFERROR(VLOOKUP(A4:'[3]3'!$A$5:$O$440,9,FALSE),0)=0,0,VLOOKUP(A4,'[3]3'!$A$5:$O$440,9,FALSE)), IF(IFERROR(VLOOKUP(A4,'[4]4'!$A$5:$O$440,9,FALSE),0)=0,0,VLOOKUP(A4,'[4]4'!$A$5:$O$440,9,FALSE)), IF(IFERROR(VLOOKUP(A4,'[5]5'!$A$5:$O$440,9,FALSE),0)=0,0,VLOOKUP(A4,'[5]5'!$A$5:$O$440,9,FALSE)), IF(IFERROR(VLOOKUP(A4,'[6]6'!$A$5:$O$440,9,FALSE),0)=0,0,VLOOKUP(A4,'[6]6'!$A$5:$O$440,9,FALSE)), IF(IFERROR(VLOOKUP(A4,'[7]7'!$A$5:$O$440,9,FALSE),0)=0,0,VLOOKUP(A4,'[7]7'!$A$5:$O$440,9,FALSE)), IF(IFERROR(VLOOKUP(A4,'[8]8'!$A$5:$O$440,9,FALSE),0)=0,0,VLOOKUP(A4,'[8]8'!$A$5:$O$440,9,FALSE)), IF(IFERROR(VLOOKUP(A4,'[9]9'!$A$5:$O$440,9,FALSE),0)=0,0,VLOOKUP(A4,'[9]9'!$A$5:$O$440,9,FALSE)), IF(IFERROR(VLOOKUP(A4,'[10]10'!$A$5:$O$440,9,FALSE),0)=0,0,VLOOKUP(A4,'[10]10'!$A$5:$O$440,9,FALSE)), IF(IFERROR(VLOOKUP(A4,'[11]11'!$A$5:$O$440,9,FALSE),0)=0,0,VLOOKUP(A4,'[11]11'!$A$5:$O$440,9,FALSE)), IF(IFERROR(VLOOKUP(A4,'[12]12'!$A$5:$O$440,9,FALSE),0)=0,0,VLOOKUP(A4,'[12]12'!$A$5:$O$440,9,FALSE)), IF(IFERROR(VLOOKUP(A4,'[13]13'!$A$5:$O$440,9,FALSE),0)=0,0,VLOOKUP(A4,'[13]13'!$A$5:$O$440,9,FALSE)), IF(IFERROR(VLOOKUP(A4,'[14]14'!$A$5:$O$440,9,FALSE),0)=0,0,VLOOKUP(A4,'[14]14'!$A$5:$O$440,9,FALSE)), IF(IFERROR(VLOOKUP(A4,'[15]15'!$A$5:$O$440,9,FALSE),0)=0,0,VLOOKUP(A4,'[15]15'!$A$5:$O$440,9,FALSE)), IF(IFERROR(VLOOKUP(A4,'[16]16'!$A$5:$O$440,9,FALSE),0)=0,0,VLOOKUP(A4,'[16]16'!$A$5:$O$440,9,FALSE)), IF(IFERROR(VLOOKUP(A4,'[17]17'!$A$5:$O$440,9,FALSE),0)=0,0,VLOOKUP(A4,'[17]17'!$A$5:$O$440,9,FALSE)), IF(IFERROR(VLOOKUP(A4,'[18]18'!$A$5:$O$440,9,FALSE),0)=0,0,VLOOKUP(A4,'[18]18'!$A$5:$O$440,9,FALSE)), IF(IFERROR(VLOOKUP(A4,'[19]19'!$A$5:$O$440,9,FALSE),0)=0,0,VLOOKUP(A4,'[19]19'!$A$5:$O$440,9,FALSE)), IF(IFERROR(VLOOKUP(A4,'[20]20'!$A$5:$O$440,9,FALSE),0)=0,0,VLOOKUP(A4,'[20]20'!$A$5:$O$440,9,FALSE)), IF(IFERROR(VLOOKUP(A4,'[21]21'!$A$5:$O$440,9,FALSE),0)=0,0,VLOOKUP(A4,'[21]21'!$A$5:$O$440,9,FALSE)), IF(IFERROR(VLOOKUP(A4,'[22]22'!$A$5:$O$440,9,FALSE),0)=0,0,VLOOKUP(A4,'[22]22'!$A$5:$O$440,9,FALSE)), IF(IFERROR(VLOOKUP(A4,'[23]23'!$A$5:$O$440,9,FALSE),0)=0,0,VLOOKUP(A4,'[23]23'!$A$5:$O$440,9,FALSE)), IF(IFERROR(VLOOKUP(A4,'[24]24'!$A$5:$O$440,9,FALSE),0)=0,0,VLOOKUP(A4,'[24]24'!$A$5:$O$440,9,FALSE)), IF(IFERROR(VLOOKUP(A4,'[25]25'!$A$5:$O$440,9,FALSE),0)=0,0,VLOOKUP(A4,'[25]25'!$A$5:$O$440,9,FALSE)), IF(IFERROR(VLOOKUP(A4,'[26]26'!$A$5:$O$440,9,FALSE),0)=0,0,VLOOKUP(A4,'[26]26'!$A$5:$O$440,9,FALSE)), IF(IFERROR(VLOOKUP(A4,'[27]27'!$A$5:$O$440,9,FALSE),0)=0,0,VLOOKUP(A4,'[27]27'!$A$5:$O$440,9,FALSE)), IF(IFERROR(VLOOKUP(A4,'[28]28'!$A$5:$O$440,9,FALSE),0)=0,0,VLOOKUP(A4,'[28]28'!$A$5:$O$440,9,FALSE)), IF(IFERROR(VLOOKUP(A4,'[29]29'!$A$5:$O$440,9,FALSE),0)=0,0,VLOOKUP(A4,'[29]29'!$A$5:$O$440,9,FALSE)), IF(IFERROR(VLOOKUP(A4,'[30]30'!$A$5:$O$440,9,FALSE),0)=0,0,VLOOKUP(A4,'[30]30'!$A$5:$O$440,9,FALSE)), IF(IFERROR(VLOOKUP(A4,'[31]31'!$A$5:$O$440,9,FALSE),0)=0,0,VLOOKUP(A4,'[31]31'!$A$5:$O$440,9,FALSE)), IF(IFERROR(VLOOKUP(A4,'[32]32'!$A$5:$O$440,9,FALSE),0)=0,0,VLOOKUP(A4,'[32]32'!$A$5:$O$440,9,FALSE)), IF(IFERROR(VLOOKUP(A4,'[33]33'!$A$5:$O$440,9,FALSE),0)=0,0,VLOOKUP(A4,'[33]33'!$A$5:$O$440,9,FALSE)), IF(IFERROR(VLOOKUP(A4,'[34]34'!$A$5:$O$440,9,FALSE),0)=0,0,VLOOKUP(A4,'[34]34'!$A$5:$O$440,9,FALSE)), IF(IFERROR(VLOOKUP(A4,'[35]35'!$A$5:$O$440,9,FALSE),0)=0,0,VLOOKUP(A4,'[35]35'!$A$5:$O$440,9,FALSE)), IF(IFERROR(VLOOKUP(A4,'[36]36'!$A$5:$O$440,9,FALSE),0)=0,0,VLOOKUP(A4,'[36]36'!$A$5:$O$440,9,FALSE)), IF(IFERROR(VLOOKUP(A4,'[37]37'!$A$5:$O$440,9,FALSE),0)=0,0,VLOOKUP(A4,'[37]37'!$A$5:$O$440,9,FALSE)), IF(IFERROR(VLOOKUP(A4,'[38]38'!$A$5:$O$440,9,FALSE),0)=0,0,VLOOKUP(A4,'[38]38'!$A$5:$O$440,9,FALSE)) ) -> 5 | F4: =SUM(E4, IF(IFERROR(VLOOKUP(A4,'[1]1'!$A$5:$O$440,5,FALSE),0)=0,0,VLOOKUP(A4,'[1]1'!$A$5:$O$440,5,FALSE)), IF(IFERROR(VLOOKUP(A4,'[2]2'!$A$5:$O$440,5,FALSE),0)=0,0,VLOOKUP(A4,'[2]2'!$A$5:$O$440,5,FALSE)), IF(IFERROR(VLOOKUP(A4,'[3]3'!$A$5:$O$440,5,FALSE),0)=0,0,VLOOKUP(A4,'[3]3'!$A$5:$O$440,5,FALSE)), IF(IFERROR(VLOOKUP(A4,'[4]4'!$A$5:$O$440,5,FALSE),0)=0,0,VLOOKUP(A4,'[4]4'!$A$5:$O$440,5,FALSE)), IF(IFERROR(VLOOKUP(A4,'[5]5'!$A$5:$O$440,5,FALSE),0)=0,0,VLOOKUP(A4,'[5]5'!$A$5:$O$440,5,FALSE)), IF(IFERROR(VLOOKUP(A4,'[6]6'!$A$5:$O$440,5,FALSE),0)=0,0,VLOOKUP(A4,'[6]6'!$A$5:$O$440,5,FALSE)), IF(IFERROR(VLOOKUP(A4,'[7]7'!$A$5:$O$440,5,FALSE),0)=0,0,VLOOKUP(A4,'[7]7'!$A$5:$O$440,5,FALSE)), IF(IFERROR(VLOOKUP(A4,'[8]8'!$A$5:$O$440,5,FALSE),0)=0,0,VLOOKUP(A4,'[8]8'!$A$5:$O$440,5,FALSE)), IF(IFERROR(VLOOKUP(A4,'[9]9'!$A$5:$O$440,5,FALSE),0)=0,0,VLOOKUP(A4,'[9]9'!$A$5:$O$440,5,FALSE)), IF(IFERROR(VLOOKUP(A4,'[10]10'!$A$5:$O$440,5,FALSE),0)=0,0,VLOOKUP(A4,'[10]10'!$A$5:$O$440,5,FALSE)), IF(IFERROR(VLOOKUP(A4,'[11]11'!$A$5:$O$440,5,FALSE),0)=0,0,VLOOKUP(A4,'[11]11'!$A$5:$O$440,5,FALSE)), IF(IFERROR(VLOOKUP(A4,'[12]12'!$A$5:$O$440,5,FALSE),0)=0,0,VLOOKUP(A4,'[12]12'!$A$5:$O$440,5,FALSE)), IF(IFERROR(VLOOKUP(A4,'[13]13'!$A$5:$O$440,5,FALSE),0)=0,0,VLOOKUP(A4,'[13]13'!$A$5:$O$440,5,FALSE)), IF(IFERROR(VLOOKUP(A4,'[14]14'!$A$5:$O$440,5,FALSE),0)=0,0,VLOOKUP(A4,'[14]14'!$A$5:$O$440,5,FALSE)), IF(IFERROR(VLOOKUP(A4,'[15]15'!$A$5:$O$440,5,FALSE),0)=0,0,VLOOKUP(A4,'[15]15'!$A$5:$O$440,5,FALSE)), IF(IFERROR(VLOOKUP(A4,'[16]16'!$A$5:$O$440,5,FALSE),0)=0,0,VLOOKUP(A4,'[16]16'!$A$5:$O$440,5,FALSE)), IF(IFERROR(VLOOKUP(A4,'[17]17'!$A$5:$O$440,5,FALSE),0)=0,0,VLOOKUP(A4,'[17]17'!$A$5:$O$440,5,FALSE)), IF(IFERROR(VLOOKUP(A4,'[18]18'!$A$5:$O$440,5,FALSE),0)=0,0,VLOOKUP(A4,'[18]18'!$A$5:$O$440,5,FALSE)), IF(IFERROR(VLOOKUP(A4,'[19]19'!$A$5:$O$440,5,FALSE),0)=0,0,VLOOKUP(A4,'[19]19'!$A$5:$O$440,5,FALSE)), IF(IFERROR(VLOOKUP(A4,'[20]20'!$A$5:$O$440,5,FALSE),0)=0,0,VLOOKUP(A4,'[20]20'!$A$5:$O$440,5,FALSE)), IF(IFERROR(VLOOKUP(A4,'[21]21'!$A$5:$O$440,5,FALSE),0)=0,0,VLOOKUP(A4,'[21]21'!$A$5:$O$440,5,FALSE)), IF(IFERROR(VLOOKUP(A4,'[22]22'!$A$5:$O$440,5,FALSE),0)=0,0,VLOOKUP(A4,'[22]22'!$A$5:$O$440,5,FALSE)), IF(IFERROR(VLOOKUP(A4,'[23]23'!$A$5:$O$440,5,FALSE),0)=0,0,VLOOKUP(A4,'[23]23'!$A$5:$O$440,5,FALSE)), IF(IFERROR(VLOOKUP(A4,'[24]24'!$A$5:$O$440,5,FALSE),0)=0,0,VLOOKUP(A4,'[24]24'!$A$5:$O$440,5,FALSE)), IF(IFERROR(VLOOKUP(A4,'[25]25'!$A$5:$O$440,5,FALSE),0)=0,0,VLOOKUP(A4,'[25]25'!$A$5:$O$440,5,FALSE)), IF(IFERROR(VLOOKUP(A4,'[26]26'!$A$5:$O$440,5,FALSE),0)=0,0,VLOOKUP(A4,'[26]26'!$A$5:$O$440,5,FALSE)), IF(IFERROR(VLOOKUP(A4,'[27]27'!$A$5:$O$440,5,FALSE),0)=0,0,VLOOKUP(A4,'[27]27'!$A$5:$O$440,5,FALSE)), IF(IFERROR(VLOOKUP(A4,'[28]28'!$A$5:$O$440,5,FALSE),0)=0,0,VLOOKUP(A4,'[28]28'!$A$5:$O$440,5,FALSE)), IF(IFERROR(VLOOKUP(A4,'[29]29'!$A$5:$O$440,5,FALSE),0)=0,0,VLOOKUP(A4,'[29]29'!$A$5:$O$440,5,FALSE)), IF(IFERROR(VLOOKUP(A4,'[30]30'!$A$5:$O$440,5,FALSE),0)=0,0,VLOOKUP(A4,'[30]30'!$A$5:$O$440,5,FALSE)), IF(IFERROR(VLOOKUP(A4,'[31]31'!$A$5:$O$440,5,FALSE),0)=0,0,VLOOKUP(A4,'[31]31'!$A$5:$O$440,5,FALSE)), IF(IFERROR(VLOOKUP(A4,'[32]32'!$A$5:$O$440,5,FALSE),0)=0,0,VLOOKUP(A4,'[32]32'!$A$5:$O$440,5,FALSE)), IF(IFERROR(VLOOKUP(A4,'[33]33'!$A$5:$O$440,5,FALSE),0)=0,0,VLOOKUP(A4,'[33]33'!$A$5:$O$440,5,FALSE)), IF(IFERROR(VLOOKUP(A4,'[34]34'!$A$5:$O$440,5,FALSE),0)=0,0,VLOOKUP(A4,'[34]34'!$A$5:$O$440,5,FALSE)), IF(IFERROR(VLOOKUP(A4,'[35]35'!$A$5:$O$440,5,FALSE),0)=0,0,VLOOKUP(A4,'[35]35'!$A$5:$O$440,5,FALSE)), IF(IFERROR(VLOOKUP(A4,'[36]36'!$A$5:$O$440,5,FALSE),0)=0,0,VLOOKUP(A4,'[36]36'!$A$5:$O$440,5,FALSE)), IF(IFERROR(VLOOKUP(A4,'[37]37'!$A$5:$O$440,5,FALSE),0)=0,0,VLOOKUP(A4,'[37]37'!$A$5:$O$440,5,FALSE)), IF(IFERROR(VLOOKUP(A4,'[38]38'!$A$5:$O$440,5,FALSE),0)=0,0,VLOOKUP(A4,'[38]38'!$A$5:$O$440,5,FALSE)) ) -> 28 | G4: =COUNTIF(Foglio2!C5:AN5,"GOL") -> 18 | H4: =I4-G4 -> 18 | I4: =38-COUNTIF(Foglio2!C5:AN5,"ASSENTE") -> 36 | J4: =G4/I4 -> 0.5 | K4: =IF(D4<5,"PESSIMA",IF(D4<5.25,"CATTIVA",IF(D4<5.5,"MEDIOCRE",IF(D4<5.75,"ACCETTABILE",IF(D4<6,"BUONA","ECCELLENTE"))))) -> ACCETTABILE
A6: =Foglio2!A6 -> 3361 | B6: =Foglio2!B6 -> ETO'O | C6: =AVERAGEIF(Foglio2!C6:AN6,">0") -> 6.5068571 | D6: =SUM(IF(Foglio2!C7="NO",Foglio2!C6,0),IF(Foglio2!D7="NO",Foglio2!D6,0),IF(Foglio2!E7="NO",Foglio2!E6,0),IF(Foglio2!F7="NO",Foglio2!F6,0),IF(Foglio2!G7="NO",Foglio2!G6,0),IF(Foglio2!H7="NO",Foglio2!H6,0),IF(Foglio2!I7="NO",Foglio2!I6,0),IF(Foglio2!J7="NO",Foglio2!J6,0),IF(Foglio2!K7="NO",Foglio2!K6,0),IF(Foglio2!L7="NO",Foglio2!L6,0),IF(Foglio2!M7="NO",Foglio2!M6,0),IF(Foglio2!N7="NO",Foglio2!N6,0),IF(Foglio2!O7="NO",Foglio2!O6,0),IF(Foglio2!P7="NO",Foglio2!P6,0),IF(Foglio2!Q7="NO",Foglio2!Q6,0),IF(Foglio2!R7="NO",Foglio2!R6,0),IF(Foglio2!S7="NO",Foglio2!S6,0),IF(Foglio2!T7="NO",Foglio2!T6,0),IF(Foglio2!U7="NO",Foglio2!U6,0),IF(Foglio2!V7="NO",Foglio2!V6,0),IF(Foglio2!W7="NO",Foglio2!W6,0),IF(Foglio2!X7="NO",Foglio2!X6,0),IF(Foglio2!Y7="NO",Foglio2!Y6,0),IF(Foglio2!Z7="NO",Foglio2!Z6,0),IF(Foglio2!AA7="NO",Foglio2!AA6,0),IF(Foglio2!AB7="NO",Foglio2!AB6,0),IF(Foglio2!AC7="NO",Foglio2!AC6,0),IF(Foglio2!AD7="NO",Foglio2!AD6,0),IF(Foglio2!AE7="NO",Foglio2!AE6,0),IF(Foglio2!AF7="NO",Foglio2!AF6,0),IF(Foglio2!AG7="NO",Foglio2!AG6,0),IF(Foglio2!AH7="NO",Foglio2!AH6,0),IF(Foglio2!AI7="NO",Foglio2!AI6,0),IF(Foglio2!AJ7="NO",Foglio2!AJ6,0),IF(Foglio2!AK7="NO",Foglio2!AK6,0),IF(Foglio2!AL7="NO",Foglio2!AL6,0),IF(Foglio2!AM7="NO",Foglio2!AM6,0),IF(Foglio2!AN7="NO",Foglio2!AN6,0))/COUNTIF(Foglio2!C7:AN7,"NO") -> 5.9652632 | E6: =SUM( IF(IFERROR(VLOOKUP(A6,'[1]1'!$A$5:$O$440,9,FALSE),0)=0,0,VLOOKUP(A6,'[1]1'!$A$5:$O$440,9,FALSE)), IF(IFERROR(VLOOKUP(A6,'[2]2'!$A$5:$O$440,9,FALSE),0)=0,0,VLOOKUP(A6,'[2]2'!$A$5:$O$440,9,FALSE)), IF(IFERROR(VLOOKUP(A6:'[3]3'!$A$5:$O$440,9,FALSE),0)=0,0,VLOOKUP(A6,'[3]3'!$A$5:$O$440,9,FALSE)), IF(IFERROR(VLOOKUP(A6,'[4]4'!$A$5:$O$440,9,FALSE),0)=0,0,VLOOKUP(A6,'[4]4'!$A$5:$O$440,9,FALSE)), IF(IFERROR(VLOOKUP(A6,'[5]5'!$A$5:$O$440,9,FALSE),0)=0,0,VLOOKUP(A6,'[5]5'!$A$5:$O$440,9,FALSE)), IF(IFERROR(VLOOKUP(A6,'[6]6'!$A$5:$O$440,9,FALSE),0)=0,0,VLOOKUP(A6,'[6]6'!$A$5:$O$440,9,FALSE)), IF(IFERROR(VLOOKUP(A6,'[7]7'!$A$5:$O$440,9,FALSE),0)=0,0,VLOOKUP(A6,'[7]7'!$A$5:$O$440,9,FALSE)), IF(IFERROR(VLOOKUP(A6,'[8]8'!$A$5:$O$440,9,FALSE),0)=0,0,VLOOKUP(A6,'[8]8'!$A$5:$O$440,9,FALSE)), IF(IFERROR(VLOOKUP(A6,'[9]9'!$A$5:$O$440,9,FALSE),0)=0,0,VLOOKUP(A6,'[9]9'!$A$5:$O$440,9,FALSE)), IF(IFERROR(VLOOKUP(A6,'[10]10'!$A$5:$O$440,9,FALSE),0)=0,0,VLOOKUP(A6,'[10]10'!$A$5:$O$440,9,FALSE)), IF(IFERROR(VLOOKUP(A6,'[11]11'!$A$5:$O$440,9,FALSE),0)=0,0,VLOOKUP(A6,'[11]11'!$A$5:$O$440,9,FALSE)), IF(IFERROR(VLOOKUP(A6,'[12]12'!$A$5:$O$440,9,FALSE),0)=0,0,VLOOKUP(A6,'[12]12'!$A$5:$O$440,9,FALSE)), IF(IFERROR(VLOOKUP(A6,'[13]13'!$A$5:$O$440,9,FALSE),0)=0,0,VLOOKUP(A6,'[13]13'!$A$5:$O$440,9,FALSE)), IF(IFERROR(VLOOKUP(A6,'[14]14'!$A$5:$O$440,9,FALSE),0)=0,0,VLOOKUP(A6,'[14]14'!$A$5:$O$440,9,FALSE)), IF(IFERROR(VLOOKUP(A6,'[15]15'!$A$5:$O$440,9,FALSE),0)=0,0,VLOOKUP(A6,'[15]15'!$A$5:$O$440,9,FALSE)), IF(IFERROR(VLOOKUP(A6,'[16]16'!$A$5:$O$440,9,FALSE),0)=0,0,VLOOKUP(A6,'[16]16'!$A$5:$O$440,9,FALSE)), IF(IFERROR(VLOOKUP(A6,'[17]17'!$A$5:$O$440,9,FALSE),0)=0,0,VLOOKUP(A6,'[17]17'!$A$5:$O$440,9,FALSE)), IF(IFERROR(VLOOKUP(A6,'[18]18'!$A$5:$O$440,9,FALSE),0)=0,0,VLOOKUP(A6,'[18]18'!$A$5:$O$440,9,FALSE)), IF(IFERROR(VLOOKUP(A6,'[19]19'!$A$5:$O$440,9,FALSE),0)=0,0,VLOOKUP(A6,'[19]19'!$A$5:$O$440,9,FALSE)), IF(IFERROR(VLOOKUP(A6,'[20]20'!$A$5:$O$440,9,FALSE),0)=0,0,VLOOKUP(A6,'[20]20'!$A$5:$O$440,9,FALSE)), IF(IFERROR(VLOOKUP(A6,'[21]21'!$A$5:$O$440,9,FALSE),0)=0,0,VLOOKUP(A6,'[21]21'!$A$5:$O$440,9,FALSE)), IF(IFERROR(VLOOKUP(A6,'[22]22'!$A$5:$O$440,9,FALSE),0)=0,0,VLOOKUP(A6,'[22]22'!$A$5:$O$440,9,FALSE)), IF(IFERROR(VLOOKUP(A6,'[23]23'!$A$5:$O$440,9,FALSE),0)=0,0,VLOOKUP(A6,'[23]23'!$A$5:$O$440,9,FALSE)), IF(IFERROR(VLOOKUP(A6,'[24]24'!$A$5:$O$440,9,FALSE),0)=0,0,VLOOKUP(A6,'[24]24'!$A$5:$O$440,9,FALSE)), IF(IFERROR(VLOOKUP(A6,'[25]25'!$A$5:$O$440,9,FALSE),0)=0,0,VLOOKUP(A6,'[25]25'!$A$5:$O$440,9,FALSE)), IF(IFERROR(VLOOKUP(A6,'[26]26'!$A$5:$O$440,9,FALSE),0)=0,0,VLOOKUP(A6,'[26]26'!$A$5:$O$440,9,FALSE)), IF(IFERROR(VLOOKUP(A6,'[27]27'!$A$5:$O$440,9,FALSE),0)=0,0,VLOOKUP(A6,'[27]27'!$A$5:$O$440,9,FALSE)), IF(IFERROR(VLOOKUP(A6,'[28]28'!$A$5:$O$440,9,FALSE),0)=0,0,VLOOKUP(A6,'[28]28'!$A$5:$O$440,9,FALSE)), IF(IFERROR(VLOOKUP(A6,'[29]29'!$A$5:$O$440,9,FALSE),0)=0,0,VLOOKUP(A6,'[29]29'!$A$5:$O$440,9,FALSE)), IF(IFERROR(VLOOKUP(A6,'[30]30'!$A$5:$O$440,9,FALSE),0)=0,0,VLOOKUP(A6,'[30]30'!$A$5:$O$440,9,FALSE)), IF(IFERROR(VLOOKUP(A6,'[31]31'!$A$5:$O$440,9,FALSE),0)=0,0,VLOOKUP(A6,'[31]31'!$A$5:$O$440,9,FALSE)), IF(IFERROR(VLOOKUP(A6,'[32]32'!$A$5:$O$440,9,FALSE),0)=0,0,VLOOKUP(A6,'[32]32'!$A$5:$O$440,9,FALSE)), IF(IFERROR(VLOOKUP(A6,'[33]33'!$A$5:$O$440,9,FALSE),0)=0,0,VLOOKUP(A6,'[33]33'!$A$5:$O$440,9,FALSE)), IF(IFERROR(VLOOKUP(A6,'[34]34'!$A$5:$O$440,9,FALSE),0)=0,0,VLOOKUP(A6,'[34]34'!$A$5:$O$440,9,FALSE)), IF(IFERROR(VLOOKUP(A6,'[35]35'!$A$5:$O$440,9,FALSE),0)=0,0,VLOOKUP(A6,'[35]35'!$A$5:$O$440,9,FALSE)), IF(IFERROR(VLOOKUP(A6,'[36]36'!$A$5:$O$440,9,FALSE),0)=0,0,VLOOKUP(A6,'[36]36'!$A$5:$O$440,9,FALSE)), IF(IFERROR(VLOOKUP(A6,'[37]37'!$A$5:$O$440,9,FALSE),0)=0,0,VLOOKUP(A6,'[37]37'!$A$5:$O$440,9,FALSE)), IF(IFERROR(VLOOKUP(A6,'[38]38'!$A$5:$O$440,9,FALSE),0)=0,0,VLOOKUP(A6,'[38]38'!$A$5:$O$440,9,FALSE)) ) -> 5 | F6: =SUM(E6, IF(IFERROR(VLOOKUP(A6,'[1]1'!$A$5:$O$440,5,FALSE),0)=0,0,VLOOKUP(A6,'[1]1'!$A$5:$O$440,5,FALSE)), IF(IFERROR(VLOOKUP(A6,'[2]2'!$A$5:$O$440,5,FALSE),0)=0,0,VLOOKUP(A6,'[2]2'!$A$5:$O$440,5,FALSE)), IF(IFERROR(VLOOKUP(A6,'[3]3'!$A$5:$O$440,5,FALSE),0)=0,0,VLOOKUP(A6,'[3]3'!$A$5:$O$440,5,FALSE)), IF(IFERROR(VLOOKUP(A6,'[4]4'!$A$5:$O$440,5,FALSE),0)=0,0,VLOOKUP(A6,'[4]4'!$A$5:$O$440,5,FALSE)), IF(IFERROR(VLOOKUP(A6,'[5]5'!$A$5:$O$440,5,FALSE),0)=0,0,VLOOKUP(A6,'[5]5'!$A$5:$O$440,5,FALSE)), IF(IFERROR(VLOOKUP(A6,'[6]6'!$A$5:$O$440,5,FALSE),0)=0,0,VLOOKUP(A6,'[6]6'!$A$5:$O$440,5,FALSE)), IF(IFERROR(VLOOKUP(A6,'[7]7'!$A$5:$O$440,5,FALSE),0)=0,0,VLOOKUP(A6,'[7]7'!$A$5:$O$440,5,FALSE)), IF(IFERROR(VLOOKUP(A6,'[8]8'!$A$5:$O$440,5,FALSE),0)=0,0,VLOOKUP(A6,'[8]8'!$A$5:$O$440,5,FALSE)), IF(IFERROR(VLOOKUP(A6,'[9]9'!$A$5:$O$440,5,FALSE),0)=0,0,VLOOKUP(A6,'[9]9'!$A$5:$O$440,5,FALSE)), IF(IFERROR(VLOOKUP(A6,'[10]10'!$A$5:$O$440,5,FALSE),0)=0,0,VLOOKUP(A6,'[10]10'!$A$5:$O$440,5,FALSE)), IF(IFERROR(VLOOKUP(A6,'[11]11'!$A$5:$O$440,5,FALSE),0)=0,0,VLOOKUP(A6,'[11]11'!$A$5:$O$440,5,FALSE)), IF(IFERROR(VLOOKUP(A6,'[12]12'!$A$5:$O$440,5,FALSE),0)=0,0,VLOOKUP(A6,'[12]12'!$A$5:$O$440,5,FALSE)), IF(IFERROR(VLOOKUP(A6,'[13]13'!$A$5:$O$440,5,FALSE),0)=0,0,VLOOKUP(A6,'[13]13'!$A$5:$O$440,5,FALSE)), IF(IFERROR(VLOOKUP(A6,'[14]14'!$A$5:$O$440,5,FALSE),0)=0,0,VLOOKUP(A6,'[14]14'!$A$5:$O$440,5,FALSE)), IF(IFERROR(VLOOKUP(A6,'[15]15'!$A$5:$O$440,5,FALSE),0)=0,0,VLOOKUP(A6,'[15]15'!$A$5:$O$440,5,FALSE)), IF(IFERROR(VLOOKUP(A6,'[16]16'!$A$5:$O$440,5,FALSE),0)=0,0,VLOOKUP(A6,'[16]16'!$A$5:$O$440,5,FALSE)), IF(IFERROR(VLOOKUP(A6,'[17]17'!$A$5:$O$440,5,FALSE),0)=0,0,VLOOKUP(A6,'[17]17'!$A$5:$O$440,5,FALSE)), IF(IFERROR(VLOOKUP(A6,'[18]18'!$A$5:$O$440,5,FALSE),0)=0,0,VLOOKUP(A6,'[18]18'!$A$5:$O$440,5,FALSE)), IF(IFERROR(VLOOKUP(A6,'[19]19'!$A$5:$O$440,5,FALSE),0)=0,0,VLOOKUP(A6,'[19]19'!$A$5:$O$440,5,FALSE)), IF(IFERROR(VLOOKUP(A6,'[20]20'!$A$5:$O$440,5,FALSE),0)=0,0,VLOOKUP(A6,'[20]20'!$A$5:$O$440,5,FALSE)), IF(IFERROR(VLOOKUP(A6,'[21]21'!$A$5:$O$440,5,FALSE),0)=0,0,VLOOKUP(A6,'[21]21'!$A$5:$O$440,5,FALSE)), IF(IFERROR(VLOOKUP(A6,'[22]22'!$A$5:$O$440,5,FALSE),0)=0,0,VLOOKUP(A6,'[22]22'!$A$5:$O$440,5,FALSE)), IF(IFERROR(VLOOKUP(A6,'[23]23'!$A$5:$O$440,5,FALSE),0)=0,0,VLOOKUP(A6,'[23]23'!$A$5:$O$440,5,FALSE)), IF(IFERROR(VLOOKUP(A6,'[24]24'!$A$5:$O$440,5,FALSE),0)=0,0,VLOOKUP(A6,'[24]24'!$A$5:$O$440,5,FALSE)), IF(IFERROR(VLOOKUP(A6,'[25]25'!$A$5:$O$440,5,FALSE),0)=0,0,VLOOKUP(A6,'[25]25'!$A$5:$O$440,5,FALSE)), IF(IFERROR(VLOOKUP(A6,'[26]26'!$A$5:$O$440,5,FALSE),0)=0,0,VLOOKUP(A6,'[26]26'!$A$5:$O$440,5,FALSE)), IF(IFERROR(VLOOKUP(A6,'[27]27'!$A$5:$O$440,5,FALSE),0)=0,0,VLOOKUP(A6,'[27]27'!$A$5:$O$440,5,FALSE)), IF(IFERROR(VLOOKUP(A6,'[28]28'!$A$5:$O$440,5,FALSE),0)=0,0,VLOOKUP(A6,'[28]28'!$A$5:$O$440,5,FALSE)), IF(IFERROR(VLOOKUP(A6,'[29]29'!$A$5:$O$440,5,FALSE),0)=0,0,VLOOKUP(A6,'[29]29'!$A$5:$O$440,5,FALSE)), IF(IFERROR(VLOOKUP(A6,'[30]30'!$A$5:$O$440,5,FALSE),0)=0,0,VLOOKUP(A6,'[30]30'!$A$5:$O$440,5,FALSE)), IF(IFERROR(VLOOKUP(A6,'[31]31'!$A$5:$O$440,5,FALSE),0)=0,0,VLOOKUP(A6,'[31]31'!$A$5:$O$440,5,FALSE)), IF(IFERROR(VLOOKUP(A6,'[32]32'!$A$5:$O$440,5,FALSE),0)=0,0,VLOOKUP(A6,'[32]32'!$A$5:$O$440,5,FALSE)), IF(IFERROR(VLOOKUP(A6,'[33]33'!$A$5:$O$440,5,FALSE),0)=0,0,VLOOKUP(A6,'[33]33'!$A$5:$O$440,5,FALSE)), IF(IFERROR(VLOOKUP(A6,'[34]34'!$A$5:$O$440,5,FALSE),0)=0,0,VLOOKUP(A6,'[34]34'!$A$5:$O$440,5,FALSE)), IF(IFERROR(VLOOKUP(A6,'[35]35'!$A$5:$O$440,5,FALSE),0)=0,0,VLOOKUP(A6,'[35]35'!$A$5:$O$440,5,FALSE)), IF(IFERROR(VLOOKUP(A6,'[36]36'!$A$5:$O$440,5,FALSE),0)=0,0,VLOOKUP(A6,'[36]36'!$A$5:$O$440,5,FALSE)), IF(IFERROR(VLOOKUP(A6,'[37]37'!$A$5:$O$440,5,FALSE),0)=0,0,VLOOKUP(A6,'[37]37'!$A$5:$O$440,5,FALSE)), IF(IFERROR(VLOOKUP(A6,'[38]38'!$A$5:$O$440,5,FALSE),0)=0,0,VLOOKUP(A6,'[38]38'!$A$5:$O$440,5,FALSE)) ) -> 21 | G6: =COUNTIF(Foglio2!C7:AN7,"GOL") -> 16 | H6: =I6-G6 -> 19 | I6: =38-COUNTIF(Foglio2!C7:AN7,"ASSENTE") -> 35 | J6: =G6/I6 -> 0.45714286 | K6: =IF(D6<5,"PESSIMA",IF(D6<5.25,"CATTIVA",IF(D6<5.5,"MEDIOCRE",IF(D6<5.75,"ACCETTABILE",IF(D6<6,"BUONA","ECCELLENTE"))))) -> BUONA
A8: =Foglio2!A8 -> 3349 | B8: =Foglio2!B8 -> CAVANI | C8: =AVERAGEIF(Foglio2!C8:AN8,">0") -> 6.4905714 | D8: =SUM(IF(Foglio2!C9="NO",Foglio2!C8,0),IF(Foglio2!D9="NO",Foglio2!D8,0),IF(Foglio2!E9="NO",Foglio2!E8,0),IF(Foglio2!F9="NO",Foglio2!F8,0),IF(Foglio2!G9="NO",Foglio2!G8,0),IF(Foglio2!H9="NO",Foglio2!H8,0),IF(Foglio2!I9="NO",Foglio2!I8,0),IF(Foglio2!J9="NO",Foglio2!J8,0),IF(Foglio2!K9="NO",Foglio2!K8,0),IF(Foglio2!L9="NO",Foglio2!L8,0),IF(Foglio2!M9="NO",Foglio2!M8,0),IF(Foglio2!N9="NO",Foglio2!N8,0),IF(Foglio2!O9="NO",Foglio2!O8,0),IF(Foglio2!P9="NO",Foglio2!P8,0),IF(Foglio2!Q9="NO",Foglio2!Q8,0),IF(Foglio2!R9="NO",Foglio2!R8,0),IF(Foglio2!S9="NO",Foglio2!S8,0),IF(Foglio2!T9="NO",Foglio2!T8,0),IF(Foglio2!U9="NO",Foglio2!U8,0),IF(Foglio2!V9="NO",Foglio2!V8,0),IF(Foglio2!W9="NO",Foglio2!W8,0),IF(Foglio2!X9="NO",Foglio2!X8,0),IF(Foglio2!Y9="NO",Foglio2!Y8,0),IF(Foglio2!Z9="NO",Foglio2!Z8,0),IF(Foglio2!AA9="NO",Foglio2!AA8,0),IF(Foglio2!AB9="NO",Foglio2!AB8,0),IF(Foglio2!AC9="NO",Foglio2!AC8,0),IF(Foglio2!AD9="NO",Foglio2!AD8,0),IF(Foglio2!AE9="NO",Foglio2!AE8,0),IF(Foglio2!AF9="NO",Foglio2!AF8,0),IF(Foglio2!AG9="NO",Foglio2!AG8,0),IF(Foglio2!AH9="NO",Foglio2!AH8,0),IF(Foglio2!AI9="NO",Foglio2!AI8,0),IF(Foglio2!AJ9="NO",Foglio2!AJ8,0),IF(Foglio2!AK9="NO",Foglio2!AK8,0),IF(Foglio2!AL9="NO",Foglio2!AL8,0),IF(Foglio2!AM9="NO",Foglio2!AM8,0),IF(Foglio2!AN9="NO",Foglio2!AN8,0))/COUNTIF(Foglio2!C9:AN9,"NO") -> 5.7273684 | E8: =SUM( IF(IFERROR(VLOOKUP(A8,'[1]1'!$A$5:$O$440,9,FALSE),0)=0,0,VLOOKUP(A8,'[1]1'!$A$5:$O$440,9,FALSE)), IF(IFERROR(VLOOKUP(A8,'[2]2'!$A$5:$O$440,9,FALSE),0)=0,0,VLOOKUP(A8,'[2]2'!$A$5:$O$440,9,FALSE)), IF(IFERROR(VLOOKUP(A8:'[3]3'!$A$5:$O$440,9,FALSE),0)=0,0,VLOOKUP(A8,'[3]3'!$A$5:$O$440,9,FALSE)), IF(IFERROR(VLOOKUP(A8,'[4]4'!$A$5:$O$440,9,FALSE),0)=0,0,VLOOKUP(A8,'[4]4'!$A$5:$O$440,9,FALSE)), IF(IFERROR(VLOOKUP(A8,'[5]5'!$A$5:$O$440,9,FALSE),0)=0,0,VLOOKUP(A8,'[5]5'!$A$5:$O$440,9,FALSE)), IF(IFERROR(VLOOKUP(A8,'[6]6'!$A$5:$O$440,9,FALSE),0)=0,0,VLOOKUP(A8,'[6]6'!$A$5:$O$440,9,FALSE)), IF(IFERROR(VLOOKUP(A8,'[7]7'!$A$5:$O$440,9,FALSE),0)=0,0,VLOOKUP(A8,'[7]7'!$A$5:$O$440,9,FALSE)), IF(IFERROR(VLOOKUP(A8,'[8]8'!$A$5:$O$440,9,FALSE),0)=0,0,VLOOKUP(A8,'[8]8'!$A$5:$O$440,9,FALSE)), IF(IFERROR(VLOOKUP(A8,'[9]9'!$A$5:$O$440,9,FALSE),0)=0,0,VLOOKUP(A8,'[9]9'!$A$5:$O$440,9,FALSE)), IF(IFERROR(VLOOKUP(A8,'[10]10'!$A$5:$O$440,9,FALSE),0)=0,0,VLOOKUP(A8,'[10]10'!$A$5:$O$440,9,FALSE)), IF(IFERROR(VLOOKUP(A8,'[11]11'!$A$5:$O$440,9,FALSE),0)=0,0,VLOOKUP(A8,'[11]11'!$A$5:$O$440,9,FALSE)), IF(IFERROR(VLOOKUP(A8,'[12]12'!$A$5:$O$440,9,FALSE),0)=0,0,VLOOKUP(A8,'[12]12'!$A$5:$O$440,9,FALSE)), IF(IFERROR(VLOOKUP(A8,'[13]13'!$A$5:$O$440,9,FALSE),0)=0,0,VLOOKUP(A8,'[13]13'!$A$5:$O$440,9,FALSE)), IF(IFERROR(VLOOKUP(A8,'[14]14'!$A$5:$O$440,9,FALSE),0)=0,0,VLOOKUP(A8,'[14]14'!$A$5:$O$440,9,FALSE)), IF(IFERROR(VLOOKUP(A8,'[15]15'!$A$5:$O$440,9,FALSE),0)=0,0,VLOOKUP(A8,'[15]15'!$A$5:$O$440,9,FALSE)), IF(IFERROR(VLOOKUP(A8,'[16]16'!$A$5:$O$440,9,FALSE),0)=0,0,VLOOKUP(A8,'[16]16'!$A$5:$O$440,9,FALSE)), IF(IFERROR(VLOOKUP(A8,'[17]17'!$A$5:$O$440,9,FALSE),0)=0,0,VLOOKUP(A8,'[17]17'!$A$5:$O$440,9,FALSE)), IF(IFERROR(VLOOKUP(A8,'[18]18'!$A$5:$O$440,9,FALSE),0)=0,0,VLOOKUP(A8,'[18]18'!$A$5:$O$440,9,FALSE)), IF(IFERROR(VLOOKUP(A8,'[19]19'!$A$5:$O$440,9,FALSE),0)=0,0,VLOOKUP(A8,'[19]19'!$A$5:$O$440,9,FALSE)), IF(IFERROR(VLOOKUP(A8,'[20]20'!$A$5:$O$440,9,FALSE),0)=0,0,VLOOKUP(A8,'[20]20'!$A$5:$O$440,9,FALSE)), IF(IFERROR(VLOOKUP(A8,'[21]21'!$A$5:$O$440,9,FALSE),0)=0,0,VLOOKUP(A8,'[21]21'!$A$5:$O$440,9,FALSE)), IF(IFERROR(VLOOKUP(A8,'[22]22'!$A$5:$O$440,9,FALSE),0)=0,0,VLOOKUP(A8,'[22]22'!$A$5:$O$440,9,FALSE)), IF(IFERROR(VLOOKUP(A8,'[23]23'!$A$5:$O$440,9,FALSE),0)=0,0,VLOOKUP(A8,'[23]23'!$A$5:$O$440,9,FALSE)), IF(IFERROR(VLOOKUP(A8,'[24]24'!$A$5:$O$440,9,FALSE),0)=0,0,VLOOKUP(A8,'[24]24'!$A$5:$O$440,9,FALSE)), IF(IFERROR(VLOOKUP(A8,'[25]25'!$A$5:$O$440,9,FALSE),0)=0,0,VLOOKUP(A8,'[25]25'!$A$5:$O$440,9,FALSE)), IF(IFERROR(VLOOKUP(A8,'[26]26'!$A$5:$O$440,9,FALSE),0)=0,0,VLOOKUP(A8,'[26]26'!$A$5:$O$440,9,FALSE)), IF(IFERROR(VLOOKUP(A8,'[27]27'!$A$5:$O$440,9,FALSE),0)=0,0,VLOOKUP(A8,'[27]27'!$A$5:$O$440,9,FALSE)), IF(IFERROR(VLOOKUP(A8,'[28]28'!$A$5:$O$440,9,FALSE),0)=0,0,VLOOKUP(A8,'[28]28'!$A$5:$O$440,9,FALSE)), IF(IFERROR(VLOOKUP(A8,'[29]29'!$A$5:$O$440,9,FALSE),0)=0,0,VLOOKUP(A8,'[29]29'!$A$5:$O$440,9,FALSE)), IF(IFERROR(VLOOKUP(A8,'[30]30'!$A$5:$O$440,9,FALSE),0)=0,0,VLOOKUP(A8,'[30]30'!$A$5:$O$440,9,FALSE)), IF(IFERROR(VLOOKUP(A8,'[31]31'!$A$5:$O$440,9,FALSE),0)=0,0,VLOOKUP(A8,'[31]31'!$A$5:$O$440,9,FALSE)), IF(IFERROR(VLOOKUP(A8,'[32]32'!$A$5:$O$440,9,FALSE),0)=0,0,VLOOKUP(A8,'[32]32'!$A$5:$O$440,9,FALSE)), IF(IFERROR(VLOOKUP(A8,'[33]33'!$A$5:$O$440,9,FALSE),0)=0,0,VLOOKUP(A8,'[33]33'!$A$5:$O$440,9,FALSE)), IF(IFERROR(VLOOKUP(A8,'[34]34'!$A$5:$O$440,9,FALSE),0)=0,0,VLOOKUP(A8,'[34]34'!$A$5:$O$440,9,FALSE)), IF(IFERROR(VLOOKUP(A8,'[35]35'!$A$5:$O$440,9,FALSE),0)=0,0,VLOOKUP(A8,'[35]35'!$A$5:$O$440,9,FALSE)), IF(IFERROR(VLOOKUP(A8,'[36]36'!$A$5:$O$440,9,FALSE),0)=0,0,VLOOKUP(A8,'[36]36'!$A$5:$O$440,9,FALSE)), IF(IFERROR(VLOOKUP(A8,'[37]37'!$A$5:$O$440,9,FALSE),0)=0,0,VLOOKUP(A8,'[37]37'!$A$5:$O$440,9,FALSE)), IF(IFERROR(VLOOKUP(A8,'[38]38'!$A$5:$O$440,9,FALSE),0)=0,0,VLOOKUP(A8,'[38]38'!$A$5:$O$440,9,FALSE)) ) -> 5 | F8: =SUM(E8, IF(IFERROR(VLOOKUP(A8,'[1]1'!$A$5:$O$440,5,FALSE),0)=0,0,VLOOKUP(A8,'[1]1'!$A$5:$O$440,5,FALSE)), IF(IFERROR(VLOOKUP(A8,'[2]2'!$A$5:$O$440,5,FALSE),0)=0,0,VLOOKUP(A8,'[2]2'!$A$5:$O$440,5,FALSE)), IF(IFERROR(VLOOKUP(A8,'[3]3'!$A$5:$O$440,5,FALSE),0)=0,0,VLOOKUP(A8,'[3]3'!$A$5:$O$440,5,FALSE)), IF(IFERROR(VLOOKUP(A8,'[4]4'!$A$5:$O$440,5,FALSE),0)=0,0,VLOOKUP(A8,'[4]4'!$A$5:$O$440,5,FALSE)), IF(IFERROR(VLOOKUP(A8,'[5]5'!$A$5:$O$440,5,FALSE),0)=0,0,VLOOKUP(A8,'[5]5'!$A$5:$O$440,5,FALSE)), IF(IFERROR(VLOOKUP(A8,'[6]6'!$A$5:$O$440,5,FALSE),0)=0,0,VLOOKUP(A8,'[6]6'!$A$5:$O$440,5,FALSE)), IF(IFERROR(VLOOKUP(A8,'[7]7'!$A$5:$O$440,5,FALSE),0)=0,0,VLOOKUP(A8,'[7]7'!$A$5:$O$440,5,FALSE)), IF(IFERROR(VLOOKUP(A8,'[8]8'!$A$5:$O$440,5,FALSE),0)=0,0,VLOOKUP(A8,'[8]8'!$A$5:$O$440,5,FALSE)), IF(IFERROR(VLOOKUP(A8,'[9]9'!$A$5:$O$440,5,FALSE),0)=0,0,VLOOKUP(A8,'[9]9'!$A$5:$O$440,5,FALSE)), IF(IFERROR(VLOOKUP(A8,'[10]10'!$A$5:$O$440,5,FALSE),0)=0,0,VLOOKUP(A8,'[10]10'!$A$5:$O$440,5,FALSE)), IF(IFERROR(VLOOKUP(A8,'[11]11'!$A$5:$O$440,5,FALSE),0)=0,0,VLOOKUP(A8,'[11]11'!$A$5:$O$440,5,FALSE)), IF(IFERROR(VLOOKUP(A8,'[12]12'!$A$5:$O$440,5,FALSE),0)=0,0,VLOOKUP(A8,'[12]12'!$A$5:$O$440,5,FALSE)), IF(IFERROR(VLOOKUP(A8,'[13]13'!$A$5:$O$440,5,FALSE),0)=0,0,VLOOKUP(A8,'[13]13'!$A$5:$O$440,5,FALSE)), IF(IFERROR(VLOOKUP(A8,'[14]14'!$A$5:$O$440,5,FALSE),0)=0,0,VLOOKUP(A8,'[14]14'!$A$5:$O$440,5,FALSE)), IF(IFERROR(VLOOKUP(A8,'[15]15'!$A$5:$O$440,5,FALSE),0)=0,0,VLOOKUP(A8,'[15]15'!$A$5:$O$440,5,FALSE)), IF(IFERROR(VLOOKUP(A8,'[16]16'!$A$5:$O$440,5,FALSE),0)=0,0,VLOOKUP(A8,'[16]16'!$A$5:$O$440,5,FALSE)), IF(IFERROR(VLOOKUP(A8,'[17]17'!$A$5:$O$440,5,FALSE),0)=0,0,VLOOKUP(A8,'[17]17'!$A$5:$O$440,5,FALSE)), IF(IFERROR(VLOOKUP(A8,'[18]18'!$A$5:$O$440,5,FALSE),0)=0,0,VLOOKUP(A8,'[18]18'!$A$5:$O$440,5,FALSE)), IF(IFERROR(VLOOKUP(A8,'[19]19'!$A$5:$O$440,5,FALSE),0)=0,0,VLOOKUP(A8,'[19]19'!$A$5:$O$440,5,FALSE)), IF(IFERROR(VLOOKUP(A8,'[20]20'!$A$5:$O$440,5,FALSE),0)=0,0,VLOOKUP(A8,'[20]20'!$A$5:$O$440,5,FALSE)), IF(IFERROR(VLOOKUP(A8,'[21]21'!$A$5:$O$440,5,FALSE),0)=0,0,VLOOKUP(A8,'[21]21'!$A$5:$O$440,5,FALSE)), IF(IFERROR(VLOOKUP(A8,'[22]22'!$A$5:$O$440,5,FALSE),0)=0,0,VLOOKUP(A8,'[22]22'!$A$5:$O$440,5,FALSE)), IF(IFERROR(VLOOKUP(A8,'[23]23'!$A$5:$O$440,5,FALSE),0)=0,0,VLOOKUP(A8,'[23]23'!$A$5:$O$440,5,FALSE)), IF(IFERROR(VLOOKUP(A8,'[24]24'!$A$5:$O$440,5,FALSE),0)=0,0,VLOOKUP(A8,'[24]24'!$A$5:$O$440,5,FALSE)), IF(IFERROR(VLOOKUP(A8,'[25]25'!$A$5:$O$440,5,FALSE),0)=0,0,VLOOKUP(A8,'[25]25'!$A$5:$O$440,5,FALSE)), IF(IFERROR(VLOOKUP(A8,'[26]26'!$A$5:$O$440,5,FALSE),0)=0,0,VLOOKUP(A8,'[26]26'!$A$5:$O$440,5,FALSE)), IF(IFERROR(VLOOKUP(A8,'[27]27'!$A$5:$O$440,5,FALSE),0)=0,0,VLOOKUP(A8,'[27]27'!$A$5:$O$440,5,FALSE)), IF(IFERROR(VLOOKUP(A8,'[28]28'!$A$5:$O$440,5,FALSE),0)=0,0,VLOOKUP(A8,'[28]28'!$A$5:$O$440,5,FALSE)), IF(IFERROR(VLOOKUP(A8,'[29]29'!$A$5:$O$440,5,FALSE),0)=0,0,VLOOKUP(A8,'[29]29'!$A$5:$O$440,5,FALSE)), IF(IFERROR(VLOOKUP(A8,'[30]30'!$A$5:$O$440,5,FALSE),0)=0,0,VLOOKUP(A8,'[30]30'!$A$5:$O$440,5,FALSE)), IF(IFERROR(VLOOKUP(A8,'[31]31'!$A$5:$O$440,5,FALSE),0)=0,0,VLOOKUP(A8,'[31]31'!$A$5:$O$440,5,FALSE)), IF(IFERROR(VLOOKUP(A8,'[32]32'!$A$5:$O$440,5,FALSE),0)=0,0,VLOOKUP(A8,'[32]32'!$A$5:$O$440,5,FALSE)), IF(IFERROR(VLOOKUP(A8,'[33]33'!$A$5:$O$440,5,FALSE),0)=0,0,VLOOKUP(A8,'[33]33'!$A$5:$O$440,5,FALSE)), IF(IFERROR(VLOOKUP(A8,'[34]34'!$A$5:$O$440,5,FALSE),0)=0,0,VLOOKUP(A8,'[34]34'!$A$5:$O$440,5,FALSE)), IF(IFERROR(VLOOKUP(A8,'[35]35'!$A$5:$O$440,5,FALSE),0)=0,0,VLOOKUP(A8,'[35]35'!$A$5:$O$440,5,FALSE)), IF(IFERROR(VLOOKUP(A8,'[36]36'!$A$5:$O$440,5,FALSE),0)=0,0,VLOOKUP(A8,'[36]36'!$A$5:$O$440,5,FALSE)), IF(IFERROR(VLOOKUP(A8,'[37]37'!$A$5:$O$440,5,FALSE),0)=0,0,VLOOKUP(A8,'[37]37'!$A$5:$O$440,5,FALSE)), IF(IFERROR(VLOOKUP(A8,'[38]38'!$A$5:$O$440,5,FALSE),0)=0,0,VLOOKUP(A8,'[38]38'!$A$5:$O$440,5,FALSE)) ) -> 26 | G8: =COUNTIF(Foglio2!C9:AN9,"GOL") -> 16 | H8: =I8-G8 -> 19 | I8: =38-COUNTIF(Foglio2!C9:AN9,"ASSENTE") -> 35 | J8: =G8/I8 -> 0.45714286 | K8: =IF(D8<5,"PESSIMA",IF(D8<5.25,"CATTIVA",IF(D8<5.5,"MEDIOCRE",IF(D8<5.75,"ACCETTABILE",IF(D8<6,"BUONA","ECCELLENTE"))))) -> ACCETTABILE
A10: =Foglio2!A10 -> 3501 | B10: =Foglio2!B10 -> IBRAHIMOVIC | C10: =AVERAGEIF(Foglio2!C10:AN10,">0") -> 6.3834483 | D10: =SUM(IF(Foglio2!C11="NO",Foglio2!C10,0),IF(Foglio2!D11="NO",Foglio2!D10,0),IF(Foglio2!E11="NO",Foglio2!E10,0),IF(Foglio2!F11="NO",Foglio2!F10,0),IF(Foglio2!G11="NO",Foglio2!G10,0),IF(Foglio2!H11="NO",Foglio2!H10,0),IF(Foglio2!I11="NO",Foglio2!I10,0),IF(Foglio2!J11="NO",Foglio2!J10,0),IF(Foglio2!K11="NO",Foglio2!K10,0),IF(Foglio2!L11="NO",Foglio2!L10,0),IF(Foglio2!M11="NO",Foglio2!M10,0),IF(Foglio2!N11="NO",Foglio2!N10,0),IF(Foglio2!O11="NO",Foglio2!O10,0),IF(Foglio2!P11="NO",Foglio2!P10,0),IF(Foglio2!Q11="NO",Foglio2!Q10,0),IF(Foglio2!R11="NO",Foglio2!R10,0),IF(Foglio2!S11="NO",Foglio2!S10,0),IF(Foglio2!T11="NO",Foglio2!T10,0),IF(Foglio2!U11="NO",Foglio2!U10,0),IF(Foglio2!V11="NO",Foglio2!V10,0),IF(Foglio2!W11="NO",Foglio2!W10,0),IF(Foglio2!X11="NO",Foglio2!X10,0),IF(Foglio2!Y11="NO",Foglio2!Y10,0),IF(Foglio2!Z11="NO",Foglio2!Z10,0),IF(Foglio2!AA11="NO",Foglio2!AA10,0),IF(Foglio2!AB11="NO",Foglio2!AB10,0),IF(Foglio2!AC11="NO",Foglio2!AC10,0),IF(Foglio2!AD11="NO",Foglio2!AD10,0),IF(Foglio2!AE11="NO",Foglio2!AE10,0),IF(Foglio2!AF11="NO",Foglio2!AF10,0),IF(Foglio2!AG11="NO",Foglio2!AG10,0),IF(Foglio2!AH11="NO",Foglio2!AH10,0),IF(Foglio2!AI11="NO",Foglio2!AI10,0),IF(Foglio2!AJ11="NO",Foglio2!AJ10,0),IF(Foglio2!AK11="NO",Foglio2!AK10,0),IF(Foglio2!AL11="NO",Foglio2!AL10,0),IF(Foglio2!AM11="NO",Foglio2!AM10,0),IF(Foglio2!AN11="NO",Foglio2!AN10,0))/COUNTIF(Foglio2!C11:AN11,"NO") -> 5.7893333 | E10: =SUM( IF(IFERROR(VLOOKUP(A10,'[1]1'!$A$5:$O$440,9,FALSE),0)=0,0,VLOOKUP(A10,'[1]1'!$A$5:$O$440,9,FALSE)), IF(IFERROR(VLOOKUP(A10,'[2]2'!$A$5:$O$440,9,FALSE),0)=0,0,VLOOKUP(A10,'[2]2'!$A$5:$O$440,9,FALSE)), IF(IFERROR(VLOOKUP(A10:'[3]3'!$A$5:$O$440,9,FALSE),0)=0,0,VLOOKUP(A10,'[3]3'!$A$5:$O$440,9,FALSE)), IF(IFERROR(VLOOKUP(A10,'[4]4'!$A$5:$O$440,9,FALSE),0)=0,0,VLOOKUP(A10,'[4]4'!$A$5:$O$440,9,FALSE)), IF(IFERROR(VLOOKUP(A10,'[5]5'!$A$5:$O$440,9,FALSE),0)=0,0,VLOOKUP(A10,'[5]5'!$A$5:$O$440,9,FALSE)), IF(IFERROR(VLOOKUP(A10,'[6]6'!$A$5:$O$440,9,FALSE),0)=0,0,VLOOKUP(A10,'[6]6'!$A$5:$O$440,9,FALSE)), IF(IFERROR(VLOOKUP(A10,'[7]7'!$A$5:$O$440,9,FALSE),0)=0,0,VLOOKUP(A10,'[7]7'!$A$5:$O$440,9,FALSE)), IF(IFERROR(VLOOKUP(A10,'[8]8'!$A$5:$O$440,9,FALSE),0)=0,0,VLOOKUP(A10,'[8]8'!$A$5:$O$440,9,FALSE)), IF(IFERROR(VLOOKUP(A10,'[9]9'!$A$5:$O$440,9,FALSE),0)=0,0,VLOOKUP(A10,'[9]9'!$A$5:$O$440,9,FALSE)), IF(IFERROR(VLOOKUP(A10,'[10]10'!$A$5:$O$440,9,FALSE),0)=0,0,VLOOKUP(A10,'[10]10'!$A$5:$O$440,9,FALSE)), IF(IFERROR(VLOOKUP(A10,'[11]11'!$A$5:$O$440,9,FALSE),0)=0,0,VLOOKUP(A10,'[11]11'!$A$5:$O$440,9,FALSE)), IF(IFERROR(VLOOKUP(A10,'[12]12'!$A$5:$O$440,9,FALSE),0)=0,0,VLOOKUP(A10,'[12]12'!$A$5:$O$440,9,FALSE)), IF(IFERROR(VLOOKUP(A10,'[13]13'!$A$5:$O$440,9,FALSE),0)=0,0,VLOOKUP(A10,'[13]13'!$A$5:$O$440,9,FALSE)), IF(IFERROR(VLOOKUP(A10,'[14]14'!$A$5:$O$440,9,FALSE),0)=0,0,VLOOKUP(A10,'[14]14'!$A$5:$O$440,9,FALSE)), IF(IFERROR(VLOOKUP(A10,'[15]15'!$A$5:$O$440,9,FALSE),0)=0,0,VLOOKUP(A10,'[15]15'!$A$5:$O$440,9,FALSE)), IF(IFERROR(VLOOKUP(A10,'[16]16'!$A$5:$O$440,9,FALSE),0)=0,0,VLOOKUP(A10,'[16]16'!$A$5:$O$440,9,FALSE)), IF(IFERROR(VLOOKUP(A10,'[17]17'!$A$5:$O$440,9,FALSE),0)=0,0,VLOOKUP(A10,'[17]17'!$A$5:$O$440,9,FALSE)), IF(IFERROR(VLOOKUP(A10,'[18]18'!$A$5:$O$440,9,FALSE),0)=0,0,VLOOKUP(A10,'[18]18'!$A$5:$O$440,9,FALSE)), IF(IFERROR(VLOOKUP(A10,'[19]19'!$A$5:$O$440,9,FALSE),0)=0,0,VLOOKUP(A10,'[19]19'!$A$5:$O$440,9,FALSE)), IF(IFERROR(VLOOKUP(A10,'[20]20'!$A$5:$O$440,9,FALSE),0)=0,0,VLOOKUP(A10,'[20]20'!$A$5:$O$440,9,FALSE)), IF(IFERROR(VLOOKUP(A10,'[21]21'!$A$5:$O$440,9,FALSE),0)=0,0,VLOOKUP(A10,'[21]21'!$A$5:$O$440,9,FALSE)), IF(IFERROR(VLOOKUP(A10,'[22]22'!$A$5:$O$440,9,FALSE),0)=0,0,VLOOKUP(A10,'[22]22'!$A$5:$O$440,9,FALSE)), IF(IFERROR(VLOOKUP(A10,'[23]23'!$A$5:$O$440,9,FALSE),0)=0,0,VLOOKUP(A10,'[23]23'!$A$5:$O$440,9,FALSE)), IF(IFERROR(VLOOKUP(A10,'[24]24'!$A$5:$O$440,9,FALSE),0)=0,0,VLOOKUP(A10,'[24]24'!$A$5:$O$440,9,FALSE)), IF(IFERROR(VLOOKUP(A10,'[25]25'!$A$5:$O$440,9,FALSE),0)=0,0,VLOOKUP(A10,'[25]25'!$A$5:$O$440,9,FALSE)), IF(IFERROR(VLOOKUP(A10,'[26]26'!$A$5:$O$440,9,FALSE),0)=0,0,VLOOKUP(A10,'[26]26'!$A$5:$O$440,9,FALSE)), IF(IFERROR(VLOOKUP(A10,'[27]27'!$A$5:$O$440,9,FALSE),0)=0,0,VLOOKUP(A10,'[27]27'!$A$5:$O$440,9,FALSE)), IF(IFERROR(VLOOKUP(A10,'[28]28'!$A$5:$O$440,9,FALSE),0)=0,0,VLOOKUP(A10,'[28]28'!$A$5:$O$440,9,FALSE)), IF(IFERROR(VLOOKUP(A10,'[29]29'!$A$5:$O$440,9,FALSE),0)=0,0,VLOOKUP(A10,'[29]29'!$A$5:$O$440,9,FALSE)), IF(IFERROR(VLOOKUP(A10,'[30]30'!$A$5:$O$440,9,FALSE),0)=0,0,VLOOKUP(A10,'[30]30'!$A$5:$O$440,9,FALSE)), IF(IFERROR(VLOOKUP(A10,'[31]31'!$A$5:$O$440,9,FALSE),0)=0,0,VLOOKUP(A10,'[31]31'!$A$5:$O$440,9,FALSE)), IF(IFERROR(VLOOKUP(A10,'[32]32'!$A$5:$O$440,9,FALSE),0)=0,0,VLOOKUP(A10,'[32]32'!$A$5:$O$440,9,FALSE)), IF(IFERROR(VLOOKUP(A10,'[33]33'!$A$5:$O$440,9,FALSE),0)=0,0,VLOOKUP(A10,'[33]33'!$A$5:$O$440,9,FALSE)), IF(IFERROR(VLOOKUP(A10,'[34]34'!$A$5:$O$440,9,FALSE),0)=0,0,VLOOKUP(A10,'[34]34'!$A$5:$O$440,9,FALSE)), IF(IFERROR(VLOOKUP(A10,'[35]35'!$A$5:$O$440,9,FALSE),0)=0,0,VLOOKUP(A10,'[35]35'!$A$5:$O$440,9,FALSE)), IF(IFERROR(VLOOKUP(A10,'[36]36'!$A$5:$O$440,9,FALSE),0)=0,0,VLOOKUP(A10,'[36]36'!$A$5:$O$440,9,FALSE)), IF(IFERROR(VLOOKUP(A10,'[37]37'!$A$5:$O$440,9,FALSE),0)=0,0,VLOOKUP(A10,'[37]37'!$A$5:$O$440,9,FALSE)), IF(IFERROR(VLOOKUP(A10,'[38]38'!$A$5:$O$440,9,FALSE),0)=0,0,VLOOKUP(A10,'[38]38'!$A$5:$O$440,9,FALSE)) ) -> 3 | F10: =SUM(E10, IF(IFERROR(VLOOKUP(A10,'[1]1'!$A$5:$O$440,5,FALSE),0)=0,0,VLOOKUP(A10,'[1]1'!$A$5:$O$440,5,FALSE)), IF(IFERROR(VLOOKUP(A10,'[2]2'!$A$5:$O$440,5,FALSE),0)=0,0,VLOOKUP(A10,'[2]2'!$A$5:$O$440,5,FALSE)), IF(IFERROR(VLOOKUP(A10,'[3]3'!$A$5:$O$440,5,FALSE),0)=0,0,VLOOKUP(A10,'[3]3'!$A$5:$O$440,5,FALSE)), IF(IFERROR(VLOOKUP(A10,'[4]4'!$A$5:$O$440,5,FALSE),0)=0,0,VLOOKUP(A10,'[4]4'!$A$5:$O$440,5,FALSE)), IF(IFERROR(VLOOKUP(A10,'[5]5'!$A$5:$O$440,5,FALSE),0)=0,0,VLOOKUP(A10,'[5]5'!$A$5:$O$440,5,FALSE)), IF(IFERROR(VLOOKUP(A10,'[6]6'!$A$5:$O$440,5,FALSE),0)=0,0,VLOOKUP(A10,'[6]6'!$A$5:$O$440,5,FALSE)), IF(IFERROR(VLOOKUP(A10,'[7]7'!$A$5:$O$440,5,FALSE),0)=0,0,VLOOKUP(A10,'[7]7'!$A$5:$O$440,5,FALSE)), IF(IFERROR(VLOOKUP(A10,'[8]8'!$A$5:$O$440,5,FALSE),0)=0,0,VLOOKUP(A10,'[8]8'!$A$5:$O$440,5,FALSE)), IF(IFERROR(VLOOKUP(A10,'[9]9'!$A$5:$O$440,5,FALSE),0)=0,0,VLOOKUP(A10,'[9]9'!$A$5:$O$440,5,FALSE)), IF(IFERROR(VLOOKUP(A10,'[10]10'!$A$5:$O$440,5,FALSE),0)=0,0,VLOOKUP(A10,'[10]10'!$A$5:$O$440,5,FALSE)), IF(IFERROR(VLOOKUP(A10,'[11]11'!$A$5:$O$440,5,FALSE),0)=0,0,VLOOKUP(A10,'[11]11'!$A$5:$O$440,5,FALSE)), IF(IFERROR(VLOOKUP(A10,'[12]12'!$A$5:$O$440,5,FALSE),0)=0,0,VLOOKUP(A10,'[12]12'!$A$5:$O$440,5,FALSE)), IF(IFERROR(VLOOKUP(A10,'[13]13'!$A$5:$O$440,5,FALSE),0)=0,0,VLOOKUP(A10,'[13]13'!$A$5:$O$440,5,FALSE)), IF(IFERROR(VLOOKUP(A10,'[14]14'!$A$5:$O$440,5,FALSE),0)=0,0,VLOOKUP(A10,'[14]14'!$A$5:$O$440,5,FALSE)), IF(IFERROR(VLOOKUP(A10,'[15]15'!$A$5:$O$440,5,FALSE),0)=0,0,VLOOKUP(A10,'[15]15'!$A$5:$O$440,5,FALSE)), IF(IFERROR(VLOOKUP(A10,'[16]16'!$A$5:$O$440,5,FALSE),0)=0,0,VLOOKUP(A10,'[16]16'!$A$5:$O$440,5,FALSE)), IF(IFERROR(VLOOKUP(A10,'[17]17'!$A$5:$O$440,5,FALSE),0)=0,0,VLOOKUP(A10,'[17]17'!$A$5:$O$440,5,FALSE)), IF(IFERROR(VLOOKUP(A10,'[18]18'!$A$5:$O$440,5,FALSE),0)=0,0,VLOOKUP(A10,'[18]18'!$A$5:$O$440,5,FALSE)), IF(IFERROR(VLOOKUP(A10,'[19]19'!$A$5:$O$440,5,FALSE),0)=0,0,VLOOKUP(A10,'[19]19'!$A$5:$O$440,5,FALSE)), IF(IFERROR(VLOOKUP(A10,'[20]20'!$A$5:$O$440,5,FALSE),0)=0,0,VLOOKUP(A10,'[20]20'!$A$5:$O$440,5,FALSE)), IF(IFERROR(VLOOKUP(A10,'[21]21'!$A$5:$O$440,5,FALSE),0)=0,0,VLOOKUP(A10,'[21]21'!$A$5:$O$440,5,FALSE)), IF(IFERROR(VLOOKUP(A10,'[22]22'!$A$5:$O$440,5,FALSE),0)=0,0,VLOOKUP(A10,'[22]22'!$A$5:$O$440,5,FALSE)), IF(IFERROR(VLOOKUP(A10,'[23]23'!$A$5:$O$440,5,FALSE),0)=0,0,VLOOKUP(A10,'[23]23'!$A$5:$O$440,5,FALSE)), IF(IFERROR(VLOOKUP(A10,'[24]24'!$A$5:$O$440,5,FALSE),0)=0,0,VLOOKUP(A10,'[24]24'!$A$5:$O$440,5,FALSE)), IF(IFERROR(VLOOKUP(A10,'[25]25'!$A$5:$O$440,5,FALSE),0)=0,0,VLOOKUP(A10,'[25]25'!$A$5:$O$440,5,FALSE)), IF(IFERROR(VLOOKUP(A10,'[26]26'!$A$5:$O$440,5,FALSE),0)=0,0,VLOOKUP(A10,'[26]26'!$A$5:$O$440,5,FALSE)), IF(IFERROR(VLOOKUP(A10,'[27]27'!$A$5:$O$440,5,FALSE),0)=0,0,VLOOKUP(A10,'[27]27'!$A$5:$O$440,5,FALSE)), IF(IFERROR(VLOOKUP(A10,'[28]28'!$A$5:$O$440,5,FALSE),0)=0,0,VLOOKUP(A10,'[28]28'!$A$5:$O$440,5,FALSE)), IF(IFERROR(VLOOKUP(A10,'[29]29'!$A$5:$O$440,5,FALSE),0)=0,0,VLOOKUP(A10,'[29]29'!$A$5:$O$440,5,FALSE)), IF(IFERROR(VLOOKUP(A10,'[30]30'!$A$5:$O$440,5,FALSE),0)=0,0,VLOOKUP(A10,'[30]30'!$A$5:$O$440,5,FALSE)), IF(IFERROR(VLOOKUP(A10,'[31]31'!$A$5:$O$440,5,FALSE),0)=0,0,VLOOKUP(A10,'[31]31'!$A$5:$O$440,5,FALSE)), IF(IFERROR(VLOOKUP(A10,'[32]32'!$A$5:$O$440,5,FALSE),0)=0,0,VLOOKUP(A10,'[32]32'!$A$5:$O$440,5,FALSE)), IF(IFERROR(VLOOKUP(A10,'[33]33'!$A$5:$O$440,5,FALSE),0)=0,0,VLOOKUP(A10,'[33]33'!$A$5:$O$440,5,FALSE)), IF(IFERROR(VLOOKUP(A10,'[34]34'!$A$5:$O$440,5,FALSE),0)=0,0,VLOOKUP(A10,'[34]34'!$A$5:$O$440,5,FALSE)), IF(IFERROR(VLOOKUP(A10,'[35]35'!$A$5:$O$440,5,FALSE),0)=0,0,VLOOKUP(A10,'[35]35'!$A$5:$O$440,5,FALSE)), IF(IFERROR(VLOOKUP(A10,'[36]36'!$A$5:$O$440,5,FALSE),0)=0,0,VLOOKUP(A10,'[36]36'!$A$5:$O$440,5,FALSE)), IF(IFERROR(VLOOKUP(A10,'[37]37'!$A$5:$O$440,5,FALSE),0)=0,0,VLOOKUP(A10,'[37]37'!$A$5:$O$440,5,FALSE)), IF(IFERROR(VLOOKUP(A10,'[38]38'!$A$5:$O$440,5,FALSE),0)=0,0,VLOOKUP(A10,'[38]38'!$A$5:$O$440,5,FALSE)) ) -> 14 | G10: =COUNTIF(Foglio2!C11:AN11,"GOL") -> 14 | H10: =I10-G10 -> 15 | I10: =38-COUNTIF(Foglio2!C11:AN11,"ASSENTE") -> 29 | J10: =G10/I10 -> 0.48275862 | K10: =IF(D10<5,"PESSIMA",IF(D10<5.25,"CATTIVA",IF(D10<5.5,"MEDIOCRE",IF(D10<5.75,"ACCETTABILE",IF(D10<6,"BUONA","ECCELLENTE"))))) -> BUONA
A12: =Foglio2!A12 -> 3435 | B12: =Foglio2!B12 -> HERNANES | C12: =AVERAGEIF(Foglio2!C12:AN12,">0") -> 6.0869444 | D12: =SUM(IF(Foglio2!C13="NO",Foglio2!C12,0),IF(Foglio2!D13="NO",Foglio2!D12,0),IF(Foglio2!E13="NO",Foglio2!E12,0),IF(Foglio2!F13="NO",Foglio2!F12,0),IF(Foglio2!G13="NO",Foglio2!G12,0),IF(Foglio2!H13="NO",Foglio2!H12,0),IF(Foglio2!I13="NO",Foglio2!I12,0),IF(Foglio2!J13="NO",Foglio2!J12,0),IF(Foglio2!K13="NO",Foglio2!K12,0),IF(Foglio2!L13="NO",Foglio2!L12,0),IF(Foglio2!M13="NO",Foglio2!M12,0),IF(Foglio2!N13="NO",Foglio2!N12,0),IF(Foglio2!O13="NO",Foglio2!O12,0),IF(Foglio2!P13="NO",Foglio2!P12,0),IF(Foglio2!Q13="NO",Foglio2!Q12,0),IF(Foglio2!R13="NO",Foglio2!R12,0),IF(Foglio2!S13="NO",Foglio2!S12,0),IF(Foglio2!T13="NO",Foglio2!T12,0),IF(Foglio2!U13="NO",Foglio2!U12,0),IF(Foglio2!V13="NO",Foglio2!V12,0),IF(Foglio2!W13="NO",Foglio2!W12,0),IF(Foglio2!X13="NO",Foglio2!X12,0),IF(Foglio2!Y13="NO",Foglio2!Y12,0),IF(Foglio2!Z13="NO",Foglio2!Z12,0),IF(Foglio2!AA13="NO",Foglio2!AA12,0),IF(Foglio2!AB13="NO",Foglio2!AB12,0),IF(Foglio2!AC13="NO",Foglio2!AC12,0),IF(Foglio2!AD13="NO",Foglio2!AD12,0),IF(Foglio2!AE13="NO",Foglio2!AE12,0),IF(Foglio2!AF13="NO",Foglio2!AF12,0),IF(Foglio2!AG13="NO",Foglio2!AG12,0),IF(Foglio2!AH13="NO",Foglio2!AH12,0),IF(Foglio2!AI13="NO",Foglio2!AI12,0),IF(Foglio2!AJ13="NO",Foglio2!AJ12,0),IF(Foglio2!AK13="NO",Foglio2!AK12,0),IF(Foglio2!AL13="NO",Foglio2!AL12,0),IF(Foglio2!AM13="NO",Foglio2!AM12,0),IF(Foglio2!AN13="NO",Foglio2!AN12,0))/COUNTIF(Foglio2!C13:AN13,"NO") -> 5.7857692 | E12: =SUM( IF(IFERROR(VLOOKUP(A12,'[1]1'!$A$5:$O$440,9,FALSE),0)=0,0,VLOOKUP(A12,'[1]1'!$A$5:$O$440,9,FALSE)), IF(IFERROR(VLOOKUP(A12,'[2]2'!$A$5:$O$440,9,FALSE),0)=0,0,VLOOKUP(A12,'[2]2'!$A$5:$O$440,9,FALSE)), IF(IFERROR(VLOOKUP(A12:'[3]3'!$A$5:$O$440,9,FALSE),0)=0,0,VLOOKUP(A12,'[3]3'!$A$5:$O$440,9,FALSE)), IF(IFERROR(VLOOKUP(A12,'[4]4'!$A$5:$O$440,9,FALSE),0)=0,0,VLOOKUP(A12,'[4]4'!$A$5:$O$440,9,FALSE)), IF(IFERROR(VLOOKUP(A12,'[5]5'!$A$5:$O$440,9,FALSE),0)=0,0,VLOOKUP(A12,'[5]5'!$A$5:$O$440,9,FALSE)), IF(IFERROR(VLOOKUP(A12,'[6]6'!$A$5:$O$440,9,FALSE),0)=0,0,VLOOKUP(A12,'[6]6'!$A$5:$O$440,9,FALSE)), IF(IFERROR(VLOOKUP(A12,'[7]7'!$A$5:$O$440,9,FALSE),0)=0,0,VLOOKUP(A12,'[7]7'!$A$5:$O$440,9,FALSE)), IF(IFERROR(VLOOKUP(A12,'[8]8'!$A$5:$O$440,9,FALSE),0)=0,0,VLOOKUP(A12,'[8]8'!$A$5:$O$440,9,FALSE)), IF(IFERROR(VLOOKUP(A12,'[9]9'!$A$5:$O$440,9,FALSE),0)=0,0,VLOOKUP(A12,'[9]9'!$A$5:$O$440,9,FALSE)), IF(IFERROR(VLOOKUP(A12,'[10]10'!$A$5:$O$440,9,FALSE),0)=0,0,VLOOKUP(A12,'[10]10'!$A$5:$O$440,9,FALSE)), IF(IFERROR(VLOOKUP(A12,'[11]11'!$A$5:$O$440,9,FALSE),0)=0,0,VLOOKUP(A12,'[11]11'!$A$5:$O$440,9,FALSE)), IF(IFERROR(VLOOKUP(A12,'[12]12'!$A$5:$O$440,9,FALSE),0)=0,0,VLOOKUP(A12,'[12]12'!$A$5:$O$440,9,FALSE)), IF(IFERROR(VLOOKUP(A12,'[13]13'!$A$5:$O$440,9,FALSE),0)=0,0,VLOOKUP(A12,'[13]13'!$A$5:$O$440,9,FALSE)), IF(IFERROR(VLOOKUP(A12,'[14]14'!$A$5:$O$440,9,FALSE),0)=0,0,VLOOKUP(A12,'[14]14'!$A$5:$O$440,9,FALSE)), IF(IFERROR(VLOOKUP(A12,'[15]15'!$A$5:$O$440,9,FALSE),0)=0,0,VLOOKUP(A12,'[15]15'!$A$5:$O$440,9,FALSE)), IF(IFERROR(VLOOKUP(A12,'[16]16'!$A$5:$O$440,9,FALSE),0)=0,0,VLOOKUP(A12,'[16]16'!$A$5:$O$440,9,FALSE)), IF(IFERROR(VLOOKUP(A12,'[17]17'!$A$5:$O$440,9,FALSE),0)=0,0,VLOOKUP(A12,'[17]17'!$A$5:$O$440,9,FALSE)), IF(IFERROR(VLOOKUP(A12,'[18]18'!$A$5:$O$440,9,FALSE),0)=0,0,VLOOKUP(A12,'[18]18'!$A$5:$O$440,9,FALSE)), IF(IFERROR(VLOOKUP(A12,'[19]19'!$A$5:$O$440,9,FALSE),0)=0,0,VLOOKUP(A12,'[19]19'!$A$5:$O$440,9,FALSE)), IF(IFERROR(VLOOKUP(A12,'[20]20'!$A$5:$O$440,9,FALSE),0)=0,0,VLOOKUP(A12,'[20]20'!$A$5:$O$440,9,FALSE)), IF(IFERROR(VLOOKUP(A12,'[21]21'!$A$5:$O$440,9,FALSE),0)=0,0,VLOOKUP(A12,'[21]21'!$A$5:$O$440,9,FALSE)), IF(IFERROR(VLOOKUP(A12,'[22]22'!$A$5:$O$440,9,FALSE),0)=0,0,VLOOKUP(A12,'[22]22'!$A$5:$O$440,9,FALSE)), IF(IFERROR(VLOOKUP(A12,'[23]23'!$A$5:$O$440,9,FALSE),0)=0,0,VLOOKUP(A12,'[23]23'!$A$5:$O$440,9,FALSE)), IF(IFERROR(VLOOKUP(A12,'[24]24'!$A$5:$O$440,9,FALSE),0)=0,0,VLOOKUP(A12,'[24]24'!$A$5:$O$440,9,FALSE)), IF(IFERROR(VLOOKUP(A12,'[25]25'!$A$5:$O$440,9,FALSE),0)=0,0,VLOOKUP(A12,'[25]25'!$A$5:$O$440,9,FALSE)), IF(IFERROR(VLOOKUP(A12,'[26]26'!$A$5:$O$440,9,FALSE),0)=0,0,VLOOKUP(A12,'[26]26'!$A$5:$O$440,9,FALSE)), IF(IFERROR(VLOOKUP(A12,'[27]27'!$A$5:$O$440,9,FALSE),0)=0,0,VLOOKUP(A12,'[27]27'!$A$5:$O$440,9,FALSE)), IF(IFERROR(VLOOKUP(A12,'[28]28'!$A$5:$O$440,9,FALSE),0)=0,0,VLOOKUP(A12,'[28]28'!$A$5:$O$440,9,FALSE)), IF(IFERROR(VLOOKUP(A12,'[29]29'!$A$5:$O$440,9,FALSE),0)=0,0,VLOOKUP(A12,'[29]29'!$A$5:$O$440,9,FALSE)), IF(IFERROR(VLOOKUP(A12,'[30]30'!$A$5:$O$440,9,FALSE),0)=0,0,VLOOKUP(A12,'[30]30'!$A$5:$O$440,9,FALSE)), IF(IFERROR(VLOOKUP(A12,'[31]31'!$A$5:$O$440,9,FALSE),0)=0,0,VLOOKUP(A12,'[31]31'!$A$5:$O$440,9,FALSE)), IF(IFERROR(VLOOKUP(A12,'[32]32'!$A$5:$O$440,9,FALSE),0)=0,0,VLOOKUP(A12,'[32]32'!$A$5:$O$440,9,FALSE)), IF(IFERROR(VLOOKUP(A12,'[33]33'!$A$5:$O$440,9,FALSE),0)=0,0,VLOOKUP(A12,'[33]33'!$A$5:$O$440,9,FALSE)), IF(IFERROR(VLOOKUP(A12,'[34]34'!$A$5:$O$440,9,FALSE),0)=0,0,VLOOKUP(A12,'[34]34'!$A$5:$O$440,9,FALSE)), IF(IFERROR(VLOOKUP(A12,'[35]35'!$A$5:$O$440,9,FALSE),0)=0,0,VLOOKUP(A12,'[35]35'!$A$5:$O$440,9,FALSE)), IF(IFERROR(VLOOKUP(A12,'[36]36'!$A$5:$O$440,9,FALSE),0)=0,0,VLOOKUP(A12,'[36]36'!$A$5:$O$440,9,FALSE)), IF(IFERROR(VLOOKUP(A12,'[37]37'!$A$5:$O$440,9,FALSE),0)=0,0,VLOOKUP(A12,'[37]37'!$A$5:$O$440,9,FALSE)), IF(IFERROR(VLOOKUP(A12,'[38]38'!$A$5:$O$440,9,FALSE),0)=0,0,VLOOKUP(A12,'[38]38'!$A$5:$O$440,9,FALSE)) ) -> 1 | F12: =SUM(E12, IF(IFERROR(VLOOKUP(A12,'[1]1'!$A$5:$O$440,5,FALSE),0)=0,0,VLOOKUP(A12,'[1]1'!$A$5:$O$440,5,FALSE)), IF(IFERROR(VLOOKUP(A12,'[2]2'!$A$5:$O$440,5,FALSE),0)=0,0,VLOOKUP(A12,'[2]2'!$A$5:$O$440,5,FALSE)), IF(IFERROR(VLOOKUP(A12,'[3]3'!$A$5:$O$440,5,FALSE),0)=0,0,VLOOKUP(A12,'[3]3'!$A$5:$O$440,5,FALSE)), IF(IFERROR(VLOOKUP(A12,'[4]4'!$A$5:$O$440,5,FALSE),0)=0,0,VLOOKUP(A12,'[4]4'!$A$5:$O$440,5,FALSE)), IF(IFERROR(VLOOKUP(A12,'[5]5'!$A$5:$O$440,5,FALSE),0)=0,0,VLOOKUP(A12,'[5]5'!$A$5:$O$440,5,FALSE)), IF(IFERROR(VLOOKUP(A12,'[6]6'!$A$5:$O$440,5,FALSE),0)=0,0,VLOOKUP(A12,'[6]6'!$A$5:$O$440,5,FALSE)), IF(IFERROR(VLOOKUP(A12,'[7]7'!$A$5:$O$440,5,FALSE),0)=0,0,VLOOKUP(A12,'[7]7'!$A$5:$O$440,5,FALSE)), IF(IFERROR(VLOOKUP(A12,'[8]8'!$A$5:$O$440,5,FALSE),0)=0,0,VLOOKUP(A12,'[8]8'!$A$5:$O$440,5,FALSE)), IF(IFERROR(VLOOKUP(A12,'[9]9'!$A$5:$O$440,5,FALSE),0)=0,0,VLOOKUP(A12,'[9]9'!$A$5:$O$440,5,FALSE)), IF(IFERROR(VLOOKUP(A12,'[10]10'!$A$5:$O$440,5,FALSE),0)=0,0,VLOOKUP(A12,'[10]10'!$A$5:$O$440,5,FALSE)), IF(IFERROR(VLOOKUP(A12,'[11]11'!$A$5:$O$440,5,FALSE),0)=0,0,VLOOKUP(A12,'[11]11'!$A$5:$O$440,5,FALSE)), IF(IFERROR(VLOOKUP(A12,'[12]12'!$A$5:$O$440,5,FALSE),0)=0,0,VLOOKUP(A12,'[12]12'!$A$5:$O$440,5,FALSE)), IF(IFERROR(VLOOKUP(A12,'[13]13'!$A$5:$O$440,5,FALSE),0)=0,0,VLOOKUP(A12,'[13]13'!$A$5:$O$440,5,FALSE)), IF(IFERROR(VLOOKUP(A12,'[14]14'!$A$5:$O$440,5,FALSE),0)=0,0,VLOOKUP(A12,'[14]14'!$A$5:$O$440,5,FALSE)), IF(IFERROR(VLOOKUP(A12,'[15]15'!$A$5:$O$440,5,FALSE),0)=0,0,VLOOKUP(A12,'[15]15'!$A$5:$O$440,5,FALSE)), IF(IFERROR(VLOOKUP(A12,'[16]16'!$A$5:$O$440,5,FALSE),0)=0,0,VLOOKUP(A12,'[16]16'!$A$5:$O$440,5,FALSE)), IF(IFERROR(VLOOKUP(A12,'[17]17'!$A$5:$O$440,5,FALSE),0)=0,0,VLOOKUP(A12,'[17]17'!$A$5:$O$440,5,FALSE)), IF(IFERROR(VLOOKUP(A12,'[18]18'!$A$5:$O$440,5,FALSE),0)=0,0,VLOOKUP(A12,'[18]18'!$A$5:$O$440,5,FALSE)), IF(IFERROR(VLOOKUP(A12,'[19]19'!$A$5:$O$440,5,FALSE),0)=0,0,VLOOKUP(A12,'[19]19'!$A$5:$O$440,5,FALSE)), IF(IFERROR(VLOOKUP(A12,'[20]20'!$A$5:$O$440,5,FALSE),0)=0,0,VLOOKUP(A12,'[20]20'!$A$5:$O$440,5,FALSE)), IF(IFERROR(VLOOKUP(A12,'[21]21'!$A$5:$O$440,5,FALSE),0)=0,0,VLOOKUP(A12,'[21]21'!$A$5:$O$440,5,FALSE)), IF(IFERROR(VLOOKUP(A12,'[22]22'!$A$5:$O$440,5,FALSE),0)=0,0,VLOOKUP(A12,'[22]22'!$A$5:$O$440,5,FALSE)), IF(IFERROR(VLOOKUP(A12,'[23]23'!$A$5:$O$440,5,FALSE),0)=0,0,VLOOKUP(A12,'[23]23'!$A$5:$O$440,5,FALSE)), IF(IFERROR(VLOOKUP(A12,'[24]24'!$A$5:$O$440,5,FALSE),0)=0,0,VLOOKUP(A12,'[24]24'!$A$5:$O$440,5,FALSE)), IF(IFERROR(VLOOKUP(A12,'[25]25'!$A$5:$O$440,5,FALSE),0)=0,0,VLOOKUP(A12,'[25]25'!$A$5:$O$440,5,FALSE)), IF(IFERROR(VLOOKUP(A12,'[26]26'!$A$5:$O$440,5,FALSE),0)=0,0,VLOOKUP(A12,'[26]26'!$A$5:$O$440,5,FALSE)), IF(IFERROR(VLOOKUP(A12,'[27]27'!$A$5:$O$440,5,FALSE),0)=0,0,VLOOKUP(A12,'[27]27'!$A$5:$O$440,5,FALSE)), IF(IFERROR(VLOOKUP(A12,'[28]28'!$A$5:$O$440,5,FALSE),0)=0,0,VLOOKUP(A12,'[28]28'!$A$5:$O$440,5,FALSE)), IF(IFERROR(VLOOKUP(A12,'[29]29'!$A$5:$O$440,5,FALSE),0)=0,0,VLOOKUP(A12,'[29]29'!$A$5:$O$440,5,FALSE)), IF(IFERROR(VLOOKUP(A12,'[30]30'!$A$5:$O$440,5,FALSE),0)=0,0,VLOOKUP(A12,'[30]30'!$A$5:$O$440,5,FALSE)), IF(IFERROR(VLOOKUP(A12,'[31]31'!$A$5:$O$440,5,FALSE),0)=0,0,VLOOKUP(A12,'[31]31'!$A$5:$O$440,5,FALSE)), IF(IFERROR(VLOOKUP(A12,'[32]32'!$A$5:$O$440,5,FALSE),0)=0,0,VLOOKUP(A12,'[32]32'!$A$5:$O$440,5,FALSE)), IF(IFERROR(VLOOKUP(A12,'[33]33'!$A$5:$O$440,5,FALSE),0)=0,0,VLOOKUP(A12,'[33]33'!$A$5:$O$440,5,FALSE)), IF(IFERROR(VLOOKUP(A12,'[34]34'!$A$5:$O$440,5,FALSE),0)=0,0,VLOOKUP(A12,'[34]34'!$A$5:$O$440,5,FALSE)), IF(IFERROR(VLOOKUP(A12,'[35]35'!$A$5:$O$440,5,FALSE),0)=0,0,VLOOKUP(A12,'[35]35'!$A$5:$O$440,5,FALSE)), IF(IFERROR(VLOOKUP(A12,'[36]36'!$A$5:$O$440,5,FALSE),0)=0,0,VLOOKUP(A12,'[36]36'!$A$5:$O$440,5,FALSE)), IF(IFERROR(VLOOKUP(A12,'[37]37'!$A$5:$O$440,5,FALSE),0)=0,0,VLOOKUP(A12,'[37]37'!$A$5:$O$440,5,FALSE)), IF(IFERROR(VLOOKUP(A12,'[38]38'!$A$5:$O$440,5,FALSE),0)=0,0,VLOOKUP(A12,'[38]38'!$A$5:$O$440,5,FALSE)) ) -> 11 | G12: =COUNTIF(Foglio2!C13:AN13,"GOL") -> 10 | H12: =I12-G12 -> 26 | I12: =38-COUNTIF(Foglio2!C13:AN13,"ASSENTE") -> 36 | J12: =G12/I12 -> 0.27777778 | K12: =IF(D12<5,"PESSIMA",IF(D12<5.25,"CATTIVA",IF(D12<5.5,"MEDIOCRE",IF(D12<5.75,"ACCETTABILE",IF(D12<6,"BUONA","ECCELLENTE"))))) -> BUONA
A14: =Foglio2!A14 -> 3495 | B14: =Foglio2!B14 -> ILICIC | C14: =AVERAGEIF(Foglio2!C14:AN14,">0") -> 6.0505882 | D14: =SUM(IF(Foglio2!C15="NO",Foglio2!C14,0),IF(Foglio2!D15="NO",Foglio2!D14,0),IF(Foglio2!E15="NO",Foglio2!E14,0),IF(Foglio2!F15="NO",Foglio2!F14,0),IF(Foglio2!G15="NO",Foglio2!G14,0),IF(Foglio2!H15="NO",Foglio2!H14,0),IF(Foglio2!I15="NO",Foglio2!I14,0),IF(Foglio2!J15="NO",Foglio2!J14,0),IF(Foglio2!K15="NO",Foglio2!K14,0),IF(Foglio2!L15="NO",Foglio2!L14,0),IF(Foglio2!M15="NO",Foglio2!M14,0),IF(Foglio2!N15="NO",Foglio2!N14,0),IF(Foglio2!O15="NO",Foglio2!O14,0),IF(Foglio2!P15="NO",Foglio2!P14,0),IF(Foglio2!Q15="NO",Foglio2!Q14,0),IF(Foglio2!R15="NO",Foglio2!R14,0),IF(Foglio2!S15="NO",Foglio2!S14,0),IF(Foglio2!T15="NO",Foglio2!T14,0),IF(Foglio2!U15="NO",Foglio2!U14,0),IF(Foglio2!V15="NO",Foglio2!V14,0),IF(Foglio2!W15="NO",Foglio2!W14,0),IF(Foglio2!X15="NO",Foglio2!X14,0),IF(Foglio2!Y15="NO",Foglio2!Y14,0),IF(Foglio2!Z15="NO",Foglio2!Z14,0),IF(Foglio2!AA15="NO",Foglio2!AA14,0),IF(Foglio2!AB15="NO",Foglio2!AB14,0),IF(Foglio2!AC15="NO",Foglio2!AC14,0),IF(Foglio2!AD15="NO",Foglio2!AD14,0),IF(Foglio2!AE15="NO",Foglio2!AE14,0),IF(Foglio2!AF15="NO",Foglio2!AF14,0),IF(Foglio2!AG15="NO",Foglio2!AG14,0),IF(Foglio2!AH15="NO",Foglio2!AH14,0),IF(Foglio2!AI15="NO",Foglio2!AI14,0),IF(Foglio2!AJ15="NO",Foglio2!AJ14,0),IF(Foglio2!AK15="NO",Foglio2!AK14,0),IF(Foglio2!AL15="NO",Foglio2!AL14,0),IF(Foglio2!AM15="NO",Foglio2!AM14,0),IF(Foglio2!AN15="NO",Foglio2!AN14,0))/COUNTIF(Foglio2!C15:AN15,"NO") -> 5.6911538 | E14: =SUM( IF(IFERROR(VLOOKUP(A14,'[1]1'!$A$5:$O$440,9,FALSE),0)=0,0,VLOOKUP(A14,'[1]1'!$A$5:$O$440,9,FALSE)), IF(IFERROR(VLOOKUP(A14,'[2]2'!$A$5:$O$440,9,FALSE),0)=0,0,VLOOKUP(A14,'[2]2'!$A$5:$O$440,9,FALSE)), IF(IFERROR(VLOOKUP(A14:'[3]3'!$A$5:$O$440,9,FALSE),0)=0,0,VLOOKUP(A14,'[3]3'!$A$5:$O$440,9,FALSE)), IF(IFERROR(VLOOKUP(A14,'[4]4'!$A$5:$O$440,9,FALSE),0)=0,0,VLOOKUP(A14,'[4]4'!$A$5:$O$440,9,FALSE)), IF(IFERROR(VLOOKUP(A14,'[5]5'!$A$5:$O$440,9,FALSE),0)=0,0,VLOOKUP(A14,'[5]5'!$A$5:$O$440,9,FALSE)), IF(IFERROR(VLOOKUP(A14,'[6]6'!$A$5:$O$440,9,FALSE),0)=0,0,VLOOKUP(A14,'[6]6'!$A$5:$O$440,9,FALSE)), IF(IFERROR(VLOOKUP(A14,'[7]7'!$A$5:$O$440,9,FALSE),0)=0,0,VLOOKUP(A14,'[7]7'!$A$5:$O$440,9,FALSE)), IF(IFERROR(VLOOKUP(A14,'[8]8'!$A$5:$O$440,9,FALSE),0)=0,0,VLOOKUP(A14,'[8]8'!$A$5:$O$440,9,FALSE)), IF(IFERROR(VLOOKUP(A14,'[9]9'!$A$5:$O$440,9,FALSE),0)=0,0,VLOOKUP(A14,'[9]9'!$A$5:$O$440,9,FALSE)), IF(IFERROR(VLOOKUP(A14,'[10]10'!$A$5:$O$440,9,FALSE),0)=0,0,VLOOKUP(A14,'[10]10'!$A$5:$O$440,9,FALSE)), IF(IFERROR(VLOOKUP(A14,'[11]11'!$A$5:$O$440,9,FALSE),0)=0,0,VLOOKUP(A14,'[11]11'!$A$5:$O$440,9,FALSE)), IF(IFERROR(VLOOKUP(A14,'[12]12'!$A$5:$O$440,9,FALSE),0)=0,0,VLOOKUP(A14,'[12]12'!$A$5:$O$440,9,FALSE)), IF(IFERROR(VLOOKUP(A14,'[13]13'!$A$5:$O$440,9,FALSE),0)=0,0,VLOOKUP(A14,'[13]13'!$A$5:$O$440,9,FALSE)), IF(IFERROR(VLOOKUP(A14,'[14]14'!$A$5:$O$440,9,FALSE),0)=0,0,VLOOKUP(A14,'[14]14'!$A$5:$O$440,9,FALSE)), IF(IFERROR(VLOOKUP(A14,'[15]15'!$A$5:$O$440,9,FALSE),0)=0,0,VLOOKUP(A14,'[15]15'!$A$5:$O$440,9,FALSE)), IF(IFERROR(VLOOKUP(A14,'[16]16'!$A$5:$O$440,9,FALSE),0)=0,0,VLOOKUP(A14,'[16]16'!$A$5:$O$440,9,FALSE)), IF(IFERROR(VLOOKUP(A14,'[17]17'!$A$5:$O$440,9,FALSE),0)=0,0,VLOOKUP(A14,'[17]17'!$A$5:$O$440,9,FALSE)), IF(IFERROR(VLOOKUP(A14,'[18]18'!$A$5:$O$440,9,FALSE),0)=0,0,VLOOKUP(A14,'[18]18'!$A$5:$O$440,9,FALSE)), IF(IFERROR(VLOOKUP(A14,'[19]19'!$A$5:$O$440,9,FALSE),0)=0,0,VLOOKUP(A14,'[19]19'!$A$5:$O$440,9,FALSE)), IF(IFERROR(VLOOKUP(A14,'[20]20'!$A$5:$O$440,9,FALSE),0)=0,0,VLOOKUP(A14,'[20]20'!$A$5:$O$440,9,FALSE)), IF(IFERROR(VLOOKUP(A14,'[21]21'!$A$5:$O$440,9,FALSE),0)=0,0,VLOOKUP(A14,'[21]21'!$A$5:$O$440,9,FALSE)), IF(IFERROR(VLOOKUP(A14,'[22]22'!$A$5:$O$440,9,FALSE),0)=0,0,VLOOKUP(A14,'[22]22'!$A$5:$O$440,9,FALSE)), IF(IFERROR(VLOOKUP(A14,'[23]23'!$A$5:$O$440,9,FALSE),0)=0,0,VLOOKUP(A14,'[23]23'!$A$5:$O$440,9,FALSE)), IF(IFERROR(VLOOKUP(A14,'[24]24'!$A$5:$O$440,9,FALSE),0)=0,0,VLOOKUP(A14,'[24]24'!$A$5:$O$440,9,FALSE)), IF(IFERROR(VLOOKUP(A14,'[25]25'!$A$5:$O$440,9,FALSE),0)=0,0,VLOOKUP(A14,'[25]25'!$A$5:$O$440,9,FALSE)), IF(IFERROR(VLOOKUP(A14,'[26]26'!$A$5:$O$440,9,FALSE),0)=0,0,VLOOKUP(A14,'[26]26'!$A$5:$O$440,9,FALSE)), IF(IFERROR(VLOOKUP(A14,'[27]27'!$A$5:$O$440,9,FALSE),0)=0,0,VLOOKUP(A14,'[27]27'!$A$5:$O$440,9,FALSE)), IF(IFERROR(VLOOKUP(A14,'[28]28'!$A$5:$O$440,9,FALSE),0)=0,0,VLOOKUP(A14,'[28]28'!$A$5:$O$440,9,FALSE)), IF(IFERROR(VLOOKUP(A14,'[29]29'!$A$5:$O$440,9,FALSE),0)=0,0,VLOOKUP(A14,'[29]29'!$A$5:$O$440,9,FALSE)), IF(IFERROR(VLOOKUP(A14,'[30]30'!$A$5:$O$440,9,FALSE),0)=0,0,VLOOKUP(A14,'[30]30'!$A$5:$O$440,9,FALSE)), IF(IFERROR(VLOOKUP(A14,'[31]31'!$A$5:$O$440,9,FALSE),0)=0,0,VLOOKUP(A14,'[31]31'!$A$5:$O$440,9,FALSE)), IF(IFERROR(VLOOKUP(A14,'[32]32'!$A$5:$O$440,9,FALSE),0)=0,0,VLOOKUP(A14,'[32]32'!$A$5:$O$440,9,FALSE)), IF(IFERROR(VLOOKUP(A14,'[33]33'!$A$5:$O$440,9,FALSE),0)=0,0,VLOOKUP(A14,'[33]33'!$A$5:$O$440,9,FALSE)), IF(IFERROR(VLOOKUP(A14,'[34]34'!$A$5:$O$440,9,FALSE),0)=0,0,VLOOKUP(A14,'[34]34'!$A$5:$O$440,9,FALSE)), IF(IFERROR(VLOOKUP(A14,'[35]35'!$A$5:$O$440,9,FALSE),0)=0,0,VLOOKUP(A14,'[35]35'!$A$5:$O$440,9,FALSE)), IF(IFERROR(VLOOKUP(A14,'[36]36'!$A$5:$O$440,9,FALSE),0)=0,0,VLOOKUP(A14,'[36]36'!$A$5:$O$440,9,FALSE)), IF(IFERROR(VLOOKUP(A14,'[37]37'!$A$5:$O$440,9,FALSE),0)=0,0,VLOOKUP(A14,'[37]37'!$A$5:$O$440,9,FALSE)), IF(IFERROR(VLOOKUP(A14,'[38]38'!$A$5:$O$440,9,FALSE),0)=0,0,VLOOKUP(A14,'[38]38'!$A$5:$O$440,9,FALSE)) ) -> 0 | F14: =SUM(E14, IF(IFERROR(VLOOKUP(A14,'[1]1'!$A$5:$O$440,5,FALSE),0)=0,0,VLOOKUP(A14,'[1]1'!$A$5:$O$440,5,FALSE)), IF(IFERROR(VLOOKUP(A14,'[2]2'!$A$5:$O$440,5,FALSE),0)=0,0,VLOOKUP(A14,'[2]2'!$A$5:$O$440,5,FALSE)), IF(IFERROR(VLOOKUP(A14,'[3]3'!$A$5:$O$440,5,FALSE),0)=0,0,VLOOKUP(A14,'[3]3'!$A$5:$O$440,5,FALSE)), IF(IFERROR(VLOOKUP(A14,'[4]4'!$A$5:$O$440,5,FALSE),0)=0,0,VLOOKUP(A14,'[4]4'!$A$5:$O$440,5,FALSE)), IF(IFERROR(VLOOKUP(A14,'[5]5'!$A$5:$O$440,5,FALSE),0)=0,0,VLOOKUP(A14,'[5]5'!$A$5:$O$440,5,FALSE)), IF(IFERROR(VLOOKUP(A14,'[6]6'!$A$5:$O$440,5,FALSE),0)=0,0,VLOOKUP(A14,'[6]6'!$A$5:$O$440,5,FALSE)), IF(IFERROR(VLOOKUP(A14,'[7]7'!$A$5:$O$440,5,FALSE),0)=0,0,VLOOKUP(A14,'[7]7'!$A$5:$O$440,5,FALSE)), IF(IFERROR(VLOOKUP(A14,'[8]8'!$A$5:$O$440,5,FALSE),0)=0,0,VLOOKUP(A14,'[8]8'!$A$5:$O$440,5,FALSE)), IF(IFERROR(VLOOKUP(A14,'[9]9'!$A$5:$O$440,5,FALSE),0)=0,0,VLOOKUP(A14,'[9]9'!$A$5:$O$440,5,FALSE)), IF(IFERROR(VLOOKUP(A14,'[10]10'!$A$5:$O$440,5,FALSE),0)=0,0,VLOOKUP(A14,'[10]10'!$A$5:$O$440,5,FALSE)), IF(IFERROR(VLOOKUP(A14,'[11]11'!$A$5:$O$440,5,FALSE),0)=0,0,VLOOKUP(A14,'[11]11'!$A$5:$O$440,5,FALSE)), IF(IFERROR(VLOOKUP(A14,'[12]12'!$A$5:$O$440,5,FALSE),0)=0,0,VLOOKUP(A14,'[12]12'!$A$5:$O$440,5,FALSE)), IF(IFERROR(VLOOKUP(A14,'[13]13'!$A$5:$O$440,5,FALSE),0)=0,0,VLOOKUP(A14,'[13]13'!$A$5:$O$440,5,FALSE)), IF(IFERROR(VLOOKUP(A14,'[14]14'!$A$5:$O$440,5,FALSE),0)=0,0,VLOOKUP(A14,'[14]14'!$A$5:$O$440,5,FALSE)), IF(IFERROR(VLOOKUP(A14,'[15]15'!$A$5:$O$440,5,FALSE),0)=0,0,VLOOKUP(A14,'[15]15'!$A$5:$O$440,5,FALSE)), IF(IFERROR(VLOOKUP(A14,'[16]16'!$A$5:$O$440,5,FALSE),0)=0,0,VLOOKUP(A14,'[16]16'!$A$5:$O$440,5,FALSE)), IF(IFERROR(VLOOKUP(A14,'[17]17'!$A$5:$O$440,5,FALSE),0)=0,0,VLOOKUP(A14,'[17]17'!$A$5:$O$440,5,FALSE)), IF(IFERROR(VLOOKUP(A14,'[18]18'!$A$5:$O$440,5,FALSE),0)=0,0,VLOOKUP(A14,'[18]18'!$A$5:$O$440,5,FALSE)), IF(IFERROR(VLOOKUP(A14,'[19]19'!$A$5:$O$440,5,FALSE),0)=0,0,VLOOKUP(A14,'[19]19'!$A$5:$O$440,5,FALSE)), IF(IFERROR(VLOOKUP(A14,'[20]20'!$A$5:$O$440,5,FALSE),0)=0,0,VLOOKUP(A14,'[20]20'!$A$5:$O$440,5,FALSE)), IF(IFERROR(VLOOKUP(A14,'[21]21'!$A$5:$O$440,5,FALSE),0)=0,0,VLOOKUP(A14,'[21]21'!$A$5:$O$440,5,FALSE)), IF(IFERROR(VLOOKUP(A14,'[22]22'!$A$5:$O$440,5,FALSE),0)=0,0,VLOOKUP(A14,'[22]22'!$A$5:$O$440,5,FALSE)), IF(IFERROR(VLOOKUP(A14,'[23]23'!$A$5:$O$440,5,FALSE),0)=0,0,VLOOKUP(A14,'[23]23'!$A$5:$O$440,5,FALSE)), IF(IFERROR(VLOOKUP(A14,'[24]24'!$A$5:$O$440,5,FALSE),0)=0,0,VLOOKUP(A14,'[24]24'!$A$5:$O$440,5,FALSE)), IF(IFERROR(VLOOKUP(A14,'[25]25'!$A$5:$O$440,5,FALSE),0)=0,0,VLOOKUP(A14,'[25]25'!$A$5:$O$440,5,FALSE)), IF(IFERROR(VLOOKUP(A14,'[26]26'!$A$5:$O$440,5,FALSE),0)=0,0,VLOOKUP(A14,'[26]26'!$A$5:$O$440,5,FALSE)), IF(IFERROR(VLOOKUP(A14,'[27]27'!$A$5:$O$440,5,FALSE),0)=0,0,VLOOKUP(A14,'[27]27'!$A$5:$O$440,5,FALSE)), IF(IFERROR(VLOOKUP(A14,'[28]28'!$A$5:$O$440,5,FALSE),0)=0,0,VLOOKUP(A14,'[28]28'!$A$5:$O$440,5,FALSE)), IF(IFERROR(VLOOKUP(A14,'[29]29'!$A$5:$O$440,5,FALSE),0)=0,0,VLOOKUP(A14,'[29]29'!$A$5:$O$440,5,FALSE)), IF(IFERROR(VLOOKUP(A14,'[30]30'!$A$5:$O$440,5,FALSE),0)=0,0,VLOOKUP(A14,'[30]30'!$A$5:$O$440,5,FALSE)), IF(IFERROR(VLOOKUP(A14,'[31]31'!$A$5:$O$440,5,FALSE),0)=0,0,VLOOKUP(A14,'[31]31'!$A$5:$O$440,5,FALSE)), IF(IFERROR(VLOOKUP(A14,'[32]32'!$A$5:$O$440,5,FALSE),0)=0,0,VLOOKUP(A14,'[32]32'!$A$5:$O$440,5,FALSE)), IF(IFERROR(VLOOKUP(A14,'[33]33'!$A$5:$O$440,5,FALSE),0)=0,0,VLOOKUP(A14,'[33]33'!$A$5:$O$440,5,FALSE)), IF(IFERROR(VLOOKUP(A14,'[34]34'!$A$5:$O$440,5,FALSE),0)=0,0,VLOOKUP(A14,'[34]34'!$A$5:$O$440,5,FALSE)), IF(IFERROR(VLOOKUP(A14,'[35]35'!$A$5:$O$440,5,FALSE),0)=0,0,VLOOKUP(A14,'[35]35'!$A$5:$O$440,5,FALSE)), IF(IFERROR(VLOOKUP(A14,'[36]36'!$A$5:$O$440,5,FALSE),0)=0,0,VLOOKUP(A14,'[36]36'!$A$5:$O$440,5,FALSE)), IF(IFERROR(VLOOKUP(A14,'[37]37'!$A$5:$O$440,5,FALSE),0)=0,0,VLOOKUP(A14,'[37]37'!$A$5:$O$440,5,FALSE)), IF(IFERROR(VLOOKUP(A14,'[38]38'!$A$5:$O$440,5,FALSE),0)=0,0,VLOOKUP(A14,'[38]38'!$A$5:$O$440,5,FALSE)) ) -> 8 | G14: =COUNTIF(Foglio2!C15:AN15,"GOL") -> 8 | H14: =I14-G14 -> 26 | I14: =38-COUNTIF(Foglio2!C15:AN15,"ASSENTE") -> 34 | J14: =G14/I14 -> 0.23529412 | K14: =IF(D14<5,"PESSIMA",IF(D14<5.25,"CATTIVA",IF(D14<5.5,"MEDIOCRE",IF(D14<5.75,"ACCETTABILE",IF(D14<6,"BUONA","ECCELLENTE"))))) -> ACCETTABILE
A16: =Foglio2!A16 -> 3205 | B16: =Foglio2!B16 -> HAMSIK | C16: =AVERAGEIF(Foglio2!C16:AN16,">0") -> 6.0062162 | D16: =SUM(IF(Foglio2!C17="NO",Foglio2!C16,0),IF(Foglio2!D17="NO",Foglio2!D16,0),IF(Foglio2!E17="NO",Foglio2!E16,0),IF(Foglio2!F17="NO",Foglio2!F16,0),IF(Foglio2!G17="NO",Foglio2!G16,0),IF(Foglio2!H17="NO",Foglio2!H16,0),IF(Foglio2!I17="NO",Foglio2!I16,0),IF(Foglio2!J17="NO",Foglio2!J16,0),IF(Foglio2!K17="NO",Foglio2!K16,0),IF(Foglio2!L17="NO",Foglio2!L16,0),IF(Foglio2!M17="NO",Foglio2!M16,0),IF(Foglio2!N17="NO",Foglio2!N16,0),IF(Foglio2!O17="NO",Foglio2!O16,0),IF(Foglio2!P17="NO",Foglio2!P16,0),IF(Foglio2!Q17="NO",Foglio2!Q16,0),IF(Foglio2!R17="NO",Foglio2!R16,0),IF(Foglio2!S17="NO",Foglio2!S16,0),IF(Foglio2!T17="NO",Foglio2!T16,0),IF(Foglio2!U17="NO",Foglio2!U16,0),IF(Foglio2!V17="NO",Foglio2!V16,0),IF(Foglio2!W17="NO",Foglio2!W16,0),IF(Foglio2!X17="NO",Foglio2!X16,0),IF(Foglio2!Y17="NO",Foglio2!Y16,0),IF(Foglio2!Z17="NO",Foglio2!Z16,0),IF(Foglio2!AA17="NO",Foglio2!AA16,0),IF(Foglio2!AB17="NO",Foglio2!AB16,0),IF(Foglio2!AC17="NO",Foglio2!AC16,0),IF(Foglio2!AD17="NO",Foglio2!AD16,0),IF(Foglio2!AE17="NO",Foglio2!AE16,0),IF(Foglio2!AF17="NO",Foglio2!AF16,0),IF(Foglio2!AG17="NO",Foglio2!AG16,0),IF(Foglio2!AH17="NO",Foglio2!AH16,0),IF(Foglio2!AI17="NO",Foglio2!AI16,0),IF(Foglio2!AJ17="NO",Foglio2!AJ16,0),IF(Foglio2!AK17="NO",Foglio2!AK16,0),IF(Foglio2!AL17="NO",Foglio2!AL16,0),IF(Foglio2!AM17="NO",Foglio2!AM16,0),IF(Foglio2!AN17="NO",Foglio2!AN16,0))/COUNTIF(Foglio2!C17:AN17,"NO") -> 5.7244444 | E16: =SUM( IF(IFERROR(VLOOKUP(A16,'[1]1'!$A$5:$O$440,9,FALSE),0)=0,0,VLOOKUP(A16,'[1]1'!$A$5:$O$440,9,FALSE)), IF(IFERROR(VLOOKUP(A16,'[2]2'!$A$5:$O$440,9,FALSE),0)=0,0,VLOOKUP(A16,'[2]2'!$A$5:$O$440,9,FALSE)), IF(IFERROR(VLOOKUP(A16:'[3]3'!$A$5:$O$440,9,FALSE),0)=0,0,VLOOKUP(A16,'[3]3'!$A$5:$O$440,9,FALSE)), IF(IFERROR(VLOOKUP(A16,'[4]4'!$A$5:$O$440,9,FALSE),0)=0,0,VLOOKUP(A16,'[4]4'!$A$5:$O$440,9,FALSE)), IF(IFERROR(VLOOKUP(A16,'[5]5'!$A$5:$O$440,9,FALSE),0)=0,0,VLOOKUP(A16,'[5]5'!$A$5:$O$440,9,FALSE)), IF(IFERROR(VLOOKUP(A16,'[6]6'!$A$5:$O$440,9,FALSE),0)=0,0,VLOOKUP(A16,'[6]6'!$A$5:$O$440,9,FALSE)), IF(IFERROR(VLOOKUP(A16,'[7]7'!$A$5:$O$440,9,FALSE),0)=0,0,VLOOKUP(A16,'[7]7'!$A$5:$O$440,9,FALSE)), IF(IFERROR(VLOOKUP(A16,'[8]8'!$A$5:$O$440,9,FALSE),0)=0,0,VLOOKUP(A16,'[8]8'!$A$5:$O$440,9,FALSE)), IF(IFERROR(VLOOKUP(A16,'[9]9'!$A$5:$O$440,9,FALSE),0)=0,0,VLOOKUP(A16,'[9]9'!$A$5:$O$440,9,FALSE)), IF(IFERROR(VLOOKUP(A16,'[10]10'!$A$5:$O$440,9,FALSE),0)=0,0,VLOOKUP(A16,'[10]10'!$A$5:$O$440,9,FALSE)), IF(IFERROR(VLOOKUP(A16,'[11]11'!$A$5:$O$440,9,FALSE),0)=0,0,VLOOKUP(A16,'[11]11'!$A$5:$O$440,9,FALSE)), IF(IFERROR(VLOOKUP(A16,'[12]12'!$A$5:$O$440,9,FALSE),0)=0,0,VLOOKUP(A16,'[12]12'!$A$5:$O$440,9,FALSE)), IF(IFERROR(VLOOKUP(A16,'[13]13'!$A$5:$O$440,9,FALSE),0)=0,0,VLOOKUP(A16,'[13]13'!$A$5:$O$440,9,FALSE)), IF(IFERROR(VLOOKUP(A16,'[14]14'!$A$5:$O$440,9,FALSE),0)=0,0,VLOOKUP(A16,'[14]14'!$A$5:$O$440,9,FALSE)), IF(IFERROR(VLOOKUP(A16,'[15]15'!$A$5:$O$440,9,FALSE),0)=0,0,VLOOKUP(A16,'[15]15'!$A$5:$O$440,9,FALSE)), IF(IFERROR(VLOOKUP(A16,'[16]16'!$A$5:$O$440,9,FALSE),0)=0,0,VLOOKUP(A16,'[16]16'!$A$5:$O$440,9,FALSE)), IF(IFERROR(VLOOKUP(A16,'[17]17'!$A$5:$O$440,9,FALSE),0)=0,0,VLOOKUP(A16,'[17]17'!$A$5:$O$440,9,FALSE)), IF(IFERROR(VLOOKUP(A16,'[18]18'!$A$5:$O$440,9,FALSE),0)=0,0,VLOOKUP(A16,'[18]18'!$A$5:$O$440,9,FALSE)), IF(IFERROR(VLOOKUP(A16,'[19]19'!$A$5:$O$440,9,FALSE),0)=0,0,VLOOKUP(A16,'[19]19'!$A$5:$O$440,9,FALSE)), IF(IFERROR(VLOOKUP(A16,'[20]20'!$A$5:$O$440,9,FALSE),0)=0,0,VLOOKUP(A16,'[20]20'!$A$5:$O$440,9,FALSE)), IF(IFERROR(VLOOKUP(A16,'[21]21'!$A$5:$O$440,9,FALSE),0)=0,0,VLOOKUP(A16,'[21]21'!$A$5:$O$440,9,FALSE)), IF(IFERROR(VLOOKUP(A16,'[22]22'!$A$5:$O$440,9,FALSE),0)=0,0,VLOOKUP(A16,'[22]22'!$A$5:$O$440,9,FALSE)), IF(IFERROR(VLOOKUP(A16,'[23]23'!$A$5:$O$440,9,FALSE),0)=0,0,VLOOKUP(A16,'[23]23'!$A$5:$O$440,9,FALSE)), IF(IFERROR(VLOOKUP(A16,'[24]24'!$A$5:$O$440,9,FALSE),0)=0,0,VLOOKUP(A16,'[24]24'!$A$5:$O$440,9,FALSE)), IF(IFERROR(VLOOKUP(A16,'[25]25'!$A$5:$O$440,9,FALSE),0)=0,0,VLOOKUP(A16,'[25]25'!$A$5:$O$440,9,FALSE)), IF(IFERROR(VLOOKUP(A16,'[26]26'!$A$5:$O$440,9,FALSE),0)=0,0,VLOOKUP(A16,'[26]26'!$A$5:$O$440,9,FALSE)), IF(IFERROR(VLOOKUP(A16,'[27]27'!$A$5:$O$440,9,FALSE),0)=0,0,VLOOKUP(A16,'[27]27'!$A$5:$O$440,9,FALSE)), IF(IFERROR(VLOOKUP(A16,'[28]28'!$A$5:$O$440,9,FALSE),0)=0,0,VLOOKUP(A16,'[28]28'!$A$5:$O$440,9,FALSE)), IF(IFERROR(VLOOKUP(A16,'[29]29'!$A$5:$O$440,9,FALSE),0)=0,0,VLOOKUP(A16,'[29]29'!$A$5:$O$440,9,FALSE)), IF(IFERROR(VLOOKUP(A16,'[30]30'!$A$5:$O$440,9,FALSE),0)=0,0,VLOOKUP(A16,'[30]30'!$A$5:$O$440,9,FALSE)), IF(IFERROR(VLOOKUP(A16,'[31]31'!$A$5:$O$440,9,FALSE),0)=0,0,VLOOKUP(A16,'[31]31'!$A$5:$O$440,9,FALSE)), IF(IFERROR(VLOOKUP(A16,'[32]32'!$A$5:$O$440,9,FALSE),0)=0,0,VLOOKUP(A16,'[32]32'!$A$5:$O$440,9,FALSE)), IF(IFERROR(VLOOKUP(A16,'[33]33'!$A$5:$O$440,9,FALSE),0)=0,0,VLOOKUP(A16,'[33]33'!$A$5:$O$440,9,FALSE)), IF(IFERROR(VLOOKUP(A16,'[34]34'!$A$5:$O$440,9,FALSE),0)=0,0,VLOOKUP(A16,'[34]34'!$A$5:$O$440,9,FALSE)), IF(IFERROR(VLOOKUP(A16,'[35]35'!$A$5:$O$440,9,FALSE),0)=0,0,VLOOKUP(A16,'[35]35'!$A$5:$O$440,9,FALSE)), IF(IFERROR(VLOOKUP(A16,'[36]36'!$A$5:$O$440,9,FALSE),0)=0,0,VLOOKUP(A16,'[36]36'!$A$5:$O$440,9,FALSE)), IF(IFERROR(VLOOKUP(A16,'[37]37'!$A$5:$O$440,9,FALSE),0)=0,0,VLOOKUP(A16,'[37]37'!$A$5:$O$440,9,FALSE)), IF(IFERROR(VLOOKUP(A16,'[38]38'!$A$5:$O$440,9,FALSE),0)=0,0,VLOOKUP(A16,'[38]38'!$A$5:$O$440,9,FALSE)) ) -> 2 | F16: =SUM(E16, IF(IFERROR(VLOOKUP(A16,'[1]1'!$A$5:$O$440,5,FALSE),0)=0,0,VLOOKUP(A16,'[1]1'!$A$5:$O$440,5,FALSE)), IF(IFERROR(VLOOKUP(A16,'[2]2'!$A$5:$O$440,5,FALSE),0)=0,0,VLOOKUP(A16,'[2]2'!$A$5:$O$440,5,FALSE)), IF(IFERROR(VLOOKUP(A16,'[3]3'!$A$5:$O$440,5,FALSE),0)=0,0,VLOOKUP(A16,'[3]3'!$A$5:$O$440,5,FALSE)), IF(IFERROR(VLOOKUP(A16,'[4]4'!$A$5:$O$440,5,FALSE),0)=0,0,VLOOKUP(A16,'[4]4'!$A$5:$O$440,5,FALSE)), IF(IFERROR(VLOOKUP(A16,'[5]5'!$A$5:$O$440,5,FALSE),0)=0,0,VLOOKUP(A16,'[5]5'!$A$5:$O$440,5,FALSE)), IF(IFERROR(VLOOKUP(A16,'[6]6'!$A$5:$O$440,5,FALSE),0)=0,0,VLOOKUP(A16,'[6]6'!$A$5:$O$440,5,FALSE)), IF(IFERROR(VLOOKUP(A16,'[7]7'!$A$5:$O$440,5,FALSE),0)=0,0,VLOOKUP(A16,'[7]7'!$A$5:$O$440,5,FALSE)), IF(IFERROR(VLOOKUP(A16,'[8]8'!$A$5:$O$440,5,FALSE),0)=0,0,VLOOKUP(A16,'[8]8'!$A$5:$O$440,5,FALSE)), IF(IFERROR(VLOOKUP(A16,'[9]9'!$A$5:$O$440,5,FALSE),0)=0,0,VLOOKUP(A16,'[9]9'!$A$5:$O$440,5,FALSE)), IF(IFERROR(VLOOKUP(A16,'[10]10'!$A$5:$O$440,5,FALSE),0)=0,0,VLOOKUP(A16,'[10]10'!$A$5:$O$440,5,FALSE)), IF(IFERROR(VLOOKUP(A16,'[11]11'!$A$5:$O$440,5,FALSE),0)=0,0,VLOOKUP(A16,'[11]11'!$A$5:$O$440,5,FALSE)), IF(IFERROR(VLOOKUP(A16,'[12]12'!$A$5:$O$440,5,FALSE),0)=0,0,VLOOKUP(A16,'[12]12'!$A$5:$O$440,5,FALSE)), IF(IFERROR(VLOOKUP(A16,'[13]13'!$A$5:$O$440,5,FALSE),0)=0,0,VLOOKUP(A16,'[13]13'!$A$5:$O$440,5,FALSE)), IF(IFERROR(VLOOKUP(A16,'[14]14'!$A$5:$O$440,5,FALSE),0)=0,0,VLOOKUP(A16,'[14]14'!$A$5:$O$440,5,FALSE)), IF(IFERROR(VLOOKUP(A16,'[15]15'!$A$5:$O$440,5,FALSE),0)=0,0,VLOOKUP(A16,'[15]15'!$A$5:$O$440,5,FALSE)), IF(IFERROR(VLOOKUP(A16,'[16]16'!$A$5:$O$440,5,FALSE),0)=0,0,VLOOKUP(A16,'[16]16'!$A$5:$O$440,5,FALSE)), IF(IFERROR(VLOOKUP(A16,'[17]17'!$A$5:$O$440,5,FALSE),0)=0,0,VLOOKUP(A16,'[17]17'!$A$5:$O$440,5,FALSE)), IF(IFERROR(VLOOKUP(A16,'[18]18'!$A$5:$O$440,5,FALSE),0)=0,0,VLOOKUP(A16,'[18]18'!$A$5:$O$440,5,FALSE)), IF(IFERROR(VLOOKUP(A16,'[19]19'!$A$5:$O$440,5,FALSE),0)=0,0,VLOOKUP(A16,'[19]19'!$A$5:$O$440,5,FALSE)), IF(IFERROR(VLOOKUP(A16,'[20]20'!$A$5:$O$440,5,FALSE),0)=0,0,VLOOKUP(A16,'[20]20'!$A$5:$O$440,5,FALSE)), IF(IFERROR(VLOOKUP(A16,'[21]21'!$A$5:$O$440,5,FALSE),0)=0,0,VLOOKUP(A16,'[21]21'!$A$5:$O$440,5,FALSE)), IF(IFERROR(VLOOKUP(A16,'[22]22'!$A$5:$O$440,5,FALSE),0)=0,0,VLOOKUP(A16,'[22]22'!$A$5:$O$440,5,FALSE)), IF(IFERROR(VLOOKUP(A16,'[23]23'!$A$5:$O$440,5,FALSE),0)=0,0,VLOOKUP(A16,'[23]23'!$A$5:$O$440,5,FALSE)), IF(IFERROR(VLOOKUP(A16,'[24]24'!$A$5:$O$440,5,FALSE),0)=0,0,VLOOKUP(A16,'[24]24'!$A$5:$O$440,5,FALSE)), IF(IFERROR(VLOOKUP(A16,'[25]25'!$A$5:$O$440,5,FALSE),0)=0,0,VLOOKUP(A16,'[25]25'!$A$5:$O$440,5,FALSE)), IF(IFERROR(VLOOKUP(A16,'[26]26'!$A$5:$O$440,5,FALSE),0)=0,0,VLOOKUP(A16,'[26]26'!$A$5:$O$440,5,FALSE)), IF(IFERROR(VLOOKUP(A16,'[27]27'!$A$5:$O$440,5,FALSE),0)=0,0,VLOOKUP(A16,'[27]27'!$A$5:$O$440,5,FALSE)), IF(IFERROR(VLOOKUP(A16,'[28]28'!$A$5:$O$440,5,FALSE),0)=0,0,VLOOKUP(A16,'[28]28'!$A$5:$O$440,5,FALSE)), IF(IFERROR(VLOOKUP(A16,'[29]29'!$A$5:$O$440,5,FALSE),0)=0,0,VLOOKUP(A16,'[29]29'!$A$5:$O$440,5,FALSE)), IF(IFERROR(VLOOKUP(A16,'[30]30'!$A$5:$O$440,5,FALSE),0)=0,0,VLOOKUP(A16,'[30]30'!$A$5:$O$440,5,FALSE)), IF(IFERROR(VLOOKUP(A16,'[31]31'!$A$5:$O$440,5,FALSE),0)=0,0,VLOOKUP(A16,'[31]31'!$A$5:$O$440,5,FALSE)), IF(IFERROR(VLOOKUP(A16,'[32]32'!$A$5:$O$440,5,FALSE),0)=0,0,VLOOKUP(A16,'[32]32'!$A$5:$O$440,5,FALSE)), IF(IFERROR(VLOOKUP(A16,'[33]33'!$A$5:$O$440,5,FALSE),0)=0,0,VLOOKUP(A16,'[33]33'!$A$5:$O$440,5,FALSE)), IF(IFERROR(VLOOKUP(A16,'[34]34'!$A$5:$O$440,5,FALSE),0)=0,0,VLOOKUP(A16,'[34]34'!$A$5:$O$440,5,FALSE)), IF(IFERROR(VLOOKUP(A16,'[35]35'!$A$5:$O$440,5,FALSE),0)=0,0,VLOOKUP(A16,'[35]35'!$A$5:$O$440,5,FALSE)), IF(IFERROR(VLOOKUP(A16,'[36]36'!$A$5:$O$440,5,FALSE),0)=0,0,VLOOKUP(A16,'[36]36'!$A$5:$O$440,5,FALSE)), IF(IFERROR(VLOOKUP(A16,'[37]37'!$A$5:$O$440,5,FALSE),0)=0,0,VLOOKUP(A16,'[37]37'!$A$5:$O$440,5,FALSE)), IF(IFERROR(VLOOKUP(A16,'[38]38'!$A$5:$O$440,5,FALSE),0)=0,0,VLOOKUP(A16,'[38]38'!$A$5:$O$440,5,FALSE)) ) -> 11 | G16: =COUNTIF(Foglio2!C17:AN17,"GOL") -> 10 | H16: =I16-G16 -> 27 | I16: =38-COUNTIF(Foglio2!C17:AN17,"ASSENTE") -> 37 | J16: =G16/I16 -> 0.27027027 | K16: =IF(D16<5,"PESSIMA",IF(D16<5.25,"CATTIVA",IF(D16<5.5,"MEDIOCRE",IF(D16<5.75,"ACCETTABILE",IF(D16<6,"BUONA","ECCELLENTE"))))) -> ACCETTABILE
A18: =Foglio2!A18 -> 3359 | B18: =Foglio2!B18 -> DI VAIO | C18: =AVERAGEIF(Foglio2!C18:AN18,">0") -> 5.9673684 | D18: =SUM(IF(Foglio2!C19="NO",Foglio2!C18,0),IF(Foglio2!D19="NO",Foglio2!D18,0),IF(Foglio2!E19="NO",Foglio2!E18,0),IF(Foglio2!F19="NO",Foglio2!F18,0),IF(Foglio2!G19="NO",Foglio2!G18,0),IF(Foglio2!H19="NO",Foglio2!H18,0),IF(Foglio2!I19="NO",Foglio2!I18,0),IF(Foglio2!J19="NO",Foglio2!J18,0),IF(Foglio2!K19="NO",Foglio2!K18,0),IF(Foglio2!L19="NO",Foglio2!L18,0),IF(Foglio2!M19="NO",Foglio2!M18,0),IF(Foglio2!N19="NO",Foglio2!N18,0),IF(Foglio2!O19="NO",Foglio2!O18,0),IF(Foglio2!P19="NO",Foglio2!P18,0),IF(Foglio2!Q19="NO",Foglio2!Q18,0),IF(Foglio2!R19="NO",Foglio2!R18,0),IF(Foglio2!S19="NO",Foglio2!S18,0),IF(Foglio2!T19="NO",Foglio2!T18,0),IF(Foglio2!U19="NO",Foglio2!U18,0),IF(Foglio2!V19="NO",Foglio2!V18,0),IF(Foglio2!W19="NO",Foglio2!W18,0),IF(Foglio2!X19="NO",Foglio2!X18,0),IF(Foglio2!Y19="NO",Foglio2!Y18,0),IF(Foglio2!Z19="NO",Foglio2!Z18,0),IF(Foglio2!AA19="NO",Foglio2!AA18,0),IF(Foglio2!AB19="NO",Foglio2!AB18,0),IF(Foglio2!AC19="NO",Foglio2!AC18,0),IF(Foglio2!AD19="NO",Foglio2!AD18,0),IF(Foglio2!AE19="NO",Foglio2!AE18,0),IF(Foglio2!AF19="NO",Foglio2!AF18,0),IF(Foglio2!AG19="NO",Foglio2!AG18,0),IF(Foglio2!AH19="NO",Foglio2!AH18,0),IF(Foglio2!AI19="NO",Foglio2!AI18,0),IF(Foglio2!AJ19="NO",Foglio2!AJ18,0),IF(Foglio2!AK19="NO",Foglio2!AK18,0),IF(Foglio2!AL19="NO",Foglio2!AL18,0),IF(Foglio2!AM19="NO",Foglio2!AM18,0),IF(Foglio2!AN19="NO",Foglio2!AN18,0))/COUNTIF(Foglio2!C19:AN19,"NO") -> 5.4063636 | E18: =SUM( IF(IFERROR(VLOOKUP(A18,'[1]1'!$A$5:$O$440,9,FALSE),0)=0,0,VLOOKUP(A18,'[1]1'!$A$5:$O$440,9,FALSE)), IF(IFERROR(VLOOKUP(A18,'[2]2'!$A$5:$O$440,9,FALSE),0)=0,0,VLOOKUP(A18,'[2]2'!$A$5:$O$440,9,FALSE)), IF(IFERROR(VLOOKUP(A18:'[3]3'!$A$5:$O$440,9,FALSE),0)=0,0,VLOOKUP(A18,'[3]3'!$A$5:$O$440,9,FALSE)), IF(IFERROR(VLOOKUP(A18,'[4]4'!$A$5:$O$440,9,FALSE),0)=0,0,VLOOKUP(A18,'[4]4'!$A$5:$O$440,9,FALSE)), IF(IFERROR(VLOOKUP(A18,'[5]5'!$A$5:$O$440,9,FALSE),0)=0,0,VLOOKUP(A18,'[5]5'!$A$5:$O$440,9,FALSE)), IF(IFERROR(VLOOKUP(A18,'[6]6'!$A$5:$O$440,9,FALSE),0)=0,0,VLOOKUP(A18,'[6]6'!$A$5:$O$440,9,FALSE)), IF(IFERROR(VLOOKUP(A18,'[7]7'!$A$5:$O$440,9,FALSE),0)=0,0,VLOOKUP(A18,'[7]7'!$A$5:$O$440,9,FALSE)), IF(IFERROR(VLOOKUP(A18,'[8]8'!$A$5:$O$440,9,FALSE),0)=0,0,VLOOKUP(A18,'[8]8'!$A$5:$O$440,9,FALSE)), IF(IFERROR(VLOOKUP(A18,'[9]9'!$A$5:$O$440,9,FALSE),0)=0,0,VLOOKUP(A18,'[9]9'!$A$5:$O$440,9,FALSE)), IF(IFERROR(VLOOKUP(A18,'[10]10'!$A$5:$O$440,9,FALSE),0)=0,0,VLOOKUP(A18,'[10]10'!$A$5:$O$440,9,FALSE)), IF(IFERROR(VLOOKUP(A18,'[11]11'!$A$5:$O$440,9,FALSE),0)=0,0,VLOOKUP(A18,'[11]11'!$A$5:$O$440,9,FALSE)), IF(IFERROR(VLOOKUP(A18,'[12]12'!$A$5:$O$440,9,FALSE),0)=0,0,VLOOKUP(A18,'[12]12'!$A$5:$O$440,9,FALSE)), IF(IFERROR(VLOOKUP(A18,'[13]13'!$A$5:$O$440,9,FALSE),0)=0,0,VLOOKUP(A18,'[13]13'!$A$5:$O$440,9,FALSE)), IF(IFERROR(VLOOKUP(A18,'[14]14'!$A$5:$O$440,9,FALSE),0)=0,0,VLOOKUP(A18,'[14]14'!$A$5:$O$440,9,FALSE)), IF(IFERROR(VLOOKUP(A18,'[15]15'!$A$5:$O$440,9,FALSE),0)=0,0,VLOOKUP(A18,'[15]15'!$A$5:$O$440,9,FALSE)), IF(IFERROR(VLOOKUP(A18,'[16]16'!$A$5:$O$440,9,FALSE),0)=0,0,VLOOKUP(A18,'[16]16'!$A$5:$O$440,9,FALSE)), IF(IFERROR(VLOOKUP(A18,'[17]17'!$A$5:$O$440,9,FALSE),0)=0,0,VLOOKUP(A18,'[17]17'!$A$5:$O$440,9,FALSE)), IF(IFERROR(VLOOKUP(A18,'[18]18'!$A$5:$O$440,9,FALSE),0)=0,0,VLOOKUP(A18,'[18]18'!$A$5:$O$440,9,FALSE)), IF(IFERROR(VLOOKUP(A18,'[19]19'!$A$5:$O$440,9,FALSE),0)=0,0,VLOOKUP(A18,'[19]19'!$A$5:$O$440,9,FALSE)), IF(IFERROR(VLOOKUP(A18,'[20]20'!$A$5:$O$440,9,FALSE),0)=0,0,VLOOKUP(A18,'[20]20'!$A$5:$O$440,9,FALSE)), IF(IFERROR(VLOOKUP(A18,'[21]21'!$A$5:$O$440,9,FALSE),0)=0,0,VLOOKUP(A18,'[21]21'!$A$5:$O$440,9,FALSE)), IF(IFERROR(VLOOKUP(A18,'[22]22'!$A$5:$O$440,9,FALSE),0)=0,0,VLOOKUP(A18,'[22]22'!$A$5:$O$440,9,FALSE)), IF(IFERROR(VLOOKUP(A18,'[23]23'!$A$5:$O$440,9,FALSE),0)=0,0,VLOOKUP(A18,'[23]23'!$A$5:$O$440,9,FALSE)), IF(IFERROR(VLOOKUP(A18,'[24]24'!$A$5:$O$440,9,FALSE),0)=0,0,VLOOKUP(A18,'[24]24'!$A$5:$O$440,9,FALSE)), IF(IFERROR(VLOOKUP(A18,'[25]25'!$A$5:$O$440,9,FALSE),0)=0,0,VLOOKUP(A18,'[25]25'!$A$5:$O$440,9,FALSE)), IF(IFERROR(VLOOKUP(A18,'[26]26'!$A$5:$O$440,9,FALSE),0)=0,0,VLOOKUP(A18,'[26]26'!$A$5:$O$440,9,FALSE)), IF(IFERROR(VLOOKUP(A18,'[27]27'!$A$5:$O$440,9,FALSE),0)=0,0,VLOOKUP(A18,'[27]27'!$A$5:$O$440,9,FALSE)), IF(IFERROR(VLOOKUP(A18,'[28]28'!$A$5:$O$440,9,FALSE),0)=0,0,VLOOKUP(A18,'[28]28'!$A$5:$O$440,9,FALSE)), IF(IFERROR(VLOOKUP(A18,'[29]29'!$A$5:$O$440,9,FALSE),0)=0,0,VLOOKUP(A18,'[29]29'!$A$5:$O$440,9,FALSE)), IF(IFERROR(VLOOKUP(A18,'[30]30'!$A$5:$O$440,9,FALSE),0)=0,0,VLOOKUP(A18,'[30]30'!$A$5:$O$440,9,FALSE)), IF(IFERROR(VLOOKUP(A18,'[31]31'!$A$5:$O$440,9,FALSE),0)=0,0,VLOOKUP(A18,'[31]31'!$A$5:$O$440,9,FALSE)), IF(IFERROR(VLOOKUP(A18,'[32]32'!$A$5:$O$440,9,FALSE),0)=0,0,VLOOKUP(A18,'[32]32'!$A$5:$O$440,9,FALSE)), IF(IFERROR(VLOOKUP(A18,'[33]33'!$A$5:$O$440,9,FALSE),0)=0,0,VLOOKUP(A18,'[33]33'!$A$5:$O$440,9,FALSE)), IF(IFERROR(VLOOKUP(A18,'[34]34'!$A$5:$O$440,9,FALSE),0)=0,0,VLOOKUP(A18,'[34]34'!$A$5:$O$440,9,FALSE)), IF(IFERROR(VLOOKUP(A18,'[35]35'!$A$5:$O$440,9,FALSE),0)=0,0,VLOOKUP(A18,'[35]35'!$A$5:$O$440,9,FALSE)), IF(IFERROR(VLOOKUP(A18,'[36]36'!$A$5:$O$440,9,FALSE),0)=0,0,VLOOKUP(A18,'[36]36'!$A$5:$O$440,9,FALSE)), IF(IFERROR(VLOOKUP(A18,'[37]37'!$A$5:$O$440,9,FALSE),0)=0,0,VLOOKUP(A18,'[37]37'!$A$5:$O$440,9,FALSE)), IF(IFERROR(VLOOKUP(A18,'[38]38'!$A$5:$O$440,9,FALSE),0)=0,0,VLOOKUP(A18,'[38]38'!$A$5:$O$440,9,FALSE)) ) -> 1 | F18: =SUM(E18, IF(IFERROR(VLOOKUP(A18,'[1]1'!$A$5:$O$440,5,FALSE),0)=0,0,VLOOKUP(A18,'[1]1'!$A$5:$O$440,5,FALSE)), IF(IFERROR(VLOOKUP(A18,'[2]2'!$A$5:$O$440,5,FALSE),0)=0,0,VLOOKUP(A18,'[2]2'!$A$5:$O$440,5,FALSE)), IF(IFERROR(VLOOKUP(A18,'[3]3'!$A$5:$O$440,5,FALSE),0)=0,0,VLOOKUP(A18,'[3]3'!$A$5:$O$440,5,FALSE)), IF(IFERROR(VLOOKUP(A18,'[4]4'!$A$5:$O$440,5,FALSE),0)=0,0,VLOOKUP(A18,'[4]4'!$A$5:$O$440,5,FALSE)), IF(IFERROR(VLOOKUP(A18,'[5]5'!$A$5:$O$440,5,FALSE),0)=0,0,VLOOKUP(A18,'[5]5'!$A$5:$O$440,5,FALSE)), IF(IFERROR(VLOOKUP(A18,'[6]6'!$A$5:$O$440,5,FALSE),0)=0,0,VLOOKUP(A18,'[6]6'!$A$5:$O$440,5,FALSE)), IF(IFERROR(VLOOKUP(A18,'[7]7'!$A$5:$O$440,5,FALSE),0)=0,0,VLOOKUP(A18,'[7]7'!$A$5:$O$440,5,FALSE)), IF(IFERROR(VLOOKUP(A18,'[8]8'!$A$5:$O$440,5,FALSE),0)=0,0,VLOOKUP(A18,'[8]8'!$A$5:$O$440,5,FALSE)), IF(IFERROR(VLOOKUP(A18,'[9]9'!$A$5:$O$440,5,FALSE),0)=0,0,VLOOKUP(A18,'[9]9'!$A$5:$O$440,5,FALSE)), IF(IFERROR(VLOOKUP(A18,'[10]10'!$A$5:$O$440,5,FALSE),0)=0,0,VLOOKUP(A18,'[10]10'!$A$5:$O$440,5,FALSE)), IF(IFERROR(VLOOKUP(A18,'[11]11'!$A$5:$O$440,5,FALSE),0)=0,0,VLOOKUP(A18,'[11]11'!$A$5:$O$440,5,FALSE)), IF(IFERROR(VLOOKUP(A18,'[12]12'!$A$5:$O$440,5,FALSE),0)=0,0,VLOOKUP(A18,'[12]12'!$A$5:$O$440,5,FALSE)), IF(IFERROR(VLOOKUP(A18,'[13]13'!$A$5:$O$440,5,FALSE),0)=0,0,VLOOKUP(A18,'[13]13'!$A$5:$O$440,5,FALSE)), IF(IFERROR(VLOOKUP(A18,'[14]14'!$A$5:$O$440,5,FALSE),0)=0,0,VLOOKUP(A18,'[14]14'!$A$5:$O$440,5,FALSE)), IF(IFERROR(VLOOKUP(A18,'[15]15'!$A$5:$O$440,5,FALSE),0)=0,0,VLOOKUP(A18,'[15]15'!$A$5:$O$440,5,FALSE)), IF(IFERROR(VLOOKUP(A18,'[16]16'!$A$5:$O$440,5,FALSE),0)=0,0,VLOOKUP(A18,'[16]16'!$A$5:$O$440,5,FALSE)), IF(IFERROR(VLOOKUP(A18,'[17]17'!$A$5:$O$440,5,FALSE),0)=0,0,VLOOKUP(A18,'[17]17'!$A$5:$O$440,5,FALSE)), IF(IFERROR(VLOOKUP(A18,'[18]18'!$A$5:$O$440,5,FALSE),0)=0,0,VLOOKUP(A18,'[18]18'!$A$5:$O$440,5,FALSE)), IF(IFERROR(VLOOKUP(A18,'[19]19'!$A$5:$O$440,5,FALSE),0)=0,0,VLOOKUP(A18,'[19]19'!$A$5:$O$440,5,FALSE)), IF(IFERROR(VLOOKUP(A18,'[20]20'!$A$5:$O$440,5,FALSE),0)=0,0,VLOOKUP(A18,'[20]20'!$A$5:$O$440,5,FALSE)), IF(IFERROR(VLOOKUP(A18,'[21]21'!$A$5:$O$440,5,FALSE),0)=0,0,VLOOKUP(A18,'[21]21'!$A$5:$O$440,5,FALSE)), IF(IFERROR(VLOOKUP(A18,'[22]22'!$A$5:$O$440,5,FALSE),0)=0,0,VLOOKUP(A18,'[22]22'!$A$5:$O$440,5,FALSE)), IF(IFERROR(VLOOKUP(A18,'[23]23'!$A$5:$O$440,5,FALSE),0)=0,0,VLOOKUP(A18,'[23]23'!$A$5:$O$440,5,FALSE)), IF(IFERROR(VLOOKUP(A18,'[24]24'!$A$5:$O$440,5,FALSE),0)=0,0,VLOOKUP(A18,'[24]24'!$A$5:$O$440,5,FALSE)), IF(IFERROR(VLOOKUP(A18,'[25]25'!$A$5:$O$440,5,FALSE),0)=0,0,VLOOKUP(A18,'[25]25'!$A$5:$O$440,5,FALSE)), IF(IFERROR(VLOOKUP(A18,'[26]26'!$A$5:$O$440,5,FALSE),0)=0,0,VLOOKUP(A18,'[26]26'!$A$5:$O$440,5,FALSE)), IF(IFERROR(VLOOKUP(A18,'[27]27'!$A$5:$O$440,5,FALSE),0)=0,0,VLOOKUP(A18,'[27]27'!$A$5:$O$440,5,FALSE)), IF(IFERROR(VLOOKUP(A18,'[28]28'!$A$5:$O$440,5,FALSE),0)=0,0,VLOOKUP(A18,'[28]28'!$A$5:$O$440,5,FALSE)), IF(IFERROR(VLOOKUP(A18,'[29]29'!$A$5:$O$440,5,FALSE),0)=0,0,VLOOKUP(A18,'[29]29'!$A$5:$O$440,5,FALSE)), IF(IFERROR(VLOOKUP(A18,'[30]30'!$A$5:$O$440,5,FALSE),0)=0,0,VLOOKUP(A18,'[30]30'!$A$5:$O$440,5,FALSE)), IF(IFERROR(VLOOKUP(A18,'[31]31'!$A$5:$O$440,5,FALSE),0)=0,0,VLOOKUP(A18,'[31]31'!$A$5:$O$440,5,FALSE)), IF(IFERROR(VLOOKUP(A18,'[32]32'!$A$5:$O$440,5,FALSE),0)=0,0,VLOOKUP(A18,'[32]32'!$A$5:$O$440,5,FALSE)), IF(IFERROR(VLOOKUP(A18,'[33]33'!$A$5:$O$440,5,FALSE),0)=0,0,VLOOKUP(A18,'[33]33'!$A$5:$O$440,5,FALSE)), IF(IFERROR(VLOOKUP(A18,'[34]34'!$A$5:$O$440,5,FALSE),0)=0,0,VLOOKUP(A18,'[34]34'!$A$5:$O$440,5,FALSE)), IF(IFERROR(VLOOKUP(A18,'[35]35'!$A$5:$O$440,5,FALSE),0)=0,0,VLOOKUP(A18,'[35]35'!$A$5:$O$440,5,FALSE)), IF(IFERROR(VLOOKUP(A18,'[36]36'!$A$5:$O$440,5,FALSE),0)=0,0,VLOOKUP(A18,'[36]36'!$A$5:$O$440,5,FALSE)), IF(IFERROR(VLOOKUP(A18,'[37]37'!$A$5:$O$440,5,FALSE),0)=0,0,VLOOKUP(A18,'[37]37'!$A$5:$O$440,5,FALSE)), IF(IFERROR(VLOOKUP(A18,'[38]38'!$A$5:$O$440,5,FALSE),0)=0,0,VLOOKUP(A18,'[38]38'!$A$5:$O$440,5,FALSE)) ) -> 19 | G18: =COUNTIF(Foglio2!C19:AN19,"GOL") -> 16 | H18: =I18-G18 -> 22 | I18: =38-COUNTIF(Foglio2!C19:AN19,"ASSENTE") -> 38 | J18: =G18/I18 -> 0.42105263 | K18: =IF(D18<5,"PESSIMA",IF(D18<5.25,"CATTIVA",IF(D18<5.5,"MEDIOCRE",IF(D18<5.75,"ACCETTABILE",IF(D18<6,"BUONA","ECCELLENTE"))))) -> MEDIOCRE
A20: =Foglio2!A20 -> 3402 | B20: =Foglio2!B20 -> PAZZINI | C20: =AVERAGEIF(Foglio2!C20:AN20,">0") -> 6.0508333 | D20: =SUM(IF(Foglio2!C21="NO",Foglio2!C20,0),IF(Foglio2!D21="NO",Foglio2!D20,0),IF(Foglio2!E21="NO",Foglio2!E20,0),IF(Foglio2!F21="NO",Foglio2!F20,0),IF(Foglio2!G21="NO",Foglio2!G20,0),IF(Foglio2!H21="NO",Foglio2!H20,0),IF(Foglio2!I21="NO",Foglio2!I20,0),IF(Foglio2!J21="NO",Foglio2!J20,0),IF(Foglio2!K21="NO",Foglio2!K20,0),IF(Foglio2!L21="NO",Foglio2!L20,0),IF(Foglio2!M21="NO",Foglio2!M20,0),IF(Foglio2!N21="NO",Foglio2!N20,0),IF(Foglio2!O21="NO",Foglio2!O20,0),IF(Foglio2!P21="NO",Foglio2!P20,0),IF(Foglio2!Q21="NO",Foglio2!Q20,0),IF(Foglio2!R21="NO",Foglio2!R20,0),IF(Foglio2!S21="NO",Foglio2!S20,0),IF(Foglio2!T21="NO",Foglio2!T20,0),IF(Foglio2!U21="NO",Foglio2!U20,0),IF(Foglio2!V21="NO",Foglio2!V20,0),IF(Foglio2!W21="NO",Foglio2!W20,0),IF(Foglio2!X21="NO",Foglio2!X20,0),IF(Foglio2!Y21="NO",Foglio2!Y20,0),IF(Foglio2!Z21="NO",Foglio2!Z20,0),IF(Foglio2!AA21="NO",Foglio2!AA20,0),IF(Foglio2!AB21="NO",Foglio2!AB20,0),IF(Foglio2!AC21="NO",Foglio2!AC20,0),IF(Foglio2!AD21="NO",Foglio2!AD20,0),IF(Foglio2!AE21="NO",Foglio2!AE20,0),IF(Foglio2!AF21="NO",Foglio2!AF20,0),IF(Foglio2!AG21="NO",Foglio2!AG20,0),IF(Foglio2!AH21="NO",Foglio2!AH20,0),IF(Foglio2!AI21="NO",Foglio2!AI20,0),IF(Foglio2!AJ21="NO",Foglio2!AJ20,0),IF(Foglio2!AK21="NO",Foglio2!AK20,0),IF(Foglio2!AL21="NO",Foglio2!AL20,0),IF(Foglio2!AM21="NO",Foglio2!AM20,0),IF(Foglio2!AN21="NO",Foglio2!AN20,0))/COUNTIF(Foglio2!C21:AN21,"NO") -> 5.5020833 | E20: =SUM( IF(IFERROR(VLOOKUP(A20,'[1]1'!$A$5:$O$440,9,FALSE),0)=0,0,VLOOKUP(A20,'[1]1'!$A$5:$O$440,9,FALSE)), IF(IFERROR(VLOOKUP(A20,'[2]2'!$A$5:$O$440,9,FALSE),0)=0,0,VLOOKUP(A20,'[2]2'!$A$5:$O$440,9,FALSE)), IF(IFERROR(VLOOKUP(A20:'[3]3'!$A$5:$O$440,9,FALSE),0)=0,0,VLOOKUP(A20,'[3]3'!$A$5:$O$440,9,FALSE)), IF(IFERROR(VLOOKUP(A20,'[4]4'!$A$5:$O$440,9,FALSE),0)=0,0,VLOOKUP(A20,'[4]4'!$A$5:$O$440,9,FALSE)), IF(IFERROR(VLOOKUP(A20,'[5]5'!$A$5:$O$440,9,FALSE),0)=0,0,VLOOKUP(A20,'[5]5'!$A$5:$O$440,9,FALSE)), IF(IFERROR(VLOOKUP(A20,'[6]6'!$A$5:$O$440,9,FALSE),0)=0,0,VLOOKUP(A20,'[6]6'!$A$5:$O$440,9,FALSE)), IF(IFERROR(VLOOKUP(A20,'[7]7'!$A$5:$O$440,9,FALSE),0)=0,0,VLOOKUP(A20,'[7]7'!$A$5:$O$440,9,FALSE)), IF(IFERROR(VLOOKUP(A20,'[8]8'!$A$5:$O$440,9,FALSE),0)=0,0,VLOOKUP(A20,'[8]8'!$A$5:$O$440,9,FALSE)), IF(IFERROR(VLOOKUP(A20,'[9]9'!$A$5:$O$440,9,FALSE),0)=0,0,VLOOKUP(A20,'[9]9'!$A$5:$O$440,9,FALSE)), IF(IFERROR(VLOOKUP(A20,'[10]10'!$A$5:$O$440,9,FALSE),0)=0,0,VLOOKUP(A20,'[10]10'!$A$5:$O$440,9,FALSE)), IF(IFERROR(VLOOKUP(A20,'[11]11'!$A$5:$O$440,9,FALSE),0)=0,0,VLOOKUP(A20,'[11]11'!$A$5:$O$440,9,FALSE)), IF(IFERROR(VLOOKUP(A20,'[12]12'!$A$5:$O$440,9,FALSE),0)=0,0,VLOOKUP(A20,'[12]12'!$A$5:$O$440,9,FALSE)), IF(IFERROR(VLOOKUP(A20,'[13]13'!$A$5:$O$440,9,FALSE),0)=0,0,VLOOKUP(A20,'[13]13'!$A$5:$O$440,9,FALSE)), IF(IFERROR(VLOOKUP(A20,'[14]14'!$A$5:$O$440,9,FALSE),0)=0,0,VLOOKUP(A20,'[14]14'!$A$5:$O$440,9,FALSE)), IF(IFERROR(VLOOKUP(A20,'[15]15'!$A$5:$O$440,9,FALSE),0)=0,0,VLOOKUP(A20,'[15]15'!$A$5:$O$440,9,FALSE)), IF(IFERROR(VLOOKUP(A20,'[16]16'!$A$5:$O$440,9,FALSE),0)=0,0,VLOOKUP(A20,'[16]16'!$A$5:$O$440,9,FALSE)), IF(IFERROR(VLOOKUP(A20,'[17]17'!$A$5:$O$440,9,FALSE),0)=0,0,VLOOKUP(A20,'[17]17'!$A$5:$O$440,9,FALSE)), IF(IFERROR(VLOOKUP(A20,'[18]18'!$A$5:$O$440,9,FALSE),0)=0,0,VLOOKUP(A20,'[18]18'!$A$5:$O$440,9,FALSE)), IF(IFERROR(VLOOKUP(A20,'[19]19'!$A$5:$O$440,9,FALSE),0)=0,0,VLOOKUP(A20,'[19]19'!$A$5:$O$440,9,FALSE)), IF(IFERROR(VLOOKUP(A20,'[20]20'!$A$5:$O$440,9,FALSE),0)=0,0,VLOOKUP(A20,'[20]20'!$A$5:$O$440,9,FALSE)), IF(IFERROR(VLOOKUP(A20,'[21]21'!$A$5:$O$440,9,FALSE),0)=0,0,VLOOKUP(A20,'[21]21'!$A$5:$O$440,9,FALSE)), IF(IFERROR(VLOOKUP(A20,'[22]22'!$A$5:$O$440,9,FALSE),0)=0,0,VLOOKUP(A20,'[22]22'!$A$5:$O$440,9,FALSE)), IF(IFERROR(VLOOKUP(A20,'[23]23'!$A$5:$O$440,9,FALSE),0)=0,0,VLOOKUP(A20,'[23]23'!$A$5:$O$440,9,FALSE)), IF(IFERROR(VLOOKUP(A20,'[24]24'!$A$5:$O$440,9,FALSE),0)=0,0,VLOOKUP(A20,'[24]24'!$A$5:$O$440,9,FALSE)), IF(IFERROR(VLOOKUP(A20,'[25]25'!$A$5:$O$440,9,FALSE),0)=0,0,VLOOKUP(A20,'[25]25'!$A$5:$O$440,9,FALSE)), IF(IFERROR(VLOOKUP(A20,'[26]26'!$A$5:$O$440,9,FALSE),0)=0,0,VLOOKUP(A20,'[26]26'!$A$5:$O$440,9,FALSE)), IF(IFERROR(VLOOKUP(A20,'[27]27'!$A$5:$O$440,9,FALSE),0)=0,0,VLOOKUP(A20,'[27]27'!$A$5:$O$440,9,FALSE)), IF(IFERROR(VLOOKUP(A20,'[28]28'!$A$5:$O$440,9,FALSE),0)=0,0,VLOOKUP(A20,'[28]28'!$A$5:$O$440,9,FALSE)), IF(IFERROR(VLOOKUP(A20,'[29]29'!$A$5:$O$440,9,FALSE),0)=0,0,VLOOKUP(A20,'[29]29'!$A$5:$O$440,9,FALSE)), IF(IFERROR(VLOOKUP(A20,'[30]30'!$A$5:$O$440,9,FALSE),0)=0,0,VLOOKUP(A20,'[30]30'!$A$5:$O$440,9,FALSE)), IF(IFERROR(VLOOKUP(A20,'[31]31'!$A$5:$O$440,9,FALSE),0)=0,0,VLOOKUP(A20,'[31]31'!$A$5:$O$440,9,FALSE)), IF(IFERROR(VLOOKUP(A20,'[32]32'!$A$5:$O$440,9,FALSE),0)=0,0,VLOOKUP(A20,'[32]32'!$A$5:$O$440,9,FALSE)), IF(IFERROR(VLOOKUP(A20,'[33]33'!$A$5:$O$440,9,FALSE),0)=0,0,VLOOKUP(A20,'[33]33'!$A$5:$O$440,9,FALSE)), IF(IFERROR(VLOOKUP(A20,'[34]34'!$A$5:$O$440,9,FALSE),0)=0,0,VLOOKUP(A20,'[34]34'!$A$5:$O$440,9,FALSE)), IF(IFERROR(VLOOKUP(A20,'[35]35'!$A$5:$O$440,9,FALSE),0)=0,0,VLOOKUP(A20,'[35]35'!$A$5:$O$440,9,FALSE)), IF(IFERROR(VLOOKUP(A20,'[36]36'!$A$5:$O$440,9,FALSE),0)=0,0,VLOOKUP(A20,'[36]36'!$A$5:$O$440,9,FALSE)), IF(IFERROR(VLOOKUP(A20,'[37]37'!$A$5:$O$440,9,FALSE),0)=0,0,VLOOKUP(A20,'[37]37'!$A$5:$O$440,9,FALSE)), IF(IFERROR(VLOOKUP(A20,'[38]38'!$A$5:$O$440,9,FALSE),0)=0,0,VLOOKUP(A20,'[38]38'!$A$5:$O$440,9,FALSE)) ) -> 2 | F20: =SUM(E20, IF(IFERROR(VLOOKUP(A20,'[1]1'!$A$5:$O$440,5,FALSE),0)=0,0,VLOOKUP(A20,'[1]1'!$A$5:$O$440,5,FALSE)), IF(IFERROR(VLOOKUP(A20,'[2]2'!$A$5:$O$440,5,FALSE),0)=0,0,VLOOKUP(A20,'[2]2'!$A$5:$O$440,5,FALSE)), IF(IFERROR(VLOOKUP(A20,'[3]3'!$A$5:$O$440,5,FALSE),0)=0,0,VLOOKUP(A20,'[3]3'!$A$5:$O$440,5,FALSE)), IF(IFERROR(VLOOKUP(A20,'[4]4'!$A$5:$O$440,5,FALSE),0)=0,0,VLOOKUP(A20,'[4]4'!$A$5:$O$440,5,FALSE)), IF(IFERROR(VLOOKUP(A20,'[5]5'!$A$5:$O$440,5,FALSE),0)=0,0,VLOOKUP(A20,'[5]5'!$A$5:$O$440,5,FALSE)), IF(IFERROR(VLOOKUP(A20,'[6]6'!$A$5:$O$440,5,FALSE),0)=0,0,VLOOKUP(A20,'[6]6'!$A$5:$O$440,5,FALSE)), IF(IFERROR(VLOOKUP(A20,'[7]7'!$A$5:$O$440,5,FALSE),0)=0,0,VLOOKUP(A20,'[7]7'!$A$5:$O$440,5,FALSE)), IF(IFERROR(VLOOKUP(A20,'[8]8'!$A$5:$O$440,5,FALSE),0)=0,0,VLOOKUP(A20,'[8]8'!$A$5:$O$440,5,FALSE)), IF(IFERROR(VLOOKUP(A20,'[9]9'!$A$5:$O$440,5,FALSE),0)=0,0,VLOOKUP(A20,'[9]9'!$A$5:$O$440,5,FALSE)), IF(IFERROR(VLOOKUP(A20,'[10]10'!$A$5:$O$440,5,FALSE),0)=0,0,VLOOKUP(A20,'[10]10'!$A$5:$O$440,5,FALSE)), IF(IFERROR(VLOOKUP(A20,'[11]11'!$A$5:$O$440,5,FALSE),0)=0,0,VLOOKUP(A20,'[11]11'!$A$5:$O$440,5,FALSE)), IF(IFERROR(VLOOKUP(A20,'[12]12'!$A$5:$O$440,5,FALSE),0)=0,0,VLOOKUP(A20,'[12]12'!$A$5:$O$440,5,FALSE)), IF(IFERROR(VLOOKUP(A20,'[13]13'!$A$5:$O$440,5,FALSE),0)=0,0,VLOOKUP(A20,'[13]13'!$A$5:$O$440,5,FALSE)), IF(IFERROR(VLOOKUP(A20,'[14]14'!$A$5:$O$440,5,FALSE),0)=0,0,VLOOKUP(A20,'[14]14'!$A$5:$O$440,5,FALSE)), IF(IFERROR(VLOOKUP(A20,'[15]15'!$A$5:$O$440,5,FALSE),0)=0,0,VLOOKUP(A20,'[15]15'!$A$5:$O$440,5,FALSE)), IF(IFERROR(VLOOKUP(A20,'[16]16'!$A$5:$O$440,5,FALSE),0)=0,0,VLOOKUP(A20,'[16]16'!$A$5:$O$440,5,FALSE)), IF(IFERROR(VLOOKUP(A20,'[17]17'!$A$5:$O$440,5,FALSE),0)=0,0,VLOOKUP(A20,'[17]17'!$A$5:$O$440,5,FALSE)), IF(IFERROR(VLOOKUP(A20,'[18]18'!$A$5:$O$440,5,FALSE),0)=0,0,VLOOKUP(A20,'[18]18'!$A$5:$O$440,5,FALSE)), IF(IFERROR(VLOOKUP(A20,'[19]19'!$A$5:$O$440,5,FALSE),0)=0,0,VLOOKUP(A20,'[19]19'!$A$5:$O$440,5,FALSE)), IF(IFERROR(VLOOKUP(A20,'[20]20'!$A$5:$O$440,5,FALSE),0)=0,0,VLOOKUP(A20,'[20]20'!$A$5:$O$440,5,FALSE)), IF(IFERROR(VLOOKUP(A20,'[21]21'!$A$5:$O$440,5,FALSE),0)=0,0,VLOOKUP(A20,'[21]21'!$A$5:$O$440,5,FALSE)), IF(IFERROR(VLOOKUP(A20,'[22]22'!$A$5:$O$440,5,FALSE),0)=0,0,VLOOKUP(A20,'[22]22'!$A$5:$O$440,5,FALSE)), IF(IFERROR(VLOOKUP(A20,'[23]23'!$A$5:$O$440,5,FALSE),0)=0,0,VLOOKUP(A20,'[23]23'!$A$5:$O$440,5,FALSE)), IF(IFERROR(VLOOKUP(A20,'[24]24'!$A$5:$O$440,5,FALSE),0)=0,0,VLOOKUP(A20,'[24]24'!$A$5:$O$440,5,FALSE)), IF(IFERROR(VLOOKUP(A20,'[25]25'!$A$5:$O$440,5,FALSE),0)=0,0,VLOOKUP(A20,'[25]25'!$A$5:$O$440,5,FALSE)), IF(IFERROR(VLOOKUP(A20,'[26]26'!$A$5:$O$440,5,FALSE),0)=0,0,VLOOKUP(A20,'[26]26'!$A$5:$O$440,5,FALSE)), IF(IFERROR(VLOOKUP(A20,'[27]27'!$A$5:$O$440,5,FALSE),0)=0,0,VLOOKUP(A20,'[27]27'!$A$5:$O$440,5,FALSE)), IF(IFERROR(VLOOKUP(A20,'[28]28'!$A$5:$O$440,5,FALSE),0)=0,0,VLOOKUP(A20,'[28]28'!$A$5:$O$440,5,FALSE)), IF(IFERROR(VLOOKUP(A20,'[29]29'!$A$5:$O$440,5,FALSE),0)=0,0,VLOOKUP(A20,'[29]29'!$A$5:$O$440,5,FALSE)), IF(IFERROR(VLOOKUP(A20,'[30]30'!$A$5:$O$440,5,FALSE),0)=0,0,VLOOKUP(A20,'[30]30'!$A$5:$O$440,5,FALSE)), IF(IFERROR(VLOOKUP(A20,'[31]31'!$A$5:$O$440,5,FALSE),0)=0,0,VLOOKUP(A20,'[31]31'!$A$5:$O$440,5,FALSE)), IF(IFERROR(VLOOKUP(A20,'[32]32'!$A$5:$O$440,5,FALSE),0)=0,0,VLOOKUP(A20,'[32]32'!$A$5:$O$440,5,FALSE)), IF(IFERROR(VLOOKUP(A20,'[33]33'!$A$5:$O$440,5,FALSE),0)=0,0,VLOOKUP(A20,'[33]33'!$A$5:$O$440,5,FALSE)), IF(IFERROR(VLOOKUP(A20,'[34]34'!$A$5:$O$440,5,FALSE),0)=0,0,VLOOKUP(A20,'[34]34'!$A$5:$O$440,5,FALSE)), IF(IFERROR(VLOOKUP(A20,'[35]35'!$A$5:$O$440,5,FALSE),0)=0,0,VLOOKUP(A20,'[35]35'!$A$5:$O$440,5,FALSE)), IF(IFERROR(VLOOKUP(A20,'[36]36'!$A$5:$O$440,5,FALSE),0)=0,0,VLOOKUP(A20,'[36]36'!$A$5:$O$440,5,FALSE)), IF(IFERROR(VLOOKUP(A20,'[37]37'!$A$5:$O$440,5,FALSE),0)=0,0,VLOOKUP(A20,'[37]37'!$A$5:$O$440,5,FALSE)), IF(IFERROR(VLOOKUP(A20,'[38]38'!$A$5:$O$440,5,FALSE),0)=0,0,VLOOKUP(A20,'[38]38'!$A$5:$O$440,5,FALSE)) ) -> 17 | G20: =COUNTIF(Foglio2!C21:AN21,"GOL") -> 12 | H20: =I20-G20 -> 24 | I20: =38-COUNTIF(Foglio2!C21:AN21,"ASSENTE") -> 36 | J20: =G20/I20 -> 0.33333333 | K20: =IF(D20<5,"PESSIMA",IF(D20<5.25,"CATTIVA",IF(D20<5.5,"MEDIOCRE",IF(D20<5.75,"ACCETTABILE",IF(D20<6,"BUONA","ECCELLENTE"))))) -> ACCETTABILE
A22: =Foglio2!A22 -> 3381 | B22: =Foglio2!B22 -> LAVEZZI | C22: =AVERAGEIF(Foglio2!C22:AN22,">0") -> 6.4258065 | D22: =SUM(IF(Foglio2!C23="NO",Foglio2!C22,0),IF(Foglio2!D23="NO",Foglio2!D22,0),IF(Foglio2!E23="NO",Foglio2!E22,0),IF(Foglio2!F23="NO",Foglio2!F22,0),IF(Foglio2!G23="NO",Foglio2!G22,0),IF(Foglio2!H23="NO",Foglio2!H22,0),IF(Foglio2!I23="NO",Foglio2!I22,0),IF(Foglio2!J23="NO",Foglio2!J22,0),IF(Foglio2!K23="NO",Foglio2!K22,0),IF(Foglio2!L23="NO",Foglio2!L22,0),IF(Foglio2!M23="NO",Foglio2!M22,0),IF(Foglio2!N23="NO",Foglio2!N22,0),IF(Foglio2!O23="NO",Foglio2!O22,0),IF(Foglio2!P23="NO",Foglio2!P22,0),IF(Foglio2!Q23="NO",Foglio2!Q22,0),IF(Foglio2!R23="NO",Foglio2!R22,0),IF(Foglio2!S23="NO",Foglio2!S22,0),IF(Foglio2!T23="NO",Foglio2!T22,0),IF(Foglio2!U23="NO",Foglio2!U22,0),IF(Foglio2!V23="NO",Foglio2!V22,0),IF(Foglio2!W23="NO",Foglio2!W22,0),IF(Foglio2!X23="NO",Foglio2!X22,0),IF(Foglio2!Y23="NO",Foglio2!Y22,0),IF(Foglio2!Z23="NO",Foglio2!Z22,0),IF(Foglio2!AA23="NO",Foglio2!AA22,0),IF(Foglio2!AB23="NO",Foglio2!AB22,0),IF(Foglio2!AC23="NO",Foglio2!AC22,0),IF(Foglio2!AD23="NO",Foglio2!AD22,0),IF(Foglio2!AE23="NO",Foglio2!AE22,0),IF(Foglio2!AF23="NO",Foglio2!AF22,0),IF(Foglio2!AG23="NO",Foglio2!AG22,0),IF(Foglio2!AH23="NO",Foglio2!AH22,0),IF(Foglio2!AI23="NO",Foglio2!AI22,0),IF(Foglio2!AJ23="NO",Foglio2!AJ22,0),IF(Foglio2!AK23="NO",Foglio2!AK22,0),IF(Foglio2!AL23="NO",Foglio2!AL22,0),IF(Foglio2!AM23="NO",Foglio2!AM22,0),IF(Foglio2!AN23="NO",Foglio2!AN22,0))/COUNTIF(Foglio2!C23:AN23,"NO") -> 6.2228 | E22: =SUM( IF(IFERROR(VLOOKUP(A22,'[1]1'!$A$5:$O$440,9,FALSE),0)=0,0,VLOOKUP(A22,'[1]1'!$A$5:$O$440,9,FALSE)), IF(IFERROR(VLOOKUP(A22,'[2]2'!$A$5:$O$440,9,FALSE),0)=0,0,VLOOKUP(A22,'[2]2'!$A$5:$O$440,9,FALSE)), IF(IFERROR(VLOOKUP(A22:'[3]3'!$A$5:$O$440,9,FALSE),0)=0,0,VLOOKUP(A22,'[3]3'!$A$5:$O$440,9,FALSE)), IF(IFERROR(VLOOKUP(A22,'[4]4'!$A$5:$O$440,9,FALSE),0)=0,0,VLOOKUP(A22,'[4]4'!$A$5:$O$440,9,FALSE)), IF(IFERROR(VLOOKUP(A22,'[5]5'!$A$5:$O$440,9,FALSE),0)=0,0,VLOOKUP(A22,'[5]5'!$A$5:$O$440,9,FALSE)), IF(IFERROR(VLOOKUP(A22,'[6]6'!$A$5:$O$440,9,FALSE),0)=0,0,VLOOKUP(A22,'[6]6'!$A$5:$O$440,9,FALSE)), IF(IFERROR(VLOOKUP(A22,'[7]7'!$A$5:$O$440,9,FALSE),0)=0,0,VLOOKUP(A22,'[7]7'!$A$5:$O$440,9,FALSE)), IF(IFERROR(VLOOKUP(A22,'[8]8'!$A$5:$O$440,9,FALSE),0)=0,0,VLOOKUP(A22,'[8]8'!$A$5:$O$440,9,FALSE)), IF(IFERROR(VLOOKUP(A22,'[9]9'!$A$5:$O$440,9,FALSE),0)=0,0,VLOOKUP(A22,'[9]9'!$A$5:$O$440,9,FALSE)), IF(IFERROR(VLOOKUP(A22,'[10]10'!$A$5:$O$440,9,FALSE),0)=0,0,VLOOKUP(A22,'[10]10'!$A$5:$O$440,9,FALSE)), IF(IFERROR(VLOOKUP(A22,'[11]11'!$A$5:$O$440,9,FALSE),0)=0,0,VLOOKUP(A22,'[11]11'!$A$5:$O$440,9,FALSE)), IF(IFERROR(VLOOKUP(A22,'[12]12'!$A$5:$O$440,9,FALSE),0)=0,0,VLOOKUP(A22,'[12]12'!$A$5:$O$440,9,FALSE)), IF(IFERROR(VLOOKUP(A22,'[13]13'!$A$5:$O$440,9,FALSE),0)=0,0,VLOOKUP(A22,'[13]13'!$A$5:$O$440,9,FALSE)), IF(IFERROR(VLOOKUP(A22,'[14]14'!$A$5:$O$440,9,FALSE),0)=0,0,VLOOKUP(A22,'[14]14'!$A$5:$O$440,9,FALSE)), IF(IFERROR(VLOOKUP(A22,'[15]15'!$A$5:$O$440,9,FALSE),0)=0,0,VLOOKUP(A22,'[15]15'!$A$5:$O$440,9,FALSE)), IF(IFERROR(VLOOKUP(A22,'[16]16'!$A$5:$O$440,9,FALSE),0)=0,0,VLOOKUP(A22,'[16]16'!$A$5:$O$440,9,FALSE)), IF(IFERROR(VLOOKUP(A22,'[17]17'!$A$5:$O$440,9,FALSE),0)=0,0,VLOOKUP(A22,'[17]17'!$A$5:$O$440,9,FALSE)), IF(IFERROR(VLOOKUP(A22,'[18]18'!$A$5:$O$440,9,FALSE),0)=0,0,VLOOKUP(A22,'[18]18'!$A$5:$O$440,9,FALSE)), IF(IFERROR(VLOOKUP(A22,'[19]19'!$A$5:$O$440,9,FALSE),0)=0,0,VLOOKUP(A22,'[19]19'!$A$5:$O$440,9,FALSE)), IF(IFERROR(VLOOKUP(A22,'[20]20'!$A$5:$O$440,9,FALSE),0)=0,0,VLOOKUP(A22,'[20]20'!$A$5:$O$440,9,FALSE)), IF(IFERROR(VLOOKUP(A22,'[21]21'!$A$5:$O$440,9,FALSE),0)=0,0,VLOOKUP(A22,'[21]21'!$A$5:$O$440,9,FALSE)), IF(IFERROR(VLOOKUP(A22,'[22]22'!$A$5:$O$440,9,FALSE),0)=0,0,VLOOKUP(A22,'[22]22'!$A$5:$O$440,9,FALSE)), IF(IFERROR(VLOOKUP(A22,'[23]23'!$A$5:$O$440,9,FALSE),0)=0,0,VLOOKUP(A22,'[23]23'!$A$5:$O$440,9,FALSE)), IF(IFERROR(VLOOKUP(A22,'[24]24'!$A$5:$O$440,9,FALSE),0)=0,0,VLOOKUP(A22,'[24]24'!$A$5:$O$440,9,FALSE)), IF(IFERROR(VLOOKUP(A22,'[25]25'!$A$5:$O$440,9,FALSE),0)=0,0,VLOOKUP(A22,'[25]25'!$A$5:$O$440,9,FALSE)), IF(IFERROR(VLOOKUP(A22,'[26]26'!$A$5:$O$440,9,FALSE),0)=0,0,VLOOKUP(A22,'[26]26'!$A$5:$O$440,9,FALSE)), IF(IFERROR(VLOOKUP(A22,'[27]27'!$A$5:$O$440,9,FALSE),0)=0,0,VLOOKUP(A22,'[27]27'!$A$5:$O$440,9,FALSE)), IF(IFERROR(VLOOKUP(A22,'[28]28'!$A$5:$O$440,9,FALSE),0)=0,0,VLOOKUP(A22,'[28]28'!$A$5:$O$440,9,FALSE)), IF(IFERROR(VLOOKUP(A22,'[29]29'!$A$5:$O$440,9,FALSE),0)=0,0,VLOOKUP(A22,'[29]29'!$A$5:$O$440,9,FALSE)), IF(IFERROR(VLOOKUP(A22,'[30]30'!$A$5:$O$440,9,FALSE),0)=0,0,VLOOKUP(A22,'[30]30'!$A$5:$O$440,9,FALSE)), IF(IFERROR(VLOOKUP(A22,'[31]31'!$A$5:$O$440,9,FALSE),0)=0,0,VLOOKUP(A22,'[31]31'!$A$5:$O$440,9,FALSE)), IF(IFERROR(VLOOKUP(A22,'[32]32'!$A$5:$O$440,9,FALSE),0)=0,0,VLOOKUP(A22,'[32]32'!$A$5:$O$440,9,FALSE)), IF(IFERROR(VLOOKUP(A22,'[33]33'!$A$5:$O$440,9,FALSE),0)=0,0,VLOOKUP(A22,'[33]33'!$A$5:$O$440,9,FALSE)), IF(IFERROR(VLOOKUP(A22,'[34]34'!$A$5:$O$440,9,FALSE),0)=0,0,VLOOKUP(A22,'[34]34'!$A$5:$O$440,9,FALSE)), IF(IFERROR(VLOOKUP(A22,'[35]35'!$A$5:$O$440,9,FALSE),0)=0,0,VLOOKUP(A22,'[35]35'!$A$5:$O$440,9,FALSE)), IF(IFERROR(VLOOKUP(A22,'[36]36'!$A$5:$O$440,9,FALSE),0)=0,0,VLOOKUP(A22,'[36]36'!$A$5:$O$440,9,FALSE)), IF(IFERROR(VLOOKUP(A22,'[37]37'!$A$5:$O$440,9,FALSE),0)=0,0,VLOOKUP(A22,'[37]37'!$A$5:$O$440,9,FALSE)), IF(IFERROR(VLOOKUP(A22,'[38]38'!$A$5:$O$440,9,FALSE),0)=0,0,VLOOKUP(A22,'[38]38'!$A$5:$O$440,9,FALSE)) ) -> 0 | F22: =SUM(E22, IF(IFERROR(VLOOKUP(A22,'[1]1'!$A$5:$O$440,5,FALSE),0)=0,0,VLOOKUP(A22,'[1]1'!$A$5:$O$440,5,FALSE)), IF(IFERROR(VLOOKUP(A22,'[2]2'!$A$5:$O$440,5,FALSE),0)=0,0,VLOOKUP(A22,'[2]2'!$A$5:$O$440,5,FALSE)), IF(IFERROR(VLOOKUP(A22,'[3]3'!$A$5:$O$440,5,FALSE),0)=0,0,VLOOKUP(A22,'[3]3'!$A$5:$O$440,5,FALSE)), IF(IFERROR(VLOOKUP(A22,'[4]4'!$A$5:$O$440,5,FALSE),0)=0,0,VLOOKUP(A22,'[4]4'!$A$5:$O$440,5,FALSE)), IF(IFERROR(VLOOKUP(A22,'[5]5'!$A$5:$O$440,5,FALSE),0)=0,0,VLOOKUP(A22,'[5]5'!$A$5:$O$440,5,FALSE)), IF(IFERROR(VLOOKUP(A22,'[6]6'!$A$5:$O$440,5,FALSE),0)=0,0,VLOOKUP(A22,'[6]6'!$A$5:$O$440,5,FALSE)), IF(IFERROR(VLOOKUP(A22,'[7]7'!$A$5:$O$440,5,FALSE),0)=0,0,VLOOKUP(A22,'[7]7'!$A$5:$O$440,5,FALSE)), IF(IFERROR(VLOOKUP(A22,'[8]8'!$A$5:$O$440,5,FALSE),0)=0,0,VLOOKUP(A22,'[8]8'!$A$5:$O$440,5,FALSE)), IF(IFERROR(VLOOKUP(A22,'[9]9'!$A$5:$O$440,5,FALSE),0)=0,0,VLOOKUP(A22,'[9]9'!$A$5:$O$440,5,FALSE)), IF(IFERROR(VLOOKUP(A22,'[10]10'!$A$5:$O$440,5,FALSE),0)=0,0,VLOOKUP(A22,'[10]10'!$A$5:$O$440,5,FALSE)), IF(IFERROR(VLOOKUP(A22,'[11]11'!$A$5:$O$440,5,FALSE),0)=0,0,VLOOKUP(A22,'[11]11'!$A$5:$O$440,5,FALSE)), IF(IFERROR(VLOOKUP(A22,'[12]12'!$A$5:$O$440,5,FALSE),0)=0,0,VLOOKUP(A22,'[12]12'!$A$5:$O$440,5,FALSE)), IF(IFERROR(VLOOKUP(A22,'[13]13'!$A$5:$O$440,5,FALSE),0)=0,0,VLOOKUP(A22,'[13]13'!$A$5:$O$440,5,FALSE)), IF(IFERROR(VLOOKUP(A22,'[14]14'!$A$5:$O$440,5,FALSE),0)=0,0,VLOOKUP(A22,'[14]14'!$A$5:$O$440,5,FALSE)), IF(IFERROR(VLOOKUP(A22,'[15]15'!$A$5:$O$440,5,FALSE),0)=0,0,VLOOKUP(A22,'[15]15'!$A$5:$O$440,5,FALSE)), IF(IFERROR(VLOOKUP(A22,'[16]16'!$A$5:$O$440,5,FALSE),0)=0,0,VLOOKUP(A22,'[16]16'!$A$5:$O$440,5,FALSE)), IF(IFERROR(VLOOKUP(A22,'[17]17'!$A$5:$O$440,5,FALSE),0)=0,0,VLOOKUP(A22,'[17]17'!$A$5:$O$440,5,FALSE)), IF(IFERROR(VLOOKUP(A22,'[18]18'!$A$5:$O$440,5,FALSE),0)=0,0,VLOOKUP(A22,'[18]18'!$A$5:$O$440,5,FALSE)), IF(IFERROR(VLOOKUP(A22,'[19]19'!$A$5:$O$440,5,FALSE),0)=0,0,VLOOKUP(A22,'[19]19'!$A$5:$O$440,5,FALSE)), IF(IFERROR(VLOOKUP(A22,'[20]20'!$A$5:$O$440,5,FALSE),0)=0,0,VLOOKUP(A22,'[20]20'!$A$5:$O$440,5,FALSE)), IF(IFERROR(VLOOKUP(A22,'[21]21'!$A$5:$O$440,5,FALSE),0)=0,0,VLOOKUP(A22,'[21]21'!$A$5:$O$440,5,FALSE)), IF(IFERROR(VLOOKUP(A22,'[22]22'!$A$5:$O$440,5,FALSE),0)=0,0,VLOOKUP(A22,'[22]22'!$A$5:$O$440,5,FALSE)), IF(IFERROR(VLOOKUP(A22,'[23]23'!$A$5:$O$440,5,FALSE),0)=0,0,VLOOKUP(A22,'[23]23'!$A$5:$O$440,5,FALSE)), IF(IFERROR(VLOOKUP(A22,'[24]24'!$A$5:$O$440,5,FALSE),0)=0,0,VLOOKUP(A22,'[24]24'!$A$5:$O$440,5,FALSE)), IF(IFERROR(VLOOKUP(A22,'[25]25'!$A$5:$O$440,5,FALSE),0)=0,0,VLOOKUP(A22,'[25]25'!$A$5:$O$440,5,FALSE)), IF(IFERROR(VLOOKUP(A22,'[26]26'!$A$5:$O$440,5,FALSE),0)=0,0,VLOOKUP(A22,'[26]26'!$A$5:$O$440,5,FALSE)), IF(IFERROR(VLOOKUP(A22,'[27]27'!$A$5:$O$440,5,FALSE),0)=0,0,VLOOKUP(A22,'[27]27'!$A$5:$O$440,5,FALSE)), IF(IFERROR(VLOOKUP(A22,'[28]28'!$A$5:$O$440,5,FALSE),0)=0,0,VLOOKUP(A22,'[28]28'!$A$5:$O$440,5,FALSE)), IF(IFERROR(VLOOKUP(A22,'[29]29'!$A$5:$O$440,5,FALSE),0)=0,0,VLOOKUP(A22,'[29]29'!$A$5:$O$440,5,FALSE)), IF(IFERROR(VLOOKUP(A22,'[30]30'!$A$5:$O$440,5,FALSE),0)=0,0,VLOOKUP(A22,'[30]30'!$A$5:$O$440,5,FALSE)), IF(IFERROR(VLOOKUP(A22,'[31]31'!$A$5:$O$440,5,FALSE),0)=0,0,VLOOKUP(A22,'[31]31'!$A$5:$O$440,5,FALSE)), IF(IFERROR(VLOOKUP(A22,'[32]32'!$A$5:$O$440,5,FALSE),0)=0,0,VLOOKUP(A22,'[32]32'!$A$5:$O$440,5,FALSE)), IF(IFERROR(VLOOKUP(A22,'[33]33'!$A$5:$O$440,5,FALSE),0)=0,0,VLOOKUP(A22,'[33]33'!$A$5:$O$440,5,FALSE)), IF(IFERROR(VLOOKUP(A22,'[34]34'!$A$5:$O$440,5,FALSE),0)=0,0,VLOOKUP(A22,'[34]34'!$A$5:$O$440,5,FALSE)), IF(IFERROR(VLOOKUP(A22,'[35]35'!$A$5:$O$440,5,FALSE),0)=0,0,VLOOKUP(A22,'[35]35'!$A$5:$O$440,5,FALSE)), IF(IFERROR(VLOOKUP(A22,'[36]36'!$A$5:$O$440,5,FALSE),0)=0,0,VLOOKUP(A22,'[36]36'!$A$5:$O$440,5,FALSE)), IF(IFERROR(VLOOKUP(A22,'[37]37'!$A$5:$O$440,5,FALSE),0)=0,0,VLOOKUP(A22,'[37]37'!$A$5:$O$440,5,FALSE)), IF(IFERROR(VLOOKUP(A22,'[38]38'!$A$5:$O$440,5,FALSE),0)=0,0,VLOOKUP(A22,'[38]38'!$A$5:$O$440,5,FALSE)) ) -> 6 | G22: =COUNTIF(Foglio2!C23:AN23,"GOL") -> 6 | H22: =I22-G22 -> 25 | I22: =38-COUNTIF(Foglio2!C23:AN23,"ASSENTE") -> 31 | J22: =G22/I22 -> 0.19354839 | K22: =IF(D22<5,"PESSIMA",IF(D22<5.25,"CATTIVA",IF(D22<5.5,"MEDIOCRE",IF(D22<5.75,"ACCETTABILE",IF(D22<6,"BUONA","ECCELLENTE"))))) -> ECCELLENTE
A24: =Foglio2!A24 -> 3401 | B24: =Foglio2!B24 -> PATO | C24: =AVERAGEIF(Foglio2!C24:AN24,">0") -> 5.9596 | D24: =SUM(IF(Foglio2!C25="NO",Foglio2!C24,0),IF(Foglio2!D25="NO",Foglio2!D24,0),IF(Foglio2!E25="NO",Foglio2!E24,0),IF(Foglio2!F25="NO",Foglio2!F24,0),IF(Foglio2!G25="NO",Foglio2!G24,0),IF(Foglio2!H25="NO",Foglio2!H24,0),IF(Foglio2!I25="NO",Foglio2!I24,0),IF(Foglio2!J25="NO",Foglio2!J24,0),IF(Foglio2!K25="NO",Foglio2!K24,0),IF(Foglio2!L25="NO",Foglio2!L24,0),IF(Foglio2!M25="NO",Foglio2!M24,0),IF(Foglio2!N25="NO",Foglio2!N24,0),IF(Foglio2!O25="NO",Foglio2!O24,0),IF(Foglio2!P25="NO",Foglio2!P24,0),IF(Foglio2!Q25="NO",Foglio2!Q24,0),IF(Foglio2!R25="NO",Foglio2!R24,0),IF(Foglio2!S25="NO",Foglio2!S24,0),IF(Foglio2!T25="NO",Foglio2!T24,0),IF(Foglio2!U25="NO",Foglio2!U24,0),IF(Foglio2!V25="NO",Foglio2!V24,0),IF(Foglio2!W25="NO",Foglio2!W24,0),IF(Foglio2!X25="NO",Foglio2!X24,0),IF(Foglio2!Y25="NO",Foglio2!Y24,0),IF(Foglio2!Z25="NO",Foglio2!Z24,0),IF(Foglio2!AA25="NO",Foglio2!AA24,0),IF(Foglio2!AB25="NO",Foglio2!AB24,0),IF(Foglio2!AC25="NO",Foglio2!AC24,0),IF(Foglio2!AD25="NO",Foglio2!AD24,0),IF(Foglio2!AE25="NO",Foglio2!AE24,0),IF(Foglio2!AF25="NO",Foglio2!AF24,0),IF(Foglio2!AG25="NO",Foglio2!AG24,0),IF(Foglio2!AH25="NO",Foglio2!AH24,0),IF(Foglio2!AI25="NO",Foglio2!AI24,0),IF(Foglio2!AJ25="NO",Foglio2!AJ24,0),IF(Foglio2!AK25="NO",Foglio2!AK24,0),IF(Foglio2!AL25="NO",Foglio2!AL24,0),IF(Foglio2!AM25="NO",Foglio2!AM24,0),IF(Foglio2!AN25="NO",Foglio2!AN24,0))/COUNTIF(Foglio2!C25:AN25,"NO") -> 5.2526667 | E24: =SUM( IF(IFERROR(VLOOKUP(A24,'[1]1'!$A$5:$O$440,9,FALSE),0)=0,0,VLOOKUP(A24,'[1]1'!$A$5:$O$440,9,FALSE)), IF(IFERROR(VLOOKUP(A24,'[2]2'!$A$5:$O$440,9,FALSE),0)=0,0,VLOOKUP(A24,'[2]2'!$A$5:$O$440,9,FALSE)), IF(IFERROR(VLOOKUP(A24:'[3]3'!$A$5:$O$440,9,FALSE),0)=0,0,VLOOKUP(A24,'[3]3'!$A$5:$O$440,9,FALSE)), IF(IFERROR(VLOOKUP(A24,'[4]4'!$A$5:$O$440,9,FALSE),0)=0,0,VLOOKUP(A24,'[4]4'!$A$5:$O$440,9,FALSE)), IF(IFERROR(VLOOKUP(A24,'[5]5'!$A$5:$O$440,9,FALSE),0)=0,0,VLOOKUP(A24,'[5]5'!$A$5:$O$440,9,FALSE)), IF(IFERROR(VLOOKUP(A24,'[6]6'!$A$5:$O$440,9,FALSE),0)=0,0,VLOOKUP(A24,'[6]6'!$A$5:$O$440,9,FALSE)), IF(IFERROR(VLOOKUP(A24,'[7]7'!$A$5:$O$440,9,FALSE),0)=0,0,VLOOKUP(A24,'[7]7'!$A$5:$O$440,9,FALSE)), IF(IFERROR(VLOOKUP(A24,'[8]8'!$A$5:$O$440,9,FALSE),0)=0,0,VLOOKUP(A24,'[8]8'!$A$5:$O$440,9,FALSE)), IF(IFERROR(VLOOKUP(A24,'[9]9'!$A$5:$O$440,9,FALSE),0)=0,0,VLOOKUP(A24,'[9]9'!$A$5:$O$440,9,FALSE)), IF(IFERROR(VLOOKUP(A24,'[10]10'!$A$5:$O$440,9,FALSE),0)=0,0,VLOOKUP(A24,'[10]10'!$A$5:$O$440,9,FALSE)), IF(IFERROR(VLOOKUP(A24,'[11]11'!$A$5:$O$440,9,FALSE),0)=0,0,VLOOKUP(A24,'[11]11'!$A$5:$O$440,9,FALSE)), IF(IFERROR(VLOOKUP(A24,'[12]12'!$A$5:$O$440,9,FALSE),0)=0,0,VLOOKUP(A24,'[12]12'!$A$5:$O$440,9,FALSE)), IF(IFERROR(VLOOKUP(A24,'[13]13'!$A$5:$O$440,9,FALSE),0)=0,0,VLOOKUP(A24,'[13]13'!$A$5:$O$440,9,FALSE)), IF(IFERROR(VLOOKUP(A24,'[14]14'!$A$5:$O$440,9,FALSE),0)=0,0,VLOOKUP(A24,'[14]14'!$A$5:$O$440,9,FALSE)), IF(IFERROR(VLOOKUP(A24,'[15]15'!$A$5:$O$440,9,FALSE),0)=0,0,VLOOKUP(A24,'[15]15'!$A$5:$O$440,9,FALSE)), IF(IFERROR(VLOOKUP(A24,'[16]16'!$A$5:$O$440,9,FALSE),0)=0,0,VLOOKUP(A24,'[16]16'!$A$5:$O$440,9,FALSE)), IF(IFERROR(VLOOKUP(A24,'[17]17'!$A$5:$O$440,9,FALSE),0)=0,0,VLOOKUP(A24,'[17]17'!$A$5:$O$440,9,FALSE)), IF(IFERROR(VLOOKUP(A24,'[18]18'!$A$5:$O$440,9,FALSE),0)=0,0,VLOOKUP(A24,'[18]18'!$A$5:$O$440,9,FALSE)), IF(IFERROR(VLOOKUP(A24,'[19]19'!$A$5:$O$440,9,FALSE),0)=0,0,VLOOKUP(A24,'[19]19'!$A$5:$O$440,9,FALSE)), IF(IFERROR(VLOOKUP(A24,'[20]20'!$A$5:$O$440,9,FALSE),0)=0,0,VLOOKUP(A24,'[20]20'!$A$5:$O$440,9,FALSE)), IF(IFERROR(VLOOKUP(A24,'[21]21'!$A$5:$O$440,9,FALSE),0)=0,0,VLOOKUP(A24,'[21]21'!$A$5:$O$440,9,FALSE)), IF(IFERROR(VLOOKUP(A24,'[22]22'!$A$5:$O$440,9,FALSE),0)=0,0,VLOOKUP(A24,'[22]22'!$A$5:$O$440,9,FALSE)), IF(IFERROR(VLOOKUP(A24,'[23]23'!$A$5:$O$440,9,FALSE),0)=0,0,VLOOKUP(A24,'[23]23'!$A$5:$O$440,9,FALSE)), IF(IFERROR(VLOOKUP(A24,'[24]24'!$A$5:$O$440,9,FALSE),0)=0,0,VLOOKUP(A24,'[24]24'!$A$5:$O$440,9,FALSE)), IF(IFERROR(VLOOKUP(A24,'[25]25'!$A$5:$O$440,9,FALSE),0)=0,0,VLOOKUP(A24,'[25]25'!$A$5:$O$440,9,FALSE)), IF(IFERROR(VLOOKUP(A24,'[26]26'!$A$5:$O$440,9,FALSE),0)=0,0,VLOOKUP(A24,'[26]26'!$A$5:$O$440,9,FALSE)), IF(IFERROR(VLOOKUP(A24,'[27]27'!$A$5:$O$440,9,FALSE),0)=0,0,VLOOKUP(A24,'[27]27'!$A$5:$O$440,9,FALSE)), IF(IFERROR(VLOOKUP(A24,'[28]28'!$A$5:$O$440,9,FALSE),0)=0,0,VLOOKUP(A24,'[28]28'!$A$5:$O$440,9,FALSE)), IF(IFERROR(VLOOKUP(A24,'[29]29'!$A$5:$O$440,9,FALSE),0)=0,0,VLOOKUP(A24,'[29]29'!$A$5:$O$440,9,FALSE)), IF(IFERROR(VLOOKUP(A24,'[30]30'!$A$5:$O$440,9,FALSE),0)=0,0,VLOOKUP(A24,'[30]30'!$A$5:$O$440,9,FALSE)), IF(IFERROR(VLOOKUP(A24,'[31]31'!$A$5:$O$440,9,FALSE),0)=0,0,VLOOKUP(A24,'[31]31'!$A$5:$O$440,9,FALSE)), IF(IFERROR(VLOOKUP(A24,'[32]32'!$A$5:$O$440,9,FALSE),0)=0,0,VLOOKUP(A24,'[32]32'!$A$5:$O$440,9,FALSE)), IF(IFERROR(VLOOKUP(A24,'[33]33'!$A$5:$O$440,9,FALSE),0)=0,0,VLOOKUP(A24,'[33]33'!$A$5:$O$440,9,FALSE)), IF(IFERROR(VLOOKUP(A24,'[34]34'!$A$5:$O$440,9,FALSE),0)=0,0,VLOOKUP(A24,'[34]34'!$A$5:$O$440,9,FALSE)), IF(IFERROR(VLOOKUP(A24,'[35]35'!$A$5:$O$440,9,FALSE),0)=0,0,VLOOKUP(A24,'[35]35'!$A$5:$O$440,9,FALSE)), IF(IFERROR(VLOOKUP(A24,'[36]36'!$A$5:$O$440,9,FALSE),0)=0,0,VLOOKUP(A24,'[36]36'!$A$5:$O$440,9,FALSE)), IF(IFERROR(VLOOKUP(A24,'[37]37'!$A$5:$O$440,9,FALSE),0)=0,0,VLOOKUP(A24,'[37]37'!$A$5:$O$440,9,FALSE)), IF(IFERROR(VLOOKUP(A24,'[38]38'!$A$5:$O$440,9,FALSE),0)=0,0,VLOOKUP(A24,'[38]38'!$A$5:$O$440,9,FALSE)) ) -> 0 | F24: =SUM(E24, IF(IFERROR(VLOOKUP(A24,'[1]1'!$A$5:$O$440,5,FALSE),0)=0,0,VLOOKUP(A24,'[1]1'!$A$5:$O$440,5,FALSE)), IF(IFERROR(VLOOKUP(A24,'[2]2'!$A$5:$O$440,5,FALSE),0)=0,0,VLOOKUP(A24,'[2]2'!$A$5:$O$440,5,FALSE)), IF(IFERROR(VLOOKUP(A24,'[3]3'!$A$5:$O$440,5,FALSE),0)=0,0,VLOOKUP(A24,'[3]3'!$A$5:$O$440,5,FALSE)), IF(IFERROR(VLOOKUP(A24,'[4]4'!$A$5:$O$440,5,FALSE),0)=0,0,VLOOKUP(A24,'[4]4'!$A$5:$O$440,5,FALSE)), IF(IFERROR(VLOOKUP(A24,'[5]5'!$A$5:$O$440,5,FALSE),0)=0,0,VLOOKUP(A24,'[5]5'!$A$5:$O$440,5,FALSE)), IF(IFERROR(VLOOKUP(A24,'[6]6'!$A$5:$O$440,5,FALSE),0)=0,0,VLOOKUP(A24,'[6]6'!$A$5:$O$440,5,FALSE)), IF(IFERROR(VLOOKUP(A24,'[7]7'!$A$5:$O$440,5,FALSE),0)=0,0,VLOOKUP(A24,'[7]7'!$A$5:$O$440,5,FALSE)), IF(IFERROR(VLOOKUP(A24,'[8]8'!$A$5:$O$440,5,FALSE),0)=0,0,VLOOKUP(A24,'[8]8'!$A$5:$O$440,5,FALSE)), IF(IFERROR(VLOOKUP(A24,'[9]9'!$A$5:$O$440,5,FALSE),0)=0,0,VLOOKUP(A24,'[9]9'!$A$5:$O$440,5,FALSE)), IF(IFERROR(VLOOKUP(A24,'[10]10'!$A$5:$O$440,5,FALSE),0)=0,0,VLOOKUP(A24,'[10]10'!$A$5:$O$440,5,FALSE)), IF(IFERROR(VLOOKUP(A24,'[11]11'!$A$5:$O$440,5,FALSE),0)=0,0,VLOOKUP(A24,'[11]11'!$A$5:$O$440,5,FALSE)), IF(IFERROR(VLOOKUP(A24,'[12]12'!$A$5:$O$440,5,FALSE),0)=0,0,VLOOKUP(A24,'[12]12'!$A$5:$O$440,5,FALSE)), IF(IFERROR(VLOOKUP(A24,'[13]13'!$A$5:$O$440,5,FALSE),0)=0,0,VLOOKUP(A24,'[13]13'!$A$5:$O$440,5,FALSE)), IF(IFERROR(VLOOKUP(A24,'[14]14'!$A$5:$O$440,5,FALSE),0)=0,0,VLOOKUP(A24,'[14]14'!$A$5:$O$440,5,FALSE)), IF(IFERROR(VLOOKUP(A24,'[15]15'!$A$5:$O$440,5,FALSE),0)=0,0,VLOOKUP(A24,'[15]15'!$A$5:$O$440,5,FALSE)), IF(IFERROR(VLOOKUP(A24,'[16]16'!$A$5:$O$440,5,FALSE),0)=0,0,VLOOKUP(A24,'[16]16'!$A$5:$O$440,5,FALSE)), IF(IFERROR(VLOOKUP(A24,'[17]17'!$A$5:$O$440,5,FALSE),0)=0,0,VLOOKUP(A24,'[17]17'!$A$5:$O$440,5,FALSE)), IF(IFERROR(VLOOKUP(A24,'[18]18'!$A$5:$O$440,5,FALSE),0)=0,0,VLOOKUP(A24,'[18]18'!$A$5:$O$440,5,FALSE)), IF(IFERROR(VLOOKUP(A24,'[19]19'!$A$5:$O$440,5,FALSE),0)=0,0,VLOOKUP(A24,'[19]19'!$A$5:$O$440,5,FALSE)), IF(IFERROR(VLOOKUP(A24,'[20]20'!$A$5:$O$440,5,FALSE),0)=0,0,VLOOKUP(A24,'[20]20'!$A$5:$O$440,5,FALSE)), IF(IFERROR(VLOOKUP(A24,'[21]21'!$A$5:$O$440,5,FALSE),0)=0,0,VLOOKUP(A24,'[21]21'!$A$5:$O$440,5,FALSE)), IF(IFERROR(VLOOKUP(A24,'[22]22'!$A$5:$O$440,5,FALSE),0)=0,0,VLOOKUP(A24,'[22]22'!$A$5:$O$440,5,FALSE)), IF(IFERROR(VLOOKUP(A24,'[23]23'!$A$5:$O$440,5,FALSE),0)=0,0,VLOOKUP(A24,'[23]23'!$A$5:$O$440,5,FALSE)), IF(IFERROR(VLOOKUP(A24,'[24]24'!$A$5:$O$440,5,FALSE),0)=0,0,VLOOKUP(A24,'[24]24'!$A$5:$O$440,5,FALSE)), IF(IFERROR(VLOOKUP(A24,'[25]25'!$A$5:$O$440,5,FALSE),0)=0,0,VLOOKUP(A24,'[25]25'!$A$5:$O$440,5,FALSE)), IF(IFERROR(VLOOKUP(A24,'[26]26'!$A$5:$O$440,5,FALSE),0)=0,0,VLOOKUP(A24,'[26]26'!$A$5:$O$440,5,FALSE)), IF(IFERROR(VLOOKUP(A24,'[27]27'!$A$5:$O$440,5,FALSE),0)=0,0,VLOOKUP(A24,'[27]27'!$A$5:$O$440,5,FALSE)), IF(IFERROR(VLOOKUP(A24,'[28]28'!$A$5:$O$440,5,FALSE),0)=0,0,VLOOKUP(A24,'[28]28'!$A$5:$O$440,5,FALSE)), IF(IFERROR(VLOOKUP(A24,'[29]29'!$A$5:$O$440,5,FALSE),0)=0,0,VLOOKUP(A24,'[29]29'!$A$5:$O$440,5,FALSE)), IF(IFERROR(VLOOKUP(A24,'[30]30'!$A$5:$O$440,5,FALSE),0)=0,0,VLOOKUP(A24,'[30]30'!$A$5:$O$440,5,FALSE)), IF(IFERROR(VLOOKUP(A24,'[31]31'!$A$5:$O$440,5,FALSE),0)=0,0,VLOOKUP(A24,'[31]31'!$A$5:$O$440,5,FALSE)), IF(IFERROR(VLOOKUP(A24,'[32]32'!$A$5:$O$440,5,FALSE),0)=0,0,VLOOKUP(A24,'[32]32'!$A$5:$O$440,5,FALSE)), IF(IFERROR(VLOOKUP(A24,'[33]33'!$A$5:$O$440,5,FALSE),0)=0,0,VLOOKUP(A24,'[33]33'!$A$5:$O$440,5,FALSE)), IF(IFERROR(VLOOKUP(A24,'[34]34'!$A$5:$O$440,5,FALSE),0)=0,0,VLOOKUP(A24,'[34]34'!$A$5:$O$440,5,FALSE)), IF(IFERROR(VLOOKUP(A24,'[35]35'!$A$5:$O$440,5,FALSE),0)=0,0,VLOOKUP(A24,'[35]35'!$A$5:$O$440,5,FALSE)), IF(IFERROR(VLOOKUP(A24,'[36]36'!$A$5:$O$440,5,FALSE),0)=0,0,VLOOKUP(A24,'[36]36'!$A$5:$O$440,5,FALSE)), IF(IFERROR(VLOOKUP(A24,'[37]37'!$A$5:$O$440,5,FALSE),0)=0,0,VLOOKUP(A24,'[37]37'!$A$5:$O$440,5,FALSE)), IF(IFERROR(VLOOKUP(A24,'[38]38'!$A$5:$O$440,5,FALSE),0)=0,0,VLOOKUP(A24,'[38]38'!$A$5:$O$440,5,FALSE)) ) -> 14 | G24: =COUNTIF(Foglio2!C25:AN25,"GOL") -> 10 | H24: =I24-G24 -> 15 | I24: =38-COUNTIF(Foglio2!C25:AN25,"ASSENTE") -> 25 | J24: =G24/I24 -> 0.4 | K24: =IF(D24<5,"PESSIMA",IF(D24<5.25,"CATTIVA",IF(D24<5.5,"MEDIOCRE",IF(D24<5.75,"ACCETTABILE",IF(D24<6,"BUONA","ECCELLENTE"))))) -> MEDIOCRE
... A70: =Foglio2!A70 -> 3403 | B70: =Foglio2!B70 -> PELLISSIER | C70: =AVERAGEIF(Foglio2!C70:AN70,">0") -> 6.0762857 | D70: =SUM(IF(Foglio2!C71="NO",Foglio2!C70,0),IF(Foglio2!D71="NO",Foglio2!D70,0),IF(Foglio2!E71="NO",Foglio2!E70,0),IF(Foglio2!F71="NO",Foglio2!F70,0),IF(Foglio2!G71="NO",Foglio2!G70,0),IF(Foglio2!H71="NO",Foglio2!H70,0),IF(Foglio2!I71="NO",Foglio2!I70,0),IF(Foglio2!J71="NO",Foglio2!J70,0),IF(Foglio2!K71="NO",Foglio2!K70,0),IF(Foglio2!L71="NO",Foglio2!L70,0),IF(Foglio2!M71="NO",Foglio2!M70,0),IF(Foglio2!N71="NO",Foglio2!N70,0),IF(Foglio2!O71="NO",Foglio2!O70,0),IF(Foglio2!P71="NO",Foglio2!P70,0),IF(Foglio2!Q71="NO",Foglio2!Q70,0),IF(Foglio2!R71="NO",Foglio2!R70,0),IF(Foglio2!S71="NO",Foglio2!S70,0),IF(Foglio2!T71="NO",Foglio2!T70,0),IF(Foglio2!U71="NO",Foglio2!U70,0),IF(Foglio2!V71="NO",Foglio2!V70,0),IF(Foglio2!W71="NO",Foglio2!W70,0),IF(Foglio2!X71="NO",Foglio2!X70,0),IF(Foglio2!Y71="NO",Foglio2!Y70,0),IF(Foglio2!Z71="NO",Foglio2!Z70,0),IF(Foglio2!AA71="NO",Foglio2!AA70,0),IF(Foglio2!AB71="NO",Foglio2!AB70,0),IF(Foglio2!AC71="NO",Foglio2!AC70,0),IF(Foglio2!AD71="NO",Foglio2!AD70,0),IF(Foglio2!AE71="NO",Foglio2!AE70,0),IF(Foglio2!AF71="NO",Foglio2!AF70,0),IF(Foglio2!AG71="NO",Foglio2!AG70,0),IF(Foglio2!AH71="NO",Foglio2!AH70,0),IF(Foglio2!AI71="NO",Foglio2!AI70,0),IF(Foglio2!AJ71="NO",Foglio2!AJ70,0),IF(Foglio2!AK71="NO",Foglio2!AK70,0),IF(Foglio2!AL71="NO",Foglio2!AL70,0),IF(Foglio2!AM71="NO",Foglio2!AM70,0),IF(Foglio2!AN71="NO",Foglio2!AN70,0))/COUNTIF(Foglio2!C71:AN71,"NO") -> 5.7884615 | E70: =SUM( IF(IFERROR(VLOOKUP(A70,'[1]1'!$A$5:$O$440,9,FALSE),0)=0,0,VLOOKUP(A70,'[1]1'!$A$5:$O$440,9,FALSE)), IF(IFERROR(VLOOKUP(A70,'[2]2'!$A$5:$O$440,9,FALSE),0)=0,0,VLOOKUP(A70,'[2]2'!$A$5:$O$440,9,FALSE)), IF(IFERROR(VLOOKUP(A70:'[3]3'!$A$5:$O$440,9,FALSE),0)=0,0,VLOOKUP(A70,'[3]3'!$A$5:$O$440,9,FALSE)), IF(IFERROR(VLOOKUP(A70,'[4]4'!$A$5:$O$440,9,FALSE),0)=0,0,VLOOKUP(A70,'[4]4'!$A$5:$O$440,9,FALSE)), IF(IFERROR(VLOOKUP(A70,'[5]5'!$A$5:$O$440,9,FALSE),0)=0,0,VLOOKUP(A70,'[5]5'!$A$5:$O$440,9,FALSE)), IF(IFERROR(VLOOKUP(A70,'[6]6'!$A$5:$O$440,9,FALSE),0)=0,0,VLOOKUP(A70,'[6]6'!$A$5:$O$440,9,FALSE)), IF(IFERROR(VLOOKUP(A70,'[7]7'!$A$5:$O$440,9,FALSE),0)=0,0,VLOOKUP(A70,'[7]7'!$A$5:$O$440,9,FALSE)), IF(IFERROR(VLOOKUP(A70,'[8]8'!$A$5:$O$440,9,FALSE),0)=0,0,VLOOKUP(A70,'[8]8'!$A$5:$O$440,9,FALSE)), IF(IFERROR(VLOOKUP(A70,'[9]9'!$A$5:$O$440,9,FALSE),0)=0,0,VLOOKUP(A70,'[9]9'!$A$5:$O$440,9,FALSE)), IF(IFERROR(VLOOKUP(A70,'[10]10'!$A$5:$O$440,9,FALSE),0)=0,0,VLOOKUP(A70,'[10]10'!$A$5:$O$440,9,FALSE)), IF(IFERROR(VLOOKUP(A70,'[11]11'!$A$5:$O$440,9,FALSE),0)=0,0,VLOOKUP(A70,'[11]11'!$A$5:$O$440,9,FALSE)), IF(IFERROR(VLOOKUP(A70,'[12]12'!$A$5:$O$440,9,FALSE),0)=0,0,VLOOKUP(A70,'[12]12'!$A$5:$O$440,9,FALSE)), IF(IFERROR(VLOOKUP(A70,'[13]13'!$A$5:$O$440,9,FALSE),0)=0,0,VLOOKUP(A70,'[13]13'!$A$5:$O$440,9,FALSE)), IF(IFERROR(VLOOKUP(A70,'[14]14'!$A$5:$O$440,9,FALSE),0)=0,0,VLOOKUP(A70,'[14]14'!$A$5:$O$440,9,FALSE)), IF(IFERROR(VLOOKUP(A70,'[15]15'!$A$5:$O$440,9,FALSE),0)=0,0,VLOOKUP(A70,'[15]15'!$A$5:$O$440,9,FALSE)), IF(IFERROR(VLOOKUP(A70,'[16]16'!$A$5:$O$440,9,FALSE),0)=0,0,VLOOKUP(A70,'[16]16'!$A$5:$O$440,9,FALSE)), IF(IFERROR(VLOOKUP(A70,'[17]17'!$A$5:$O$440,9,FALSE),0)=0,0,VLOOKUP(A70,'[17]17'!$A$5:$O$440,9,FALSE)), IF(IFERROR(VLOOKUP(A70,'[18]18'!$A$5:$O$440,9,FALSE),0)=0,0,VLOOKUP(A70,'[18]18'!$A$5:$O$440,9,FALSE)), IF(IFERROR(VLOOKUP(A70,'[19]19'!$A$5:$O$440,9,FALSE),0)=0,0,VLOOKUP(A70,'[19]19'!$A$5:$O$440,9,FALSE)), IF(IFERROR(VLOOKUP(A70,'[20]20'!$A$5:$O$440,9,FALSE),0)=0,0,VLOOKUP(A70,'[20]20'!$A$5:$O$440,9,FALSE)), IF(IFERROR(VLOOKUP(A70,'[21]21'!$A$5:$O$440,9,FALSE),0)=0,0,VLOOKUP(A70,'[21]21'!$A$5:$O$440,9,FALSE)), IF(IFERROR(VLOOKUP(A70,'[22]22'!$A$5:$O$440,9,FALSE),0)=0,0,VLOOKUP(A70,'[22]22'!$A$5:$O$440,9,FALSE)), IF(IFERROR(VLOOKUP(A70,'[23]23'!$A$5:$O$440,9,FALSE),0)=0,0,VLOOKUP(A70,'[23]23'!$A$5:$O$440,9,FALSE)), IF(IFERROR(VLOOKUP(A70,'[24]24'!$A$5:$O$440,9,FALSE),0)=0,0,VLOOKUP(A70,'[24]24'!$A$5:$O$440,9,FALSE)), IF(IFERROR(VLOOKUP(A70,'[25]25'!$A$5:$O$440,9,FALSE),0)=0,0,VLOOKUP(A70,'[25]25'!$A$5:$O$440,9,FALSE)), IF(IFERROR(VLOOKUP(A70,'[26]26'!$A$5:$O$440,9,FALSE),0)=0,0,VLOOKUP(A70,'[26]26'!$A$5:$O$440,9,FALSE)), IF(IFERROR(VLOOKUP(A70,'[27]27'!$A$5:$O$440,9,FALSE),0)=0,0,VLOOKUP(A70,'[27]27'!$A$5:$O$440,9,FALSE)), IF(IFERROR(VLOOKUP(A70,'[28]28'!$A$5:$O$440,9,FALSE),0)=0,0,VLOOKUP(A70,'[28]28'!$A$5:$O$440,9,FALSE)), IF(IFERROR(VLOOKUP(A70,'[29]29'!$A$5:$O$440,9,FALSE),0)=0,0,VLOOKUP(A70,'[29]29'!$A$5:$O$440,9,FALSE)), IF(IFERROR(VLOOKUP(A70,'[30]30'!$A$5:$O$440,9,FALSE),0)=0,0,VLOOKUP(A70,'[30]30'!$A$5:$O$440,9,FALSE)), IF(IFERROR(VLOOKUP(A70,'[31]31'!$A$5:$O$440,9,FALSE),0)=0,0,VLOOKUP(A70,'[31]31'!$A$5:$O$440,9,FALSE)), IF(IFERROR(VLOOKUP(A70,'[32]32'!$A$5:$O$440,9,FALSE),0)=0,0,VLOOKUP(A70,'[32]32'!$A$5:$O$440,9,FALSE)), IF(IFERROR(VLOOKUP(A70,'[33]33'!$A$5:$O$440,9,FALSE),0)=0,0,VLOOKUP(A70,'[33]33'!$A$5:$O$440,9,FALSE)), IF(IFERROR(VLOOKUP(A70,'[34]34'!$A$5:$O$440,9,FALSE),0)=0,0,VLOOKUP(A70,'[34]34'!$A$5:$O$440,9,FALSE)), IF(IFERROR(VLOOKUP(A70,'[35]35'!$A$5:$O$440,9,FALSE),0)=0,0,VLOOKUP(A70,'[35]35'!$A$5:$O$440,9,FALSE)), IF(IFERROR(VLOOKUP(A70,'[36]36'!$A$5:$O$440,9,FALSE),0)=0,0,VLOOKUP(A70,'[36]36'!$A$5:$O$440,9,FALSE)), IF(IFERROR(VLOOKUP(A70,'[37]37'!$A$5:$O$440,9,FALSE),0)=0,0,VLOOKUP(A70,'[37]37'!$A$5:$O$440,9,FALSE)), IF(IFERROR(VLOOKUP(A70,'[38]38'!$A$5:$O$440,9,FALSE),0)=0,0,VLOOKUP(A70,'[38]38'!$A$5:$O$440,9,FALSE)) ) -> 1 | F70: =SUM(E70, IF(IFERROR(VLOOKUP(A70,'[1]1'!$A$5:$O$440,5,FALSE),0)=0,0,VLOOKUP(A70,'[1]1'!$A$5:$O$440,5,FALSE)), IF(IFERROR(VLOOKUP(A70,'[2]2'!$A$5:$O$440,5,FALSE),0)=0,0,VLOOKUP(A70,'[2]2'!$A$5:$O$440,5,FALSE)), IF(IFERROR(VLOOKUP(A70,'[3]3'!$A$5:$O$440,5,FALSE),0)=0,0,VLOOKUP(A70,'[3]3'!$A$5:$O$440,5,FALSE)), IF(IFERROR(VLOOKUP(A70,'[4]4'!$A$5:$O$440,5,FALSE),0)=0,0,VLOOKUP(A70,'[4]4'!$A$5:$O$440,5,FALSE)), IF(IFERROR(VLOOKUP(A70,'[5]5'!$A$5:$O$440,5,FALSE),0)=0,0,VLOOKUP(A70,'[5]5'!$A$5:$O$440,5,FALSE)), IF(IFERROR(VLOOKUP(A70,'[6]6'!$A$5:$O$440,5,FALSE),0)=0,0,VLOOKUP(A70,'[6]6'!$A$5:$O$440,5,FALSE)), IF(IFERROR(VLOOKUP(A70,'[7]7'!$A$5:$O$440,5,FALSE),0)=0,0,VLOOKUP(A70,'[7]7'!$A$5:$O$440,5,FALSE)), IF(IFERROR(VLOOKUP(A70,'[8]8'!$A$5:$O$440,5,FALSE),0)=0,0,VLOOKUP(A70,'[8]8'!$A$5:$O$440,5,FALSE)), IF(IFERROR(VLOOKUP(A70,'[9]9'!$A$5:$O$440,5,FALSE),0)=0,0,VLOOKUP(A70,'[9]9'!$A$5:$O$440,5,FALSE)), IF(IFERROR(VLOOKUP(A70,'[10]10'!$A$5:$O$440,5,FALSE),0)=0,0,VLOOKUP(A70,'[10]10'!$A$5:$O$440,5,FALSE)), IF(IFERROR(VLOOKUP(A70,'[11]11'!$A$5:$O$440,5,FALSE),0)=0,0,VLOOKUP(A70,'[11]11'!$A$5:$O$440,5,FALSE)), IF(IFERROR(VLOOKUP(A70,'[12]12'!$A$5:$O$440,5,FALSE),0)=0,0,VLOOKUP(A70,'[12]12'!$A$5:$O$440,5,FALSE)), IF(IFERROR(VLOOKUP(A70,'[13]13'!$A$5:$O$440,5,FALSE),0)=0,0,VLOOKUP(A70,'[13]13'!$A$5:$O$440,5,FALSE)), IF(IFERROR(VLOOKUP(A70,'[14]14'!$A$5:$O$440,5,FALSE),0)=0,0,VLOOKUP(A70,'[14]14'!$A$5:$O$440,5,FALSE)), IF(IFERROR(VLOOKUP(A70,'[15]15'!$A$5:$O$440,5,FALSE),0)=0,0,VLOOKUP(A70,'[15]15'!$A$5:$O$440,5,FALSE)), IF(IFERROR(VLOOKUP(A70,'[16]16'!$A$5:$O$440,5,FALSE),0)=0,0,VLOOKUP(A70,'[16]16'!$A$5:$O$440,5,FALSE)), IF(IFERROR(VLOOKUP(A70,'[17]17'!$A$5:$O$440,5,FALSE),0)=0,0,VLOOKUP(A70,'[17]17'!$A$5:$O$440,5,FALSE)), IF(IFERROR(VLOOKUP(A70,'[18]18'!$A$5:$O$440,5,FALSE),0)=0,0,VLOOKUP(A70,'[18]18'!$A$5:$O$440,5,FALSE)), IF(IFERROR(VLOOKUP(A70,'[19]19'!$A$5:$O$440,5,FALSE),0)=0,0,VLOOKUP(A70,'[19]19'!$A$5:$O$440,5,FALSE)), IF(IFERROR(VLOOKUP(A70,'[20]20'!$A$5:$O$440,5,FALSE),0)=0,0,VLOOKUP(A70,'[20]20'!$A$5:$O$440,5,FALSE)), IF(IFERROR(VLOOKUP(A70,'[21]21'!$A$5:$O$440,5,FALSE),0)=0,0,VLOOKUP(A70,'[21]21'!$A$5:$O$440,5,FALSE)), IF(IFERROR(VLOOKUP(A70,'[22]22'!$A$5:$O$440,5,FALSE),0)=0,0,VLOOKUP(A70,'[22]22'!$A$5:$O$440,5,FALSE)), IF(IFERROR(VLOOKUP(A70,'[23]23'!$A$5:$O$440,5,FALSE),0)=0,0,VLOOKUP(A70,'[23]23'!$A$5:$O$440,5,FALSE)), IF(IFERROR(VLOOKUP(A70,'[24]24'!$A$5:$O$440,5,FALSE),0)=0,0,VLOOKUP(A70,'[24]24'!$A$5:$O$440,5,FALSE)), IF(IFERROR(VLOOKUP(A70,'[25]25'!$A$5:$O$440,5,FALSE),0)=0,0,VLOOKUP(A70,'[25]25'!$A$5:$O$440,5,FALSE)), IF(IFERROR(VLOOKUP(A70,'[26]26'!$A$5:$O$440,5,FALSE),0)=0,0,VLOOKUP(A70,'[26]26'!$A$5:$O$440,5,FALSE)), IF(IFERROR(VLOOKUP(A70,'[27]27'!$A$5:$O$440,5,FALSE),0)=0,0,VLOOKUP(A70,'[27]27'!$A$5:$O$440,5,FALSE)), IF(IFERROR(VLOOKUP(A70,'[28]28'!$A$5:$O$440,5,FALSE),0)=0,0,VLOOKUP(A70,'[28]28'!$A$5:$O$440,5,FALSE)), IF(IFERROR(VLOOKUP(A70,'[29]29'!$A$5:$O$440,5,FALSE),0)=0,0,VLOOKUP(A70,'[29]29'!$A$5:$O$440,5,FALSE)), IF(IFERROR(VLOOKUP(A70,'[30]30'!$A$5:$O$440,5,FALSE),0)=0,0,VLOOKUP(A70,'[30]30'!$A$5:$O$440,5,FALSE)), IF(IFERROR(VLOOKUP(A70,'[31]31'!$A$5:$O$440,5,FALSE),0)=0,0,VLOOKUP(A70,'[31]31'!$A$5:$O$440,5,FALSE)), IF(IFERROR(VLOOKUP(A70,'[32]32'!$A$5:$O$440,5,FALSE),0)=0,0,VLOOKUP(A70,'[32]32'!$A$5:$O$440,5,FALSE)), IF(IFERROR(VLOOKUP(A70,'[33]33'!$A$5:$O$440,5,FALSE),0)=0,0,VLOOKUP(A70,'[33]33'!$A$5:$O$440,5,FALSE)), IF(IFERROR(VLOOKUP(A70,'[34]34'!$A$5:$O$440,5,FALSE),0)=0,0,VLOOKUP(A70,'[34]34'!$A$5:$O$440,5,FALSE)), IF(IFERROR(VLOOKUP(A70,'[35]35'!$A$5:$O$440,5,FALSE),0)=0,0,VLOOKUP(A70,'[35]35'!$A$5:$O$440,5,FALSE)), IF(IFERROR(VLOOKUP(A70,'[36]36'!$A$5:$O$440,5,FALSE),0)=0,0,VLOOKUP(A70,'[36]36'!$A$5:$O$440,5,FALSE)), IF(IFERROR(VLOOKUP(A70,'[37]37'!$A$5:$O$440,5,FALSE),0)=0,0,VLOOKUP(A70,'[37]37'!$A$5:$O$440,5,FALSE)), IF(IFERROR(VLOOKUP(A70,'[38]38'!$A$5:$O$440,5,FALSE),0)=0,0,VLOOKUP(A70,'[38]38'!$A$5:$O$440,5,FALSE)) ) -> 11 | G70: =COUNTIF(Foglio2!C71:AN71,"GOL") -> 9 | H70: =I70-G70 -> 26 | I70: =38-COUNTIF(Foglio2!C71:AN71,"ASSENTE") -> 35 | J70: =G70/I70 -> 0.25714286 | K70: =IF(D70<5,"PESSIMA",IF(D70<5.25,"CATTIVA",IF(D70<5.5,"MEDIOCRE",IF(D70<5.75,"ACCETTABILE",IF(D70<6,"BUONA","ECCELLENTE"))))) -> BUONA

Sheet Foglio2
C1: 1 | D1: 2 | E1: 3 | F1: 4 | G1: 5 | H1: 6 | I1: 7 | J1: 8 | K1: 9 | L1: 10 | M1: 11 | N1: 12 | O1: 13 | P1: 14 | Q1: 15 | R1: 16 | S1: 17 | T1: 18 | U1: 19 | V1: 20 | W1: 21 | X1: 22 | Y1: 23 | Z1: 24 | AA1: 25 | AB1: 26 | AC1: 27 | AD1: 28 | AE1: 29 | AF1: 30 | AG1: 31 | AH1: 32 | AI1: 33 | AJ1: 34 | AK1: 35 | AL1: 36 | AM1: 37 | AN1: 38
A2: 3387 | B2: =VLOOKUP(A2,'[1]1'!$A$5:$O$440,3,FALSE) -> MATRI | C2: =IF(IFERROR(VLOOKUP(A2,'[1]1'!$A$5:$O$440,4,FALSE),0),VLOOKUP(A2,'[1]1'!$A$5:$O$440,4,FALSE),"ASSENTE") -> 5.03 | D2: =IF(IFERROR(VLOOKUP(A2,'[2]2'!$A$5:$O$440,4,FALSE),0),VLOOKUP(A2,'[2]2'!$A$5:$O$440,4,FALSE),"ASSENTE") -> 7.51 | E2: =IF(IFERROR(VLOOKUP(A2,'[3]3'!$A$5:$O$440,4,FALSE),0),VLOOKUP(A2,'[3]3'!$A$5:$O$440,4,FALSE),"ASSENTE") -> 5.52 | F2: =IF(IFERROR(VLOOKUP(A2,'[4]4'!$A$5:$O$440,4,FALSE),0),VLOOKUP(A2,'[4]4'!$A$5:$O$440,4,FALSE),"ASSENTE") -> 6.02 | G2: =IF(IFERROR(VLOOKUP(A2,'[5]5'!$A$5:$O$440,4,FALSE),0),VLOOKUP(A2,'[5]5'!$A$5:$O$440,4,FALSE),"ASSENTE") -> 7 | H2: =IF(IFERROR(VLOOKUP(A2,'[6]6'!$A$5:$O$440,4,FALSE),0),VLOOKUP(A2,'[6]6'!$A$5:$O$440,4,FALSE),"ASSENTE") -> 5.51 | I2: =IF(IFERROR(VLOOKUP(A2,'[7]7'!$A$5:$O$440,4,FALSE),0),VLOOKUP(A2,'[7]7'!$A$5:$O$440,4,FALSE),"ASSENTE") -> 5.02 | J2: =IF(IFERROR(VLOOKUP(A2,'[8]8'!$A$5:$O$440,4,FALSE),0),VLOOKUP(A2,'[8]8'!$A$5:$O$440,4,FALSE),"ASSENTE") -> 7.03 | K2: =IF(IFERROR(VLOOKUP(A2,'[9]9'!$A$5:$O$440,4,FALSE),0),VLOOKUP(A2,'[9]9'!$A$5:$O$440,4,FALSE),"ASSENTE") -> 5.5 | L2: =IF(IFERROR(VLOOKUP(A2,'[10]10'!$A$5:$O$440,4,FALSE),0),VLOOKUP(A2,'[10]10'!$A$5:$O$440,4,FALSE),"ASSENTE") -> 5.51 | M2: =IF(IFERROR(VLOOKUP(A2,'[11]11'!$A$5:$O$440,4,FALSE),0),VLOOKUP(A2,'[11]11'!$A$5:$O$440,4,FALSE),"ASSENTE") -> 5.04 | N2: =IF(IFERROR(VLOOKUP(A2,'[12]12'!$A$5:$O$440,4,FALSE),0),VLOOKUP(A2,'[12]12'!$A$5:$O$440,4,FALSE),"ASSENTE") -> 5 | O2: =IF(IFERROR(VLOOKUP(A2,'[13]13'!$A$5:$O$440,4,FALSE),0),VLOOKUP(A2,'[13]13'!$A$5:$O$440,4,FALSE),"ASSENTE") -> 6.51 | P2: =IF(IFERROR(VLOOKUP(A2,'[14]14'!$A$5:$O$440,4,FALSE),0),VLOOKUP(A2,'[14]14'!$A$5:$O$440,4,FALSE),"ASSENTE") -> 8 | Q2: =IF(IFERROR(VLOOKUP(A2,'[15]15'!$A$5:$O$440,4,FALSE),0),VLOOKUP(A2,'[15]15'!$A$5:$O$440,4,FALSE),"ASSENTE") -> 5.03 | R2: =IF(IFERROR(VLOOKUP(A2,'[16]16'!$A$5:$O$440,4,FALSE),0),VLOOKUP(A2,'[16]16'!$A$5:$O$440,4,FALSE),"ASSENTE") -> 6.01 | S2: =IF(IFERROR(VLOOKUP(A2,'[17]17'!$A$5:$O$440,4,FALSE),0),VLOOKUP(A2,'[17]17'!$A$5:$O$440,4,FALSE),"ASSENTE") -> 5.02 | T2: =IF(IFERROR(VLOOKUP(A2,'[18]18'!$A$5:$O$440,4,FALSE),0),VLOOKUP(A2,'[18]18'!$A$5:$O$440,4,FALSE),"ASSENTE") -> 5.53 | U2: =IF(IFERROR(VLOOKUP(A2,'[19]19'!$A$5:$O$440,4,FALSE),0),VLOOKUP(A2,'[19]19'!$A$5:$O$440,4,FALSE),"ASSENTE") -> 5.03 | V2: =IF(IFERROR(VLOOKUP(A2,'[20]20'!$A$5:$O$440,4,FALSE),0),VLOOKUP(A2,'[20]20'!$A$5:$O$440,4,FALSE),"ASSENTE") -> 7.03 | W2: =IF(IFERROR(VLOOKUP(A2,'[21]21'!$A$5:$O$440,4,FALSE),0),VLOOKUP(A2,'[21]21'!$A$5:$O$440,4,FALSE),"ASSENTE") -> 5.54 | X2: =IF(IFERROR(VLOOKUP(A2,'[22]22'!$A$5:$O$440,4,FALSE),0),VLOOKUP(A2,'[22]22'!$A$5:$O$440,4,FALSE),"ASSENTE") -> 7.51 | Y2: =IF(IFERROR(VLOOKUP(A2,'[23]23'!$A$5:$O$440,4,FALSE),0),VLOOKUP(A2,'[23]23'!$A$5:$O$440,4,FALSE),"ASSENTE") -> 5.03 | Z2: =IF(IFERROR(VLOOKUP(A2,'[24]24'!$A$5:$O$440,4,FALSE),0),VLOOKUP(A2,'[24]24'!$A$5:$O$440,4,FALSE),"ASSENTE") -> 7.52 | AA2: =IF(IFERROR(VLOOKUP(A2,'[25]25'!$A$5:$O$440,4,FALSE),0),VLOOKUP(A2,'[25]25'!$A$5:$O$440,4,FALSE),"ASSENTE") -> 7.03 | AB2: =IF(IFERROR(VLOOKUP(A2,'[26]26'!$A$5:$O$440,4,FALSE),0),VLOOKUP(A2,'[26]26'!$A$5:$O$440,4,FALSE),"ASSENTE") -> 5 | AC2: =IF(IFERROR(VLOOKUP(A2,'[27]27'!$A$5:$O$440,4,FALSE),0),VLOOKUP(A2,'[27]27'!$A$5:$O$440,4,FALSE),"ASSENTE") -> 5.04 | AD2: =IF(IFERROR(VLOOKUP(A2,'[28]28'!$A$5:$O$440,4,FALSE),0),VLOOKUP(A2,'[28]28'!$A$5:$O$440,4,FALSE),"ASSENTE") -> 5.03 | AE2: =IF(IFERROR(VLOOKUP(A2,'[29]29'!$A$5:$O$440,4,FALSE),0),VLOOKUP(A2,'[29]29'!$A$5:$O$440,4,FALSE),"ASSENTE") -> 7.52 | AF2: =IF(IFERROR(VLOOKUP(A2,'[30]30'!$A$5:$O$440,4,FALSE),0),VLOOKUP(A2,'[30]30'!$A$5:$O$440,4,FALSE),"ASSENTE") -> 5.54 | AG2: =IF(IFERROR(VLOOKUP(A2,'[31]31'!$A$5:$O$440,4,FALSE),0),VLOOKUP(A2,'[31]31'!$A$5:$O$440,4,FALSE),"ASSENTE") -> 6.5 | AH2: =IF(IFERROR(VLOOKUP(A2,'[32]32'!$A$5:$O$440,4,FALSE),0),VLOOKUP(A2,'[32]32'!$A$5:$O$440,4,FALSE),"ASSENTE") -> 7.03 | AI2: =IF(IFERROR(VLOOKUP(A2,'[33]33'!$A$5:$O$440,4,FALSE),0),VLOOKUP(A2,'[33]33'!$A$5:$O$440,4,FALSE),"ASSENTE") -> 5.01 | AJ2: =IF(IFERROR(VLOOKUP(A2,'[34]34'!$A$5:$O$440,4,FALSE),0),VLOOKUP(A2,'[34]34'!$A$5:$O$440,4,FALSE),"ASSENTE") -> 6.03 | AK2: =IF(IFERROR(VLOOKUP(A2,'[35]35'!$A$5:$O$440,4,FALSE),0),VLOOKUP(A2,'[35]35'!$A$5:$O$440,4,FALSE),"ASSENTE") -> 5.54 | AL2: =IF(IFERROR(VLOOKUP(A2,'[36]36'!$A$5:$O$440,4,FALSE),0),VLOOKUP(A2,'[36]36'!$A$5:$O$440,4,FALSE),"ASSENTE") -> 6.54 | AM2: =IF(IFERROR(VLOOKUP(A2,'[37]37'!$A$5:$O$440,4,FALSE),0),VLOOKUP(A2,'[37]37'!$A$5:$O$440,4,FALSE),"ASSENTE") -> 5.04 | AN2: =IF(IFERROR(VLOOKUP(A2,'[38]38'!$A$5:$O$440,4,FALSE),0),VLOOKUP(A2,'[38]38'!$A$5:$O$440,4,FALSE),"ASSENTE") -> 6.53
C3: =IF(IFERROR(VLOOKUP(A2,'[1]1'!$A$5:$O$440,4,FALSE),1)=1,"ASSENTE",IF(AND(VLOOKUP(A2,'[1]1'!$A$5:$O$440,5,FALSE)<1,VLOOKUP(A2,'[1]1'!$A$5:$O$440,9,FALSE)<1),"NO","GOL")) -> NO | D3: =IF(IFERROR(VLOOKUP(A2,'[2]2'!$A$5:$O$440,4,FALSE),1)=1,"ASSENTE",IF(AND(VLOOKUP(A2,'[2]2'!$A$5:$O$440,5,FALSE)<1,VLOOKUP(A2,'[2]2'!$A$5:$O$440,9,FALSE)<1),"NO","GOL")) -> GOL | E3: =IF(IFERROR(VLOOKUP(A2,'[3]3'!$A$5:$O$440,4,FALSE),1)=1,"ASSENTE",IF(AND(VLOOKUP(A2,'[3]3'!$A$5:$O$440,5,FALSE)<1,VLOOKUP(A2,'[3]3'!$A$5:$O$440,9,FALSE)<1),"NO","GOL")) -> NO | F3: =IF(IFERROR(VLOOKUP(A2,'[4]4'!$A$5:$O$440,4,FALSE),1)=1,"ASSENTE",IF(AND(VLOOKUP(A2,'[4]4'!$A$5:$O$440,5,FALSE)<1,VLOOKUP(A2,'[4]4'!$A$5:$O$440,9,FALSE)<1),"NO","GOL")) -> NO | G3: =IF(IFERROR(VLOOKUP(A2,'[5]5'!$A$5:$O$440,4,FALSE),1)=1,"ASSENTE",IF(AND(VLOOKUP(A2,'[5]5'!$A$5:$O$440,5,FALSE)<1,VLOOKUP(A2,'[5]5'!$A$5:$O$440,9,FALSE)<1),"NO","GOL")) -> GOL | H3: =IF(IFERROR(VLOOKUP(A2,'[6]6'!$A$5:$O$440,4,FALSE),1)=1,"ASSENTE",IF(AND(VLOOKUP(A2,'[6]6'!$A$5:$O$440,5,FALSE)<1,VLOOKUP(A2,'[6]6'!$A$5:$O$440,9,FALSE)<1),"NO","GOL")) -> NO | I3: =IF(IFERROR(VLOOKUP(A2,'[7]7'!$A$5:$O$440,4,FALSE),1)=1,"ASSENTE",IF(AND(VLOOKUP(A2,'[7]7'!$A$5:$O$440,5,FALSE)<1,VLOOKUP(A2,'[7]7'!$A$5:$O$440,9,FALSE)<1),"NO","GOL")) -> NO | J3: =IF(IFERROR(VLOOKUP(A2,'[8]8'!$A$5:$O$440,4,FALSE),1)=1,"ASSENTE",IF(AND(VLOOKUP(A2,'[8]8'!$A$5:$O$440,5,FALSE)<1,VLOOKUP(A2,'[8]8'!$A$5:$O$440,9,FALSE)<1),"NO","GOL")) -> GOL | K3: =IF(IFERROR(VLOOKUP(A2,'[9]9'!$A$5:$O$440,4,FALSE),1)=1,"ASSENTE",IF(AND(VLOOKUP(A2,'[9]9'!$A$5:$O$440,5,FALSE)<1,VLOOKUP(A2,'[9]9'!$A$5:$O$440,9,FALSE)<1),"NO","GOL")) -> NO | L3: =IF(IFERROR(VLOOKUP(A2,'[10]10'!$A$5:$O$440,4,FALSE),1)=1,"ASSENTE",IF(AND(VLOOKUP(A2,'[10]10'!$A$5:$O$440,5,FALSE)<1,VLOOKUP(A2,'[10]10'!$A$5:$O$440,9,FALSE)<1),"NO","GOL")) -> NO | M3: =IF(IFERROR(VLOOKUP(A2,'[11]11'!$A$5:$O$440,4,FALSE),1)=1,"ASSENTE",IF(AND(VLOOKUP(A2,'[11]11'!$A$5:$O$440,5,FALSE)<1,VLOOKUP(A2,'[11]11'!$A$5:$O$440,9,FALSE)<1),"NO","GOL")) -> NO | N3: =IF(IFERROR(VLOOKUP(A2,'[12]12'!$A$5:$O$440,4,FALSE),1)=1,"ASSENTE",IF(AND(VLOOKUP(A2,'[12]12'!$A$5:$O$440,5,FALSE)<1,VLOOKUP(A2,'[12]12'!$A$5:$O$440,9,FALSE)<1),"NO","GOL")) -> NO | O3: =IF(IFERROR(VLOOKUP(A2,'[13]13'!$A$5:$O$440,4,FALSE),1)=1,"ASSENTE",IF(AND(VLOOKUP(A2,'[13]13'!$A$5:$O$440,5,FALSE)<1,VLOOKUP(A2,'[13]13'!$A$5:$O$440,9,FALSE)<1),"NO","GOL")) -> GOL | P3: =IF(IFERROR(VLOOKUP(A2,'[14]14'!$A$5:$O$440,4,FALSE),1)=1,"ASSENTE",IF(AND(VLOOKUP(A2,'[14]14'!$A$5:$O$440,5,FALSE)<1,VLOOKUP(A2,'[14]14'!$A$5:$O$440,9,FALSE)<1),"NO","GOL")) -> GOL | Q3: =IF(IFERROR(VLOOKUP(A2,'[15]15'!$A$5:$O$440,4,FALSE),1)=1,"ASSENTE",IF(AND(VLOOKUP(A2,'[15]15'!$A$5:$O$440,5,FALSE)<1,VLOOKUP(A2,'[15]15'!$A$5:$O$440,9,FALSE)<1),"NO","GOL")) -> NO | R3: =IF(IFERROR(VLOOKUP(A2,'[16]16'!$A$5:$O$440,4,FALSE),1)=1,"ASSENTE",IF(AND(VLOOKUP(A2,'[16]16'!$A$5:$O$440,5,FALSE)<1,VLOOKUP(A2,'[16]16'!$A$5:$O$440,9,FALSE)<1),"NO","GOL")) -> NO | S3: =IF(IFERROR(VLOOKUP(A2,'[17]17'!$A$5:$O$440,4,FALSE),1)=1,"ASSENTE",IF(AND(VLOOKUP(A2,'[17]17'!$A$5:$O$440,5,FALSE)<1,VLOOKUP(A2,'[17]17'!$A$5:$O$440,9,FALSE)<1),"NO","GOL")) -> NO | T3: =IF(IFERROR(VLOOKUP(A2,'[18]18'!$A$5:$O$440,4,FALSE),1)=1,"ASSENTE",IF(AND(VLOOKUP(A2,'[18]18'!$A$5:$O$440,5,FALSE)<1,VLOOKUP(A2,'[18]18'!$A$5:$O$440,9,FALSE)<1),"NO","GOL")) -> NO | U3: =IF(IFERROR(VLOOKUP(A2,'[19]19'!$A$5:$O$440,4,FALSE),1)=1,"ASSENTE",IF(AND(VLOOKUP(A2,'[19]19'!$A$5:$O$440,5,FALSE)<1,VLOOKUP(A2,'[19]19'!$A$5:$O$440,9,FALSE)<1),"NO","GOL")) -> NO | V3: =IF(IFERROR(VLOOKUP(A2,'[20]20'!$A$5:$O$440,4,FALSE),1)=1,"ASSENTE",IF(AND(VLOOKUP(A2,'[20]20'!$A$5:$O$440,5,FALSE)<1,VLOOKUP(A2,'[20]20'!$A$5:$O$440,9,FALSE)<1),"NO","GOL")) -> GOL | W3: =IF(IFERROR(VLOOKUP(A2,'[21]21'!$A$5:$O$440,4,FALSE),1)=1,"ASSENTE",IF(AND(VLOOKUP(A2,'[21]21'!$A$5:$O$440,5,FALSE)<1,VLOOKUP(A2,'[21]21'!$A$5:$O$440,9,FALSE)<1),"NO","GOL")) -> NO | X3: =IF(IFERROR(VLOOKUP(A2,'[22]22'!$A$5:$O$440,4,FALSE),1)=1,"ASSENTE",IF(AND(VLOOKUP(A2,'[22]22'!$A$5:$O$440,5,FALSE)<1,VLOOKUP(A2,'[22]22'!$A$5:$O$440,9,FALSE)<1),"NO","GOL")) -> GOL | Y3: =IF(IFERROR(VLOOKUP(A2,'[23]23'!$A$5:$O$440,4,FALSE),1)=1,"ASSENTE",IF(AND(VLOOKUP(A2,'[23]23'!$A$5:$O$440,5,FALSE)<1,VLOOKUP(A2,'[23]23'!$A$5:$O$440,9,FALSE)<1),"NO","GOL")) -> NO | Z3: =IF(IFERROR(VLOOKUP(A2,'[24]24'!$A$5:$O$440,4,FALSE),1)=1,"ASSENTE",IF(AND(VLOOKUP(A2,'[24]24'!$A$5:$O$440,5,FALSE)<1,VLOOKUP(A2,'[24]24'!$A$5:$O$440,9,FALSE)<1),"NO","GOL")) -> GOL | AA3: =IF(IFERROR(VLOOKUP(A2,'[25]25'!$A$5:$O$440,4,FALSE),1)=1,"ASSENTE",IF(AND(VLOOKUP(A2,'[25]25'!$A$5:$O$440,5,FALSE)<1,VLOOKUP(A2,'[25]25'!$A$5:$O$440,9,FALSE)<1),"NO","GOL")) -> GOL | AB3: =IF(IFERROR(VLOOKUP(A2,'[26]26'!$A$5:$O$440,4,FALSE),1)=1,"ASSENTE",IF(AND(VLOOKUP(A2,'[26]26'!$A$5:$O$440,5,FALSE)<1,VLOOKUP(A2,'[26]26'!$A$5:$O$440,9,FALSE)<1),"NO","GOL")) -> NO | AC3: =IF(IFERROR(VLOOKUP(A2,'[27]27'!$A$5:$O$440,4,FALSE),1)=1,"ASSENTE",IF(AND(VLOOKUP(A2,'[27]27'!$A$5:$O$440,5,FALSE)<1,VLOOKUP(A2,'[27]27'!$A$5:$O$440,9,FALSE)<1),"NO","GOL")) -> NO | AD3: =IF(IFERROR(VLOOKUP(A2,'[28]28'!$A$5:$O$440,4,FALSE),1)=1,"ASSENTE",IF(AND(VLOOKUP(A2,'[28]28'!$A$5:$O$440,5,FALSE)<1,VLOOKUP(A2,'[28]28'!$A$5:$O$440,9,FALSE)<1),"NO","GOL")) -> NO | AE3: =IF(IFERROR(VLOOKUP(A2,'[29]29'!$A$5:$O$440,4,FALSE),1)=1,"ASSENTE",IF(AND(VLOOKUP(A2,'[29]29'!$A$5:$O$440,5,FALSE)<1,VLOOKUP(A2,'[29]29'!$A$5:$O$440,9,FALSE)<1),"NO","GOL")) -> GOL | AF3: =IF(IFERROR(VLOOKUP(A2,'[30]30'!$A$5:$O$440,4,FALSE),1)=1,"ASSENTE",IF(AND(VLOOKUP(A2,'[30]30'!$A$5:$O$440,5,FALSE)<1,VLOOKUP(A2,'[30]30'!$A$5:$O$440,9,FALSE)<1),"NO","GOL")) -> NO | AG3: =IF(IFERROR(VLOOKUP(A2,'[31]31'!$A$5:$O$440,4,FALSE),1)=1,"ASSENTE",IF(AND(VLOOKUP(A2,'[31]31'!$A$5:$O$440,5,FALSE)<1,VLOOKUP(A2,'[31]31'!$A$5:$O$440,9,FALSE)<1),"NO","GOL")) -> GOL | AH3: =IF(IFERROR(VLOOKUP(A2,'[32]32'!$A$5:$O$440,4,FALSE),1)=1,"ASSENTE",IF(AND(VLOOKUP(A2,'[32]32'!$A$5:$O$440,5,FALSE)<1,VLOOKUP(A2,'[32]32'!$A$5:$O$440,9,FALSE)<1),"NO","GOL")) -> GOL | AI3: =IF(IFERROR(VLOOKUP(A2,'[33]33'!$A$5:$O$440,4,FALSE),1)=1,"ASSENTE",IF(AND(VLOOKUP(A2,'[33]33'!$A$5:$O$440,5,FALSE)<1,VLOOKUP(A2,'[33]33'!$A$5:$O$440,9,FALSE)<1),"NO","GOL")) -> NO | AJ3: =IF(IFERROR(VLOOKUP(A2,'[34]34'!$A$5:$O$440,4,FALSE),1)=1,"ASSENTE",IF(AND(VLOOKUP(A2,'[34]34'!$A$5:$O$440,5,FALSE)<1,VLOOKUP(A2,'[34]34'!$A$5:$O$440,9,FALSE)<1),"NO","GOL")) -> NO | AK3: =IF(IFERROR(VLOOKUP(A2,'[35]35'!$A$5:$O$440,4,FALSE),1)=1,"ASSENTE",IF(AND(VLOOKUP(A2,'[35]35'!$A$5:$O$440,5,FALSE)<1,VLOOKUP(A2,'[35]35'!$A$5:$O$440,9,FALSE)<1),"NO","GOL")) -> NO | AL3: =IF(IFERROR(VLOOKUP(A2,'[36]36'!$A$5:$O$440,4,FALSE),1)=1,"ASSENTE",IF(AND(VLOOKUP(A2,'[36]36'!$A$5:$O$440,5,FALSE)<1,VLOOKUP(A2,'[36]36'!$A$5:$O$440,9,FALSE)<1),"NO","GOL")) -> GOL | AM3: =IF(IFERROR(VLOOKUP(A2,'[37]37'!$A$5:$O$440,4,FALSE),1)=1,"ASSENTE",IF(AND(VLOOKUP(A2,'[37]37'!$A$5:$O$440,5,FALSE)<1,VLOOKUP(A2,'[37]37'!$A$5:$O$440,9,FALSE)<1),"NO","GOL")) -> NO | AN3: =IF(IFERROR(VLOOKUP(A2,'[38]38'!$A$5:$O$440,4,FALSE),1)=1,"ASSENTE",IF(AND(VLOOKUP(A2,'[38]38'!$A$5:$O$440,5,FALSE)<1,VLOOKUP(A2,'[38]38'!$A$5:$O$440,9,FALSE)<1),"NO","GOL")) -> GOL
A4: 3358 | B4: =VLOOKUP(A4,'[3]3'!$A$5:$O$440,3,FALSE) -> DI NATALE | C4: =IF(IFERROR(VLOOKUP(A4,'[1]1'!$A$5:$O$440,4,FALSE),0),VLOOKUP(A4,'[1]1'!$A$5:$O$440,4,FALSE),"ASSENTE") -> 6.01 | D4: =IF(IFERROR(VLOOKUP(A4,'[2]2'!$A$5:$O$440,4,FALSE),0),VLOOKUP(A4,'[2]2'!$A$5:$O$440,4,FALSE),"ASSENTE") -> 5.5 | E4: =IF(IFERROR(VLOOKUP(A4,'[3]3'!$A$5:$O$440,4,FALSE),0),VLOOKUP(A4,'[3]3'!$A$5:$O$440,4,FALSE),"ASSENTE") -> 4.01 | F4: =IF(IFERROR(VLOOKUP(A4,'[4]4'!$A$5:$O$380,4,FALSE),0),VLOOKUP(A4,'[4]4'!$A$5:$O$380,4,FALSE),"ASSENTE") -> 6.52 | G4: =IF(IFERROR(VLOOKUP(A4,'[5]5'!$A$5:$O$440,4,FALSE),0),VLOOKUP(A4,'[5]5'!$A$5:$O$440,4,FALSE),"ASSENTE") -> 6.54 | H4: =IF(IFERROR(VLOOKUP(A4,'[6]6'!$A$5:$O$440,4,FALSE),0),VLOOKUP(A4,'[6]6'!$A$5:$O$440,4,FALSE),"ASSENTE") -> 5.52 | I4: =IF(IFERROR(VLOOKUP(A4,'[7]7'!$A$5:$O$440,4,FALSE),0),VLOOKUP(A4,'[7]7'!$A$5:$O$440,4,FALSE),"ASSENTE") -> 5.02 | J4: =IF(IFERROR(VLOOKUP(A4,'[8]8'!$A$5:$O$440,4,FALSE),0),VLOOKUP(A4,'[8]8'!$A$5:$O$440,4,FALSE),"ASSENTE") -> 6.53 | K4: =IF(IFERROR(VLOOKUP(A4,'[9]9'!$A$5:$O$440,4,FALSE),0),VLOOKUP(A4,'[9]9'!$A$5:$O$440,4,FALSE),"ASSENTE") -> 6.01 | L4: =IF(IFERROR(VLOOKUP(A4,'[10]10'!$A$5:$O$440,4,FALSE),0),VLOOKUP(A4,'[10]10'!$A$5:$O$440,4,FALSE),"ASSENTE") -> 5.03 | M4: =IF(IFERROR(VLOOKUP(A4,'[11]11'!$A$5:$O$440,4,FALSE),0),VLOOKUP(A4,'[11]11'!$A$5:$O$440,4,FALSE),"ASSENTE") -> ASSENTE | N4: =IF(IFERROR(VLOOKUP(A4,'[12]12'!$A$5:$O$440,4,FALSE),0),VLOOKUP(A4,'[12]12'!$A$5:$O$440,4,FALSE),"ASSENTE") -> 9.01 | O4: =IF(IFERROR(VLOOKUP(A4,'[13]13'!$A$5:$O$440,4,FALSE),0),VLOOKUP(A4,'[13]13'!$A$5:$O$440,4,FALSE),"ASSENTE") -> 6.51 | P4: =IF(IFERROR(VLOOKUP(A4,'[14]14'!$A$5:$O$440,4,FALSE),0),VLOOKUP(A4,'[14]14'!$A$5:$O$440,4,FALSE),"ASSENTE") -> 8.01 | Q4: =IF(IFERROR(VLOOKUP(A4,'[15]15'!$A$5:$O$440,4,FALSE),0),VLOOKUP(A4,'[15]15'!$A$5:$O$440,4,FALSE),"ASSENTE") -> 6.02 | R4: =IF(IFERROR(VLOOKUP(A4,'[16]16'!$A$5:$O$440,4,FALSE),0),VLOOKUP(A4,'[16]16'!$A$5:$O$440,4,FALSE),"ASSENTE") -> 7.04 | S4: =IF(IFERROR(VLOOKUP(A4,'[17]17'!$A$5:$O$440,4,FALSE),0),VLOOKUP(A4,'[17]17'!$A$5:$O$440,4,FALSE),"ASSENTE") -> 6.54 | T4: =IF(IFERROR(VLOOKUP(A4,'[18]18'!$A$5:$O$440,4,FALSE),0),VLOOKUP(A4,'[18]18'!$A$5:$O$440,4,FALSE),"ASSENTE") -> 6.53 | U4: =IF(IFERROR(VLOOKUP(A4,'[19]19'!$A$5:$O$440,4,FALSE),0),VLOOKUP(A4,'[19]19'!$A$5:$O$440,4,FALSE),"ASSENTE") -> 7.02 | V4: =IF(IFERROR(VLOOKUP(A4,'[20]20'!$A$5:$O$440,4,FALSE),0),VLOOKUP(A4,'[20]20'!$A$5:$O$440,4,FALSE),"ASSENTE") -> 6 | W4: =IF(IFERROR(VLOOKUP(A4,'[21]21'!$A$5:$O$440,4,FALSE),0),VLOOKUP(A4,'[21]21'!$A$5:$O$440,4,FALSE),"ASSENTE") -> 7.52 | X4: =IF(IFERROR(VLOOKUP(A4,'[22]22'!$A$5:$O$440,4,FALSE),0),VLOOKUP(A4,'[22]22'!$A$5:$O$440,4,FALSE),"ASSENTE") -> 6.03 | Y4: =IF(IFERROR(VLOOKUP(A4,'[23]23'!$A$5:$O$440,4,FALSE),0),VLOOKUP(A4,'[23]23'!$A$5:$O$440,4,FALSE),"ASSENTE") -> 5.54 | Z4: =IF(IFERROR(VLOOKUP(A4,'[24]24'!$A$5:$O$440,4,FALSE),0),VLOOKUP(A4,'[24]24'!$A$5:$O$440,4,FALSE),"ASSENTE") -> 7.51 | AA4: =IF(IFERROR(VLOOKUP(A4,'[25]25'!$A$5:$O$440,4,FALSE),0),VLOOKUP(A4,'[25]25'!$A$5:$O$440,4,FALSE),"ASSENTE") -> 7.5 | AB4: =IF(IFERROR(VLOOKUP(A4,'[26]26'!$A$5:$O$440,4,FALSE),0),VLOOKUP(A4,'[26]26'!$A$5:$O$440,4,FALSE),"ASSENTE") -> 6.01 | AC4: =IF(IFERROR(VLOOKUP(A4,'[27]27'!$A$5:$O$440,4,FALSE),0),VLOOKUP(A4,'[27]27'!$A$5:$O$440,4,FALSE),"ASSENTE") -> 8.01 | AD4: =IF(IFERROR(VLOOKUP(A4,'[28]28'!$A$5:$O$440,4,FALSE),0),VLOOKUP(A4,'[28]28'!$A$5:$O$440,4,FALSE),"ASSENTE") -> 6.52 | AE4: =IF(IFERROR(VLOOKUP(A4,'[29]29'!$A$5:$O$440,4,FALSE),0),VLOOKUP(A4,'[29]29'!$A$5:$O$440,4,FALSE),"ASSENTE") -> 8.01 | AF4: =IF(IFERROR(VLOOKUP(A4,'[30]30'!$A$5:$O$440,4,FALSE),0),VLOOKUP(A4,'[30]30'!$A$5:$O$440,4,FALSE),"ASSENTE") -> 6.52 | AG4: =IF(IFERROR(VLOOKUP(A4,'[31]31'!$A$5:$O$440,4,FALSE),0),VLOOKUP(A4,'[31]31'!$A$5:$O$440,4,FALSE),"ASSENTE") -> 5.51 | AH4: =IF(IFERROR(VLOOKUP(A4,'[32]32'!$A$5:$O$440,4,FALSE),0),VLOOKUP(A4,'[32]32'!$A$5:$O$440,4,FALSE),"ASSENTE") -> 6.52 | AI4: =IF(IFERROR(VLOOKUP(A4,'[33]33'!$A$5:$O$440,4,FALSE),0),VLOOKUP(A4,'[33]33'!$A$5:$O$440,4,FALSE),"ASSENTE") -> ASSENTE | AJ4: =IF(IFERROR(VLOOKUP(A4,'[34]34'!$A$5:$O$440,4,FALSE),0),VLOOKUP(A4,'[34]34'!$A$5:$O$440,4,FALSE),"ASSENTE") -> 6.03 | AK4: =IF(IFERROR(VLOOKUP(A4,'[35]35'!$A$5:$O$440,4,FALSE),0),VLOOKUP(A4,'[35]35'!$A$5:$O$440,4,FALSE),"ASSENTE") -> 5.53 | AL4: =IF(IFERROR(VLOOKUP(A4,'[36]36'!$A$5:$O$440,4,FALSE),0),VLOOKUP(A4,'[36]36'!$A$5:$O$440,4,FALSE),"ASSENTE") -> 7.52 | AM4: =IF(IFERROR(VLOOKUP(A4,'[37]37'!$A$5:$O$440,4,FALSE),0),VLOOKUP(A4,'[37]37'!$A$5:$O$440,4,FALSE),"ASSENTE") -> 6.5 | AN4: =IF(IFERROR(VLOOKUP(A4,'[38]38'!$A$5:$O$440,4,FALSE),0),VLOOKUP(A4,'[38]38'!$A$5:$O$440,4,FALSE),"ASSENTE") -> 5.51
C5: =IF(IFERROR(VLOOKUP(A4,'[1]1'!$A$5:$O$440,4,FALSE),1)=1,"ASSENTE",IF(AND(VLOOKUP(A4,'[1]1'!$A$5:$O$440,5,FALSE)<1,VLOOKUP(A4,'[1]1'!$A$5:$O$440,9,FALSE)<1),"NO","GOL")) -> NO | D5: =IF(IFERROR(VLOOKUP(A4,'[2]2'!$A$5:$O$440,4,FALSE),1)=1,"ASSENTE",IF(AND(VLOOKUP(A4,'[2]2'!$A$5:$O$440,5,FALSE)<1,VLOOKUP(A4,'[2]2'!$A$5:$O$440,9,FALSE)<1),"NO","GOL")) -> NO | E5: =IF(IFERROR(VLOOKUP(A4,'[3]3'!$A$5:$O$440,4,FALSE),1)=1,"ASSENTE",IF(AND(VLOOKUP(A4,'[3]3'!$A$5:$O$440,5,FALSE)<1,VLOOKUP(A4,'[3]3'!$A$5:$O$440,9,FALSE)<1),"NO","GOL")) -> NO | F5: =IF(IFERROR(VLOOKUP(A4,'[4]4'!$A$5:$O$380,4,FALSE),1)=1,"ASSENTE",IF(AND(VLOOKUP(A4,'[4]4'!$A$5:$O$380,5,FALSE)<1,VLOOKUP(A4,'[4]4'!$A$5:$O$380,9,FALSE)<1),"NO","GOL")) -> GOL | G5: =IF(IFERROR(VLOOKUP(A4,'[5]5'!$A$5:$O$440,4,FALSE),1)=1,"ASSENTE",IF(AND(VLOOKUP(A4,'[5]5'!$A$5:$O$440,5,FALSE)<1,VLOOKUP(A4,'[5]5'!$A$5:$O$440,9,FALSE)<1),"NO","GOL")) -> NO | H5: =IF(IFERROR(VLOOKUP(A4,'[6]6'!$A$5:$O$440,4,FALSE),1)=1,"ASSENTE",IF(AND(VLOOKUP(A4,'[6]6'!$A$5:$O$440,5,FALSE)<1,VLOOKUP(A4,'[6]6'!$A$5:$O$440,9,FALSE)<1),"NO","GOL")) -> NO | I5: =IF(IFERROR(VLOOKUP(A4,'[7]7'!$A$5:$O$440,4,FALSE),1)=1,"ASSENTE",IF(AND(VLOOKUP(A4,'[7]7'!$A$5:$O$440,5,FALSE)<1,VLOOKUP(A4,'[7]7'!$A$5:$O$440,9,FALSE)<1),"NO","GOL")) -> NO | J5: =IF(IFERROR(VLOOKUP(A4,'[8]8'!$A$5:$O$440,4,FALSE),1)=1,"ASSENTE",IF(AND(VLOOKUP(A4,'[8]8'!$A$5:$O$440,5,FALSE)<1,VLOOKUP(A4,'[8]8'!$A$5:$O$440,9,FALSE)<1),"NO","GOL")) -> GOL | K5: =IF(IFERROR(VLOOKUP(A4,'[9]9'!$A$5:$O$440,4,FALSE),1)=1,"ASSENTE",IF(AND(VLOOKUP(A4,'[9]9'!$A$5:$O$440,5,FALSE)<1,VLOOKUP(A4,'[9]9'!$A$5:$O$440,9,FALSE)<1),"NO","GOL")) -> NO | L5: =IF(IFERROR(VLOOKUP(A4,'[10]10'!$A$5:$O$440,4,FALSE),1)=1,"ASSENTE",IF(AND(VLOOKUP(A4,'[10]10'!$A$5:$O$440,5,FALSE)<1,VLOOKUP(A4,'[10]10'!$A$5:$O$440,9,FALSE)<1),"NO","GOL")) -> NO | M5: =IF(IFERROR(VLOOKUP(A4,'[11]11'!$A$5:$O$440,4,FALSE),1)=1,"ASSENTE",IF(AND(VLOOKUP(A4,'[11]11'!$A$5:$O$440,5,FALSE)<1,VLOOKUP(A4,'[11]11'!$A$5:$O$440,9,FALSE)<1),"NO","GOL")) -> ASSENTE | N5: =IF(IFERROR(VLOOKUP(A4,'[12]12'!$A$5:$O$440,4,FALSE),1)=1,"ASSENTE",IF(AND(VLOOKUP(A4,'[12]12'!$A$5:$O$440,5,FALSE)<1,VLOOKUP(A4,'[12]12'!$A$5:$O$440,9,FALSE)<1),"NO","GOL")) -> GOL | O5: =IF(IFERROR(VLOOKUP(A4,'[13]13'!$A$5:$O$440,4,FALSE),1)=1,"ASSENTE",IF(AND(VLOOKUP(A4,'[13]13'!$A$5:$O$440,5,FALSE)<1,VLOOKUP(A4,'[13]13'!$A$5:$O$440,9,FALSE)<1),"NO","GOL")) -> NO | P5: =IF(IFERROR(VLOOKUP(A4,'[14]14'!$A$5:$O$440,4,FALSE),1)=1,"ASSENTE",IF(AND(VLOOKUP(A4,'[14]14'!$A$5:$O$440,5,FALSE)<1,VLOOKUP(A4,'[14]14'!$A$5:$O$440,9,FALSE)<1),"NO","GOL")) -> GOL | Q5: =IF(IFERROR(VLOOKUP(A4,'[15]15'!$A$5:$O$440,4,FALSE),1)=1,"ASSENTE",IF(AND(VLOOKUP(A4,'[15]15'!$A$5:$O$440,5,FALSE)<1,VLOOKUP(A4,'[15]15'!$A$5:$O$440,9,FALSE)<1),"NO","GOL")) -> GOL | R5: =IF(IFERROR(VLOOKUP(A4,'[16]16'!$A$5:$O$440,4,FALSE),1)=1,"ASSENTE",IF(AND(VLOOKUP(A4,'[16]16'!$A$5:$O$440,5,FALSE)<1,VLOOKUP(A4,'[16]16'!$A$5:$O$440,9,FALSE)<1),"NO","GOL")) -> GOL | S5: =IF(IFERROR(VLOOKUP(A4,'[17]17'!$A$5:$O$440,4,FALSE),1)=1,"ASSENTE",IF(AND(VLOOKUP(A4,'[17]17'!$A$5:$O$440,5,FALSE)<1,VLOOKUP(A4,'[17]17'!$A$5:$O$440,9,FALSE)<1),"NO","GOL")) -> NO | T5: =IF(IFERROR(VLOOKUP(A4,'[18]18'!$A$5:$O$440,4,FALSE),1)=1,"ASSENTE",IF(AND(VLOOKUP(A4,'[18]18'!$A$5:$O$440,5,FALSE)<1,VLOOKUP(A4,'[18]18'!$A$5:$O$440,9,FALSE)<1),"NO","GOL")) -> GOL | U5: =IF(IFERROR(VLOOKUP(A4,'[19]19'!$A$5:$O$440,4,FALSE),1)=1,"ASSENTE",IF(AND(VLOOKUP(A4,'[19]19'!$A$5:$O$440,5,FALSE)<1,VLOOKUP(A4,'[19]19'!$A$5:$O$440,9,FALSE)<1),"NO","GOL")) -> GOL | V5: =IF(IFERROR(VLOOKUP(A4,'[20]20'!$A$5:$O$440,4,FALSE),1)=1,"ASSENTE",IF(AND(VLOOKUP(A4,'[20]20'!$A$5:$O$440,5,FALSE)<1,VLOOKUP(A4,'[20]20'!$A$5:$O$440,9,FALSE)<1),"NO","GOL")) -> GOL | W5: =IF(IFERROR(VLOOKUP(A4,'[21]21'!$A$5:$O$440,4,FALSE),1)=1,"ASSENTE",IF(AND(VLOOKUP(A4,'[21]21'!$A$5:$O$440,5,FALSE)<1,VLOOKUP(A4,'[21]21'!$A$5:$O$440,9,FALSE)<1),"NO","GOL")) -> GOL | X5: =IF(IFERROR(VLOOKUP(A4,'[22]22'!$A$5:$O$440,4,FALSE),1)=1,"ASSENTE",IF(AND(VLOOKUP(A4,'[22]22'!$A$5:$O$440,5,FALSE)<1,VLOOKUP(A4,'[22]22'!$A$5:$O$440,9,FALSE)<1),"NO","GOL")) -> NO | Y5: =IF(IFERROR(VLOOKUP(A4,'[23]23'!$A$5:$O$440,4,FALSE),1)=1,"ASSENTE",IF(AND(VLOOKUP(A4,'[23]23'!$A$5:$O$440,5,FALSE)<1,VLOOKUP(A4,'[23]23'!$A$5:$O$440,9,FALSE)<1),"NO","GOL")) -> NO | Z5: =IF(IFERROR(VLOOKUP(A4,'[24]24'!$A$5:$O$440,4,FALSE),1)=1,"ASSENTE",IF(AND(VLOOKUP(A4,'[24]24'!$A$5:$O$440,5,FALSE)<1,VLOOKUP(A4,'[24]24'!$A$5:$O$440,9,FALSE)<1),"NO","GOL")) -> GOL | AA5: =IF(IFERROR(VLOOKUP(A4,'[25]25'!$A$5:$O$440,4,FALSE),1)=1,"ASSENTE",IF(AND(VLOOKUP(A4,'[25]25'!$A$5:$O$440,5,FALSE)<1,VLOOKUP(A4,'[25]25'!$A$5:$O$440,9,FALSE)<1),"NO","GOL")) -> GOL | AB5: =IF(IFERROR(VLOOKUP(A4,'[26]26'!$A$5:$O$440,4,FALSE),1)=1,"ASSENTE",IF(AND(VLOOKUP(A4,'[26]26'!$A$5:$O$440,5,FALSE)<1,VLOOKUP(A4,'[26]26'!$A$5:$O$440,9,FALSE)<1),"NO","GOL")) -> NO | AC5: =IF(IFERROR(VLOOKUP(A4,'[27]27'!$A$5:$O$440,4,FALSE),1)=1,"ASSENTE",IF(AND(VLOOKUP(A4,'[27]27'!$A$5:$O$440,5,FALSE)<1,VLOOKUP(A4,'[27]27'!$A$5:$O$440,9,FALSE)<1),"NO","GOL")) -> GOL | AD5: =IF(IFERROR(VLOOKUP(A4,'[28]28'!$A$5:$O$440,4,FALSE),1)=1,"ASSENTE",IF(AND(VLOOKUP(A4,'[28]28'!$A$5:$O$440,5,FALSE)<1,VLOOKUP(A4,'[28]28'!$A$5:$O$440,9,FALSE)<1),"NO","GOL")) -> GOL | AE5: =IF(IFERROR(VLOOKUP(A4,'[29]29'!$A$5:$O$440,4,FALSE),1)=1,"ASSENTE",IF(AND(VLOOKUP(A4,'[29]29'!$A$5:$O$440,5,FALSE)<1,VLOOKUP(A4,'[29]29'!$A$5:$O$440,9,FALSE)<1),"NO","GOL")) -> GOL | AF5: =IF(IFERROR(VLOOKUP(A4,'[30]30'!$A$5:$O$440,4,FALSE),1)=1,"ASSENTE",IF(AND(VLOOKUP(A4,'[30]30'!$A$5:$O$440,5,FALSE)<1,VLOOKUP(A4,'[30]30'!$A$5:$O$440,9,FALSE)<1),"NO","GOL")) -> GOL | AG5: =IF(IFERROR(VLOOKUP(A4,'[31]31'!$A$5:$O$440,4,FALSE),1)=1,"ASSENTE",IF(AND(VLOOKUP(A4,'[31]31'!$A$5:$O$440,5,FALSE)<1,VLOOKUP(A4,'[31]31'!$A$5:$O$440,9,FALSE)<1),"NO","GOL")) -> NO | AH5: =IF(IFERROR(VLOOKUP(A4,'[32]32'!$A$5:$O$440,4,FALSE),1)=1,"ASSENTE",IF(AND(VLOOKUP(A4,'[32]32'!$A$5:$O$440,5,FALSE)<1,VLOOKUP(A4,'[32]32'!$A$5:$O$440,9,FALSE)<1),"NO","GOL")) -> GOL | AI5: =IF(IFERROR(VLOOKUP(A4,'[33]33'!$A$5:$O$440,4,FALSE),1)=1,"ASSENTE",IF(AND(VLOOKUP(A4,'[33]33'!$A$5:$O$440,5,FALSE)<1,VLOOKUP(A4,'[33]33'!$A$5:$O$440,9,FALSE)<1),"NO","GOL")) -> ASSENTE | AJ5: =IF(IFERROR(VLOOKUP(A4,'[34]34'!$A$5:$O$440,4,FALSE),1)=1,"ASSENTE",IF(AND(VLOOKUP(A4,'[34]34'!$A$5:$O$440,5,FALSE)<1,VLOOKUP(A4,'[34]34'!$A$5:$O$440,9,FALSE)<1),"NO","GOL")) -> NO | AK5: =IF(IFERROR(VLOOKUP(A4,'[35]35'!$A$5:$O$440,4,FALSE),1)=1,"ASSENTE",IF(AND(VLOOKUP(A4,'[35]35'!$A$5:$O$440,5,FALSE)<1,VLOOKUP(A4,'[35]35'!$A$5:$O$440,9,FALSE)<1),"NO","GOL")) -> NO | AL5: =IF(IFERROR(VLOOKUP(A4,'[36]36'!$A$5:$O$440,4,FALSE),1)=1,"ASSENTE",IF(AND(VLOOKUP(A4,'[36]36'!$A$5:$O$440,5,FALSE)<1,VLOOKUP(A4,'[36]36'!$A$5:$O$440,9,FALSE)<1),"NO","GOL")) -> GOL | AM5: =IF(IFERROR(VLOOKUP(A4,'[37]37'!$A$5:$O$440,4,FALSE),1)=1,"ASSENTE",IF(AND(VLOOKUP(A4,'[37]37'!$A$5:$O$440,5,FALSE)<1,VLOOKUP(A4,'[37]37'!$A$5:$O$440,9,FALSE)<1),"NO","GOL")) -> NO | AN5: =IF(IFERROR(VLOOKUP(A4,'[38]38'!$A$5:$O$440,4,FALSE),1)=1,"ASSENTE",IF(AND(VLOOKUP(A4,'[38]38'!$A$5:$O$440,5,FALSE)<1,VLOOKUP(A4,'[38]38'!$A$5:$O$440,9,FALSE)<1),"NO","GOL")) -> NO
A6: 3361 | B6: =VLOOKUP(A6,'[1]1'!$A$5:$O$440,3,FALSE) -> ETO'O | C6: =IF(IFERROR(VLOOKUP(A6,'[1]1'!$A$5:$O$440,4,FALSE),0),VLOOKUP(A6,'[1]1'!$A$5:$O$440,4,FALSE),"ASSENTE") -> 6 | D6: =IF(IFERROR(VLOOKUP(A6,'[2]2'!$A$5:$O$440,4,FALSE),0),VLOOKUP(A6,'[2]2'!$A$5:$O$440,4,FALSE),"ASSENTE") -> 7.03 | E6: =IF(IFERROR(VLOOKUP(A6,'[3]3'!$A$5:$O$440,4,FALSE),0),VLOOKUP(A6,'[3]3'!$A$5:$O$440,4,FALSE),"ASSENTE") -> 8.04 | F6: =IF(IFERROR(VLOOKUP(A6,'[4]4'!$A$5:$O$440,4,FALSE),0),VLOOKUP(A6,'[4]4'!$A$5:$O$440,4,FALSE),"ASSENTE") -> 8.54 | G6: =IF(IFERROR(VLOOKUP(A6,'[5]5'!$A$5:$O$440,4,FALSE),0),VLOOKUP(A6,'[5]5'!$A$5:$O$440,4,FALSE),"ASSENTE") -> 6.52 | H6: =IF(IFERROR(VLOOKUP(A6,'[6]6'!$A$5:$O$440,4,FALSE),0),VLOOKUP(A6,'[6]6'!$A$5:$O$440,4,FALSE),"ASSENTE") -> 7.01 | I6: =IF(IFERROR(VLOOKUP(A6,'[7]7'!$A$5:$O$440,4,FALSE),0),VLOOKUP(A6,'[7]7'!$A$5:$O$440,4,FALSE),"ASSENTE") -> 7.52 | J6: =IF(IFERROR(VLOOKUP(A6,'[8]8'!$A$5:$O$440,4,FALSE),0),VLOOKUP(A6,'[8]8'!$A$5:$O$440,4,FALSE),"ASSENTE") -> 7.04 | K6: =IF(IFERROR(VLOOKUP(A6,'[9]9'!$A$5:$O$440,4,FALSE),0),VLOOKUP(A6,'[9]9'!$A$5:$O$440,4,FALSE),"ASSENTE") -> 5.53 | L6: =IF(IFERROR(VLOOKUP(A6,'[10]10'!$A$5:$O$440,4,FALSE),0),VLOOKUP(A6,'[10]10'!$A$5:$O$440,4,FALSE),"ASSENTE") -> 6.53 | M6: =IF(IFERROR(VLOOKUP(A6,'[11]11'!$A$5:$O$440,4,FALSE),0),VLOOKUP(A6,'[11]11'!$A$5:$O$440,4,FALSE),"ASSENTE") -> 6.51 | N6: =IF(IFERROR(VLOOKUP(A6,'[12]12'!$A$5:$O$440,4,FALSE),0),VLOOKUP(A6,'[12]12'!$A$5:$O$440,4,FALSE),"ASSENTE") -> 6.02 | O6: =IF(IFERROR(VLOOKUP(A6,'[13]13'!$A$5:$O$440,4,FALSE),0),VLOOKUP(A6,'[13]13'!$A$5:$O$440,4,FALSE),"ASSENTE") -> 5.01 | P6: =IF(IFERROR(VLOOKUP(A6,'[14]14'!$A$5:$O$440,4,FALSE),0),VLOOKUP(A6,'[14]14'!$A$5:$O$440,4,FALSE),"ASSENTE") -> ASSENTE | Q6: =IF(IFERROR(VLOOKUP(A6,'[15]15'!$A$5:$O$440,4,FALSE),0),VLOOKUP(A6,'[15]15'!$A$5:$O$440,4,FALSE),"ASSENTE") -> ASSENTE | R6: =IF(IFERROR(VLOOKUP(A6,'[16]16'!$A$5:$O$440,4,FALSE),0),VLOOKUP(A6,'[16]16'!$A$5:$O$440,4,FALSE),"ASSENTE") -> 7.52 | S6: =IF(IFERROR(VLOOKUP(A6,'[17]17'!$A$5:$O$440,4,FALSE),0),VLOOKUP(A6,'[17]17'!$A$5:$O$440,4,FALSE),"ASSENTE") -> 7.02 | T6: =IF(IFERROR(VLOOKUP(A6,'[18]18'!$A$5:$O$440,4,FALSE),0),VLOOKUP(A6,'[18]18'!$A$5:$O$440,4,FALSE),"ASSENTE") -> ASSENTE | U6: =IF(IFERROR(VLOOKUP(A6,'[19]19'!$A$5:$O$440,4,FALSE),0),VLOOKUP(A6,'[19]19'!$A$5:$O$440,4,FALSE),"ASSENTE") -> 6.01 | V6: =IF(IFERROR(VLOOKUP(A6,'[20]20'!$A$5:$O$440,4,FALSE),0),VLOOKUP(A6,'[20]20'!$A$5:$O$440,4,FALSE),"ASSENTE") -> 8.02 | W6: =IF(IFERROR(VLOOKUP(A6,'[21]21'!$A$5:$O$440,4,FALSE),0),VLOOKUP(A6,'[21]21'!$A$5:$O$440,4,FALSE),"ASSENTE") -> 5 | X6: =IF(IFERROR(VLOOKUP(A6,'[22]22'!$A$5:$O$440,4,FALSE),0),VLOOKUP(A6,'[22]22'!$A$5:$O$440,4,FALSE),"ASSENTE") -> 7.03 | Y6: =IF(IFERROR(VLOOKUP(A6,'[23]23'!$A$5:$O$440,4,FALSE),0),VLOOKUP(A6,'[23]23'!$A$5:$O$440,4,FALSE),"ASSENTE") -> 7.02 | Z6: =IF(IFERROR(VLOOKUP(A6,'[24]24'!$A$5:$O$440,4,FALSE),0),VLOOKUP(A6,'[24]24'!$A$5:$O$440,4,FALSE),"ASSENTE") -> 7.53 | AA6: =IF(IFERROR(VLOOKUP(A6,'[25]25'!$A$5:$O$440,4,FALSE),0),VLOOKUP(A6,'[25]25'!$A$5:$O$440,4,FALSE),"ASSENTE") -> 5.02 | AB6: =IF(IFERROR(VLOOKUP(A6,'[26]26'!$A$5:$O$440,4,FALSE),0),VLOOKUP(A6,'[26]26'!$A$5:$O$440,4,FALSE),"ASSENTE") -> 6.03 | AC6: =IF(IFERROR(VLOOKUP(A6,'[27]27'!$A$5:$O$440,4,FALSE),0),VLOOKUP(A6,'[27]27'!$A$5:$O$440,4,FALSE),"ASSENTE") -> 6.51 | AD6: =IF(IFERROR(VLOOKUP(A6,'[28]28'!$A$5:$O$440,4,FALSE),0),VLOOKUP(A6,'[28]28'!$A$5:$O$440,4,FALSE),"ASSENTE") -> 8.51 | AE6: =IF(IFERROR(VLOOKUP(A6,'[29]29'!$A$5:$O$440,4,FALSE),0),VLOOKUP(A6,'[29]29'!$A$5:$O$440,4,FALSE),"ASSENTE") -> 6.01 | AF6: =IF(IFERROR(VLOOKUP(A6,'[30]30'!$A$5:$O$440,4,FALSE),0),VLOOKUP(A6,'[30]30'!$A$5:$O$440,4,FALSE),"ASSENTE") -> 6.02 | AG6: =IF(IFERROR(VLOOKUP(A6,'[31]31'!$A$5:$O$440,4,FALSE),0),VLOOKUP(A6,'[31]31'!$A$5:$O$440,4,FALSE),"ASSENTE") -> 4.04 | AH6: =IF(IFERROR(VLOOKUP(A6,'[32]32'!$A$5:$O$440,4,FALSE),0),VLOOKUP(A6,'[32]32'!$A$5:$O$440,4,FALSE),"ASSENTE") -> 5.52 | AI6: =IF(IFERROR(VLOOKUP(A6,'[33]33'!$A$5:$O$440,4,FALSE),0),VLOOKUP(A6,'[33]33'!$A$5:$O$440,4,FALSE),"ASSENTE") -> 5.01 | AJ6: =IF(IFERROR(VLOOKUP(A6,'[34]34'!$A$5:$O$440,4,FALSE),0),VLOOKUP(A6,'[34]34'!$A$5:$O$440,4,FALSE),"ASSENTE") -> 7.03 | AK6: =IF(IFERROR(VLOOKUP(A6,'[35]35'!$A$5:$O$440,4,FALSE),0),VLOOKUP(A6,'[35]35'!$A$5:$O$440,4,FALSE),"ASSENTE") -> 6.02 | AL6: =IF(IFERROR(VLOOKUP(A6,'[36]36'!$A$5:$O$440,4,FALSE),0),VLOOKUP(A6,'[36]36'!$A$5:$O$440,4,FALSE),"ASSENTE") -> 7.02 | AM6: =IF(IFERROR(VLOOKUP(A6,'[37]37'!$A$5:$O$440,4,FALSE),0),VLOOKUP(A6,'[37]37'!$A$5:$O$440,4,FALSE),"ASSENTE") -> 6.53 | AN6: =IF(IFERROR(VLOOKUP(A6,'[38]38'!$A$5:$O$440,4,FALSE),0),VLOOKUP(A6,'[38]38'!$A$5:$O$440,4,FALSE),"ASSENTE") -> 6.02
C7: =IF(IFERROR(VLOOKUP(A6,'[1]1'!$A$5:$O$440,4,FALSE),1)=1,"ASSENTE",IF(AND(VLOOKUP(A6,'[1]1'!$A$5:$O$440,5,FALSE)<1,VLOOKUP(A6,'[1]1'!$A$5:$O$440,9,FALSE)<1),"NO","GOL")) -> NO | D7: =IF(IFERROR(VLOOKUP(A6,'[2]2'!$A$5:$O$440,4,FALSE),1)=1,"ASSENTE",IF(AND(VLOOKUP(A6,'[2]2'!$A$5:$O$440,5,FALSE)<1,VLOOKUP(A6,'[2]2'!$A$5:$O$440,9,FALSE)<1),"NO","GOL")) -> GOL | E7: =IF(IFERROR(VLOOKUP(A6,'[3]3'!$A$5:$O$440,4,FALSE),1)=1,"ASSENTE",IF(AND(VLOOKUP(A6,'[3]3'!$A$5:$O$440,5,FALSE)<1,VLOOKUP(A6,'[3]3'!$A$5:$O$440,9,FALSE)<1),"NO","GOL")) -> GOL | F7: =IF(IFERROR(VLOOKUP(A6,'[4]4'!$A$5:$O$440,4,FALSE),1)=1,"ASSENTE",IF(AND(VLOOKUP(A6,'[4]4'!$A$5:$O$440,5,FALSE)<1,VLOOKUP(A6,'[4]4'!$A$5:$O$440,9,FALSE)<1),"NO","GOL")) -> GOL | G7: =IF(IFERROR(VLOOKUP(A6,'[5]5'!$A$5:$O$440,4,FALSE),1)=1,"ASSENTE",IF(AND(VLOOKUP(A6,'[5]5'!$A$5:$O$440,5,FALSE)<1,VLOOKUP(A6,'[5]5'!$A$5:$O$440,9,FALSE)<1),"NO","GOL")) -> NO | H7: =IF(IFERROR(VLOOKUP(A6,'[6]6'!$A$5:$O$440,4,FALSE),1)=1,"ASSENTE",IF(AND(VLOOKUP(A6,'[6]6'!$A$5:$O$440,5,FALSE)<1,VLOOKUP(A6,'[6]6'!$A$5:$O$440,9,FALSE)<1),"NO","GOL")) -> NO | I7: =IF(IFERROR(VLOOKUP(A6,'[7]7'!$A$5:$O$440,4,FALSE),1)=1,"ASSENTE",IF(AND(VLOOKUP(A6,'[7]7'!$A$5:$O$440,5,FALSE)<1,VLOOKUP(A6,'[7]7'!$A$5:$O$440,9,FALSE)<1),"NO","GOL")) -> GOL | J7: =IF(IFERROR(VLOOKUP(A6,'[8]8'!$A$5:$O$440,4,FALSE),1)=1,"ASSENTE",IF(AND(VLOOKUP(A6,'[8]8'!$A$5:$O$440,5,FALSE)<1,VLOOKUP(A6,'[8]8'!$A$5:$O$440,9,FALSE)<1),"NO","GOL")) -> GOL | K7: =IF(IFERROR(VLOOKUP(A6,'[9]9'!$A$5:$O$440,4,FALSE),1)=1,"ASSENTE",IF(AND(VLOOKUP(A6,'[9]9'!$A$5:$O$440,5,FALSE)<1,VLOOKUP(A6,'[9]9'!$A$5:$O$440,9,FALSE)<1),"NO","GOL")) -> NO | L7: =IF(IFERROR(VLOOKUP(A6,'[10]10'!$A$5:$O$440,4,FALSE),1)=1,"ASSENTE",IF(AND(VLOOKUP(A6,'[10]10'!$A$5:$O$440,5,FALSE)<1,VLOOKUP(A6,'[10]10'!$A$5:$O$440,9,FALSE)<1),"NO","GOL")) -> GOL | M7: =IF(IFERROR(VLOOKUP(A6,'[11]11'!$A$5:$O$440,4,FALSE),1)=1,"ASSENTE",IF(AND(VLOOKUP(A6,'[11]11'!$A$5:$O$440,5,FALSE)<1,VLOOKUP(A6,'[11]11'!$A$5:$O$440,9,FALSE)<1),"NO","GOL")) -> NO | N7: =IF(IFERROR(VLOOKUP(A6,'[12]12'!$A$5:$O$440,4,FALSE),1)=1,"ASSENTE",IF(AND(VLOOKUP(A6,'[12]12'!$A$5:$O$440,5,FALSE)<1,VLOOKUP(A6,'[12]12'!$A$5:$O$440,9,FALSE)<1),"NO","GOL")) -> NO | O7: =IF(IFERROR(VLOOKUP(A6,'[13]13'!$A$5:$O$440,4,FALSE),1)=1,"ASSENTE",IF(AND(VLOOKUP(A6,'[13]13'!$A$5:$O$440,5,FALSE)<1,VLOOKUP(A6,'[13]13'!$A$5:$O$440,9,FALSE)<1),"NO","GOL")) -> GOL | P7: =IF(IFERROR(VLOOKUP(A6,'[14]14'!$A$5:$O$440,4,FALSE),1)=1,"ASSENTE",IF(AND(VLOOKUP(A6,'[14]14'!$A$5:$O$440,5,FALSE)<1,VLOOKUP(A6,'[14]14'!$A$5:$O$440,9,FALSE)<1),"NO","GOL")) -> ASSENTE | Q7: =IF(IFERROR(VLOOKUP(A6,'[15]15'!$A$5:$O$440,4,FALSE),1)=1,"ASSENTE",IF(AND(VLOOKUP(A6,'[15]15'!$A$5:$O$440,5,FALSE)<1,VLOOKUP(A6,'[15]15'!$A$5:$O$440,9,FALSE)<1),"NO","GOL")) -> ASSENTE | R7: =IF(IFERROR(VLOOKUP(A6,'[16]16'!$A$5:$O$440,4,FALSE),1)=1,"ASSENTE",IF(AND(VLOOKUP(A6,'[16]16'!$A$5:$O$440,5,FALSE)<1,VLOOKUP(A6,'[16]16'!$A$5:$O$440,9,FALSE)<1),"NO","GOL")) -> GOL | S7: =IF(IFERROR(VLOOKUP(A6,'[17]17'!$A$5:$O$440,4,FALSE),1)=1,"ASSENTE",IF(AND(VLOOKUP(A6,'[17]17'!$A$5:$O$440,5,FALSE)<1,VLOOKUP(A6,'[17]17'!$A$5:$O$440,9,FALSE)<1),"NO","GOL")) -> NO | T7: =IF(IFERROR(VLOOKUP(A6,'[18]18'!$A$5:$O$440,4,FALSE),1)=1,"ASSENTE",IF(AND(VLOOKUP(A6,'[18]18'!$A$5:$O$440,5,FALSE)<1,VLOOKUP(A6,'[18]18'!$A$5:$O$440,9,FALSE)<1),"NO","GOL")) -> ASSENTE | U7: =IF(IFERROR(VLOOKUP(A6,'[19]19'!$A$5:$O$440,4,FALSE),1)=1,"ASSENTE",IF(AND(VLOOKUP(A6,'[19]19'!$A$5:$O$440,5,FALSE)<1,VLOOKUP(A6,'[19]19'!$A$5:$O$440,9,FALSE)<1),"NO","GOL")) -> NO | V7: =IF(IFERROR(VLOOKUP(A6,'[20]20'!$A$5:$O$440,4,FALSE),1)=1,"ASSENTE",IF(AND(VLOOKUP(A6,'[20]20'!$A$5:$O$440,5,FALSE)<1,VLOOKUP(A6,'[20]20'!$A$5:$O$440,9,FALSE)<1),"NO","GOL")) -> GOL | W7: =IF(IFERROR(VLOOKUP(A6,'[21]21'!$A$5:$O$440,4,FALSE),1)=1,"ASSENTE",IF(AND(VLOOKUP(A6,'[21]21'!$A$5:$O$440,5,FALSE)<1,VLOOKUP(A6,'[21]21'!$A$5:$O$440,9,FALSE)<1),"NO","GOL")) -> NO | X7: =IF(IFERROR(VLOOKUP(A6,'[22]22'!$A$5:$O$440,4,FALSE),1)=1,"ASSENTE",IF(AND(VLOOKUP(A6,'[22]22'!$A$5:$O$440,5,FALSE)<1,VLOOKUP(A6,'[22]22'!$A$5:$O$440,9,FALSE)<1),"NO","GOL")) -> GOL | Y7: =IF(IFERROR(VLOOKUP(A6,'[23]23'!$A$5:$O$440,4,FALSE),1)=1,"ASSENTE",IF(AND(VLOOKUP(A6,'[23]23'!$A$5:$O$440,5,FALSE)<1,VLOOKUP(A6,'[23]23'!$A$5:$O$440,9,FALSE)<1),"NO","GOL")) -> NO | Z7: =IF(IFERROR(VLOOKUP(A6,'[24]24'!$A$5:$O$440,4,FALSE),1)=1,"ASSENTE",IF(AND(VLOOKUP(A6,'[24]24'!$A$5:$O$440,5,FALSE)<1,VLOOKUP(A6,'[24]24'!$A$5:$O$440,9,FALSE)<1),"NO","GOL")) -> GOL | AA7: =IF(IFERROR(VLOOKUP(A6,'[25]25'!$A$5:$O$440,4,FALSE),1)=1,"ASSENTE",IF(AND(VLOOKUP(A6,'[25]25'!$A$5:$O$440,5,FALSE)<1,VLOOKUP(A6,'[25]25'!$A$5:$O$440,9,FALSE)<1),"NO","GOL")) -> NO | AB7: =IF(IFERROR(VLOOKUP(A6,'[26]26'!$A$5:$O$440,4,FALSE),1)=1,"ASSENTE",IF(AND(VLOOKUP(A6,'[26]26'!$A$5:$O$440,5,FALSE)<1,VLOOKUP(A6,'[26]26'!$A$5:$O$440,9,FALSE)<1),"NO","GOL")) -> NO | AC7: =IF(IFERROR(VLOOKUP(A6,'[27]27'!$A$5:$O$440,4,FALSE),1)=1,"ASSENTE",IF(AND(VLOOKUP(A6,'[27]27'!$A$5:$O$440,5,FALSE)<1,VLOOKUP(A6,'[27]27'!$A$5:$O$440,9,FALSE)<1),"NO","GOL")) -> GOL | AD7: =IF(IFERROR(VLOOKUP(A6,'[28]28'!$A$5:$O$440,4,FALSE),1)=1,"ASSENTE",IF(AND(VLOOKUP(A6,'[28]28'!$A$5:$O$440,5,FALSE)<1,VLOOKUP(A6,'[28]28'!$A$5:$O$440,9,FALSE)<1),"NO","GOL")) -> GOL | AE7: =IF(IFERROR(VLOOKUP(A6,'[29]29'!$A$5:$O$440,4,FALSE),1)=1,"ASSENTE",IF(AND(VLOOKUP(A6,'[29]29'!$A$5:$O$440,5,FALSE)<1,VLOOKUP(A6,'[29]29'!$A$5:$O$440,9,FALSE)<1),"NO","GOL")) -> GOL | AF7: =IF(IFERROR(VLOOKUP(A6,'[30]30'!$A$5:$O$440,4,FALSE),1)=1,"ASSENTE",IF(AND(VLOOKUP(A6,'[30]30'!$A$5:$O$440,5,FALSE)<1,VLOOKUP(A6,'[30]30'!$A$5:$O$440,9,FALSE)<1),"NO","GOL")) -> NO | AG7: =IF(IFERROR(VLOOKUP(A6,'[31]31'!$A$5:$O$440,4,FALSE),1)=1,"ASSENTE",IF(AND(VLOOKUP(A6,'[31]31'!$A$5:$O$440,5,FALSE)<1,VLOOKUP(A6,'[31]31'!$A$5:$O$440,9,FALSE)<1),"NO","GOL")) -> NO | AH7: =IF(IFERROR(VLOOKUP(A6,'[32]32'!$A$5:$O$440,4,FALSE),1)=1,"ASSENTE",IF(AND(VLOOKUP(A6,'[32]32'!$A$5:$O$440,5,FALSE)<1,VLOOKUP(A6,'[32]32'!$A$5:$O$440,9,FALSE)<1),"NO","GOL")) -> NO | AI7: =IF(IFERROR(VLOOKUP(A6,'[33]33'!$A$5:$O$440,4,FALSE),1)=1,"ASSENTE",IF(AND(VLOOKUP(A6,'[33]33'!$A$5:$O$440,5,FALSE)<1,VLOOKUP(A6,'[33]33'!$A$5:$O$440,9,FALSE)<1),"NO","GOL")) -> NO | AJ7: =IF(IFERROR(VLOOKUP(A6,'[34]34'!$A$5:$O$440,4,FALSE),1)=1,"ASSENTE",IF(AND(VLOOKUP(A6,'[34]34'!$A$5:$O$440,5,FALSE)<1,VLOOKUP(A6,'[34]34'!$A$5:$O$440,9,FALSE)<1),"NO","GOL")) -> GOL | AK7: =IF(IFERROR(VLOOKUP(A6,'[35]35'!$A$5:$O$440,4,FALSE),1)=1,"ASSENTE",IF(AND(VLOOKUP(A6,'[35]35'!$A$5:$O$440,5,FALSE)<1,VLOOKUP(A6,'[35]35'!$A$5:$O$440,9,FALSE)<1),"NO","GOL")) -> NO | AL7: =IF(IFERROR(VLOOKUP(A6,'[36]36'!$A$5:$O$440,4,FALSE),1)=1,"ASSENTE",IF(AND(VLOOKUP(A6,'[36]36'!$A$5:$O$440,5,FALSE)<1,VLOOKUP(A6,'[36]36'!$A$5:$O$440,9,FALSE)<1),"NO","GOL")) -> NO | AM7: =IF(IFERROR(VLOOKUP(A6,'[37]37'!$A$5:$O$440,4,FALSE),1)=1,"ASSENTE",IF(AND(VLOOKUP(A6,'[37]37'!$A$5:$O$440,5,FALSE)<1,VLOOKUP(A6,'[37]37'!$A$5:$O$440,9,FALSE)<1),"NO","GOL")) -> GOL | AN7: =IF(IFERROR(VLOOKUP(A6,'[38]38'!$A$5:$O$440,4,FALSE),1)=1,"ASSENTE",IF(AND(VLOOKUP(A6,'[38]38'!$A$5:$O$440,5,FALSE)<1,VLOOKUP(A6,'[38]38'!$A$5:$O$440,9,FALSE)<1),"NO","GOL")) -> NO
A8: 3349 | B8: =VLOOKUP(A8,'[1]1'!$A$5:$O$440,3,FALSE) -> CAVANI | C8: =IF(IFERROR(VLOOKUP(A8,'[1]1'!$A$5:$O$440,4,FALSE),0),VLOOKUP(A8,'[1]1'!$A$5:$O$440,4,FALSE),"ASSENTE") -> 6.03 | D8: =IF(IFERROR(VLOOKUP(A8,'[2]2'!$A$5:$O$440,4,FALSE),0),VLOOKUP(A8,'[2]2'!$A$5:$O$440,4,FALSE),"ASSENTE") -> 6.51 | E8: =IF(IFERROR(VLOOKUP(A8,'[3]3'!$A$5:$O$440,4,FALSE),0),VLOOKUP(A8,'[3]3'!$A$5:$O$440,4,FALSE),"ASSENTE") -> 7.02 | F8: =IF(IFERROR(VLOOKUP(A8,'[4]4'!$A$5:$O$440,4,FALSE),0),VLOOKUP(A8,'[4]4'!$A$5:$O$440,4,FALSE),"ASSENTE") -> 5.53 | G8: =IF(IFERROR(VLOOKUP(A8,'[5]5'!$A$5:$O$440,4,FALSE),0),VLOOKUP(A8,'[5]5'!$A$5:$O$440,4,FALSE),"ASSENTE") -> 7.51 | H8: =IF(IFERROR(VLOOKUP(A8,'[6]6'!$A$5:$O$440,4,FALSE),0),VLOOKUP(A8,'[6]6'!$A$5:$O$440,4,FALSE),"ASSENTE") -> 5.5 | I8: =IF(IFERROR(VLOOKUP(A8,'[7]7'!$A$5:$O$440,4,FALSE),0),VLOOKUP(A8,'[7]7'!$A$5:$O$440,4,FALSE),"ASSENTE") -> 6.51 | J8: =IF(IFERROR(VLOOKUP(A8,'[8]8'!$A$5:$O$440,4,FALSE),0),VLOOKUP(A8,'[8]8'!$A$5:$O$440,4,FALSE),"ASSENTE") -> 5.51 | K8: =IF(IFERROR(VLOOKUP(A8,'[9]9'!$A$5:$O$440,4,FALSE),0),VLOOKUP(A8,'[9]9'!$A$5:$O$440,4,FALSE),"ASSENTE") -> 6.04 | L8: =IF(IFERROR(VLOOKUP(A8,'[10]10'!$A$5:$O$440,4,FALSE),0),VLOOKUP(A8,'[10]10'!$A$5:$O$440,4,FALSE),"ASSENTE") -> 7.53 | M8: =IF(IFERROR(VLOOKUP(A8,'[11]11'!$A$5:$O$440,4,FALSE),0),VLOOKUP(A8,'[11]11'!$A$5:$O$440,4,FALSE),"ASSENTE") -> 6.51 | N8: =IF(IFERROR(VLOOKUP(A8,'[12]12'!$A$5:$O$440,4,FALSE),0),VLOOKUP(A8,'[12]12'!$A$5:$O$440,4,FALSE),"ASSENTE") -> 5.5 | O8: =IF(IFERROR(VLOOKUP(A8,'[13]13'!$A$5:$O$440,4,FALSE),0),VLOOKUP(A8,'[13]13'!$A$5:$O$440,4,FALSE),"ASSENTE") -> 7.01 | P8: =IF(IFERROR(VLOOKUP(A8,'[14]14'!$A$5:$O$440,4,FALSE),0),VLOOKUP(A8,'[14]14'!$A$5:$O$440,4,FALSE),"ASSENTE") -> 5.03 | Q8: =IF(IFERROR(VLOOKUP(A8,'[15]15'!$A$5:$O$440,4,FALSE),0),VLOOKUP(A8,'[15]15'!$A$5:$O$440,4,FALSE),"ASSENTE") -> 7.51 | R8: =IF(IFERROR(VLOOKUP(A8,'[16]16'!$A$5:$O$440,4,FALSE),0),VLOOKUP(A8,'[16]16'!$A$5:$O$440,4,FALSE),"ASSENTE") -> 6.02 | S8: =IF(IFERROR(VLOOKUP(A8,'[17]17'!$A$5:$O$440,4,FALSE),0),VLOOKUP(A8,'[17]17'!$A$5:$O$440,4,FALSE),"ASSENTE") -> 8.03 | T8: =IF(IFERROR(VLOOKUP(A8,'[18]18'!$A$5:$O$440,4,FALSE),0),VLOOKUP(A8,'[18]18'!$A$5:$O$440,4,FALSE),"ASSENTE") -> 5.52 | U8: =IF(IFERROR(VLOOKUP(A8,'[19]19'!$A$5:$O$440,4,FALSE),0),VLOOKUP(A8,'[19]19'!$A$5:$O$440,4,FALSE),"ASSENTE") -> 9.03 | V8: =IF(IFERROR(VLOOKUP(A8,'[20]20'!$A$5:$O$440,4,FALSE),0),VLOOKUP(A8,'[20]20'!$A$5:$O$440,4,FALSE),"ASSENTE") -> 5.52 | W8: =IF(IFERROR(VLOOKUP(A8,'[21]21'!$A$5:$O$440,4,FALSE),0),VLOOKUP(A8,'[21]21'!$A$5:$O$440,4,FALSE),"ASSENTE") -> 6.53 | X8: =IF(IFERROR(VLOOKUP(A8,'[22]22'!$A$5:$O$440,4,FALSE),0),VLOOKUP(A8,'[22]22'!$A$5:$O$440,4,FALSE),"ASSENTE") -> 9.01 | Y8: =IF(IFERROR(VLOOKUP(A8,'[23]23'!$A$5:$O$440,4,FALSE),0),VLOOKUP(A8,'[23]23'!$A$5:$O$440,4,FALSE),"ASSENTE") -> 6.01 | Z8: =IF(IFERROR(VLOOKUP(A8,'[24]24'!$A$5:$O$440,4,FALSE),0),VLOOKUP(A8,'[24]24'!$A$5:$O$440,4,FALSE),"ASSENTE") -> 7.02 | AA8: =IF(IFERROR(VLOOKUP(A8,'[25]25'!$A$5:$O$440,4,FALSE),0),VLOOKUP(A8,'[25]25'!$A$5:$O$440,4,FALSE),"ASSENTE") -> 8.02 | AB8: =IF(IFERROR(VLOOKUP(A8,'[26]26'!$A$5:$O$440,4,FALSE),0),VLOOKUP(A8,'[26]26'!$A$5:$O$440,4,FALSE),"ASSENTE") -> 5.53 | AC8: =IF(IFERROR(VLOOKUP(A8,'[27]27'!$A$5:$O$440,4,FALSE),0),VLOOKUP(A8,'[27]27'!$A$5:$O$440,4,FALSE),"ASSENTE") -> 5.51 | AD8: =IF(IFERROR(VLOOKUP(A8,'[28]28'!$A$5:$O$440,4,FALSE),0),VLOOKUP(A8,'[28]28'!$A$5:$O$440,4,FALSE),"ASSENTE") -> 6.02 | AE8: =IF(IFERROR(VLOOKUP(A8,'[29]29'!$A$5:$O$440,4,FALSE),0),VLOOKUP(A8,'[29]29'!$A$5:$O$440,4,FALSE),"ASSENTE") -> 6.01 | AF8: =IF(IFERROR(VLOOKUP(A8,'[30]30'!$A$5:$O$440,4,FALSE),0),VLOOKUP(A8,'[30]30'!$A$5:$O$440,4,FALSE),"ASSENTE") -> 7.52 | AG8: =IF(IFERROR(VLOOKUP(A8,'[31]31'!$A$5:$O$440,4,FALSE),0),VLOOKUP(A8,'[31]31'!$A$5:$O$440,4,FALSE),"ASSENTE") -> 9.04 | AH8: =IF(IFERROR(VLOOKUP(A8,'[32]32'!$A$5:$O$440,4,FALSE),0),VLOOKUP(A8,'[32]32'!$A$5:$O$440,4,FALSE),"ASSENTE") -> ASSENTE | AI8: =IF(IFERROR(VLOOKUP(A8,'[33]33'!$A$5:$O$440,4,FALSE),0),VLOOKUP(A8,'[33]33'!$A$5:$O$440,4,FALSE),"ASSENTE") -> 5 | AJ8: =IF(IFERROR(VLOOKUP(A8,'[34]34'!$A$5:$O$440,4,FALSE),0),VLOOKUP(A8,'[34]34'!$A$5:$O$440,4,FALSE),"ASSENTE") -> 6.03 | AK8: =IF(IFERROR(VLOOKUP(A8,'[35]35'!$A$5:$O$440,4,FALSE),0),VLOOKUP(A8,'[35]35'!$A$5:$O$440,4,FALSE),"ASSENTE") -> 6.04 | AL8: =IF(IFERROR(VLOOKUP(A8,'[36]36'!$A$5:$O$440,4,FALSE),0),VLOOKUP(A8,'[36]36'!$A$5:$O$440,4,FALSE),"ASSENTE") -> 4.51 | AM8: =IF(IFERROR(VLOOKUP(A8,'[37]37'!$A$5:$O$440,4,FALSE),0),VLOOKUP(A8,'[37]37'!$A$5:$O$440,4,FALSE),"ASSENTE") -> ASSENTE | AN8: =IF(IFERROR(VLOOKUP(A8,'[38]38'!$A$5:$O$440,4,FALSE),0),VLOOKUP(A8,'[38]38'!$A$5:$O$440,4,FALSE),"ASSENTE") -> ASSENTE
C9: =IF(IFERROR(VLOOKUP(A8,'[1]1'!$A$5:$O$440,4,FALSE),1)=1,"ASSENTE",IF(AND(VLOOKUP(A8,'[1]1'!$A$5:$O$440,5,FALSE)<1,VLOOKUP(A8,'[1]1'!$A$5:$O$440,9,FALSE)<1),"NO","GOL")) -> GOL | D9: =IF(IFERROR(VLOOKUP(A8,'[2]2'!$A$5:$O$440,4,FALSE),1)=1,"ASSENTE",IF(AND(VLOOKUP(A8,'[2]2'!$A$5:$O$440,5,FALSE)<1,VLOOKUP(A8,'[2]2'!$A$5:$O$440,9,FALSE)<1),"NO","GOL")) -> GOL | E9: =IF(IFERROR(VLOOKUP(A8,'[3]3'!$A$5:$O$440,4,FALSE),1)=1,"ASSENTE",IF(AND(VLOOKUP(A8,'[3]3'!$A$5:$O$440,5,FALSE)<1,VLOOKUP(A8,'[3]3'!$A$5:$O$440,9,FALSE)<1),"NO","GOL")) -> GOL | F9: =IF(IFERROR(VLOOKUP(A8,'[4]4'!$A$5:$O$440,4,FALSE),1)=1,"ASSENTE",IF(AND(VLOOKUP(A8,'[4]4'!$A$5:$O$440,5,FALSE)<1,VLOOKUP(A8,'[4]4'!$A$5:$O$440,9,FALSE)<1),"NO","GOL")) -> NO | G9: =IF(IFERROR(VLOOKUP(A8,'[5]5'!$A$5:$O$440,4,FALSE),1)=1,"ASSENTE",IF(AND(VLOOKUP(A8,'[5]5'!$A$5:$O$440,5,FALSE)<1,VLOOKUP(A8,'[5]5'!$A$5:$O$440,9,FALSE)<1),"NO","GOL")) -> GOL | H9: =IF(IFERROR(VLOOKUP(A8,'[6]6'!$A$5:$O$440,4,FALSE),1)=1,"ASSENTE",IF(AND(VLOOKUP(A8,'[6]6'!$A$5:$O$440,5,FALSE)<1,VLOOKUP(A8,'[6]6'!$A$5:$O$440,9,FALSE)<1),"NO","GOL")) -> NO | I9: =IF(IFERROR(VLOOKUP(A8,'[7]7'!$A$5:$O$440,4,FALSE),1)=1,"ASSENTE",IF(AND(VLOOKUP(A8,'[7]7'!$A$5:$O$440,5,FALSE)<1,VLOOKUP(A8,'[7]7'!$A$5:$O$440,9,FALSE)<1),"NO","GOL")) -> GOL | J9: =IF(IFERROR(VLOOKUP(A8,'[8]8'!$A$5:$O$440,4,FALSE),1)=1,"ASSENTE",IF(AND(VLOOKUP(A8,'[8]8'!$A$5:$O$440,5,FALSE)<1,VLOOKUP(A8,'[8]8'!$A$5:$O$440,9,FALSE)<1),"NO","GOL")) -> NO | K9: =IF(IFERROR(VLOOKUP(A8,'[9]9'!$A$5:$O$440,4,FALSE),1)=1,"ASSENTE",IF(AND(VLOOKUP(A8,'[9]9'!$A$5:$O$440,5,FALSE)<1,VLOOKUP(A8,'[9]9'!$A$5:$O$440,9,FALSE)<1),"NO","GOL")) -> NO | L9: =IF(IFERROR(VLOOKUP(A8,'[10]10'!$A$5:$O$440,4,FALSE),1)=1,"ASSENTE",IF(AND(VLOOKUP(A8,'[10]10'!$A$5:$O$440,5,FALSE)<1,VLOOKUP(A8,'[10]10'!$A$5:$O$440,9,FALSE)<1),"NO","GOL")) -> GOL | M9: =IF(IFERROR(VLOOKUP(A8,'[11]11'!$A$5:$O$440,4,FALSE),1)=1,"ASSENTE",IF(AND(VLOOKUP(A8,'[11]11'!$A$5:$O$440,5,FALSE)<1,VLOOKUP(A8,'[11]11'!$A$5:$O$440,9,FALSE)<1),"NO","GOL")) -> NO | N9: =IF(IFERROR(VLOOKUP(A8,'[12]12'!$A$5:$O$440,4,FALSE),1)=1,"ASSENTE",IF(AND(VLOOKUP(A8,'[12]12'!$A$5:$O$440,5,FALSE)<1,VLOOKUP(A8,'[12]12'!$A$5:$O$440,9,FALSE)<1),"NO","GOL")) -> NO | O9: =IF(IFERROR(VLOOKUP(A8,'[13]13'!$A$5:$O$440,4,FALSE),1)=1,"ASSENTE",IF(AND(VLOOKUP(A8,'[13]13'!$A$5:$O$440,5,FALSE)<1,VLOOKUP(A8,'[13]13'!$A$5:$O$440,9,FALSE)<1),"NO","GOL")) -> GOL | P9: =IF(IFERROR(VLOOKUP(A8,'[14]14'!$A$5:$O$440,4,FALSE),1)=1,"ASSENTE",IF(AND(VLOOKUP(A8,'[14]14'!$A$5:$O$440,5,FALSE)<1,VLOOKUP(A8,'[14]14'!$A$5:$O$440,9,FALSE)<1),"NO","GOL")) -> NO | Q9: =IF(IFERROR(VLOOKUP(A8,'[15]15'!$A$5:$O$440,4,FALSE),1)=1,"ASSENTE",IF(AND(VLOOKUP(A8,'[15]15'!$A$5:$O$440,5,FALSE)<1,VLOOKUP(A8,'[15]15'!$A$5:$O$440,9,FALSE)<1),"NO","GOL")) -> NO | R9: =IF(IFERROR(VLOOKUP(A8,'[16]16'!$A$5:$O$440,4,FALSE),1)=1,"ASSENTE",IF(AND(VLOOKUP(A8,'[16]16'!$A$5:$O$440,5,FALSE)<1,VLOOKUP(A8,'[16]16'!$A$5:$O$440,9,FALSE)<1),"NO","GOL")) -> NO | S9: =IF(IFERROR(VLOOKUP(A8,'[17]17'!$A$5:$O$440,4,FALSE),1)=1,"ASSENTE",IF(AND(VLOOKUP(A8,'[17]17'!$A$5:$O$440,5,FALSE)<1,VLOOKUP(A8,'[17]17'!$A$5:$O$440,9,FALSE)<1),"NO","GOL")) -> GOL | T9: =IF(IFERROR(VLOOKUP(A8,'[18]18'!$A$5:$O$440,4,FALSE),1)=1,"ASSENTE",IF(AND(VLOOKUP(A8,'[18]18'!$A$5:$O$440,5,FALSE)<1,VLOOKUP(A8,'[18]18'!$A$5:$O$440,9,FALSE)<1),"NO","GOL")) -> NO | U9: =IF(IFERROR(VLOOKUP(A8,'[19]19'!$A$5:$O$440,4,FALSE),1)=1,"ASSENTE",IF(AND(VLOOKUP(A8,'[19]19'!$A$5:$O$440,5,FALSE)<1,VLOOKUP(A8,'[19]19'!$A$5:$O$440,9,FALSE)<1),"NO","GOL")) -> GOL | V9: =IF(IFERROR(VLOOKUP(A8,'[20]20'!$A$5:$O$440,4,FALSE),1)=1,"ASSENTE",IF(AND(VLOOKUP(A8,'[20]20'!$A$5:$O$440,5,FALSE)<1,VLOOKUP(A8,'[20]20'!$A$5:$O$440,9,FALSE)<1),"NO","GOL")) -> NO | W9: =IF(IFERROR(VLOOKUP(A8,'[21]21'!$A$5:$O$440,4,FALSE),1)=1,"ASSENTE",IF(AND(VLOOKUP(A8,'[21]21'!$A$5:$O$440,5,FALSE)<1,VLOOKUP(A8,'[21]21'!$A$5:$O$440,9,FALSE)<1),"NO","GOL")) -> GOL | X9: =IF(IFERROR(VLOOKUP(A8,'[22]22'!$A$5:$O$440,4,FALSE),1)=1,"ASSENTE",IF(AND(VLOOKUP(A8,'[22]22'!$A$5:$O$440,5,FALSE)<1,VLOOKUP(A8,'[22]22'!$A$5:$O$440,9,FALSE)<1),"NO","GOL")) -> GOL | Y9: =IF(IFERROR(VLOOKUP(A8,'[23]23'!$A$5:$O$440,4,FALSE),1)=1,"ASSENTE",IF(AND(VLOOKUP(A8,'[23]23'!$A$5:$O$440,5,FALSE)<1,VLOOKUP(A8,'[23]23'!$A$5:$O$440,9,FALSE)<1),"NO","GOL")) -> NO | Z9: =IF(IFERROR(VLOOKUP(A8,'[24]24'!$A$5:$O$440,4,FALSE),1)=1,"ASSENTE",IF(AND(VLOOKUP(A8,'[24]24'!$A$5:$O$440,5,FALSE)<1,VLOOKUP(A8,'[24]24'!$A$5:$O$440,9,FALSE)<1),"NO","GOL")) -> GOL | AA9: =IF(IFERROR(VLOOKUP(A8,'[25]25'!$A$5:$O$440,4,FALSE),1)=1,"ASSENTE",IF(AND(VLOOKUP(A8,'[25]25'!$A$5:$O$440,5,FALSE)<1,VLOOKUP(A8,'[25]25'!$A$5:$O$440,9,FALSE)<1),"NO","GOL")) -> GOL | AB9: =IF(IFERROR(VLOOKUP(A8,'[26]26'!$A$5:$O$440,4,FALSE),1)=1,"ASSENTE",IF(AND(VLOOKUP(A8,'[26]26'!$A$5:$O$440,5,FALSE)<1,VLOOKUP(A8,'[26]26'!$A$5:$O$440,9,FALSE)<1),"NO","GOL")) -> NO | AC9: =IF(IFERROR(VLOOKUP(A8,'[27]27'!$A$5:$O$440,4,FALSE),1)=1,"ASSENTE",IF(AND(VLOOKUP(A8,'[27]27'!$A$5:$O$440,5,FALSE)<1,VLOOKUP(A8,'[27]27'!$A$5:$O$440,9,FALSE)<1),"NO","GOL")) -> NO | AD9: =IF(IFERROR(VLOOKUP(A8,'[28]28'!$A$5:$O$440,4,FALSE),1)=1,"ASSENTE",IF(AND(VLOOKUP(A8,'[28]28'!$A$5:$O$440,5,FALSE)<1,VLOOKUP(A8,'[28]28'!$A$5:$O$440,9,FALSE)<1),"NO","GOL")) -> NO | AE9: =IF(IFERROR(VLOOKUP(A8,'[29]29'!$A$5:$O$440,4,FALSE),1)=1,"ASSENTE",IF(AND(VLOOKUP(A8,'[29]29'!$A$5:$O$440,5,FALSE)<1,VLOOKUP(A8,'[29]29'!$A$5:$O$440,9,FALSE)<1),"NO","GOL")) -> NO | AF9: =IF(IFERROR(VLOOKUP(A8,'[30]30'!$A$5:$O$440,4,FALSE),1)=1,"ASSENTE",IF(AND(VLOOKUP(A8,'[30]30'!$A$5:$O$440,5,FALSE)<1,VLOOKUP(A8,'[30]30'!$A$5:$O$440,9,FALSE)<1),"NO","GOL")) -> GOL | AG9: =IF(IFERROR(VLOOKUP(A8,'[31]31'!$A$5:$O$440,4,FALSE),1)=1,"ASSENTE",IF(AND(VLOOKUP(A8,'[31]31'!$A$5:$O$440,5,FALSE)<1,VLOOKUP(A8,'[31]31'!$A$5:$O$440,9,FALSE)<1),"NO","GOL")) -> GOL | AH9: =IF(IFERROR(VLOOKUP(A8,'[32]32'!$A$5:$O$440,4,FALSE),1)=1,"ASSENTE",IF(AND(VLOOKUP(A8,'[32]32'!$A$5:$O$440,5,FALSE)<1,VLOOKUP(A8,'[32]32'!$A$5:$O$440,9,FALSE)<1),"NO","GOL")) -> ASSENTE | AI9: =IF(IFERROR(VLOOKUP(A8,'[33]33'!$A$5:$O$440,4,FALSE),1)=1,"ASSENTE",IF(AND(VLOOKUP(A8,'[33]33'!$A$5:$O$440,5,FALSE)<1,VLOOKUP(A8,'[33]33'!$A$5:$O$440,9,FALSE)<1),"NO","GOL")) -> NO | AJ9: =IF(IFERROR(VLOOKUP(A8,'[34]34'!$A$5:$O$440,4,FALSE),1)=1,"ASSENTE",IF(AND(VLOOKUP(A8,'[34]34'!$A$5:$O$440,5,FALSE)<1,VLOOKUP(A8,'[34]34'!$A$5:$O$440,9,FALSE)<1),"NO","GOL")) -> GOL | AK9: =IF(IFERROR(VLOOKUP(A8,'[35]35'!$A$5:$O$440,4,FALSE),1)=1,"ASSENTE",IF(AND(VLOOKUP(A8,'[35]35'!$A$5:$O$440,5,FALSE)<1,VLOOKUP(A8,'[35]35'!$A$5:$O$440,9,FALSE)<1),"NO","GOL")) -> NO | AL9: =IF(IFERROR(VLOOKUP(A8,'[36]36'!$A$5:$O$440,4,FALSE),1)=1,"ASSENTE",IF(AND(VLOOKUP(A8,'[36]36'!$A$5:$O$440,5,FALSE)<1,VLOOKUP(A8,'[36]36'!$A$5:$O$440,9,FALSE)<1),"NO","GOL")) -> NO | AM9: =IF(IFERROR(VLOOKUP(A8,'[37]37'!$A$5:$O$440,4,FALSE),1)=1,"ASSENTE",IF(AND(VLOOKUP(A8,'[37]37'!$A$5:$O$440,5,FALSE)<1,VLOOKUP(A8,'[37]37'!$A$5:$O$440,9,FALSE)<1),"NO","GOL")) -> ASSENTE | AN9: =IF(IFERROR(VLOOKUP(A8,'[38]38'!$A$5:$O$440,4,FALSE),1)=1,"ASSENTE",IF(AND(VLOOKUP(A8,'[38]38'!$A$5:$O$440,5,FALSE)<1,VLOOKUP(A8,'[38]38'!$A$5:$O$440,9,FALSE)<1),"NO","GOL")) -> ASSENTE
A10: 3501 | B10: =VLOOKUP(A10,'[3]3'!$A$5:$O$440,3,FALSE) -> IBRAHIMOVIC | C10: =IF(IFERROR(VLOOKUP(A10,'[1]1'!$A$5:$O$440,4,FALSE),0),VLOOKUP(A10,'[1]1'!$A$5:$O$440,4,FALSE),"ASSENTE") -> ASSENTE | D10: =IF(IFERROR(VLOOKUP(A10,'[2]2'!$A$5:$O$440,4,FALSE),0),VLOOKUP(A10,'[2]2'!$A$5:$O$440,4,FALSE),"ASSENTE") -> 5 | E10: =IF(IFERROR(VLOOKUP(A10,'[3]3'!$A$5:$O$440,4,FALSE),0),VLOOKUP(A10,'[3]3'!$A$5:$O$440,4,FALSE),"ASSENTE") -> 5.53 | F10: =IF(IFERROR(VLOOKUP(A10,'[4]4'!$A$5:$O$440,4,FALSE),0),VLOOKUP(A10,'[4]4'!$A$5:$O$440,4,FALSE),"ASSENTE") -> 6.02 | G10: =IF(IFERROR(VLOOKUP(A10,'[5]5'!$A$5:$O$440,4,FALSE),0),VLOOKUP(A10,'[5]5'!$A$5:$O$440,4,FALSE),"ASSENTE") -> 7.03 | H10: =IF(IFERROR(VLOOKUP(A10,'[6]6'!$A$5:$O$440,4,FALSE),0),VLOOKUP(A10,'[6]6'!$A$5:$O$440,4,FALSE),"ASSENTE") -> 6.04 | I10: =IF(IFERROR(VLOOKUP(A10,'[7]7'!$A$5:$O$440,4,FALSE),0),VLOOKUP(A10,'[7]7'!$A$5:$O$440,4,FALSE),"ASSENTE") -> 6.53 | J10: =IF(IFERROR(VLOOKUP(A10,'[8]8'!$A$5:$O$440,4,FALSE),0),VLOOKUP(A10,'[8]8'!$A$5:$O$440,4,FALSE),"ASSENTE") -> 6.5 | K10: =IF(IFERROR(VLOOKUP(A10,'[9]9'!$A$5:$O$440,4,FALSE),0),VLOOKUP(A10,'[9]9'!$A$5:$O$440,4,FALSE),"ASSENTE") -> 6.5 | L10: =IF(IFERROR(VLOOKUP(A10,'[10]10'!$A$5:$O$440,4,FALSE),0),VLOOKUP(A10,'[10]10'!$A$5:$O$440,4,FALSE),"ASSENTE") -> 6.01 | M10: =IF(IFERROR(VLOOKUP(A10,'[11]11'!$A$5:$O$440,4,FALSE),0),VLOOKUP(A10,'[11]11'!$A$5:$O$440,4,FALSE),"ASSENTE") -> 6.53 | N10: =IF(IFERROR(VLOOKUP(A10,'[12]12'!$A$5:$O$440,4,FALSE),0),VLOOKUP(A10,'[12]12'!$A$5:$O$440,4,FALSE),"ASSENTE") -> 7.53 | O10: =IF(IFERROR(VLOOKUP(A10,'[13]13'!$A$5:$O$440,4,FALSE),0),VLOOKUP(A10,'[13]13'!$A$5:$O$440,4,FALSE),"ASSENTE") -> 7.5 | P10: =IF(IFERROR(VLOOKUP(A10,'[14]14'!$A$5:$O$440,4,FALSE),0),VLOOKUP(A10,'[14]14'!$A$5:$O$440,4,FALSE),"ASSENTE") -> 6 | Q10: =IF(IFERROR(VLOOKUP(A10,'[15]15'!$A$5:$O$440,4,FALSE),0),VLOOKUP(A10,'[15]15'!$A$5:$O$440,4,FALSE),"ASSENTE") -> 7.54 | R10: =IF(IFERROR(VLOOKUP(A10,'[16]16'!$A$5:$O$440,4,FALSE),0),VLOOKUP(A10,'[16]16'!$A$5:$O$440,4,FALSE),"ASSENTE") -> 7.51 | S10: =IF(IFERROR(VLOOKUP(A10,'[17]17'!$A$5:$O$440,4,FALSE),0),VLOOKUP(A10,'[17]17'!$A$5:$O$440,4,FALSE),"ASSENTE") -> 5.03 | T10: =IF(IFERROR(VLOOKUP(A10,'[18]18'!$A$5:$O$440,4,FALSE),0),VLOOKUP(A10,'[18]18'!$A$5:$O$440,4,FALSE),"ASSENTE") -> ASSENTE | U10: =IF(IFERROR(VLOOKUP(A10,'[19]19'!$A$5:$O$440,4,FALSE),0),VLOOKUP(A10,'[19]19'!$A$5:$O$440,4,FALSE),"ASSENTE") -> 7.03 | V10: =IF(IFERROR(VLOOKUP(A10,'[20]20'!$A$5:$O$440,4,FALSE),0),VLOOKUP(A10,'[20]20'!$A$5:$O$440,4,FALSE),"ASSENTE") -> 8.03 | W10: =IF(IFERROR(VLOOKUP(A10,'[21]21'!$A$5:$O$440,4,FALSE),0),VLOOKUP(A10,'[21]21'!$A$5:$O$440,4,FALSE),"ASSENTE") -> 7 | X10: =IF(IFERROR(VLOOKUP(A10,'[22]22'!$A$5:$O$440,4,FALSE),0),VLOOKUP(A10,'[22]22'!$A$5:$O$440,4,FALSE),"ASSENTE") -> 7.03 | Y10: =IF(IFERROR(VLOOKUP(A10,'[23]23'!$A$5:$O$440,4,FALSE),0),VLOOKUP(A10,'[23]23'!$A$5:$O$440,4,FALSE),"ASSENTE") -> 6.53 | Z10: =IF(IFERROR(VLOOKUP(A10,'[24]24'!$A$5:$O$440,4,FALSE),0),VLOOKUP(A10,'[24]24'!$A$5:$O$440,4,FALSE),"ASSENTE") -> 7.04 | AA10: =IF(IFERROR(VLOOKUP(A10,'[25]25'!$A$5:$O$440,4,FALSE),0),VLOOKUP(A10,'[25]25'!$A$5:$O$440,4,FALSE),"ASSENTE") -> 7.01 | AB10: =IF(IFERROR(VLOOKUP(A10,'[26]26'!$A$5:$O$440,4,FALSE),0),VLOOKUP(A10,'[26]26'!$A$5:$O$440,4,FALSE),"ASSENTE") -> 6.03 | AC10: =IF(IFERROR(VLOOKUP(A10,'[27]27'!$A$5:$O$440,4,FALSE),0),VLOOKUP(A10,'[27]27'!$A$5:$O$440,4,FALSE),"ASSENTE") -> 6.53 | AD10: =IF(IFERROR(VLOOKUP(A10,'[28]28'!$A$5:$O$440,4,FALSE),0),VLOOKUP(A10,'[28]28'!$A$5:$O$440,4,FALSE),"ASSENTE") -> 6.04 | AE10: =IF(IFERROR(VLOOKUP(A10,'[29]29'!$A$5:$O$440,4,FALSE),0),VLOOKUP(A10,'[29]29'!$A$5:$O$440,4,FALSE),"ASSENTE") -> 4.02 | AF10: =IF(IFERROR(VLOOKUP(A10,'[30]30'!$A$5:$O$440,4,FALSE),0),VLOOKUP(A10,'[30]30'!$A$5:$O$440,4,FALSE),"ASSENTE") -> ASSENTE | AG10: =IF(IFERROR(VLOOKUP(A10,'[31]31'!$A$5:$O$440,4,FALSE),0),VLOOKUP(A10,'[31]31'!$A$5:$O$440,4,FALSE),"ASSENTE") -> ASSENTE | AH10: =IF(IFERROR(VLOOKUP(A10,'[32]32'!$A$5:$O$440,4,FALSE),0),VLOOKUP(A10,'[32]32'!$A$5:$O$440,4,FALSE),"ASSENTE") -> 4.02 | AI10: =IF(IFERROR(VLOOKUP(A10,'[33]33'!$A$5:$O$440,4,FALSE),0),VLOOKUP(A10,'[33]33'!$A$5:$O$440,4,FALSE),"ASSENTE") -> ASSENTE | AJ10: =IF(IFERROR(VLOOKUP(A10,'[34]34'!$A$5:$O$440,4,FALSE),0),VLOOKUP(A10,'[34]34'!$A$5:$O$440,4,FALSE),"ASSENTE") -> ASSENTE | AK10: =IF(IFERROR(VLOOKUP(A10,'[35]35'!$A$5:$O$440,4,FALSE),0),VLOOKUP(A10,'[35]35'!$A$5:$O$440,4,FALSE),"ASSENTE") -> ASSENTE | AL10: =IF(IFERROR(VLOOKUP(A10,'[36]36'!$A$5:$O$440,4,FALSE),0),VLOOKUP(A10,'[36]36'!$A$5:$O$440,4,FALSE),"ASSENTE") -> 6.01 | AM10: =IF(IFERROR(VLOOKUP(A10,'[37]37'!$A$5:$O$440,4,FALSE),0),VLOOKUP(A10,'[37]37'!$A$5:$O$440,4,FALSE),"ASSENTE") -> ASSENTE | AN10: =IF(IFERROR(VLOOKUP(A10,'[38]38'!$A$5:$O$440,4,FALSE),0),VLOOKUP(A10,'[38]38'!$A$5:$O$440,4,FALSE),"ASSENTE") -> ASSENTE
C11: =IF(IFERROR(VLOOKUP(A10,'[1]1'!$A$5:$O$440,4,FALSE),1)=1,"ASSENTE",IF(AND(VLOOKUP(A10,'[1]1'!$A$5:$O$440,5,FALSE)<1,VLOOKUP(A10,'[1]1'!$A$5:$O$440,9,FALSE)<1),"NO","GOL")) -> ASSENTE | D11: =IF(IFERROR(VLOOKUP(A10,'[2]2'!$A$5:$O$440,4,FALSE),1)=1,"ASSENTE",IF(AND(VLOOKUP(A10,'[2]2'!$A$5:$O$440,5,FALSE)<1,VLOOKUP(A10,'[2]2'!$A$5:$O$440,9,FALSE)<1),"NO","GOL")) -> NO | E11: =IF(IFERROR(VLOOKUP(A10,'[3]3'!$A$5:$O$440,4,FALSE),1)=1,"ASSENTE",IF(AND(VLOOKUP(A10,'[3]3'!$A$5:$O$440,5,FALSE)<1,VLOOKUP(A10,'[3]3'!$A$5:$O$440,9,FALSE)<1),"NO","GOL")) -> NO | F11: =IF(IFERROR(VLOOKUP(A10,'[4]4'!$A$5:$O$440,4,FALSE),1)=1,"ASSENTE",IF(AND(VLOOKUP(A10,'[4]4'!$A$5:$O$440,5,FALSE)<1,VLOOKUP(A10,'[4]4'!$A$5:$O$440,9,FALSE)<1),"NO","GOL")) -> GOL | G11: =IF(IFERROR(VLOOKUP(A10,'[5]5'!$A$5:$O$440,4,FALSE),1)=1,"ASSENTE",IF(AND(VLOOKUP(A10,'[5]5'!$A$5:$O$440,5,FALSE)<1,VLOOKUP(A10,'[5]5'!$A$5:$O$440,9,FALSE)<1),"NO","GOL")) -> GOL | H11: =IF(IFERROR(VLOOKUP(A10,'[6]6'!$A$5:$O$440,4,FALSE),1)=1,"ASSENTE",IF(AND(VLOOKUP(A10,'[6]6'!$A$5:$O$440,5,FALSE)<1,VLOOKUP(A10,'[6]6'!$A$5:$O$440,9,FALSE)<1),"NO","GOL")) -> NO | I11: =IF(IFERROR(VLOOKUP(A10,'[7]7'!$A$5:$O$440,4,FALSE),1)=1,"ASSENTE",IF(AND(VLOOKUP(A10,'[7]7'!$A$5:$O$440,5,FALSE)<1,VLOOKUP(A10,'[7]7'!$A$5:$O$440,9,FALSE)<1),"NO","GOL")) -> NO | J11: =IF(IFERROR(VLOOKUP(A10,'[8]8'!$A$5:$O$440,4,FALSE),1)=1,"ASSENTE",IF(AND(VLOOKUP(A10,'[8]8'!$A$5:$O$440,5,FALSE)<1,VLOOKUP(A10,'[8]8'!$A$5:$O$440,9,FALSE)<1),"NO","GOL")) -> GOL | K11: =IF(IFERROR(VLOOKUP(A10,'[9]9'!$A$5:$O$440,4,FALSE),1)=1,"ASSENTE",IF(AND(VLOOKUP(A10,'[9]9'!$A$5:$O$440,5,FALSE)<1,VLOOKUP(A10,'[9]9'!$A$5:$O$440,9,FALSE)<1),"NO","GOL")) -> GOL | L11: =IF(IFERROR(VLOOKUP(A10,'[10]10'!$A$5:$O$440,4,FALSE),1)=1,"ASSENTE",IF(AND(VLOOKUP(A10,'[10]10'!$A$5:$O$440,5,FALSE)<1,VLOOKUP(A10,'[10]10'!$A$5:$O$440,9,FALSE)<1),"NO","GOL")) -> NO | M11: =IF(IFERROR(VLOOKUP(A10,'[11]11'!$A$5:$O$440,4,FALSE),1)=1,"ASSENTE",IF(AND(VLOOKUP(A10,'[11]11'!$A$5:$O$440,5,FALSE)<1,VLOOKUP(A10,'[11]11'!$A$5:$O$440,9,FALSE)<1),"NO","GOL")) -> GOL | N11: =IF(IFERROR(VLOOKUP(A10,'[12]12'!$A$5:$O$440,4,FALSE),1)=1,"ASSENTE",IF(AND(VLOOKUP(A10,'[12]12'!$A$5:$O$440,5,FALSE)<1,VLOOKUP(A10,'[12]12'!$A$5:$O$440,9,FALSE)<1),"NO","GOL")) -> GOL | O11: =IF(IFERROR(VLOOKUP(A10,'[13]13'!$A$5:$O$440,4,FALSE),1)=1,"ASSENTE",IF(AND(VLOOKUP(A10,'[13]13'!$A$5:$O$440,5,FALSE)<1,VLOOKUP(A10,'[13]13'!$A$5:$O$440,9,FALSE)<1),"NO","GOL")) -> GOL | P11: =IF(IFERROR(VLOOKUP(A10,'[14]14'!$A$5:$O$440,4,FALSE),1)=1,"ASSENTE",IF(AND(VLOOKUP(A10,'[14]14'!$A$5:$O$440,5,FALSE)<1,VLOOKUP(A10,'[14]14'!$A$5:$O$440,9,FALSE)<1),"NO","GOL")) -> NO | Q11: =IF(IFERROR(VLOOKUP(A10,'[15]15'!$A$5:$O$440,4,FALSE),1)=1,"ASSENTE",IF(AND(VLOOKUP(A10,'[15]15'!$A$5:$O$440,5,FALSE)<1,VLOOKUP(A10,'[15]15'!$A$5:$O$440,9,FALSE)<1),"NO","GOL")) -> GOL | R11: =IF(IFERROR(VLOOKUP(A10,'[16]16'!$A$5:$O$440,4,FALSE),1)=1,"ASSENTE",IF(AND(VLOOKUP(A10,'[16]16'!$A$5:$O$440,5,FALSE)<1,VLOOKUP(A10,'[16]16'!$A$5:$O$440,9,FALSE)<1),"NO","GOL")) -> GOL | S11: =IF(IFERROR(VLOOKUP(A10,'[17]17'!$A$5:$O$440,4,FALSE),1)=1,"ASSENTE",IF(AND(VLOOKUP(A10,'[17]17'!$A$5:$O$440,5,FALSE)<1,VLOOKUP(A10,'[17]17'!$A$5:$O$440,9,FALSE)<1),"NO","GOL")) -> NO | T11: =IF(IFERROR(VLOOKUP(A10,'[18]18'!$A$5:$O$440,4,FALSE),1)=1,"ASSENTE",IF(AND(VLOOKUP(A10,'[18]18'!$A$5:$O$440,5,FALSE)<1,VLOOKUP(A10,'[18]18'!$A$5:$O$440,9,FALSE)<1),"NO","GOL")) -> ASSENTE | U11: =IF(IFERROR(VLOOKUP(A10,'[19]19'!$A$5:$O$440,4,FALSE),1)=1,"ASSENTE",IF(AND(VLOOKUP(A10,'[19]19'!$A$5:$O$440,5,FALSE)<1,VLOOKUP(A10,'[19]19'!$A$5:$O$440,9,FALSE)<1),"NO","GOL")) -> GOL | V11: =IF(IFERROR(VLOOKUP(A10,'[20]20'!$A$5:$O$440,4,FALSE),1)=1,"ASSENTE",IF(AND(VLOOKUP(A10,'[20]20'!$A$5:$O$440,5,FALSE)<1,VLOOKUP(A10,'[20]20'!$A$5:$O$440,9,FALSE)<1),"NO","GOL")) -> GOL | W11: =IF(IFERROR(VLOOKUP(A10,'[21]21'!$A$5:$O$440,4,FALSE),1)=1,"ASSENTE",IF(AND(VLOOKUP(A10,'[21]21'!$A$5:$O$440,5,FALSE)<1,VLOOKUP(A10,'[21]21'!$A$5:$O$440,9,FALSE)<1),"NO","GOL")) -> GOL | X11: =IF(IFERROR(VLOOKUP(A10,'[22]22'!$A$5:$O$440,4,FALSE),1)=1,"ASSENTE",IF(AND(VLOOKUP(A10,'[22]22'!$A$5:$O$440,5,FALSE)<1,VLOOKUP(A10,'[22]22'!$A$5:$O$440,9,FALSE)<1),"NO","GOL")) -> GOL | Y11: =IF(IFERROR(VLOOKUP(A10,'[23]23'!$A$5:$O$440,4,FALSE),1)=1,"ASSENTE",IF(AND(VLOOKUP(A10,'[23]23'!$A$5:$O$440,5,FALSE)<1,VLOOKUP(A10,'[23]23'!$A$5:$O$440,9,FALSE)<1),"NO","GOL")) -> NO | Z11: =IF(IFERROR(VLOOKUP(A10,'[24]24'!$A$5:$O$440,4,FALSE),1)=1,"ASSENTE",IF(AND(VLOOKUP(A10,'[24]24'!$A$5:$O$440,5,FALSE)<1,VLOOKUP(A10,'[24]24'!$A$5:$O$440,9,FALSE)<1),"NO","GOL")) -> NO | AA11: =IF(IFERROR(VLOOKUP(A10,'[25]25'!$A$5:$O$440,4,FALSE),1)=1,"ASSENTE",IF(AND(VLOOKUP(A10,'[25]25'!$A$5:$O$440,5,FALSE)<1,VLOOKUP(A10,'[25]25'!$A$5:$O$440,9,FALSE)<1),"NO","GOL")) -> NO | AB11: =IF(IFERROR(VLOOKUP(A10,'[26]26'!$A$5:$O$440,4,FALSE),1)=1,"ASSENTE",IF(AND(VLOOKUP(A10,'[26]26'!$A$5:$O$440,5,FALSE)<1,VLOOKUP(A10,'[26]26'!$A$5:$O$440,9,FALSE)<1),"NO","GOL")) -> NO | AC11: =IF(IFERROR(VLOOKUP(A10,'[27]27'!$A$5:$O$440,4,FALSE),1)=1,"ASSENTE",IF(AND(VLOOKUP(A10,'[27]27'!$A$5:$O$440,5,FALSE)<1,VLOOKUP(A10,'[27]27'!$A$5:$O$440,9,FALSE)<1),"NO","GOL")) -> GOL | AD11: =IF(IFERROR(VLOOKUP(A10,'[28]28'!$A$5:$O$440,4,FALSE),1)=1,"ASSENTE",IF(AND(VLOOKUP(A10,'[28]28'!$A$5:$O$440,5,FALSE)<1,VLOOKUP(A10,'[28]28'!$A$5:$O$440,9,FALSE)<1),"NO","GOL")) -> NO | AE11: =IF(IFERROR(VLOOKUP(A10,'[29]29'!$A$5:$O$440,4,FALSE),1)=1,"ASSENTE",IF(AND(VLOOKUP(A10,'[29]29'!$A$5:$O$440,5,FALSE)<1,VLOOKUP(A10,'[29]29'!$A$5:$O$440,9,FALSE)<1),"NO","GOL")) -> NO | AF11: =IF(IFERROR(VLOOKUP(A10,'[30]30'!$A$5:$O$440,4,FALSE),1)=1,"ASSENTE",IF(AND(VLOOKUP(A10,'[30]30'!$A$5:$O$440,5,FALSE)<1,VLOOKUP(A10,'[30]30'!$A$5:$O$440,9,FALSE)<1),"NO","GOL")) -> ASSENTE | AG11: =IF(IFERROR(VLOOKUP(A10,'[31]31'!$A$5:$O$440,4,FALSE),1)=1,"ASSENTE",IF(AND(VLOOKUP(A10,'[31]31'!$A$5:$O$440,5,FALSE)<1,VLOOKUP(A10,'[31]31'!$A$5:$O$440,9,FALSE)<1),"NO","GOL")) -> ASSENTE | AH11: =IF(IFERROR(VLOOKUP(A10,'[32]32'!$A$5:$O$440,4,FALSE),1)=1,"ASSENTE",IF(AND(VLOOKUP(A10,'[32]32'!$A$5:$O$440,5,FALSE)<1,VLOOKUP(A10,'[32]32'!$A$5:$O$440,9,FALSE)<1),"NO","GOL")) -> NO | AI11: =IF(IFERROR(VLOOKUP(A10,'[33]33'!$A$5:$O$440,4,FALSE),1)=1,"ASSENTE",IF(AND(VLOOKUP(A10,'[33]33'!$A$5:$O$440,5,FALSE)<1,VLOOKUP(A10,'[33]33'!$A$5:$O$440,9,FALSE)<1),"NO","GOL")) -> ASSENTE | AJ11: =IF(IFERROR(VLOOKUP(A10,'[34]34'!$A$5:$O$440,4,FALSE),1)=1,"ASSENTE",IF(AND(VLOOKUP(A10,'[34]34'!$A$5:$O$440,5,FALSE)<1,VLOOKUP(A10,'[34]34'!$A$5:$O$440,9,FALSE)<1),"NO","GOL")) -> ASSENTE | AK11: =IF(IFERROR(VLOOKUP(A10,'[35]35'!$A$5:$O$440,4,FALSE),1)=1,"ASSENTE",IF(AND(VLOOKUP(A10,'[35]35'!$A$5:$O$440,5,FALSE)<1,VLOOKUP(A10,'[35]35'!$A$5:$O$440,9,FALSE)<1),"NO","GOL")) -> ASSENTE | AL11: =IF(IFERROR(VLOOKUP(A10,'[36]36'!$A$5:$O$440,4,FALSE),1)=1,"ASSENTE",IF(AND(VLOOKUP(A10,'[36]36'!$A$5:$O$440,5,FALSE)<1,VLOOKUP(A10,'[36]36'!$A$5:$O$440,9,FALSE)<1),"NO","GOL")) -> NO | AM11: =IF(IFERROR(VLOOKUP(A10,'[37]37'!$A$5:$O$440,4,FALSE),1)=1,"ASSENTE",IF(AND(VLOOKUP(A10,'[37]37'!$A$5:$O$440,5,FALSE)<1,VLOOKUP(A10,'[37]37'!$A$5:$O$440,9,FALSE)<1),"NO","GOL")) -> ASSENTE | AN11: =IF(IFERROR(VLOOKUP(A10,'[38]38'!$A$5:$O$440,4,FALSE),1)=1,"ASSENTE",IF(AND(VLOOKUP(A10,'[38]38'!$A$5:$O$440,5,FALSE)<1,VLOOKUP(A10,'[38]38'!$A$5:$O$440,9,FALSE)<1),"NO","GOL")) -> ASSENTE
A12: 3435 | B12: =VLOOKUP(A12,'[3]3'!$A$5:$O$440,3,FALSE) -> HERNANES | C12: =IF(IFERROR(VLOOKUP(A12,'[1]1'!$A$5:$O$440,4,FALSE),0),VLOOKUP(A12,'[1]1'!$A$5:$O$440,4,FALSE),"ASSENTE") -> 6.52 | D12: =IF(IFERROR(VLOOKUP(A12,'[2]2'!$A$5:$O$440,4,FALSE),0),VLOOKUP(A12,'[2]2'!$A$5:$O$440,4,FALSE),"ASSENTE") -> 6.53 | E12: =IF(IFERROR(VLOOKUP(A12,'[3]3'!$A$5:$O$440,4,FALSE),0),VLOOKUP(A12,'[3]3'!$A$5:$O$440,4,FALSE),"ASSENTE") -> 6.52 | F12: =IF(IFERROR(VLOOKUP(A12,'[4]4'!$A$5:$O$440,4,FALSE),0),VLOOKUP(A12,'[4]4'!$A$5:$O$440,4,FALSE),"ASSENTE") -> 7.02 | G12: =IF(IFERROR(VLOOKUP(A12,'[5]5'!$A$5:$O$440,4,FALSE),0),VLOOKUP(A12,'[5]5'!$A$5:$O$440,4,FALSE),"ASSENTE") -> 6.52 | H12: =IF(IFERROR(VLOOKUP(A12,'[6]6'!$A$5:$O$440,4,FALSE),0),VLOOKUP(A12,'[6]6'!$A$5:$O$440,4,FALSE),"ASSENTE") -> 6.53 | I12: =IF(IFERROR(VLOOKUP(A12,'[7]7'!$A$5:$O$440,4,FALSE),0),VLOOKUP(A12,'[7]7'!$A$5:$O$440,4,FALSE),"ASSENTE") -> 7.03 | J12: =IF(IFERROR(VLOOKUP(A12,'[8]8'!$A$5:$O$440,4,FALSE),0),VLOOKUP(A12,'[8]8'!$A$5:$O$440,4,FALSE),"ASSENTE") -> 6.52 | K12: =IF(IFERROR(VLOOKUP(A12,'[9]9'!$A$5:$O$440,4,FALSE),0),VLOOKUP(A12,'[9]9'!$A$5:$O$440,4,FALSE),"ASSENTE") -> 5.51 | L12: =IF(IFERROR(VLOOKUP(A12,'[10]10'!$A$5:$O$440,4,FALSE),0),VLOOKUP(A12,'[10]10'!$A$5:$O$440,4,FALSE),"ASSENTE") -> 5.54 | M12: =IF(IFERROR(VLOOKUP(A12,'[11]11'!$A$5:$O$440,4,FALSE),0),VLOOKUP(A12,'[11]11'!$A$5:$O$440,4,FALSE),"ASSENTE") -> ASSENTE | N12: =IF(IFERROR(VLOOKUP(A12,'[12]12'!$A$5:$O$440,4,FALSE),0),VLOOKUP(A12,'[12]12'!$A$5:$O$440,4,FALSE),"ASSENTE") -> 6.53 | O12: =IF(IFERROR(VLOOKUP(A12,'[13]13'!$A$5:$O$440,4,FALSE),0),VLOOKUP(A12,'[13]13'!$A$5:$O$440,4,FALSE),"ASSENTE") -> 6.03 | P12: =IF(IFERROR(VLOOKUP(A12,'[14]14'!$A$5:$O$440,4,FALSE),0),VLOOKUP(A12,'[14]14'!$A$5:$O$440,4,FALSE),"ASSENTE") -> 6.51 | Q12: =IF(IFERROR(VLOOKUP(A12,'[15]15'!$A$5:$O$440,4,FALSE),0),VLOOKUP(A12,'[15]15'!$A$5:$O$440,4,FALSE),"ASSENTE") -> 7.51 | R12: =IF(IFERROR(VLOOKUP(A12,'[16]16'!$A$5:$O$440,4,FALSE),0),VLOOKUP(A12,'[16]16'!$A$5:$O$440,4,FALSE),"ASSENTE") -> 5.01 | S12: =IF(IFERROR(VLOOKUP(A12,'[17]17'!$A$5:$O$440,4,FALSE),0),VLOOKUP(A12,'[17]17'!$A$5:$O$440,4,FALSE),"ASSENTE") -> 7 | T12: =IF(IFERROR(VLOOKUP(A12,'[18]18'!$A$5:$O$440,4,FALSE),0),VLOOKUP(A12,'[18]18'!$A$5:$O$440,4,FALSE),"ASSENTE") -> 5.5 | U12: =IF(IFERROR(VLOOKUP(A12,'[19]19'!$A$5:$O$440,4,FALSE),0),VLOOKUP(A12,'[19]19'!$A$5:$O$440,4,FALSE),"ASSENTE") -> 4.02 | V12: =IF(IFERROR(VLOOKUP(A12,'[20]20'!$A$5:$O$440,4,FALSE),0),VLOOKUP(A12,'[20]20'!$A$5:$O$440,4,FALSE),"ASSENTE") -> 5.51 | W12: =IF(IFERROR(VLOOKUP(A12,'[21]21'!$A$5:$O$440,4,FALSE),0),VLOOKUP(A12,'[21]21'!$A$5:$O$440,4,FALSE),"ASSENTE") -> 6.01 | X12: =IF(IFERROR(VLOOKUP(A12,'[22]22'!$A$5:$O$440,4,FALSE),0),VLOOKUP(A12,'[22]22'!$A$5:$O$440,4,FALSE),"ASSENTE") -> 6 | Y12: =IF(IFERROR(VLOOKUP(A12,'[23]23'!$A$5:$O$440,4,FALSE),0),VLOOKUP(A12,'[23]23'!$A$5:$O$440,4,FALSE),"ASSENTE") -> 5 | Z12: =IF(IFERROR(VLOOKUP(A12,'[24]24'!$A$5:$O$440,4,FALSE),0),VLOOKUP(A12,'[24]24'!$A$5:$O$440,4,FALSE),"ASSENTE") -> 6.03 | AA12: =IF(IFERROR(VLOOKUP(A12,'[25]25'!$A$5:$O$440,4,FALSE),0),VLOOKUP(A12,'[25]25'!$A$5:$O$440,4,FALSE),"ASSENTE") -> 5.53 | AB12: =IF(IFERROR(VLOOKUP(A12,'[26]26'!$A$5:$O$440,4,FALSE),0),VLOOKUP(A12,'[26]26'!$A$5:$O$440,4,FALSE),"ASSENTE") -> 7.54 | AC12: =IF(IFERROR(VLOOKUP(A12,'[27]27'!$A$5:$O$440,4,FALSE),0),VLOOKUP(A12,'[27]27'!$A$5:$O$440,4,FALSE),"ASSENTE") -> 6 | AD12: =IF(IFERROR(VLOOKUP(A12,'[28]28'!$A$5:$O$440,4,FALSE),0),VLOOKUP(A12,'[28]28'!$A$5:$O$440,4,FALSE),"ASSENTE") -> 6.01 | AE12: =IF(IFERROR(VLOOKUP(A12,'[29]29'!$A$5:$O$440,4,FALSE),0),VLOOKUP(A12,'[29]29'!$A$5:$O$440,4,FALSE),"ASSENTE") -> 5.51 | AF12: =IF(IFERROR(VLOOKUP(A12,'[30]30'!$A$5:$O$440,4,FALSE),0),VLOOKUP(A12,'[30]30'!$A$5:$O$440,4,FALSE),"ASSENTE") -> 5.03 | AG12: =IF(IFERROR(VLOOKUP(A12,'[31]31'!$A$5:$O$440,4,FALSE),0),VLOOKUP(A12,'[31]31'!$A$5:$O$440,4,FALSE),"ASSENTE") -> ASSENTE | AH12: =IF(IFERROR(VLOOKUP(A12,'[32]32'!$A$5:$O$440,4,FALSE),0),VLOOKUP(A12,'[32]32'!$A$5:$O$440,4,FALSE),"ASSENTE") -> 7.03 | AI12: =IF(IFERROR(VLOOKUP(A12,'[33]33'!$A$5:$O$440,4,FALSE),0),VLOOKUP(A12,'[33]33'!$A$5:$O$440,4,FALSE),"ASSENTE") -> 6.52 | AJ12: =IF(IFERROR(VLOOKUP(A12,'[34]34'!$A$5:$O$440,4,FALSE),0),VLOOKUP(A12,'[34]34'!$A$5:$O$440,4,FALSE),"ASSENTE") -> 6 | AK12: =IF(IFERROR(VLOOKUP(A12,'[35]35'!$A$5:$O$440,4,FALSE),0),VLOOKUP(A12,'[35]35'!$A$5:$O$440,4,FALSE),"ASSENTE") -> 6.02 | AL12: =IF(IFERROR(VLOOKUP(A12,'[36]36'!$A$5:$O$440,4,FALSE),0),VLOOKUP(A12,'[36]36'!$A$5:$O$440,4,FALSE),"ASSENTE") -> 5.03 | AM12: =IF(IFERROR(VLOOKUP(A12,'[37]37'!$A$5:$O$440,4,FALSE),0),VLOOKUP(A12,'[37]37'!$A$5:$O$440,4,FALSE),"ASSENTE") -> 7 | AN12: =IF(IFERROR(VLOOKUP(A12,'[38]38'!$A$5:$O$440,4,FALSE),0),VLOOKUP(A12,'[38]38'!$A$5:$O$440,4,FALSE),"ASSENTE") -> 5.01
C13: =IF(IFERROR(VLOOKUP(A12,'[1]1'!$A$5:$O$440,4,FALSE),1)=1,"ASSENTE",IF(AND(VLOOKUP(A12,'[1]1'!$A$5:$O$440,5,FALSE)<1,VLOOKUP(A12,'[1]1'!$A$5:$O$440,9,FALSE)<1),"NO","GOL")) -> NO | D13: =IF(IFERROR(VLOOKUP(A12,'[2]2'!$A$5:$O$440,4,FALSE),1)=1,"ASSENTE",IF(AND(VLOOKUP(A12,'[2]2'!$A$5:$O$440,5,FALSE)<1,VLOOKUP(A12,'[2]2'!$A$5:$O$440,9,FALSE)<1),"NO","GOL")) -> GOL | E13: =IF(IFERROR(VLOOKUP(A12,'[3]3'!$A$5:$O$440,4,FALSE),1)=1,"ASSENTE",IF(AND(VLOOKUP(A12,'[3]3'!$A$5:$O$440,5,FALSE)<1,VLOOKUP(A12,'[3]3'!$A$5:$O$440,9,FALSE)<1),"NO","GOL")) -> NO | F13: =IF(IFERROR(VLOOKUP(A12,'[4]4'!$A$5:$O$440,4,FALSE),1)=1,"ASSENTE",IF(AND(VLOOKUP(A12,'[4]4'!$A$5:$O$440,5,FALSE)<1,VLOOKUP(A12,'[4]4'!$A$5:$O$440,9,FALSE)<1),"NO","GOL")) -> NO | G13: =IF(IFERROR(VLOOKUP(A12,'[5]5'!$A$5:$O$440,4,FALSE),1)=1,"ASSENTE",IF(AND(VLOOKUP(A12,'[5]5'!$A$5:$O$440,5,FALSE)<1,VLOOKUP(A12,'[5]5'!$A$5:$O$440,9,FALSE)<1),"NO","GOL")) -> NO | H13: =IF(IFERROR(VLOOKUP(A12,'[6]6'!$A$5:$O$440,4,FALSE),1)=1,"ASSENTE",IF(AND(VLOOKUP(A12,'[6]6'!$A$5:$O$440,5,FALSE)<1,VLOOKUP(A12,'[6]6'!$A$5:$O$440,9,FALSE)<1),"NO","GOL")) -> NO | I13: =IF(IFERROR(VLOOKUP(A12,'[7]7'!$A$5:$O$440,4,FALSE),1)=1,"ASSENTE",IF(AND(VLOOKUP(A12,'[7]7'!$A$5:$O$440,5,FALSE)<1,VLOOKUP(A12,'[7]7'!$A$5:$O$440,9,FALSE)<1),"NO","GOL")) -> GOL | J13: =IF(IFERROR(VLOOKUP(A12,'[8]8'!$A$5:$O$440,4,FALSE),1)=1,"ASSENTE",IF(AND(VLOOKUP(A12,'[8]8'!$A$5:$O$440,5,FALSE)<1,VLOOKUP(A12,'[8]8'!$A$5:$O$440,9,FALSE)<1),"NO","GOL")) -> NO | K13: =IF(IFERROR(VLOOKUP(A12,'[9]9'!$A$5:$O$440,4,FALSE),1)=1,"ASSENTE",IF(AND(VLOOKUP(A12,'[9]9'!$A$5:$O$440,5,FALSE)<1,VLOOKUP(A12,'[9]9'!$A$5:$O$440,9,FALSE)<1),"NO","GOL")) -> NO | L13: =IF(IFERROR(VLOOKUP(A12,'[10]10'!$A$5:$O$440,4,FALSE),1)=1,"ASSENTE",IF(AND(VLOOKUP(A12,'[10]10'!$A$5:$O$440,5,FALSE)<1,VLOOKUP(A12,'[10]10'!$A$5:$O$440,9,FALSE)<1),"NO","GOL")) -> NO | M13: =IF(IFERROR(VLOOKUP(A12,'[11]11'!$A$5:$O$440,4,FALSE),1)=1,"ASSENTE",IF(AND(VLOOKUP(A12,'[11]11'!$A$5:$O$440,5,FALSE)<1,VLOOKUP(A12,'[11]11'!$A$5:$O$440,9,FALSE)<1),"NO","GOL")) -> ASSENTE | N13: =IF(IFERROR(VLOOKUP(A12,'[12]12'!$A$5:$O$440,4,FALSE),1)=1,"ASSENTE",IF(AND(VLOOKUP(A12,'[12]12'!$A$5:$O$440,5,FALSE)<1,VLOOKUP(A12,'[12]12'!$A$5:$O$440,9,FALSE)<1),"NO","GOL")) -> NO | O13: =IF(IFERROR(VLOOKUP(A12,'[13]13'!$A$5:$O$440,4,FALSE),1)=1,"ASSENTE",IF(AND(VLOOKUP(A12,'[13]13'!$A$5:$O$440,5,FALSE)<1,VLOOKUP(A12,'[13]13'!$A$5:$O$440,9,FALSE)<1),"NO","GOL")) -> NO | P13: =IF(IFERROR(VLOOKUP(A12,'[14]14'!$A$5:$O$440,4,FALSE),1)=1,"ASSENTE",IF(AND(VLOOKUP(A12,'[14]14'!$A$5:$O$440,5,FALSE)<1,VLOOKUP(A12,'[14]14'!$A$5:$O$440,9,FALSE)<1),"NO","GOL")) -> GOL | Q13: =IF(IFERROR(VLOOKUP(A12,'[15]15'!$A$5:$O$440,4,FALSE),1)=1,"ASSENTE",IF(AND(VLOOKUP(A12,'[15]15'!$A$5:$O$440,5,FALSE)<1,VLOOKUP(A12,'[15]15'!$A$5:$O$440,9,FALSE)<1),"NO","GOL")) -> GOL | R13: =IF(IFERROR(VLOOKUP(A12,'[16]16'!$A$5:$O$440,4,FALSE),1)=1,"ASSENTE",IF(AND(VLOOKUP(A12,'[16]16'!$A$5:$O$440,5,FALSE)<1,VLOOKUP(A12,'[16]16'!$A$5:$O$440,9,FALSE)<1),"NO","GOL")) -> NO | S13: =IF(IFERROR(VLOOKUP(A12,'[17]17'!$A$5:$O$440,4,FALSE),1)=1,"ASSENTE",IF(AND(VLOOKUP(A12,'[17]17'!$A$5:$O$440,5,FALSE)<1,VLOOKUP(A12,'[17]17'!$A$5:$O$440,9,FALSE)<1),"NO","GOL")) -> GOL | T13: =IF(IFERROR(VLOOKUP(A12,'[18]18'!$A$5:$O$440,4,FALSE),1)=1,"ASSENTE",IF(AND(VLOOKUP(A12,'[18]18'!$A$5:$O$440,5,FALSE)<1,VLOOKUP(A12,'[18]18'!$A$5:$O$440,9,FALSE)<1),"NO","GOL")) -> NO | U13: =IF(IFERROR(VLOOKUP(A12,'[19]19'!$A$5:$O$440,4,FALSE),1)=1,"ASSENTE",IF(AND(VLOOKUP(A12,'[19]19'!$A$5:$O$440,5,FALSE)<1,VLOOKUP(A12,'[19]19'!$A$5:$O$440,9,FALSE)<1),"NO","GOL")) -> NO | V13: =IF(IFERROR(VLOOKUP(A12,'[20]20'!$A$5:$O$440,4,FALSE),1)=1,"ASSENTE",IF(AND(VLOOKUP(A12,'[20]20'!$A$5:$O$440,5,FALSE)<1,VLOOKUP(A12,'[20]20'!$A$5:$O$440,9,FALSE)<1),"NO","GOL")) -> NO | W13: =IF(IFERROR(VLOOKUP(A12,'[21]21'!$A$5:$O$440,4,FALSE),1)=1,"ASSENTE",IF(AND(VLOOKUP(A12,'[21]21'!$A$5:$O$440,5,FALSE)<1,VLOOKUP(A12,'[21]21'!$A$5:$O$440,9,FALSE)<1),"NO","GOL")) -> NO | X13: =IF(IFERROR(VLOOKUP(A12,'[22]22'!$A$5:$O$440,4,FALSE),1)=1,"ASSENTE",IF(AND(VLOOKUP(A12,'[22]22'!$A$5:$O$440,5,FALSE)<1,VLOOKUP(A12,'[22]22'!$A$5:$O$440,9,FALSE)<1),"NO","GOL")) -> NO | Y13: =IF(IFERROR(VLOOKUP(A12,'[23]23'!$A$5:$O$440,4,FALSE),1)=1,"ASSENTE",IF(AND(VLOOKUP(A12,'[23]23'!$A$5:$O$440,5,FALSE)<1,VLOOKUP(A12,'[23]23'!$A$5:$O$440,9,FALSE)<1),"NO","GOL")) -> NO | Z13: =IF(IFERROR(VLOOKUP(A12,'[24]24'!$A$5:$O$440,4,FALSE),1)=1,"ASSENTE",IF(AND(VLOOKUP(A12,'[24]24'!$A$5:$O$440,5,FALSE)<1,VLOOKUP(A12,'[24]24'!$A$5:$O$440,9,FALSE)<1),"NO","GOL")) -> GOL | AA13: =IF(IFERROR(VLOOKUP(A12,'[25]25'!$A$5:$O$440,4,FALSE),1)=1,"ASSENTE",IF(AND(VLOOKUP(A12,'[25]25'!$A$5:$O$440,5,FALSE)<1,VLOOKUP(A12,'[25]25'!$A$5:$O$440,9,FALSE)<1),"NO","GOL")) -> NO | AB13: =IF(IFERROR(VLOOKUP(A12,'[26]26'!$A$5:$O$440,4,FALSE),1)=1,"ASSENTE",IF(AND(VLOOKUP(A12,'[26]26'!$A$5:$O$440,5,FALSE)<1,VLOOKUP(A12,'[26]26'!$A$5:$O$440,9,FALSE)<1),"NO","GOL")) -> GOL | AC13: =IF(IFERROR(VLOOKUP(A12,'[27]27'!$A$5:$O$440,4,FALSE),1)=1,"ASSENTE",IF(AND(VLOOKUP(A12,'[27]27'!$A$5:$O$440,5,FALSE)<1,VLOOKUP(A12,'[27]27'!$A$5:$O$440,9,FALSE)<1),"NO","GOL")) -> NO | AD13: =IF(IFERROR(VLOOKUP(A12,'[28]28'!$A$5:$O$440,4,FALSE),1)=1,"ASSENTE",IF(AND(VLOOKUP(A12,'[28]28'!$A$5:$O$440,5,FALSE)<1,VLOOKUP(A12,'[28]28'!$A$5:$O$440,9,FALSE)<1),"NO","GOL")) -> NO | AE13: =IF(IFERROR(VLOOKUP(A12,'[29]29'!$A$5:$O$440,4,FALSE),1)=1,"ASSENTE",IF(AND(VLOOKUP(A12,'[29]29'!$A$5:$O$440,5,FALSE)<1,VLOOKUP(A12,'[29]29'!$A$5:$O$440,9,FALSE)<1),"NO","GOL")) -> NO | AF13: =IF(IFERROR(VLOOKUP(A12,'[30]30'!$A$5:$O$440,4,FALSE),1)=1,"ASSENTE",IF(AND(VLOOKUP(A12,'[30]30'!$A$5:$O$440,5,FALSE)<1,VLOOKUP(A12,'[30]30'!$A$5:$O$440,9,FALSE)<1),"NO","GOL")) -> NO | AG13: =IF(IFERROR(VLOOKUP(A12,'[31]31'!$A$5:$O$440,4,FALSE),1)=1,"ASSENTE",IF(AND(VLOOKUP(A12,'[31]31'!$A$5:$O$440,5,FALSE)<1,VLOOKUP(A12,'[31]31'!$A$5:$O$440,9,FALSE)<1),"NO","GOL")) -> ASSENTE | AH13: =IF(IFERROR(VLOOKUP(A12,'[32]32'!$A$5:$O$440,4,FALSE),1)=1,"ASSENTE",IF(AND(VLOOKUP(A12,'[32]32'!$A$5:$O$440,5,FALSE)<1,VLOOKUP(A12,'[32]32'!$A$5:$O$440,9,FALSE)<1),"NO","GOL")) -> GOL | AI13: =IF(IFERROR(VLOOKUP(A12,'[33]33'!$A$5:$O$440,4,FALSE),1)=1,"ASSENTE",IF(AND(VLOOKUP(A12,'[33]33'!$A$5:$O$440,5,FALSE)<1,VLOOKUP(A12,'[33]33'!$A$5:$O$440,9,FALSE)<1),"NO","GOL")) -> GOL | AJ13: =IF(IFERROR(VLOOKUP(A12,'[34]34'!$A$5:$O$440,4,FALSE),1)=1,"ASSENTE",IF(AND(VLOOKUP(A12,'[34]34'!$A$5:$O$440,5,FALSE)<1,VLOOKUP(A12,'[34]34'!$A$5:$O$440,9,FALSE)<1),"NO","GOL")) -> NO | AK13: =IF(IFERROR(VLOOKUP(A12,'[35]35'!$A$5:$O$440,4,FALSE),1)=1,"ASSENTE",IF(AND(VLOOKUP(A12,'[35]35'!$A$5:$O$440,5,FALSE)<1,VLOOKUP(A12,'[35]35'!$A$5:$O$440,9,FALSE)<1),"NO","GOL")) -> NO | AL13: =IF(IFERROR(VLOOKUP(A12,'[36]36'!$A$5:$O$440,4,FALSE),1)=1,"ASSENTE",IF(AND(VLOOKUP(A12,'[36]36'!$A$5:$O$440,5,FALSE)<1,VLOOKUP(A12,'[36]36'!$A$5:$O$440,9,FALSE)<1),"NO","GOL")) -> NO | AM13: =IF(IFERROR(VLOOKUP(A12,'[37]37'!$A$5:$O$440,4,FALSE),1)=1,"ASSENTE",IF(AND(VLOOKUP(A12,'[37]37'!$A$5:$O$440,5,FALSE)<1,VLOOKUP(A12,'[37]37'!$A$5:$O$440,9,FALSE)<1),"NO","GOL")) -> GOL | AN13: =IF(IFERROR(VLOOKUP(A12,'[38]38'!$A$5:$O$440,4,FALSE),1)=1,"ASSENTE",IF(AND(VLOOKUP(A12,'[38]38'!$A$5:$O$440,5,FALSE)<1,VLOOKUP(A12,'[38]38'!$A$5:$O$440,9,FALSE)<1),"NO","GOL")) -> NO
