Workbook

Sheet gazz
C2: ATA | D2: BOL | E2: CAG | F2: CAT | G2: CES | H2: CHI | I2: FIO | J2: GEN | K2: INT | L2: JUV | M2: LAZ | N2: LEC | O2: MIL | P2: NAP | Q2: NOV | R2: PAL | S2: PAR | T2: ROM | U2: SIE | V2: UDI
B3: 1 | C3: 5.9 | D3: 5.7 | E3: 6 | F3: 5.5 | G3: 5.5 | H3: 6 | I3: 5.8 | J3: 5.9 | K3: 5.8 | L3: 6.4 | M3: 6.3 | N3: 5.7 | O3: 5.9 | P3: 5.9 | Q3: 5.7 | R3: 5.7 | S3: 6.2 | T3: 5.9 | U3: 5.8 | V3: 6.5
B4: 2 | C4: 6.2 | D4: 5.5 | E4: 6.3 | F4: 5.8 | G4: 5.6 | H4: 5.8 | I4: 6.4 | J4: 5.8 | K4: 5.3 | L4: 6.4 | M4: 5.8 | N4: 5.3 | O4: 6.1 | P4: 6.3 | Q4: 5.9 | R4: 6.5 | S4: 5 | T4: 5.4 | U4: 5.7 | V4: 6.3
B5: 3 | C5: 6.1 | D5: 5.3 | E5: 6.4 | F5: 6.3 | G5: 5.7 | H5: 5.9 | I5: 5.4 | J5: 6.1 | K5: 5.8 | L5: 6.3 | M5: 5.5 | N5: 6.5 | O5: 5.3 | P5: 6.7 | Q5: 5.5 | R5: 5.5 | S5: 5.9 | T5: 6.3 | U5: 6 | V5: 6.3
B6: 4 | C6: 6.2 | D6: 6.1 | E6: 5.4 | F6: 5.4 | G6: 5.6 | H6: 6.2 | I6: 6.4 | J6: 6.5 | K6: 4.5 | L6: 6.2 | M6: 6.1 | N6: 5.4 | O6: 6 | P6: 5.3 | Q6: 6.9 | R6: 6.2 | S6: 5.4 | T6: 5.6 | U6: 6 | V6: 6.2
B7: 5 | C7: 6.3 | D7: 5.8 | E7: 6.1 | F7: 6.2 | G7: 5.7 | H7: 6.1 | I7: 6.2 | J7: 5.8 | K7: 6.1 | L7: 5.7 | M7: 6 | N7: 5.4 | O7: 6.1 | P7: 5.5 | Q7: 5.6 | R7: 6 | S7: 5.3 | T7: 6.1 | U7: 6.6 | V7: 5.9
B8: 6 | C8: 5.8 | D8: 5.4 | E8: 6.7 | F8: 6.1 | G8: 6 | H8: 5.8 | I8: 5.6 | J8: 5.3 | K8: 5.5 | L8: 6.7 | M8: 6.1 | N8: 5.3 | O8: 5.1 | P8: 6.9 | Q8: 6 | R8: 6.4 | S8: 6.5 | T8: 6.5 | U8: 5.5 | V8: 6.7
B9: 7 | C9: 6.1 | D9: 6 | E9: 5.7 | F9: 6.5 | G9: 5.9 | H9: 6 | I9: 5.8 | J9: 5.9 | K9: 5.4 | L9: 5.9 | M9: 6.3 | N9: 5.7 | O9: 6.5 | P9: 5.5 | Q9: 5.9 | R9: 5.2 | S9: 6.5 | T9: 6 | U9: 6 | V9: 5.9
B10: 8 | C10: 6.3 | D10: 5.4 | E10: 5.9 | F10: 6 | G10: 5.4 | H10: 5.7 | I10: 5.7 | J10: 6.4 | K10: 6.2 | L10: 5.9 | M10: 6.3 | N10: 5.6 | O10: 5.9 | P10: 5.8 | Q10: 5.6 | R10: 5.9 | S10: 5.8 | T10: 6 | U10: 6.2 | V10: 6.4
B11: 9 | C11: 6.3 | D11: 5.9 | E11: 5.7 | F11: 6.1 | G11: 5.8 | H11: 5.6 | I11: 5.5 | J11: 6.1 | K11: 5.9 | L11: 6.5 | M11: 5.9 | N11: 5.6 | O11: 6.3 | P11: 6.4 | Q11: 5.6 | R11: 6.3 | S11: 5.5 | T11: 5.8 | U11: 6 | V11: 5.4
B12: 10 | C12: 5.9 | D12: 5.8 | E12: 5.6 | F12: 6.4 | G12: 5.2 | H12: 5.2 | I12: 6 | J12: 5.7 | K12: 5.3 | L12: 6.4 | M12: 6.3 | N12: 5.7 | O12: 6.4 | P12: 5.4 | Q12: 6 | R12: 5.4 | S12: 6.6 | T12: 5.8 | U12: 6.7 | V12: 6.4
B13: 11 | C13: 6.4 | D13: 5.5 | E13: 5.5 | F13: 5.3 | G13: 5.4 | H13: 6.1 | I13: 5.4 | J13: 5.7 | K13: 6 | L13: 6 | M13: 6.2 | N13: 6.4 | O13: 6.8 | P13: 6.3 | Q13: 5.4 | R13: 6.4 | S13: 5.7 | T13: 6.2 | U13: 5.9 | V13: 6.2
B14: 12 | C14: 6.3 | D14: 5.5 | E14: 5.7 | F14: 5.6 | G14: 6.1 | H14: 6.2 | I14: 5.8 | J14: 6.1 | K14: 6.2 | L14: 6.6 | M14: 6 | N14: 5.7 | O14: 6 | P14: 5.7 | Q14: 6 | R14: 5.1 | S14: 6.3 | T14: 6.3 | U14: 6.1 | V14: 5.4
... B40: 38 | C40: 5.9 | D40: 5.7 | E40: 6 | F40: 5.5 | G40: 5.5 | H40: 6 | I40: 5.8 | J40: 5.9 | K40: 5.8 | L40: 6.4 | M40: 6.3 | N40: 5.7 | O40: 5.9 | P40: 5.9 | Q40: 5.7 | R40: 5.7 | S40: 6.2 | T40: 5.9 | U40: 5.8 | V40: 6.5
C42: =SUM(C3:C40)/38 -> 6.0315789 | D42: =SUM(D3:D40)/38 -> 5.9052632 | E42: =SUM(E3:E40)/38 -> 5.8894737 | F42: =SUM(F3:F40)/38 -> 5.9578947 | G42: =SUM(G3:G40)/38 -> 5.6842105 | H42: =SUM(H3:H40)/38 -> 5.9157895 | I42: =SUM(I3:I40)/38 -> 5.8289474 | J42: =SUM(J3:J40)/38 -> 5.8815789 | ... V42: =SUM(V3:V40)/38 -> 6.1157895
C44: ATA | D44: BOL | E44: CAG | F44: CAT | G44: CES | H44: CHI | I44: FIO | J44: GEN | K44: INT | L44: JUV | M44: LAZ | N44: LEC | O44: MIL | P44: NAP | Q44: NOV | R44: PAL | S44: PAR | T44: ROM | U44: SIE | V44: UDI
C45: =C53/C$58 -> 0 | D45: =D53/D$58 -> 0.026315789 | E45: =E53/E$58 -> 0.052631579 | F45: =F53/F$58 -> 0.026315789 | G45: =G53/G$58 -> 0.15789474 | H45: =H53/H$58 -> 0.078947368 | I45: =I53/I$58 -> 0.052631579 | J45: =J53/J$58 -> 0.10526316 | ... V45: =V53/V$58 -> 0
C46: =C54/C$58 -> 0.13157895 | D46: =D54/D$58 -> 0.31578947 | E46: =E54/E$58 -> 0.36842105 | F46: =F54/F$58 -> 0.26315789 | G46: =G54/G$58 -> 0.42105263 | H46: =H54/H$58 -> 0.21052632 | I46: =I54/I$58 -> 0.39473684 | J46: =J54/J$58 -> 0.21052632 | ... V46: =V54/V$58 -> 0.15789474
C47: =C55/C$58 -> 0.55263158 | D47: =D55/D$58 -> 0.39473684 | E47: =E55/E$58 -> 0.34210526 | F47: =F55/F$58 -> 0.39473684 | G47: =G55/G$58 -> 0.34210526 | H47: =H55/H$58 -> 0.44736842 | I47: =I55/I$58 -> 0.26315789 | J47: =J55/J$58 -> 0.5 | ... V47: =V55/V$58 -> 0.26315789
C48: =C56/C$58 -> 0.28947368 | D48: =D56/D$58 -> 0.21052632 | E48: =E56/E$58 -> 0.18421053 | F48: =F56/F$58 -> 0.26315789 | G48: =G56/G$58 -> 0.078947368 | H48: =H56/H$58 -> 0.23684211 | I48: =I56/I$58 -> 0.28947368 | J48: =J56/J$58 -> 0.13157895 | ... V48: =V56/V$58 -> 0.55263158
C49: =C57/C$58 -> 0.026315789 | D49: =D57/D$58 -> 0.052631579 | E49: =E57/E$58 -> 0.052631579 | F49: =F57/F$58 -> 0.052631579 | G49: =G57/G$58 -> 0 | H49: =H57/H$58 -> 0.026315789 | I49: =I57/I$58 -> 0 | J49: =J57/J$58 -> 0.052631579 | ... V49: =V57/V$58 -> 0.026315789
C50: =SUM(C45:C49) -> 1 | D50: =SUM(D45:D49) -> 1 | E50: =SUM(E45:E49) -> 1 | F50: =SUM(F45:F49) -> 1 | G50: =SUM(G45:G49) -> 1 | H50: =SUM(H45:H49) -> 1 | I50: =SUM(I45:I49) -> 1 | J50: =SUM(J45:J49) -> 1 | ... V50: =SUM(V45:V49) -> 1
C52: ATA | D52: BOL | E52: CAG | F52: CAT | G52: CES | H52: CHI | I52: FIO | J52: GEN | K52: INT | L52: JUV | M52: LAZ | N52: LEC | O52: MIL | P52: NAP | Q52: NOV | R52: PAL | S52: PAR | T52: ROM | U52: SIE | V52: UDI
C53: =COUNTIF(C3:C40, "<=5,3") -> 0 | D53: =COUNTIF(D3:D40, "<=5,3") -> 1 | E53: =COUNTIF(E3:E40, "<=5,3") -> 2 | F53: =COUNTIF(F3:F40, "<=5,3") -> 1 | G53: =COUNTIF(G3:G40, "<=5,3") -> 6 | H53: =COUNTIF(H3:H40, "<=5,3") -> 3 | I53: =COUNTIF(I3:I40, "<=5,3") -> 2 | J53: =COUNTIF(J3:J40, "<=5,3") -> 4 | ... V53: =COUNTIF(V3:V40, "<=5,3") -> 0
C54: =COUNTIFS(C3:C40, ">=5,4",C3:C40, "<=5,7") -> 5 | D54: =COUNTIFS(D3:D40, ">=5,4",D3:D40, "<=5,7") -> 12 | E54: =COUNTIFS(E3:E40, ">=5,4",E3:E40, "<=5,7") -> 14 | F54: =COUNTIFS(F3:F40, ">=5,4",F3:F40, "<=5,7") -> 10 | G54: =COUNTIFS(G3:G40, ">=5,4",G3:G40, "<=5,7") -> 16 | H54: =COUNTIFS(H3:H40, ">=5,4",H3:H40, "<=5,7") -> 8 | I54: =COUNTIFS(I3:I40, ">=5,4",I3:I40, "<=5,7") -> 15 | J54: =COUNTIFS(J3:J40, ">=5,4",J3:J40, "<=5,7") -> 8 | ... V54: =COUNTIFS(V3:V40, ">=5,4",V3:V40, "<=5,7") -> 6
C55: =COUNTIFS(C3:C40, ">=5,8",C3:C40, "<=6,1") -> 21 | D55: =COUNTIFS(D3:D40, ">=5,8",D3:D40, "<=6,1") -> 15 | E55: =COUNTIFS(E3:E40, ">=5,8",E3:E40, "<=6,1") -> 13 | F55: =COUNTIFS(F3:F40, ">=5,8",F3:F40, "<=6,1") -> 15 | G55: =COUNTIFS(G3:G40, ">=5,8",G3:G40, "<=6,1") -> 13 | H55: =COUNTIFS(H3:H40, ">=5,8",H3:H40, "<=6,1") -> 17 | I55: =COUNTIFS(I3:I40, ">=5,8",I3:I40, "<=6,1") -> 10 | J55: =COUNTIFS(J3:J40, ">=5,8",J3:J40, "<=6,1") -> 19 | ... V55: =COUNTIFS(V3:V40, ">=5,8",V3:V40, "<=6,1") -> 10
C56: =COUNTIFS(C3:C40, ">=6,2",C3:C40, "<=6,5") -> 11 | D56: =COUNTIFS(D3:D40, ">=6,2",D3:D40, "<=6,5") -> 8 | E56: =COUNTIFS(E3:E40, ">=6,2",E3:E40, "<=6,5") -> 7 | F56: =COUNTIFS(F3:F40, ">=6,2",F3:F40, "<=6,5") -> 10 | G56: =COUNTIFS(G3:G40, ">=6,2",G3:G40, "<=6,5") -> 3 | H56: =COUNTIFS(H3:H40, ">=6,2",H3:H40, "<=6,5") -> 9 | I56: =COUNTIFS(I3:I40, ">=6,2",I3:I40, "<=6,5") -> 11 | J56: =COUNTIFS(J3:J40, ">=6,2",J3:J40, "<=6,5") -> 5 | ... V56: =COUNTIFS(V3:V40, ">=6,2",V3:V40, "<=6,5") -> 21
C57: =COUNTIF(C3:C40, ">=6,6") -> 1 | D57: =COUNTIF(D3:D40, ">=6,6") -> 2 | E57: =COUNTIF(E3:E40, ">=6,6") -> 2 | F57: =COUNTIF(F3:F40, ">=6,6") -> 2 | G57: =COUNTIF(G3:G40, ">=6,6") -> 0 | H57: =COUNTIF(H3:H40, ">=6,6") -> 1 | I57: =COUNTIF(I3:I40, ">=6,6") -> 0 | J57: =COUNTIF(J3:J40, ">=6,6") -> 2 | ... V57: =COUNTIF(V3:V40, ">=6,6") -> 1
C58: =SUM(C53:C57) -> 38 | D58: =SUM(D53:D57) -> 38 | E58: =SUM(E53:E57) -> 38 | F58: =SUM(F53:F57) -> 38 | G58: =SUM(G53:G57) -> 38 | H58: =SUM(H53:H57) -> 38 | I58: =SUM(I53:I57) -> 38 | J58: =SUM(J53:J57) -> 38 | ... V58: =SUM(V53:V57) -> 38
B61: C*T | C61: ATA | D61: BOL | E61: CAG | F61: CAT | G61: CES | H61: CHI | I61: FIO | J61: GEN | K61: INT | L61: JUV | M61: LAZ | N61: LEC | O61: MIL | P61: NAP | Q61: NOV | R61: PAL | S61: PAR | T61: ROM | U61: SIE | V61: UDI | Y61: C*v | Z61: ATA | AA61: BOL | AB61: CAG | AC61: CAT | AD61: CES | AE61: CHI | AF61: FIO | AG61: GEN | AH61: INT | AI61: JUV | AJ61: LAZ | AK61: LEC | AL61: MIL | AM61: NAP | AN61: NOV | AO61: PAL | AP61: PAR | AQ61: ROM | AR61: SIE | AS61: UDI | AV61: C*p | AW61: ATA | AX61: BOL | AY61: CAG | AZ61: CAT | BA61: CES | BB61: CHI | BC61: FIO | BD61: GEN | BE61: INT | BF61: JUV | BG61: LAZ | BH61: LEC | BI61: MIL | BJ61: NAP | BK61: NOV | BL61: PAL | BM61: PAR | BN61: ROM | BO61: SIE | BP61: UDI | BS61: C*s | BT61: ATA | BU61: BOL | BV61: CAG | BW61: CAT | BX61: CES | BY61: CHI | BZ61: FIO | CA61: GEN | CB61: INT | CC61: JUV | CD61: LAZ | CE61: LEC | CF61: MIL | CG61: NAP | CH61: NOV | CI61: PAL | CJ61: PAR | CK61: ROM | CL61: SIE | CM61: UDI
B62: 1 | C62: =IF(squadre!C3=1, C3, "-") -> 5.9 | D62: =IF(squadre!D3=1, D3, "-") -> 5.7 | E62: =IF(squadre!E3=1, E3, "-") -> 6 | F62: =IF(squadre!F3=1, F3, "-") -> - | G62: =IF(squadre!G3=1, G3, "-") -> - | H62: =IF(squadre!H3=1, H3, "-") -> - | I62: =IF(squadre!I3=1, I3, "-") -> - | J62: =IF(squadre!J3=1, J3, "-") -> - | ... V62: =IF(squadre!V3=1, V3, "-") -> 6.5 | Y62: 1 | Z62: =IF(squadre!BC3="1v",C3,"-") -> 5.9 | AA62: =IF(squadre!BD3="1v",D3,"-") -> - | AB62: =IF(squadre!BE3="1v",E3,"-") -> - | AC62: =IF(squadre!BF3="1v",F3,"-") -> - | AD62: =IF(squadre!BG3="1v",G3,"-") -> - | AE62: =IF(squadre!BH3="1v",H3,"-") -> - | AF62: =IF(squadre!BI3="1v",I3,"-") -> - | AG62: =IF(squadre!BJ3="1v",J3,"-") -> - | ... AS62: =IF(squadre!BV3="1v",V3,"-") -> - | AV62: 1 | AW62: =IF(squadre!BC3="1p", C3, "-") -> - | AX62: =IF(squadre!BD3="1p", D3, "-") -> - | AY62: =IF(squadre!BE3="1p", E3, "-") -> - | AZ62: =IF(squadre!BF3="1p", F3, "-") -> - | BA62: =IF(squadre!BG3="1p", G3, "-") -> - | BB62: =IF(squadre!BH3="1p", H3, "-") -> - | BC62: =IF(squadre!BI3="1p", I3, "-") -> - | BD62: =IF(squadre!BJ3="1p", J3, "-") -> - | ... BP62: =IF(squadre!BV3="1p", V3, "-") -> 6.5 | BS62: 1 | BT62: =IF(squadre!BC3="1s", C3, "-") -> - | BU62: =IF(squadre!BD3="1s", D3, "-") -> 5.7 | BV62: =IF(squadre!BE3="1s", E3, "-") -> 6 | BW62: =IF(squadre!BF3="1s", F3, "-") -> - | BX62: =IF(squadre!BG3="1s", G3, "-") -> - | BY62: =IF(squadre!BH3="1s", H3, "-") -> - | BZ62: =IF(squadre!BI3="1s", I3, "-") -> - | CA62: =IF(squadre!BJ3="1s", J3, "-") -> - | ... CM62: =IF(squadre!BV3="1s", V3, "-") -> -
B63: 2 | C63: =IF(squadre!C4=1, C4, "-") -> - | D63: =IF(squadre!D4=1, D4, "-") -> - | E63: =IF(squadre!E4=1, E4, "-") -> - | F63: =IF(squadre!F4=1, F4, "-") -> 5.8 | G63: =IF(squadre!G4=1, G4, "-") -> 5.6 | H63: =IF(squadre!H4=1, H4, "-") -> 5.8 | I63: =IF(squadre!I4=1, I4, "-") -> 6.4 | J63: =IF(squadre!J4=1, J4, "-") -> 5.8 | ... V63: =IF(squadre!V4=1, V4, "-") -> - | Y63: 2 | Z63: =IF(squadre!BC4="1v",C4,"-") -> - | AA63: =IF(squadre!BD4="1v",D4,"-") -> - | AB63: =IF(squadre!BE4="1v",E4,"-") -> - | AC63: =IF(squadre!BF4="1v",F4,"-") -> - | AD63: =IF(squadre!BG4="1v",G4,"-") -> - | AE63: =IF(squadre!BH4="1v",H4,"-") -> - | AF63: =IF(squadre!BI4="1v",I4,"-") -> 6.4 | AG63: =IF(squadre!BJ4="1v",J4,"-") -> - | ... AS63: =IF(squadre!BV4="1v",V4,"-") -> - | AV63: 2 | AW63: =IF(squadre!BC4="1p", C4, "-") -> - | AX63: =IF(squadre!BD4="1p", D4, "-") -> - | AY63: =IF(squadre!BE4="1p", E4, "-") -> - | AZ63: =IF(squadre!BF4="1p", F4, "-") -> 5.8 | BA63: =IF(squadre!BG4="1p", G4, "-") -> - | BB63: =IF(squadre!BH4="1p", H4, "-") -> 5.8 | BC63: =IF(squadre!BI4="1p", I4, "-") -> - | BD63: =IF(squadre!BJ4="1p", J4, "-") -> 5.8 | ... BP63: =IF(squadre!BV4="1p", V4, "-") -> - | BS63: 2 | BT63: =IF(squadre!BC4="1s", C4, "-") -> - | BU63: =IF(squadre!BD4="1s", D4, "-") -> - | BV63: =IF(squadre!BE4="1s", E4, "-") -> - | BW63: =IF(squadre!BF4="1s", F4, "-") -> - | BX63: =IF(squadre!BG4="1s", G4, "-") -> 5.6 | BY63: =IF(squadre!BH4="1s", H4, "-") -> - | BZ63: =IF(squadre!BI4="1s", I4, "-") -> - | CA63: =IF(squadre!BJ4="1s", J4, "-") -> - | ... CM63: =IF(squadre!BV4="1s", V4, "-") -> -
B64: 3 | C64: =IF(squadre!C5=1, C5, "-") -> 6.1 | D64: =IF(squadre!D5=1, D5, "-") -> 5.3 | E64: =IF(squadre!E5=1, E5, "-") -> 6.4 | F64: =IF(squadre!F5=1, F5, "-") -> 6.3 | G64: =IF(squadre!G5=1, G5, "-") -> - | H64: =IF(squadre!H5=1, H5, "-") -> - | I64: =IF(squadre!I5=1, I5, "-") -> - | J64: =IF(squadre!J5=1, J5, "-") -> - | ... V64: =IF(squadre!V5=1, V5, "-") -> 6.3 | Y64: 3 | Z64: =IF(squadre!BC5="1v",C5,"-") -> 6.1 | AA64: =IF(squadre!BD5="1v",D5,"-") -> - | AB64: =IF(squadre!BE5="1v",E5,"-") -> 6.4 | AC64: =IF(squadre!BF5="1v",F5,"-") -> 6.3 | AD64: =IF(squadre!BG5="1v",G5,"-") -> - | AE64: =IF(squadre!BH5="1v",H5,"-") -> - | AF64: =IF(squadre!BI5="1v",I5,"-") -> - | AG64: =IF(squadre!BJ5="1v",J5,"-") -> - | ... AS64: =IF(squadre!BV5="1v",V5,"-") -> 6.3 | AV64: 3 | AW64: =IF(squadre!BC5="1p", C5, "-") -> - | AX64: =IF(squadre!BD5="1p", D5, "-") -> - | AY64: =IF(squadre!BE5="1p", E5, "-") -> - | AZ64: =IF(squadre!BF5="1p", F5, "-") -> - | BA64: =IF(squadre!BG5="1p", G5, "-") -> - | BB64: =IF(squadre!BH5="1p", H5, "-") -> - | BC64: =IF(squadre!BI5="1p", I5, "-") -> - | BD64: =IF(squadre!BJ5="1p", J5, "-") -> - | ... BP64: =IF(squadre!BV5="1p", V5, "-") -> - | BS64: 3 | BT64: =IF(squadre!BC5="1s", C5, "-") -> - | BU64: =IF(squadre!BD5="1s", D5, "-") -> 5.3 | BV64: =IF(squadre!BE5="1s", E5, "-") -> - | BW64: =IF(squadre!BF5="1s", F5, "-") -> - | BX64: =IF(squadre!BG5="1s", G5, "-") -> - | BY64: =IF(squadre!BH5="1s", H5, "-") -> - | BZ64: =IF(squadre!BI5="1s", I5, "-") -> - | CA64: =IF(squadre!BJ5="1s", J5, "-") -> - | ... CM64: =IF(squadre!BV5="1s", V5, "-") -> -
B65: 4 | C65: =IF(squadre!C6=1, C6, "-") -> - | D65: =IF(squadre!D6=1, D6, "-") -> - | E65: =IF(squadre!E6=1, E6, "-") -> - | F65: =IF(squadre!F6=1, F6, "-") -> - | G65: =IF(squadre!G6=1, G6, "-") -> 5.6 | H65: =IF(squadre!H6=1, H6, "-") -> 6.2 | I65: =IF(squadre!I6=1, I6, "-") -> 6.4 | J65: =IF(squadre!J6=1, J6, "-") -> 6.5 | ... V65: =IF(squadre!V6=1, V6, "-") -> - | Y65: 4 | Z65: =IF(squadre!BC6="1v",C6,"-") -> - | AA65: =IF(squadre!BD6="1v",D6,"-") -> - | AB65: =IF(squadre!BE6="1v",E6,"-") -> - | AC65: =IF(squadre!BF6="1v",F6,"-") -> - | AD65: =IF(squadre!BG6="1v",G6,"-") -> - | AE65: =IF(squadre!BH6="1v",H6,"-") -> 6.2 | AF65: =IF(squadre!BI6="1v",I6,"-") -> 6.4 | AG65: =IF(squadre!BJ6="1v",J6,"-") -> 6.5 | ... AS65: =IF(squadre!BV6="1v",V6,"-") -> - | AV65: 4 | AW65: =IF(squadre!BC6="1p", C6, "-") -> - | AX65: =IF(squadre!BD6="1p", D6, "-") -> - | AY65: =IF(squadre!BE6="1p", E6, "-") -> - | AZ65: =IF(squadre!BF6="1p", F6, "-") -> - | BA65: =IF(squadre!BG6="1p", G6, "-") -> - | BB65: =IF(squadre!BH6="1p", H6, "-") -> - | BC65: =IF(squadre!BI6="1p", I6, "-") -> - | BD65: =IF(squadre!BJ6="1p", J6, "-") -> - | ... BP65: =IF(squadre!BV6="1p", V6, "-") -> - | BS65: 4 | BT65: =IF(squadre!BC6="1s", C6, "-") -> - | BU65: =IF(squadre!BD6="1s", D6, "-") -> - | BV65: =IF(squadre!BE6="1s", E6, "-") -> - | BW65: =IF(squadre!BF6="1s", F6, "-") -> - | BX65: =IF(squadre!BG6="1s", G6, "-") -> 5.6 | BY65: =IF(squadre!BH6="1s", H6, "-") -> - | BZ65: =IF(squadre!BI6="1s", I6, "-") -> - | CA65: =IF(squadre!BJ6="1s", J6, "-") -> - | ... CM65: =IF(squadre!BV6="1s", V6, "-") -> -
B66: 5 | C66: =IF(squadre!C7=1, C7, "-") -> 6.3 | D66: =IF(squadre!D7=1, D7, "-") -> 5.8 | E66: =IF(squadre!E7=1, E7, "-") -> 6.1 | F66: =IF(squadre!F7=1, F7, "-") -> 6.2 | G66: =IF(squadre!G7=1, G7, "-") -> - | H66: =IF(squadre!H7=1, H7, "-") -> 6.1 | I66: =IF(squadre!I7=1, I7, "-") -> - | J66: =IF(squadre!J7=1, J7, "-") -> - | ... V66: =IF(squadre!V7=1, V7, "-") -> - | Y66: 5 | Z66: =IF(squadre!BC7="1v",C7,"-") -> 6.3 | AA66: =IF(squadre!BD7="1v",D7,"-") -> - | AB66: =IF(squadre!BE7="1v",E7,"-") -> - | AC66: =IF(squadre!BF7="1v",F7,"-") -> - | AD66: =IF(squadre!BG7="1v",G7,"-") -> - | AE66: =IF(squadre!BH7="1v",H7,"-") -> 6.1 | AF66: =IF(squadre!BI7="1v",I7,"-") -> - | AG66: =IF(squadre!BJ7="1v",J7,"-") -> - | ... AS66: =IF(squadre!BV7="1v",V7,"-") -> - | AV66: 5 | AW66: =IF(squadre!BC7="1p", C7, "-") -> - | AX66: =IF(squadre!BD7="1p", D7, "-") -> - | AY66: =IF(squadre!BE7="1p", E7, "-") -> 6.1 | AZ66: =IF(squadre!BF7="1p", F7, "-") -> 6.2 | BA66: =IF(squadre!BG7="1p", G7, "-") -> - | BB66: =IF(squadre!BH7="1p", H7, "-") -> - | BC66: =IF(squadre!BI7="1p", I7, "-") -> - | BD66: =IF(squadre!BJ7="1p", J7, "-") -> - | ... BP66: =IF(squadre!BV7="1p", V7, "-") -> - | BS66: 5 | BT66: =IF(squadre!BC7="1s", C7, "-") -> - | BU66: =IF(squadre!BD7="1s", D7, "-") -> 5.8 | BV66: =IF(squadre!BE7="1s", E7, "-") -> - | BW66: =IF(squadre!BF7="1s", F7, "-") -> - | BX66: =IF(squadre!BG7="1s", G7, "-") -> - | BY66: =IF(squadre!BH7="1s", H7, "-") -> - | BZ66: =IF(squadre!BI7="1s", I7, "-") -> - | CA66: =IF(squadre!BJ7="1s", J7, "-") -> - | ... CM66: =IF(squadre!BV7="1s", V7, "-") -> -
B67: 6 | C67: =IF(squadre!C8=1, C8, "-") -> - | D67: =IF(squadre!D8=1, D8, "-") -> - | E67: =IF(squadre!E8=1, E8, "-") -> - | F67: =IF(squadre!F8=1, F8, "-") -> - | G67: =IF(squadre!G8=1, G8, "-") -> 6 | H67: =IF(squadre!H8=1, H8, "-") -> - | I67: =IF(squadre!I8=1, I8, "-") -> 5.6 | J67: =IF(squadre!J8=1, J8, "-") -> - | ... V67: =IF(squadre!V8=1, V8, "-") -> 6.7 | Y67: 6 | Z67: =IF(squadre!BC8="1v",C8,"-") -> - | AA67: =IF(squadre!BD8="1v",D8,"-") -> - | AB67: =IF(squadre!BE8="1v",E8,"-") -> - | AC67: =IF(squadre!BF8="1v",F8,"-") -> - | AD67: =IF(squadre!BG8="1v",G8,"-") -> - | AE67: =IF(squadre!BH8="1v",H8,"-") -> - | AF67: =IF(squadre!BI8="1v",I8,"-") -> - | AG67: =IF(squadre!BJ8="1v",J8,"-") -> - | ... AS67: =IF(squadre!BV8="1v",V8,"-") -> 6.7 | AV67: 6 | AW67: =IF(squadre!BC8="1p", C8, "-") -> - | AX67: =IF(squadre!BD8="1p", D8, "-") -> - | AY67: =IF(squadre!BE8="1p", E8, "-") -> - | AZ67: =IF(squadre!BF8="1p", F8, "-") -> - | BA67: =IF(squadre!BG8="1p", G8, "-") -> 6 | BB67: =IF(squadre!BH8="1p", H8, "-") -> - | BC67: =IF(squadre!BI8="1p", I8, "-") -> - | BD67: =IF(squadre!BJ8="1p", J8, "-") -> - | ... BP67: =IF(squadre!BV8="1p", V8, "-") -> - | BS67: 6 | BT67: =IF(squadre!BC8="1s", C8, "-") -> - | BU67: =IF(squadre!BD8="1s", D8, "-") -> - | BV67: =IF(squadre!BE8="1s", E8, "-") -> - | BW67: =IF(squadre!BF8="1s", F8, "-") -> - | BX67: =IF(squadre!BG8="1s", G8, "-") -> - | BY67: =IF(squadre!BH8="1s", H8, "-") -> - | BZ67: =IF(squadre!BI8="1s", I8, "-") -> 5.6 | CA67: =IF(squadre!BJ8="1s", J8, "-") -> - | ... CM67: =IF(squadre!BV8="1s", V8, "-") -> -
B68: 7 | C68: =IF(squadre!C9=1, C9, "-") -> 6.1 | D68: =IF(squadre!D9=1, D9, "-") -> - | E68: =IF(squadre!E9=1, E9, "-") -> 5.7 | F68: =IF(squadre!F9=1, F9, "-") -> 6.5 | G68: =IF(squadre!G9=1, G9, "-") -> 5.9 | H68: =IF(squadre!H9=1, H9, "-") -> 6 | I68: =IF(squadre!I9=1, I9, "-") -> - | J68: =IF(squadre!J9=1, J9, "-") -> 5.9 | ... V68: =IF(squadre!V9=1, V9, "-") -> - | Y68: 7 | Z68: =IF(squadre!BC9="1v",C9,"-") -> - | AA68: =IF(squadre!BD9="1v",D9,"-") -> - | AB68: =IF(squadre!BE9="1v",E9,"-") -> - | AC68: =IF(squadre!BF9="1v",F9,"-") -> 6.5 | AD68: =IF(squadre!BG9="1v",G9,"-") -> - | AE68: =IF(squadre!BH9="1v",H9,"-") -> - | AF68: =IF(squadre!BI9="1v",I9,"-") -> - | AG68: =IF(squadre!BJ9="1v",J9,"-") -> - | ... AS68: =IF(squadre!BV9="1v",V9,"-") -> - | AV68: 7 | AW68: =IF(squadre!BC9="1p", C9, "-") -> 6.1 | AX68: =IF(squadre!BD9="1p", D9, "-") -> - | AY68: =IF(squadre!BE9="1p", E9, "-") -> 5.7 | AZ68: =IF(squadre!BF9="1p", F9, "-") -> - | BA68: =IF(squadre!BG9="1p", G9, "-") -> 5.9 | BB68: =IF(squadre!BH9="1p", H9, "-") -> 6 | BC68: =IF(squadre!BI9="1p", I9, "-") -> - | BD68: =IF(squadre!BJ9="1p", J9, "-") -> 5.9 | ... BP68: =IF(squadre!BV9="1p", V9, "-") -> - | BS68: 7 | BT68: =IF(squadre!BC9="1s", C9, "-") -> - | BU68: =IF(squadre!BD9="1s", D9, "-") -> - | BV68: =IF(squadre!BE9="1s", E9, "-") -> - | BW68: =IF(squadre!BF9="1s", F9, "-") -> - | BX68: =IF(squadre!BG9="1s", G9, "-") -> - | BY68: =IF(squadre!BH9="1s", H9, "-") -> - | BZ68: =IF(squadre!BI9="1s", I9, "-") -> - | CA68: =IF(squadre!BJ9="1s", J9, "-") -> - | ... CM68: =IF(squadre!BV9="1s", V9, "-") -> -
B69: 8 | C69: =IF(squadre!C10=1, C10, "-") -> - | D69: =IF(squadre!D10=1, D10, "-") -> 5.4 | E69: =IF(squadre!E10=1, E10, "-") -> 5.9 | F69: =IF(squadre!F10=1, F10, "-") -> - | G69: =IF(squadre!G10=1, G10, "-") -> - | H69: =IF(squadre!H10=1, H10, "-") -> - | I69: =IF(squadre!I10=1, I10, "-") -> 5.7 | J69: =IF(squadre!J10=1, J10, "-") -> - | ... V69: =IF(squadre!V10=1, V10, "-") -> 6.4 | Y69: 8 | Z69: =IF(squadre!BC10="1v",C10,"-") -> - | AA69: =IF(squadre!BD10="1v",D10,"-") -> - | AB69: =IF(squadre!BE10="1v",E10,"-") -> - | AC69: =IF(squadre!BF10="1v",F10,"-") -> - | AD69: =IF(squadre!BG10="1v",G10,"-") -> - | AE69: =IF(squadre!BH10="1v",H10,"-") -> - | AF69: =IF(squadre!BI10="1v",I10,"-") -> - | AG69: =IF(squadre!BJ10="1v",J10,"-") -> - | ... AS69: =IF(squadre!BV10="1v",V10,"-") -> 6.4 | AV69: 8 | AW69: =IF(squadre!BC10="1p", C10, "-") -> - | AX69: =IF(squadre!BD10="1p", D10, "-") -> - | AY69: =IF(squadre!BE10="1p", E10, "-") -> 5.9 | AZ69: =IF(squadre!BF10="1p", F10, "-") -> - | BA69: =IF(squadre!BG10="1p", G10, "-") -> - | BB69: =IF(squadre!BH10="1p", H10, "-") -> - | BC69: =IF(squadre!BI10="1p", I10, "-") -> 5.7 | BD69: =IF(squadre!BJ10="1p", J10, "-") -> - | ... BP69: =IF(squadre!BV10="1p", V10, "-") -> - | BS69: 8 | BT69: =IF(squadre!BC10="1s", C10, "-") -> - | BU69: =IF(squadre!BD10="1s", D10, "-") -> 5.4 | BV69: =IF(squadre!BE10="1s", E10, "-") -> - | BW69: =IF(squadre!BF10="1s", F10, "-") -> - | BX69: =IF(squadre!BG10="1s", G10, "-") -> - | BY69: =IF(squadre!BH10="1s", H10, "-") -> - | BZ69: =IF(squadre!BI10="1s", I10, "-") -> - | CA69: =IF(squadre!BJ10="1s", J10, "-") -> - | ... CM69: =IF(squadre!BV10="1s", V10, "-") -> -
B70: 9 | C70: =IF(squadre!C11=1, C11, "-") -> 6.3 | D70: =IF(squadre!D11=1, D11, "-") -> - | E70: =IF(squadre!E11=1, E11, "-") -> - | F70: =IF(squadre!F11=1, F11, "-") -> - | G70: =IF(squadre!G11=1, G11, "-") -> 5.8 | H70: =IF(squadre!H11=1, H11, "-") -> 5.6 | I70: =IF(squadre!I11=1, I11, "-") -> - | J70: =IF(squadre!J11=1, J11, "-") -> 6.1 | ... V70: =IF(squadre!V11=1, V11, "-") -> - | Y70: 9 | Z70: =IF(squadre!BC11="1v",C11,"-") -> - | AA70: =IF(squadre!BD11="1v",D11,"-") -> - | AB70: =IF(squadre!BE11="1v",E11,"-") -> - | AC70: =IF(squadre!BF11="1v",F11,"-") -> - | AD70: =IF(squadre!BG11="1v",G11,"-") -> - | AE70: =IF(squadre!BH11="1v",H11,"-") -> - | AF70: =IF(squadre!BI11="1v",I11,"-") -> - | AG70: =IF(squadre!BJ11="1v",J11,"-") -> 6.1 | ... AS70: =IF(squadre!BV11="1v",V11,"-") -> - | AV70: 9 | AW70: =IF(squadre!BC11="1p", C11, "-") -> 6.3 | AX70: =IF(squadre!BD11="1p", D11, "-") -> - | AY70: =IF(squadre!BE11="1p", E11, "-") -> - | AZ70: =IF(squadre!BF11="1p", F11, "-") -> - | BA70: =IF(squadre!BG11="1p", G11, "-") -> 5.8 | BB70: =IF(squadre!BH11="1p", H11, "-") -> - | BC70: =IF(squadre!BI11="1p", I11, "-") -> - | BD70: =IF(squadre!BJ11="1p", J11, "-") -> - | ... BP70: =IF(squadre!BV11="1p", V11, "-") -> - | BS70: 9 | BT70: =IF(squadre!BC11="1s", C11, "-") -> - | BU70: =IF(squadre!BD11="1s", D11, "-") -> - | BV70: =IF(squadre!BE11="1s", E11, "-") -> - | BW70: =IF(squadre!BF11="1s", F11, "-") -> - | BX70: =IF(squadre!BG11="1s", G11, "-") -> - | BY70: =IF(squadre!BH11="1s", H11, "-") -> 5.6 | BZ70: =IF(squadre!BI11="1s", I11, "-") -> - | CA70: =IF(squadre!BJ11="1s", J11, "-") -> - | ... CM70: =IF(squadre!BV11="1s", V11, "-") -> -
B71: 10 | C71: =IF(squadre!C12=1, C12, "-") -> - | D71: =IF(squadre!D12=1, D12, "-") -> 5.8 | E71: =IF(squadre!E12=1, E12, "-") -> 5.6 | F71: =IF(squadre!F12=1, F12, "-") -> 6.4 | G71: =IF(squadre!G12=1, G12, "-") -> - | H71: =IF(squadre!H12=1, H12, "-") -> - | I71: =IF(squadre!I12=1, I12, "-") -> 6 | J71: =IF(squadre!J12=1, J12, "-") -> - | ... V71: =IF(squadre!V12=1, V12, "-") -> 6.4 | Y71: 10 | Z71: =IF(squadre!BC12="1v",C12,"-") -> - | AA71: =IF(squadre!BD12="1v",D12,"-") -> 5.8 | AB71: =IF(squadre!BE12="1v",E12,"-") -> - | AC71: =IF(squadre!BF12="1v",F12,"-") -> 6.4 | AD71: =IF(squadre!BG12="1v",G12,"-") -> - | AE71: =IF(squadre!BH12="1v",H12,"-") -> - | AF71: =IF(squadre!BI12="1v",I12,"-") -> 6 | AG71: =IF(squadre!BJ12="1v",J12,"-") -> - | ... AS71: =IF(squadre!BV12="1v",V12,"-") -> 6.4 | AV71: 10 | AW71: =IF(squadre!BC12="1p", C12, "-") -> - | AX71: =IF(squadre!BD12="1p", D12, "-") -> - | AY71: =IF(squadre!BE12="1p", E12, "-") -> - | AZ71: =IF(squadre!BF12="1p", F12, "-") -> - | BA71: =IF(squadre!BG12="1p", G12, "-") -> - | BB71: =IF(squadre!BH12="1p", H12, "-") -> - | BC71: =IF(squadre!BI12="1p", I12, "-") -> - | BD71: =IF(squadre!BJ12="1p", J12, "-") -> - | ... BP71: =IF(squadre!BV12="1p", V12, "-") -> - | BS71: 10 | BT71: =IF(squadre!BC12="1s", C12, "-") -> - | BU71: =IF(squadre!BD12="1s", D12, "-") -> - | BV71: =IF(squadre!BE12="1s", E12, "-") -> 5.6 | BW71: =IF(squadre!BF12="1s", F12, "-") -> - | BX71: =IF(squadre!BG12="1s", G12, "-") -> - | BY71: =IF(squadre!BH12="1s", H12, "-") -> - | BZ71: =IF(squadre!BI12="1s", I12, "-") -> - | CA71: =IF(squadre!BJ12="1s", J12, "-") -> - | ... CM71: =IF(squadre!BV12="1s", V12, "-") -> -
B72: 11 | C72: =IF(squadre!C13=1, C13, "-") -> 6.4 | D72: =IF(squadre!D13=1, D13, "-") -> - | E72: =IF(squadre!E13=1, E13, "-") -> - | F72: =IF(squadre!F13=1, F13, "-") -> - | G72: =IF(squadre!G13=1, G13, "-") -> 5.4 | H72: =IF(squadre!H13=1, H13, "-") -> 6.1 | I72: =IF(squadre!I13=1, I13, "-") -> - | J72: =IF(squadre!J13=1, J13, "-") -> 5.7 | ... V72: =IF(squadre!V13=1, V13, "-") -> 6.2 | Y72: 11 | Z72: =IF(squadre!BC13="1v",C13,"-") -> 6.4 | AA72: =IF(squadre!BD13="1v",D13,"-") -> - | AB72: =IF(squadre!BE13="1v",E13,"-") -> - | AC72: =IF(squadre!BF13="1v",F13,"-") -> - | AD72: =IF(squadre!BG13="1v",G13,"-") -> - | AE72: =IF(squadre!BH13="1v",H13,"-") -> 6.1 | AF72: =IF(squadre!BI13="1v",I13,"-") -> - | AG72: =IF(squadre!BJ13="1v",J13,"-") -> - | ... AS72: =IF(squadre!BV13="1v",V13,"-") -> 6.2 | AV72: 11 | AW72: =IF(squadre!BC13="1p", C13, "-") -> - | AX72: =IF(squadre!BD13="1p", D13, "-") -> - | AY72: =IF(squadre!BE13="1p", E13, "-") -> - | AZ72: =IF(squadre!BF13="1p", F13, "-") -> - | BA72: =IF(squadre!BG13="1p", G13, "-") -> - | BB72: =IF(squadre!BH13="1p", H13, "-") -> - | BC72: =IF(squadre!BI13="1p", I13, "-") -> - | BD72: =IF(squadre!BJ13="1p", J13, "-") -> - | ... BP72: =IF(squadre!BV13="1p", V13, "-") -> - | BS72: 11 | BT72: =IF(squadre!BC13="1s", C13, "-") -> - | BU72: =IF(squadre!BD13="1s", D13, "-") -> - | BV72: =IF(squadre!BE13="1s", E13, "-") -> - | BW72: =IF(squadre!BF13="1s", F13, "-") -> - | BX72: =IF(squadre!BG13="1s", G13, "-") -> 5.4 | BY72: =IF(squadre!BH13="1s", H13, "-") -> - | BZ72: =IF(squadre!BI13="1s", I13, "-") -> - | CA72: =IF(squadre!BJ13="1s", J13, "-") -> 5.7 | ... CM72: =IF(squadre!BV13="1s", V13, "-") -> -
B73: 12 | C73: =IF(squadre!C14=1, C14, "-") -> - | D73: =IF(squadre!D14=1, D14, "-") -> 5.5 | E73: =IF(squadre!E14=1, E14, "-") -> - | F73: =IF(squadre!F14=1, F14, "-") -> 5.6 | G73: =IF(squadre!G14=1, G14, "-") -> - | H73: =IF(squadre!H14=1, H14, "-") -> - | I73: =IF(squadre!I14=1, I14, "-") -> 5.8 | J73: =IF(squadre!J14=1, J14, "-") -> 6.1 | ... V73: =IF(squadre!V14=1, V14, "-") -> - | Y73: 12 | Z73: =IF(squadre!BC14="1v",C14,"-") -> - | AA73: =IF(squadre!BD14="1v",D14,"-") -> - | AB73: =IF(squadre!BE14="1v",E14,"-") -> - | AC73: =IF(squadre!BF14="1v",F14,"-") -> - | AD73: =IF(squadre!BG14="1v",G14,"-") -> - | AE73: =IF(squadre!BH14="1v",H14,"-") -> - | AF73: =IF(squadre!BI14="1v",I14,"-") -> - | AG73: =IF(squadre!BJ14="1v",J14,"-") -> 6.1 | ... AS73: =IF(squadre!BV14="1v",V14,"-") -> - | AV73: 12 | AW73: =IF(squadre!BC14="1p", C14, "-") -> - | AX73: =IF(squadre!BD14="1p", D14, "-") -> - | AY73: =IF(squadre!BE14="1p", E14, "-") -> - | AZ73: =IF(squadre!BF14="1p", F14, "-") -> - | BA73: =IF(squadre!BG14="1p", G14, "-") -> - | BB73: =IF(squadre!BH14="1p", H14, "-") -> - | BC73: =IF(squadre!BI14="1p", I14, "-") -> 5.8 | BD73: =IF(squadre!BJ14="1p", J14, "-") -> - | ... BP73: =IF(squadre!BV14="1p", V14, "-") -> - | BS73: 12 | BT73: =IF(squadre!BC14="1s", C14, "-") -> - | BU73: =IF(squadre!BD14="1s", D14, "-") -> 5.5 | BV73: =IF(squadre!BE14="1s", E14, "-") -> - | BW73: =IF(squadre!BF14="1s", F14, "-") -> 5.6 | BX73: =IF(squadre!BG14="1s", G14, "-") -> - | BY73: =IF(squadre!BH14="1s", H14, "-") -> - | BZ73: =IF(squadre!BI14="1s", I14, "-") -> - | CA73: =IF(squadre!BJ14="1s", J14, "-") -> - | ... CM73: =IF(squadre!BV14="1s", V14, "-") -> -
... B99: 38 | C99: =IF(squadre!C40=1, C40, "-") -> - | D99: =IF(squadre!D40=1, D40, "-") -> - | E99: =IF(squadre!E40=1, E40, "-") -> - | F99: =IF(squadre!F40=1, F40, "-") -> 5.5 | G99: =IF(squadre!G40=1, G40, "-") -> 5.5 | H99: =IF(squadre!H40=1, H40, "-") -> 6 | I99: =IF(squadre!I40=1, I40, "-") -> 5.8 | J99: =IF(squadre!J40=1, J40, "-") -> 5.9 | ... V99: =IF(squadre!V40=1, V40, "-") -> - | Y99: 38 | Z99: =IF(squadre!BC40="1v",C40,"-") -> - | AA99: =IF(squadre!BD40="1v",D40,"-") -> - | AB99: =IF(squadre!BE40="1v",E40,"-") -> - | AC99: =IF(squadre!BF40="1v",F40,"-") -> - | AD99: =IF(squadre!BG40="1v",G40,"-") -> - | AE99: =IF(squadre!BH40="1v",H40,"-") -> 6 | AF99: =IF(squadre!BI40="1v",I40,"-") -> - | AG99: =IF(squadre!BJ40="1v",J40,"-") -> 5.9 | ... AS99: =IF(squadre!BV40="1v",V40,"-") -> - | AV99: 38 | AW99: =IF(squadre!BC40="1p", C40, "-") -> - | AX99: =IF(squadre!BD40="1p", D40, "-") -> - | AY99: =IF(squadre!BE40="1p", E40, "-") -> - | AZ99: =IF(squadre!BF40="1p", F40, "-") -> - | BA99: =IF(squadre!BG40="1p", G40, "-") -> - | BB99: =IF(squadre!BH40="1p", H40, "-") -> - | BC99: =IF(squadre!BI40="1p", I40, "-") -> 5.8 | BD99: =IF(squadre!BJ40="1p", J40, "-") -> - | ... BP99: =IF(squadre!BV40="1p", V40, "-") -> - | BS99: 38 | BT99: =IF(squadre!BC40="1s", C40, "-") -> - | BU99: =IF(squadre!BD40="1s", D40, "-") -> - | BV99: =IF(squadre!BE40="1s", E40, "-") -> - | BW99: =IF(squadre!BF40="1s", F40, "-") -> 5.5 | BX99: =IF(squadre!BG40="1s", G40, "-") -> 5.5 | BY99: =IF(squadre!BH40="1s", H40, "-") -> - | BZ99: =IF(squadre!BI40="1s", I40, "-") -> - | CA99: =IF(squadre!BJ40="1s", J40, "-") -> - | ... CM99: =IF(squadre!BV40="1s", V40, "-") -> -
C101: =SUM(C62:C99)/19 -> 6.0684211 | D101: =SUM(D62:D99)/19 -> 5.9157895 | E101: =SUM(E62:E99)/19 -> 6.0368421 | F101: =SUM(F62:F99)/19 -> 6.0736842 | G101: =SUM(G62:G99)/19 -> 5.7526316 | H101: =SUM(H62:H99)/19 -> 5.9473684 | I101: =SUM(I62:I99)/19 -> 5.8421053 | J101: =SUM(J62:J99)/19 -> 6 | ... V101: =SUM(V62:V99)/19 -> 6.2421053 | Z101: =SUM(Z62:Z99)/19 -> 2.9526316 | AA101: =SUM(AA62:AA99)/19 -> 2.6052632 | AB101: =SUM(AB62:AB99)/19 -> 2.3578947 | AC101: =SUM(AC62:AC99)/19 -> 3.0210526 | AD101: =SUM(AD62:AD99)/19 -> 0.66315789 | AE101: =SUM(AE62:AE99)/19 -> 2.5789474 | AF101: =SUM(AF62:AF99)/19 -> 2.5947368 | AG101: =SUM(AG62:AG99)/19 -> 2.9789474 | ... AS101: =SUM(AS62:AS99)/19 -> 4.3473684 | AW101: =SUM(AW62:AW99)/19 -> 1.9157895 | AX101: =SUM(AX62:AX99)/19 -> 1.2736842 | AY101: =SUM(AY62:AY99)/19 -> 2.4684211 | AZ101: =SUM(AZ62:AZ99)/19 -> 1.5736842 | BA101: =SUM(BA62:BA99)/19 -> 2.1631579 | BB101: =SUM(BB62:BB99)/19 -> 1.8842105 | BC101: =SUM(BC62:BC99)/19 -> 2.1368421 | BD101: =SUM(BD62:BD99)/19 -> 1.8526316 | ... BP101: =SUM(BP62:BP99)/19 -> 1.2947368 | BT101: =SUM(BT62:BT99)/19 -> 1.2 | BU101: =SUM(BU62:BU99)/19 -> 2.0368421 | BV101: =SUM(BV62:BV99)/19 -> 1.2105263 | BW101: =SUM(BW62:BW99)/19 -> 1.4789474 | BX101: =SUM(BX62:BX99)/19 -> 2.9263158 | BY101: =SUM(BY62:BY99)/19 -> 1.4842105 | BZ101: =SUM(BZ62:BZ99)/19 -> 1.1105263 | CA101: =SUM(CA62:CA99)/19 -> 1.1684211 | ... CM101: =SUM(CM62:CM99)/19 -> 0.6
B103: C*T | C103: ATA | D103: BOL | E103: CAG | F103: CAT | G103: CES | H103: CHI | I103: FIO | J103: GEN | K103: INT | L103: JUV | M103: LAZ | N103: LEC | O103: MIL | P103: NAP | Q103: NOV | R103: PAL | S103: PAR | T103: ROM | U103: SIE | V103: UDI | Y103: C*v | Z103: ATA | AA103: BOL | AB103: CAG | AC103: CAT | AD103: CES | AE103: CHI | AF103: FIO | AG103: GEN | AH103: INT | AI103: JUV | AJ103: LAZ | AK103: LEC | AL103: MIL | AM103: NAP | AN103: NOV | AO103: PAL | AP103: PAR | AQ103: ROM | AR103: SIE | AS103: UDI | AV103: C*p | AW103: ATA | AX103: BOL | AY103: CAG | AZ103: CAT | BA103: CES | BB103: CHI | BC103: FIO | BD103: GEN | BE103: INT | BF103: JUV | BG103: LAZ | BH103: LEC | BI103: MIL | BJ103: NAP | BK103: NOV | BL103: PAL | BM103: PAR | BN103: ROM | BO103: SIE | BP103: UDI | BS103: C*s | BT103: ATA | BU103: BOL | BV103: CAG | BW103: CAT | BX103: CES | BY103: CHI | BZ103: FIO | CA103: GEN | CB103: INT | CC103: JUV | CD103: LAZ | CE103: LEC | CF103: MIL | CG103: NAP | CH103: NOV | CI103: PAL | CJ103: PAR | CK103: ROM | CL103: SIE | CM103: UDI
C104: =C112/C$117 -> 0 | D104: =D112/D$117 -> 0.052631579 | E104: =E112/E$117 -> 0 | F104: =F112/F$117 -> 0 | G104: =G112/G$117 -> 0.052631579 | H104: =H112/H$117 -> 0 | I104: =I112/I$117 -> 0.10526316 | J104: =J112/J$117 -> 0.052631579 | ... V104: =V112/V$117 -> 0 | Z104: =Z112/Z$117 -> 0 | AA104: =AA112/AA$117 -> 0 | AB104: =AB112/AB$117 -> 0 | AC104: =AC112/AC$117 -> 0 | AD104: =AD112/AD$117 -> 0 | AE104: =AE112/AE$117 -> 0 | AF104: =AF112/AF$117 -> 0 | AG104: =AG112/AG$117 -> 0 | ... AS104: =AS112/AS$117 -> 0 | AW104: =AW112/AW$117 -> 0 | AX104: =AX112/AX$117 -> 0 | AY104: =AY112/AY$117 -> 0 | AZ104: =AZ112/AZ$117 -> 0 | BA104: =BA112/BA$117 -> 0 | BB104: =BB112/BB$117 -> 0 | BC104: =BC112/BC$117 -> 0 | BD104: =BD112/BD$117 -> 0 | ... BP104: =BP112/BP$117 -> 0 | BT104: =BT112/BT$117 -> 0 | BU104: =BU112/BU$117 -> 0.14285714 | BV104: =BV112/BV$117 -> 0 | BW104: =BW112/BW$117 -> 0 | BX104: =BX112/BX$117 -> 0.1 | BY104: =BY112/BY$117 -> 0 | BZ104: =BZ112/BZ$117 -> 0.5 | CA104: =CA112/CA$117 -> 0.25 | ... CM104: =CM112/CM$117 -> 0
C105: =C113/C$117 -> 0.10526316 | D105: =D113/D$117 -> 0.31578947 | E105: =E113/E$117 -> 0.26315789 | F105: =F113/F$117 -> 0.26315789 | G105: =G113/G$117 -> 0.42105263 | H105: =H113/H$117 -> 0.21052632 | I105: =I113/I$117 -> 0.31578947 | J105: =J113/J$117 -> 0.10526316 | ... V105: =V113/V$117 -> 0.052631579 | Z105: =Z113/Z$117 -> 0 | AA105: =AA113/AA$117 -> 0 | AB105: =AB113/AB$117 -> 0 | AC105: =AC113/AC$117 -> 0 | AD105: =AD113/AD$117 -> 0 | AE105: =AE113/AE$117 -> 0 | AF105: =AF113/AF$117 -> 0.125 | AG105: =AG113/AG$117 -> 0 | ... AS105: =AS113/AS$117 -> 0 | AW105: =AW113/AW$117 -> 0 | AX105: =AX113/AX$117 -> 0.25 | AY105: =AY113/AY$117 -> 0.375 | AZ105: =AZ113/AZ$117 -> 0.2 | BA105: =BA113/BA$117 -> 0.14285714 | BB105: =BB113/BB$117 -> 0 | BC105: =BC113/BC$117 -> 0.42857143 | BD105: =BD113/BD$117 -> 0 | ... BP105: =BP113/BP$117 -> 0 | BT105: =BT113/BT$117 -> 0.5 | BU105: =BU113/BU$117 -> 0.71428571 | BV105: =BV113/BV$117 -> 0.5 | BW105: =BW113/BW$117 -> 0.8 | BX105: =BX113/BX$117 -> 0.7 | BY105: =BY113/BY$117 -> 0.8 | BZ105: =BZ113/BZ$117 -> 0.5 | CA105: =CA113/CA$117 -> 0.5 | ... CM105: =CM113/CM$117 -> 0.5
C106: =C114/C$117 -> 0.52631579 | D106: =D114/D$117 -> 0.31578947 | E106: =E114/E$117 -> 0.42105263 | F106: =F114/F$117 -> 0.21052632 | G106: =G114/G$117 -> 0.42105263 | H106: =H114/H$117 -> 0.57894737 | I106: =I114/I$117 -> 0.26315789 | J106: =J114/J$117 -> 0.63157895 | ... V106: =V114/V$117 -> 0.21052632 | Z106: =Z114/Z$117 -> 0.44444444 | AA106: =AA114/AA$117 -> 0.5 | AB106: =AB114/AB$117 -> 0.14285714 | AC106: =AC114/AC$117 -> 0.11111111 | AD106: =AD114/AD$117 -> 0 | AE106: =AE114/AE$117 -> 0.625 | AF106: =AF114/AF$117 -> 0.25 | AG106: =AG114/AG$117 -> 0.55555556 | ... AS106: =AS114/AS$117 -> 0.076923077 | AW106: =AW114/AW$117 -> 0.66666667 | AX106: =AX114/AX$117 -> 0.25 | AY106: =AY114/AY$117 -> 0.625 | AZ106: =AZ114/AZ$117 -> 0.4 | BA106: =BA114/BA$117 -> 0.85714286 | BB106: =BB114/BB$117 -> 0.83333333 | BC106: =BC114/BC$117 -> 0.42857143 | BD106: =BD114/BD$117 -> 1 | ... BP106: =BP114/BP$117 -> 0.5 | BT106: =BT114/BT$117 -> 0.5 | BU106: =BU114/BU$117 -> 0.14285714 | BV106: =BV114/BV$117 -> 0.5 | BW106: =BW114/BW$117 -> 0.2 | BX106: =BX114/BX$117 -> 0.2 | BY106: =BY114/BY$117 -> 0.2 | BZ106: =BZ114/BZ$117 -> 0 | CA106: =CA114/CA$117 -> 0.25 | ... CM106: =CM114/CM$117 -> 0.5
C107: =C115/C$117 -> 0.36842105 | D107: =D115/D$117 -> 0.26315789 | E107: =E115/E$117 -> 0.26315789 | F107: =F115/F$117 -> 0.42105263 | G107: =G115/G$117 -> 0.10526316 | H107: =H115/H$117 -> 0.21052632 | I107: =I115/I$117 -> 0.31578947 | J107: =J115/J$117 -> 0.10526316 | ... V107: =V115/V$117 -> 0.68421053 | Z107: =Z115/Z$117 -> 0.55555556 | AA107: =AA115/AA$117 -> 0.375 | AB107: =AB115/AB$117 -> 0.71428571 | AC107: =AC115/AC$117 -> 0.66666667 | AD107: =AD115/AD$117 -> 1 | AE107: =AE115/AE$117 -> 0.375 | AF107: =AF115/AF$117 -> 0.625 | AG107: =AG115/AG$117 -> 0.22222222 | ... AS107: =AS115/AS$117 -> 0.84615385 | AW107: =AW115/AW$117 -> 0.33333333 | AX107: =AX115/AX$117 -> 0.5 | AY107: =AY115/AY$117 -> 0 | AZ107: =AZ115/AZ$117 -> 0.4 | BA107: =BA115/BA$117 -> 0 | BB107: =BB115/BB$117 -> 0.16666667 | BC107: =BC115/BC$117 -> 0.14285714 | BD107: =BD115/BD$117 -> 0 | ... BP107: =BP115/BP$117 -> 0.5 | BT107: =BT115/BT$117 -> 0 | BU107: =BU115/BU$117 -> 0 | BV107: =BV115/BV$117 -> 0 | BW107: =BW115/BW$117 -> 0 | BX107: =BX115/BX$117 -> 0 | BY107: =BY115/BY$117 -> 0 | BZ107: =BZ115/BZ$117 -> 0 | CA107: =CA115/CA$117 -> 0 | ... CM107: =CM115/CM$117 -> 0
C108: =C116/C$117 -> 0 | D108: =D116/D$117 -> 0.052631579 | E108: =E116/E$117 -> 0.052631579 | F108: =F116/F$117 -> 0.10526316 | G108: =G116/G$117 -> 0 | H108: =H116/H$117 -> 0 | I108: =I116/I$117 -> 0 | J108: =J116/J$117 -> 0.10526316 | ... V108: =V116/V$117 -> 0.052631579 | Z108: =Z116/Z$117 -> 0 | AA108: =AA116/AA$117 -> 0.125 | AB108: =AB116/AB$117 -> 0.14285714 | AC108: =AC116/AC$117 -> 0.22222222 | AD108: =AD116/AD$117 -> 0 | AE108: =AE116/AE$117 -> 0 | AF108: =AF116/AF$117 -> 0 | AG108: =AG116/AG$117 -> 0.22222222 | ... AS108: =AS116/AS$117 -> 0.076923077 | AW108: =AW116/AW$117 -> 0 | AX108: =AX116/AX$117 -> 0 | AY108: =AY116/AY$117 -> 0 | AZ108: =AZ116/AZ$117 -> 0 | BA108: =BA116/BA$117 -> 0 | BB108: =BB116/BB$117 -> 0 | BC108: =BC116/BC$117 -> 0 | BD108: =BD116/BD$117 -> 0 | ... BP108: =BP116/BP$117 -> 0 | BT108: =BT116/BT$117 -> 0 | BU108: =BU116/BU$117 -> 0 | BV108: =BV116/BV$117 -> 0 | BW108: =BW116/BW$117 -> 0 | BX108: =BX116/BX$117 -> 0 | BY108: =BY116/BY$117 -> 0 | BZ108: =BZ116/BZ$117 -> 0 | CA108: =CA116/CA$117 -> 0 | ... CM108: =CM116/CM$117 -> 0
C109: =SUM(C104:C108) -> 1 | D109: =SUM(D104:D108) -> 1 | E109: =SUM(E104:E108) -> 1 | F109: =SUM(F104:F108) -> 1 | G109: =SUM(G104:G108) -> 1 | H109: =SUM(H104:H108) -> 1 | I109: =SUM(I104:I108) -> 1 | J109: =SUM(J104:J108) -> 1 | ... V109: =SUM(V104:V108) -> 1 | Z109: =SUM(Z104:Z108) -> 1 | AA109: =SUM(AA104:AA108) -> 1 | AB109: =SUM(AB104:AB108) -> 1 | AC109: =SUM(AC104:AC108) -> 1 | AD109: =SUM(AD104:AD108) -> 1 | AE109: =SUM(AE104:AE108) -> 1 | AF109: =SUM(AF104:AF108) -> 1 | AG109: =SUM(AG104:AG108) -> 1 | ... AS109: =SUM(AS104:AS108) -> 1 | AW109: =SUM(AW104:AW108) -> 1 | AX109: =SUM(AX104:AX108) -> 1 | AY109: =SUM(AY104:AY108) -> 1 | AZ109: =SUM(AZ104:AZ108) -> 1 | BA109: =SUM(BA104:BA108) -> 1 | BB109: =SUM(BB104:BB108) -> 1 | BC109: =SUM(BC104:BC108) -> 1 | BD109: =SUM(BD104:BD108) -> 1 | ... BP109: =SUM(BP104:BP108) -> 1 | BT109: =SUM(BT104:BT108) -> 1 | BU109: =SUM(BU104:BU108) -> 1 | BV109: =SUM(BV104:BV108) -> 1 | BW109: =SUM(BW104:BW108) -> 1 | BX109: =SUM(BX104:BX108) -> 1 | BY109: =SUM(BY104:BY108) -> 1 | BZ109: =SUM(BZ104:BZ108) -> 1 | CA109: =SUM(CA104:CA108) -> 1 | ... CM109: =SUM(CM104:CM108) -> 1
B111: C*T | C111: ATA | D111: BOL | E111: CAG | F111: CAT | G111: CES | H111: CHI | I111: FIO | J111: GEN | K111: INT | L111: JUV | M111: LAZ | N111: LEC | O111: MIL | P111: NAP | Q111: NOV | R111: PAL | S111: PAR | T111: ROM | U111: SIE | V111: UDI | Y111: C*v | Z111: ATA | AA111: BOL | AB111: CAG | AC111: CAT | AD111: CES | AE111: CHI | AF111: FIO | AG111: GEN | AH111: INT | AI111: JUV | AJ111: LAZ | AK111: LEC | AL111: MIL | AM111: NAP | AN111: NOV | AO111: PAL | AP111: PAR | AQ111: ROM | AR111: SIE | AS111: UDI | AV111: C*p | AW111: ATA | AX111: BOL | AY111: CAG | AZ111: CAT | BA111: CES | BB111: CHI | BC111: FIO | BD111: GEN | BE111: INT | BF111: JUV | BG111: LAZ | BH111: LEC | BI111: MIL | BJ111: NAP | BK111: NOV | BL111: PAL | BM111: PAR | BN111: ROM | BO111: SIE | BP111: UDI | BS111: C*s | BT111: ATA | BU111: BOL | BV111: CAG | BW111: CAT | BX111: CES | BY111: CHI | BZ111: FIO | CA111: GEN | CB111: INT | CC111: JUV | CD111: LAZ | CE111: LEC | CF111: MIL | CG111: NAP | CH111: NOV | CI111: PAL | CJ111: PAR | CK111: ROM | CL111: SIE | CM111: UDI
C112: =COUNTIF(C62:C99, "<=5,3") -> 0 | D112: =COUNTIF(D62:D99, "<=5,3") -> 1 | E112: =COUNTIF(E62:E99, "<=5,3") -> 0 | F112: =COUNTIF(F62:F99, "<=5,3") -> 0 | G112: =COUNTIF(G62:G99, "<=5,3") -> 1 | H112: =COUNTIF(H62:H99, "<=5,3") -> 0 | I112: =COUNTIF(I62:I99, "<=5,3") -> 2 | J112: =COUNTIF(J62:J99, "<=5,3") -> 1 | ... V112: =COUNTIF(V62:V99, "<=5,3") -> 0 | Z112: =COUNTIF(Z62:Z99, "<=5,3") -> 0 | AA112: =COUNTIF(AA62:AA99, "<=5,3") -> 0 | AB112: =COUNTIF(AB62:AB99, "<=5,3") -> 0 | AC112: =COUNTIF(AC62:AC99, "<=5,3") -> 0 | AD112: =COUNTIF(AD62:AD99, "<=5,3") -> 0 | AE112: =COUNTIF(AE62:AE99, "<=5,3") -> 0 | AF112: =COUNTIF(AF62:AF99, "<=5,3") -> 0 | AG112: =COUNTIF(AG62:AG99, "<=5,3") -> 0 | ... AS112: =COUNTIF(AS62:AS99, "<=5,3") -> 0 | AW112: =COUNTIF(AW62:AW99, "<=5,3") -> 0 | AX112: =COUNTIF(AX62:AX99, "<=5,3") -> 0 | AY112: =COUNTIF(AY62:AY99, "<=5,3") -> 0 | AZ112: =COUNTIF(AZ62:AZ99, "<=5,3") -> 0 | BA112: =COUNTIF(BA62:BA99, "<=5,3") -> 0 | BB112: =COUNTIF(BB62:BB99, "<=5,3") -> 0 | BC112: =COUNTIF(BC62:BC99, "<=5,3") -> 0 | BD112: =COUNTIF(BD62:BD99, "<=5,3") -> 0 | ... BP112: =COUNTIF(BP62:BP99, "<=5,3") -> 0 | BT112: =COUNTIF(BT62:BT99, "<=5,3") -> 0 | BU112: =COUNTIF(BU62:BU99, "<=5,3") -> 1 | BV112: =COUNTIF(BV62:BV99, "<=5,3") -> 0 | BW112: =COUNTIF(BW62:BW99, "<=5,3") -> 0 | BX112: =COUNTIF(BX62:BX99, "<=5,3") -> 1 | BY112: =COUNTIF(BY62:BY99, "<=5,3") -> 0 | BZ112: =COUNTIF(BZ62:BZ99, "<=5,3") -> 2 | CA112: =COUNTIF(CA62:CA99, "<=5,3") -> 1 | ... CM112: =COUNTIF(CM62:CM99, "<=5,3") -> 0
C113: =COUNTIFS(C62:C99, ">=5,4",C62:C99, "<=5,7") -> 2 | D113: =COUNTIFS(D62:D99, ">=5,4",D62:D99, "<=5,7") -> 6 | E113: =COUNTIFS(E62:E99, ">=5,4",E62:E99, "<=5,7") -> 5 | F113: =COUNTIFS(F62:F99, ">=5,4",F62:F99, "<=5,7") -> 5 | G113: =COUNTIFS(G62:G99, ">=5,4",G62:G99, "<=5,7") -> 8 | H113: =COUNTIFS(H62:H99, ">=5,4",H62:H99, "<=5,7") -> 4 | I113: =COUNTIFS(I62:I99, ">=5,4",I62:I99, "<=5,7") -> 6 | J113: =COUNTIFS(J62:J99, ">=5,4",J62:J99, "<=5,7") -> 2 | ... V113: =COUNTIFS(V62:V99, ">=5,4",V62:V99, "<=5,7") -> 1 | Z113: =COUNTIFS(Z62:Z99, ">=5,4",Z62:Z99, "<=5,7") -> 0 | AA113: =COUNTIFS(AA62:AA99, ">=5,4",AA62:AA99, "<=5,7") -> 0 | AB113: =COUNTIFS(AB62:AB99, ">=5,4",AB62:AB99, "<=5,7") -> 0 | AC113: =COUNTIFS(AC62:AC99, ">=5,4",AC62:AC99, "<=5,7") -> 0 | AD113: =COUNTIFS(AD62:AD99, ">=5,4",AD62:AD99, "<=5,7") -> 0 | AE113: =COUNTIFS(AE62:AE99, ">=5,4",AE62:AE99, "<=5,7") -> 0 | AF113: =COUNTIFS(AF62:AF99, ">=5,4",AF62:AF99, "<=5,7") -> 1 | AG113: =COUNTIFS(AG62:AG99, ">=5,4",AG62:AG99, "<=5,7") -> 0 | ... AS113: =COUNTIFS(AS62:AS99, ">=5,4",AS62:AS99, "<=5,7") -> 0 | AW113: =COUNTIFS(AW62:AW99, ">=5,4",AW62:AW99, "<=5,7") -> 0 | AX113: =COUNTIFS(AX62:AX99, ">=5,4",AX62:AX99, "<=5,7") -> 1 | AY113: =COUNTIFS(AY62:AY99, ">=5,4",AY62:AY99, "<=5,7") -> 3 | AZ113: =COUNTIFS(AZ62:AZ99, ">=5,4",AZ62:AZ99, "<=5,7") -> 1 | BA113: =COUNTIFS(BA62:BA99, ">=5,4",BA62:BA99, "<=5,7") -> 1 | BB113: =COUNTIFS(BB62:BB99, ">=5,4",BB62:BB99, "<=5,7") -> 0 | BC113: =COUNTIFS(BC62:BC99, ">=5,4",BC62:BC99, "<=5,7") -> 3 | BD113: =COUNTIFS(BD62:BD99, ">=5,4",BD62:BD99, "<=5,7") -> 0 | ... BP113: =COUNTIFS(BP62:BP99, ">=5,4",BP62:BP99, "<=5,7") -> 0 | BT113: =COUNTIFS(BT62:BT99, ">=5,4",BT62:BT99, "<=5,7") -> 2 | BU113: =COUNTIFS(BU62:BU99, ">=5,4",BU62:BU99, "<=5,7") -> 5 | BV113: =COUNTIFS(BV62:BV99, ">=5,4",BV62:BV99, "<=5,7") -> 2 | BW113: =COUNTIFS(BW62:BW99, ">=5,4",BW62:BW99, "<=5,7") -> 4 | BX113: =COUNTIFS(BX62:BX99, ">=5,4",BX62:BX99, "<=5,7") -> 7 | BY113: =COUNTIFS(BY62:BY99, ">=5,4",BY62:BY99, "<=5,7") -> 4 | BZ113: =COUNTIFS(BZ62:BZ99, ">=5,4",BZ62:BZ99, "<=5,7") -> 2 | CA113: =COUNTIFS(CA62:CA99, ">=5,4",CA62:CA99, "<=5,7") -> 2 | ... CM113: =COUNTIFS(CM62:CM99, ">=5,4",CM62:CM99, "<=5,7") -> 1
C114: =COUNTIFS(C62:C99, ">=5,8",C62:C99, "<=6,1") -> 10 | D114: =COUNTIFS(D62:D99, ">=5,8",D62:D99, "<=6,1") -> 6 | E114: =COUNTIFS(E62:E99, ">=5,8",E62:E99, "<=6,1") -> 8 | F114: =COUNTIFS(F62:F99, ">=5,8",F62:F99, "<=6,1") -> 4 | G114: =COUNTIFS(G62:G99, ">=5,8",G62:G99, "<=6,1") -> 8 | H114: =COUNTIFS(H62:H99, ">=5,8",H62:H99, "<=6,1") -> 11 | I114: =COUNTIFS(I62:I99, ">=5,8",I62:I99, "<=6,1") -> 5 | J114: =COUNTIFS(J62:J99, ">=5,8",J62:J99, "<=6,1") -> 12 | ... V114: =COUNTIFS(V62:V99, ">=5,8",V62:V99, "<=6,1") -> 4 | Z114: =COUNTIFS(Z62:Z99, ">=5,8",Z62:Z99, "<=6,1") -> 4 | AA114: =COUNTIFS(AA62:AA99, ">=5,8",AA62:AA99, "<=6,1") -> 4 | AB114: =COUNTIFS(AB62:AB99, ">=5,8",AB62:AB99, "<=6,1") -> 1 | AC114: =COUNTIFS(AC62:AC99, ">=5,8",AC62:AC99, "<=6,1") -> 1 | AD114: =COUNTIFS(AD62:AD99, ">=5,8",AD62:AD99, "<=6,1") -> 0 | AE114: =COUNTIFS(AE62:AE99, ">=5,8",AE62:AE99, "<=6,1") -> 5 | AF114: =COUNTIFS(AF62:AF99, ">=5,8",AF62:AF99, "<=6,1") -> 2 | AG114: =COUNTIFS(AG62:AG99, ">=5,8",AG62:AG99, "<=6,1") -> 5 | ... AS114: =COUNTIFS(AS62:AS99, ">=5,8",AS62:AS99, "<=6,1") -> 1 | AW114: =COUNTIFS(AW62:AW99, ">=5,8",AW62:AW99, "<=6,1") -> 4 | AX114: =COUNTIFS(AX62:AX99, ">=5,8",AX62:AX99, "<=6,1") -> 1 | AY114: =COUNTIFS(AY62:AY99, ">=5,8",AY62:AY99, "<=6,1") -> 5 | AZ114: =COUNTIFS(AZ62:AZ99, ">=5,8",AZ62:AZ99, "<=6,1") -> 2 | BA114: =COUNTIFS(BA62:BA99, ">=5,8",BA62:BA99, "<=6,1") -> 6 | BB114: =COUNTIFS(BB62:BB99, ">=5,8",BB62:BB99, "<=6,1") -> 5 | BC114: =COUNTIFS(BC62:BC99, ">=5,8",BC62:BC99, "<=6,1") -> 3 | BD114: =COUNTIFS(BD62:BD99, ">=5,8",BD62:BD99, "<=6,1") -> 6 | ... BP114: =COUNTIFS(BP62:BP99, ">=5,8",BP62:BP99, "<=6,1") -> 2 | BT114: =COUNTIFS(BT62:BT99, ">=5,8",BT62:BT99, "<=6,1") -> 2 | BU114: =COUNTIFS(BU62:BU99, ">=5,8",BU62:BU99, "<=6,1") -> 1 | BV114: =COUNTIFS(BV62:BV99, ">=5,8",BV62:BV99, "<=6,1") -> 2 | BW114: =COUNTIFS(BW62:BW99, ">=5,8",BW62:BW99, "<=6,1") -> 1 | BX114: =COUNTIFS(BX62:BX99, ">=5,8",BX62:BX99, "<=6,1") -> 2 | BY114: =COUNTIFS(BY62:BY99, ">=5,8",BY62:BY99, "<=6,1") -> 1 | BZ114: =COUNTIFS(BZ62:BZ99, ">=5,8",BZ62:BZ99, "<=6,1") -> 0 | CA114: =COUNTIFS(CA62:CA99, ">=5,8",CA62:CA99, "<=6,1") -> 1 | ... CM114: =COUNTIFS(CM62:CM99, ">=5,8",CM62:CM99, "<=6,1") -> 1
C115: =COUNTIFS(C62:C99, ">=6,2",C62:C99, "<=6,5") -> 7 | D115: =COUNTIFS(D62:D99, ">=6,2",D62:D99, "<=6,5") -> 5 | E115: =COUNTIFS(E62:E99, ">=6,2",E62:E99, "<=6,5") -> 5 | F115: =COUNTIFS(F62:F99, ">=6,2",F62:F99, "<=6,5") -> 8 | G115: =COUNTIFS(G62:G99, ">=6,2",G62:G99, "<=6,5") -> 2 | H115: =COUNTIFS(H62:H99, ">=6,2",H62:H99, "<=6,5") -> 4 | I115: =COUNTIFS(I62:I99, ">=6,2",I62:I99, "<=6,5") -> 6 | J115: =COUNTIFS(J62:J99, ">=6,2",J62:J99, "<=6,5") -> 2 | ... V115: =COUNTIFS(V62:V99, ">=6,2",V62:V99, "<=6,5") -> 13 | Z115: =COUNTIFS(Z62:Z99, ">=6,2",Z62:Z99, "<=6,5") -> 5 | AA115: =COUNTIFS(AA62:AA99, ">=6,2",AA62:AA99, "<=6,5") -> 3 | AB115: =COUNTIFS(AB62:AB99, ">=6,2",AB62:AB99, "<=6,5") -> 5 | AC115: =COUNTIFS(AC62:AC99, ">=6,2",AC62:AC99, "<=6,5") -> 6 | AD115: =COUNTIFS(AD62:AD99, ">=6,2",AD62:AD99, "<=6,5") -> 2 | AE115: =COUNTIFS(AE62:AE99, ">=6,2",AE62:AE99, "<=6,5") -> 3 | AF115: =COUNTIFS(AF62:AF99, ">=6,2",AF62:AF99, "<=6,5") -> 5 | AG115: =COUNTIFS(AG62:AG99, ">=6,2",AG62:AG99, "<=6,5") -> 2 | ... AS115: =COUNTIFS(AS62:AS99, ">=6,2",AS62:AS99, "<=6,5") -> 11 | AW115: =COUNTIFS(AW62:AW99, ">=6,2",AW62:AW99, "<=6,5") -> 2 | AX115: =COUNTIFS(AX62:AX99, ">=6,2",AX62:AX99, "<=6,5") -> 2 | AY115: =COUNTIFS(AY62:AY99, ">=6,2",AY62:AY99, "<=6,5") -> 0 | AZ115: =COUNTIFS(AZ62:AZ99, ">=6,2",AZ62:AZ99, "<=6,5") -> 2 | BA115: =COUNTIFS(BA62:BA99, ">=6,2",BA62:BA99, "<=6,5") -> 0 | BB115: =COUNTIFS(BB62:BB99, ">=6,2",BB62:BB99, "<=6,5") -> 1 | BC115: =COUNTIFS(BC62:BC99, ">=6,2",BC62:BC99, "<=6,5") -> 1 | BD115: =COUNTIFS(BD62:BD99, ">=6,2",BD62:BD99, "<=6,5") -> 0 | ... BP115: =COUNTIFS(BP62:BP99, ">=6,2",BP62:BP99, "<=6,5") -> 2 | BT115: =COUNTIFS(BT62:BT99, ">=6,2",BT62:BT99, "<=6,5") -> 0 | BU115: =COUNTIFS(BU62:BU99, ">=6,2",BU62:BU99, "<=6,5") -> 0 | BV115: =COUNTIFS(BV62:BV99, ">=6,2",BV62:BV99, "<=6,5") -> 0 | BW115: =COUNTIFS(BW62:BW99, ">=6,2",BW62:BW99, "<=6,5") -> 0 | BX115: =COUNTIFS(BX62:BX99, ">=6,2",BX62:BX99, "<=6,5") -> 0 | BY115: =COUNTIFS(BY62:BY99, ">=6,2",BY62:BY99, "<=6,5") -> 0 | BZ115: =COUNTIFS(BZ62:BZ99, ">=6,2",BZ62:BZ99, "<=6,5") -> 0 | CA115: =COUNTIFS(CA62:CA99, ">=6,2",CA62:CA99, "<=6,5") -> 0 | ... CM115: =COUNTIFS(CM62:CM99, ">=6,2",CM62:CM99, "<=6,5") -> 0
C116: =COUNTIF(C62:C99, ">=6,6") -> 0 | D116: =COUNTIF(D62:D99, ">=6,6") -> 1 | E116: =COUNTIF(E62:E99, ">=6,6") -> 1 | F116: =COUNTIF(F62:F99, ">=6,6") -> 2 | G116: =COUNTIF(G62:G99, ">=6,6") -> 0 | H116: =COUNTIF(H62:H99, ">=6,6") -> 0 | I116: =COUNTIF(I62:I99, ">=6,6") -> 0 | J116: =COUNTIF(J62:J99, ">=6,6") -> 2 | ... V116: =COUNTIF(V62:V99, ">=6,6") -> 1 | Z116: =COUNTIF(Z62:Z99, ">=6,6") -> 0 | AA116: =COUNTIF(AA62:AA99, ">=6,6") -> 1 | AB116: =COUNTIF(AB62:AB99, ">=6,6") -> 1 | AC116: =COUNTIF(AC62:AC99, ">=6,6") -> 2 | AD116: =COUNTIF(AD62:AD99, ">=6,6") -> 0 | AE116: =COUNTIF(AE62:AE99, ">=6,6") -> 0 | AF116: =COUNTIF(AF62:AF99, ">=6,6") -> 0 | AG116: =COUNTIF(AG62:AG99, ">=6,6") -> 2 | ... AS116: =COUNTIF(AS62:AS99, ">=6,6") -> 1 | AW116: =COUNTIF(AW62:AW99, ">=6,6") -> 0 | AX116: =COUNTIF(AX62:AX99, ">=6,6") -> 0 | AY116: =COUNTIF(AY62:AY99, ">=6,6") -> 0 | AZ116: =COUNTIF(AZ62:AZ99, ">=6,6") -> 0 | BA116: =COUNTIF(BA62:BA99, ">=6,6") -> 0 | BB116: =COUNTIF(BB62:BB99, ">=6,6") -> 0 | BC116: =COUNTIF(BC62:BC99, ">=6,6") -> 0 | BD116: =COUNTIF(BD62:BD99, ">=6,6") -> 0 | ... BP116: =COUNTIF(BP62:BP99, ">=6,6") -> 0 | BT116: =COUNTIF(BT62:BT99, ">=6,6") -> 0 | BU116: =COUNTIF(BU62:BU99, ">=6,6") -> 0 | BV116: =COUNTIF(BV62:BV99, ">=6,6") -> 0 | BW116: =COUNTIF(BW62:BW99, ">=6,6") -> 0 | BX116: =COUNTIF(BX62:BX99, ">=6,6") -> 0 | BY116: =COUNTIF(BY62:BY99, ">=6,6") -> 0 | BZ116: =COUNTIF(BZ62:BZ99, ">=6,6") -> 0 | CA116: =COUNTIF(CA62:CA99, ">=6,6") -> 0 | ... CM116: =COUNTIF(CM62:CM99, ">=6,6") -> 0
C117: =SUM(C112:C116) -> 19 | D117: =SUM(D112:D116) -> 19 | E117: =SUM(E112:E116) -> 19 | F117: =SUM(F112:F116) -> 19 | G117: =SUM(G112:G116) -> 19 | H117: =SUM(H112:H116) -> 19 | I117: =SUM(I112:I116) -> 19 | J117: =SUM(J112:J116) -> 19 | ... V117: =SUM(V112:V116) -> 19 | Z117: =SUM(Z112:Z116) -> 9 | AA117: =SUM(AA112:AA116) -> 8 | AB117: =SUM(AB112:AB116) -> 7 | AC117: =SUM(AC112:AC116) -> 9 | AD117: =SUM(AD112:AD116) -> 2 | AE117: =SUM(AE112:AE116) -> 8 | AF117: =SUM(AF112:AF116) -> 8 | AG117: =SUM(AG112:AG116) -> 9 | ... AS117: =SUM(AS112:AS116) -> 13 | AW117: =SUM(AW112:AW116) -> 6 | AX117: =SUM(AX112:AX116) -> 4 | AY117: =SUM(AY112:AY116) -> 8 | AZ117: =SUM(AZ112:AZ116) -> 5 | BA117: =SUM(BA112:BA116) -> 7 | BB117: =SUM(BB112:BB116) -> 6 | BC117: =SUM(BC112:BC116) -> 7 | BD117: =SUM(BD112:BD116) -> 6 | ... BP117: =SUM(BP112:BP116) -> 4 | BT117: =SUM(BT112:BT116) -> 4 | BU117: =SUM(BU112:BU116) -> 7 | BV117: =SUM(BV112:BV116) -> 4 | BW117: =SUM(BW112:BW116) -> 5 | BX117: =SUM(BX112:BX116) -> 10 | BY117: =SUM(BY112:BY116) -> 5 | BZ117: =SUM(BZ112:BZ116) -> 4 | CA117: =SUM(CA112:CA116) -> 4 | ... CM117: =SUM(CM112:CM116) -> 2
C118: =Z117+AW117+BT117 -> 19 | D118: =AA117+AX117+BU117 -> 19 | E118: =AB117+AY117+BV117 -> 19 | F118: =AC117+AZ117+BW117 -> 19 | G118: =AD117+BA117+BX117 -> 19 | H118: =AE117+BB117+BY117 -> 19 | I118: =AF117+BC117+BZ117 -> 19 | J118: =AG117+BD117+CA117 -> 19 | ... V118: =AS117+BP117+CM117 -> 19
B120: F*T | C120: ATA | D120: BOL | E120: CAG | F120: CAT | G120: CES | H120: CHI | I120: FIO | J120: GEN | K120: INT | L120: JUV | M120: LAZ | N120: LEC | O120: MIL | P120: NAP | Q120: NOV | R120: PAL | S120: PAR | T120: ROM | U120: SIE | V120: UDI | Y120: F*v | Z120: ATA | AA120: BOL | AB120: CAG | AC120: CAT | AD120: CES | AE120: CHI | AF120: FIO | AG120: GEN | AH120: INT | AI120: JUV | AJ120: LAZ | AK120: LEC | AL120: MIL | AM120: NAP | AN120: NOV | AO120: PAL | AP120: PAR | AQ120: ROM | AR120: SIE | AS120: UDI | AV120: F*p | AW120: ATA | AX120: BOL | AY120: CAG | AZ120: CAT | BA120: CES | BB120: CHI | BC120: FIO | BD120: GEN | BE120: INT | BF120: JUV | BG120: LAZ | BH120: LEC | BI120: MIL | BJ120: NAP | BK120: NOV | BL120: PAL | BM120: PAR | BN120: ROM | BO120: SIE | BP120: UDI | BS120: F*s | BT120: ATA | BU120: BOL | BV120: CAG | BW120: CAT | BX120: CES | BY120: CHI | BZ120: FIO | CA120: GEN | CB120: INT | CC120: JUV | CD120: LAZ | CE120: LEC | CF120: MIL | CG120: NAP | CH120: NOV | CI120: PAL | CJ120: PAR | CK120: ROM | CL120: SIE | CM120: UDI
B121: 1 | C121: =IF(squadre!C3=0, C3, "-") -> - | D121: =IF(squadre!D3=0, D3, "-") -> - | E121: =IF(squadre!E3=0, E3, "-") -> - | F121: =IF(squadre!F3=0, F3, "-") -> 5.5 | G121: =IF(squadre!G3=0, G3, "-") -> 5.5 | H121: =IF(squadre!H3=0, H3, "-") -> 6 | I121: =IF(squadre!I3=0, I3, "-") -> 5.8 | J121: =IF(squadre!J3=0, J3, "-") -> 5.9 | ... V121: =IF(squadre!V3=0, V3, "-") -> - | Y121: 1 | Z121: =IF(squadre!BC3="0v", C3, "-") -> - | AA121: =IF(squadre!BD3="0v", D3, "-") -> - | AB121: =IF(squadre!BE3="0v", E3, "-") -> - | AC121: =IF(squadre!BF3="0v", F3, "-") -> - | AD121: =IF(squadre!BG3="0v", G3, "-") -> - | AE121: =IF(squadre!BH3="0v", H3, "-") -> - | AF121: =IF(squadre!BI3="0v", I3, "-") -> - | AG121: =IF(squadre!BJ3="0v", J3, "-") -> - | ... AS121: =IF(squadre!BV3="0v", V3, "-") -> - | AV121: 1 | AW121: =IF(squadre!BC3="0p", C3, "-") -> - | AX121: =IF(squadre!BD3="0p", D3, "-") -> - | AY121: =IF(squadre!BE3="0p", E3, "-") -> - | AZ121: =IF(squadre!BF3="0p", F3, "-") -> 5.5 | BA121: =IF(squadre!BG3="0p", G3, "-") -> - | BB121: =IF(squadre!BH3="0p", H3, "-") -> 6 | BC121: =IF(squadre!BI3="0p", I3, "-") -> 5.8 | BD121: =IF(squadre!BJ3="0p", J3, "-") -> - | ... BP121: =IF(squadre!BV3="0p", V3, "-") -> - | BS121: 1 | BT121: =IF(squadre!BC3="0s", C3, "-") -> - | BU121: =IF(squadre!BD3="0s", D3, "-") -> - | BV121: =IF(squadre!BE3="0s", E3, "-") -> - | BW121: =IF(squadre!BF3="0s", F3, "-") -> - | BX121: =IF(squadre!BG3="0s", G3, "-") -> 5.5 | BY121: =IF(squadre!BH3="0s", H3, "-") -> - | BZ121: =IF(squadre!BI3="0s", I3, "-") -> - | CA121: =IF(squadre!BJ3="0s", J3, "-") -> 5.9 | ... CM121: =IF(squadre!BV3="0s", V3, "-") -> -
B122: 2 | C122: =IF(squadre!C4=0, C4, "-") -> 6.2 | D122: =IF(squadre!D4=0, D4, "-") -> 5.5 | E122: =IF(squadre!E4=0, E4, "-") -> 6.3 | F122: =IF(squadre!F4=0, F4, "-") -> - | G122: =IF(squadre!G4=0, G4, "-") -> - | H122: =IF(squadre!H4=0, H4, "-") -> - | I122: =IF(squadre!I4=0, I4, "-") -> - | J122: =IF(squadre!J4=0, J4, "-") -> - | ... V122: =IF(squadre!V4=0, V4, "-") -> 6.3 | Y122: 2 | Z122: =IF(squadre!BC4="0v", C4, "-") -> - | AA122: =IF(squadre!BD4="0v", D4, "-") -> - | AB122: =IF(squadre!BE4="0v", E4, "-") -> 6.3 | AC122: =IF(squadre!BF4="0v", F4, "-") -> - | AD122: =IF(squadre!BG4="0v", G4, "-") -> - | AE122: =IF(squadre!BH4="0v", H4, "-") -> - | AF122: =IF(squadre!BI4="0v", I4, "-") -> - | AG122: =IF(squadre!BJ4="0v", J4, "-") -> - | ... AS122: =IF(squadre!BV4="0v", V4, "-") -> 6.3 | AV122: 2 | AW122: =IF(squadre!BC4="0p", C4, "-") -> 6.2 | AX122: =IF(squadre!BD4="0p", D4, "-") -> - | AY122: =IF(squadre!BE4="0p", E4, "-") -> - | AZ122: =IF(squadre!BF4="0p", F4, "-") -> - | BA122: =IF(squadre!BG4="0p", G4, "-") -> - | BB122: =IF(squadre!BH4="0p", H4, "-") -> - | BC122: =IF(squadre!BI4="0p", I4, "-") -> - | BD122: =IF(squadre!BJ4="0p", J4, "-") -> - | ... BP122: =IF(squadre!BV4="0p", V4, "-") -> - | BS122: 2 | BT122: =IF(squadre!BC4="0s", C4, "-") -> - | BU122: =IF(squadre!BD4="0s", D4, "-") -> 5.5 | BV122: =IF(squadre!BE4="0s", E4, "-") -> - | BW122: =IF(squadre!BF4="0s", F4, "-") -> - | BX122: =IF(squadre!BG4="0s", G4, "-") -> - | BY122: =IF(squadre!BH4="0s", H4, "-") -> - | BZ122: =IF(squadre!BI4="0s", I4, "-") -> - | CA122: =IF(squadre!BJ4="0s", J4, "-") -> - | ... CM122: =IF(squadre!BV4="0s", V4, "-") -> -
B123: 3 | C123: =IF(squadre!C5=0, C5, "-") -> - | D123: =IF(squadre!D5=0, D5, "-") -> - | E123: =IF(squadre!E5=0, E5, "-") -> - | F123: =IF(squadre!F5=0, F5, "-") -> - | G123: =IF(squadre!G5=0, G5, "-") -> 5.7 | H123: =IF(squadre!H5=0, H5, "-") -> 5.9 | I123: =IF(squadre!I5=0, I5, "-") -> 5.4 | J123: =IF(squadre!J5=0, J5, "-") -> 6.1 | ... V123: =IF(squadre!V5=0, V5, "-") -> - | Y123: 3 | Z123: =IF(squadre!BC5="0v", C5, "-") -> - | AA123: =IF(squadre!BD5="0v", D5, "-") -> - | AB123: =IF(squadre!BE5="0v", E5, "-") -> - | AC123: =IF(squadre!BF5="0v", F5, "-") -> - | AD123: =IF(squadre!BG5="0v", G5, "-") -> - | AE123: =IF(squadre!BH5="0v", H5, "-") -> - | AF123: =IF(squadre!BI5="0v", I5, "-") -> - | AG123: =IF(squadre!BJ5="0v", J5, "-") -> 6.1 | ... AS123: =IF(squadre!BV5="0v", V5, "-") -> - | AV123: 3 | AW123: =IF(squadre!BC5="0p", C5, "-") -> - | AX123: =IF(squadre!BD5="0p", D5, "-") -> - | AY123: =IF(squadre!BE5="0p", E5, "-") -> - | AZ123: =IF(squadre!BF5="0p", F5, "-") -> - | BA123: =IF(squadre!BG5="0p", G5, "-") -> - | BB123: =IF(squadre!BH5="0p", H5, "-") -> - | BC123: =IF(squadre!BI5="0p", I5, "-") -> - | BD123: =IF(squadre!BJ5="0p", J5, "-") -> - | ... BP123: =IF(squadre!BV5="0p", V5, "-") -> - | BS123: 3 | BT123: =IF(squadre!BC5="0s", C5, "-") -> - | BU123: =IF(squadre!BD5="0s", D5, "-") -> - | BV123: =IF(squadre!BE5="0s", E5, "-") -> - | BW123: =IF(squadre!BF5="0s", F5, "-") -> - | BX123: =IF(squadre!BG5="0s", G5, "-") -> 5.7 | BY123: =IF(squadre!BH5="0s", H5, "-") -> 5.9 | BZ123: =IF(squadre!BI5="0s", I5, "-") -> 5.4 | CA123: =IF(squadre!BJ5="0s", J5, "-") -> - | ... CM123: =IF(squadre!BV5="0s", V5, "-") -> -
B124: 4 | C124: =IF(squadre!C6=0, C6, "-") -> 6.2 | D124: =IF(squadre!D6=0, D6, "-") -> 6.1 | E124: =IF(squadre!E6=0, E6, "-") -> 5.4 | F124: =IF(squadre!F6=0, F6, "-") -> 5.4 | G124: =IF(squadre!G6=0, G6, "-") -> - | H124: =IF(squadre!H6=0, H6, "-") -> - | I124: =IF(squadre!I6=0, I6, "-") -> - | J124: =IF(squadre!J6=0, J6, "-") -> - | ... V124: =IF(squadre!V6=0, V6, "-") -> 6.2 | Y124: 4 | Z124: =IF(squadre!BC6="0v", C6, "-") -> 6.2 | AA124: =IF(squadre!BD6="0v", D6, "-") -> - | AB124: =IF(squadre!BE6="0v", E6, "-") -> - | AC124: =IF(squadre!BF6="0v", F6, "-") -> - | AD124: =IF(squadre!BG6="0v", G6, "-") -> - | AE124: =IF(squadre!BH6="0v", H6, "-") -> - | AF124: =IF(squadre!BI6="0v", I6, "-") -> - | AG124: =IF(squadre!BJ6="0v", J6, "-") -> - | ... AS124: =IF(squadre!BV6="0v", V6, "-") -> - | AV124: 4 | AW124: =IF(squadre!BC6="0p", C6, "-") -> - | AX124: =IF(squadre!BD6="0p", D6, "-") -> 6.1 | AY124: =IF(squadre!BE6="0p", E6, "-") -> - | AZ124: =IF(squadre!BF6="0p", F6, "-") -> - | BA124: =IF(squadre!BG6="0p", G6, "-") -> - | BB124: =IF(squadre!BH6="0p", H6, "-") -> - | BC124: =IF(squadre!BI6="0p", I6, "-") -> - | BD124: =IF(squadre!BJ6="0p", J6, "-") -> - | ... BP124: =IF(squadre!BV6="0p", V6, "-") -> 6.2 | BS124: 4 | BT124: =IF(squadre!BC6="0s", C6, "-") -> - | BU124: =IF(squadre!BD6="0s", D6, "-") -> - | BV124: =IF(squadre!BE6="0s", E6, "-") -> 5.4 | BW124: =IF(squadre!BF6="0s", F6, "-") -> 5.4 | BX124: =IF(squadre!BG6="0s", G6, "-") -> - | BY124: =IF(squadre!BH6="0s", H6, "-") -> - | BZ124: =IF(squadre!BI6="0s", I6, "-") -> - | CA124: =IF(squadre!BJ6="0s", J6, "-") -> - | ... CM124: =IF(squadre!BV6="0s", V6, "-") -> -
B125: 5 | C125: =IF(squadre!C7=0, C7, "-") -> - | D125: =IF(squadre!D7=0, D7, "-") -> - | E125: =IF(squadre!E7=0, E7, "-") -> - | F125: =IF(squadre!F7=0, F7, "-") -> - | G125: =IF(squadre!G7=0, G7, "-") -> 5.7 | H125: =IF(squadre!H7=0, H7, "-") -> - | I125: =IF(squadre!I7=0, I7, "-") -> 6.2 | J125: =IF(squadre!J7=0, J7, "-") -> 5.8 | ... V125: =IF(squadre!V7=0, V7, "-") -> 5.9 | Y125: 5 | Z125: =IF(squadre!BC7="0v", C7, "-") -> - | AA125: =IF(squadre!BD7="0v", D7, "-") -> - | AB125: =IF(squadre!BE7="0v", E7, "-") -> - | AC125: =IF(squadre!BF7="0v", F7, "-") -> - | AD125: =IF(squadre!BG7="0v", G7, "-") -> - | AE125: =IF(squadre!BH7="0v", H7, "-") -> - | AF125: =IF(squadre!BI7="0v", I7, "-") -> - | AG125: =IF(squadre!BJ7="0v", J7, "-") -> - | ... AS125: =IF(squadre!BV7="0v", V7, "-") -> - | AV125: 5 | AW125: =IF(squadre!BC7="0p", C7, "-") -> - | AX125: =IF(squadre!BD7="0p", D7, "-") -> - | AY125: =IF(squadre!BE7="0p", E7, "-") -> - | AZ125: =IF(squadre!BF7="0p", F7, "-") -> - | BA125: =IF(squadre!BG7="0p", G7, "-") -> - | BB125: =IF(squadre!BH7="0p", H7, "-") -> - | BC125: =IF(squadre!BI7="0p", I7, "-") -> 6.2 | BD125: =IF(squadre!BJ7="0p", J7, "-") -> - | ... BP125: =IF(squadre!BV7="0p", V7, "-") -> 5.9 | BS125: 5 | BT125: =IF(squadre!BC7="0s", C7, "-") -> - | BU125: =IF(squadre!BD7="0s", D7, "-") -> - | BV125: =IF(squadre!BE7="0s", E7, "-") -> - | BW125: =IF(squadre!BF7="0s", F7, "-") -> - | BX125: =IF(squadre!BG7="0s", G7, "-") -> 5.7 | BY125: =IF(squadre!BH7="0s", H7, "-") -> - | BZ125: =IF(squadre!BI7="0s", I7, "-") -> - | CA125: =IF(squadre!BJ7="0s", J7, "-") -> 5.8 | ... CM125: =IF(squadre!BV7="0s", V7, "-") -> -
B126: 6 | C126: =IF(squadre!C8=0, C8, "-") -> 5.8 | D126: =IF(squadre!D8=0, D8, "-") -> 5.4 | E126: =IF(squadre!E8=0, E8, "-") -> 6.7 | F126: =IF(squadre!F8=0, F8, "-") -> 6.1 | G126: =IF(squadre!G8=0, G8, "-") -> - | H126: =IF(squadre!H8=0, H8, "-") -> 5.8 | I126: =IF(squadre!I8=0, I8, "-") -> - | J126: =IF(squadre!J8=0, J8, "-") -> 5.3 | ... V126: =IF(squadre!V8=0, V8, "-") -> - | Y126: 6 | Z126: =IF(squadre!BC8="0v", C8, "-") -> - | AA126: =IF(squadre!BD8="0v", D8, "-") -> - | AB126: =IF(squadre!BE8="0v", E8, "-") -> 6.7 | AC126: =IF(squadre!BF8="0v", F8, "-") -> - | AD126: =IF(squadre!BG8="0v", G8, "-") -> - | AE126: =IF(squadre!BH8="0v", H8, "-") -> - | AF126: =IF(squadre!BI8="0v", I8, "-") -> - | AG126: =IF(squadre!BJ8="0v", J8, "-") -> - | ... AS126: =IF(squadre!BV8="0v", V8, "-") -> - | AV126: 6 | AW126: =IF(squadre!BC8="0p", C8, "-") -> - | AX126: =IF(squadre!BD8="0p", D8, "-") -> - | AY126: =IF(squadre!BE8="0p", E8, "-") -> - | AZ126: =IF(squadre!BF8="0p", F8, "-") -> 6.1 | BA126: =IF(squadre!BG8="0p", G8, "-") -> - | BB126: =IF(squadre!BH8="0p", H8, "-") -> 5.8 | BC126: =IF(squadre!BI8="0p", I8, "-") -> - | BD126: =IF(squadre!BJ8="0p", J8, "-") -> - | ... BP126: =IF(squadre!BV8="0p", V8, "-") -> - | BS126: 6 | BT126: =IF(squadre!BC8="0s", C8, "-") -> 5.8 | BU126: =IF(squadre!BD8="0s", D8, "-") -> 5.4 | BV126: =IF(squadre!BE8="0s", E8, "-") -> - | BW126: =IF(squadre!BF8="0s", F8, "-") -> - | BX126: =IF(squadre!BG8="0s", G8, "-") -> - | BY126: =IF(squadre!BH8="0s", H8, "-") -> - | BZ126: =IF(squadre!BI8="0s", I8, "-") -> - | CA126: =IF(squadre!BJ8="0s", J8, "-") -> 5.3 | ... CM126: =IF(squadre!BV8="0s", V8, "-") -> -
B127: 7 | C127: =IF(squadre!C9=0, C9, "-") -> - | D127: =IF(squadre!D9=0, D9, "-") -> 6 | E127: =IF(squadre!E9=0, E9, "-") -> - | F127: =IF(squadre!F9=0, F9, "-") -> - | G127: =IF(squadre!G9=0, G9, "-") -> - | H127: =IF(squadre!H9=0, H9, "-") -> - | I127: =IF(squadre!I9=0, I9, "-") -> 5.8 | J127: =IF(squadre!J9=0, J9, "-") -> - | ... V127: =IF(squadre!V9=0, V9, "-") -> 5.9 | Y127: 7 | Z127: =IF(squadre!BC9="0v", C9, "-") -> - | AA127: =IF(squadre!BD9="0v", D9, "-") -> 6 | AB127: =IF(squadre!BE9="0v", E9, "-") -> - | AC127: =IF(squadre!BF9="0v", F9, "-") -> - | AD127: =IF(squadre!BG9="0v", G9, "-") -> - | AE127: =IF(squadre!BH9="0v", H9, "-") -> - | AF127: =IF(squadre!BI9="0v", I9, "-") -> - | AG127: =IF(squadre!BJ9="0v", J9, "-") -> - | ... AS127: =IF(squadre!BV9="0v", V9, "-") -> - | AV127: 7 | AW127: =IF(squadre!BC9="0p", C9, "-") -> - | AX127: =IF(squadre!BD9="0p", D9, "-") -> - | AY127: =IF(squadre!BE9="0p", E9, "-") -> - | AZ127: =IF(squadre!BF9="0p", F9, "-") -> - | BA127: =IF(squadre!BG9="0p", G9, "-") -> - | BB127: =IF(squadre!BH9="0p", H9, "-") -> - | BC127: =IF(squadre!BI9="0p", I9, "-") -> 5.8 | BD127: =IF(squadre!BJ9="0p", J9, "-") -> - | ... BP127: =IF(squadre!BV9="0p", V9, "-") -> 5.9 | BS127: 7 | BT127: =IF(squadre!BC9="0s", C9, "-") -> - | BU127: =IF(squadre!BD9="0s", D9, "-") -> - | BV127: =IF(squadre!BE9="0s", E9, "-") -> - | BW127: =IF(squadre!BF9="0s", F9, "-") -> - | BX127: =IF(squadre!BG9="0s", G9, "-") -> - | BY127: =IF(squadre!BH9="0s", H9, "-") -> - | BZ127: =IF(squadre!BI9="0s", I9, "-") -> - | CA127: =IF(squadre!BJ9="0s", J9, "-") -> - | ... CM127: =IF(squadre!BV9="0s", V9, "-") -> -
B128: 8 | C128: =IF(squadre!C10=0, C10, "-") -> 6.3 | D128: =IF(squadre!D10=0, D10, "-") -> - | E128: =IF(squadre!E10=0, E10, "-") -> - | F128: =IF(squadre!F10=0, F10, "-") -> 6 | G128: =IF(squadre!G10=0, G10, "-") -> 5.4 | H128: =IF(squadre!H10=0, H10, "-") -> 5.7 | I128: =IF(squadre!I10=0, I10, "-") -> - | J128: =IF(squadre!J10=0, J10, "-") -> 6.4 | ... V128: =IF(squadre!V10=0, V10, "-") -> - | Y128: 8 | Z128: =IF(squadre!BC10="0v", C10, "-") -> 6.3 | AA128: =IF(squadre!BD10="0v", D10, "-") -> - | AB128: =IF(squadre!BE10="0v", E10, "-") -> - | AC128: =IF(squadre!BF10="0v", F10, "-") -> - | AD128: =IF(squadre!BG10="0v", G10, "-") -> - | AE128: =IF(squadre!BH10="0v", H10, "-") -> - | AF128: =IF(squadre!BI10="0v", I10, "-") -> - | AG128: =IF(squadre!BJ10="0v", J10, "-") -> - | ... AS128: =IF(squadre!BV10="0v", V10, "-") -> - | AV128: 8 | AW128: =IF(squadre!BC10="0p", C10, "-") -> - | AX128: =IF(squadre!BD10="0p", D10, "-") -> - | AY128: =IF(squadre!BE10="0p", E10, "-") -> - | AZ128: =IF(squadre!BF10="0p", F10, "-") -> 6 | BA128: =IF(squadre!BG10="0p", G10, "-") -> - | BB128: =IF(squadre!BH10="0p", H10, "-") -> - | BC128: =IF(squadre!BI10="0p", I10, "-") -> - | BD128: =IF(squadre!BJ10="0p", J10, "-") -> 6.4 | ... BP128: =IF(squadre!BV10="0p", V10, "-") -> - | BS128: 8 | BT128: =IF(squadre!BC10="0s", C10, "-") -> - | BU128: =IF(squadre!BD10="0s", D10, "-") -> - | BV128: =IF(squadre!BE10="0s", E10, "-") -> - | BW128: =IF(squadre!BF10="0s", F10, "-") -> - | BX128: =IF(squadre!BG10="0s", G10, "-") -> 5.4 | BY128: =IF(squadre!BH10="0s", H10, "-") -> 5.7 | BZ128: =IF(squadre!BI10="0s", I10, "-") -> - | CA128: =IF(squadre!BJ10="0s", J10, "-") -> - | ... CM128: =IF(squadre!BV10="0s", V10, "-") -> -
B129: 9 | C129: =IF(squadre!C11=0, C11, "-") -> - | D129: =IF(squadre!D11=0, D11, "-") -> 5.9 | E129: =IF(squadre!E11=0, E11, "-") -> 5.7 | F129: =IF(squadre!F11=0, F11, "-") -> 6.1 | G129: =IF(squadre!G11=0, G11, "-") -> - | H129: =IF(squadre!H11=0, H11, "-") -> - | I129: =IF(squadre!I11=0, I11, "-") -> 5.5 | J129: =IF(squadre!J11=0, J11, "-") -> - | ... V129: =IF(squadre!V11=0, V11, "-") -> 5.4 | Y129: 9 | Z129: =IF(squadre!BC11="0v", C11, "-") -> - | AA129: =IF(squadre!BD11="0v", D11, "-") -> 5.9 | AB129: =IF(squadre!BE11="0v", E11, "-") -> - | AC129: =IF(squadre!BF11="0v", F11, "-") -> - | AD129: =IF(squadre!BG11="0v", G11, "-") -> - | AE129: =IF(squadre!BH11="0v", H11, "-") -> - | AF129: =IF(squadre!BI11="0v", I11, "-") -> - | AG129: =IF(squadre!BJ11="0v", J11, "-") -> - | ... AS129: =IF(squadre!BV11="0v", V11, "-") -> - | AV129: 9 | AW129: =IF(squadre!BC11="0p", C11, "-") -> - | AX129: =IF(squadre!BD11="0p", D11, "-") -> - | AY129: =IF(squadre!BE11="0p", E11, "-") -> 5.7 | AZ129: =IF(squadre!BF11="0p", F11, "-") -> 6.1 | BA129: =IF(squadre!BG11="0p", G11, "-") -> - | BB129: =IF(squadre!BH11="0p", H11, "-") -> - | BC129: =IF(squadre!BI11="0p", I11, "-") -> - | BD129: =IF(squadre!BJ11="0p", J11, "-") -> - | ... BP129: =IF(squadre!BV11="0p", V11, "-") -> - | BS129: 9 | BT129: =IF(squadre!BC11="0s", C11, "-") -> - | BU129: =IF(squadre!BD11="0s", D11, "-") -> - | BV129: =IF(squadre!BE11="0s", E11, "-") -> - | BW129: =IF(squadre!BF11="0s", F11, "-") -> - | BX129: =IF(squadre!BG11="0s", G11, "-") -> - | BY129: =IF(squadre!BH11="0s", H11, "-") -> - | BZ129: =IF(squadre!BI11="0s", I11, "-") -> 5.5 | CA129: =IF(squadre!BJ11="0s", J11, "-") -> - | ... CM129: =IF(squadre!BV11="0s", V11, "-") -> 5.4
B130: 10 | C130: =IF(squadre!C12=0, C12, "-") -> 5.9 | D130: =IF(squadre!D12=0, D12, "-") -> - | E130: =IF(squadre!E12=0, E12, "-") -> - | F130: =IF(squadre!F12=0, F12, "-") -> - | G130: =IF(squadre!G12=0, G12, "-") -> 5.2 | H130: =IF(squadre!H12=0, H12, "-") -> 5.2 | I130: =IF(squadre!I12=0, I12, "-") -> - | J130: =IF(squadre!J12=0, J12, "-") -> 5.7 | ... V130: =IF(squadre!V12=0, V12, "-") -> - | Y130: 10 | Z130: =IF(squadre!BC12="0v", C12, "-") -> - | AA130: =IF(squadre!BD12="0v", D12, "-") -> - | AB130: =IF(squadre!BE12="0v", E12, "-") -> - | AC130: =IF(squadre!BF12="0v", F12, "-") -> - | AD130: =IF(squadre!BG12="0v", G12, "-") -> - | AE130: =IF(squadre!BH12="0v", H12, "-") -> - | AF130: =IF(squadre!BI12="0v", I12, "-") -> - | AG130: =IF(squadre!BJ12="0v", J12, "-") -> - | ... AS130: =IF(squadre!BV12="0v", V12, "-") -> - | AV130: 10 | AW130: =IF(squadre!BC12="0p", C12, "-") -> - | AX130: =IF(squadre!BD12="0p", D12, "-") -> - | AY130: =IF(squadre!BE12="0p", E12, "-") -> - | AZ130: =IF(squadre!BF12="0p", F12, "-") -> - | BA130: =IF(squadre!BG12="0p", G12, "-") -> - | BB130: =IF(squadre!BH12="0p", H12, "-") -> - | BC130: =IF(squadre!BI12="0p", I12, "-") -> - | BD130: =IF(squadre!BJ12="0p", J12, "-") -> - | ... BP130: =IF(squadre!BV12="0p", V12, "-") -> - | BS130: 10 | BT130: =IF(squadre!BC12="0s", C12, "-") -> 5.9 | BU130: =IF(squadre!BD12="0s", D12, "-") -> - | BV130: =IF(squadre!BE12="0s", E12, "-") -> - | BW130: =IF(squadre!BF12="0s", F12, "-") -> - | BX130: =IF(squadre!BG12="0s", G12, "-") -> 5.2 | BY130: =IF(squadre!BH12="0s", H12, "-") -> 5.2 | BZ130: =IF(squadre!BI12="0s", I12, "-") -> - | CA130: =IF(squadre!BJ12="0s", J12, "-") -> 5.7 | ... CM130: =IF(squadre!BV12="0s", V12, "-") -> -
B131: 11 | C131: =IF(squadre!C13=0, C13, "-") -> - | D131: =IF(squadre!D13=0, D13, "-") -> 5.5 | E131: =IF(squadre!E13=0, E13, "-") -> 5.5 | F131: =IF(squadre!F13=0, F13, "-") -> 5.3 | G131: =IF(squadre!G13=0, G13, "-") -> - | H131: =IF(squadre!H13=0, H13, "-") -> - | I131: =IF(squadre!I13=0, I13, "-") -> 5.4 | J131: =IF(squadre!J13=0, J13, "-") -> - | ... V131: =IF(squadre!V13=0, V13, "-") -> - | Y131: 11 | Z131: =IF(squadre!BC13="0v", C13, "-") -> - | AA131: =IF(squadre!BD13="0v", D13, "-") -> - | AB131: =IF(squadre!BE13="0v", E13, "-") -> - | AC131: =IF(squadre!BF13="0v", F13, "-") -> - | AD131: =IF(squadre!BG13="0v", G13, "-") -> - | AE131: =IF(squadre!BH13="0v", H13, "-") -> - | AF131: =IF(squadre!BI13="0v", I13, "-") -> - | AG131: =IF(squadre!BJ13="0v", J13, "-") -> - | ... AS131: =IF(squadre!BV13="0v", V13, "-") -> - | AV131: 11 | AW131: =IF(squadre!BC13="0p", C13, "-") -> - | AX131: =IF(squadre!BD13="0p", D13, "-") -> - | AY131: =IF(squadre!BE13="0p", E13, "-") -> - | AZ131: =IF(squadre!BF13="0p", F13, "-") -> - | BA131: =IF(squadre!BG13="0p", G13, "-") -> - | BB131: =IF(squadre!BH13="0p", H13, "-") -> - | BC131: =IF(squadre!BI13="0p", I13, "-") -> - | BD131: =IF(squadre!BJ13="0p", J13, "-") -> - | ... BP131: =IF(squadre!BV13="0p", V13, "-") -> - | BS131: 11 | BT131: =IF(squadre!BC13="0s", C13, "-") -> - | BU131: =IF(squadre!BD13="0s", D13, "-") -> 5.5 | BV131: =IF(squadre!BE13="0s", E13, "-") -> 5.5 | BW131: =IF(squadre!BF13="0s", F13, "-") -> 5.3 | BX131: =IF(squadre!BG13="0s", G13, "-") -> - | BY131: =IF(squadre!BH13="0s", H13, "-") -> - | BZ131: =IF(squadre!BI13="0s", I13, "-") -> 5.4 | CA131: =IF(squadre!BJ13="0s", J13, "-") -> - | ... CM131: =IF(squadre!BV13="0s", V13, "-") -> -
B132: 12 | C132: =IF(squadre!C14=0, C14, "-") -> 6.3 | D132: =IF(squadre!D14=0, D14, "-") -> - | E132: =IF(squadre!E14=0, E14, "-") -> 5.7 | F132: =IF(squadre!F14=0, F14, "-") -> - | G132: =IF(squadre!G14=0, G14, "-") -> 6.1 | H132: =IF(squadre!H14=0, H14, "-") -> 6.2 | I132: =IF(squadre!I14=0, I14, "-") -> - | J132: =IF(squadre!J14=0, J14, "-") -> - | ... V132: =IF(squadre!V14=0, V14, "-") -> 5.4 | Y132: 12 | Z132: =IF(squadre!BC14="0v", C14, "-") -> - | AA132: =IF(squadre!BD14="0v", D14, "-") -> - | AB132: =IF(squadre!BE14="0v", E14, "-") -> - | AC132: =IF(squadre!BF14="0v", F14, "-") -> - | AD132: =IF(squadre!BG14="0v", G14, "-") -> 6.1 | AE132: =IF(squadre!BH14="0v", H14, "-") -> 6.2 | AF132: =IF(squadre!BI14="0v", I14, "-") -> - | AG132: =IF(squadre!BJ14="0v", J14, "-") -> - | ... AS132: =IF(squadre!BV14="0v", V14, "-") -> - | AV132: 12 | AW132: =IF(squadre!BC14="0p", C14, "-") -> 6.3 | AX132: =IF(squadre!BD14="0p", D14, "-") -> - | AY132: =IF(squadre!BE14="0p", E14, "-") -> - | AZ132: =IF(squadre!BF14="0p", F14, "-") -> - | BA132: =IF(squadre!BG14="0p", G14, "-") -> - | BB132: =IF(squadre!BH14="0p", H14, "-") -> - | BC132: =IF(squadre!BI14="0p", I14, "-") -> - | BD132: =IF(squadre!BJ14="0p", J14, "-") -> - | ... BP132: =IF(squadre!BV14="0p", V14, "-") -> - | BS132: 12 | BT132: =IF(squadre!BC14="0s", C14, "-") -> - | BU132: =IF(squadre!BD14="0s", D14, "-") -> - | BV132: =IF(squadre!BE14="0s", E14, "-") -> 5.7 | BW132: =IF(squadre!BF14="0s", F14, "-") -> - | BX132: =IF(squadre!BG14="0s", G14, "-") -> - | BY132: =IF(squadre!BH14="0s", H14, "-") -> - | BZ132: =IF(squadre!BI14="0s", I14, "-") -> - | CA132: =IF(squadre!BJ14="0s", J14, "-") -> - | ... CM132: =IF(squadre!BV14="0s", V14, "-") -> 5.4
... B158: 38 | C158: =IF(squadre!C40=0, C40, "-") -> 5.9 | D158: =IF(squadre!D40=0, D40, "-") -> 5.7 | E158: =IF(squadre!E40=0, E40, "-") -> 6 | F158: =IF(squadre!F40=0, F40, "-") -> - | G158: =IF(squadre!G40=0, G40, "-") -> - | H158: =IF(squadre!H40=0, H40, "-") -> - | I158: =IF(squadre!I40=0, I40, "-") -> - | J158: =IF(squadre!J40=0, J40, "-") -> - | ... V158: =IF(squadre!V40=0, V40, "-") -> 6.5 | Y158: 38 | Z158: =IF(squadre!BC40="0v", C40, "-") -> - | AA158: =IF(squadre!BD40="0v", D40, "-") -> - | AB158: =IF(squadre!BE40="0v", E40, "-") -> - | AC158: =IF(squadre!BF40="0v", F40, "-") -> - | AD158: =IF(squadre!BG40="0v", G40, "-") -> - | AE158: =IF(squadre!BH40="0v", H40, "-") -> - | AF158: =IF(squadre!BI40="0v", I40, "-") -> - | AG158: =IF(squadre!BJ40="0v", J40, "-") -> - | ... AS158: =IF(squadre!BV40="0v", V40, "-") -> 6.5 | AV158: 38 | AW158: =IF(squadre!BC40="0p", C40, "-") -> - | AX158: =IF(squadre!BD40="0p", D40, "-") -> - | AY158: =IF(squadre!BE40="0p", E40, "-") -> 6 | AZ158: =IF(squadre!BF40="0p", F40, "-") -> - | BA158: =IF(squadre!BG40="0p", G40, "-") -> - | BB158: =IF(squadre!BH40="0p", H40, "-") -> - | BC158: =IF(squadre!BI40="0p", I40, "-") -> - | BD158: =IF(squadre!BJ40="0p", J40, "-") -> - | ... BP158: =IF(squadre!BV40="0p", V40, "-") -> - | BS158: 38 | BT158: =IF(squadre!BC40="0s", C40, "-") -> 5.9 | BU158: =IF(squadre!BD40="0s", D40, "-") -> 5.7 | BV158: =IF(squadre!BE40="0s", E40, "-") -> - | BW158: =IF(squadre!BF40="0s", F40, "-") -> - | BX158: =IF(squadre!BG40="0s", G40, "-") -> - | BY158: =IF(squadre!BH40="0s", H40, "-") -> - | BZ158: =IF(squadre!BI40="0s", I40, "-") -> - | CA158: =IF(squadre!BJ40="0s", J40, "-") -> - | ... CM158: =IF(squadre!BV40="0s", V40, "-") -> -
C160: =SUM(C121:C158)/19 -> 5.9947368 | D160: =SUM(D121:D158)/19 -> 5.8947368 | E160: =SUM(E121:E158)/19 -> 5.7421053 | F160: =SUM(F121:F158)/19 -> 5.8421053 | G160: =SUM(G121:G158)/19 -> 5.6157895 | H160: =SUM(H121:H158)/19 -> 5.8842105 | I160: =SUM(I121:I158)/19 -> 5.8157895 | J160: =SUM(J121:J158)/19 -> 5.7631579 | ... V160: =SUM(V121:V158)/19 -> 5.9894737 | Z160: =SUM(Z121:Z158)/19 -> 1.3263158 | AA160: =SUM(AA121:AA158)/19 -> 1.6368421 | AB160: =SUM(AB121:AB158)/19 -> 1.0105263 | AC160: =SUM(AC121:AC158)/19 -> 0.66315789 | AD160: =SUM(AD121:AD158)/19 -> 0.65263158 | AE160: =SUM(AE121:AE158)/19 -> 1.3315789 | AF160: =SUM(AF121:AF158)/19 -> 1.0105263 | AG160: =SUM(AG121:AG158)/19 -> 0.66315789 | ... AS160: =SUM(AS121:AS158)/19 -> 1.6789474 | AW160: =SUM(AW121:AW158)/19 -> 2.2421053 | AX160: =SUM(AX121:AX158)/19 -> 2.5 | AY160: =SUM(AY121:AY158)/19 -> 1.5473684 | AZ160: =SUM(AZ121:AZ158)/19 -> 3.1421053 | BA160: =SUM(BA121:BA158)/19 -> 0.94736842 | BB160: =SUM(BB121:BB158)/19 -> 2.1894737 | BC160: =SUM(BC121:BC158)/19 -> 1.8631579 | BD160: =SUM(BD121:BD158)/19 -> 0.97368421 | ... BP160: =SUM(BP121:BP158)/19 -> 1.9 | BT160: =SUM(BT121:BT158)/19 -> 2.4263158 | BU160: =SUM(BU121:BU158)/19 -> 1.7578947 | BV160: =SUM(BV121:BV158)/19 -> 3.1842105 | BW160: =SUM(BW121:BW158)/19 -> 2.0368421 | BX160: =SUM(BX121:BX158)/19 -> 4.0157895 | BY160: =SUM(BY121:BY158)/19 -> 2.3631579 | BZ160: =SUM(BZ121:BZ158)/19 -> 2.9421053 | CA160: =SUM(CA121:CA158)/19 -> 4.1263158 | ... CM160: =SUM(CM121:CM158)/19 -> 2.4105263
B162: F*T | C162: ATA | D162: BOL | E162: CAG | F162: CAT | G162: CES | H162: CHI | I162: FIO | J162: GEN | K162: INT | L162: JUV | M162: LAZ | N162: LEC | O162: MIL | P162: NAP | Q162: NOV | R162: PAL | S162: PAR | T162: ROM | U162: SIE | V162: UDI | Y162: F*v | Z162: ATA | AA162: BOL | AB162: CAG | AC162: CAT | AD162: CES | AE162: CHI | AF162: FIO | AG162: GEN | AH162: INT | AI162: JUV | AJ162: LAZ | AK162: LEC | AL162: MIL | AM162: NAP | AN162: NOV | AO162: PAL | AP162: PAR | AQ162: ROM | AR162: SIE | AS162: UDI | AV162: F*p | AW162: ATA | AX162: BOL | AY162: CAG | AZ162: CAT | BA162: CES | BB162: CHI | BC162: FIO | BD162: GEN | BE162: INT | BF162: JUV | BG162: LAZ | BH162: LEC | BI162: MIL | BJ162: NAP | BK162: NOV | BL162: PAL | BM162: PAR | BN162: ROM | BO162: SIE | BP162: UDI | BS162: F*s | BT162: ATA | BU162: BOL | BV162: CAG | BW162: CAT | BX162: CES | BY162: CHI | BZ162: FIO | CA162: GEN | CB162: INT | CC162: JUV | CD162: LAZ | CE162: LEC | CF162: MIL | CG162: NAP | CH162: NOV | CI162: PAL | CJ162: PAR | CK162: ROM | CL162: SIE | CM162: UDI
C163: =C171/C$117 -> 0 | D163: =D171/D$117 -> 0 | E163: =E171/E$117 -> 0.10526316 | F163: =F171/F$117 -> 0.052631579 | G163: =G171/G$117 -> 0.26315789 | H163: =H171/H$117 -> 0.15789474 | I163: =I171/I$117 -> 0 | J163: =J171/J$117 -> 0.15789474 | ... V163: =V171/V$117 -> 0 | Z163: =Z171/Z$117 -> 0 | AA163: =AA171/AA$117 -> 0 | AB163: =AB171/AB$117 -> 0 | AC163: =AC171/AC$117 -> 0 | AD163: =AD171/AD$117 -> 0 | AE163: =AE171/AE$117 -> 0 | AF163: =AF171/AF$117 -> 0 | AG163: =AG171/AG$117 -> 0 | ... AS163: =AS171/AS$117 -> 0 | AW163: =AW171/AW$117 -> 0 | AX163: =AX171/AX$117 -> 0 | AY163: =AY171/AY$117 -> 0 | AZ163: =AZ171/AZ$117 -> 0 | BA163: =BA171/BA$117 -> 0 | BB163: =BB171/BB$117 -> 0.16666667 | BC163: =BC171/BC$117 -> 0 | BD163: =BD171/BD$117 -> 0 | ... BP163: =BP171/BP$117 -> 0 | BT163: =BT171/BT$117 -> 0 | BU163: =BU171/BU$117 -> 0 | BV163: =BV171/BV$117 -> 0.5 | BW163: =BW171/BW$117 -> 0.2 | BX163: =BX171/BX$117 -> 0.5 | BY163: =BY171/BY$117 -> 0.4 | BZ163: =BZ171/BZ$117 -> 0 | CA163: =CA171/CA$117 -> 0.75 | ... CM163: =CM171/CM$117 -> 0
C164: =C172/C$117 -> 0.15789474 | D164: =D172/D$117 -> 0.31578947 | E164: =E172/E$117 -> 0.47368421 | F164: =F172/F$117 -> 0.26315789 | G164: =G172/G$117 -> 0.42105263 | H164: =H172/H$117 -> 0.21052632 | I164: =I172/I$117 -> 0.47368421 | J164: =J172/J$117 -> 0.31578947 | ... V164: =V172/V$117 -> 0.26315789 | Z164: =Z172/Z$117 -> 0 | AA164: =AA172/AA$117 -> 0 | AB164: =AB172/AB$117 -> 0 | AC164: =AC172/AC$117 -> 0 | AD164: =AD172/AD$117 -> 0 | AE164: =AE172/AE$117 -> 0 | AF164: =AF172/AF$117 -> 0 | AG164: =AG172/AG$117 -> 0 | ... AS164: =AS172/AS$117 -> 0 | AW164: =AW172/AW$117 -> 0 | AX164: =AX172/AX$117 -> 0.25 | AY164: =AY172/AY$117 -> 0.125 | AZ164: =AZ172/AZ$117 -> 0.2 | BA164: =BA172/BA$117 -> 0 | BB164: =BB172/BB$117 -> 0.16666667 | BC164: =BC172/BC$117 -> 0 | BD164: =BD172/BD$117 -> 0 | ... BP164: =BP172/BP$117 -> 0 | BT164: =BT172/BT$117 -> 0.75 | BU164: =BU172/BU$117 -> 0.71428571 | BV164: =BV172/BV$117 -> 2 | BW164: =BW172/BW$117 -> 0.8 | BX164: =BX172/BX$117 -> 0.8 | BY164: =BY172/BY$117 -> 0.6 | BZ164: =BZ172/BZ$117 -> 2.25 | CA164: =CA172/CA$117 -> 1.5 | ... CM164: =CM172/CM$117 -> 2.5
C165: =C173/C$117 -> 0.57894737 | D165: =D173/D$117 -> 0.47368421 | E165: =E173/E$117 -> 0.26315789 | F165: =F173/F$117 -> 0.57894737 | G165: =G173/G$117 -> 0.26315789 | H165: =H173/H$117 -> 0.31578947 | I165: =I173/I$117 -> 0.26315789 | J165: =J173/J$117 -> 0.36842105 | ... V165: =V173/V$117 -> 0.31578947 | Z165: =Z173/Z$117 -> 0.11111111 | AA165: =AA173/AA$117 -> 0.375 | AB165: =AB173/AB$117 -> 0 | AC165: =AC173/AC$117 -> 0 | AD165: =AD173/AD$117 -> 0.5 | AE165: =AE173/AE$117 -> 0 | AF165: =AF173/AF$117 -> 0 | AG165: =AG173/AG$117 -> 0.11111111 | ... AS165: =AS173/AS$117 -> 0 | AW165: =AW173/AW$117 -> 0.83333333 | AX165: =AX173/AX$117 -> 1.25 | AY165: =AY173/AY$117 -> 0.5 | AZ165: =AZ173/AZ$117 -> 1.8 | BA165: =BA173/BA$117 -> 0.42857143 | BB165: =BB173/BB$117 -> 0.5 | BC165: =BC173/BC$117 -> 0.71428571 | BD165: =BD173/BD$117 -> 0.16666667 | ... BP165: =BP173/BP$117 -> 1 | BT165: =BT173/BT$117 -> 1.25 | BU165: =BU173/BU$117 -> 0.14285714 | BV165: =BV173/BV$117 -> 0.25 | BW165: =BW173/BW$117 -> 0.4 | BX165: =BX173/BX$117 -> 0.1 | BY165: =BY173/BY$117 -> 0.6 | BZ165: =BZ173/BZ$117 -> 0 | CA165: =CA173/CA$117 -> 1.25 | ... CM165: =CM173/CM$117 -> 1
C166: =C174/C$117 -> 0.21052632 | D166: =D174/D$117 -> 0.15789474 | E166: =E174/E$117 -> 0.10526316 | F166: =F174/F$117 -> 0.10526316 | G166: =G174/G$117 -> 0.052631579 | H166: =H174/H$117 -> 0.26315789 | I166: =I174/I$117 -> 0.26315789 | J166: =J174/J$117 -> 0.15789474 | ... V166: =V174/V$117 -> 0.42105263 | Z166: =Z174/Z$117 -> 0.22222222 | AA166: =AA174/AA$117 -> 0.125 | AB166: =AB174/AB$117 -> 0.28571429 | AC166: =AC174/AC$117 -> 0.22222222 | AD166: =AD174/AD$117 -> 0.5 | AE166: =AE174/AE$117 -> 0.5 | AF166: =AF174/AF$117 -> 0.375 | AG166: =AG174/AG$117 -> 0.11111111 | ... AS166: =AS174/AS$117 -> 0.38461538 | AW166: =AW174/AW$117 -> 0.33333333 | AX166: =AX174/AX$117 -> 0.5 | AY166: =AY174/AY$117 -> 0 | AZ166: =AZ174/AZ$117 -> 0 | BA166: =BA174/BA$117 -> 0 | BB166: =BB174/BB$117 -> 0.16666667 | BC166: =BC174/BC$117 -> 0.14285714 | BD166: =BD174/BD$117 -> 0.33333333 | ... BP166: =BP174/BP$117 -> 0.5 | BT166: =BT174/BT$117 -> 0 | BU166: =BU174/BU$117 -> 0 | BV166: =BV174/BV$117 -> 0 | BW166: =BW174/BW$117 -> 0 | BX166: =BX174/BX$117 -> 0 | BY166: =BY174/BY$117 -> 0 | BZ166: =BZ174/BZ$117 -> 0.25 | CA166: =CA174/CA$117 -> 0 | ... CM166: =CM174/CM$117 -> 0.5
C167: =C175/C$117 -> 0.052631579 | D167: =D175/D$117 -> 0.052631579 | E167: =E175/E$117 -> 0.052631579 | F167: =F175/F$117 -> 0 | G167: =G175/G$117 -> 0 | H167: =H175/H$117 -> 0.052631579 | I167: =I175/I$117 -> 0 | J167: =J175/J$117 -> 0 | ... V167: =V175/V$117 -> 0 | Z167: =Z175/Z$117 -> 0.11111111 | AA167: =AA175/AA$117 -> 0.125 | AB167: =AB175/AB$117 -> 0.14285714 | AC167: =AC175/AC$117 -> 0 | AD167: =AD175/AD$117 -> 0 | AE167: =AE175/AE$117 -> 0 | AF167: =AF175/AF$117 -> 0 | AG167: =AG175/AG$117 -> 0 | ... AS167: =AS175/AS$117 -> 0 | AW167: =AW175/AW$117 -> 0 | AX167: =AX175/AX$117 -> 0 | AY167: =AY175/AY$117 -> 0 | AZ167: =AZ175/AZ$117 -> 0 | BA167: =BA175/BA$117 -> 0 | BB167: =BB175/BB$117 -> 0.16666667 | BC167: =BC175/BC$117 -> 0 | BD167: =BD175/BD$117 -> 0 | ... BP167: =BP175/BP$117 -> 0 | BT167: =BT175/BT$117 -> 0 | BU167: =BU175/BU$117 -> 0 | BV167: =BV175/BV$117 -> 0 | BW167: =BW175/BW$117 -> 0 | BX167: =BX175/BX$117 -> 0 | BY167: =BY175/BY$117 -> 0 | BZ167: =BZ175/BZ$117 -> 0 | CA167: =CA175/CA$117 -> 0 | ... CM167: =CM175/CM$117 -> 0
C168: =SUM(C163:C167) -> 1 | D168: =SUM(D163:D167) -> 1 | E168: =SUM(E163:E167) -> 1 | F168: =SUM(F163:F167) -> 1 | G168: =SUM(G163:G167) -> 1 | H168: =SUM(H163:H167) -> 1 | I168: =SUM(I163:I167) -> 1 | J168: =SUM(J163:J167) -> 1 | ... V168: =SUM(V163:V167) -> 1 | Z168: =SUM(Z163:Z167) -> 0.44444444 | AA168: =SUM(AA163:AA167) -> 0.625 | AB168: =SUM(AB163:AB167) -> 0.42857143 | AC168: =SUM(AC163:AC167) -> 0.22222222 | AD168: =SUM(AD163:AD167) -> 1 | AE168: =SUM(AE163:AE167) -> 0.5 | AF168: =SUM(AF163:AF167) -> 0.375 | AG168: =SUM(AG163:AG167) -> 0.22222222 | ... AS168: =SUM(AS163:AS167) -> 0.38461538 | AW168: =SUM(AW163:AW167) -> 1.1666667 | AX168: =SUM(AX163:AX167) -> 2 | AY168: =SUM(AY163:AY167) -> 0.625 | AZ168: =SUM(AZ163:AZ167) -> 2 | BA168: =SUM(BA163:BA167) -> 0.42857143 | BB168: =SUM(BB163:BB167) -> 1.1666667 | BC168: =SUM(BC163:BC167) -> 0.85714286 | BD168: =SUM(BD163:BD167) -> 0.5 | ... BP168: =SUM(BP163:BP167) -> 1.5 | BT168: =SUM(BT163:BT167) -> 2 | BU168: =SUM(BU163:BU167) -> 0.85714286 | BV168: =SUM(BV163:BV167) -> 2.75 | BW168: =SUM(BW163:BW167) -> 1.4 | BX168: =SUM(BX163:BX167) -> 1.4 | BY168: =SUM(BY163:BY167) -> 1.6 | BZ168: =SUM(BZ163:BZ167) -> 2.5 | CA168: =SUM(CA163:CA167) -> 3.5 | ... CM168: =SUM(CM163:CM167) -> 4
B170: F*T | C170: ATA | D170: BOL | E170: CAG | F170: CAT | G170: CES | H170: CHI | I170: FIO | J170: GEN | K170: INT | L170: JUV | M170: LAZ | N170: LEC | O170: MIL | P170: NAP | Q170: NOV | R170: PAL | S170: PAR | T170: ROM | U170: SIE | V170: UDI | Y170: F*v | Z170: ATA | AA170: BOL | AB170: CAG | AC170: CAT | AD170: CES | AE170: CHI | AF170: FIO | AG170: GEN | AH170: INT | AI170: JUV | AJ170: LAZ | AK170: LEC | AL170: MIL | AM170: NAP | AN170: NOV | AO170: PAL | AP170: PAR | AQ170: ROM | AR170: SIE | AS170: UDI | AV170: F*p | AW170: ATA | AX170: BOL | AY170: CAG | AZ170: CAT | BA170: CES | BB170: CHI | BC170: FIO | BD170: GEN | BE170: INT | BF170: JUV | BG170: LAZ | BH170: LEC | BI170: MIL | BJ170: NAP | BK170: NOV | BL170: PAL | BM170: PAR | BN170: ROM | BO170: SIE | BP170: UDI | BS170: F*s | BT170: ATA | BU170: BOL | BV170: CAG | BW170: CAT | BX170: CES | BY170: CHI | BZ170: FIO | CA170: GEN | CB170: INT | CC170: JUV | CD170: LAZ | CE170: LEC | CF170: MIL | CG170: NAP | CH170: NOV | CI170: PAL | CJ170: PAR | CK170: ROM | CL170: SIE | CM170: UDI
C171: =COUNTIF(C121:C158, "<=5,3") -> 0 | D171: =COUNTIF(D121:D158, "<=5,3") -> 0 | E171: =COUNTIF(E121:E158, "<=5,3") -> 2 | F171: =COUNTIF(F121:F158, "<=5,3") -> 1 | G171: =COUNTIF(G121:G158, "<=5,3") -> 5 | H171: =COUNTIF(H121:H158, "<=5,3") -> 3 | I171: =COUNTIF(I121:I158, "<=5,3") -> 0 | J171: =COUNTIF(J121:J158, "<=5,3") -> 3 | ... V171: =COUNTIF(V121:V158, "<=5,3") -> 0 | Z171: =COUNTIF(Z121:Z158, "<=5,3") -> 0 | AA171: =COUNTIF(AA121:AA158, "<=5,3") -> 0 | AB171: =COUNTIF(AB121:AB158, "<=5,3") -> 0 | AC171: =COUNTIF(AC121:AC158, "<=5,3") -> 0 | AD171: =COUNTIF(AD121:AD158, "<=5,3") -> 0 | AE171: =COUNTIF(AE121:AE158, "<=5,3") -> 0 | AF171: =COUNTIF(AF121:AF158, "<=5,3") -> 0 | AG171: =COUNTIF(AG121:AG158, "<=5,3") -> 0 | ... AS171: =COUNTIF(AS121:AS158, "<=5,3") -> 0 | AW171: =COUNTIF(AW121:AW158, "<=5,3") -> 0 | AX171: =COUNTIF(AX121:AX158, "<=5,3") -> 0 | AY171: =COUNTIF(AY121:AY158, "<=5,3") -> 0 | AZ171: =COUNTIF(AZ121:AZ158, "<=5,3") -> 0 | BA171: =COUNTIF(BA121:BA158, "<=5,3") -> 0 | BB171: =COUNTIF(BB121:BB158, "<=5,3") -> 1 | BC171: =COUNTIF(BC121:BC158, "<=5,3") -> 0 | BD171: =COUNTIF(BD121:BD158, "<=5,3") -> 0 | ... BP171: =COUNTIF(BP121:BP158, "<=5,3") -> 0 | BT171: =COUNTIF(BT121:BT158, "<=5,3") -> 0 | BU171: =COUNTIF(BU121:BU158, "<=5,3") -> 0 | BV171: =COUNTIF(BV121:BV158, "<=5,3") -> 2 | BW171: =COUNTIF(BW121:BW158, "<=5,3") -> 1 | BX171: =COUNTIF(BX121:BX158, "<=5,3") -> 5 | BY171: =COUNTIF(BY121:BY158, "<=5,3") -> 2 | BZ171: =COUNTIF(BZ121:BZ158, "<=5,3") -> 0 | CA171: =COUNTIF(CA121:CA158, "<=5,3") -> 3 | ... CM171: =COUNTIF(CM121:CM158, "<=5,3") -> 0
C172: =COUNTIFS(C121:C158, ">=5,4",C121:C158, "<=5,7") -> 3 | D172: =COUNTIFS(D121:D158, ">=5,4",D121:D158, "<=5,7") -> 6 | E172: =COUNTIFS(E121:E158, ">=5,4",E121:E158, "<=5,7") -> 9 | F172: =COUNTIFS(F121:F158, ">=5,4",F121:F158, "<=5,7") -> 5 | G172: =COUNTIFS(G121:G158, ">=5,4",G121:G158, "<=5,7") -> 8 | H172: =COUNTIFS(H121:H158, ">=5,4",H121:H158, "<=5,7") -> 4 | I172: =COUNTIFS(I121:I158, ">=5,4",I121:I158, "<=5,7") -> 9 | J172: =COUNTIFS(J121:J158, ">=5,4",J121:J158, "<=5,7") -> 6 | ... V172: =COUNTIFS(V121:V158, ">=5,4",V121:V158, "<=5,7") -> 5 | Z172: =COUNTIFS(Z121:Z158, ">=5,4",Z121:Z158, "<=5,7") -> 0 | AA172: =COUNTIFS(AA121:AA158, ">=5,4",AA121:AA158, "<=5,7") -> 0 | AB172: =COUNTIFS(AB121:AB158, ">=5,4",AB121:AB158, "<=5,7") -> 0 | AC172: =COUNTIFS(AC121:AC158, ">=5,4",AC121:AC158, "<=5,7") -> 0 | AD172: =COUNTIFS(AD121:AD158, ">=5,4",AD121:AD158, "<=5,7") -> 0 | AE172: =COUNTIFS(AE121:AE158, ">=5,4",AE121:AE158, "<=5,7") -> 0 | AF172: =COUNTIFS(AF121:AF158, ">=5,4",AF121:AF158, "<=5,7") -> 0 | AG172: =COUNTIFS(AG121:AG158, ">=5,4",AG121:AG158, "<=5,7") -> 0 | ... AS172: =COUNTIFS(AS121:AS158, ">=5,4",AS121:AS158, "<=5,7") -> 0 | AW172: =COUNTIFS(AW121:AW158, ">=5,4",AW121:AW158, "<=5,7") -> 0 | AX172: =COUNTIFS(AX121:AX158, ">=5,4",AX121:AX158, "<=5,7") -> 1 | AY172: =COUNTIFS(AY121:AY158, ">=5,4",AY121:AY158, "<=5,7") -> 1 | AZ172: =COUNTIFS(AZ121:AZ158, ">=5,4",AZ121:AZ158, "<=5,7") -> 1 | BA172: =COUNTIFS(BA121:BA158, ">=5,4",BA121:BA158, "<=5,7") -> 0 | BB172: =COUNTIFS(BB121:BB158, ">=5,4",BB121:BB158, "<=5,7") -> 1 | BC172: =COUNTIFS(BC121:BC158, ">=5,4",BC121:BC158, "<=5,7") -> 0 | BD172: =COUNTIFS(BD121:BD158, ">=5,4",BD121:BD158, "<=5,7") -> 0 | ... BP172: =COUNTIFS(BP121:BP158, ">=5,4",BP121:BP158, "<=5,7") -> 0 | BT172: =COUNTIFS(BT121:BT158, ">=5,4",BT121:BT158, "<=5,7") -> 3 | BU172: =COUNTIFS(BU121:BU158, ">=5,4",BU121:BU158, "<=5,7") -> 5 | BV172: =COUNTIFS(BV121:BV158, ">=5,4",BV121:BV158, "<=5,7") -> 8 | BW172: =COUNTIFS(BW121:BW158, ">=5,4",BW121:BW158, "<=5,7") -> 4 | BX172: =COUNTIFS(BX121:BX158, ">=5,4",BX121:BX158, "<=5,7") -> 8 | BY172: =COUNTIFS(BY121:BY158, ">=5,4",BY121:BY158, "<=5,7") -> 3 | BZ172: =COUNTIFS(BZ121:BZ158, ">=5,4",BZ121:BZ158, "<=5,7") -> 9 | CA172: =COUNTIFS(CA121:CA158, ">=5,4",CA121:CA158, "<=5,7") -> 6 | ... CM172: =COUNTIFS(CM121:CM158, ">=5,4",CM121:CM158, "<=5,7") -> 5
C173: =COUNTIFS(C121:C158, ">=5,8",C121:C158, "<=6,1") -> 11 | D173: =COUNTIFS(D121:D158, ">=5,8",D121:D158, "<=6,1") -> 9 | E173: =COUNTIFS(E121:E158, ">=5,8",E121:E158, "<=6,1") -> 5 | F173: =COUNTIFS(F121:F158, ">=5,8",F121:F158, "<=6,1") -> 11 | G173: =COUNTIFS(G121:G158, ">=5,8",G121:G158, "<=6,1") -> 5 | H173: =COUNTIFS(H121:H158, ">=5,8",H121:H158, "<=6,1") -> 6 | I173: =COUNTIFS(I121:I158, ">=5,8",I121:I158, "<=6,1") -> 5 | J173: =COUNTIFS(J121:J158, ">=5,8",J121:J158, "<=6,1") -> 7 | ... V173: =COUNTIFS(V121:V158, ">=5,8",V121:V158, "<=6,1") -> 6 | Z173: =COUNTIFS(Z121:Z158, ">=5,8",Z121:Z158, "<=6,1") -> 1 | AA173: =COUNTIFS(AA121:AA158, ">=5,8",AA121:AA158, "<=6,1") -> 3 | AB173: =COUNTIFS(AB121:AB158, ">=5,8",AB121:AB158, "<=6,1") -> 0 | AC173: =COUNTIFS(AC121:AC158, ">=5,8",AC121:AC158, "<=6,1") -> 0 | AD173: =COUNTIFS(AD121:AD158, ">=5,8",AD121:AD158, "<=6,1") -> 1 | AE173: =COUNTIFS(AE121:AE158, ">=5,8",AE121:AE158, "<=6,1") -> 0 | AF173: =COUNTIFS(AF121:AF158, ">=5,8",AF121:AF158, "<=6,1") -> 0 | AG173: =COUNTIFS(AG121:AG158, ">=5,8",AG121:AG158, "<=6,1") -> 1 | ... AS173: =COUNTIFS(AS121:AS158, ">=5,8",AS121:AS158, "<=6,1") -> 0 | AW173: =COUNTIFS(AW121:AW158, ">=5,8",AW121:AW158, "<=6,1") -> 5 | AX173: =COUNTIFS(AX121:AX158, ">=5,8",AX121:AX158, "<=6,1") -> 5 | AY173: =COUNTIFS(AY121:AY158, ">=5,8",AY121:AY158, "<=6,1") -> 4 | AZ173: =COUNTIFS(AZ121:AZ158, ">=5,8",AZ121:AZ158, "<=6,1") -> 9 | BA173: =COUNTIFS(BA121:BA158, ">=5,8",BA121:BA158, "<=6,1") -> 3 | BB173: =COUNTIFS(BB121:BB158, ">=5,8",BB121:BB158, "<=6,1") -> 3 | BC173: =COUNTIFS(BC121:BC158, ">=5,8",BC121:BC158, "<=6,1") -> 5 | BD173: =COUNTIFS(BD121:BD158, ">=5,8",BD121:BD158, "<=6,1") -> 1 | ... BP173: =COUNTIFS(BP121:BP158, ">=5,8",BP121:BP158, "<=6,1") -> 4 | BT173: =COUNTIFS(BT121:BT158, ">=5,8",BT121:BT158, "<=6,1") -> 5 | BU173: =COUNTIFS(BU121:BU158, ">=5,8",BU121:BU158, "<=6,1") -> 1 | BV173: =COUNTIFS(BV121:BV158, ">=5,8",BV121:BV158, "<=6,1") -> 1 | BW173: =COUNTIFS(BW121:BW158, ">=5,8",BW121:BW158, "<=6,1") -> 2 | BX173: =COUNTIFS(BX121:BX158, ">=5,8",BX121:BX158, "<=6,1") -> 1 | BY173: =COUNTIFS(BY121:BY158, ">=5,8",BY121:BY158, "<=6,1") -> 3 | BZ173: =COUNTIFS(BZ121:BZ158, ">=5,8",BZ121:BZ158, "<=6,1") -> 0 | CA173: =COUNTIFS(CA121:CA158, ">=5,8",CA121:CA158, "<=6,1") -> 5 | ... CM173: =COUNTIFS(CM121:CM158, ">=5,8",CM121:CM158, "<=6,1") -> 2
C174: =COUNTIFS(C121:C158, ">=6,2",C121:C158, "<=6,5") -> 4 | D174: =COUNTIFS(D121:D158, ">=6,2",D121:D158, "<=6,5") -> 3 | E174: =COUNTIFS(E121:E158, ">=6,2",E121:E158, "<=6,5") -> 2 | F174: =COUNTIFS(F121:F158, ">=6,2",F121:F158, "<=6,5") -> 2 | G174: =COUNTIFS(G121:G158, ">=6,2",G121:G158, "<=6,5") -> 1 | H174: =COUNTIFS(H121:H158, ">=6,2",H121:H158, "<=6,5") -> 5 | I174: =COUNTIFS(I121:I158, ">=6,2",I121:I158, "<=6,5") -> 5 | J174: =COUNTIFS(J121:J158, ">=6,2",J121:J158, "<=6,5") -> 3 | ... V174: =COUNTIFS(V121:V158, ">=6,2",V121:V158, "<=6,5") -> 8 | Z174: =COUNTIFS(Z121:Z158, ">=6,2",Z121:Z158, "<=6,5") -> 2 | AA174: =COUNTIFS(AA121:AA158, ">=6,2",AA121:AA158, "<=6,5") -> 1 | AB174: =COUNTIFS(AB121:AB158, ">=6,2",AB121:AB158, "<=6,5") -> 2 | AC174: =COUNTIFS(AC121:AC158, ">=6,2",AC121:AC158, "<=6,5") -> 2 | AD174: =COUNTIFS(AD121:AD158, ">=6,2",AD121:AD158, "<=6,5") -> 1 | AE174: =COUNTIFS(AE121:AE158, ">=6,2",AE121:AE158, "<=6,5") -> 4 | AF174: =COUNTIFS(AF121:AF158, ">=6,2",AF121:AF158, "<=6,5") -> 3 | AG174: =COUNTIFS(AG121:AG158, ">=6,2",AG121:AG158, "<=6,5") -> 1 | ... AS174: =COUNTIFS(AS121:AS158, ">=6,2",AS121:AS158, "<=6,5") -> 5 | AW174: =COUNTIFS(AW121:AW158, ">=6,2",AW121:AW158, "<=6,5") -> 2 | AX174: =COUNTIFS(AX121:AX158, ">=6,2",AX121:AX158, "<=6,5") -> 2 | AY174: =COUNTIFS(AY121:AY158, ">=6,2",AY121:AY158, "<=6,5") -> 0 | AZ174: =COUNTIFS(AZ121:AZ158, ">=6,2",AZ121:AZ158, "<=6,5") -> 0 | BA174: =COUNTIFS(BA121:BA158, ">=6,2",BA121:BA158, "<=6,5") -> 0 | BB174: =COUNTIFS(BB121:BB158, ">=6,2",BB121:BB158, "<=6,5") -> 1 | BC174: =COUNTIFS(BC121:BC158, ">=6,2",BC121:BC158, "<=6,5") -> 1 | BD174: =COUNTIFS(BD121:BD158, ">=6,2",BD121:BD158, "<=6,5") -> 2 | ... BP174: =COUNTIFS(BP121:BP158, ">=6,2",BP121:BP158, "<=6,5") -> 2 | BT174: =COUNTIFS(BT121:BT158, ">=6,2",BT121:BT158, "<=6,5") -> 0 | BU174: =COUNTIFS(BU121:BU158, ">=6,2",BU121:BU158, "<=6,5") -> 0 | BV174: =COUNTIFS(BV121:BV158, ">=6,2",BV121:BV158, "<=6,5") -> 0 | BW174: =COUNTIFS(BW121:BW158, ">=6,2",BW121:BW158, "<=6,5") -> 0 | BX174: =COUNTIFS(BX121:BX158, ">=6,2",BX121:BX158, "<=6,5") -> 0 | BY174: =COUNTIFS(BY121:BY158, ">=6,2",BY121:BY158, "<=6,5") -> 0 | BZ174: =COUNTIFS(BZ121:BZ158, ">=6,2",BZ121:BZ158, "<=6,5") -> 1 | CA174: =COUNTIFS(CA121:CA158, ">=6,2",CA121:CA158, "<=6,5") -> 0 | ... CM174: =COUNTIFS(CM121:CM158, ">=6,2",CM121:CM158, "<=6,5") -> 1
C175: =COUNTIF(C121:C158, ">=6,6") -> 1 | D175: =COUNTIF(D121:D158, ">=6,6") -> 1 | E175: =COUNTIF(E121:E158, ">=6,6") -> 1 | F175: =COUNTIF(F121:F158, ">=6,6") -> 0 | G175: =COUNTIF(G121:G158, ">=6,6") -> 0 | H175: =COUNTIF(H121:H158, ">=6,6") -> 1 | I175: =COUNTIF(I121:I158, ">=6,6") -> 0 | J175: =COUNTIF(J121:J158, ">=6,6") -> 0 | ... V175: =COUNTIF(V121:V158, ">=6,6") -> 0 | Z175: =COUNTIF(Z121:Z158, ">=6,6") -> 1 | AA175: =COUNTIF(AA121:AA158, ">=6,6") -> 1 | AB175: =COUNTIF(AB121:AB158, ">=6,6") -> 1 | AC175: =COUNTIF(AC121:AC158, ">=6,6") -> 0 | AD175: =COUNTIF(AD121:AD158, ">=6,6") -> 0 | AE175: =COUNTIF(AE121:AE158, ">=6,6") -> 0 | AF175: =COUNTIF(AF121:AF158, ">=6,6") -> 0 | AG175: =COUNTIF(AG121:AG158, ">=6,6") -> 0 | ... AS175: =COUNTIF(AS121:AS158, ">=6,6") -> 0 | AW175: =COUNTIF(AW121:AW158, ">=6,6") -> 0 | AX175: =COUNTIF(AX121:AX158, ">=6,6") -> 0 | AY175: =COUNTIF(AY121:AY158, ">=6,6") -> 0 | AZ175: =COUNTIF(AZ121:AZ158, ">=6,6") -> 0 | BA175: =COUNTIF(BA121:BA158, ">=6,6") -> 0 | BB175: =COUNTIF(BB121:BB158, ">=6,6") -> 1 | BC175: =COUNTIF(BC121:BC158, ">=6,6") -> 0 | BD175: =COUNTIF(BD121:BD158, ">=6,6") -> 0 | ... BP175: =COUNTIF(BP121:BP158, ">=6,6") -> 0 | BT175: =COUNTIF(BT121:BT158, ">=6,6") -> 0 | BU175: =COUNTIF(BU121:BU158, ">=6,6") -> 0 | BV175: =COUNTIF(BV121:BV158, ">=6,6") -> 0 | BW175: =COUNTIF(BW121:BW158, ">=6,6") -> 0 | BX175: =COUNTIF(BX121:BX158, ">=6,6") -> 0 | BY175: =COUNTIF(BY121:BY158, ">=6,6") -> 0 | BZ175: =COUNTIF(BZ121:BZ158, ">=6,6") -> 0 | CA175: =COUNTIF(CA121:CA158, ">=6,6") -> 0 | ... CM175: =COUNTIF(CM121:CM158, ">=6,6") -> 0
C176: =SUM(C171:C175) -> 19 | D176: =SUM(D171:D175) -> 19 | E176: =SUM(E171:E175) -> 19 | F176: =SUM(F171:F175) -> 19 | G176: =SUM(G171:G175) -> 19 | H176: =SUM(H171:H175) -> 19 | I176: =SUM(I171:I175) -> 19 | J176: =SUM(J171:J175) -> 19 | ... V176: =SUM(V171:V175) -> 19 | Z176: =SUM(Z171:Z175) -> 4 | AA176: =SUM(AA171:AA175) -> 5 | AB176: =SUM(AB171:AB175) -> 3 | AC176: =SUM(AC171:AC175) -> 2 | AD176: =SUM(AD171:AD175) -> 2 | AE176: =SUM(AE171:AE175) -> 4 | AF176: =SUM(AF171:AF175) -> 3 | AG176: =SUM(AG171:AG175) -> 2 | ... AS176: =SUM(AS171:AS175) -> 5 | AW176: =SUM(AW171:AW175) -> 7 | AX176: =SUM(AX171:AX175) -> 8 | AY176: =SUM(AY171:AY175) -> 5 | AZ176: =SUM(AZ171:AZ175) -> 10 | BA176: =SUM(BA171:BA175) -> 3 | BB176: =SUM(BB171:BB175) -> 7 | BC176: =SUM(BC171:BC175) -> 6 | BD176: =SUM(BD171:BD175) -> 3 | ... BP176: =SUM(BP171:BP175) -> 6 | BT176: =SUM(BT171:BT175) -> 8 | BU176: =SUM(BU171:BU175) -> 6 | BV176: =SUM(BV171:BV175) -> 11 | BW176: =SUM(BW171:BW175) -> 7 | BX176: =SUM(BX171:BX175) -> 14 | BY176: =SUM(BY171:BY175) -> 8 | BZ176: =SUM(BZ171:BZ175) -> 10 | CA176: =SUM(CA171:CA175) -> 14 | ... CM176: =SUM(CM171:CM175) -> 8
C177: =Z176+AW176+BT176 -> 19 | D177: =AA176+AX176+BU176 -> 19 | E177: =AB176+AY176+BV176 -> 19 | F177: =AC176+AZ176+BW176 -> 19 | G177: =AD176+BA176+BX176 -> 19 | H177: =AE176+BB176+BY176 -> 19 | I177: =AF176+BC176+BZ176 -> 19 | J177: =AG176+BD176+CA176 -> 19 | ... V177: =AS176+BP176+CM176 -> 19

Sheet fantagazz
C2: ATA | D2: BOL | E2: CAG | F2: CAT | G2: CES | H2: CHI | I2: FIO | J2: GEN | K2: INT | L2: JUV | M2: LAZ | N2: LEC | O2: MIL | P2: NAP | Q2: NOV | R2: PAL | S2: PAR | T2: ROM | U2: SIE | V2: UDI | Z2: ATA | AA2: BOL | AB2: CAG | AC2: CAT | AD2: CES | AE2: CHI | AF2: FIO | AG2: GEN | AH2: INT | AI2: JUV | AJ2: LAZ | AK2: LEC | AL2: MIL | AM2: NAP | AN2: NOV | AO2: PAL | AP2: PAR | AQ2: ROM | AR2: SIE | AS2: UDI
B3: 1 | C3: 5.8 | D3: 5.9 | E3: 5.9 | F3: 5.5 | G3: 6 | H3: 6.2 | I3: 5.4 | J3: 6.3 | K3: 5.7 | L3: 6.3 | M3: 6.3 | N3: 5.9 | O3: 6 | P3: 6 | Q3: 5.9 | R3: 5.6 | S3: 6.2 | T3: 6.5 | U3: 5.8 | V3: 6.3 | Y3: 1 | Z3: =gazz!C3-C3 -> 0.1 | AA3: =gazz!D3-D3 -> -0.2 | AB3: =gazz!E3-E3 -> 0.1 | AC3: =gazz!F3-F3 -> 0 | AD3: =gazz!G3-G3 -> -0.5 | AE3: =gazz!H3-H3 -> -0.2 | AF3: =gazz!I3-I3 -> 0.4 | AG3: =gazz!J3-J3 -> -0.4 | ... AS3: =gazz!V3-V3 -> 0.2
B4: 2 | C4: 6.2 | D4: 5.7 | E4: 6.3 | F4: 5.9 | G4: 5.6 | H4: 6.1 | I4: 6.5 | J4: 5.6 | K4: 5.7 | L4: 6.3 | M4: 6.1 | N4: 5.5 | O4: 6 | P4: 6 | Q4: 6.1 | R4: 6.2 | S4: 5.5 | T4: 5.6 | U4: 6 | V4: 6.2 | Y4: 2 | Z4: =gazz!C4-C4 -> 0 | AA4: =gazz!D4-D4 -> -0.2 | AB4: =gazz!E4-E4 -> 0 | AC4: =gazz!F4-F4 -> -0.1 | AD4: =gazz!G4-G4 -> 0 | AE4: =gazz!H4-H4 -> -0.3 | AF4: =gazz!I4-I4 -> -0.1 | AG4: =gazz!J4-J4 -> 0.2 | ... AS4: =gazz!V4-V4 -> 0.1
B5: 3 | C5: 6.2 | D5: 5.5 | E5: 6.3 | F5: 6.3 | G5: 5.8 | H5: 5.7 | I5: 5.4 | J5: 6.1 | K5: 6.1 | L5: 5.9 | M5: 5.7 | N5: 6.5 | O5: 5.4 | P5: 6.6 | Q5: 5.6 | R5: 5.8 | S5: 5.9 | T5: 6 | U5: 5.9 | V5: 6.3 | Y5: 3 | Z5: =gazz!C5-C5 -> -0.1 | AA5: =gazz!D5-D5 -> -0.2 | AB5: =gazz!E5-E5 -> 0.1 | AC5: =gazz!F5-F5 -> 0 | AD5: =gazz!G5-G5 -> -0.1 | AE5: =gazz!H5-H5 -> 0.2 | AF5: =gazz!I5-I5 -> 0 | AG5: =gazz!J5-J5 -> 0 | ... AS5: =gazz!V5-V5 -> 0
B6: 4 | C6: 6.2 | D6: 6.1 | E6: 5.6 | F6: 5.7 | G6: 6 | H6: 6 | I6: 6.5 | J6: 6.4 | K6: 5.1 | L6: 6.1 | M6: 6.4 | N6: 6 | O6: 5.9 | P6: 5.6 | Q6: 6.6 | R6: 6.2 | S6: 5.2 | T6: 6 | U6: 6.1 | V6: 6.4 | Y6: 4 | Z6: =gazz!C6-C6 -> 0 | AA6: =gazz!D6-D6 -> 0 | AB6: =gazz!E6-E6 -> -0.2 | AC6: =gazz!F6-F6 -> -0.3 | AD6: =gazz!G6-G6 -> -0.4 | AE6: =gazz!H6-H6 -> 0.2 | AF6: =gazz!I6-I6 -> -0.1 | AG6: =gazz!J6-J6 -> 0.1 | ... AS6: =gazz!V6-V6 -> -0.2
B7: 5 | C7: 6.2 | D7: 5.9 | E7: 6.2 | F7: 6.2 | G7: 5.6 | H7: 6 | I7: 6.1 | J7: 6 | K7: 6.2 | L7: 5.7 | M7: 6.2 | N7: 5.2 | O7: 6.2 | P7: 5.8 | Q7: 5.8 | R7: 6.4 | S7: 5.7 | T7: 6.1 | U7: 6.5 | V7: 6.2 | Y7: 5 | Z7: =gazz!C7-C7 -> 0.1 | AA7: =gazz!D7-D7 -> -0.1 | AB7: =gazz!E7-E7 -> -0.1 | AC7: =gazz!F7-F7 -> 0 | AD7: =gazz!G7-G7 -> 0.1 | AE7: =gazz!H7-H7 -> 0.1 | AF7: =gazz!I7-I7 -> 0.1 | AG7: =gazz!J7-J7 -> -0.2 | ... AS7: =gazz!V7-V7 -> -0.3
B8: 6 | C8: 5.6 | D8: 5.4 | E8: 6.3 | F8: 6.2 | G8: 5.8 | H8: 5.9 | I8: 5.7 | J8: 5.6 | K8: 5.4 | L8: 6.7 | M8: 6.1 | N8: 5.4 | O8: 5.4 | P8: 6.5 | Q8: 5.9 | R8: 6.3 | S8: 6.5 | T8: 6.2 | U8: 5.6 | V8: 6.4 | Y8: 6 | Z8: =gazz!C8-C8 -> 0.2 | AA8: =gazz!D8-D8 -> 0 | AB8: =gazz!E8-E8 -> 0.4 | AC8: =gazz!F8-F8 -> -0.1 | AD8: =gazz!G8-G8 -> 0.2 | AE8: =gazz!H8-H8 -> -0.1 | AF8: =gazz!I8-I8 -> -0.1 | AG8: =gazz!J8-J8 -> -0.3 | ... AS8: =gazz!V8-V8 -> 0.3
B9: 7 | C9: 6.1 | D9: 6.3 | E9: 6.1 | F9: 6.3 | G9: 6.2 | H9: 6.1 | I9: 5.6 | J9: 5.9 | K9: 5.3 | L9: 5.9 | M9: 6.2 | N9: 6.1 | O9: 6.5 | P9: 6 | Q9: 6 | R9: 5.3 | S9: 6.5 | T9: 6.1 | U9: 6 | V9: 5.8 | Y9: 7 | Z9: =gazz!C9-C9 -> 0 | AA9: =gazz!D9-D9 -> -0.3 | AB9: =gazz!E9-E9 -> -0.4 | AC9: =gazz!F9-F9 -> 0.2 | AD9: =gazz!G9-G9 -> -0.3 | AE9: =gazz!H9-H9 -> -0.1 | AF9: =gazz!I9-I9 -> 0.2 | AG9: =gazz!J9-J9 -> 0 | ... AS9: =gazz!V9-V9 -> 0.1
B10: 8 | C10: 6.3 | D10: 5.9 | E10: 6 | F10: 6.2 | G10: 5.3 | H10: 5.5 | I10: 5.8 | J10: 6.1 | K10: 6.3 | L10: 5.9 | M10: 6.3 | N10: 5.9 | O10: 6 | P10: 5.9 | Q10: 5.4 | R10: 5.6 | S10: 5.9 | T10: 6.4 | U10: 6.6 | V10: 6.4 | Y10: 8 | Z10: =gazz!C10-C10 -> 0 | AA10: =gazz!D10-D10 -> -0.5 | AB10: =gazz!E10-E10 -> -0.1 | AC10: =gazz!F10-F10 -> -0.2 | AD10: =gazz!G10-G10 -> 0.1 | AE10: =gazz!H10-H10 -> 0.2 | AF10: =gazz!I10-I10 -> -0.1 | AG10: =gazz!J10-J10 -> 0.3 | ... AS10: =gazz!V10-V10 -> 0
B11: 9 | C11: 6.3 | D11: 6.1 | E11: 5.9 | F11: 5.8 | G11: 5.9 | H11: 5.7 | I11: 5.5 | J11: 6.2 | K11: 5.9 | L11: 6.5 | M11: 6 | N11: 5.8 | O11: 6.5 | P11: 6.3 | Q11: 5.9 | R11: 6.3 | S11: 5.5 | T11: 5.7 | U11: 6.1 | V11: 5.5 | Y11: 9 | Z11: =gazz!C11-C11 -> 0 | AA11: =gazz!D11-D11 -> -0.2 | AB11: =gazz!E11-E11 -> -0.2 | AC11: =gazz!F11-F11 -> 0.3 | AD11: =gazz!G11-G11 -> -0.1 | AE11: =gazz!H11-H11 -> -0.1 | AF11: =gazz!I11-I11 -> 0 | AG11: =gazz!J11-J11 -> -0.1 | ... AS11: =gazz!V11-V11 -> -0.1
B12: 10 | C12: 5.9 | D12: 6.2 | E12: 5.6 | F12: 6.7 | G12: 5.4 | H12: 5.5 | I12: 6.2 | J12: 5.7 | K12: 5.8 | L12: 6.2 | M12: 6.5 | N12: 6 | O12: 6.1 | P12: 5.8 | Q12: 6.3 | R12: 5.5 | S12: 6.4 | T12: 6 | U12: 6.5 | V12: 6.6 | Y12: 10 | Z12: =gazz!C12-C12 -> 0 | AA12: =gazz!D12-D12 -> -0.4 | AB12: =gazz!E12-E12 -> 0 | AC12: =gazz!F12-F12 -> -0.3 | AD12: =gazz!G12-G12 -> -0.2 | AE12: =gazz!H12-H12 -> -0.3 | AF12: =gazz!I12-I12 -> -0.2 | AG12: =gazz!J12-J12 -> 0 | ... AS12: =gazz!V12-V12 -> -0.2
B13: 11 | C13: 6.1 | D13: 5.6 | E13: 5.4 | F13: 5.4 | G13: 5.5 | H13: 6.5 | I13: 5.6 | J13: 5.7 | K13: 6.1 | L13: 6.1 | M13: 6.1 | N13: 6.3 | O13: 6.4 | P13: 5.9 | Q13: 5.8 | R13: 6.5 | S13: 6 | T13: 6.3 | U13: 5.7 | V13: 6.4 | Y13: 11 | Z13: =gazz!C13-C13 -> 0.3 | AA13: =gazz!D13-D13 -> -0.1 | AB13: =gazz!E13-E13 -> 0.1 | AC13: =gazz!F13-F13 -> -0.1 | AD13: =gazz!G13-G13 -> -0.1 | AE13: =gazz!H13-H13 -> -0.4 | AF13: =gazz!I13-I13 -> -0.2 | AG13: =gazz!J13-J13 -> 0 | ... AS13: =gazz!V13-V13 -> -0.2
B14: 12 | C14: 6.2 | D14: 5.9 | E14: 5.7 | F14: 5.6 | G14: 6.2 | H14: 6.4 | I14: 6.2 | J14: 6.1 | K14: 6.3 | L14: 6.6 | M14: 6 | N14: 5.7 | O14: 6.1 | P14: 5.9 | Q14: 5.9 | R14: 5.3 | S14: 6.5 | T14: 6.2 | U14: 5.7 | V14: 5.4 | Y14: 12 | Z14: =gazz!C14-C14 -> 0.1 | AA14: =gazz!D14-D14 -> -0.4 | AB14: =gazz!E14-E14 -> 0 | AC14: =gazz!F14-F14 -> 0 | AD14: =gazz!G14-G14 -> -0.1 | AE14: =gazz!H14-H14 -> -0.2 | AF14: =gazz!I14-I14 -> -0.4 | AG14: =gazz!J14-J14 -> 0 | ... AS14: =gazz!V14-V14 -> 0
... B40: 38 | C40: 5.8 | D40: 5.9 | E40: 5.9 | F40: 5.5 | G40: 6 | H40: 6.2 | I40: 5.4 | J40: 6.3 | K40: 5.7 | L40: 6.3 | M40: 6.3 | N40: 5.9 | O40: 6 | P40: 6 | Q40: 5.9 | R40: 5.6 | S40: 6.2 | T40: 6.5 | U40: 5.8 | V40: 6.3 | Y40: 38 | Z40: =gazz!C40-C40 -> 0.1 | AA40: =gazz!D40-D40 -> -0.2 | AB40: =gazz!E40-E40 -> 0.1 | AC40: =gazz!F40-F40 -> 0 | AD40: =gazz!G40-G40 -> -0.5 | AE40: =gazz!H40-H40 -> -0.2 | AF40: =gazz!I40-I40 -> 0.4 | AG40: =gazz!J40-J40 -> -0.4 | ... AS40: =gazz!V40-V40 -> 0.2
C42: =SUM(C3:C40)/38 -> 6.0552632 | D42: =SUM(D3:D40)/38 -> 6.0368421 | E42: =SUM(E3:E40)/38 -> 5.9789474 | F42: =SUM(F3:F40)/38 -> 6.0210526 | G42: =SUM(G3:G40)/38 -> 5.7842105 | H42: =SUM(H3:H40)/38 -> 5.9552632 | I42: =SUM(I3:I40)/38 -> 5.8736842 | J42: =SUM(J3:J40)/38 -> 5.8736842 | ... V42: =SUM(V3:V40)/38 -> 6.0684211
C44: ATA | D44: BOL | E44: CAG | F44: CAT | G44: CES | H44: CHI | I44: FIO | J44: GEN | K44: INT | L44: JUV | M44: LAZ | N44: LEC | O44: MIL | P44: NAP | Q44: NOV | R44: PAL | S44: PAR | T44: ROM | U44: SIE | V44: UDI
C45: =C53/C$58 -> 0 | D45: =D53/D$58 -> 0 | E45: =E53/E$58 -> 0.026315789 | F45: =F53/F$58 -> 0.026315789 | G45: =G53/G$58 -> 0.13157895 | H45: =H53/H$58 -> 0.026315789 | I45: =I53/I$58 -> 0.052631579 | J45: =J53/J$58 -> 0.10526316 | ... V45: =V53/V$58 -> 0
C46: =C54/C$58 -> 0.078947368 | D46: =D54/D$58 -> 0.18421053 | E46: =E54/E$58 -> 0.21052632 | F46: =F54/F$58 -> 0.26315789 | G46: =G54/G$58 -> 0.34210526 | H46: =H54/H$58 -> 0.21052632 | I46: =I54/I$58 -> 0.36842105 | J46: =J54/J$58 -> 0.28947368 | ... V46: =V54/V$58 -> 0.18421053
C47: =C55/C$58 -> 0.55263158 | D47: =D55/D$58 -> 0.44736842 | E47: =E55/E$58 -> 0.42105263 | F47: =F55/F$58 -> 0.23684211 | G47: =G55/G$58 -> 0.36842105 | H47: =H55/H$58 -> 0.47368421 | I47: =I55/I$58 -> 0.23684211 | J47: =J55/J$58 -> 0.36842105 | ... V47: =V55/V$58 -> 0.31578947
C48: =C56/C$58 -> 0.31578947 | D48: =D56/D$58 -> 0.31578947 | E48: =E56/E$58 -> 0.31578947 | F48: =F56/F$58 -> 0.36842105 | G48: =G56/G$58 -> 0.15789474 | H48: =H56/H$58 -> 0.28947368 | I48: =I56/I$58 -> 0.28947368 | J48: =J56/J$58 -> 0.21052632 | ... V48: =V56/V$58 -> 0.44736842
C49: =C57/C$58 -> 0.052631579 | D49: =D57/D$58 -> 0.052631579 | E49: =E57/E$58 -> 0.026315789 | F49: =F57/F$58 -> 0.10526316 | G49: =G57/G$58 -> 0 | H49: =H57/H$58 -> 0 | I49: =I57/I$58 -> 0.052631579 | J49: =J57/J$58 -> 0.026315789 | ... V49: =V57/V$58 -> 0.052631579
C50: =SUM(C45:C49) -> 1 | D50: =SUM(D45:D49) -> 1 | E50: =SUM(E45:E49) -> 1 | F50: =SUM(F45:F49) -> 1 | G50: =SUM(G45:G49) -> 1 | H50: =SUM(H45:H49) -> 1 | I50: =SUM(I45:I49) -> 1 | J50: =SUM(J45:J49) -> 1 | ... V50: =SUM(V45:V49) -> 1
C52: ATA | D52: BOL | E52: CAG | F52: CAT | G52: CES | H52: CHI | I52: FIO | J52: GEN | K52: INT | L52: JUV | M52: LAZ | N52: LEC | O52: MIL | P52: NAP | Q52: NOV | R52: PAL | S52: PAR | T52: ROM | U52: SIE | V52: UDI
C53: =COUNTIF(C3:C40, "<=5,3") -> 0 | D53: =COUNTIF(D3:D40, "<=5,3") -> 0 | E53: =COUNTIF(E3:E40, "<=5,3") -> 1 | F53: =COUNTIF(F3:F40, "<=5,3") -> 1 | G53: =COUNTIF(G3:G40, "<=5,3") -> 5 | H53: =COUNTIF(H3:H40, "<=5,3") -> 1 | I53: =COUNTIF(I3:I40, "<=5,3") -> 2 | J53: =COUNTIF(J3:J40, "<=5,3") -> 4 | ... V53: =COUNTIF(V3:V40, "<=5,3") -> 0
C54: =COUNTIFS(C3:C40, ">=5,4",C3:C40, "<=5,7") -> 3 | D54: =COUNTIFS(D3:D40, ">=5,4",D3:D40, "<=5,7") -> 7 | E54: =COUNTIFS(E3:E40, ">=5,4",E3:E40, "<=5,7") -> 8 | F54: =COUNTIFS(F3:F40, ">=5,4",F3:F40, "<=5,7") -> 10 | G54: =COUNTIFS(G3:G40, ">=5,4",G3:G40, "<=5,7") -> 13 | H54: =COUNTIFS(H3:H40, ">=5,4",H3:H40, "<=5,7") -> 8 | I54: =COUNTIFS(I3:I40, ">=5,4",I3:I40, "<=5,7") -> 14 | J54: =COUNTIFS(J3:J40, ">=5,4",J3:J40, "<=5,7") -> 11 | ... V54: =COUNTIFS(V3:V40, ">=5,4",V3:V40, "<=5,7") -> 7
C55: =COUNTIFS(C3:C40, ">=5,8",C3:C40, "<=6,1") -> 21 | D55: =COUNTIFS(D3:D40, ">=5,8",D3:D40, "<=6,1") -> 17 | E55: =COUNTIFS(E3:E40, ">=5,8",E3:E40, "<=6,1") -> 16 | F55: =COUNTIFS(F3:F40, ">=5,8",F3:F40, "<=6,1") -> 9 | G55: =COUNTIFS(G3:G40, ">=5,8",G3:G40, "<=6,1") -> 14 | H55: =COUNTIFS(H3:H40, ">=5,8",H3:H40, "<=6,1") -> 18 | I55: =COUNTIFS(I3:I40, ">=5,8",I3:I40, "<=6,1") -> 9 | J55: =COUNTIFS(J3:J40, ">=5,8",J3:J40, "<=6,1") -> 14 | ... V55: =COUNTIFS(V3:V40, ">=5,8",V3:V40, "<=6,1") -> 12
C56: =COUNTIFS(C3:C40, ">=6,2",C3:C40, "<=6,5") -> 12 | D56: =COUNTIFS(D3:D40, ">=6,2",D3:D40, "<=6,5") -> 12 | E56: =COUNTIFS(E3:E40, ">=6,2",E3:E40, "<=6,5") -> 12 | F56: =COUNTIFS(F3:F40, ">=6,2",F3:F40, "<=6,5") -> 14 | G56: =COUNTIFS(G3:G40, ">=6,2",G3:G40, "<=6,5") -> 6 | H56: =COUNTIFS(H3:H40, ">=6,2",H3:H40, "<=6,5") -> 11 | I56: =COUNTIFS(I3:I40, ">=6,2",I3:I40, "<=6,5") -> 11 | J56: =COUNTIFS(J3:J40, ">=6,2",J3:J40, "<=6,5") -> 8 | ... V56: =COUNTIFS(V3:V40, ">=6,2",V3:V40, "<=6,5") -> 17
C57: =COUNTIF(C3:C40, ">=6,6") -> 2 | D57: =COUNTIF(D3:D40, ">=6,6") -> 2 | E57: =COUNTIF(E3:E40, ">=6,6") -> 1 | F57: =COUNTIF(F3:F40, ">=6,6") -> 4 | G57: =COUNTIF(G3:G40, ">=6,6") -> 0 | H57: =COUNTIF(H3:H40, ">=6,6") -> 0 | I57: =COUNTIF(I3:I40, ">=6,6") -> 2 | J57: =COUNTIF(J3:J40, ">=6,6") -> 1 | ... V57: =COUNTIF(V3:V40, ">=6,6") -> 2
C58: =SUM(C53:C57) -> 38 | D58: =SUM(D53:D57) -> 38 | E58: =SUM(E53:E57) -> 38 | F58: =SUM(F53:F57) -> 38 | G58: =SUM(G53:G57) -> 38 | H58: =SUM(H53:H57) -> 38 | I58: =SUM(I53:I57) -> 38 | J58: =SUM(J53:J57) -> 38 | ... V58: =SUM(V53:V57) -> 38
B61: C*T | C61: ATA | D61: BOL | E61: CAG | F61: CAT | G61: CES | H61: CHI | I61: FIO | J61: GEN | K61: INT | L61: JUV | M61: LAZ | N61: LEC | O61: MIL | P61: NAP | Q61: NOV | R61: PAL | S61: PAR | T61: ROM | U61: SIE | V61: UDI | Y61: C*v | Z61: ATA | AA61: BOL | AB61: CAG | AC61: CAT | AD61: CES | AE61: CHI | AF61: FIO | AG61: GEN | AH61: INT | AI61: JUV | AJ61: LAZ | AK61: LEC | AL61: MIL | AM61: NAP | AN61: NOV | AO61: PAL | AP61: PAR | AQ61: ROM | AR61: SIE | AS61: UDI | AV61: C*p | AW61: ATA | AX61: BOL | AY61: CAG | AZ61: CAT | BA61: CES | BB61: CHI | BC61: FIO | BD61: GEN | BE61: INT | BF61: JUV | BG61: LAZ | BH61: LEC | BI61: MIL | BJ61: NAP | BK61: NOV | BL61: PAL | BM61: PAR | BN61: ROM | BO61: SIE | BP61: UDI | BS61: C*s | BT61: ATA | BU61: BOL | BV61: CAG | BW61: CAT | BX61: CES | BY61: CHI | BZ61: FIO | CA61: GEN | CB61: INT | CC61: JUV | CD61: LAZ | CE61: LEC | CF61: MIL | CG61: NAP | CH61: NOV | CI61: PAL | CJ61: PAR | CK61: ROM | CL61: SIE | CM61: UDI
B62: 1 | C62: =IF(squadre!C3=1, C3, "-") -> 5.8 | D62: =IF(squadre!D3=1, D3, "-") -> 5.9 | E62: =IF(squadre!E3=1, E3, "-") -> 5.9 | F62: =IF(squadre!F3=1, F3, "-") -> - | G62: =IF(squadre!G3=1, G3, "-") -> - | H62: =IF(squadre!H3=1, H3, "-") -> - | I62: =IF(squadre!I3=1, I3, "-") -> - | J62: =IF(squadre!J3=1, J3, "-") -> - | ... V62: =IF(squadre!V3=1, V3, "-") -> 6.3 | Y62: 1 | Z62: =IF(squadre!BC3="1v",C3,"-") -> 5.8 | AA62: =IF(squadre!BD3="1v",D3,"-") -> - | AB62: =IF(squadre!BE3="1v",E3,"-") -> - | AC62: =IF(squadre!BF3="1v",F3,"-") -> - | AD62: =IF(squadre!BG3="1v",G3,"-") -> - | AE62: =IF(squadre!BH3="1v",H3,"-") -> - | AF62: =IF(squadre!BI3="1v",I3,"-") -> - | AG62: =IF(squadre!BJ3="1v",J3,"-") -> - | ... AS62: =IF(squadre!BV3="1v",V3,"-") -> - | AV62: 1 | AW62: =IF(squadre!BC3="1p", C3, "-") -> - | AX62: =IF(squadre!BD3="1p", D3, "-") -> - | AY62: =IF(squadre!BE3="1p", E3, "-") -> - | AZ62: =IF(squadre!BF3="1p", F3, "-") -> - | BA62: =IF(squadre!BG3="1p", G3, "-") -> - | BB62: =IF(squadre!BH3="1p", H3, "-") -> - | BC62: =IF(squadre!BI3="1p", I3, "-") -> - | BD62: =IF(squadre!BJ3="1p", J3, "-") -> - | ... BP62: =IF(squadre!BV3="1p", V3, "-") -> 6.3 | BS62: 1 | BT62: =IF(squadre!BC3="1s", C3, "-") -> - | BU62: =IF(squadre!BD3="1s", D3, "-") -> 5.9 | BV62: =IF(squadre!BE3="1s", E3, "-") -> 5.9 | BW62: =IF(squadre!BF3="1s", F3, "-") -> - | BX62: =IF(squadre!BG3="1s", G3, "-") -> - | BY62: =IF(squadre!BH3="1s", H3, "-") -> - | BZ62: =IF(squadre!BI3="1s", I3, "-") -> - | CA62: =IF(squadre!BJ3="1s", J3, "-") -> - | ... CM62: =IF(squadre!BV3="1s", V3, "-") -> -
B63: 2 | C63: =IF(squadre!C4=1, C4, "-") -> - | D63: =IF(squadre!D4=1, D4, "-") -> - | E63: =IF(squadre!E4=1, E4, "-") -> - | F63: =IF(squadre!F4=1, F4, "-") -> 5.9 | G63: =IF(squadre!G4=1, G4, "-") -> 5.6 | H63: =IF(squadre!H4=1, H4, "-") -> 6.1 | I63: =IF(squadre!I4=1, I4, "-") -> 6.5 | J63: =IF(squadre!J4=1, J4, "-") -> 5.6 | ... V63: =IF(squadre!V4=1, V4, "-") -> - | Y63: 2 | Z63: =IF(squadre!BC4="1v",C4,"-") -> - | AA63: =IF(squadre!BD4="1v",D4,"-") -> - | AB63: =IF(squadre!BE4="1v",E4,"-") -> - | AC63: =IF(squadre!BF4="1v",F4,"-") -> - | AD63: =IF(squadre!BG4="1v",G4,"-") -> - | AE63: =IF(squadre!BH4="1v",H4,"-") -> - | AF63: =IF(squadre!BI4="1v",I4,"-") -> 6.5 | AG63: =IF(squadre!BJ4="1v",J4,"-") -> - | ... AS63: =IF(squadre!BV4="1v",V4,"-") -> - | AV63: 2 | AW63: =IF(squadre!BC4="1p", C4, "-") -> - | AX63: =IF(squadre!BD4="1p", D4, "-") -> - | AY63: =IF(squadre!BE4="1p", E4, "-") -> - | AZ63: =IF(squadre!BF4="1p", F4, "-") -> 5.9 | BA63: =IF(squadre!BG4="1p", G4, "-") -> - | BB63: =IF(squadre!BH4="1p", H4, "-") -> 6.1 | BC63: =IF(squadre!BI4="1p", I4, "-") -> - | BD63: =IF(squadre!BJ4="1p", J4, "-") -> 5.6 | ... BP63: =IF(squadre!BV4="1p", V4, "-") -> - | BS63: 2 | BT63: =IF(squadre!BC4="1s", C4, "-") -> - | BU63: =IF(squadre!BD4="1s", D4, "-") -> - | BV63: =IF(squadre!BE4="1s", E4, "-") -> - | BW63: =IF(squadre!BF4="1s", F4, "-") -> - | BX63: =IF(squadre!BG4="1s", G4, "-") -> 5.6 | BY63: =IF(squadre!BH4="1s", H4, "-") -> - | BZ63: =IF(squadre!BI4="1s", I4, "-") -> - | CA63: =IF(squadre!BJ4="1s", J4, "-") -> - | ... CM63: =IF(squadre!BV4="1s", V4, "-") -> -
B64: 3 | C64: =IF(squadre!C5=1, C5, "-") -> 6.2 | D64: =IF(squadre!D5=1, D5, "-") -> 5.5 | E64: =IF(squadre!E5=1, E5, "-") -> 6.3 | F64: =IF(squadre!F5=1, F5, "-") -> 6.3 | G64: =IF(squadre!G5=1, G5, "-") -> - | H64: =IF(squadre!H5=1, H5, "-") -> - | I64: =IF(squadre!I5=1, I5, "-") -> - | J64: =IF(squadre!J5=1, J5, "-") -> - | ... V64: =IF(squadre!V5=1, V5, "-") -> 6.3 | Y64: 3 | Z64: =IF(squadre!BC5="1v",C5,"-") -> 6.2 | AA64: =IF(squadre!BD5="1v",D5,"-") -> - | AB64: =IF(squadre!BE5="1v",E5,"-") -> 6.3 | AC64: =IF(squadre!BF5="1v",F5,"-") -> 6.3 | AD64: =IF(squadre!BG5="1v",G5,"-") -> - | AE64: =IF(squadre!BH5="1v",H5,"-") -> - | AF64: =IF(squadre!BI5="1v",I5,"-") -> - | AG64: =IF(squadre!BJ5="1v",J5,"-") -> - | ... AS64: =IF(squadre!BV5="1v",V5,"-") -> 6.3 | AV64: 3 | AW64: =IF(squadre!BC5="1p", C5, "-") -> - | AX64: =IF(squadre!BD5="1p", D5, "-") -> - | AY64: =IF(squadre!BE5="1p", E5, "-") -> - | AZ64: =IF(squadre!BF5="1p", F5, "-") -> - | BA64: =IF(squadre!BG5="1p", G5, "-") -> - | BB64: =IF(squadre!BH5="1p", H5, "-") -> - | BC64: =IF(squadre!BI5="1p", I5, "-") -> - | BD64: =IF(squadre!BJ5="1p", J5, "-") -> - | ... BP64: =IF(squadre!BV5="1p", V5, "-") -> - | BS64: 3 | BT64: =IF(squadre!BC5="1s", C5, "-") -> - | BU64: =IF(squadre!BD5="1s", D5, "-") -> 5.5 | BV64: =IF(squadre!BE5="1s", E5, "-") -> - | BW64: =IF(squadre!BF5="1s", F5, "-") -> - | BX64: =IF(squadre!BG5="1s", G5, "-") -> - | BY64: =IF(squadre!BH5="1s", H5, "-") -> - | BZ64: =IF(squadre!BI5="1s", I5, "-") -> - | CA64: =IF(squadre!BJ5="1s", J5, "-") -> - | ... CM64: =IF(squadre!BV5="1s", V5, "-") -> -
B65: 4 | C65: =IF(squadre!C6=1, C6, "-") -> - | D65: =IF(squadre!D6=1, D6, "-") -> - | E65: =IF(squadre!E6=1, E6, "-") -> - | F65: =IF(squadre!F6=1, F6, "-") -> - | G65: =IF(squadre!G6=1, G6, "-") -> 6 | H65: =IF(squadre!H6=1, H6, "-") -> 6 | I65: =IF(squadre!I6=1, I6, "-") -> 6.5 | J65: =IF(squadre!J6=1, J6, "-") -> 6.4 | ... V65: =IF(squadre!V6=1, V6, "-") -> - | Y65: 4 | Z65: =IF(squadre!BC6="1v",C6,"-") -> - | AA65: =IF(squadre!BD6="1v",D6,"-") -> - | AB65: =IF(squadre!BE6="1v",E6,"-") -> - | AC65: =IF(squadre!BF6="1v",F6,"-") -> - | AD65: =IF(squadre!BG6="1v",G6,"-") -> - | AE65: =IF(squadre!BH6="1v",H6,"-") -> 6 | AF65: =IF(squadre!BI6="1v",I6,"-") -> 6.5 | AG65: =IF(squadre!BJ6="1v",J6,"-") -> 6.4 | ... AS65: =IF(squadre!BV6="1v",V6,"-") -> - | AV65: 4 | AW65: =IF(squadre!BC6="1p", C6, "-") -> - | AX65: =IF(squadre!BD6="1p", D6, "-") -> - | AY65: =IF(squadre!BE6="1p", E6, "-") -> - | AZ65: =IF(squadre!BF6="1p", F6, "-") -> - | BA65: =IF(squadre!BG6="1p", G6, "-") -> - | BB65: =IF(squadre!BH6="1p", H6, "-") -> - | BC65: =IF(squadre!BI6="1p", I6, "-") -> - | BD65: =IF(squadre!BJ6="1p", J6, "-") -> - | ... BP65: =IF(squadre!BV6="1p", V6, "-") -> - | BS65: 4 | BT65: =IF(squadre!BC6="1s", C6, "-") -> - | BU65: =IF(squadre!BD6="1s", D6, "-") -> - | BV65: =IF(squadre!BE6="1s", E6, "-") -> - | BW65: =IF(squadre!BF6="1s", F6, "-") -> - | BX65: =IF(squadre!BG6="1s", G6, "-") -> 6 | BY65: =IF(squadre!BH6="1s", H6, "-") -> - | BZ65: =IF(squadre!BI6="1s", I6, "-") -> - | CA65: =IF(squadre!BJ6="1s", J6, "-") -> - | ... CM65: =IF(squadre!BV6="1s", V6, "-") -> -
B66: 5 | C66: =IF(squadre!C7=1, C7, "-") -> 6.2 | D66: =IF(squadre!D7=1, D7, "-") -> 5.9 | E66: =IF(squadre!E7=1, E7, "-") -> 6.2 | F66: =IF(squadre!F7=1, F7, "-") -> 6.2 | G66: =IF(squadre!G7=1, G7, "-") -> - | H66: =IF(squadre!H7=1, H7, "-") -> 6 | I66: =IF(squadre!I7=1, I7, "-") -> - | J66: =IF(squadre!J7=1, J7, "-") -> - | ... V66: =IF(squadre!V7=1, V7, "-") -> - | Y66: 5 | Z66: =IF(squadre!BC7="1v",C7,"-") -> 6.2 | AA66: =IF(squadre!BD7="1v",D7,"-") -> - | AB66: =IF(squadre!BE7="1v",E7,"-") -> - | AC66: =IF(squadre!BF7="1v",F7,"-") -> - | AD66: =IF(squadre!BG7="1v",G7,"-") -> - | AE66: =IF(squadre!BH7="1v",H7,"-") -> 6 | AF66: =IF(squadre!BI7="1v",I7,"-") -> - | AG66: =IF(squadre!BJ7="1v",J7,"-") -> - | ... AS66: =IF(squadre!BV7="1v",V7,"-") -> - | AV66: 5 | AW66: =IF(squadre!BC7="1p", C7, "-") -> - | AX66: =IF(squadre!BD7="1p", D7, "-") -> - | AY66: =IF(squadre!BE7="1p", E7, "-") -> 6.2 | AZ66: =IF(squadre!BF7="1p", F7, "-") -> 6.2 | BA66: =IF(squadre!BG7="1p", G7, "-") -> - | BB66: =IF(squadre!BH7="1p", H7, "-") -> - | BC66: =IF(squadre!BI7="1p", I7, "-") -> - | BD66: =IF(squadre!BJ7="1p", J7, "-") -> - | ... BP66: =IF(squadre!BV7="1p", V7, "-") -> - | BS66: 5 | BT66: =IF(squadre!BC7="1s", C7, "-") -> - | BU66: =IF(squadre!BD7="1s", D7, "-") -> 5.9 | BV66: =IF(squadre!BE7="1s", E7, "-") -> - | BW66: =IF(squadre!BF7="1s", F7, "-") -> - | BX66: =IF(squadre!BG7="1s", G7, "-") -> - | BY66: =IF(squadre!BH7="1s", H7, "-") -> - | BZ66: =IF(squadre!BI7="1s", I7, "-") -> - | CA66: =IF(squadre!BJ7="1s", J7, "-") -> - | ... CM66: =IF(squadre!BV7="1s", V7, "-") -> -
B67: 6 | C67: =IF(squadre!C8=1, C8, "-") -> - | D67: =IF(squadre!D8=1, D8, "-") -> - | E67: =IF(squadre!E8=1, E8, "-") -> - | F67: =IF(squadre!F8=1, F8, "-") -> - | G67: =IF(squadre!G8=1, G8, "-") -> 5.8 | H67: =IF(squadre!H8=1, H8, "-") -> - | I67: =IF(squadre!I8=1, I8, "-") -> 5.7 | J67: =IF(squadre!J8=1, J8, "-") -> - | ... V67: =IF(squadre!V8=1, V8, "-") -> 6.4 | Y67: 6 | Z67: =IF(squadre!BC8="1v",C8,"-") -> - | AA67: =IF(squadre!BD8="1v",D8,"-") -> - | AB67: =IF(squadre!BE8="1v",E8,"-") -> - | AC67: =IF(squadre!BF8="1v",F8,"-") -> - | AD67: =IF(squadre!BG8="1v",G8,"-") -> - | AE67: =IF(squadre!BH8="1v",H8,"-") -> - | AF67: =IF(squadre!BI8="1v",I8,"-") -> - | AG67: =IF(squadre!BJ8="1v",J8,"-") -> - | ... AS67: =IF(squadre!BV8="1v",V8,"-") -> 6.4 | AV67: 6 | AW67: =IF(squadre!BC8="1p", C8, "-") -> - | AX67: =IF(squadre!BD8="1p", D8, "-") -> - | AY67: =IF(squadre!BE8="1p", E8, "-") -> - | AZ67: =IF(squadre!BF8="1p", F8, "-") -> - | BA67: =IF(squadre!BG8="1p", G8, "-") -> 5.8 | BB67: =IF(squadre!BH8="1p", H8, "-") -> - | BC67: =IF(squadre!BI8="1p", I8, "-") -> - | BD67: =IF(squadre!BJ8="1p", J8, "-") -> - | ... BP67: =IF(squadre!BV8="1p", V8, "-") -> - | BS67: 6 | BT67: =IF(squadre!BC8="1s", C8, "-") -> - | BU67: =IF(squadre!BD8="1s", D8, "-") -> - | BV67: =IF(squadre!BE8="1s", E8, "-") -> - | BW67: =IF(squadre!BF8="1s", F8, "-") -> - | BX67: =IF(squadre!BG8="1s", G8, "-") -> - | BY67: =IF(squadre!BH8="1s", H8, "-") -> - | BZ67: =IF(squadre!BI8="1s", I8, "-") -> 5.7 | CA67: =IF(squadre!BJ8="1s", J8, "-") -> - | ... CM67: =IF(squadre!BV8="1s", V8, "-") -> -
B68: 7 | C68: =IF(squadre!C9=1, C9, "-") -> 6.1 | D68: =IF(squadre!D9=1, D9, "-") -> - | E68: =IF(squadre!E9=1, E9, "-") -> 6.1 | F68: =IF(squadre!F9=1, F9, "-") -> 6.3 | G68: =IF(squadre!G9=1, G9, "-") -> 6.2 | H68: =IF(squadre!H9=1, H9, "-") -> 6.1 | I68: =IF(squadre!I9=1, I9, "-") -> - | J68: =IF(squadre!J9=1, J9, "-") -> 5.9 | ... V68: =IF(squadre!V9=1, V9, "-") -> - | Y68: 7 | Z68: =IF(squadre!BC9="1v",C9,"-") -> - | AA68: =IF(squadre!BD9="1v",D9,"-") -> - | AB68: =IF(squadre!BE9="1v",E9,"-") -> - | AC68: =IF(squadre!BF9="1v",F9,"-") -> 6.3 | AD68: =IF(squadre!BG9="1v",G9,"-") -> - | AE68: =IF(squadre!BH9="1v",H9,"-") -> - | AF68: =IF(squadre!BI9="1v",I9,"-") -> - | AG68: =IF(squadre!BJ9="1v",J9,"-") -> - | ... AS68: =IF(squadre!BV9="1v",V9,"-") -> - | AV68: 7 | AW68: =IF(squadre!BC9="1p", C9, "-") -> 6.1 | AX68: =IF(squadre!BD9="1p", D9, "-") -> - | AY68: =IF(squadre!BE9="1p", E9, "-") -> 6.1 | AZ68: =IF(squadre!BF9="1p", F9, "-") -> - | BA68: =IF(squadre!BG9="1p", G9, "-") -> 6.2 | BB68: =IF(squadre!BH9="1p", H9, "-") -> 6.1 | BC68: =IF(squadre!BI9="1p", I9, "-") -> - | BD68: =IF(squadre!BJ9="1p", J9, "-") -> 5.9 | ... BP68: =IF(squadre!BV9="1p", V9, "-") -> - | BS68: 7 | BT68: =IF(squadre!BC9="1s", C9, "-") -> - | BU68: =IF(squadre!BD9="1s", D9, "-") -> - | BV68: =IF(squadre!BE9="1s", E9, "-") -> - | BW68: =IF(squadre!BF9="1s", F9, "-") -> - | BX68: =IF(squadre!BG9="1s", G9, "-") -> - | BY68: =IF(squadre!BH9="1s", H9, "-") -> - | BZ68: =IF(squadre!BI9="1s", I9, "-") -> - | CA68: =IF(squadre!BJ9="1s", J9, "-") -> - | ... CM68: =IF(squadre!BV9="1s", V9, "-") -> -
B69: 8 | C69: =IF(squadre!C10=1, C10, "-") -> - | D69: =IF(squadre!D10=1, D10, "-") -> 5.9 | E69: =IF(squadre!E10=1, E10, "-") -> 6 | F69: =IF(squadre!F10=1, F10, "-") -> - | G69: =IF(squadre!G10=1, G10, "-") -> - | H69: =IF(squadre!H10=1, H10, "-") -> - | I69: =IF(squadre!I10=1, I10, "-") -> 5.8 | J69: =IF(squadre!J10=1, J10, "-") -> - | ... V69: =IF(squadre!V10=1, V10, "-") -> 6.4 | Y69: 8 | Z69: =IF(squadre!BC10="1v",C10,"-") -> - | AA69: =IF(squadre!BD10="1v",D10,"-") -> - | AB69: =IF(squadre!BE10="1v",E10,"-") -> - | AC69: =IF(squadre!BF10="1v",F10,"-") -> - | AD69: =IF(squadre!BG10="1v",G10,"-") -> - | AE69: =IF(squadre!BH10="1v",H10,"-") -> - | AF69: =IF(squadre!BI10="1v",I10,"-") -> - | AG69: =IF(squadre!BJ10="1v",J10,"-") -> - | ... AS69: =IF(squadre!BV10="1v",V10,"-") -> 6.4 | AV69: 8 | AW69: =IF(squadre!BC10="1p", C10, "-") -> - | AX69: =IF(squadre!BD10="1p", D10, "-") -> - | AY69: =IF(squadre!BE10="1p", E10, "-") -> 6 | AZ69: =IF(squadre!BF10="1p", F10, "-") -> - | BA69: =IF(squadre!BG10="1p", G10, "-") -> - | BB69: =IF(squadre!BH10="1p", H10, "-") -> - | BC69: =IF(squadre!BI10="1p", I10, "-") -> 5.8 | BD69: =IF(squadre!BJ10="1p", J10, "-") -> - | ... BP69: =IF(squadre!BV10="1p", V10, "-") -> - | BS69: 8 | BT69: =IF(squadre!BC10="1s", C10, "-") -> - | BU69: =IF(squadre!BD10="1s", D10, "-") -> 5.9 | BV69: =IF(squadre!BE10="1s", E10, "-") -> - | BW69: =IF(squadre!BF10="1s", F10, "-") -> - | BX69: =IF(squadre!BG10="1s", G10, "-") -> - | BY69: =IF(squadre!BH10="1s", H10, "-") -> - | BZ69: =IF(squadre!BI10="1s", I10, "-") -> - | CA69: =IF(squadre!BJ10="1s", J10, "-") -> - | ... CM69: =IF(squadre!BV10="1s", V10, "-") -> -
B70: 9 | C70: =IF(squadre!C11=1, C11, "-") -> 6.3 | D70: =IF(squadre!D11=1, D11, "-") -> - | E70: =IF(squadre!E11=1, E11, "-") -> - | F70: =IF(squadre!F11=1, F11, "-") -> - | G70: =IF(squadre!G11=1, G11, "-") -> 5.9 | H70: =IF(squadre!H11=1, H11, "-") -> 5.7 | I70: =IF(squadre!I11=1, I11, "-") -> - | J70: =IF(squadre!J11=1, J11, "-") -> 6.2 | ... V70: =IF(squadre!V11=1, V11, "-") -> - | Y70: 9 | Z70: =IF(squadre!BC11="1v",C11,"-") -> - | AA70: =IF(squadre!BD11="1v",D11,"-") -> - | AB70: =IF(squadre!BE11="1v",E11,"-") -> - | AC70: =IF(squadre!BF11="1v",F11,"-") -> - | AD70: =IF(squadre!BG11="1v",G11,"-") -> - | AE70: =IF(squadre!BH11="1v",H11,"-") -> - | AF70: =IF(squadre!BI11="1v",I11,"-") -> - | AG70: =IF(squadre!BJ11="1v",J11,"-") -> 6.2 | ... AS70: =IF(squadre!BV11="1v",V11,"-") -> - | AV70: 9 | AW70: =IF(squadre!BC11="1p", C11, "-") -> 6.3 | AX70: =IF(squadre!BD11="1p", D11, "-") -> - | AY70: =IF(squadre!BE11="1p", E11, "-") -> - | AZ70: =IF(squadre!BF11="1p", F11, "-") -> - | BA70: =IF(squadre!BG11="1p", G11, "-") -> 5.9 | BB70: =IF(squadre!BH11="1p", H11, "-") -> - | BC70: =IF(squadre!BI11="1p", I11, "-") -> - | BD70: =IF(squadre!BJ11="1p", J11, "-") -> - | ... BP70: =IF(squadre!BV11="1p", V11, "-") -> - | BS70: 9 | BT70: =IF(squadre!BC11="1s", C11, "-") -> - | BU70: =IF(squadre!BD11="1s", D11, "-") -> - | BV70: =IF(squadre!BE11="1s", E11, "-") -> - | BW70: =IF(squadre!BF11="1s", F11, "-") -> - | BX70: =IF(squadre!BG11="1s", G11, "-") -> - | BY70: =IF(squadre!BH11="1s", H11, "-") -> 5.7 | BZ70: =IF(squadre!BI11="1s", I11, "-") -> - | CA70: =IF(squadre!BJ11="1s", J11, "-") -> - | ... CM70: =IF(squadre!BV11="1s", V11, "-") -> -
B71: 10 | C71: =IF(squadre!C12=1, C12, "-") -> - | D71: =IF(squadre!D12=1, D12, "-") -> 6.2 | E71: =IF(squadre!E12=1, E12, "-") -> 5.6 | F71: =IF(squadre!F12=1, F12, "-") -> 6.7 | G71: =IF(squadre!G12=1, G12, "-") -> - | H71: =IF(squadre!H12=1, H12, "-") -> - | I71: =IF(squadre!I12=1, I12, "-") -> 6.2 | J71: =IF(squadre!J12=1, J12, "-") -> - | ... V71: =IF(squadre!V12=1, V12, "-") -> 6.6 | Y71: 10 | Z71: =IF(squadre!BC12="1v",C12,"-") -> - | AA71: =IF(squadre!BD12="1v",D12,"-") -> 6.2 | AB71: =IF(squadre!BE12="1v",E12,"-") -> - | AC71: =IF(squadre!BF12="1v",F12,"-") -> 6.7 | AD71: =IF(squadre!BG12="1v",G12,"-") -> - | AE71: =IF(squadre!BH12="1v",H12,"-") -> - | AF71: =IF(squadre!BI12="1v",I12,"-") -> 6.2 | AG71: =IF(squadre!BJ12="1v",J12,"-") -> - | ... AS71: =IF(squadre!BV12="1v",V12,"-") -> 6.6 | AV71: 10 | AW71: =IF(squadre!BC12="1p", C12, "-") -> - | AX71: =IF(squadre!BD12="1p", D12, "-") -> - | AY71: =IF(squadre!BE12="1p", E12, "-") -> - | AZ71: =IF(squadre!BF12="1p", F12, "-") -> - | BA71: =IF(squadre!BG12="1p", G12, "-") -> - | BB71: =IF(squadre!BH12="1p", H12, "-") -> - | BC71: =IF(squadre!BI12="1p", I12, "-") -> - | BD71: =IF(squadre!BJ12="1p", J12, "-") -> - | ... BP71: =IF(squadre!BV12="1p", V12, "-") -> - | BS71: 10 | BT71: =IF(squadre!BC12="1s", C12, "-") -> - | BU71: =IF(squadre!BD12="1s", D12, "-") -> - | BV71: =IF(squadre!BE12="1s", E12, "-") -> 5.6 | BW71: =IF(squadre!BF12="1s", F12, "-") -> - | BX71: =IF(squadre!BG12="1s", G12, "-") -> - | BY71: =IF(squadre!BH12="1s", H12, "-") -> - | BZ71: =IF(squadre!BI12="1s", I12, "-") -> - | CA71: =IF(squadre!BJ12="1s", J12, "-") -> - | ... CM71: =IF(squadre!BV12="1s", V12, "-") -> -
B72: 11 | C72: =IF(squadre!C13=1, C13, "-") -> 6.1 | D72: =IF(squadre!D13=1, D13, "-") -> - | E72: =IF(squadre!E13=1, E13, "-") -> - | F72: =IF(squadre!F13=1, F13, "-") -> - | G72: =IF(squadre!G13=1, G13, "-") -> 5.5 | H72: =IF(squadre!H13=1, H13, "-") -> 6.5 | I72: =IF(squadre!I13=1, I13, "-") -> - | J72: =IF(squadre!J13=1, J13, "-") -> 5.7 | ... V72: =IF(squadre!V13=1, V13, "-") -> 6.4 | Y72: 11 | Z72: =IF(squadre!BC13="1v",C13,"-") -> 6.1 | AA72: =IF(squadre!BD13="1v",D13,"-") -> - | AB72: =IF(squadre!BE13="1v",E13,"-") -> - | AC72: =IF(squadre!BF13="1v",F13,"-") -> - | AD72: =IF(squadre!BG13="1v",G13,"-") -> - | AE72: =IF(squadre!BH13="1v",H13,"-") -> 6.5 | AF72: =IF(squadre!BI13="1v",I13,"-") -> - | AG72: =IF(squadre!BJ13="1v",J13,"-") -> - | ... AS72: =IF(squadre!BV13="1v",V13,"-") -> 6.4 | AV72: 11 | AW72: =IF(squadre!BC13="1p", C13, "-") -> - | AX72: =IF(squadre!BD13="1p", D13, "-") -> - | AY72: =IF(squadre!BE13="1p", E13, "-") -> - | AZ72: =IF(squadre!BF13="1p", F13, "-") -> - | BA72: =IF(squadre!BG13="1p", G13, "-") -> - | BB72: =IF(squadre!BH13="1p", H13, "-") -> - | BC72: =IF(squadre!BI13="1p", I13, "-") -> - | BD72: =IF(squadre!BJ13="1p", J13, "-") -> - | ... BP72: =IF(squadre!BV13="1p", V13, "-") -> - | BS72: 11 | BT72: =IF(squadre!BC13="1s", C13, "-") -> - | BU72: =IF(squadre!BD13="1s", D13, "-") -> - | BV72: =IF(squadre!BE13="1s", E13, "-") -> - | BW72: =IF(squadre!BF13="1s", F13, "-") -> - | BX72: =IF(squadre!BG13="1s", G13, "-") -> 5.5 | BY72: =IF(squadre!BH13="1s", H13, "-") -> - | BZ72: =IF(squadre!BI13="1s", I13, "-") -> - | CA72: =IF(squadre!BJ13="1s", J13, "-") -> 5.7 | ... CM72: =IF(squadre!BV13="1s", V13, "-") -> -
B73: 12 | C73: =IF(squadre!C14=1, C14, "-") -> - | D73: =IF(squadre!D14=1, D14, "-") -> 5.9 | E73: =IF(squadre!E14=1, E14, "-") -> - | F73: =IF(squadre!F14=1, F14, "-") -> 5.6 | G73: =IF(squadre!G14=1, G14, "-") -> - | H73: =IF(squadre!H14=1, H14, "-") -> - | I73: =IF(squadre!I14=1, I14, "-") -> 6.2 | J73: =IF(squadre!J14=1, J14, "-") -> 6.1 | ... V73: =IF(squadre!V14=1, V14, "-") -> - | Y73: 12 | Z73: =IF(squadre!BC14="1v",C14,"-") -> - | AA73: =IF(squadre!BD14="1v",D14,"-") -> - | AB73: =IF(squadre!BE14="1v",E14,"-") -> - | AC73: =IF(squadre!BF14="1v",F14,"-") -> - | AD73: =IF(squadre!BG14="1v",G14,"-") -> - | AE73: =IF(squadre!BH14="1v",H14,"-") -> - | AF73: =IF(squadre!BI14="1v",I14,"-") -> - | AG73: =IF(squadre!BJ14="1v",J14,"-") -> 6.1 | ... AS73: =IF(squadre!BV14="1v",V14,"-") -> - | AV73: 12 | AW73: =IF(squadre!BC14="1p", C14, "-") -> - | AX73: =IF(squadre!BD14="1p", D14, "-") -> - | AY73: =IF(squadre!BE14="1p", E14, "-") -> - | AZ73: =IF(squadre!BF14="1p", F14, "-") -> - | BA73: =IF(squadre!BG14="1p", G14, "-") -> - | BB73: =IF(squadre!BH14="1p", H14, "-") -> - | BC73: =IF(squadre!BI14="1p", I14, "-") -> 6.2 | BD73: =IF(squadre!BJ14="1p", J14, "-") -> - | ... BP73: =IF(squadre!BV14="1p", V14, "-") -> - | BS73: 12 | BT73: =IF(squadre!BC14="1s", C14, "-") -> - | BU73: =IF(squadre!BD14="1s", D14, "-") -> 5.9 | BV73: =IF(squadre!BE14="1s", E14, "-") -> - | BW73: =IF(squadre!BF14="1s", F14, "-") -> 5.6 | BX73: =IF(squadre!BG14="1s", G14, "-") -> - | BY73: =IF(squadre!BH14="1s", H14, "-") -> - | BZ73: =IF(squadre!BI14="1s", I14, "-") -> - | CA73: =IF(squadre!BJ14="1s", J14, "-") -> - | ... CM73: =IF(squadre!BV14="1s", V14, "-") -> -
... B99: 38 | C99: =IF(squadre!C40=1, C40, "-") -> - | D99: =IF(squadre!D40=1, D40, "-") -> - | E99: =IF(squadre!E40=1, E40, "-") -> - | F99: =IF(squadre!F40=1, F40, "-") -> 5.5 | G99: =IF(squadre!G40=1, G40, "-") -> 6 | H99: =IF(squadre!H40=1, H40, "-") -> 6.2 | I99: =IF(squadre!I40=1, I40, "-") -> 5.4 | J99: =IF(squadre!J40=1, J40, "-") -> 6.3 | ... V99: =IF(squadre!V40=1, V40, "-") -> - | Y99: 38 | Z99: =IF(squadre!BC40="1v",C40,"-") -> - | AA99: =IF(squadre!BD40="1v",D40,"-") -> - | AB99: =IF(squadre!BE40="1v",E40,"-") -> - | AC99: =IF(squadre!BF40="1v",F40,"-") -> - | AD99: =IF(squadre!BG40="1v",G40,"-") -> - | AE99: =IF(squadre!BH40="1v",H40,"-") -> 6.2 | AF99: =IF(squadre!BI40="1v",I40,"-") -> - | AG99: =IF(squadre!BJ40="1v",J40,"-") -> 6.3 | ... AS99: =IF(squadre!BV40="1v",V40,"-") -> - | AV99: 38 | AW99: =IF(squadre!BC40="1p", C40, "-") -> - | AX99: =IF(squadre!BD40="1p", D40, "-") -> - | AY99: =IF(squadre!BE40="1p", E40, "-") -> - | AZ99: =IF(squadre!BF40="1p", F40, "-") -> - | BA99: =IF(squadre!BG40="1p", G40, "-") -> - | BB99: =IF(squadre!BH40="1p", H40, "-") -> - | BC99: =IF(squadre!BI40="1p", I40, "-") -> 5.4 | BD99: =IF(squadre!BJ40="1p", J40, "-") -> - | ... BP99: =IF(squadre!BV40="1p", V40, "-") -> - | BS99: 38 | BT99: =IF(squadre!BC40="1s", C40, "-") -> - | BU99: =IF(squadre!BD40="1s", D40, "-") -> - | BV99: =IF(squadre!BE40="1s", E40, "-") -> - | BW99: =IF(squadre!BF40="1s", F40, "-") -> 5.5 | BX99: =IF(squadre!BG40="1s", G40, "-") -> 6 | BY99: =IF(squadre!BH40="1s", H40, "-") -> - | BZ99: =IF(squadre!BI40="1s", I40, "-") -> - | CA99: =IF(squadre!BJ40="1s", J40, "-") -> - | ... CM99: =IF(squadre!BV40="1s", V40, "-") -> -
C101: =SUM(C62:C99)/19 -> 6.1157895 | D101: =SUM(D62:D99)/19 -> 6.0631579 | E101: =SUM(E62:E99)/19 -> 6.1473684 | F101: =SUM(F62:F99)/19 -> 6.1789474 | G101: =SUM(G62:G99)/19 -> 5.9 | H101: =SUM(H62:H99)/19 -> 6.0263158 | I101: =SUM(I62:I99)/19 -> 5.9263158 | J101: =SUM(J62:J99)/19 -> 5.9842105 | ... V101: =SUM(V62:V99)/19 -> 6.2052632 | Z101: =SUM(Z62:Z99)/19 -> 2.9526316 | AA101: =SUM(AA62:AA99)/19 -> 2.6578947 | AB101: =SUM(AB62:AB99)/19 -> 2.3736842 | AC101: =SUM(AC62:AC99)/19 -> 3.0789474 | AD101: =SUM(AD62:AD99)/19 -> 0.67368421 | AE101: =SUM(AE62:AE99)/19 -> 2.6210526 | AF101: =SUM(AF62:AF99)/19 -> 2.6578947 | AG101: =SUM(AG62:AG99)/19 -> 2.9842105 | ... AS101: =SUM(AS62:AS99)/19 -> 4.3315789 | AW101: =SUM(AW62:AW99)/19 -> 1.9368421 | AX101: =SUM(AX62:AX99)/19 -> 1.2842105 | AY101: =SUM(AY62:AY99)/19 -> 2.5526316 | AZ101: =SUM(AZ62:AZ99)/19 -> 1.6105263 | BA101: =SUM(BA62:BA99)/19 -> 2.2 | BB101: =SUM(BB62:BB99)/19 -> 1.8947368 | BC101: =SUM(BC62:BC99)/19 -> 2.1473684 | BD101: =SUM(BD62:BD99)/19 -> 1.8526316 | ... BP101: =SUM(BP62:BP99)/19 -> 1.2684211 | BT101: =SUM(BT62:BT99)/19 -> 1.2263158 | BU101: =SUM(BU62:BU99)/19 -> 2.1210526 | BV101: =SUM(BV62:BV99)/19 -> 1.2210526 | BW101: =SUM(BW62:BW99)/19 -> 1.4894737 | BX101: =SUM(BX62:BX99)/19 -> 3.0263158 | BY101: =SUM(BY62:BY99)/19 -> 1.5105263 | BZ101: =SUM(BZ62:BZ99)/19 -> 1.1210526 | CA101: =SUM(CA62:CA99)/19 -> 1.1473684 | ... CM101: =SUM(CM62:CM99)/19 -> 0.60526316
B103: C*T | C103: ATA | D103: BOL | E103: CAG | F103: CAT | G103: CES | H103: CHI | I103: FIO | J103: GEN | K103: INT | L103: JUV | M103: LAZ | N103: LEC | O103: MIL | P103: NAP | Q103: NOV | R103: PAL | S103: PAR | T103: ROM | U103: SIE | V103: UDI | Y103: C*v | Z103: ATA | AA103: BOL | AB103: CAG | AC103: CAT | AD103: CES | AE103: CHI | AF103: FIO | AG103: GEN | AH103: INT | AI103: JUV | AJ103: LAZ | AK103: LEC | AL103: MIL | AM103: NAP | AN103: NOV | AO103: PAL | AP103: PAR | AQ103: ROM | AR103: SIE | AS103: UDI | AV103: C*p | AW103: ATA | AX103: BOL | AY103: CAG | AZ103: CAT | BA103: CES | BB103: CHI | BC103: FIO | BD103: GEN | BE103: INT | BF103: JUV | BG103: LAZ | BH103: LEC | BI103: MIL | BJ103: NAP | BK103: NOV | BL103: PAL | BM103: PAR | BN103: ROM | BO103: SIE | BP103: UDI | BS103: C*s | BT103: ATA | BU103: BOL | BV103: CAG | BW103: CAT | BX103: CES | BY103: CHI | BZ103: FIO | CA103: GEN | CB103: INT | CC103: JUV | CD103: LAZ | CE103: LEC | CF103: MIL | CG103: NAP | CH103: NOV | CI103: PAL | CJ103: PAR | CK103: ROM | CL103: SIE | CM103: UDI
C104: =C112/C$117 -> 0 | D104: =D112/D$117 -> 0 | E104: =E112/E$117 -> 0 | F104: =F112/F$117 -> 0 | G104: =G112/G$117 -> 0 | H104: =H112/H$117 -> 0 | I104: =I112/I$117 -> 0.10526316 | J104: =J112/J$117 -> 0.052631579 | ... V104: =V112/V$117 -> 0 | Z104: =Z112/Z$117 -> 0 | AA104: =AA112/AA$117 -> 0 | AB104: =AB112/AB$117 -> 0 | AC104: =AC112/AC$117 -> 0 | AD104: =AD112/AD$117 -> 0 | AE104: =AE112/AE$117 -> 0 | AF104: =AF112/AF$117 -> 0 | AG104: =AG112/AG$117 -> 0 | ... AS104: =AS112/AS$117 -> 0 | AW104: =AW112/AW$117 -> 0 | AX104: =AX112/AX$117 -> 0 | AY104: =AY112/AY$117 -> 0 | AZ104: =AZ112/AZ$117 -> 0 | BA104: =BA112/BA$117 -> 0 | BB104: =BB112/BB$117 -> 0 | BC104: =BC112/BC$117 -> 0 | BD104: =BD112/BD$117 -> 0 | ... BP104: =BP112/BP$117 -> 0 | BT104: =BT112/BT$117 -> 0 | BU104: =BU112/BU$117 -> 0 | BV104: =BV112/BV$117 -> 0 | BW104: =BW112/BW$117 -> 0 | BX104: =BX112/BX$117 -> 0 | BY104: =BY112/BY$117 -> 0 | BZ104: =BZ112/BZ$117 -> 0.5 | CA104: =CA112/CA$117 -> 0.25 | ... CM104: =CM112/CM$117 -> 0
C105: =C113/C$117 -> 0 | D105: =D113/D$117 -> 0.15789474 | E105: =E113/E$117 -> 0.052631579 | F105: =F113/F$117 -> 0.15789474 | G105: =G113/G$117 -> 0.31578947 | H105: =H113/H$117 -> 0.10526316 | I105: =I113/I$117 -> 0.26315789 | J105: =J113/J$117 -> 0.21052632 | ... V105: =V113/V$117 -> 0.052631579 | Z105: =Z113/Z$117 -> 0 | AA105: =AA113/AA$117 -> 0 | AB105: =AB113/AB$117 -> 0 | AC105: =AC113/AC$117 -> 0 | AD105: =AD113/AD$117 -> 0 | AE105: =AE113/AE$117 -> 0 | AF105: =AF113/AF$117 -> 0.125 | AG105: =AG113/AG$117 -> 0 | ... AS105: =AS113/AS$117 -> 0 | AW105: =AW113/AW$117 -> 0 | AX105: =AX113/AX$117 -> 0 | AY105: =AY113/AY$117 -> 0 | AZ105: =AZ113/AZ$117 -> 0 | BA105: =BA113/BA$117 -> 0 | BB105: =BB113/BB$117 -> 0 | BC105: =BC113/BC$117 -> 0.28571429 | BD105: =BD113/BD$117 -> 0.33333333 | ... BP105: =BP113/BP$117 -> 0 | BT105: =BT113/BT$117 -> 0 | BU105: =BU113/BU$117 -> 0.42857143 | BV105: =BV113/BV$117 -> 0.25 | BW105: =BW113/BW$117 -> 0.6 | BX105: =BX113/BX$117 -> 0.6 | BY105: =BY113/BY$117 -> 0.4 | BZ105: =BZ113/BZ$117 -> 0.5 | CA105: =CA113/CA$117 -> 0.5 | ... CM105: =CM113/CM$117 -> 0.5
C106: =C114/C$117 -> 0.57894737 | D106: =D114/D$117 -> 0.36842105 | E106: =E114/E$117 -> 0.47368421 | F106: =F114/F$117 -> 0.26315789 | G106: =G114/G$117 -> 0.52631579 | H106: =H114/H$117 -> 0.63157895 | I106: =I114/I$117 -> 0.21052632 | J106: =J114/J$117 -> 0.31578947 | ... V106: =V114/V$117 -> 0.31578947 | Z106: =Z114/Z$117 -> 0.33333333 | AA106: =AA114/AA$117 -> 0.125 | AB106: =AB114/AB$117 -> 0 | AC106: =AC114/AC$117 -> 0 | AD106: =AD114/AD$117 -> 0 | AE106: =AE114/AE$117 -> 0.375 | AF106: =AF114/AF$117 -> 0 | AG106: =AG114/AG$117 -> 0.22222222 | ... AS106: =AS114/AS$117 -> 0.15384615 | AW106: =AW114/AW$117 -> 0.66666667 | AX106: =AX114/AX$117 -> 0.5 | AY106: =AY114/AY$117 -> 0.75 | AZ106: =AZ114/AZ$117 -> 0.6 | BA106: =BA114/BA$117 -> 0.85714286 | BB106: =BB114/BB$117 -> 1 | BC106: =BC114/BC$117 -> 0.57142857 | BD106: =BD114/BD$117 -> 0.5 | ... BP106: =BP114/BP$117 -> 0.75 | BT106: =BT114/BT$117 -> 1 | BU106: =BU114/BU$117 -> 0.57142857 | BV106: =BV114/BV$117 -> 0.75 | BW106: =BW114/BW$117 -> 0.4 | BX106: =BX114/BX$117 -> 0.4 | BY106: =BY114/BY$117 -> 0.6 | BZ106: =BZ114/BZ$117 -> 0 | CA106: =CA114/CA$117 -> 0.25 | ... CM106: =CM114/CM$117 -> 0.5
C107: =C115/C$117 -> 0.31578947 | D107: =D115/D$117 -> 0.42105263 | E107: =E115/E$117 -> 0.42105263 | F107: =F115/F$117 -> 0.36842105 | G107: =G115/G$117 -> 0.15789474 | H107: =H115/H$117 -> 0.26315789 | I107: =I115/I$117 -> 0.42105263 | J107: =J115/J$117 -> 0.36842105 | ... V107: =V115/V$117 -> 0.52631579 | Z107: =Z115/Z$117 -> 0.55555556 | AA107: =AA115/AA$117 -> 0.75 | AB107: =AB115/AB$117 -> 0.85714286 | AC107: =AC115/AC$117 -> 0.55555556 | AD107: =AD115/AD$117 -> 1 | AE107: =AE115/AE$117 -> 0.625 | AF107: =AF115/AF$117 -> 0.875 | AG107: =AG115/AG$117 -> 0.66666667 | ... AS107: =AS115/AS$117 -> 0.69230769 | AW107: =AW115/AW$117 -> 0.16666667 | AX107: =AX115/AX$117 -> 0.5 | AY107: =AY115/AY$117 -> 0.25 | AZ107: =AZ115/AZ$117 -> 0.4 | BA107: =BA115/BA$117 -> 0.14285714 | BB107: =BB115/BB$117 -> 0 | BC107: =BC115/BC$117 -> 0.14285714 | BD107: =BD115/BD$117 -> 0.16666667 | ... BP107: =BP115/BP$117 -> 0.25 | BT107: =BT115/BT$117 -> 0 | BU107: =BU115/BU$117 -> 0 | BV107: =BV115/BV$117 -> 0 | BW107: =BW115/BW$117 -> 0 | BX107: =BX115/BX$117 -> 0 | BY107: =BY115/BY$117 -> 0 | BZ107: =BZ115/BZ$117 -> 0 | CA107: =CA115/CA$117 -> 0 | ... CM107: =CM115/CM$117 -> 0
C108: =C116/C$117 -> 0.10526316 | D108: =D116/D$117 -> 0.052631579 | E108: =E116/E$117 -> 0.052631579 | F108: =F116/F$117 -> 0.21052632 | G108: =G116/G$117 -> 0 | H108: =H116/H$117 -> 0 | I108: =I116/I$117 -> 0 | J108: =J116/J$117 -> 0.052631579 | ... V108: =V116/V$117 -> 0.10526316 | Z108: =Z116/Z$117 -> 0.11111111 | AA108: =AA116/AA$117 -> 0.125 | AB108: =AB116/AB$117 -> 0.14285714 | AC108: =AC116/AC$117 -> 0.44444444 | AD108: =AD116/AD$117 -> 0 | AE108: =AE116/AE$117 -> 0 | AF108: =AF116/AF$117 -> 0 | AG108: =AG116/AG$117 -> 0.11111111 | ... AS108: =AS116/AS$117 -> 0.15384615 | AW108: =AW116/AW$117 -> 0.16666667 | AX108: =AX116/AX$117 -> 0 | AY108: =AY116/AY$117 -> 0 | AZ108: =AZ116/AZ$117 -> 0 | BA108: =BA116/BA$117 -> 0 | BB108: =BB116/BB$117 -> 0 | BC108: =BC116/BC$117 -> 0 | BD108: =BD116/BD$117 -> 0 | ... BP108: =BP116/BP$117 -> 0 | BT108: =BT116/BT$117 -> 0 | BU108: =BU116/BU$117 -> 0 | BV108: =BV116/BV$117 -> 0 | BW108: =BW116/BW$117 -> 0 | BX108: =BX116/BX$117 -> 0 | BY108: =BY116/BY$117 -> 0 | BZ108: =BZ116/BZ$117 -> 0 | CA108: =CA116/CA$117 -> 0 | ... CM108: =CM116/CM$117 -> 0
C109: =SUM(C104:C108) -> 1 | D109: =SUM(D104:D108) -> 1 | E109: =SUM(E104:E108) -> 1 | F109: =SUM(F104:F108) -> 1 | G109: =SUM(G104:G108) -> 1 | H109: =SUM(H104:H108) -> 1 | I109: =SUM(I104:I108) -> 1 | J109: =SUM(J104:J108) -> 1 | ... V109: =SUM(V104:V108) -> 1 | Z109: =SUM(Z104:Z108) -> 1 | AA109: =SUM(AA104:AA108) -> 1 | AB109: =SUM(AB104:AB108) -> 1 | AC109: =SUM(AC104:AC108) -> 1 | AD109: =SUM(AD104:AD108) -> 1 | AE109: =SUM(AE104:AE108) -> 1 | AF109: =SUM(AF104:AF108) -> 1 | AG109: =SUM(AG104:AG108) -> 1 | ... AS109: =SUM(AS104:AS108) -> 1 | AW109: =SUM(AW104:AW108) -> 1 | AX109: =SUM(AX104:AX108) -> 1 | AY109: =SUM(AY104:AY108) -> 1 | AZ109: =SUM(AZ104:AZ108) -> 1 | BA109: =SUM(BA104:BA108) -> 1 | BB109: =SUM(BB104:BB108) -> 1 | BC109: =SUM(BC104:BC108) -> 1 | BD109: =SUM(BD104:BD108) -> 1 | ... BP109: =SUM(BP104:BP108) -> 1 | BT109: =SUM(BT104:BT108) -> 1 | BU109: =SUM(BU104:BU108) -> 1 | BV109: =SUM(BV104:BV108) -> 1 | BW109: =SUM(BW104:BW108) -> 1 | BX109: =SUM(BX104:BX108) -> 1 | BY109: =SUM(BY104:BY108) -> 1 | BZ109: =SUM(BZ104:BZ108) -> 1 | CA109: =SUM(CA104:CA108) -> 1 | ... CM109: =SUM(CM104:CM108) -> 1
B111: C*T | C111: ATA | D111: BOL | E111: CAG | F111: CAT | G111: CES | H111: CHI | I111: FIO | J111: GEN | K111: INT | L111: JUV | M111: LAZ | N111: LEC | O111: MIL | P111: NAP | Q111: NOV | R111: PAL | S111: PAR | T111: ROM | U111: SIE | V111: UDI | Y111: C*v | Z111: ATA | AA111: BOL | AB111: CAG | AC111: CAT | AD111: CES | AE111: CHI | AF111: FIO | AG111: GEN | AH111: INT | AI111: JUV | AJ111: LAZ | AK111: LEC | AL111: MIL | AM111: NAP | AN111: NOV | AO111: PAL | AP111: PAR | AQ111: ROM | AR111: SIE | AS111: UDI | AV111: C*p | AW111: ATA | AX111: BOL | AY111: CAG | AZ111: CAT | BA111: CES | BB111: CHI | BC111: FIO | BD111: GEN | BE111: INT | BF111: JUV | BG111: LAZ | BH111: LEC | BI111: MIL | BJ111: NAP | BK111: NOV | BL111: PAL | BM111: PAR | BN111: ROM | BO111: SIE | BP111: UDI | BS111: C*s | BT111: ATA | BU111: BOL | BV111: CAG | BW111: CAT | BX111: CES | BY111: CHI | BZ111: FIO | CA111: GEN | CB111: INT | CC111: JUV | CD111: LAZ | CE111: LEC | CF111: MIL | CG111: NAP | CH111: NOV | CI111: PAL | CJ111: PAR | CK111: ROM | CL111: SIE | CM111: UDI
C112: =COUNTIF(C62:C99, "<=5,3") -> 0 | D112: =COUNTIF(D62:D99, "<=5,3") -> 0 | E112: =COUNTIF(E62:E99, "<=5,3") -> 0 | F112: =COUNTIF(F62:F99, "<=5,3") -> 0 | G112: =COUNTIF(G62:G99, "<=5,3") -> 0 | H112: =COUNTIF(H62:H99, "<=5,3") -> 0 | I112: =COUNTIF(I62:I99, "<=5,3") -> 2 | J112: =COUNTIF(J62:J99, "<=5,3") -> 1 | ... V112: =COUNTIF(V62:V99, "<=5,3") -> 0 | Z112: =COUNTIF(Z62:Z99, "<=5,3") -> 0 | AA112: =COUNTIF(AA62:AA99, "<=5,3") -> 0 | AB112: =COUNTIF(AB62:AB99, "<=5,3") -> 0 | AC112: =COUNTIF(AC62:AC99, "<=5,3") -> 0 | AD112: =COUNTIF(AD62:AD99, "<=5,3") -> 0 | AE112: =COUNTIF(AE62:AE99, "<=5,3") -> 0 | AF112: =COUNTIF(AF62:AF99, "<=5,3") -> 0 | AG112: =COUNTIF(AG62:AG99, "<=5,3") -> 0 | ... AS112: =COUNTIF(AS62:AS99, "<=5,3") -> 0 | AW112: =COUNTIF(AW62:AW99, "<=5,3") -> 0 | AX112: =COUNTIF(AX62:AX99, "<=5,3") -> 0 | AY112: =COUNTIF(AY62:AY99, "<=5,3") -> 0 | AZ112: =COUNTIF(AZ62:AZ99, "<=5,3") -> 0 | BA112: =COUNTIF(BA62:BA99, "<=5,3") -> 0 | BB112: =COUNTIF(BB62:BB99, "<=5,3") -> 0 | BC112: =COUNTIF(BC62:BC99, "<=5,3") -> 0 | BD112: =COUNTIF(BD62:BD99, "<=5,3") -> 0 | ... BP112: =COUNTIF(BP62:BP99, "<=5,3") -> 0 | BT112: =COUNTIF(BT62:BT99, "<=5,3") -> 0 | BU112: =COUNTIF(BU62:BU99, "<=5,3") -> 0 | BV112: =COUNTIF(BV62:BV99, "<=5,3") -> 0 | BW112: =COUNTIF(BW62:BW99, "<=5,3") -> 0 | BX112: =COUNTIF(BX62:BX99, "<=5,3") -> 0 | BY112: =COUNTIF(BY62:BY99, "<=5,3") -> 0 | BZ112: =COUNTIF(BZ62:BZ99, "<=5,3") -> 2 | CA112: =COUNTIF(CA62:CA99, "<=5,3") -> 1 | ... CM112: =COUNTIF(CM62:CM99, "<=5,3") -> 0
C113: =COUNTIFS(C62:C99, ">=5,4",C62:C99, "<=5,7") -> 0 | D113: =COUNTIFS(D62:D99, ">=5,4",D62:D99, "<=5,7") -> 3 | E113: =COUNTIFS(E62:E99, ">=5,4",E62:E99, "<=5,7") -> 1 | F113: =COUNTIFS(F62:F99, ">=5,4",F62:F99, "<=5,7") -> 3 | G113: =COUNTIFS(G62:G99, ">=5,4",G62:G99, "<=5,7") -> 6 | H113: =COUNTIFS(H62:H99, ">=5,4",H62:H99, "<=5,7") -> 2 | I113: =COUNTIFS(I62:I99, ">=5,4",I62:I99, "<=5,7") -> 5 | J113: =COUNTIFS(J62:J99, ">=5,4",J62:J99, "<=5,7") -> 4 | ... V113: =COUNTIFS(V62:V99, ">=5,4",V62:V99, "<=5,7") -> 1 | Z113: =COUNTIFS(Z62:Z99, ">=5,4",Z62:Z99, "<=5,7") -> 0 | AA113: =COUNTIFS(AA62:AA99, ">=5,4",AA62:AA99, "<=5,7") -> 0 | AB113: =COUNTIFS(AB62:AB99, ">=5,4",AB62:AB99, "<=5,7") -> 0 | AC113: =COUNTIFS(AC62:AC99, ">=5,4",AC62:AC99, "<=5,7") -> 0 | AD113: =COUNTIFS(AD62:AD99, ">=5,4",AD62:AD99, "<=5,7") -> 0 | AE113: =COUNTIFS(AE62:AE99, ">=5,4",AE62:AE99, "<=5,7") -> 0 | AF113: =COUNTIFS(AF62:AF99, ">=5,4",AF62:AF99, "<=5,7") -> 1 | AG113: =COUNTIFS(AG62:AG99, ">=5,4",AG62:AG99, "<=5,7") -> 0 | ... AS113: =COUNTIFS(AS62:AS99, ">=5,4",AS62:AS99, "<=5,7") -> 0 | AW113: =COUNTIFS(AW62:AW99, ">=5,4",AW62:AW99, "<=5,7") -> 0 | AX113: =COUNTIFS(AX62:AX99, ">=5,4",AX62:AX99, "<=5,7") -> 0 | AY113: =COUNTIFS(AY62:AY99, ">=5,4",AY62:AY99, "<=5,7") -> 0 | AZ113: =COUNTIFS(AZ62:AZ99, ">=5,4",AZ62:AZ99, "<=5,7") -> 0 | BA113: =COUNTIFS(BA62:BA99, ">=5,4",BA62:BA99, "<=5,7") -> 0 | BB113: =COUNTIFS(BB62:BB99, ">=5,4",BB62:BB99, "<=5,7") -> 0 | BC113: =COUNTIFS(BC62:BC99, ">=5,4",BC62:BC99, "<=5,7") -> 2 | BD113: =COUNTIFS(BD62:BD99, ">=5,4",BD62:BD99, "<=5,7") -> 2 | ... BP113: =COUNTIFS(BP62:BP99, ">=5,4",BP62:BP99, "<=5,7") -> 0 | BT113: =COUNTIFS(BT62:BT99, ">=5,4",BT62:BT99, "<=5,7") -> 0 | BU113: =COUNTIFS(BU62:BU99, ">=5,4",BU62:BU99, "<=5,7") -> 3 | BV113: =COUNTIFS(BV62:BV99, ">=5,4",BV62:BV99, "<=5,7") -> 1 | BW113: =COUNTIFS(BW62:BW99, ">=5,4",BW62:BW99, "<=5,7") -> 3 | BX113: =COUNTIFS(BX62:BX99, ">=5,4",BX62:BX99, "<=5,7") -> 6 | BY113: =COUNTIFS(BY62:BY99, ">=5,4",BY62:BY99, "<=5,7") -> 2 | BZ113: =COUNTIFS(BZ62:BZ99, ">=5,4",BZ62:BZ99, "<=5,7") -> 2 | CA113: =COUNTIFS(CA62:CA99, ">=5,4",CA62:CA99, "<=5,7") -> 2 | ... CM113: =COUNTIFS(CM62:CM99, ">=5,4",CM62:CM99, "<=5,7") -> 1
C114: =COUNTIFS(C62:C99, ">=5,8",C62:C99, "<=6,1") -> 11 | D114: =COUNTIFS(D62:D99, ">=5,8",D62:D99, "<=6,1") -> 7 | E114: =COUNTIFS(E62:E99, ">=5,8",E62:E99, "<=6,1") -> 9 | F114: =COUNTIFS(F62:F99, ">=5,8",F62:F99, "<=6,1") -> 5 | G114: =COUNTIFS(G62:G99, ">=5,8",G62:G99, "<=6,1") -> 10 | H114: =COUNTIFS(H62:H99, ">=5,8",H62:H99, "<=6,1") -> 12 | I114: =COUNTIFS(I62:I99, ">=5,8",I62:I99, "<=6,1") -> 4 | J114: =COUNTIFS(J62:J99, ">=5,8",J62:J99, "<=6,1") -> 6 | ... V114: =COUNTIFS(V62:V99, ">=5,8",V62:V99, "<=6,1") -> 6 | Z114: =COUNTIFS(Z62:Z99, ">=5,8",Z62:Z99, "<=6,1") -> 3 | AA114: =COUNTIFS(AA62:AA99, ">=5,8",AA62:AA99, "<=6,1") -> 1 | AB114: =COUNTIFS(AB62:AB99, ">=5,8",AB62:AB99, "<=6,1") -> 0 | AC114: =COUNTIFS(AC62:AC99, ">=5,8",AC62:AC99, "<=6,1") -> 0 | AD114: =COUNTIFS(AD62:AD99, ">=5,8",AD62:AD99, "<=6,1") -> 0 | AE114: =COUNTIFS(AE62:AE99, ">=5,8",AE62:AE99, "<=6,1") -> 3 | AF114: =COUNTIFS(AF62:AF99, ">=5,8",AF62:AF99, "<=6,1") -> 0 | AG114: =COUNTIFS(AG62:AG99, ">=5,8",AG62:AG99, "<=6,1") -> 2 | ... AS114: =COUNTIFS(AS62:AS99, ">=5,8",AS62:AS99, "<=6,1") -> 2 | AW114: =COUNTIFS(AW62:AW99, ">=5,8",AW62:AW99, "<=6,1") -> 4 | AX114: =COUNTIFS(AX62:AX99, ">=5,8",AX62:AX99, "<=6,1") -> 2 | AY114: =COUNTIFS(AY62:AY99, ">=5,8",AY62:AY99, "<=6,1") -> 6 | AZ114: =COUNTIFS(AZ62:AZ99, ">=5,8",AZ62:AZ99, "<=6,1") -> 3 | BA114: =COUNTIFS(BA62:BA99, ">=5,8",BA62:BA99, "<=6,1") -> 6 | BB114: =COUNTIFS(BB62:BB99, ">=5,8",BB62:BB99, "<=6,1") -> 6 | BC114: =COUNTIFS(BC62:BC99, ">=5,8",BC62:BC99, "<=6,1") -> 4 | BD114: =COUNTIFS(BD62:BD99, ">=5,8",BD62:BD99, "<=6,1") -> 3 | ... BP114: =COUNTIFS(BP62:BP99, ">=5,8",BP62:BP99, "<=6,1") -> 3 | BT114: =COUNTIFS(BT62:BT99, ">=5,8",BT62:BT99, "<=6,1") -> 4 | BU114: =COUNTIFS(BU62:BU99, ">=5,8",BU62:BU99, "<=6,1") -> 4 | BV114: =COUNTIFS(BV62:BV99, ">=5,8",BV62:BV99, "<=6,1") -> 3 | BW114: =COUNTIFS(BW62:BW99, ">=5,8",BW62:BW99, "<=6,1") -> 2 | BX114: =COUNTIFS(BX62:BX99, ">=5,8",BX62:BX99, "<=6,1") -> 4 | BY114: =COUNTIFS(BY62:BY99, ">=5,8",BY62:BY99, "<=6,1") -> 3 | BZ114: =COUNTIFS(BZ62:BZ99, ">=5,8",BZ62:BZ99, "<=6,1") -> 0 | CA114: =COUNTIFS(CA62:CA99, ">=5,8",CA62:CA99, "<=6,1") -> 1 | ... CM114: =COUNTIFS(CM62:CM99, ">=5,8",CM62:CM99, "<=6,1") -> 1
C115: =COUNTIFS(C62:C99, ">=6,2",C62:C99, "<=6,5") -> 6 | D115: =COUNTIFS(D62:D99, ">=6,2",D62:D99, "<=6,5") -> 8 | E115: =COUNTIFS(E62:E99, ">=6,2",E62:E99, "<=6,5") -> 8 | F115: =COUNTIFS(F62:F99, ">=6,2",F62:F99, "<=6,5") -> 7 | G115: =COUNTIFS(G62:G99, ">=6,2",G62:G99, "<=6,5") -> 3 | H115: =COUNTIFS(H62:H99, ">=6,2",H62:H99, "<=6,5") -> 5 | I115: =COUNTIFS(I62:I99, ">=6,2",I62:I99, "<=6,5") -> 8 | J115: =COUNTIFS(J62:J99, ">=6,2",J62:J99, "<=6,5") -> 7 | ... V115: =COUNTIFS(V62:V99, ">=6,2",V62:V99, "<=6,5") -> 10 | Z115: =COUNTIFS(Z62:Z99, ">=6,2",Z62:Z99, "<=6,5") -> 5 | AA115: =COUNTIFS(AA62:AA99, ">=6,2",AA62:AA99, "<=6,5") -> 6 | AB115: =COUNTIFS(AB62:AB99, ">=6,2",AB62:AB99, "<=6,5") -> 6 | AC115: =COUNTIFS(AC62:AC99, ">=6,2",AC62:AC99, "<=6,5") -> 5 | AD115: =COUNTIFS(AD62:AD99, ">=6,2",AD62:AD99, "<=6,5") -> 2 | AE115: =COUNTIFS(AE62:AE99, ">=6,2",AE62:AE99, "<=6,5") -> 5 | AF115: =COUNTIFS(AF62:AF99, ">=6,2",AF62:AF99, "<=6,5") -> 7 | AG115: =COUNTIFS(AG62:AG99, ">=6,2",AG62:AG99, "<=6,5") -> 6 | ... AS115: =COUNTIFS(AS62:AS99, ">=6,2",AS62:AS99, "<=6,5") -> 9 | AW115: =COUNTIFS(AW62:AW99, ">=6,2",AW62:AW99, "<=6,5") -> 1 | AX115: =COUNTIFS(AX62:AX99, ">=6,2",AX62:AX99, "<=6,5") -> 2 | AY115: =COUNTIFS(AY62:AY99, ">=6,2",AY62:AY99, "<=6,5") -> 2 | AZ115: =COUNTIFS(AZ62:AZ99, ">=6,2",AZ62:AZ99, "<=6,5") -> 2 | BA115: =COUNTIFS(BA62:BA99, ">=6,2",BA62:BA99, "<=6,5") -> 1 | BB115: =COUNTIFS(BB62:BB99, ">=6,2",BB62:BB99, "<=6,5") -> 0 | BC115: =COUNTIFS(BC62:BC99, ">=6,2",BC62:BC99, "<=6,5") -> 1 | BD115: =COUNTIFS(BD62:BD99, ">=6,2",BD62:BD99, "<=6,5") -> 1 | ... BP115: =COUNTIFS(BP62:BP99, ">=6,2",BP62:BP99, "<=6,5") -> 1 | BT115: =COUNTIFS(BT62:BT99, ">=6,2",BT62:BT99, "<=6,5") -> 0 | BU115: =COUNTIFS(BU62:BU99, ">=6,2",BU62:BU99, "<=6,5") -> 0 | BV115: =COUNTIFS(BV62:BV99, ">=6,2",BV62:BV99, "<=6,5") -> 0 | BW115: =COUNTIFS(BW62:BW99, ">=6,2",BW62:BW99, "<=6,5") -> 0 | BX115: =COUNTIFS(BX62:BX99, ">=6,2",BX62:BX99, "<=6,5") -> 0 | BY115: =COUNTIFS(BY62:BY99, ">=6,2",BY62:BY99, "<=6,5") -> 0 | BZ115: =COUNTIFS(BZ62:BZ99, ">=6,2",BZ62:BZ99, "<=6,5") -> 0 | CA115: =COUNTIFS(CA62:CA99, ">=6,2",CA62:CA99, "<=6,5") -> 0 | ... CM115: =COUNTIFS(CM62:CM99, ">=6,2",CM62:CM99, "<=6,5") -> 0
C116: =COUNTIF(C62:C99, ">=6,6") -> 2 | D116: =COUNTIF(D62:D99, ">=6,6") -> 1 | E116: =COUNTIF(E62:E99, ">=6,6") -> 1 | F116: =COUNTIF(F62:F99, ">=6,6") -> 4 | G116: =COUNTIF(G62:G99, ">=6,6") -> 0 | H116: =COUNTIF(H62:H99, ">=6,6") -> 0 | I116: =COUNTIF(I62:I99, ">=6,6") -> 0 | J116: =COUNTIF(J62:J99, ">=6,6") -> 1 | ... V116: =COUNTIF(V62:V99, ">=6,6") -> 2 | Z116: =COUNTIF(Z62:Z99, ">=6,6") -> 1 | AA116: =COUNTIF(AA62:AA99, ">=6,6") -> 1 | AB116: =COUNTIF(AB62:AB99, ">=6,6") -> 1 | AC116: =COUNTIF(AC62:AC99, ">=6,6") -> 4 | AD116: =COUNTIF(AD62:AD99, ">=6,6") -> 0 | AE116: =COUNTIF(AE62:AE99, ">=6,6") -> 0 | AF116: =COUNTIF(AF62:AF99, ">=6,6") -> 0 | AG116: =COUNTIF(AG62:AG99, ">=6,6") -> 1 | ... AS116: =COUNTIF(AS62:AS99, ">=6,6") -> 2 | AW116: =COUNTIF(AW62:AW99, ">=6,6") -> 1 | AX116: =COUNTIF(AX62:AX99, ">=6,6") -> 0 | AY116: =COUNTIF(AY62:AY99, ">=6,6") -> 0 | AZ116: =COUNTIF(AZ62:AZ99, ">=6,6") -> 0 | BA116: =COUNTIF(BA62:BA99, ">=6,6") -> 0 | BB116: =COUNTIF(BB62:BB99, ">=6,6") -> 0 | BC116: =COUNTIF(BC62:BC99, ">=6,6") -> 0 | BD116: =COUNTIF(BD62:BD99, ">=6,6") -> 0 | ... BP116: =COUNTIF(BP62:BP99, ">=6,6") -> 0 | BT116: =COUNTIF(BT62:BT99, ">=6,6") -> 0 | BU116: =COUNTIF(BU62:BU99, ">=6,6") -> 0 | BV116: =COUNTIF(BV62:BV99, ">=6,6") -> 0 | BW116: =COUNTIF(BW62:BW99, ">=6,6") -> 0 | BX116: =COUNTIF(BX62:BX99, ">=6,6") -> 0 | BY116: =COUNTIF(BY62:BY99, ">=6,6") -> 0 | BZ116: =COUNTIF(BZ62:BZ99, ">=6,6") -> 0 | CA116: =COUNTIF(CA62:CA99, ">=6,6") -> 0 | ... CM116: =COUNTIF(CM62:CM99, ">=6,6") -> 0
C117: =SUM(C112:C116) -> 19 | D117: =SUM(D112:D116) -> 19 | E117: =SUM(E112:E116) -> 19 | F117: =SUM(F112:F116) -> 19 | G117: =SUM(G112:G116) -> 19 | H117: =SUM(H112:H116) -> 19 | I117: =SUM(I112:I116) -> 19 | J117: =SUM(J112:J116) -> 19 | ... V117: =SUM(V112:V116) -> 19 | Z117: =SUM(Z112:Z116) -> 9 | AA117: =SUM(AA112:AA116) -> 8 | AB117: =SUM(AB112:AB116) -> 7 | AC117: =SUM(AC112:AC116) -> 9 | AD117: =SUM(AD112:AD116) -> 2 | AE117: =SUM(AE112:AE116) -> 8 | AF117: =SUM(AF112:AF116) -> 8 | AG117: =SUM(AG112:AG116) -> 9 | ... AS117: =SUM(AS112:AS116) -> 13 | AW117: =SUM(AW112:AW116) -> 6 | AX117: =SUM(AX112:AX116) -> 4 | AY117: =SUM(AY112:AY116) -> 8 | AZ117: =SUM(AZ112:AZ116) -> 5 | BA117: =SUM(BA112:BA116) -> 7 | BB117: =SUM(BB112:BB116) -> 6 | BC117: =SUM(BC112:BC116) -> 7 | BD117: =SUM(BD112:BD116) -> 6 | ... BP117: =SUM(BP112:BP116) -> 4 | BT117: =SUM(BT112:BT116) -> 4 | BU117: =SUM(BU112:BU116) -> 7 | BV117: =SUM(BV112:BV116) -> 4 | BW117: =SUM(BW112:BW116) -> 5 | BX117: =SUM(BX112:BX116) -> 10 | BY117: =SUM(BY112:BY116) -> 5 | BZ117: =SUM(BZ112:BZ116) -> 4 | CA117: =SUM(CA112:CA116) -> 4 | ... CM117: =SUM(CM112:CM116) -> 2
C118: =Z117+AW117+BT117 -> 19 | D118: =AA117+AX117+BU117 -> 19 | E118: =AB117+AY117+BV117 -> 19 | F118: =AC117+AZ117+BW117 -> 19 | G118: =AD117+BA117+BX117 -> 19 | H118: =AE117+BB117+BY117 -> 19 | I118: =AF117+BC117+BZ117 -> 19 | J118: =AG117+BD117+CA117 -> 19 | ... V118: =AS117+BP117+CM117 -> 19
B120: F*T | C120: ATA | D120: BOL | E120: CAG | F120: CAT | G120: CES | H120: CHI | I120: FIO | J120: GEN | K120: INT | L120: JUV | M120: LAZ | N120: LEC | O120: MIL | P120: NAP | Q120: NOV | R120: PAL | S120: PAR | T120: ROM | U120: SIE | V120: UDI | Y120: F*v | Z120: ATA | AA120: BOL | AB120: CAG | AC120: CAT | AD120: CES | AE120: CHI | AF120: FIO | AG120: GEN | AH120: INT | AI120: JUV | AJ120: LAZ | AK120: LEC | AL120: MIL | AM120: NAP | AN120: NOV | AO120: PAL | AP120: PAR | AQ120: ROM | AR120: SIE | AS120: UDI | AV120: F*p | AW120: ATA | AX120: BOL | AY120: CAG | AZ120: CAT | BA120: CES | BB120: CHI | BC120: FIO | BD120: GEN | BE120: INT | BF120: JUV | BG120: LAZ | BH120: LEC | BI120: MIL | BJ120: NAP | BK120: NOV | BL120: PAL | BM120: PAR | BN120: ROM | BO120: SIE | BP120: UDI | BS120: F*s | BT120: ATA | BU120: BOL | BV120: CAG | BW120: CAT | BX120: CES | BY120: CHI | BZ120: FIO | CA120: GEN | CB120: INT | CC120: JUV | CD120: LAZ | CE120: LEC | CF120: MIL | CG120: NAP | CH120: NOV | CI120: PAL | CJ120: PAR | CK120: ROM | CL120: SIE | CM120: UDI
B121: 1 | C121: =IF(squadre!C3=0, C3, "-") -> - | D121: =IF(squadre!D3=0, D3, "-") -> - | E121: =IF(squadre!E3=0, E3, "-") -> - | F121: =IF(squadre!F3=0, F3, "-") -> 5.5 | G121: =IF(squadre!G3=0, G3, "-") -> 6 | H121: =IF(squadre!H3=0, H3, "-") -> 6.2 | I121: =IF(squadre!I3=0, I3, "-") -> 5.4 | J121: =IF(squadre!J3=0, J3, "-") -> 6.3 | ... V121: =IF(squadre!V3=0, V3, "-") -> - | Y121: 1 | Z121: =IF(squadre!BC3="0v", C3, "-") -> - | AA121: =IF(squadre!BD3="0v", D3, "-") -> - | AB121: =IF(squadre!BE3="0v", E3, "-") -> - | AC121: =IF(squadre!BF3="0v", F3, "-") -> - | AD121: =IF(squadre!BG3="0v", G3, "-") -> - | AE121: =IF(squadre!BH3="0v", H3, "-") -> - | AF121: =IF(squadre!BI3="0v", I3, "-") -> - | AG121: =IF(squadre!BJ3="0v", J3, "-") -> - | ... AS121: =IF(squadre!BV3="0v", V3, "-") -> - | AV121: 1 | AW121: =IF(squadre!BC3="0p", C3, "-") -> - | AX121: =IF(squadre!BD3="0p", D3, "-") -> - | AY121: =IF(squadre!BE3="0p", E3, "-") -> - | AZ121: =IF(squadre!BF3="0p", F3, "-") -> 5.5 | BA121: =IF(squadre!BG3="0p", G3, "-") -> - | BB121: =IF(squadre!BH3="0p", H3, "-") -> 6.2 | BC121: =IF(squadre!BI3="0p", I3, "-") -> 5.4 | BD121: =IF(squadre!BJ3="0p", J3, "-") -> - | ... BP121: =IF(squadre!BV3="0p", V3, "-") -> - | BS121: 1 | BT121: =IF(squadre!BC3="0s", C3, "-") -> - | BU121: =IF(squadre!BD3="0s", D3, "-") -> - | BV121: =IF(squadre!BE3="0s", E3, "-") -> - | BW121: =IF(squadre!BF3="0s", F3, "-") -> - | BX121: =IF(squadre!BG3="0s", G3, "-") -> 6 | BY121: =IF(squadre!BH3="0s", H3, "-") -> - | BZ121: =IF(squadre!BI3="0s", I3, "-") -> - | CA121: =IF(squadre!BJ3="0s", J3, "-") -> 6.3 | ... CM121: =IF(squadre!BV3="0s", V3, "-") -> -
B122: 2 | C122: =IF(squadre!C4=0, C4, "-") -> 6.2 | D122: =IF(squadre!D4=0, D4, "-") -> 5.7 | E122: =IF(squadre!E4=0, E4, "-") -> 6.3 | F122: =IF(squadre!F4=0, F4, "-") -> - | G122: =IF(squadre!G4=0, G4, "-") -> - | H122: =IF(squadre!H4=0, H4, "-") -> - | I122: =IF(squadre!I4=0, I4, "-") -> - | J122: =IF(squadre!J4=0, J4, "-") -> - | ... V122: =IF(squadre!V4=0, V4, "-") -> 6.2 | Y122: 2 | Z122: =IF(squadre!BC4="0v", C4, "-") -> - | AA122: =IF(squadre!BD4="0v", D4, "-") -> - | AB122: =IF(squadre!BE4="0v", E4, "-") -> 6.3 | AC122: =IF(squadre!BF4="0v", F4, "-") -> - | AD122: =IF(squadre!BG4="0v", G4, "-") -> - | AE122: =IF(squadre!BH4="0v", H4, "-") -> - | AF122: =IF(squadre!BI4="0v", I4, "-") -> - | AG122: =IF(squadre!BJ4="0v", J4, "-") -> - | ... AS122: =IF(squadre!BV4="0v", V4, "-") -> 6.2 | AV122: 2 | AW122: =IF(squadre!BC4="0p", C4, "-") -> 6.2 | AX122: =IF(squadre!BD4="0p", D4, "-") -> - | AY122: =IF(squadre!BE4="0p", E4, "-") -> - | AZ122: =IF(squadre!BF4="0p", F4, "-") -> - | BA122: =IF(squadre!BG4="0p", G4, "-") -> - | BB122: =IF(squadre!BH4="0p", H4, "-") -> - | BC122: =IF(squadre!BI4="0p", I4, "-") -> - | BD122: =IF(squadre!BJ4="0p", J4, "-") -> - | ... BP122: =IF(squadre!BV4="0p", V4, "-") -> - | BS122: 2 | BT122: =IF(squadre!BC4="0s", C4, "-") -> - | BU122: =IF(squadre!BD4="0s", D4, "-") -> 5.7 | BV122: =IF(squadre!BE4="0s", E4, "-") -> - | BW122: =IF(squadre!BF4="0s", F4, "-") -> - | BX122: =IF(squadre!BG4="0s", G4, "-") -> - | BY122: =IF(squadre!BH4="0s", H4, "-") -> - | BZ122: =IF(squadre!BI4="0s", I4, "-") -> - | CA122: =IF(squadre!BJ4="0s", J4, "-") -> - | ... CM122: =IF(squadre!BV4="0s", V4, "-") -> -
B123: 3 | C123: =IF(squadre!C5=0, C5, "-") -> - | D123: =IF(squadre!D5=0, D5, "-") -> - | E123: =IF(squadre!E5=0, E5, "-") -> - | F123: =IF(squadre!F5=0, F5, "-") -> - | G123: =IF(squadre!G5=0, G5, "-") -> 5.8 | H123: =IF(squadre!H5=0, H5, "-") -> 5.7 | I123: =IF(squadre!I5=0, I5, "-") -> 5.4 | J123: =IF(squadre!J5=0, J5, "-") -> 6.1 | ... V123: =IF(squadre!V5=0, V5, "-") -> - | Y123: 3 | Z123: =IF(squadre!BC5="0v", C5, "-") -> - | AA123: =IF(squadre!BD5="0v", D5, "-") -> - | AB123: =IF(squadre!BE5="0v", E5, "-") -> - | AC123: =IF(squadre!BF5="0v", F5, "-") -> - | AD123: =IF(squadre!BG5="0v", G5, "-") -> - | AE123: =IF(squadre!BH5="0v", H5, "-") -> - | AF123: =IF(squadre!BI5="0v", I5, "-") -> - | AG123: =IF(squadre!BJ5="0v", J5, "-") -> 6.1 | ... AS123: =IF(squadre!BV5="0v", V5, "-") -> - | AV123: 3 | AW123: =IF(squadre!BC5="0p", C5, "-") -> - | AX123: =IF(squadre!BD5="0p", D5, "-") -> - | AY123: =IF(squadre!BE5="0p", E5, "-") -> - | AZ123: =IF(squadre!BF5="0p", F5, "-") -> - | BA123: =IF(squadre!BG5="0p", G5, "-") -> - | BB123: =IF(squadre!BH5="0p", H5, "-") -> - | BC123: =IF(squadre!BI5="0p", I5, "-") -> - | BD123: =IF(squadre!BJ5="0p", J5, "-") -> - | ... BP123: =IF(squadre!BV5="0p", V5, "-") -> - | BS123: 3 | BT123: =IF(squadre!BC5="0s", C5, "-") -> - | BU123: =IF(squadre!BD5="0s", D5, "-") -> - | BV123: =IF(squadre!BE5="0s", E5, "-") -> - | BW123: =IF(squadre!BF5="0s", F5, "-") -> - | BX123: =IF(squadre!BG5="0s", G5, "-") -> 5.8 | BY123: =IF(squadre!BH5="0s", H5, "-") -> 5.7 | BZ123: =IF(squadre!BI5="0s", I5, "-") -> 5.4 | CA123: =IF(squadre!BJ5="0s", J5, "-") -> - | ... CM123: =IF(squadre!BV5="0s", V5, "-") -> -
B124: 4 | C124: =IF(squadre!C6=0, C6, "-") -> 6.2 | D124: =IF(squadre!D6=0, D6, "-") -> 6.1 | E124: =IF(squadre!E6=0, E6, "-") -> 5.6 | F124: =IF(squadre!F6=0, F6, "-") -> 5.7 | G124: =IF(squadre!G6=0, G6, "-") -> - | H124: =IF(squadre!H6=0, H6, "-") -> - | I124: =IF(squadre!I6=0, I6, "-") -> - | J124: =IF(squadre!J6=0, J6, "-") -> - | ... V124: =IF(squadre!V6=0, V6, "-") -> 6.4 | Y124: 4 | Z124: =IF(squadre!BC6="0v", C6, "-") -> 6.2 | AA124: =IF(squadre!BD6="0v", D6, "-") -> - | AB124: =IF(squadre!BE6="0v", E6, "-") -> - | AC124: =IF(squadre!BF6="0v", F6, "-") -> - | AD124: =IF(squadre!BG6="0v", G6, "-") -> - | AE124: =IF(squadre!BH6="0v", H6, "-") -> - | AF124: =IF(squadre!BI6="0v", I6, "-") -> - | AG124: =IF(squadre!BJ6="0v", J6, "-") -> - | ... AS124: =IF(squadre!BV6="0v", V6, "-") -> - | AV124: 4 | AW124: =IF(squadre!BC6="0p", C6, "-") -> - | AX124: =IF(squadre!BD6="0p", D6, "-") -> 6.1 | AY124: =IF(squadre!BE6="0p", E6, "-") -> - | AZ124: =IF(squadre!BF6="0p", F6, "-") -> - | BA124: =IF(squadre!BG6="0p", G6, "-") -> - | BB124: =IF(squadre!BH6="0p", H6, "-") -> - | BC124: =IF(squadre!BI6="0p", I6, "-") -> - | BD124: =IF(squadre!BJ6="0p", J6, "-") -> - | ... BP124: =IF(squadre!BV6="0p", V6, "-") -> 6.4 | BS124: 4 | BT124: =IF(squadre!BC6="0s", C6, "-") -> - | BU124: =IF(squadre!BD6="0s", D6, "-") -> - | BV124: =IF(squadre!BE6="0s", E6, "-") -> 5.6 | BW124: =IF(squadre!BF6="0s", F6, "-") -> 5.7 | BX124: =IF(squadre!BG6="0s", G6, "-") -> - | BY124: =IF(squadre!BH6="0s", H6, "-") -> - | BZ124: =IF(squadre!BI6="0s", I6, "-") -> - | CA124: =IF(squadre!BJ6="0s", J6, "-") -> - | ... CM124: =IF(squadre!BV6="0s", V6, "-") -> -
B125: 5 | C125: =IF(squadre!C7=0, C7, "-") -> - | D125: =IF(squadre!D7=0, D7, "-") -> - | E125: =IF(squadre!E7=0, E7, "-") -> - | F125: =IF(squadre!F7=0, F7, "-") -> - | G125: =IF(squadre!G7=0, G7, "-") -> 5.6 | H125: =IF(squadre!H7=0, H7, "-") -> - | I125: =IF(squadre!I7=0, I7, "-") -> 6.1 | J125: =IF(squadre!J7=0, J7, "-") -> 6 | ... V125: =IF(squadre!V7=0, V7, "-") -> 6.2 | Y125: 5 | Z125: =IF(squadre!BC7="0v", C7, "-") -> - | AA125: =IF(squadre!BD7="0v", D7, "-") -> - | AB125: =IF(squadre!BE7="0v", E7, "-") -> - | AC125: =IF(squadre!BF7="0v", F7, "-") -> - | AD125: =IF(squadre!BG7="0v", G7, "-") -> - | AE125: =IF(squadre!BH7="0v", H7, "-") -> - | AF125: =IF(squadre!BI7="0v", I7, "-") -> - | AG125: =IF(squadre!BJ7="0v", J7, "-") -> - | ... AS125: =IF(squadre!BV7="0v", V7, "-") -> - | AV125: 5 | AW125: =IF(squadre!BC7="0p", C7, "-") -> - | AX125: =IF(squadre!BD7="0p", D7, "-") -> - | AY125: =IF(squadre!BE7="0p", E7, "-") -> - | AZ125: =IF(squadre!BF7="0p", F7, "-") -> - | BA125: =IF(squadre!BG7="0p", G7, "-") -> - | BB125: =IF(squadre!BH7="0p", H7, "-") -> - | BC125: =IF(squadre!BI7="0p", I7, "-") -> 6.1 | BD125: =IF(squadre!BJ7="0p", J7, "-") -> - | ... BP125: =IF(squadre!BV7="0p", V7, "-") -> 6.2 | BS125: 5 | BT125: =IF(squadre!BC7="0s", C7, "-") -> - | BU125: =IF(squadre!BD7="0s", D7, "-") -> - | BV125: =IF(squadre!BE7="0s", E7, "-") -> - | BW125: =IF(squadre!BF7="0s", F7, "-") -> - | BX125: =IF(squadre!BG7="0s", G7, "-") -> 5.6 | BY125: =IF(squadre!BH7="0s", H7, "-") -> - | BZ125: =IF(squadre!BI7="0s", I7, "-") -> - | CA125: =IF(squadre!BJ7="0s", J7, "-") -> 6 | ... CM125: =IF(squadre!BV7="0s", V7, "-") -> -
B126: 6 | C126: =IF(squadre!C8=0, C8, "-") -> 5.6 | D126: =IF(squadre!D8=0, D8, "-") -> 5.4 | E126: =IF(squadre!E8=0, E8, "-") -> 6.3 | F126: =IF(squadre!F8=0, F8, "-") -> 6.2 | G126: =IF(squadre!G8=0, G8, "-") -> - | H126: =IF(squadre!H8=0, H8, "-") -> 5.9 | I126: =IF(squadre!I8=0, I8, "-") -> - | J126: =IF(squadre!J8=0, J8, "-") -> 5.6 | ... V126: =IF(squadre!V8=0, V8, "-") -> - | Y126: 6 | Z126: =IF(squadre!BC8="0v", C8, "-") -> - | AA126: =IF(squadre!BD8="0v", D8, "-") -> - | AB126: =IF(squadre!BE8="0v", E8, "-") -> 6.3 | AC126: =IF(squadre!BF8="0v", F8, "-") -> - | AD126: =IF(squadre!BG8="0v", G8, "-") -> - | AE126: =IF(squadre!BH8="0v", H8, "-") -> - | AF126: =IF(squadre!BI8="0v", I8, "-") -> - | AG126: =IF(squadre!BJ8="0v", J8, "-") -> - | ... AS126: =IF(squadre!BV8="0v", V8, "-") -> - | AV126: 6 | AW126: =IF(squadre!BC8="0p", C8, "-") -> - | AX126: =IF(squadre!BD8="0p", D8, "-") -> - | AY126: =IF(squadre!BE8="0p", E8, "-") -> - | AZ126: =IF(squadre!BF8="0p", F8, "-") -> 6.2 | BA126: =IF(squadre!BG8="0p", G8, "-") -> - | BB126: =IF(squadre!BH8="0p", H8, "-") -> 5.9 | BC126: =IF(squadre!BI8="0p", I8, "-") -> - | BD126: =IF(squadre!BJ8="0p", J8, "-") -> - | ... BP126: =IF(squadre!BV8="0p", V8, "-") -> - | BS126: 6 | BT126: =IF(squadre!BC8="0s", C8, "-") -> 5.6 | BU126: =IF(squadre!BD8="0s", D8, "-") -> 5.4 | BV126: =IF(squadre!BE8="0s", E8, "-") -> - | BW126: =IF(squadre!BF8="0s", F8, "-") -> - | BX126: =IF(squadre!BG8="0s", G8, "-") -> - | BY126: =IF(squadre!BH8="0s", H8, "-") -> - | BZ126: =IF(squadre!BI8="0s", I8, "-") -> - | CA126: =IF(squadre!BJ8="0s", J8, "-") -> 5.6 | ... CM126: =IF(squadre!BV8="0s", V8, "-") -> -
B127: 7 | C127: =IF(squadre!C9=0, C9, "-") -> - | D127: =IF(squadre!D9=0, D9, "-") -> 6.3 | E127: =IF(squadre!E9=0, E9, "-") -> - | F127: =IF(squadre!F9=0, F9, "-") -> - | G127: =IF(squadre!G9=0, G9, "-") -> - | H127: =IF(squadre!H9=0, H9, "-") -> - | I127: =IF(squadre!I9=0, I9, "-") -> 5.6 | J127: =IF(squadre!J9=0, J9, "-") -> - | ... V127: =IF(squadre!V9=0, V9, "-") -> 5.8 | Y127: 7 | Z127: =IF(squadre!BC9="0v", C9, "-") -> - | AA127: =IF(squadre!BD9="0v", D9, "-") -> 6.3 | AB127: =IF(squadre!BE9="0v", E9, "-") -> - | AC127: =IF(squadre!BF9="0v", F9, "-") -> - | AD127: =IF(squadre!BG9="0v", G9, "-") -> - | AE127: =IF(squadre!BH9="0v", H9, "-") -> - | AF127: =IF(squadre!BI9="0v", I9, "-") -> - | AG127: =IF(squadre!BJ9="0v", J9, "-") -> - | ... AS127: =IF(squadre!BV9="0v", V9, "-") -> - | AV127: 7 | AW127: =IF(squadre!BC9="0p", C9, "-") -> - | AX127: =IF(squadre!BD9="0p", D9, "-") -> - | AY127: =IF(squadre!BE9="0p", E9, "-") -> - | AZ127: =IF(squadre!BF9="0p", F9, "-") -> - | BA127: =IF(squadre!BG9="0p", G9, "-") -> - | BB127: =IF(squadre!BH9="0p", H9, "-") -> - | BC127: =IF(squadre!BI9="0p", I9, "-") -> 5.6 | BD127: =IF(squadre!BJ9="0p", J9, "-") -> - | ... BP127: =IF(squadre!BV9="0p", V9, "-") -> 5.8 | BS127: 7 | BT127: =IF(squadre!BC9="0s", C9, "-") -> - | BU127: =IF(squadre!BD9="0s", D9, "-") -> - | BV127: =IF(squadre!BE9="0s", E9, "-") -> - | BW127: =IF(squadre!BF9="0s", F9, "-") -> - | BX127: =IF(squadre!BG9="0s", G9, "-") -> - | BY127: =IF(squadre!BH9="0s", H9, "-") -> - | BZ127: =IF(squadre!BI9="0s", I9, "-") -> - | CA127: =IF(squadre!BJ9="0s", J9, "-") -> - | ... CM127: =IF(squadre!BV9="0s", V9, "-") -> -
B128: 8 | C128: =IF(squadre!C10=0, C10, "-") -> 6.3 | D128: =IF(squadre!D10=0, D10, "-") -> - | E128: =IF(squadre!E10=0, E10, "-") -> - | F128: =IF(squadre!F10=0, F10, "-") -> 6.2 | G128: =IF(squadre!G10=0, G10, "-") -> 5.3 | H128: =IF(squadre!H10=0, H10, "-") -> 5.5 | I128: =IF(squadre!I10=0, I10, "-") -> - | J128: =IF(squadre!J10=0, J10, "-") -> 6.1 | ... V128: =IF(squadre!V10=0, V10, "-") -> - | Y128: 8 | Z128: =IF(squadre!BC10="0v", C10, "-") -> 6.3 | AA128: =IF(squadre!BD10="0v", D10, "-") -> - | AB128: =IF(squadre!BE10="0v", E10, "-") -> - | AC128: =IF(squadre!BF10="0v", F10, "-") -> - | AD128: =IF(squadre!BG10="0v", G10, "-") -> - | AE128: =IF(squadre!BH10="0v", H10, "-") -> - | AF128: =IF(squadre!BI10="0v", I10, "-") -> - | AG128: =IF(squadre!BJ10="0v", J10, "-") -> - | ... AS128: =IF(squadre!BV10="0v", V10, "-") -> - | AV128: 8 | AW128: =IF(squadre!BC10="0p", C10, "-") -> - | AX128: =IF(squadre!BD10="0p", D10, "-") -> - | AY128: =IF(squadre!BE10="0p", E10, "-") -> - | AZ128: =IF(squadre!BF10="0p", F10, "-") -> 6.2 | BA128: =IF(squadre!BG10="0p", G10, "-") -> - | BB128: =IF(squadre!BH10="0p", H10, "-") -> - | BC128: =IF(squadre!BI10="0p", I10, "-") -> - | BD128: =IF(squadre!BJ10="0p", J10, "-") -> 6.1 | ... BP128: =IF(squadre!BV10="0p", V10, "-") -> - | BS128: 8 | BT128: =IF(squadre!BC10="0s", C10, "-") -> - | BU128: =IF(squadre!BD10="0s", D10, "-") -> - | BV128: =IF(squadre!BE10="0s", E10, "-") -> - | BW128: =IF(squadre!BF10="0s", F10, "-") -> - | BX128: =IF(squadre!BG10="0s", G10, "-") -> 5.3 | BY128: =IF(squadre!BH10="0s", H10, "-") -> 5.5 | BZ128: =IF(squadre!BI10="0s", I10, "-") -> - | CA128: =IF(squadre!BJ10="0s", J10, "-") -> - | ... CM128: =IF(squadre!BV10="0s", V10, "-") -> -
B129: 9 | C129: =IF(squadre!C11=0, C11, "-") -> - | D129: =IF(squadre!D11=0, D11, "-") -> 6.1 | E129: =IF(squadre!E11=0, E11, "-") -> 5.9 | F129: =IF(squadre!F11=0, F11, "-") -> 5.8 | G129: =IF(squadre!G11=0, G11, "-") -> - | H129: =IF(squadre!H11=0, H11, "-") -> - | I129: =IF(squadre!I11=0, I11, "-") -> 5.5 | J129: =IF(squadre!J11=0, J11, "-") -> - | ... V129: =IF(squadre!V11=0, V11, "-") -> 5.5 | Y129: 9 | Z129: =IF(squadre!BC11="0v", C11, "-") -> - | AA129: =IF(squadre!BD11="0v", D11, "-") -> 6.1 | AB129: =IF(squadre!BE11="0v", E11, "-") -> - | AC129: =IF(squadre!BF11="0v", F11, "-") -> - | AD129: =IF(squadre!BG11="0v", G11, "-") -> - | AE129: =IF(squadre!BH11="0v", H11, "-") -> - | AF129: =IF(squadre!BI11="0v", I11, "-") -> - | AG129: =IF(squadre!BJ11="0v", J11, "-") -> - | ... AS129: =IF(squadre!BV11="0v", V11, "-") -> - | AV129: 9 | AW129: =IF(squadre!BC11="0p", C11, "-") -> - | AX129: =IF(squadre!BD11="0p", D11, "-") -> - | AY129: =IF(squadre!BE11="0p", E11, "-") -> 5.9 | AZ129: =IF(squadre!BF11="0p", F11, "-") -> 5.8 | BA129: =IF(squadre!BG11="0p", G11, "-") -> - | BB129: =IF(squadre!BH11="0p", H11, "-") -> - | BC129: =IF(squadre!BI11="0p", I11, "-") -> - | BD129: =IF(squadre!BJ11="0p", J11, "-") -> - | ... BP129: =IF(squadre!BV11="0p", V11, "-") -> - | BS129: 9 | BT129: =IF(squadre!BC11="0s", C11, "-") -> - | BU129: =IF(squadre!BD11="0s", D11, "-") -> - | BV129: =IF(squadre!BE11="0s", E11, "-") -> - | BW129: =IF(squadre!BF11="0s", F11, "-") -> - | BX129: =IF(squadre!BG11="0s", G11, "-") -> - | BY129: =IF(squadre!BH11="0s", H11, "-") -> - | BZ129: =IF(squadre!BI11="0s", I11, "-") -> 5.5 | CA129: =IF(squadre!BJ11="0s", J11, "-") -> - | ... CM129: =IF(squadre!BV11="0s", V11, "-") -> 5.5
B130: 10 | C130: =IF(squadre!C12=0, C12, "-") -> 5.9 | D130: =IF(squadre!D12=0, D12, "-") -> - | E130: =IF(squadre!E12=0, E12, "-") -> - | F130: =IF(squadre!F12=0, F12, "-") -> - | G130: =IF(squadre!G12=0, G12, "-") -> 5.4 | H130: =IF(squadre!H12=0, H12, "-") -> 5.5 | I130: =IF(squadre!I12=0, I12, "-") -> - | J130: =IF(squadre!J12=0, J12, "-") -> 5.7 | ... V130: =IF(squadre!V12=0, V12, "-") -> - | Y130: 10 | Z130: =IF(squadre!BC12="0v", C12, "-") -> - | AA130: =IF(squadre!BD12="0v", D12, "-") -> - | AB130: =IF(squadre!BE12="0v", E12, "-") -> - | AC130: =IF(squadre!BF12="0v", F12, "-") -> - | AD130: =IF(squadre!BG12="0v", G12, "-") -> - | AE130: =IF(squadre!BH12="0v", H12, "-") -> - | AF130: =IF(squadre!BI12="0v", I12, "-") -> - | AG130: =IF(squadre!BJ12="0v", J12, "-") -> - | ... AS130: =IF(squadre!BV12="0v", V12, "-") -> - | AV130: 10 | AW130: =IF(squadre!BC12="0p", C12, "-") -> - | AX130: =IF(squadre!BD12="0p", D12, "-") -> - | AY130: =IF(squadre!BE12="0p", E12, "-") -> - | AZ130: =IF(squadre!BF12="0p", F12, "-") -> - | BA130: =IF(squadre!BG12="0p", G12, "-") -> - | BB130: =IF(squadre!BH12="0p", H12, "-") -> - | BC130: =IF(squadre!BI12="0p", I12, "-") -> - | BD130: =IF(squadre!BJ12="0p", J12, "-") -> - | ... BP130: =IF(squadre!BV12="0p", V12, "-") -> - | BS130: 10 | BT130: =IF(squadre!BC12="0s", C12, "-") -> 5.9 | BU130: =IF(squadre!BD12="0s", D12, "-") -> - | BV130: =IF(squadre!BE12="0s", E12, "-") -> - | BW130: =IF(squadre!BF12="0s", F12, "-") -> - | BX130: =IF(squadre!BG12="0s", G12, "-") -> 5.4 | BY130: =IF(squadre!BH12="0s", H12, "-") -> 5.5 | BZ130: =IF(squadre!BI12="0s", I12, "-") -> - | CA130: =IF(squadre!BJ12="0s", J12, "-") -> 5.7 | ... CM130: =IF(squadre!BV12="0s", V12, "-") -> -
B131: 11 | C131: =IF(squadre!C13=0, C13, "-") -> - | D131: =IF(squadre!D13=0, D13, "-") -> 5.6 | E131: =IF(squadre!E13=0, E13, "-") -> 5.4 | F131: =IF(squadre!F13=0, F13, "-") -> 5.4 | G131: =IF(squadre!G13=0, G13, "-") -> - | H131: =IF(squadre!H13=0, H13, "-") -> - | I131: =IF(squadre!I13=0, I13, "-") -> 5.6 | J131: =IF(squadre!J13=0, J13, "-") -> - | ... V131: =IF(squadre!V13=0, V13, "-") -> - | Y131: 11 | Z131: =IF(squadre!BC13="0v", C13, "-") -> - | AA131: =IF(squadre!BD13="0v", D13, "-") -> - | AB131: =IF(squadre!BE13="0v", E13, "-") -> - | AC131: =IF(squadre!BF13="0v", F13, "-") -> - | AD131: =IF(squadre!BG13="0v", G13, "-") -> - | AE131: =IF(squadre!BH13="0v", H13, "-") -> - | AF131: =IF(squadre!BI13="0v", I13, "-") -> - | AG131: =IF(squadre!BJ13="0v", J13, "-") -> - | ... AS131: =IF(squadre!BV13="0v", V13, "-") -> - | AV131: 11 | AW131: =IF(squadre!BC13="0p", C13, "-") -> - | AX131: =IF(squadre!BD13="0p", D13, "-") -> - | AY131: =IF(squadre!BE13="0p", E13, "-") -> - | AZ131: =IF(squadre!BF13="0p", F13, "-") -> - | BA131: =IF(squadre!BG13="0p", G13, "-") -> - | BB131: =IF(squadre!BH13="0p", H13, "-") -> - | BC131: =IF(squadre!BI13="0p", I13, "-") -> - | BD131: =IF(squadre!BJ13="0p", J13, "-") -> - | ... BP131: =IF(squadre!BV13="0p", V13, "-") -> - | BS131: 11 | BT131: =IF(squadre!BC13="0s", C13, "-") -> - | BU131: =IF(squadre!BD13="0s", D13, "-") -> 5.6 | BV131: =IF(squadre!BE13="0s", E13, "-") -> 5.4 | BW131: =IF(squadre!BF13="0s", F13, "-") -> 5.4 | BX131: =IF(squadre!BG13="0s", G13, "-") -> - | BY131: =IF(squadre!BH13="0s", H13, "-") -> - | BZ131: =IF(squadre!BI13="0s", I13, "-") -> 5.6 | CA131: =IF(squadre!BJ13="0s", J13, "-") -> - | ... CM131: =IF(squadre!BV13="0s", V13, "-") -> -
B132: 12 | C132: =IF(squadre!C14=0, C14, "-") -> 6.2 | D132: =IF(squadre!D14=0, D14, "-") -> - | E132: =IF(squadre!E14=0, E14, "-") -> 5.7 | F132: =IF(squadre!F14=0, F14, "-") -> - | G132: =IF(squadre!G14=0, G14, "-") -> 6.2 | H132: =IF(squadre!H14=0, H14, "-") -> 6.4 | I132: =IF(squadre!I14=0, I14, "-") -> - | J132: =IF(squadre!J14=0, J14, "-") -> - | ... V132: =IF(squadre!V14=0, V14, "-") -> 5.4 | Y132: 12 | Z132: =IF(squadre!BC14="0v", C14, "-") -> - | AA132: =IF(squadre!BD14="0v", D14, "-") -> - | AB132: =IF(squadre!BE14="0v", E14, "-") -> - | AC132: =IF(squadre!BF14="0v", F14, "-") -> - | AD132: =IF(squadre!BG14="0v", G14, "-") -> 6.2 | AE132: =IF(squadre!BH14="0v", H14, "-") -> 6.4 | AF132: =IF(squadre!BI14="0v", I14, "-") -> - | AG132: =IF(squadre!BJ14="0v", J14, "-") -> - | ... AS132: =IF(squadre!BV14="0v", V14, "-") -> - | AV132: 12 | AW132: =IF(squadre!BC14="0p", C14, "-") -> 6.2 | AX132: =IF(squadre!BD14="0p", D14, "-") -> - | AY132: =IF(squadre!BE14="0p", E14, "-") -> - | AZ132: =IF(squadre!BF14="0p", F14, "-") -> - | BA132: =IF(squadre!BG14="0p", G14, "-") -> - | BB132: =IF(squadre!BH14="0p", H14, "-") -> - | BC132: =IF(squadre!BI14="0p", I14, "-") -> - | BD132: =IF(squadre!BJ14="0p", J14, "-") -> - | ... BP132: =IF(squadre!BV14="0p", V14, "-") -> - | BS132: 12 | BT132: =IF(squadre!BC14="0s", C14, "-") -> - | BU132: =IF(squadre!BD14="0s", D14, "-") -> - | BV132: =IF(squadre!BE14="0s", E14, "-") -> 5.7 | BW132: =IF(squadre!BF14="0s", F14, "-") -> - | BX132: =IF(squadre!BG14="0s", G14, "-") -> - | BY132: =IF(squadre!BH14="0s", H14, "-") -> - | BZ132: =IF(squadre!BI14="0s", I14, "-") -> - | CA132: =IF(squadre!BJ14="0s", J14, "-") -> - | ... CM132: =IF(squadre!BV14="0s", V14, "-") -> 5.4
... B158: 38 | C158: =IF(squadre!C40=0, C40, "-") -> 5.8 | D158: =IF(squadre!D40=0, D40, "-") -> 5.9 | E158: =IF(squadre!E40=0, E40, "-") -> 5.9 | F158: =IF(squadre!F40=0, F40, "-") -> - | G158: =IF(squadre!G40=0, G40, "-") -> - | H158: =IF(squadre!H40=0, H40, "-") -> - | I158: =IF(squadre!I40=0, I40, "-") -> - | J158: =IF(squadre!J40=0, J40, "-") -> - | ... V158: =IF(squadre!V40=0, V40, "-") -> 6.3 | Y158: 38 | Z158: =IF(squadre!BC40="0v", C40, "-") -> - | AA158: =IF(squadre!BD40="0v", D40, "-") -> - | AB158: =IF(squadre!BE40="0v", E40, "-") -> - | AC158: =IF(squadre!BF40="0v", F40, "-") -> - | AD158: =IF(squadre!BG40="0v", G40, "-") -> - | AE158: =IF(squadre!BH40="0v", H40, "-") -> - | AF158: =IF(squadre!BI40="0v", I40, "-") -> - | AG158: =IF(squadre!BJ40="0v", J40, "-") -> - | ... AS158: =IF(squadre!BV40="0v", V40, "-") -> 6.3 | AV158: 38 | AW158: =IF(squadre!BC40="0p", C40, "-") -> - | AX158: =IF(squadre!BD40="0p", D40, "-") -> - | AY158: =IF(squadre!BE40="0p", E40, "-") -> 5.9 | AZ158: =IF(squadre!BF40="0p", F40, "-") -> - | BA158: =IF(squadre!BG40="0p", G40, "-") -> - | BB158: =IF(squadre!BH40="0p", H40, "-") -> - | BC158: =IF(squadre!BI40="0p", I40, "-") -> - | BD158: =IF(squadre!BJ40="0p", J40, "-") -> - | ... BP158: =IF(squadre!BV40="0p", V40, "-") -> - | BS158: 38 | BT158: =IF(squadre!BC40="0s", C40, "-") -> 5.8 | BU158: =IF(squadre!BD40="0s", D40, "-") -> 5.9 | BV158: =IF(squadre!BE40="0s", E40, "-") -> - | BW158: =IF(squadre!BF40="0s", F40, "-") -> - | BX158: =IF(squadre!BG40="0s", G40, "-") -> - | BY158: =IF(squadre!BH40="0s", H40, "-") -> - | BZ158: =IF(squadre!BI40="0s", I40, "-") -> - | CA158: =IF(squadre!BJ40="0s", J40, "-") -> - | ... CM158: =IF(squadre!BV40="0s", V40, "-") -> -
C160: =SUM(C121:C158)/19 -> 5.9947368 | D160: =SUM(D121:D158)/19 -> 6.0105263 | E160: =SUM(E121:E158)/19 -> 5.8105263 | F160: =SUM(F121:F158)/19 -> 5.8631579 | G160: =SUM(G121:G158)/19 -> 5.6684211 | H160: =SUM(H121:H158)/19 -> 5.8842105 | I160: =SUM(I121:I158)/19 -> 5.8210526 | J160: =SUM(J121:J158)/19 -> 5.7631579 | ... V160: =SUM(V121:V158)/19 -> 5.9315789 | Z160: =SUM(Z121:Z158)/19 -> 1.3157895 | AA160: =SUM(AA121:AA158)/19 -> 1.6578947 | AB160: =SUM(AB121:AB158)/19 -> 0.99473684 | AC160: =SUM(AC121:AC158)/19 -> 0.64210526 | AD160: =SUM(AD121:AD158)/19 -> 0.66842105 | AE160: =SUM(AE121:AE158)/19 -> 1.3315789 | AF160: =SUM(AF121:AF158)/19 -> 1.0210526 | AG160: =SUM(AG121:AG158)/19 -> 0.64210526 | ... AS160: =SUM(AS121:AS158)/19 -> 1.6526316 | AW160: =SUM(AW121:AW158)/19 -> 2.2473684 | AX160: =SUM(AX121:AX158)/19 -> 2.5578947 | AY160: =SUM(AY121:AY158)/19 -> 1.5684211 | AZ160: =SUM(AZ121:AZ158)/19 -> 3.1789474 | BA160: =SUM(BA121:BA158)/19 -> 0.96315789 | BB160: =SUM(BB121:BB158)/19 -> 2.2210526 | BC160: =SUM(BC121:BC158)/19 -> 1.8421053 | BD160: =SUM(BD121:BD158)/19 -> 0.95263158 | ... BP160: =SUM(BP121:BP158)/19 -> 1.9105263 | BT160: =SUM(BT121:BT158)/19 -> 2.4315789 | BU160: =SUM(BU121:BU158)/19 -> 1.7947368 | BV160: =SUM(BV121:BV158)/19 -> 3.2473684 | BW160: =SUM(BW121:BW158)/19 -> 2.0421053 | BX160: =SUM(BX121:BX158)/19 -> 4.0368421 | BY160: =SUM(BY121:BY158)/19 -> 2.3315789 | BZ160: =SUM(BZ121:BZ158)/19 -> 2.9578947 | CA160: =SUM(CA121:CA158)/19 -> 4.1684211 | ... CM160: =SUM(CM121:CM158)/19 -> 2.3684211
B162: F*T | C162: ATA | D162: BOL | E162: CAG | F162: CAT | G162: CES | H162: CHI | I162: FIO | J162: GEN | K162: INT | L162: JUV | M162: LAZ | N162: LEC | O162: MIL | P162: NAP | Q162: NOV | R162: PAL | S162: PAR | T162: ROM | U162: SIE | V162: UDI | Y162: F*v | Z162: ATA | AA162: BOL | AB162: CAG | AC162: CAT | AD162: CES | AE162: CHI | AF162: FIO | AG162: GEN | AH162: INT | AI162: JUV | AJ162: LAZ | AK162: LEC | AL162: MIL | AM162: NAP | AN162: NOV | AO162: PAL | AP162: PAR | AQ162: ROM | AR162: SIE | AS162: UDI | AV162: F*p | AW162: ATA | AX162: BOL | AY162: CAG | AZ162: CAT | BA162: CES | BB162: CHI | BC162: FIO | BD162: GEN | BE162: INT | BF162: JUV | BG162: LAZ | BH162: LEC | BI162: MIL | BJ162: NAP | BK162: NOV | BL162: PAL | BM162: PAR | BN162: ROM | BO162: SIE | BP162: UDI | BS162: F*s | BT162: ATA | BU162: BOL | BV162: CAG | BW162: CAT | BX162: CES | BY162: CHI | BZ162: FIO | CA162: GEN | CB162: INT | CC162: JUV | CD162: LAZ | CE162: LEC | CF162: MIL | CG162: NAP | CH162: NOV | CI162: PAL | CJ162: PAR | CK162: ROM | CL162: SIE | CM162: UDI
C163: =C171/C$117 -> 0 | D163: =D171/D$117 -> 0 | E163: =E171/E$117 -> 0.052631579 | F163: =F171/F$117 -> 0.052631579 | G163: =G171/G$117 -> 0.26315789 | H163: =H171/H$117 -> 0.052631579 | I163: =I171/I$117 -> 0 | J163: =J171/J$117 -> 0.15789474 | ... V163: =V171/V$117 -> 0 | Z163: =Z171/Z$117 -> 0 | AA163: =AA171/AA$117 -> 0 | AB163: =AB171/AB$117 -> 0 | AC163: =AC171/AC$117 -> 0 | AD163: =AD171/AD$117 -> 0 | AE163: =AE171/AE$117 -> 0 | AF163: =AF171/AF$117 -> 0 | AG163: =AG171/AG$117 -> 0 | ... AS163: =AS171/AS$117 -> 0 | AW163: =AW171/AW$117 -> 0 | AX163: =AX171/AX$117 -> 0 | AY163: =AY171/AY$117 -> 0 | AZ163: =AZ171/AZ$117 -> 0 | BA163: =BA171/BA$117 -> 0 | BB163: =BB171/BB$117 -> 0 | BC163: =BC171/BC$117 -> 0 | BD163: =BD171/BD$117 -> 0 | ... BP163: =BP171/BP$117 -> 0 | BT163: =BT171/BT$117 -> 0 | BU163: =BU171/BU$117 -> 0 | BV163: =BV171/BV$117 -> 0.25 | BW163: =BW171/BW$117 -> 0.2 | BX163: =BX171/BX$117 -> 0.5 | BY163: =BY171/BY$117 -> 0.2 | BZ163: =BZ171/BZ$117 -> 0 | CA163: =CA171/CA$117 -> 0.75 | ... CM163: =CM171/CM$117 -> 0
C164: =C172/C$117 -> 0.15789474 | D164: =D172/D$117 -> 0.21052632 | E164: =E172/E$117 -> 0.36842105 | F164: =F172/F$117 -> 0.36842105 | G164: =G172/G$117 -> 0.36842105 | H164: =H172/H$117 -> 0.31578947 | I164: =I172/I$117 -> 0.47368421 | J164: =J172/J$117 -> 0.36842105 | ... V164: =V172/V$117 -> 0.31578947 | Z164: =Z172/Z$117 -> 0 | AA164: =AA172/AA$117 -> 0 | AB164: =AB172/AB$117 -> 0 | AC164: =AC172/AC$117 -> 0 | AD164: =AD172/AD$117 -> 0 | AE164: =AE172/AE$117 -> 0 | AF164: =AF172/AF$117 -> 0 | AG164: =AG172/AG$117 -> 0 | ... AS164: =AS172/AS$117 -> 0 | AW164: =AW172/AW$117 -> 0 | AX164: =AX172/AX$117 -> 0 | AY164: =AY172/AY$117 -> 0.125 | AZ164: =AZ172/AZ$117 -> 0.4 | BA164: =BA172/BA$117 -> 0 | BB164: =BB172/BB$117 -> 0.16666667 | BC164: =BC172/BC$117 -> 0.28571429 | BD164: =BD172/BD$117 -> 0 | ... BP164: =BP172/BP$117 -> 0 | BT164: =BT172/BT$117 -> 0.75 | BU164: =BU172/BU$117 -> 0.57142857 | BV164: =BV172/BV$117 -> 1.5 | BW164: =BW172/BW$117 -> 1 | BX164: =BX172/BX$117 -> 0.7 | BY164: =BY172/BY$117 -> 1 | BZ164: =BZ172/BZ$117 -> 1.75 | CA164: =CA172/CA$117 -> 1.75 | ... CM164: =CM172/CM$117 -> 3
C165: =C173/C$117 -> 0.52631579 | D165: =D173/D$117 -> 0.52631579 | E165: =E173/E$117 -> 0.36842105 | F165: =F173/F$117 -> 0.21052632 | G165: =G173/G$117 -> 0.21052632 | H165: =H173/H$117 -> 0.31578947 | I165: =I173/I$117 -> 0.26315789 | J165: =J173/J$117 -> 0.42105263 | ... V165: =V173/V$117 -> 0.31578947 | Z165: =Z173/Z$117 -> 0.11111111 | AA165: =AA173/AA$117 -> 0.25 | AB165: =AB173/AB$117 -> 0 | AC165: =AC173/AC$117 -> 0.11111111 | AD165: =AD173/AD$117 -> 0 | AE165: =AE173/AE$117 -> 0 | AF165: =AF173/AF$117 -> 0 | AG165: =AG173/AG$117 -> 0.22222222 | ... AS165: =AS173/AS$117 -> 0 | AW165: =AW173/AW$117 -> 0.66666667 | AX165: =AX173/AX$117 -> 1.5 | AY165: =AY173/AY$117 -> 0.375 | AZ165: =AZ173/AZ$117 -> 0.4 | BA165: =BA173/BA$117 -> 0.28571429 | BB165: =BB173/BB$117 -> 0.66666667 | BC165: =BC173/BC$117 -> 0.42857143 | BD165: =BD173/BD$117 -> 0.5 | ... BP165: =BP173/BP$117 -> 1 | BT165: =BT173/BT$117 -> 1.25 | BU165: =BU173/BU$117 -> 0.28571429 | BV165: =BV173/BV$117 -> 1 | BW165: =BW173/BW$117 -> 0.2 | BX165: =BX173/BX$117 -> 0.2 | BY165: =BY173/BY$117 -> 0.4 | BZ165: =BZ173/BZ$117 -> 0.5 | CA165: =CA173/CA$117 -> 0.75 | ... CM165: =CM173/CM$117 -> 1
C166: =C174/C$117 -> 0.31578947 | D166: =D174/D$117 -> 0.21052632 | E166: =E174/E$117 -> 0.21052632 | F166: =F174/F$117 -> 0.36842105 | G166: =G174/G$117 -> 0.15789474 | H166: =H174/H$117 -> 0.31578947 | I166: =I174/I$117 -> 0.15789474 | J166: =J174/J$117 -> 0.052631579 | ... V166: =V174/V$117 -> 0.36842105 | Z166: =Z174/Z$117 -> 0.33333333 | AA166: =AA174/AA$117 -> 0.25 | AB166: =AB174/AB$117 -> 0.42857143 | AC166: =AC174/AC$117 -> 0.11111111 | AD166: =AD174/AD$117 -> 1 | AE166: =AE174/AE$117 -> 0.5 | AF166: =AF174/AF$117 -> 0.125 | AG166: =AG174/AG$117 -> 0 | ... AS166: =AS174/AS$117 -> 0.38461538 | AW166: =AW174/AW$117 -> 0.5 | AX166: =AX174/AX$117 -> 0.5 | AY166: =AY174/AY$117 -> 0.125 | AZ166: =AZ174/AZ$117 -> 1.2 | BA166: =BA174/BA$117 -> 0.14285714 | BB166: =BB174/BB$117 -> 0.33333333 | BC166: =BC174/BC$117 -> 0.14285714 | BD166: =BD174/BD$117 -> 0 | ... BP166: =BP174/BP$117 -> 0.5 | BT166: =BT174/BT$117 -> 0 | BU166: =BU174/BU$117 -> 0 | BV166: =BV174/BV$117 -> 0 | BW166: =BW174/BW$117 -> 0 | BX166: =BX174/BX$117 -> 0 | BY166: =BY174/BY$117 -> 0 | BZ166: =BZ174/BZ$117 -> 0.25 | CA166: =CA174/CA$117 -> 0.25 | ... CM166: =CM174/CM$117 -> 0
C167: =C175/C$117 -> 0 | D167: =D175/D$117 -> 0.052631579 | E167: =E175/E$117 -> 0 | F167: =F175/F$117 -> 0 | G167: =G175/G$117 -> 0 | H167: =H175/H$117 -> 0 | I167: =I175/I$117 -> 0.10526316 | J167: =J175/J$117 -> 0 | ... V167: =V175/V$117 -> 0 | Z167: =Z175/Z$117 -> 0 | AA167: =AA175/AA$117 -> 0.125 | AB167: =AB175/AB$117 -> 0 | AC167: =AC175/AC$117 -> 0 | AD167: =AD175/AD$117 -> 0 | AE167: =AE175/AE$117 -> 0 | AF167: =AF175/AF$117 -> 0.25 | AG167: =AG175/AG$117 -> 0 | ... AS167: =AS175/AS$117 -> 0 | AW167: =AW175/AW$117 -> 0 | AX167: =AX175/AX$117 -> 0 | AY167: =AY175/AY$117 -> 0 | AZ167: =AZ175/AZ$117 -> 0 | BA167: =BA175/BA$117 -> 0 | BB167: =BB175/BB$117 -> 0 | BC167: =BC175/BC$117 -> 0 | BD167: =BD175/BD$117 -> 0 | ... BP167: =BP175/BP$117 -> 0 | BT167: =BT175/BT$117 -> 0 | BU167: =BU175/BU$117 -> 0 | BV167: =BV175/BV$117 -> 0 | BW167: =BW175/BW$117 -> 0 | BX167: =BX175/BX$117 -> 0 | BY167: =BY175/BY$117 -> 0 | BZ167: =BZ175/BZ$117 -> 0 | CA167: =CA175/CA$117 -> 0 | ... CM167: =CM175/CM$117 -> 0
C168: =SUM(C163:C167) -> 1 | D168: =SUM(D163:D167) -> 1 | E168: =SUM(E163:E167) -> 1 | F168: =SUM(F163:F167) -> 1 | G168: =SUM(G163:G167) -> 1 | H168: =SUM(H163:H167) -> 1 | I168: =SUM(I163:I167) -> 1 | J168: =SUM(J163:J167) -> 1 | ... V168: =SUM(V163:V167) -> 1 | Z168: =SUM(Z163:Z167) -> 0.44444444 | AA168: =SUM(AA163:AA167) -> 0.625 | AB168: =SUM(AB163:AB167) -> 0.42857143 | AC168: =SUM(AC163:AC167) -> 0.22222222 | AD168: =SUM(AD163:AD167) -> 1 | AE168: =SUM(AE163:AE167) -> 0.5 | AF168: =SUM(AF163:AF167) -> 0.375 | AG168: =SUM(AG163:AG167) -> 0.22222222 | ... AS168: =SUM(AS163:AS167) -> 0.38461538 | AW168: =SUM(AW163:AW167) -> 1.1666667 | AX168: =SUM(AX163:AX167) -> 2 | AY168: =SUM(AY163:AY167) -> 0.625 | AZ168: =SUM(AZ163:AZ167) -> 2 | BA168: =SUM(BA163:BA167) -> 0.42857143 | BB168: =SUM(BB163:BB167) -> 1.1666667 | BC168: =SUM(BC163:BC167) -> 0.85714286 | BD168: =SUM(BD163:BD167) -> 0.5 | ... BP168: =SUM(BP163:BP167) -> 1.5 | BT168: =SUM(BT163:BT167) -> 2 | BU168: =SUM(BU163:BU167) -> 0.85714286 | BV168: =SUM(BV163:BV167) -> 2.75 | BW168: =SUM(BW163:BW167) -> 1.4 | BX168: =SUM(BX163:BX167) -> 1.4 | BY168: =SUM(BY163:BY167) -> 1.6 | BZ168: =SUM(BZ163:BZ167) -> 2.5 | CA168: =SUM(CA163:CA167) -> 3.5 | ... CM168: =SUM(CM163:CM167) -> 4
B170: F*T | C170: ATA | D170: BOL | E170: CAG | F170: CAT | G170: CES | H170: CHI | I170: FIO | J170: GEN | K170: INT | L170: JUV | M170: LAZ | N170: LEC | O170: MIL | P170: NAP | Q170: NOV | R170: PAL | S170: PAR | T170: ROM | U170: SIE | V170: UDI | Y170: F*v | Z170: ATA | AA170: BOL | AB170: CAG | AC170: CAT | AD170: CES | AE170: CHI | AF170: FIO | AG170: GEN | AH170: INT | AI170: JUV | AJ170: LAZ | AK170: LEC | AL170: MIL | AM170: NAP | AN170: NOV | AO170: PAL | AP170: PAR | AQ170: ROM | AR170: SIE | AS170: UDI | AV170: F*p | AW170: ATA | AX170: BOL | AY170: CAG | AZ170: CAT | BA170: CES | BB170: CHI | BC170: FIO | BD170: GEN | BE170: INT | BF170: JUV | BG170: LAZ | BH170: LEC | BI170: MIL | BJ170: NAP | BK170: NOV | BL170: PAL | BM170: PAR | BN170: ROM | BO170: SIE | BP170: UDI | BS170: F*s | BT170: ATA | BU170: BOL | BV170: CAG | BW170: CAT | BX170: CES | BY170: CHI | BZ170: FIO | CA170: GEN | CB170: INT | CC170: JUV | CD170: LAZ | CE170: LEC | CF170: MIL | CG170: NAP | CH170: NOV | CI170: PAL | CJ170: PAR | CK170: ROM | CL170: SIE | CM170: UDI
C171: =COUNTIF(C121:C158, "<=5,3") -> 0 | D171: =COUNTIF(D121:D158, "<=5,3") -> 0 | E171: =COUNTIF(E121:E158, "<=5,3") -> 1 | F171: =COUNTIF(F121:F158, "<=5,3") -> 1 | G171: =COUNTIF(G121:G158, "<=5,3") -> 5 | H171: =COUNTIF(H121:H158, "<=5,3") -> 1 | I171: =COUNTIF(I121:I158, "<=5,3") -> 0 | J171: =COUNTIF(J121:J158, "<=5,3") -> 3 | ... V171: =COUNTIF(V121:V158, "<=5,3") -> 0 | Z171: =COUNTIF(Z121:Z158, "<=5,3") -> 0 | AA171: =COUNTIF(AA121:AA158, "<=5,3") -> 0 | AB171: =COUNTIF(AB121:AB158, "<=5,3") -> 0 | AC171: =COUNTIF(AC121:AC158, "<=5,3") -> 0 | AD171: =COUNTIF(AD121:AD158, "<=5,3") -> 0 | AE171: =COUNTIF(AE121:AE158, "<=5,3") -> 0 | AF171: =COUNTIF(AF121:AF158, "<=5,3") -> 0 | AG171: =COUNTIF(AG121:AG158, "<=5,3") -> 0 | ... AS171: =COUNTIF(AS121:AS158, "<=5,3") -> 0 | AW171: =COUNTIF(AW121:AW158, "<=5,3") -> 0 | AX171: =COUNTIF(AX121:AX158, "<=5,3") -> 0 | AY171: =COUNTIF(AY121:AY158, "<=5,3") -> 0 | AZ171: =COUNTIF(AZ121:AZ158, "<=5,3") -> 0 | BA171: =COUNTIF(BA121:BA158, "<=5,3") -> 0 | BB171: =COUNTIF(BB121:BB158, "<=5,3") -> 0 | BC171: =COUNTIF(BC121:BC158, "<=5,3") -> 0 | BD171: =COUNTIF(BD121:BD158, "<=5,3") -> 0 | ... BP171: =COUNTIF(BP121:BP158, "<=5,3") -> 0 | BT171: =COUNTIF(BT121:BT158, "<=5,3") -> 0 | BU171: =COUNTIF(BU121:BU158, "<=5,3") -> 0 | BV171: =COUNTIF(BV121:BV158, "<=5,3") -> 1 | BW171: =COUNTIF(BW121:BW158, "<=5,3") -> 1 | BX171: =COUNTIF(BX121:BX158, "<=5,3") -> 5 | BY171: =COUNTIF(BY121:BY158, "<=5,3") -> 1 | BZ171: =COUNTIF(BZ121:BZ158, "<=5,3") -> 0 | CA171: =COUNTIF(CA121:CA158, "<=5,3") -> 3 | ... CM171: =COUNTIF(CM121:CM158, "<=5,3") -> 0
C172: =COUNTIFS(C121:C158, ">=5,4",C121:C158, "<=5,7") -> 3 | D172: =COUNTIFS(D121:D158, ">=5,4",D121:D158, "<=5,7") -> 4 | E172: =COUNTIFS(E121:E158, ">=5,4",E121:E158, "<=5,7") -> 7 | F172: =COUNTIFS(F121:F158, ">=5,4",F121:F158, "<=5,7") -> 7 | G172: =COUNTIFS(G121:G158, ">=5,4",G121:G158, "<=5,7") -> 7 | H172: =COUNTIFS(H121:H158, ">=5,4",H121:H158, "<=5,7") -> 6 | I172: =COUNTIFS(I121:I158, ">=5,4",I121:I158, "<=5,7") -> 9 | J172: =COUNTIFS(J121:J158, ">=5,4",J121:J158, "<=5,7") -> 7 | ... V172: =COUNTIFS(V121:V158, ">=5,4",V121:V158, "<=5,7") -> 6 | Z172: =COUNTIFS(Z121:Z158, ">=5,4",Z121:Z158, "<=5,7") -> 0 | AA172: =COUNTIFS(AA121:AA158, ">=5,4",AA121:AA158, "<=5,7") -> 0 | AB172: =COUNTIFS(AB121:AB158, ">=5,4",AB121:AB158, "<=5,7") -> 0 | AC172: =COUNTIFS(AC121:AC158, ">=5,4",AC121:AC158, "<=5,7") -> 0 | AD172: =COUNTIFS(AD121:AD158, ">=5,4",AD121:AD158, "<=5,7") -> 0 | AE172: =COUNTIFS(AE121:AE158, ">=5,4",AE121:AE158, "<=5,7") -> 0 | AF172: =COUNTIFS(AF121:AF158, ">=5,4",AF121:AF158, "<=5,7") -> 0 | AG172: =COUNTIFS(AG121:AG158, ">=5,4",AG121:AG158, "<=5,7") -> 0 | ... AS172: =COUNTIFS(AS121:AS158, ">=5,4",AS121:AS158, "<=5,7") -> 0 | AW172: =COUNTIFS(AW121:AW158, ">=5,4",AW121:AW158, "<=5,7") -> 0 | AX172: =COUNTIFS(AX121:AX158, ">=5,4",AX121:AX158, "<=5,7") -> 0 | AY172: =COUNTIFS(AY121:AY158, ">=5,4",AY121:AY158, "<=5,7") -> 1 | AZ172: =COUNTIFS(AZ121:AZ158, ">=5,4",AZ121:AZ158, "<=5,7") -> 2 | BA172: =COUNTIFS(BA121:BA158, ">=5,4",BA121:BA158, "<=5,7") -> 0 | BB172: =COUNTIFS(BB121:BB158, ">=5,4",BB121:BB158, "<=5,7") -> 1 | BC172: =COUNTIFS(BC121:BC158, ">=5,4",BC121:BC158, "<=5,7") -> 2 | BD172: =COUNTIFS(BD121:BD158, ">=5,4",BD121:BD158, "<=5,7") -> 0 | ... BP172: =COUNTIFS(BP121:BP158, ">=5,4",BP121:BP158, "<=5,7") -> 0 | BT172: =COUNTIFS(BT121:BT158, ">=5,4",BT121:BT158, "<=5,7") -> 3 | BU172: =COUNTIFS(BU121:BU158, ">=5,4",BU121:BU158, "<=5,7") -> 4 | BV172: =COUNTIFS(BV121:BV158, ">=5,4",BV121:BV158, "<=5,7") -> 6 | BW172: =COUNTIFS(BW121:BW158, ">=5,4",BW121:BW158, "<=5,7") -> 5 | BX172: =COUNTIFS(BX121:BX158, ">=5,4",BX121:BX158, "<=5,7") -> 7 | BY172: =COUNTIFS(BY121:BY158, ">=5,4",BY121:BY158, "<=5,7") -> 5 | BZ172: =COUNTIFS(BZ121:BZ158, ">=5,4",BZ121:BZ158, "<=5,7") -> 7 | CA172: =COUNTIFS(CA121:CA158, ">=5,4",CA121:CA158, "<=5,7") -> 7 | ... CM172: =COUNTIFS(CM121:CM158, ">=5,4",CM121:CM158, "<=5,7") -> 6
C173: =COUNTIFS(C121:C158, ">=5,8",C121:C158, "<=6,1") -> 10 | D173: =COUNTIFS(D121:D158, ">=5,8",D121:D158, "<=6,1") -> 10 | E173: =COUNTIFS(E121:E158, ">=5,8",E121:E158, "<=6,1") -> 7 | F173: =COUNTIFS(F121:F158, ">=5,8",F121:F158, "<=6,1") -> 4 | G173: =COUNTIFS(G121:G158, ">=5,8",G121:G158, "<=6,1") -> 4 | H173: =COUNTIFS(H121:H158, ">=5,8",H121:H158, "<=6,1") -> 6 | I173: =COUNTIFS(I121:I158, ">=5,8",I121:I158, "<=6,1") -> 5 | J173: =COUNTIFS(J121:J158, ">=5,8",J121:J158, "<=6,1") -> 8 | ... V173: =COUNTIFS(V121:V158, ">=5,8",V121:V158, "<=6,1") -> 6 | Z173: =COUNTIFS(Z121:Z158, ">=5,8",Z121:Z158, "<=6,1") -> 1 | AA173: =COUNTIFS(AA121:AA158, ">=5,8",AA121:AA158, "<=6,1") -> 2 | AB173: =COUNTIFS(AB121:AB158, ">=5,8",AB121:AB158, "<=6,1") -> 0 | AC173: =COUNTIFS(AC121:AC158, ">=5,8",AC121:AC158, "<=6,1") -> 1 | AD173: =COUNTIFS(AD121:AD158, ">=5,8",AD121:AD158, "<=6,1") -> 0 | AE173: =COUNTIFS(AE121:AE158, ">=5,8",AE121:AE158, "<=6,1") -> 0 | AF173: =COUNTIFS(AF121:AF158, ">=5,8",AF121:AF158, "<=6,1") -> 0 | AG173: =COUNTIFS(AG121:AG158, ">=5,8",AG121:AG158, "<=6,1") -> 2 | ... AS173: =COUNTIFS(AS121:AS158, ">=5,8",AS121:AS158, "<=6,1") -> 0 | AW173: =COUNTIFS(AW121:AW158, ">=5,8",AW121:AW158, "<=6,1") -> 4 | AX173: =COUNTIFS(AX121:AX158, ">=5,8",AX121:AX158, "<=6,1") -> 6 | AY173: =COUNTIFS(AY121:AY158, ">=5,8",AY121:AY158, "<=6,1") -> 3 | AZ173: =COUNTIFS(AZ121:AZ158, ">=5,8",AZ121:AZ158, "<=6,1") -> 2 | BA173: =COUNTIFS(BA121:BA158, ">=5,8",BA121:BA158, "<=6,1") -> 2 | BB173: =COUNTIFS(BB121:BB158, ">=5,8",BB121:BB158, "<=6,1") -> 4 | BC173: =COUNTIFS(BC121:BC158, ">=5,8",BC121:BC158, "<=6,1") -> 3 | BD173: =COUNTIFS(BD121:BD158, ">=5,8",BD121:BD158, "<=6,1") -> 3 | ... BP173: =COUNTIFS(BP121:BP158, ">=5,8",BP121:BP158, "<=6,1") -> 4 | BT173: =COUNTIFS(BT121:BT158, ">=5,8",BT121:BT158, "<=6,1") -> 5 | BU173: =COUNTIFS(BU121:BU158, ">=5,8",BU121:BU158, "<=6,1") -> 2 | BV173: =COUNTIFS(BV121:BV158, ">=5,8",BV121:BV158, "<=6,1") -> 4 | BW173: =COUNTIFS(BW121:BW158, ">=5,8",BW121:BW158, "<=6,1") -> 1 | BX173: =COUNTIFS(BX121:BX158, ">=5,8",BX121:BX158, "<=6,1") -> 2 | BY173: =COUNTIFS(BY121:BY158, ">=5,8",BY121:BY158, "<=6,1") -> 2 | BZ173: =COUNTIFS(BZ121:BZ158, ">=5,8",BZ121:BZ158, "<=6,1") -> 2 | CA173: =COUNTIFS(CA121:CA158, ">=5,8",CA121:CA158, "<=6,1") -> 3 | ... CM173: =COUNTIFS(CM121:CM158, ">=5,8",CM121:CM158, "<=6,1") -> 2
C174: =COUNTIFS(C121:C158, ">=6,2",C121:C158, "<=6,5") -> 6 | D174: =COUNTIFS(D121:D158, ">=6,2",D121:D158, "<=6,5") -> 4 | E174: =COUNTIFS(E121:E158, ">=6,2",E121:E158, "<=6,5") -> 4 | F174: =COUNTIFS(F121:F158, ">=6,2",F121:F158, "<=6,5") -> 7 | G174: =COUNTIFS(G121:G158, ">=6,2",G121:G158, "<=6,5") -> 3 | H174: =COUNTIFS(H121:H158, ">=6,2",H121:H158, "<=6,5") -> 6 | I174: =COUNTIFS(I121:I158, ">=6,2",I121:I158, "<=6,5") -> 3 | J174: =COUNTIFS(J121:J158, ">=6,2",J121:J158, "<=6,5") -> 1 | ... V174: =COUNTIFS(V121:V158, ">=6,2",V121:V158, "<=6,5") -> 7 | Z174: =COUNTIFS(Z121:Z158, ">=6,2",Z121:Z158, "<=6,5") -> 3 | AA174: =COUNTIFS(AA121:AA158, ">=6,2",AA121:AA158, "<=6,5") -> 2 | AB174: =COUNTIFS(AB121:AB158, ">=6,2",AB121:AB158, "<=6,5") -> 3 | AC174: =COUNTIFS(AC121:AC158, ">=6,2",AC121:AC158, "<=6,5") -> 1 | AD174: =COUNTIFS(AD121:AD158, ">=6,2",AD121:AD158, "<=6,5") -> 2 | AE174: =COUNTIFS(AE121:AE158, ">=6,2",AE121:AE158, "<=6,5") -> 4 | AF174: =COUNTIFS(AF121:AF158, ">=6,2",AF121:AF158, "<=6,5") -> 1 | AG174: =COUNTIFS(AG121:AG158, ">=6,2",AG121:AG158, "<=6,5") -> 0 | ... AS174: =COUNTIFS(AS121:AS158, ">=6,2",AS121:AS158, "<=6,5") -> 5 | AW174: =COUNTIFS(AW121:AW158, ">=6,2",AW121:AW158, "<=6,5") -> 3 | AX174: =COUNTIFS(AX121:AX158, ">=6,2",AX121:AX158, "<=6,5") -> 2 | AY174: =COUNTIFS(AY121:AY158, ">=6,2",AY121:AY158, "<=6,5") -> 1 | AZ174: =COUNTIFS(AZ121:AZ158, ">=6,2",AZ121:AZ158, "<=6,5") -> 6 | BA174: =COUNTIFS(BA121:BA158, ">=6,2",BA121:BA158, "<=6,5") -> 1 | BB174: =COUNTIFS(BB121:BB158, ">=6,2",BB121:BB158, "<=6,5") -> 2 | BC174: =COUNTIFS(BC121:BC158, ">=6,2",BC121:BC158, "<=6,5") -> 1 | BD174: =COUNTIFS(BD121:BD158, ">=6,2",BD121:BD158, "<=6,5") -> 0 | ... BP174: =COUNTIFS(BP121:BP158, ">=6,2",BP121:BP158, "<=6,5") -> 2 | BT174: =COUNTIFS(BT121:BT158, ">=6,2",BT121:BT158, "<=6,5") -> 0 | BU174: =COUNTIFS(BU121:BU158, ">=6,2",BU121:BU158, "<=6,5") -> 0 | BV174: =COUNTIFS(BV121:BV158, ">=6,2",BV121:BV158, "<=6,5") -> 0 | BW174: =COUNTIFS(BW121:BW158, ">=6,2",BW121:BW158, "<=6,5") -> 0 | BX174: =COUNTIFS(BX121:BX158, ">=6,2",BX121:BX158, "<=6,5") -> 0 | BY174: =COUNTIFS(BY121:BY158, ">=6,2",BY121:BY158, "<=6,5") -> 0 | BZ174: =COUNTIFS(BZ121:BZ158, ">=6,2",BZ121:BZ158, "<=6,5") -> 1 | CA174: =COUNTIFS(CA121:CA158, ">=6,2",CA121:CA158, "<=6,5") -> 1 | ... CM174: =COUNTIFS(CM121:CM158, ">=6,2",CM121:CM158, "<=6,5") -> 0
C175: =COUNTIF(C121:C158, ">=6,6") -> 0 | D175: =COUNTIF(D121:D158, ">=6,6") -> 1 | E175: =COUNTIF(E121:E158, ">=6,6") -> 0 | F175: =COUNTIF(F121:F158, ">=6,6") -> 0 | G175: =COUNTIF(G121:G158, ">=6,6") -> 0 | H175: =COUNTIF(H121:H158, ">=6,6") -> 0 | I175: =COUNTIF(I121:I158, ">=6,6") -> 2 | J175: =COUNTIF(J121:J158, ">=6,6") -> 0 | ... V175: =COUNTIF(V121:V158, ">=6,6") -> 0 | Z175: =COUNTIF(Z121:Z158, ">=6,6") -> 0 | AA175: =COUNTIF(AA121:AA158, ">=6,6") -> 1 | AB175: =COUNTIF(AB121:AB158, ">=6,6") -> 0 | AC175: =COUNTIF(AC121:AC158, ">=6,6") -> 0 | AD175: =COUNTIF(AD121:AD158, ">=6,6") -> 0 | AE175: =COUNTIF(AE121:AE158, ">=6,6") -> 0 | AF175: =COUNTIF(AF121:AF158, ">=6,6") -> 2 | AG175: =COUNTIF(AG121:AG158, ">=6,6") -> 0 | ... AS175: =COUNTIF(AS121:AS158, ">=6,6") -> 0 | AW175: =COUNTIF(AW121:AW158, ">=6,6") -> 0 | AX175: =COUNTIF(AX121:AX158, ">=6,6") -> 0 | AY175: =COUNTIF(AY121:AY158, ">=6,6") -> 0 | AZ175: =COUNTIF(AZ121:AZ158, ">=6,6") -> 0 | BA175: =COUNTIF(BA121:BA158, ">=6,6") -> 0 | BB175: =COUNTIF(BB121:BB158, ">=6,6") -> 0 | BC175: =COUNTIF(BC121:BC158, ">=6,6") -> 0 | BD175: =COUNTIF(BD121:BD158, ">=6,6") -> 0 | ... BP175: =COUNTIF(BP121:BP158, ">=6,6") -> 0 | BT175: =COUNTIF(BT121:BT158, ">=6,6") -> 0 | BU175: =COUNTIF(BU121:BU158, ">=6,6") -> 0 | BV175: =COUNTIF(BV121:BV158, ">=6,6") -> 0 | BW175: =COUNTIF(BW121:BW158, ">=6,6") -> 0 | BX175: =COUNTIF(BX121:BX158, ">=6,6") -> 0 | BY175: =COUNTIF(BY121:BY158, ">=6,6") -> 0 | BZ175: =COUNTIF(BZ121:BZ158, ">=6,6") -> 0 | CA175: =COUNTIF(CA121:CA158, ">=6,6") -> 0 | ... CM175: =COUNTIF(CM121:CM158, ">=6,6") -> 0
C176: =SUM(C171:C175) -> 19 | D176: =SUM(D171:D175) -> 19 | E176: =SUM(E171:E175) -> 19 | F176: =SUM(F171:F175) -> 19 | G176: =SUM(G171:G175) -> 19 | H176: =SUM(H171:H175) -> 19 | I176: =SUM(I171:I175) -> 19 | J176: =SUM(J171:J175) -> 19 | ... V176: =SUM(V171:V175) -> 19 | Z176: =SUM(Z171:Z175) -> 4 | AA176: =SUM(AA171:AA175) -> 5 | AB176: =SUM(AB171:AB175) -> 3 | AC176: =SUM(AC171:AC175) -> 2 | AD176: =SUM(AD171:AD175) -> 2 | AE176: =SUM(AE171:AE175) -> 4 | AF176: =SUM(AF171:AF175) -> 3 | AG176: =SUM(AG171:AG175) -> 2 | ... AS176: =SUM(AS171:AS175) -> 5 | AW176: =SUM(AW171:AW175) -> 7 | AX176: =SUM(AX171:AX175) -> 8 | AY176: =SUM(AY171:AY175) -> 5 | AZ176: =SUM(AZ171:AZ175) -> 10 | BA176: =SUM(BA171:BA175) -> 3 | BB176: =SUM(BB171:BB175) -> 7 | BC176: =SUM(BC171:BC175) -> 6 | BD176: =SUM(BD171:BD175) -> 3 | ... BP176: =SUM(BP171:BP175) -> 6 | BT176: =SUM(BT171:BT175) -> 8 | BU176: =SUM(BU171:BU175) -> 6 | BV176: =SUM(BV171:BV175) -> 11 | BW176: =SUM(BW171:BW175) -> 7 | BX176: =SUM(BX171:BX175) -> 14 | BY176: =SUM(BY171:BY175) -> 8 | BZ176: =SUM(BZ171:BZ175) -> 10 | CA176: =SUM(CA171:CA175) -> 14 | ... CM176: =SUM(CM171:CM175) -> 8
C177: =Z176+AW176+BT176 -> 19 | D177: =AA176+AX176+BU176 -> 19 | E177: =AB176+AY176+BV176 -> 19 | F177: =AC176+AZ176+BW176 -> 19 | G177: =AD176+BA176+BX176 -> 19 | H177: =AE176+BB176+BY176 -> 19 | I177: =AF176+BC176+BZ176 -> 19 | J177: =AG176+BD176+CA176 -> 19 | ... V177: =AS176+BP176+CM176 -> 19

Sheet squadre
C2: ATA | D2: BOL | E2: CAG | F2: CAT | G2: CES | H2: CHI | I2: FIO | J2: GEN | K2: INT | L2: JUV | M2: LAZ | N2: LEC | O2: MIL | P2: NAP | Q2: NOV | R2: PAL | S2: PAR | T2: ROM | U2: SIE | V2: UDI | X2: C | AB2: ATA | AC2: BOL | AD2: CAG | AE2: CAT | AF2: CES | AG2: CHI | AH2: FIO | AI2: GEN | AJ2: INT | AK2: JUV | AL2: LAZ | AM2: LEC | AN2: MIL | AO2: NAP | AP2: NOV | AQ2: PAL | AR2: PAR | AS2: ROM | AT2: SIE | AU2: UDI | AW2: v | AX2: p | AY2: s | BC2: ATA | BD2: BOL | BE2: CAG | BF2: CAT | BG2: CES | BH2: CHI | BI2: FIO | BJ2: GEN | BK2: INT | BL2: JUV | BM2: LAZ | BN2: LEC | BO2: MIL | BP2: NAP | BQ2: NOV | BR2: PAL | BS2: PAR | BT2: ROM | BU2: SIE | BV2: UDI
B3: 1 | C3: 1 | D3: 1 | E3: 1 | F3: 0 | G3: 0 | H3: 0 | I3: 0 | J3: 0 | K3: 1 | L3: 0 | M3: 1 | N3: 0 | O3: 0 | P3: 1 | Q3: 1 | R3: 0 | S3: 1 | T3: 0 | U3: 1 | V3: 1 | X3: =SUM(C3:V3) -> 10 | AA3: 1 | AB3: v | AC3: s | AD3: s | AE3: p | AF3: s | AG3: p | AH3: p | AI3: s | AJ3: v | AK3: p | AL3: p | AM3: s | AN3: v | AO3: v | AP3: p | AQ3: p | AR3: p | AS3: v | AT3: p | AU3: p | AW3: =COUNTIF(AB3:AU3, "=v") -> 5 | AX3: =COUNTIF(AB3:AU3, "=p") -> 10 | AY3: =COUNTIF(AB3:AU3, "=s") -> 5 | BB3: 1 | BC3: =CONCATENATE(C3,AB3) -> 1v | BD3: =CONCATENATE(D3,AC3) -> 1s | BE3: =CONCATENATE(E3,AD3) -> 1s | BF3: =CONCATENATE(F3,AE3) -> 0p | BG3: =CONCATENATE(G3,AF3) -> 0s | BH3: =CONCATENATE(H3,AG3) -> 0p | BI3: =CONCATENATE(I3,AH3) -> 0p | BJ3: =CONCATENATE(J3,AI3) -> 0s | ... BV3: =CONCATENATE(V3,AU3) -> 1p
B4: 2 | C4: 0 | D4: 0 | E4: 0 | F4: 1 | G4: 1 | H4: 1 | I4: 1 | J4: 1 | K4: 0 | L4: 1 | M4: 0 | N4: 1 | O4: 1 | P4: 0 | Q4: 0 | R4: 1 | S4: 0 | T4: 1 | U4: 0 | V4: 0 | X4: =SUM(C4:V4) -> 10 | AA4: 2 | AB4: p | AC4: s | AD4: v | AE4: p | AF4: s | AG4: p | AH4: v | AI4: p | AJ4: s | AK4: v | AL4: p | AM4: s | AN4: p | AO4: v | AP4: p | AQ4: v | AR4: s | AS4: s | AT4: p | AU4: v | AW4: =COUNTIF(AB4:AU4, "=v") -> 6 | AX4: =COUNTIF(AB4:AU4, "=p") -> 8 | AY4: =COUNTIF(AB4:AU4, "=s") -> 6 | BB4: 2 | BC4: =CONCATENATE(C4,AB4) -> 0p | BD4: =CONCATENATE(D4,AC4) -> 0s | BE4: =CONCATENATE(E4,AD4) -> 0v | BF4: =CONCATENATE(F4,AE4) -> 1p | BG4: =CONCATENATE(G4,AF4) -> 1s | BH4: =CONCATENATE(H4,AG4) -> 1p | BI4: =CONCATENATE(I4,AH4) -> 1v | BJ4: =CONCATENATE(J4,AI4) -> 1p | ... BV4: =CONCATENATE(V4,AU4) -> 0v
B5: 3 | C5: 1 | D5: 1 | E5: 1 | F5: 1 | G5: 0 | H5: 0 | I5: 0 | J5: 0 | K5: 1 | L5: 0 | M5: 1 | N5: 0 | O5: 0 | P5: 1 | Q5: 0 | R5: 0 | S5: 1 | T5: 0 | U5: 1 | V5: 1 | X5: =SUM(C5:V5) -> 10 | AA5: 3 | AB5: v | AC5: s | AD5: v | AE5: v | AF5: s | AG5: s | AH5: s | AI5: v | AJ5: p | AK5: v | AL5: s | AM5: v | AN5: s | AO5: v | AP5: s | AQ5: s | AR5: v | AS5: p | AT5: s | AU5: v | AW5: =COUNTIF(AB5:AU5, "=v") -> 9 | AX5: =COUNTIF(AB5:AU5, "=p") -> 2 | AY5: =COUNTIF(AB5:AU5, "=s") -> 9 | BB5: 3 | BC5: =CONCATENATE(C5,AB5) -> 1v | BD5: =CONCATENATE(D5,AC5) -> 1s | BE5: =CONCATENATE(E5,AD5) -> 1v | BF5: =CONCATENATE(F5,AE5) -> 1v | BG5: =CONCATENATE(G5,AF5) -> 0s | BH5: =CONCATENATE(H5,AG5) -> 0s | BI5: =CONCATENATE(I5,AH5) -> 0s | BJ5: =CONCATENATE(J5,AI5) -> 0v | ... BV5: =CONCATENATE(V5,AU5) -> 1v
