Workbook

Sheet gazz
C2: ATA | D2: BOL | E2: CAG | F2: CAT | G2: CES | H2: CHI | I2: FIO | J2: GEN | K2: INT | L2: JUV | M2: LAZ | N2: LEC | O2: MIL | P2: NAP | Q2: NOV | R2: PAL | S2: PAR | T2: ROM | U2: SIE | V2: UDI
B3: 1 | C3: 5.9 | D3: 5.7 | E3: 6 | F3: 5.5 | G3: 5.5 | H3: 6 | I3: 5.8 | J3: 5.9 | K3: 5.8 | L3: 6.4 | M3: 6.3 | N3: 5.7 | O3: 5.9 | P3: 5.9 | Q3: 5.7 | R3: 5.7 | S3: 6.2 | T3: 5.9 | U3: 5.8 | V3: 6.5
B4: 2 | C4: 6.2 | D4: 5.5 | E4: 6.3 | F4: 5.8 | G4: 5.6 | H4: 5.8 | I4: 6.4 | J4: 5.8 | K4: 5.3 | L4: 6.4 | M4: 5.8 | N4: 5.3 | O4: 6.1 | P4: 6.3 | Q4: 5.9 | R4: 6.5 | S4: 5 | T4: 5.4 | U4: 5.7 | V4: 6.3
B5: 3 | C5: 6.1 | D5: 5.3 | E5: 6.4 | F5: 6.3 | G5: 5.7 | H5: 5.9 | I5: 5.4 | J5: 6.1 | K5: 5.8 | L5: 6.3 | M5: 5.5 | N5: 6.5 | O5: 5.3 | P5: 6.7 | Q5: 5.5 | R5: 5.5 | S5: 5.9 | T5: 6.3 | U5: 6 | V5: 6.3
B6: 4 | C6: 6.2 | D6: 6.1 | E6: 5.4 | F6: 5.4 | G6: 5.6 | H6: 6.2 | I6: 6.4 | J6: 6.5 | K6: 4.5 | L6: 6.2 | M6: 6.1 | N6: 5.4 | O6: 6 | P6: 5.3 | Q6: 6.9 | R6: 6.2 | S6: 5.4 | T6: 5.6 | U6: 6 | V6: 6.2
B7: 5 | C7: 6.3 | D7: 5.8 | E7: 6.1 | F7: 6.2 | G7: 5.7 | H7: 6.1 | I7: 6.2 | J7: 5.8 | K7: 6.1 | L7: 5.7 | M7: 6 | N7: 5.4 | O7: 6.1 | P7: 5.5 | Q7: 5.6 | R7: 6 | S7: 5.3 | T7: 6.1 | U7: 6.6 | V7: 5.9
B8: 6 | C8: 5.8 | D8: 5.4 | E8: 6.7 | F8: 6.1 | G8: 6 | H8: 5.8 | I8: 5.6 | J8: 5.3 | K8: 5.5 | L8: 6.7 | M8: 6.1 | N8: 5.3 | O8: 5.1 | P8: 6.9 | Q8: 6 | R8: 6.4 | S8: 6.5 | T8: 6.5 | U8: 5.5 | V8: 6.7
B9: 7 | C9: 6.1 | D9: 6 | E9: 5.7 | F9: 6.5 | G9: 5.9 | H9: 6 | I9: 5.8 | J9: 5.9 | K9: 5.4 | L9: 5.9 | M9: 6.3 | N9: 5.7 | O9: 6.5 | P9: 5.5 | Q9: 5.9 | R9: 5.2 | S9: 6.5 | T9: 6 | U9: 6 | V9: 5.9
B10: 8 | C10: 6.3 | D10: 5.4 | E10: 5.9 | F10: 6 | G10: 5.4 | H10: 5.7 | I10: 5.7 | J10: 6.4 | K10: 6.2 | L10: 5.9 | M10: 6.3 | N10: 5.6 | O10: 5.9 | P10: 5.8 | Q10: 5.6 | R10: 5.9 | S10: 5.8 | T10: 6 | U10: 6.2 | V10: 6.4
B11: 9 | C11: 6.3 | D11: 5.9 | E11: 5.7 | F11: 6.1 | G11: 5.8 | H11: 5.6 | I11: 5.5 | J11: 6.1 | K11: 5.9 | L11: 6.5 | M11: 5.9 | N11: 5.6 | O11: 6.3 | P11: 6.4 | Q11: 5.6 | R11: 6.3 | S11: 5.5 | T11: 5.8 | U11: 6 | V11: 5.4
B12: 10 | C12: 5.9 | D12: 5.8 | E12: 5.6 | F12: 6.4 | G12: 5.2 | H12: 5.2 | I12: 6 | J12: 5.7 | K12: 5.3 | L12: 6.4 | M12: 6.3 | N12: 5.7 | O12: 6.4 | P12: 5.4 | Q12: 6 | R12: 5.4 | S12: 6.6 | T12: 5.8 | U12: 6.7 | V12: 6.4
B13: 11 | C13: 6.4 | D13: 5.5 | E13: 5.5 | F13: 5.3 | G13: 5.4 | H13: 6.1 | I13: 5.4 | J13: 5.7 | K13: 6 | L13: 6 | M13: 6.2 | N13: 6.4 | O13: 6.8 | P13: 6.3 | Q13: 5.4 | R13: 6.4 | S13: 5.7 | T13: 6.2 | U13: 5.9 | V13: 6.2
B14: 12 | C14: 6.3 | D14: 5.5 | E14: 5.7 | F14: 5.6 | G14: 6.1 | H14: 6.2 | I14: 5.8 | J14: 6.1 | K14: 6.2 | L14: 6.6 | M14: 6 | N14: 5.7 | O14: 6 | P14: 5.7 | Q14: 6 | R14: 5.1 | S14: 6.3 | T14: 6.3 | U14: 6.1 | V14: 5.4
... B40: 38 | C40: 5.9 | D40: 5.7 | E40: 6 | F40: 5.5 | G40: 5.5 | H40: 6 | I40: 5.8 | J40: 5.9 | K40: 5.8 | L40: 6.4 | M40: 6.3 | N40: 5.7 | O40: 5.9 | P40: 5.9 | Q40: 5.7 | R40: 5.7 | S40: 6.2 | T40: 5.9 | U40: 5.8 | V40: 6.5
C42: =SUM(C3:C40)/38 -> 6.0315789 | D42: =SUM(D3:D40)/38 -> 5.9052632 | E42: =SUM(E3:E40)/38 -> 5.8894737 | F42: =SUM(F3:F40)/38 -> 5.9578947 | G42: =SUM(G3:G40)/38 -> 5.6842105 | H42: =SUM(H3:H40)/38 -> 5.9157895 | I42: =SUM(I3:I40)/38 -> 5.8289474 | J42: =SUM(J3:J40)/38 -> 5.8815789 | ... V42: =SUM(V3:V40)/38 -> 6.1157895
C44: ATA | D44: BOL | E44: CAG | F44: CAT | G44: CES | H44: CHI | I44: FIO | J44: GEN | K44: INT | L44: JUV | M44: LAZ | N44: LEC | O44: MIL | P44: NAP | Q44: NOV | R44: PAL | S44: PAR | T44: ROM | U44: SIE | V44: UDI
C45: =C53/C$58 -> 0 | D45: =D53/D$58 -> 0.026315789 | E45: =E53/E$58 -> 0.052631579 | F45: =F53/F$58 -> 0.026315789 | G45: =G53/G$58 -> 0.15789474 | H45: =H53/H$58 -> 0.078947368 | I45: =I53/I$58 -> 0.052631579 | J45: =J53/J$58 -> 0.10526316 | ... V45: =V53/V$58 -> 0
C46: =C54/C$58 -> 0.13157895 | D46: =D54/D$58 -> 0.31578947 | E46: =E54/E$58 -> 0.36842105 | F46: =F54/F$58 -> 0.26315789 | G46: =G54/G$58 -> 0.42105263 | H46: =H54/H$58 -> 0.21052632 | I46: =I54/I$58 -> 0.39473684 | J46: =J54/J$58 -> 0.21052632 | ... V46: =V54/V$58 -> 0.15789474
C47: =C55/C$58 -> 0.55263158 | D47: =D55/D$58 -> 0.39473684 | E47: =E55/E$58 -> 0.34210526 | F47: =F55/F$58 -> 0.39473684 | G47: =G55/G$58 -> 0.34210526 | H47: =H55/H$58 -> 0.44736842 | I47: =I55/I$58 -> 0.26315789 | J47: =J55/J$58 -> 0.5 | ... V47: =V55/V$58 -> 0.26315789
C48: =C56/C$58 -> 0.28947368 | D48: =D56/D$58 -> 0.21052632 | E48: =E56/E$58 -> 0.18421053 | F48: =F56/F$58 -> 0.26315789 | G48: =G56/G$58 -> 0.078947368 | H48: =H56/H$58 -> 0.23684211 | I48: =I56/I$58 -> 0.28947368 | J48: =J56/J$58 -> 0.13157895 | ... V48: =V56/V$58 -> 0.55263158
C49: =C57/C$58 -> 0.026315789 | D49: =D57/D$58 -> 0.052631579 | E49: =E57/E$58 -> 0.052631579 | F49: =F57/F$58 -> 0.052631579 | G49: =G57/G$58 -> 0 | H49: =H57/H$58 -> 0.026315789 | I49: =I57/I$58 -> 0 | J49: =J57/J$58 -> 0.052631579 | ... V49: =V57/V$58 -> 0.026315789
C50: =SUM(C45:C49) -> 1 | D50: =SUM(D45:D49) -> 1 | E50: =SUM(E45:E49) -> 1 | F50: =SUM(F45:F49) -> 1 | G50: =SUM(G45:G49) -> 1 | H50: =SUM(H45:H49) -> 1 | I50: =SUM(I45:I49) -> 1 | J50: =SUM(J45:J49) -> 1 | ... V50: =SUM(V45:V49) -> 1
C52: ATA | D52: BOL | E52: CAG | F52: CAT | G52: CES | H52: CHI | I52: FIO | J52: GEN | K52: INT | L52: JUV | M52: LAZ | N52: LEC | O52: MIL | P52: NAP | Q52: NOV | R52: PAL | S52: PAR | T52: ROM | U52: SIE | V52: UDI
C53: =COUNTIF(C3:C40, "<=5,3") -> 0 | D53: =COUNTIF(D3:D40, "<=5,3") -> 1 | E53: =COUNTIF(E3:E40, "<=5,3") -> 2 | F53: =COUNTIF(F3:F40, "<=5,3") -> 1 | G53: =COUNTIF(G3:G40, "<=5,3") -> 6 | H53: =COUNTIF(H3:H40, "<=5,3") -> 3 | I53: =COUNTIF(I3:I40, "<=5,3") -> 2 | J53: =COUNTIF(J3:J40, "<=5,3") -> 4 | ... V53: =COUNTIF(V3:V40, "<=5,3") -> 0
C54: =COUNTIFS(C3:C40, ">=5,4",C3:C40, "<=5,7") -> 5 | D54: =COUNTIFS(D3:D40, ">=5,4",D3:D40, "<=5,7") -> 12 | E54: =COUNTIFS(E3:E40, ">=5,4",E3:E40, "<=5,7") -> 14 | F54: =COUNTIFS(F3:F40, ">=5,4",F3:F40, "<=5,7") -> 10 | G54: =COUNTIFS(G3:G40, ">=5,4",G3:G40, "<=5,7") -> 16 | H54: =COUNTIFS(H3:H40, ">=5,4",H3:H40, "<=5,7") -> 8 | I54: =COUNTIFS(I3:I40, ">=5,4",I3:I40, "<=5,7") -> 15 | J54: =COUNTIFS(J3:J40, ">=5,4",J3:J40, "<=5,7") -> 8 | ... V54: =COUNTIFS(V3:V40, ">=5,4",V3:V40, "<=5,7") -> 6
C55: =COUNTIFS(C3:C40, ">=5,8",C3:C40, "<=6,1") -> 21 | D55: =COUNTIFS(D3:D40, ">=5,8",D3:D40, "<=6,1") -> 15 | E55: =COUNTIFS(E3:E40, ">=5,8",E3:E40, "<=6,1") -> 13 | F55: =COUNTIFS(F3:F40, ">=5,8",F3:F40, "<=6,1") -> 15 | G55: =COUNTIFS(G3:G40, ">=5,8",G3:G40, "<=6,1") -> 13 | H55: =COUNTIFS(H3:H40, ">=5,8",H3:H40, "<=6,1") -> 17 | I55: =COUNTIFS(I3:I40, ">=5,8",I3:I40, "<=6,1") -> 10 | J55: =COUNTIFS(J3:J40, ">=5,8",J3:J40, "<=6,1") -> 19 | ... V55: =COUNTIFS(V3:V40, ">=5,8",V3:V40, "<=6,1") -> 10
C56: =COUNTIFS(C3:C40, ">=6,2",C3:C40, "<=6,5") -> 11 | D56: =COUNTIFS(D3:D40, ">=6,2",D3:D40, "<=6,5") -> 8 | E56: =COUNTIFS(E3:E40, ">=6,2",E3:E40, "<=6,5") -> 7 | F56: =COUNTIFS(F3:F40, ">=6,2",F3:F40, "<=6,5") -> 10 | G56: =COUNTIFS(G3:G40, ">=6,2",G3:G40, "<=6,5") -> 3 | H56: =COUNTIFS(H3:H40, ">=6,2",H3:H40, "<=6,5") -> 9 | I56: =COUNTIFS(I3:I40, ">=6,2",I3:I40, "<=6,5") -> 11 | J56: =COUNTIFS(J3:J40, ">=6,2",J3:J40, "<=6,5") -> 5 | ... V56: =COUNTIFS(V3:V40, ">=6,2",V3:V40, "<=6,5") -> 21
C57: =COUNTIF(C3:C40, ">=6,6") -> 1 | D57: =COUNTIF(D3:D40, ">=6,6") -> 2 | E57: =COUNTIF(E3:E40, ">=6,6") -> 2 | F57: =COUNTIF(F3:F40, ">=6,6") -> 2 | G57: =COUNTIF(G3:G40, ">=6,6") -> 0 | H57: =COUNTIF(H3:H40, ">=6,6") -> 1 | I57: =COUNTIF(I3:I40, ">=6,6") -> 0 | J57: =COUNTIF(J3:J40, ">=6,6") -> 2 | ... V57: =COUNTIF(V3:V40, ">=6,6") -> 1
C58: =SUM(C53:C57) -> 38 | D58: =SUM(D53:D57) -> 38 | E58: =SUM(E53:E57) -> 38 | F58: =SUM(F53:F57) -> 38 | G58: =SUM(G53:G57) -> 38 | H58: =SUM(H53:H57) -> 38 | I58: =SUM(I53:I57) -> 38 | J58: =SUM(J53:J57) -> 38 | ... V58: =SUM(V53:V57) -> 38
B61: C*T | C61: ATA | D61: BOL | E61: CAG | F61: CAT | G61: CES | H61: CHI | I61: FIO | J61: GEN | K61: INT | L61: JUV | M61: LAZ | N61: LEC | O61: MIL | P61: NAP | Q61: NOV | R61: PAL | S61: PAR | T61: ROM | U61: SIE | V61: UDI | Y61: C*v | Z61: ATA | AA61: BOL | AB61: CAG | AC61: CAT | AD61: CES | AE61: CHI | AF61: FIO | AG61: GEN | AH61: INT | AI61: JUV | AJ61: LAZ | AK61: LEC | AL61: MIL | AM61: NAP | AN61: NOV | AO61: PAL | AP61: PAR | AQ61: ROM | AR61: SIE | AS61: UDI | AV61: C*p | AW61: ATA | AX61: BOL | AY61: CAG | AZ61: CAT | BA61: CES | BB61: CHI | BC61: FIO | BD61: GEN | BE61: INT | BF61: JUV | BG61: LAZ | BH61: LEC | BI61: MIL | BJ61: NAP | BK61: NOV | BL61: PAL | BM61: PAR | BN61: ROM | BO61: SIE | BP61: UDI | BS61: C*s | BT61: ATA | BU61: BOL | BV61: CAG | BW61: CAT | BX61: CES | BY61: CHI | BZ61: FIO | CA61: GEN | CB61: INT | CC61: JUV | CD61: LAZ | CE61: LEC | CF61: MIL | CG61: NAP | CH61: NOV | CI61: PAL | CJ61: PAR | CK61: ROM | CL61: SIE | CM61: UDI
B62: 1 | C62: =IF(squadre!C3=1, C3, "-") -> 5.9 | D62: =IF(squadre!D3=1, D3, "-") -> 5.7 | E62: =IF(squadre!E3=1, E3, "-") -> 6 | F62: =IF(squadre!F3=1, F3, "-") -> - | G62: =IF(squadre!G3=1, G3, "-") -> - | H62: =IF(squadre!H3=1, H3, "-") -> - | I62: =IF(squadre!I3=1, I3, "-") -> - | J62: =IF(squadre!J3=1, J3, "-") -> - | ... V62: =IF(squadre!V3=1, V3, "-") -> 6.5 | Y62: 1 | Z62: =IF(squadre!BC3="1v",C3,"-") -> 5.9 | AA62: =IF(squadre!BD3="1v",D3,"-") -> - | AB62: =IF(squadre!BE3="1v",E3,"-") -> - | AC62: =IF(squadre!BF3="1v",F3,"-") -> - | AD62: =IF(squadre!BG3="1v",G3,"-") -> - | AE62: =IF(squadre!BH3="1v",H3,"-") -> - | AF62: =IF(squadre!BI3="1v",I3,"-") -> - | AG62: =IF(squadre!BJ3="1v",J3,"-") -> - | ... AS62: =IF(squadre!BV3="1v",V3,"-") -> - | AV62: 1 | AW62: =IF(squadre!BC3="1p", C3, "-") -> - | AX62: =IF(squadre!BD3="1p", D3, "-") -> - | AY62: =IF(squadre!BE3="1p", E3, "-") -> - | AZ62: =IF(squadre!BF3="1p", F3, "-") -> - | BA62: =IF(squadre!BG3="1p", G3, "-") -> - | BB62: =IF(squadre!BH3="1p", H3, "-") -> - | BC62: =IF(squadre!BI3="1p", I3, "-") -> - | BD62: =IF(squadre!BJ3="1p", J3, "-") -> - | ... BP62: =IF(squadre!BV3="1p", V3, "-") -> 6.5 | BS62: 1 | BT62: =IF(squadre!BC3="1s", C3, "-") -> - | BU62: =IF(squadre!BD3="1s", D3, "-") -> 5.7 | BV62: =IF(squadre!BE3="1s", E3, "-") -> 6 | BW62: =IF(squadre!BF3="1s", F3, "-") -> - | BX62: =IF(squadre!BG3="1s", G3, "-") -> - | BY62: =IF(squadre!BH3="1s", H3, "-") -> - | BZ62: =IF(squadre!BI3="1s", I3, "-") -> - | CA62: =IF(squadre!BJ3="1s", J3, "-") -> - | ... CM62: =IF(squadre!BV3="1s", V3, "-") -> -
B63: 2 | C63: =IF(squadre!C4=1, C4, "-") -> - | D63: =IF(squadre!D4=1, D4, "-") -> - | E63: =IF(squadre!E4=1, E4, "-") -> - | F63: =IF(squadre!F4=1, F4, "-") -> 5.8 | G63: =IF(squadre!G4=1, G4, "-") -> 5.6 | H63: =IF(squadre!H4=1, H4, "-") -> 5.8 | I63: =IF(squadre!I4=1, I4, "-") -> 6.4 | J63: =IF(squadre!J4=1, J4, "-") -> 5.8 | ... V63: =IF(squadre!V4=1, V4, "-") -> - | Y63: 2 | Z63: =IF(squadre!BC4="1v",C4,"-") -> - | AA63: =IF(squadre!BD4="1v",D4,"-") -> - | AB63: =IF(squadre!BE4="1v",E4,"-") -> - | AC63: =IF(squadre!BF4="1v",F4,"-") -> - | AD63: =IF(squadre!BG4="1v",G4,"-") -> - | AE63: =IF(squadre!BH4="1v",H4,"-") -> - | AF63: =IF(squadre!BI4="1v",I4,"-") -> 6.4 | AG63: =IF(squadre!BJ4="1v",J4,"-") -> - | ... AS63: =IF(squadre!BV4="1v",V4,"-") -> - | AV63: 2 | AW63: =IF(squadre!BC4="1p", C4, "-") -> - | AX63: =IF(squadre!BD4="1p", D4, "-") -> - | AY63: =IF(squadre!BE4="1p", E4, "-") -> - | AZ63: =IF(squadre!BF4="1p", F4, "-") -> 5.8 | BA63: =IF(squadre!BG4="1p", G4, "-") -> - | BB63: =IF(squadre!BH4="1p", H4, "-") -> 5.8 | BC63: =IF(squadre!BI4="1p", I4, "-") -> - | BD63: =IF(squadre!BJ4="1p", J4, "-") -> 5.8 | ... BP63: =IF(squadre!BV4="1p", V4, "-") -> - | BS63: 2 | BT63: =IF(squadre!BC4="1s", C4, "-") -> - | BU63: =IF(squadre!BD4="1s", D4, "-") -> - | BV63: =IF(squadre!BE4="1s", E4, "-") -> - | BW63: =IF(squadre!BF4="1s", F4, "-") -> - | BX63: =IF(squadre!BG4="1s", G4, "-") -> 5.6 | BY63: =IF(squadre!BH4="1s", H4, "-") -> - | BZ63: =IF(squadre!BI4="1s", I4, "-") -> - | CA63: =IF(squadre!BJ4="1s", J4, "-") -> - | ... CM63: =IF(squadre!BV4="1s", V4, "-") -> -
B64: 3 | C64: =IF(squadre!C5=1, C5, "-") -> 6.1 | D64: =IF(squadre!D5=1, D5, "-") -> 5.3 | E64: =IF(squadre!E5=1, E5, "-") -> 6.4 | F64: =IF(squadre!F5=1, F5, "-") -> 6.3 | G64: =IF(squadre!G5=1, G5, "-") -> - | H64: =IF(squadre!H5=1, H5, "-") -> - | I64: =IF(squadre!I5=1, I5, "-") -> - | J64: =IF(squadre!J5=1, J5, "-") -> - | ... V64: =IF(squadre!V5=1, V5, "-") -> 6.3 | Y64: 3 | Z64: =IF(squadre!BC5="1v",C5,"-") -> 6.1 | AA64: =IF(squadre!BD5="1v",D5,"-") -> - | AB64: =IF(squadre!BE5="1v",E5,"-") -> 6.4 | AC64: =IF(squadre!BF5="1v",F5,"-") -> 6.3 | AD64: =IF(squadre!BG5="1v",G5,"-") -> - | AE64: =IF(squadre!BH5="1v",H5,"-") -> - | AF64: =IF(squadre!BI5="1v",I5,"-") -> - | AG64: =IF(squadre!BJ5="1v",J5,"-") -> - | ... AS64: =IF(squadre!BV5="1v",V5,"-") -> 6.3 | AV64: 3 | AW64: =IF(squadre!BC5="1p", C5, "-") -> - | AX64: =IF(squadre!BD5="1p", D5, "-") -> - | AY64: =IF(squadre!BE5="1p", E5, "-") -> - | AZ64: =IF(squadre!BF5="1p", F5, "-") -> - | BA64: =IF(squadre!BG5="1p", G5, "-") -> - | BB64: =IF(squadre!BH5="1p", H5, "-") -> - | BC64: =IF(squadre!BI5="1p", I5, "-") -> - | BD64: =IF(squadre!BJ5="1p", J5, "-") -> - | ... BP64: =IF(squadre!BV5="1p", V5, "-") -> - | BS64: 3 | BT64: =IF(squadre!BC5="1s", C5, "-") -> - | BU64: =IF(squadre!BD5="1s", D5, "-") -> 5.3 | BV64: =IF(squadre!BE5="1s", E5, "-") -> - | BW64: =IF(squadre!BF5="1s", F5, "-") -> - | BX64: =IF(squadre!BG5="1s", G5, "-") -> - | BY64: =IF(squadre!BH5="1s", H5, "-") -> - | BZ64: =IF(squadre!BI5="1s", I5, "-") -> - | CA64: =IF(squadre!BJ5="1s", J5, "-") -> - | ... CM64: =IF(squadre!BV5="1s", V5, "-") -> -
B65: 4 | C65: =IF(squadre!C6=1, C6, "-") -> - | D65: =IF(squadre!D6=1, D6, "-") -> - | E65: =IF(squadre!E6=1, E6, "-") -> - | F65: =IF(squadre!F6=1, F6, "-") -> - | G65: =IF(squadre!G6=1, G6, "-") -> 5.6 | H65: =IF(squadre!H6=1, H6, "-") -> 6.2 | I65: =IF(squadre!I6=1, I6, "-") -> 6.4 | J65: =IF(squadre!J6=1, J6, "-") -> 6.5 | ... V65: =IF(squadre!V6=1, V6, "-") -> - | Y65: 4 | Z65: =IF(squadre!BC6="1v",C6,"-") -> - | AA65: =IF(squadre!BD6="1v",D6,"-") -> - | AB65: =IF(squadre!BE6="1v",E6,"-") -> - | AC65: =IF(squadre!BF6="1v",F6,"-") -> - | AD65: =IF(squadre!BG6="1v",G6,"-") -> - | AE65: =IF(squadre!BH6="1v",H6,"-") -> 6.2 | AF65: =IF(squadre!BI6="1v",I6,"-") -> 6.4 | AG65: =IF(squadre!BJ6="1v",J6,"-") -> 6.5 | ... AS65: =IF(squadre!BV6="1v",V6,"-") -> - | AV65: 4 | AW65: =IF(squadre!BC6="1p", C6, "-") -> - | AX65: =IF(squadre!BD6="1p", D6, "-") -> - | AY65: =IF(squadre!BE6="1p", E6, "-") -> - | AZ65: =IF(squadre!BF6="1p", F6, "-") -> - | BA65: =IF(squadre!BG6="1p", G6, "-") -> - | BB65: =IF(squadre!BH6="1p", H6, "-") -> - | BC65: =IF(squadre!BI6="1p", I6, "-") -> - | BD65: =IF(squadre!BJ6="1p", J6, "-") -> - | ... BP65: =IF(squadre!BV6="1p", V6, "-") -> - | BS65: 4 | BT65: =IF(squadre!BC6="1s", C6, "-") -> - | BU65: =IF(squadre!BD6="1s", D6, "-") -> - | BV65: =IF(squadre!BE6="1s", E6, "-") -> - | BW65: =IF(squadre!BF6="1s", F6, "-") -> - | BX65: =IF(squadre!BG6="1s", G6, "-") -> 5.6 | BY65: =IF(squadre!BH6="1s", H6, "-") -> - | BZ65: =IF(squadre!BI6="1s", I6, "-") -> - | CA65: =IF(squadre!BJ6="1s", J6, "-") -> - | ... CM65: =IF(squadre!BV6="1s", V6, "-") -> -
B66: 5 | C66: =IF(squadre!C7=1, C7, "-") -> 6.3 | D66: =IF(squadre!D7=1, D7, "-") -> 5.8 | E66: =IF(squadre!E7=1, E7, "-") -> 6.1 | F66: =IF(squadre!F7=1, F7, "-") -> 6.2 | G66: =IF(squadre!G7=1, G7, "-") -> - | H66: =IF(squadre!H7=1, H7, "-") -> 6.1 | I66: =IF(squadre!I7=1, I7, "-") -> - | J66: =IF(squadre!J7=1, J7, "-") -> - | ... V66: =IF(squadre!V7=1, V7, "-") -> - | Y66: 5 | Z66: =IF(squadre!BC7="1v",C7,"-") -> 6.3 | AA66: =IF(squadre!BD7="1v",D7,"-") -> - | AB66: =IF(squadre!BE7="1v",E7,"-") -> - | AC66: =IF(squadre!BF7="1v",F7,"-") -> - | AD66: =IF(squadre!BG7="1v",G7,"-") -> - | AE66: =IF(squadre!BH7="1v",H7,"-") -> 6.1 | AF66: =IF(squadre!BI7="1v",I7,"-") -> - | AG66: =IF(squadre!BJ7="1v",J7,"-") -> - | ... AS66: =IF(squadre!BV7="1v",V7,"-") -> - | AV66: 5 | AW66: =IF(squadre!BC7="1p", C7, "-") -> - | AX66: =IF(squadre!BD7="1p", D7, "-") -> - | AY66: =IF(squadre!BE7="1p", E7, "-") -> 6.1 | AZ66: =IF(squadre!BF7="1p", F7, "-") -> 6.2 | BA66: =IF(squadre!BG7="1p", G7, "-") -> - | BB66: =IF(squadre!BH7="1p", H7, "-") -> - | BC66: =IF(squadre!BI7="1p", I7, "-") -> - | BD66: =IF(squadre!BJ7="1p", J7, "-") -> - | ... BP66: =IF(squadre!BV7="1p", V7, "-") -> - | BS66: 5 | BT66: =IF(squadre!BC7="1s", C7, "-") -> - | BU66: =IF(squadre!BD7="1s", D7, "-") -> 5.8 | BV66: =IF(squadre!BE7="1s", E7, "-") -> - | BW66: =IF(squadre!BF7="1s", F7, "-") -> - | BX66: =IF(squadre!BG7="1s", G7, "-") -> - | BY66: =IF(squadre!BH7="1s", H7, "-") -> - | BZ66: =IF(squadre!BI7="1s", I7, "-") -> - | CA66: =IF(squadre!BJ7="1s", J7, "-") -> - | ... CM66: =IF(squadre!BV7="1s", V7, "-") -> -
B67: 6 | C67: =IF(squadre!C8=1, C8, "-") -> - | D67: =IF(squadre!D8=1, D8, "-") -> - | E67: =IF(squadre!E8=1, E8, "-") -> - | F67: =IF(squadre!F8=1, F8, "-") -> - | G67: =IF(squadre!G8=1, G8, "-") -> 6 | H67: =IF(squadre!H8=1, H8, "-") -> - | I67: =IF(squadre!I8=1, I8, "-") -> 5.6 | J67: =IF(squadre!J8=1, J8, "-") -> - | ... V67: =IF(squadre!V8=1, V8, "-") -> 6.7 | Y67: 6 | Z67: =IF(squadre!BC8="1v",C8,"-") -> - | AA67: =IF(squadre!BD8="1v",D8,"-") -> - | AB67: =IF(squadre!BE8="1v",E8,"-") -> - | AC67: =IF(squadre!BF8="1v",F8,"-") -> - | AD67: =IF(squadre!BG8="1v",G8,"-") -> - | AE67: =IF(squadre!BH8="1v",H8,"-") -> - | AF67: =IF(squadre!BI8="1v",I8,"-") -> - | AG67: =IF(squadre!BJ8="1v",J8,"-") -> - | ... AS67: =IF(squadre!BV8="1v",V8,"-") -> 6.7 | AV67: 6 | AW67: =IF(squadre!BC8="1p", C8, "-") -> - | AX67: =IF(squadre!BD8="1p", D8, "-") -> - | AY67: =IF(squadre!BE8="1p", E8, "-") -> - | AZ67: =IF(squadre!BF8="1p", F8, "-") -> - | BA67: =IF(squadre!BG8="1p", G8, "-") -> 6 | BB67: =IF(squadre!BH8="1p", H8, "-") -> - | BC67: =IF(squadre!BI8="1p", I8, "-") -> - | BD67: =IF(squadre!BJ8="1p", J8, "-") -> - | ... BP67: =IF(squadre!BV8="1p", V8, "-") -> - | BS67: 6 | BT67: =IF(squadre!BC8="1s", C8, "-") -> - | BU67: =IF(squadre!BD8="1s", D8, "-") -> - | BV67: =IF(squadre!BE8="1s", E8, "-") -> - | BW67: =IF(squadre!BF8="1s", F8, "-") -> - | BX67: =IF(squadre!BG8="1s", G8, "-") -> - | BY67: =IF(squadre!BH8="1s", H8, "-") -> - | BZ67: =IF(squadre!BI8="1s", I8, "-") -> 5.6 | CA67: =IF(squadre!BJ8="1s", J8, "-") -> - | ... CM67: =IF(squadre!BV8="1s", V8, "-") -> -
B68: 7 | C68: =IF(squadre!C9=1, C9, "-") -> 6.1 | D68: =IF(squadre!D9=1, D9, "-") -> - | E68: =IF(squadre!E9=1, E9, "-") -> 5.7 | F68: =IF(squadre!F9=1, F9, "-") -> 6.5 | G68: =IF(squadre!G9=1, G9, "-") -> 5.9 | H68: =IF(squadre!H9=1, H9, "-") -> 6 | I68: =IF(squadre!I9=1, I9, "-") -> - | J68: =IF(squadre!J9=1, J9, "-") -> 5.9 | ... V68: =IF(squadre!V9=1, V9, "-") -> - | Y68: 7 | Z68: =IF(squadre!BC9="1v",C9,"-") -> - | AA68: =IF(squadre!BD9="1v",D9,"-") -> - | AB68: =IF(squadre!BE9="1v",E9,"-") -> - | AC68: =IF(squadre!BF9="1v",F9,"-") -> 6.5 | AD68: =IF(squadre!BG9="1v",G9,"-") -> - | AE68: =IF(squadre!BH9="1v",H9,"-") -> - | AF68: =IF(squadre!BI9="1v",I9,"-") -> - | AG68: =IF(squadre!BJ9="1v",J9,"-") -> - | ... AS68: =IF(squadre!BV9="1v",V9,"-") -> - | AV68: 7 | AW68: =IF(squadre!BC9="1p", C9, "-") -> 6.1 | AX68: =IF(squadre!BD9="1p", D9, "-") -> - | AY68: =IF(squadre!BE9="1p", E9, "-") -> 5.7 | AZ68: =IF(squadre!BF9="1p", F9, "-") -> - | BA68: =IF(squadre!BG9="1p", G9, "-") -> 5.9 | BB68: =IF(squadre!BH9="1p", H9, "-") -> 6 | BC68: =IF(squadre!BI9="1p", I9, "-") -> - | BD68: =IF(squadre!BJ9="1p", J9, "-") -> 5.9 | ... BP68: =IF(squadre!BV9="1p", V9, "-") -> - | BS68: 7 | BT68: =IF(squadre!BC9="1s", C9, "-") -> - | BU68: =IF(squadre!BD9="1s", D9, "-") -> - | BV68: =IF(squadre!BE9="1s", E9, "-") -> - | BW68: =IF(squadre!BF9="1s", F9, "-") -> - | BX68: =IF(squadre!BG9="1s", G9, "-") -> - | BY68: =IF(squadre!BH9="1s", H9, "-") -> - | BZ68: =IF(squadre!BI9="1s", I9, "-") -> - | CA68: =IF(squadre!BJ9="1s", J9, "-") -> - | ... CM68: =IF(squadre!BV9="1s", V9, "-") -> -
B69: 8 | C69: =IF(squadre!C10=1, C10, "-") -> - | D69: =IF(squadre!D10=1, D10, "-") -> 5.4 | E69: =IF(squadre!E10=1, E10, "-") -> 5.9 | F69: =IF(squadre!F10=1, F10, "-") -> - | G69: =IF(squadre!G10=1, G10, "-") -> - | H69: =IF(squadre!H10=1, H10, "-") -> - | I69: =IF(squadre!I10=1, I10, "-") -> 5.7 | J69: =IF(squadre!J10=1, J10, "-") -> - | ... V69: =IF(squadre!V10=1, V10, "-") -> 6.4 | Y69: 8 | Z69: =IF(squadre!BC10="1v",C10,"-") -> - | AA69: =IF(squadre!BD10="1v",D10,"-") -> - | AB69: =IF(squadre!BE10="1v",E10,"-") -> - | AC69: =IF(squadre!BF10="1v",F10,"-") -> - | AD69: =IF(squadre!BG10="1v",G10,"-") -> - | AE69: =IF(squadre!BH10="1v",H10,"-") -> - | AF69: =IF(squadre!BI10="1v",I10,"-") -> - | AG69: =IF(squadre!BJ10="1v",J10,"-") -> - | ... AS69: =IF(squadre!BV10="1v",V10,"-") -> 6.4 | AV69: 8 | AW69: =IF(squadre!BC10="1p", C10, "-") -> - | AX69: =IF(squadre!BD10="1p", D10, "-") -> - | AY69: =IF(squadre!BE10="1p", E10, "-") -> 5.9 | AZ69: =IF(squadre!BF10="1p", F10, "-") -> - | BA69: =IF(squadre!BG10="1p", G10, "-") -> - | BB69: =IF(squadre!BH10="1p", H10, "-") -> - | BC69: =IF(squadre!BI10="1p", I10, "-") -> 5.7 | BD69: =IF(squadre!BJ10="1p", J10, "-") -> - | ... BP69: =IF(squadre!BV10="1p", V10, "-") -> - | BS69: 8 | BT69: =IF(squadre!BC10="1s", C10, "-") -> - | BU69: =IF(squadre!BD10="1s", D10, "-") -> 5.4 | BV69: =IF(squadre!BE10="1s", E10, "-") -> - | BW69: =IF(squadre!BF10="1s", F10, "-") -> - | BX69: =IF(squadre!BG10="1s", G10, "-") -> - | BY69: =IF(squadre!BH10="1s", H10, "-") -> - | BZ69: =IF(squadre!BI10="1s", I10, "-") -> - | CA69: =IF(squadre!BJ10="1s", J10, "-") -> - | ... CM69: =IF(squadre!BV10="1s", V10, "-") -> -
B70: 9 | C70: =IF(squadre!C11=1, C11, "-") -> 6.3 | D70: =IF(squadre!D11=1, D11, "-") -> - | E70: =IF(squadre!E11=1, E11, "-") -> - | F70: =IF(squadre!F11=1, F11, "-") -> - | G70: =IF(squadre!G11=1, G11, "-") -> 5.8 | H70: =IF(squadre!H11=1, H11, "-") -> 5.6 | I70: =IF(squadre!I11=1, I11, "-") -> - | J70: =IF(squadre!J11=1, J11, "-") -> 6.1 | ... V70: =IF(squadre!V11=1, V11, "-") -> - | Y70: 9 | Z70: =IF(squadre!BC11="1v",C11,"-") -> - | AA70: =IF(squadre!BD11="1v",D11,"-") -> - | AB70: =IF(squadre!BE11="1v",E11,"-") -> - | AC70: =IF(squadre!BF11="1v",F11,"-") -> - | AD70: =IF(squadre!BG11="1v",G11,"-") -> - | AE70: =IF(squadre!BH11="1v",H11,"-") -> - | AF70: =IF(squadre!BI11="1v",I11,"-") -> - | AG70: =IF(squadre!BJ11="1v",J11,"-") -> 6.1 | ... AS70: =IF(squadre!BV11="1v",V11,"-") -> - | AV70: 9 | AW70: =IF(squadre!BC11="1p", C11, "-") -> 6.3 | AX70: =IF(squadre!BD11="1p", D11, "-") -> - | AY70: =IF(squadre!BE11="1p", E11, "-") -> - | AZ70: =IF(squadre!BF11="1p", F11, "-") -> - | BA70: =IF(squadre!BG11="1p", G11, "-") -> 5.8 | BB70: =IF(squadre!BH11="1p", H11, "-") -> - | BC70: =IF(squadre!BI11="1p", I11, "-") -> - | BD70: =IF(squadre!BJ11="1p", J11, "-") -> - | ... BP70: =IF(squadre!BV11="1p", V11, "-") -> - | BS70: 9 | BT70: =IF(squadre!BC11="1s", C11, "-") -> - | BU70: =IF(squadre!BD11="1s", D11, "-") -> - | BV70: =IF(squadre!BE11="1s", E11, "-") -> - | BW70: =IF(squadre!BF11="1s", F11, "-") -> - | BX70: =IF(squadre!BG11="1s", G11, "-") -> - | BY70: =IF(squadre!BH11="1s", H11, "-") -> 5.6 | BZ70: =IF(squadre!BI11="1s", I11, "-") -> - | CA70: =IF(squadre!BJ11="1s", J11, "-") -> - | ... CM70: =IF(squadre!BV11="1s", V11, "-") -> -
B71: 10 | C71: =IF(squadre!C12=1, C12, "-") -> - | D71: =IF(squadre!D12=1, D12, "-") -> 5.8 | E71: =IF(squadre!E12=1, E12, "-") -> 5.6 | F71: =IF(squadre!F12=1, F12, "-") -> 6.4 | G71: =IF(squadre!G12=1, G12, "-") -> - | H71: =IF(squadre!H12=1, H12, "-") -> - | I71: =IF(squadre!I12=1, I12, "-") -> 6 | J71: =IF(squadre!J12=1, J12, "-") -> - | ... V71: =IF(squadre!V12=1, V12, "-") -> 6.4 | Y71: 10 | Z71: =IF(squadre!BC12="1v",C12,"-") -> - | AA71: =IF(squadre!BD12="1v",D12,"-") -> 5.8 | AB71: =IF(squadre!BE12="1v",E12,"-") -> - | AC71: =IF(squadre!BF12="1v",F12,"-") -> 6.4 | AD71: =IF(squadre!BG12="1v",G12,"-") -> - | AE71: =IF(squadre!BH12="1v",H12,"-") -> - | AF71: =IF(squadre!BI12="1v",I12,"-") -> 6 | AG71: =IF(squadre!BJ12="1v",J12,"-") -> - | ... AS71: =IF(squadre!BV12="1v",V12,"-") -> 6.4 | AV71: 10 | AW71: =IF(squadre!BC12="1p", C12, "-") -> - | AX71: =IF(squadre!BD12="1p", D12, "-") -> - | AY71: =IF(squadre!BE12="1p", E12, "-") -> - | AZ71: =IF(squadre!BF12="1p", F12, "-") -> - | BA71: =IF(squadre!BG12="1p", G12, "-") -> - | BB71: =IF(squadre!BH12="1p", H12, "-") -> - | BC71: =IF(squadre!BI12="1p", I12, "-") -> - | BD71: =IF(squadre!BJ12="1p", J12, "-") -> - | ... BP71: =IF(squadre!BV12="1p", V12, "-") -> - | BS71: 10 | BT71: =IF(squadre!BC12="1s", C12, "-") -> - | BU71: =IF(squadre!BD12="1s", D12, "-") -> - | BV71: =IF(squadre!BE12="1s", E12, "-") -> 5.6 | BW71: =IF(squadre!BF12="1s", F12, "-") -> - | BX71: =IF(squadre!BG12="1s", G12, "-") -> - | BY71: =IF(squadre!BH12="1s", H12, "-") -> - | BZ71: =IF(squadre!BI12="1s", I12, "-") -> - | CA71: =IF(squadre!BJ12="1s", J12, "-") -> - | ... CM71: =IF(squadre!BV12="1s", V12, "-") -> -
...

Sheet fantagazz
C2: ATA | D2: BOL | E2: CAG | F2: CAT | G2: CES | H2: CHI | I2: FIO | J2: GEN | K2: INT | L2: JUV | M2: LAZ | N2: LEC | O2: MIL | P2: NAP | Q2: NOV | R2: PAL | S2: PAR | T2: ROM | U2: SIE | V2: UDI | Z2: ATA | AA2: BOL | AB2: CAG | AC2: CAT | AD2: CES | AE2: CHI | AF2: FIO | AG2: GEN | AH2: INT | AI2: JUV | AJ2: LAZ | AK2: LEC | AL2: MIL | AM2: NAP | AN2: NOV | AO2: PAL | AP2: PAR | AQ2: ROM | AR2: SIE | AS2: UDI
B3: 1 | C3: 5.8 | D3: 5.9 | E3: 5.9 | F3: 5.5 | G3: 6 | H3: 6.2 | I3: 5.4 | J3: 6.3 | K3: 5.7 | L3: 6.3 | M3: 6.3 | N3: 5.9 | O3: 6 | P3: 6 | Q3: 5.9 | R3: 5.6 | S3: 6.2 | T3: 6.5 | U3: 5.8 | V3: 6.3 | Y3: 1 | Z3: =gazz!C3-C3 -> 0.1 | AA3: =gazz!D3-D3 -> -0.2 | AB3: =gazz!E3-E3 -> 0.1 | AC3: =gazz!F3-F3 -> 0 | AD3: =gazz!G3-G3 -> -0.5 | AE3: =gazz!H3-H3 -> -0.2 | AF3: =gazz!I3-I3 -> 0.4 | AG3: =gazz!J3-J3 -> -0.4 | ... AS3: =gazz!V3-V3 -> 0.2
B4: 2 | C4: 6.2 | D4: 5.7 | E4: 6.3 | F4: 5.9 | G4: 5.6 | H4: 6.1 | I4: 6.5 | J4: 5.6 | K4: 5.7 | L4: 6.3 | M4: 6.1 | N4: 5.5 | O4: 6 | P4: 6 | Q4: 6.1 | R4: 6.2 | S4: 5.5 | T4: 5.6 | U4: 6 | V4: 6.2 | Y4: 2 | Z4: =gazz!C4-C4 -> 0 | AA4: =gazz!D4-D4 -> -0.2 | AB4: =gazz!E4-E4 -> 0 | AC4: =gazz!F4-F4 -> -0.1 | AD4: =gazz!G4-G4 -> 0 | AE4: =gazz!H4-H4 -> -0.3 | AF4: =gazz!I4-I4 -> -0.1 | AG4: =gazz!J4-J4 -> 0.2 | ... AS4: =gazz!V4-V4 -> 0.1
B5: 3 | C5: 6.2 | D5: 5.5 | E5: 6.3 | F5: 6.3 | G5: 5.8 | H5: 5.7 | I5: 5.4 | J5: 6.1 | K5: 6.1 | L5: 5.9 | M5: 5.7 | N5: 6.5 | O5: 5.4 | P5: 6.6 | Q5: 5.6 | R5: 5.8 | S5: 5.9 | T5: 6 | U5: 5.9 | V5: 6.3 | Y5: 3 | Z5: =gazz!C5-C5 -> -0.1 | AA5: =gazz!D5-D5 -> -0.2 | AB5: =gazz!E5-E5 -> 0.1 | AC5: =gazz!F5-F5 -> 0 | AD5: =gazz!G5-G5 -> -0.1 | AE5: =gazz!H5-H5 -> 0.2 | AF5: =gazz!I5-I5 -> 0 | AG5: =gazz!J5-J5 -> 0 | ... AS5: =gazz!V5-V5 -> 0
B6: 4 | C6: 6.2 | D6: 6.1 | E6: 5.6 | F6: 5.7 | G6: 6 | H6: 6 | I6: 6.5 | J6: 6.4 | K6: 5.1 | L6: 6.1 | M6: 6.4 | N6: 6 | O6: 5.9 | P6: 5.6 | Q6: 6.6 | R6: 6.2 | S6: 5.2 | T6: 6 | U6: 6.1 | V6: 6.4 | Y6: 4 | Z6: =gazz!C6-C6 -> 0 | AA6: =gazz!D6-D6 -> 0 | AB6: =gazz!E6-E6 -> -0.2 | AC6: =gazz!F6-F6 -> -0.3 | AD6: =gazz!G6-G6 -> -0.4 | AE6: =gazz!H6-H6 -> 0.2 | AF6: =gazz!I6-I6 -> -0.1 | AG6: =gazz!J6-J6 -> 0.1 | ... AS6: =gazz!V6-V6 -> -0.2
B7: 5 | C7: 6.2 | D7: 5.9 | E7: 6.2 | F7: 6.2 | G7: 5.6 | H7: 6 | I7: 6.1 | J7: 6 | K7: 6.2 | L7: 5.7 | M7: 6.2 | N7: 5.2 | O7: 6.2 | P7: 5.8 | Q7: 5.8 | R7: 6.4 | S7: 5.7 | T7: 6.1 | U7: 6.5 | V7: 6.2 | Y7: 5 | Z7: =gazz!C7-C7 -> 0.1 | AA7: =gazz!D7-D7 -> -0.1 | AB7: =gazz!E7-E7 -> -0.1 | AC7: =gazz!F7-F7 -> 0 | AD7: =gazz!G7-G7 -> 0.1 | AE7: =gazz!H7-H7 -> 0.1 | AF7: =gazz!I7-I7 -> 0.1 | AG7: =gazz!J7-J7 -> -0.2 | ... AS7: =gazz!V7-V7 -> -0.3
B8: 6 | C8: 5.6 | D8: 5.4 | E8: 6.3 | F8: 6.2 | G8: 5.8 | H8: 5.9 | I8: 5.7 | J8: 5.6 | K8: 5.4 | L8: 6.7 | M8: 6.1 | N8: 5.4 | O8: 5.4 | P8: 6.5 | Q8: 5.9 | R8: 6.3 | S8: 6.5 | T8: 6.2 | U8: 5.6 | V8: 6.4 | Y8: 6 | Z8: =gazz!C8-C8 -> 0.2 | AA8: =gazz!D8-D8 -> 0 | AB8: =gazz!E8-E8 -> 0.4 | AC8: =gazz!F8-F8 -> -0.1 | AD8: =gazz!G8-G8 -> 0.2 | AE8: =gazz!H8-H8 -> -0.1 | AF8: =gazz!I8-I8 -> -0.1 | AG8: =gazz!J8-J8 -> -0.3 | ... AS8: =gazz!V8-V8 -> 0.3
B9: 7 | C9: 6.1 | D9: 6.3 | E9: 6.1 | F9: 6.3 | G9: 6.2 | H9: 6.1 | I9: 5.6 | J9: 5.9 | K9: 5.3 | L9: 5.9 | M9: 6.2 | N9: 6.1 | O9: 6.5 | P9: 6 | Q9: 6 | R9: 5.3 | S9: 6.5 | T9: 6.1 | U9: 6 | V9: 5.8 | Y9: 7 | Z9: =gazz!C9-C9 -> 0 | AA9: =gazz!D9-D9 -> -0.3 | AB9: =gazz!E9-E9 -> -0.4 | AC9: =gazz!F9-F9 -> 0.2 | AD9: =gazz!G9-G9 -> -0.3 | AE9: =gazz!H9-H9 -> -0.1 | AF9: =gazz!I9-I9 -> 0.2 | AG9: =gazz!J9-J9 -> 0 | ... AS9: =gazz!V9-V9 -> 0.1
B10: 8 | C10: 6.3 | D10: 5.9 | E10: 6 | F10: 6.2 | G10: 5.3 | H10: 5.5 | I10: 5.8 | J10: 6.1 | K10: 6.3 | L10: 5.9 | M10: 6.3 | N10: 5.9 | O10: 6 | P10: 5.9 | Q10: 5.4 | R10: 5.6 | S10: 5.9 | T10: 6.4 | U10: 6.6 | V10: 6.4 | Y10: 8 | Z10: =gazz!C10-C10 -> 0 | AA10: =gazz!D10-D10 -> -0.5 | AB10: =gazz!E10-E10 -> -0.1 | AC10: =gazz!F10-F10 -> -0.2 | AD10: =gazz!G10-G10 -> 0.1 | AE10: =gazz!H10-H10 -> 0.2 | AF10: =gazz!I10-I10 -> -0.1 | AG10: =gazz!J10-J10 -> 0.3 | ... AS10: =gazz!V10-V10 -> 0
B11: 9 | C11: 6.3 | D11: 6.1 | E11: 5.9 | F11: 5.8 | G11: 5.9 | H11: 5.7 | I11: 5.5 | J11: 6.2 | K11: 5.9 | L11: 6.5 | M11: 6 | N11: 5.8 | O11: 6.5 | P11: 6.3 | Q11: 5.9 | R11: 6.3 | S11: 5.5 | T11: 5.7 | U11: 6.1 | V11: 5.5 | Y11: 9 | Z11: =gazz!C11-C11 -> 0 | AA11: =gazz!D11-D11 -> -0.2 | AB11: =gazz!E11-E11 -> -0.2 | AC11: =gazz!F11-F11 -> 0.3 | AD11: =gazz!G11-G11 -> -0.1 | AE11: =gazz!H11-H11 -> -0.1 | AF11: =gazz!I11-I11 -> 0 | AG11: =gazz!J11-J11 -> -0.1 | ... AS11: =gazz!V11-V11 -> -0.1
B12: 10 | C12: 5.9 | D12: 6.2 | E12: 5.6 | F12: 6.7 | G12: 5.4 | H12: 5.5 | I12: 6.2 | J12: 5.7 | K12: 5.8 | L12: 6.2 | M12: 6.5 | N12: 6 | O12: 6.1 | P12: 5.8 | Q12: 6.3 | R12: 5.5 | S12: 6.4 | T12: 6 | U12: 6.5 | V12: 6.6 | Y12: 10 | Z12: =gazz!C12-C12 -> 0 | AA12: =gazz!D12-D12 -> -0.4 | AB12: =gazz!E12-E12 -> 0 | AC12: =gazz!F12-F12 -> -0.3 | AD12: =gazz!G12-G12 -> -0.2 | AE12: =gazz!H12-H12 -> -0.3 | AF12: =gazz!I12-I12 -> -0.2 | AG12: =gazz!J12-J12 -> 0 | ... AS12: =gazz!V12-V12 -> -0.2
B13: 11 | C13: 6.1 | D13: 5.6 | E13: 5.4 | F13: 5.4 | G13: 5.5 | H13: 6.5 | I13: 5.6 | J13: 5.7 | K13: 6.1 | L13: 6.1 | M13: 6.1 | N13: 6.3 | O13: 6.4 | P13: 5.9 | Q13: 5.8 | R13: 6.5 | S13: 6 | T13: 6.3 | U13: 5.7 | V13: 6.4 | Y13: 11 | Z13: =gazz!C13-C13 -> 0.3 | AA13: =gazz!D13-D13 -> -0.1 | AB13: =gazz!E13-E13 -> 0.1 | AC13: =gazz!F13-F13 -> -0.1 | AD13: =gazz!G13-G13 -> -0.1 | AE13: =gazz!H13-H13 -> -0.4 | AF13: =gazz!I13-I13 -> -0.2 | AG13: =gazz!J13-J13 -> 0 | ... AS13: =gazz!V13-V13 -> -0.2
B14: 12 | C14: 6.2 | D14: 5.9 | E14: 5.7 | F14: 5.6 | G14: 6.2 | H14: 6.4 | I14: 6.2 | J14: 6.1 | K14: 6.3 | L14: 6.6 | M14: 6 | N14: 5.7 | O14: 6.1 | P14: 5.9 | Q14: 5.9 | R14: 5.3 | S14: 6.5 | T14: 6.2 | U14: 5.7 | V14: 5.4 | Y14: 12 | Z14: =gazz!C14-C14 -> 0.1 | AA14: =gazz!D14-D14 -> -0.4 | AB14: =gazz!E14-E14 -> 0 | AC14: =gazz!F14-F14 -> 0 | AD14: =gazz!G14-G14 -> -0.1 | AE14: =gazz!H14-H14 -> -0.2 | AF14: =gazz!I14-I14 -> -0.4 | AG14: =gazz!J14-J14 -> 0 | ... AS14: =gazz!V14-V14 -> 0
... B40: 38 | C40: 5.8 | D40: 5.9 | E40: 5.9 | F40: 5.5 | G40: 6 | H40: 6.2 | I40: 5.4 | J40: 6.3 | K40: 5.7 | L40: 6.3 | M40: 6.3 | N40: 5.9 | O40: 6 | P40: 6 | Q40: 5.9 | R40: 5.6 | S40: 6.2 | T40: 6.5 | U40: 5.8 | V40: 6.3 | Y40: 38 | Z40: =gazz!C40-C40 -> 0.1 | AA40: =gazz!D40-D40 -> -0.2 | AB40: =gazz!E40-E40 -> 0.1 | AC40: =gazz!F40-F40 -> 0 | AD40: =gazz!G40-G40 -> -0.5 | AE40: =gazz!H40-H40 -> -0.2 | AF40: =gazz!I40-I40 -> 0.4 | AG40: =gazz!J40-J40 -> -0.4 | ... AS40: =gazz!V40-V40 -> 0.2
C42: =SUM(C3:C40)/38 -> 6.0552632 | D42: =SUM(D3:D40)/38 -> 6.0368421 | E42: =SUM(E3:E40)/38 -> 5.9789474 | F42: =SUM(F3:F40)/38 -> 6.0210526 | G42: =SUM(G3:G40)/38 -> 5.7842105 | H42: =SUM(H3:H40)/38 -> 5.9552632 | I42: =SUM(I3:I40)/38 -> 5.8736842 | J42: =SUM(J3:J40)/38 -> 5.8736842 | ... V42: =SUM(V3:V40)/38 -> 6.0684211
C44: ATA | D44: BOL | E44: CAG | F44: CAT | G44: CES | H44: CHI | I44: FIO | J44: GEN | K44: INT | L44: JUV | M44: LAZ | N44: LEC | O44: MIL | P44: NAP | Q44: NOV | R44: PAL | S44: PAR | T44: ROM | U44: SIE | V44: UDI
C45: =C53/C$58 -> 0 | D45: =D53/D$58 -> 0 | E45: =E53/E$58 -> 0.026315789 | F45: =F53/F$58 -> 0.026315789 | G45: =G53/G$58 -> 0.13157895 | H45: =H53/H$58 -> 0.026315789 | I45: =I53/I$58 -> 0.052631579 | J45: =J53/J$58 -> 0.10526316 | ... V45: =V53/V$58 -> 0
C46: =C54/C$58 -> 0.078947368 | D46: =D54/D$58 -> 0.18421053 | E46: =E54/E$58 -> 0.21052632 | F46: =F54/F$58 -> 0.26315789 | G46: =G54/G$58 -> 0.34210526 | H46: =H54/H$58 -> 0.21052632 | I46: =I54/I$58 -> 0.36842105 | J46: =J54/J$58 -> 0.28947368 | ... V46: =V54/V$58 -> 0.18421053
C47: =C55/C$58 -> 0.55263158 | D47: =D55/D$58 -> 0.44736842 | E47: =E55/E$58 -> 0.42105263 | F47: =F55/F$58 -> 0.23684211 | G47: =G55/G$58 -> 0.36842105 | H47: =H55/H$58 -> 0.47368421 | I47: =I55/I$58 -> 0.23684211 | J47: =J55/J$58 -> 0.36842105 | ... V47: =V55/V$58 -> 0.31578947
C48: =C56/C$58 -> 0.31578947 | D48: =D56/D$58 -> 0.31578947 | E48: =E56/E$58 -> 0.31578947 | F48: =F56/F$58 -> 0.36842105 | G48: =G56/G$58 -> 0.15789474 | H48: =H56/H$58 -> 0.28947368 | I48: =I56/I$58 -> 0.28947368 | J48: =J56/J$58 -> 0.21052632 | ... V48: =V56/V$58 -> 0.44736842
C49: =C57/C$58 -> 0.052631579 | D49: =D57/D$58 -> 0.052631579 | E49: =E57/E$58 -> 0.026315789 | F49: =F57/F$58 -> 0.10526316 | G49: =G57/G$58 -> 0 | H49: =H57/H$58 -> 0 | I49: =I57/I$58 -> 0.052631579 | J49: =J57/J$58 -> 0.026315789 | ... V49: =V57/V$58 -> 0.052631579
C50: =SUM(C45:C49) -> 1 | D50: =SUM(D45:D49) -> 1 | E50: =SUM(E45:E49) -> 1 | F50: =SUM(F45:F49) -> 1 | G50: =SUM(G45:G49) -> 1 | H50: =SUM(H45:H49) -> 1 | I50: =SUM(I45:I49) -> 1 | J50: =SUM(J45:J49) -> 1 | ... V50: =SUM(V45:V49) -> 1
C52: ATA | D52: BOL | E52: CAG | F52: CAT | G52: CES | H52: CHI | I52: FIO | J52: GEN | K52: INT | L52: JUV | M52: LAZ | N52: LEC | O52: MIL | P52: NAP | Q52: NOV | R52: PAL | S52: PAR | T52: ROM | U52: SIE | V52: UDI
C53: =COUNTIF(C3:C40, "<=5,3") -> 0 | D53: =COUNTIF(D3:D40, "<=5,3") -> 0 | E53: =COUNTIF(E3:E40, "<=5,3") -> 1 | F53: =COUNTIF(F3:F40, "<=5,3") -> 1 | G53: =COUNTIF(G3:G40, "<=5,3") -> 5 | H53: =COUNTIF(H3:H40, "<=5,3") -> 1 | I53: =COUNTIF(I3:I40, "<=5,3") -> 2 | J53: =COUNTIF(J3:J40, "<=5,3") -> 4 | ... V53: =COUNTIF(V3:V40, "<=5,3") -> 0
C54: =COUNTIFS(C3:C40, ">=5,4",C3:C40, "<=5,7") -> 3 | D54: =COUNTIFS(D3:D40, ">=5,4",D3:D40, "<=5,7") -> 7 | E54: =COUNTIFS(E3:E40, ">=5,4",E3:E40, "<=5,7") -> 8 | F54: =COUNTIFS(F3:F40, ">=5,4",F3:F40, "<=5,7") -> 10 | G54: =COUNTIFS(G3:G40, ">=5,4",G3:G40, "<=5,7") -> 13 | H54: =COUNTIFS(H3:H40, ">=5,4",H3:H40, "<=5,7") -> 8 | I54: =COUNTIFS(I3:I40, ">=5,4",I3:I40, "<=5,7") -> 14 | J54: =COUNTIFS(J3:J40, ">=5,4",J3:J40, "<=5,7") -> 11 | ... V54: =COUNTIFS(V3:V40, ">=5,4",V3:V40, "<=5,7") -> 7
C55: =COUNTIFS(C3:C40, ">=5,8",C3:C40, "<=6,1") -> 21 | D55: =COUNTIFS(D3:D40, ">=5,8",D3:D40, "<=6,1") -> 17 | E55: =COUNTIFS(E3:E40, ">=5,8",E3:E40, "<=6,1") -> 16 | F55: =COUNTIFS(F3:F40, ">=5,8",F3:F40, "<=6,1") -> 9 | G55: =COUNTIFS(G3:G40, ">=5,8",G3:G40, "<=6,1") -> 14 | H55: =COUNTIFS(H3:H40, ">=5,8",H3:H40, "<=6,1") -> 18 | I55: =COUNTIFS(I3:I40, ">=5,8",I3:I40, "<=6,1") -> 9 | J55: =COUNTIFS(J3:J40, ">=5,8",J3:J40, "<=6,1") -> 14 | ... V55: =COUNTIFS(V3:V40, ">=5,8",V3:V40, "<=6,1") -> 12
C56: =COUNTIFS(C3:C40, ">=6,2",C3:C40, "<=6,5") -> 12 | D56: =COUNTIFS(D3:D40, ">=6,2",D3:D40, "<=6,5") -> 12 | E56: =COUNTIFS(E3:E40, ">=6,2",E3:E40, "<=6,5") -> 12 | F56: =COUNTIFS(F3:F40, ">=6,2",F3:F40, "<=6,5") -> 14 | G56: =COUNTIFS(G3:G40, ">=6,2",G3:G40, "<=6,5") -> 6 | H56: =COUNTIFS(H3:H40, ">=6,2",H3:H40, "<=6,5") -> 11 | I56: =COUNTIFS(I3:I40, ">=6,2",I3:I40, "<=6,5") -> 11 | J56: =COUNTIFS(J3:J40, ">=6,2",J3:J40, "<=6,5") -> 8 | ... V56: =COUNTIFS(V3:V40, ">=6,2",V3:V40, "<=6,5") -> 17
C57: =COUNTIF(C3:C40, ">=6,6") -> 2 | D57: =COUNTIF(D3:D40, ">=6,6") -> 2 | E57: =COUNTIF(E3:E40, ">=6,6") -> 1 | F57: =COUNTIF(F3:F40, ">=6,6") -> 4 | G57: =COUNTIF(G3:G40, ">=6,6") -> 0 | H57: =COUNTIF(H3:H40, ">=6,6") -> 0 | I57: =COUNTIF(I3:I40, ">=6,6") -> 2 | J57: =COUNTIF(J3:J40, ">=6,6") -> 1 | ... V57: =COUNTIF(V3:V40, ">=6,6") -> 2
C58: =SUM(C53:C57) -> 38 | D58: =SUM(D53:D57) -> 38 | E58: =SUM(E53:E57) -> 38 | F58: =SUM(F53:F57) -> 38 | G58: =SUM(G53:G57) -> 38 | H58: =SUM(H53:H57) -> 38 | I58: =SUM(I53:I57) -> 38 | J58: =SUM(J53:J57) -> 38 | ... V58: =SUM(V53:V57) -> 38
B61: C*T | C61: ATA | D61: BOL | E61: CAG | F61: CAT | G61: CES | H61: CHI | I61: FIO | J61: GEN | K61: INT | L61: JUV | M61: LAZ | N61: LEC | O61: MIL | P61: NAP | Q61: NOV | R61: PAL | S61: PAR | T61: ROM | U61: SIE | V61: UDI | Y61: C*v | Z61: ATA | AA61: BOL | AB61: CAG | AC61: CAT | AD61: CES | AE61: CHI | AF61: FIO | AG61: GEN | AH61: INT | AI61: JUV | AJ61: LAZ | AK61: LEC | AL61: MIL | AM61: NAP | AN61: NOV | AO61: PAL | AP61: PAR | AQ61: ROM | AR61: SIE | AS61: UDI | AV61: C*p | AW61: ATA | AX61: BOL | AY61: CAG | AZ61: CAT | BA61: CES | BB61: CHI | BC61: FIO | BD61: GEN | BE61: INT | BF61: JUV | BG61: LAZ | BH61: LEC | BI61: MIL | BJ61: NAP | BK61: NOV | BL61: PAL | BM61: PAR | BN61: ROM | BO61: SIE | BP61: UDI | BS61: C*s | BT61: ATA | BU61: BOL | BV61: CAG | BW61: CAT | BX61: CES | BY61: CHI | BZ61: FIO | CA61: GEN | CB61: INT | CC61: JUV | CD61: LAZ | CE61: LEC | CF61: MIL | CG61: NAP | CH61: NOV | CI61: PAL | CJ61: PAR | CK61: ROM | CL61: SIE | CM61: UDI
B62: 1 | C62: =IF(squadre!C3=1, C3, "-") -> 5.8 | D62: =IF(squadre!D3=1, D3, "-") -> 5.9 | E62: =IF(squadre!E3=1, E3, "-") -> 5.9 | F62: =IF(squadre!F3=1, F3, "-") -> - | G62: =IF(squadre!G3=1, G3, "-") -> - | H62: =IF(squadre!H3=1, H3, "-") -> - | I62: =IF(squadre!I3=1, I3, "-") -> - | J62: =IF(squadre!J3=1, J3, "-") -> - | ... V62: =IF(squadre!V3=1, V3, "-") -> 6.3 | Y62: 1 | Z62: =IF(squadre!BC3="1v",C3,"-") -> 5.8 | AA62: =IF(squadre!BD3="1v",D3,"-") -> - | AB62: =IF(squadre!BE3="1v",E3,"-") -> - | AC62: =IF(squadre!BF3="1v",F3,"-") -> - | AD62: =IF(squadre!BG3="1v",G3,"-") -> - | AE62: =IF(squadre!BH3="1v",H3,"-") -> - | AF62: =IF(squadre!BI3="1v",I3,"-") -> - | AG62: =IF(squadre!BJ3="1v",J3,"-") -> - | ... AS62: =IF(squadre!BV3="1v",V3,"-") -> - | AV62: 1 | AW62: =IF(squadre!BC3="1p", C3, "-") -> - | AX62: =IF(squadre!BD3="1p", D3, "-") -> - | AY62: =IF(squadre!BE3="1p", E3, "-") -> - | AZ62: =IF(squadre!BF3="1p", F3, "-") -> - | BA62: =IF(squadre!BG3="1p", G3, "-") -> - | BB62: =IF(squadre!BH3="1p", H3, "-") -> - | BC62: =IF(squadre!BI3="1p", I3, "-") -> - | BD62: =IF(squadre!BJ3="1p", J3, "-") -> - | ... BP62: =IF(squadre!BV3="1p", V3, "-") -> 6.3 | BS62: 1 | BT62: =IF(squadre!BC3="1s", C3, "-") -> - | BU62: =IF(squadre!BD3="1s", D3, "-") -> 5.9 | BV62: =IF(squadre!BE3="1s", E3, "-") -> 5.9 | BW62: =IF(squadre!BF3="1s", F3, "-") -> - | BX62: =IF(squadre!BG3="1s", G3, "-") -> - | BY62: =IF(squadre!BH3="1s", H3, "-") -> - | BZ62: =IF(squadre!BI3="1s", I3, "-") -> - | CA62: =IF(squadre!BJ3="1s", J3, "-") -> - | ... CM62: =IF(squadre!BV3="1s", V3, "-") -> -
B63: 2 | C63: =IF(squadre!C4=1, C4, "-") -> - | D63: =IF(squadre!D4=1, D4, "-") -> - | E63: =IF(squadre!E4=1, E4, "-") -> - | F63: =IF(squadre!F4=1, F4, "-") -> 5.9 | G63: =IF(squadre!G4=1, G4, "-") -> 5.6 | H63: =IF(squadre!H4=1, H4, "-") -> 6.1 | I63: =IF(squadre!I4=1, I4, "-") -> 6.5 | J63: =IF(squadre!J4=1, J4, "-") -> 5.6 | ... V63: =IF(squadre!V4=1, V4, "-") -> - | Y63: 2 | Z63: =IF(squadre!BC4="1v",C4,"-") -> - | AA63: =IF(squadre!BD4="1v",D4,"-") -> - | AB63: =IF(squadre!BE4="1v",E4,"-") -> - | AC63: =IF(squadre!BF4="1v",F4,"-") -> - | AD63: =IF(squadre!BG4="1v",G4,"-") -> - | AE63: =IF(squadre!BH4="1v",H4,"-") -> - | AF63: =IF(squadre!BI4="1v",I4,"-") -> 6.5 | AG63: =IF(squadre!BJ4="1v",J4,"-") -> - | ... AS63: =IF(squadre!BV4="1v",V4,"-") -> - | AV63: 2 | AW63: =IF(squadre!BC4="1p", C4, "-") -> - | AX63: =IF(squadre!BD4="1p", D4, "-") -> - | AY63: =IF(squadre!BE4="1p", E4, "-") -> - | AZ63: =IF(squadre!BF4="1p", F4, "-") -> 5.9 | BA63: =IF(squadre!BG4="1p", G4, "-") -> - | BB63: =IF(squadre!BH4="1p", H4, "-") -> 6.1 | BC63: =IF(squadre!BI4="1p", I4, "-") -> - | BD63: =IF(squadre!BJ4="1p", J4, "-") -> 5.6 | ... BP63: =IF(squadre!BV4="1p", V4, "-") -> - | BS63: 2 | BT63: =IF(squadre!BC4="1s", C4, "-") -> - | BU63: =IF(squadre!BD4="1s", D4, "-") -> - | BV63: =IF(squadre!BE4="1s", E4, "-") -> - | BW63: =IF(squadre!BF4="1s", F4, "-") -> - | BX63: =IF(squadre!BG4="1s", G4, "-") -> 5.6 | BY63: =IF(squadre!BH4="1s", H4, "-") -> - | BZ63: =IF(squadre!BI4="1s", I4, "-") -> - | CA63: =IF(squadre!BJ4="1s", J4, "-") -> - | ... CM63: =IF(squadre!BV4="1s", V4, "-") -> -
B64: 3 | C64: =IF(squadre!C5=1, C5, "-") -> 6.2 | D64: =IF(squadre!D5=1, D5, "-") -> 5.5 | E64: =IF(squadre!E5=1, E5, "-") -> 6.3 | F64: =IF(squadre!F5=1, F5, "-") -> 6.3 | G64: =IF(squadre!G5=1, G5, "-") -> - | H64: =IF(squadre!H5=1, H5, "-") -> - | I64: =IF(squadre!I5=1, I5, "-") -> - | J64: =IF(squadre!J5=1, J5, "-") -> - | ... V64: =IF(squadre!V5=1, V5, "-") -> 6.3 | Y64: 3 | Z64: =IF(squadre!BC5="1v",C5,"-") -> 6.2 | AA64: =IF(squadre!BD5="1v",D5,"-") -> - | AB64: =IF(squadre!BE5="1v",E5,"-") -> 6.3 | AC64: =IF(squadre!BF5="1v",F5,"-") -> 6.3 | AD64: =IF(squadre!BG5="1v",G5,"-") -> - | AE64: =IF(squadre!BH5="1v",H5,"-") -> - | AF64: =IF(squadre!BI5="1v",I5,"-") -> - | AG64: =IF(squadre!BJ5="1v",J5,"-") -> - | ... AS64: =IF(squadre!BV5="1v",V5,"-") -> 6.3 | AV64: 3 | AW64: =IF(squadre!BC5="1p", C5, "-") -> - | AX64: =IF(squadre!BD5="1p", D5, "-") -> - | AY64: =IF(squadre!BE5="1p", E5, "-") -> - | AZ64: =IF(squadre!BF5="1p", F5, "-") -> - | BA64: =IF(squadre!BG5="1p", G5, "-") -> - | BB64: =IF(squadre!BH5="1p", H5, "-") -> - | BC64: =IF(squadre!BI5="1p", I5, "-") -> - | BD64: =IF(squadre!BJ5="1p", J5, "-") -> - | ... BP64: =IF(squadre!BV5="1p", V5, "-") -> - | BS64: 3 | BT64: =IF(squadre!BC5="1s", C5, "-") -> - | BU64: =IF(squadre!BD5="1s", D5, "-") -> 5.5 | BV64: =IF(squadre!BE5="1s", E5, "-") -> - | BW64: =IF(squadre!BF5="1s", F5, "-") -> - | BX64: =IF(squadre!BG5="1s", G5, "-") -> - | BY64: =IF(squadre!BH5="1s", H5, "-") -> - | BZ64: =IF(squadre!BI5="1s", I5, "-") -> - | CA64: =IF(squadre!BJ5="1s", J5, "-") -> - | ... CM64: =IF(squadre!BV5="1s", V5, "-") -> -
B65: 4 | C65: =IF(squadre!C6=1, C6, "-") -> - | D65: =IF(squadre!D6=1, D6, "-") -> - | E65: =IF(squadre!E6=1, E6, "-") -> - | F65: =IF(squadre!F6=1, F6, "-") -> - | G65: =IF(squadre!G6=1, G6, "-") -> 6 | H65: =IF(squadre!H6=1, H6, "-") -> 6 | I65: =IF(squadre!I6=1, I6, "-") -> 6.5 | J65: =IF(squadre!J6=1, J6, "-") -> 6.4 | ... V65: =IF(squadre!V6=1, V6, "-") -> - | Y65: 4 | Z65: =IF(squadre!BC6="1v",C6,"-") -> - | AA65: =IF(squadre!BD6="1v",D6,"-") -> - | AB65: =IF(squadre!BE6="1v",E6,"-") -> - | AC65: =IF(squadre!BF6="1v",F6,"-") -> - | AD65: =IF(squadre!BG6="1v",G6,"-") -> - | AE65: =IF(squadre!BH6="1v",H6,"-") -> 6 | AF65: =IF(squadre!BI6="1v",I6,"-") -> 6.5 | AG65: =IF(squadre!BJ6="1v",J6,"-") -> 6.4 | ... AS65: =IF(squadre!BV6="1v",V6,"-") -> - | AV65: 4 | AW65: =IF(squadre!BC6="1p", C6, "-") -> - | AX65: =IF(squadre!BD6="1p", D6, "-") -> - | AY65: =IF(squadre!BE6="1p", E6, "-") -> - | AZ65: =IF(squadre!BF6="1p", F6, "-") -> - | BA65: =IF(squadre!BG6="1p", G6, "-") -> - | BB65: =IF(squadre!BH6="1p", H6, "-") -> - | BC65: =IF(squadre!BI6="1p", I6, "-") -> - | BD65: =IF(squadre!BJ6="1p", J6, "-") -> - | ... BP65: =IF(squadre!BV6="1p", V6, "-") -> - | BS65: 4 | BT65: =IF(squadre!BC6="1s", C6, "-") -> - | BU65: =IF(squadre!BD6="1s", D6, "-") -> - | BV65: =IF(squadre!BE6="1s", E6, "-") -> - | BW65: =IF(squadre!BF6="1s", F6, "-") -> - | BX65: =IF(squadre!BG6="1s", G6, "-") -> 6 | BY65: =IF(squadre!BH6="1s", H6, "-") -> - | BZ65: =IF(squadre!BI6="1s", I6, "-") -> - | CA65: =IF(squadre!BJ6="1s", J6, "-") -> - | ... CM65: =IF(squadre!BV6="1s", V6, "-") -> -
B66: 5 | C66: =IF(squadre!C7=1, C7, "-") -> 6.2 | D66: =IF(squadre!D7=1, D7, "-") -> 5.9 | E66: =IF(squadre!E7=1, E7, "-") -> 6.2 | F66: =IF(squadre!F7=1, F7, "-") -> 6.2 | G66: =IF(squadre!G7=1, G7, "-") -> - | H66: =IF(squadre!H7=1, H7, "-") -> 6 | I66: =IF(squadre!I7=1, I7, "-") -> - | J66: =IF(squadre!J7=1, J7, "-") -> - | ... V66: =IF(squadre!V7=1, V7, "-") -> - | Y66: 5 | Z66: =IF(squadre!BC7="1v",C7,"-") -> 6.2 | AA66: =IF(squadre!BD7="1v",D7,"-") -> - | AB66: =IF(squadre!BE7="1v",E7,"-") -> - | AC66: =IF(squadre!BF7="1v",F7,"-") -> - | AD66: =IF(squadre!BG7="1v",G7,"-") -> - | AE66: =IF(squadre!BH7="1v",H7,"-") -> 6 | AF66: =IF(squadre!BI7="1v",I7,"-") -> - | AG66: =IF(squadre!BJ7="1v",J7,"-") -> - | ... AS66: =IF(squadre!BV7="1v",V7,"-") -> - | AV66: 5 | AW66: =IF(squadre!BC7="1p", C7, "-") -> - | AX66: =IF(squadre!BD7="1p", D7, "-") -> - | AY66: =IF(squadre!BE7="1p", E7, "-") -> 6.2 | AZ66: =IF(squadre!BF7="1p", F7, "-") -> 6.2 | BA66: =IF(squadre!BG7="1p", G7, "-") -> - | BB66: =IF(squadre!BH7="1p", H7, "-") -> - | BC66: =IF(squadre!BI7="1p", I7, "-") -> - | BD66: =IF(squadre!BJ7="1p", J7, "-") -> - | ... BP66: =IF(squadre!BV7="1p", V7, "-") -> - | BS66: 5 | BT66: =IF(squadre!BC7="1s", C7, "-") -> - | BU66: =IF(squadre!BD7="1s", D7, "-") -> 5.9 | BV66: =IF(squadre!BE7="1s", E7, "-") -> - | BW66: =IF(squadre!BF7="1s", F7, "-") -> - | BX66: =IF(squadre!BG7="1s", G7, "-") -> - | BY66: =IF(squadre!BH7="1s", H7, "-") -> - | BZ66: =IF(squadre!BI7="1s", I7, "-") -> - | CA66: =IF(squadre!BJ7="1s", J7, "-") -> - | ... CM66: =IF(squadre!BV7="1s", V7, "-") -> -
B67: 6 | C67: =IF(squadre!C8=1, C8, "-") -> - | D67: =IF(squadre!D8=1, D8, "-") -> - | E67: =IF(squadre!E8=1, E8, "-") -> - | F67: =IF(squadre!F8=1, F8, "-") -> - | G67: =IF(squadre!G8=1, G8, "-") -> 5.8 | H67: =IF(squadre!H8=1, H8, "-") -> - | I67: =IF(squadre!I8=1, I8, "-") -> 5.7 | J67: =IF(squadre!J8=1, J8, "-") -> - | ... V67: =IF(squadre!V8=1, V8, "-") -> 6.4 | Y67: 6 | Z67: =IF(squadre!BC8="1v",C8,"-") -> - | AA67: =IF(squadre!BD8="1v",D8,"-") -> - | AB67: =IF(squadre!BE8="1v",E8,"-") -> - | AC67: =IF(squadre!BF8="1v",F8,"-") -> - | AD67: =IF(squadre!BG8="1v",G8,"-") -> - | AE67: =IF(squadre!BH8="1v",H8,"-") -> - | AF67: =IF(squadre!BI8="1v",I8,"-") -> - | AG67: =IF(squadre!BJ8="1v",J8,"-") -> - | ... AS67: =IF(squadre!BV8="1v",V8,"-") -> 6.4 | AV67: 6 | AW67: =IF(squadre!BC8="1p", C8, "-") -> - | AX67: =IF(squadre!BD8="1p", D8, "-") -> - | AY67: =IF(squadre!BE8="1p", E8, "-") -> - | AZ67: =IF(squadre!BF8="1p", F8, "-") -> - | BA67: =IF(squadre!BG8="1p", G8, "-") -> 5.8 | BB67: =IF(squadre!BH8="1p", H8, "-") -> - | BC67: =IF(squadre!BI8="1p", I8, "-") -> - | BD67: =IF(squadre!BJ8="1p", J8, "-") -> - | ... BP67: =IF(squadre!BV8="1p", V8, "-") -> - | BS67: 6 | BT67: =IF(squadre!BC8="1s", C8, "-") -> - | BU67: =IF(squadre!BD8="1s", D8, "-") -> - | BV67: =IF(squadre!BE8="1s", E8, "-") -> - | BW67: =IF(squadre!BF8="1s", F8, "-") -> - | BX67: =IF(squadre!BG8="1s", G8, "-") -> - | BY67: =IF(squadre!BH8="1s", H8, "-") -> - | BZ67: =IF(squadre!BI8="1s", I8, "-") -> 5.7 | CA67: =IF(squadre!BJ8="1s", J8, "-") -> - | ... CM67: =IF(squadre!BV8="1s", V8, "-") -> -
B68: 7 | C68: =IF(squadre!C9=1, C9, "-") -> 6.1 | D68: =IF(squadre!D9=1, D9, "-") -> - | E68: =IF(squadre!E9=1, E9, "-") -> 6.1 | F68: =IF(squadre!F9=1, F9, "-") -> 6.3 | G68: =IF(squadre!G9=1, G9, "-") -> 6.2 | H68: =IF(squadre!H9=1, H9, "-") -> 6.1 | I68: =IF(squadre!I9=1, I9, "-") -> - | J68: =IF(squadre!J9=1, J9, "-") -> 5.9 | ... V68: =IF(squadre!V9=1, V9, "-") -> - | Y68: 7 | Z68: =IF(squadre!BC9="1v",C9,"-") -> - | AA68: =IF(squadre!BD9="1v",D9,"-") -> - | AB68: =IF(squadre!BE9="1v",E9,"-") -> - | AC68: =IF(squadre!BF9="1v",F9,"-") -> 6.3 | AD68: =IF(squadre!BG9="1v",G9,"-") -> - | AE68: =IF(squadre!BH9="1v",H9,"-") -> - | AF68: =IF(squadre!BI9="1v",I9,"-") -> - | AG68: =IF(squadre!BJ9="1v",J9,"-") -> - | ... AS68: =IF(squadre!BV9="1v",V9,"-") -> - | AV68: 7 | AW68: =IF(squadre!BC9="1p", C9, "-") -> 6.1 | AX68: =IF(squadre!BD9="1p", D9, "-") -> - | AY68: =IF(squadre!BE9="1p", E9, "-") -> 6.1 | AZ68: =IF(squadre!BF9="1p", F9, "-") -> - | BA68: =IF(squadre!BG9="1p", G9, "-") -> 6.2 | BB68: =IF(squadre!BH9="1p", H9, "-") -> 6.1 | BC68: =IF(squadre!BI9="1p", I9, "-") -> - | BD68: =IF(squadre!BJ9="1p", J9, "-") -> 5.9 | ... BP68: =IF(squadre!BV9="1p", V9, "-") -> - | BS68: 7 | BT68: =IF(squadre!BC9="1s", C9, "-") -> - | BU68: =IF(squadre!BD9="1s", D9, "-") -> - | BV68: =IF(squadre!BE9="1s", E9, "-") -> - | BW68: =IF(squadre!BF9="1s", F9, "-") -> - | BX68: =IF(squadre!BG9="1s", G9, "-") -> - | BY68: =IF(squadre!BH9="1s", H9, "-") -> - | BZ68: =IF(squadre!BI9="1s", I9, "-") -> - | CA68: =IF(squadre!BJ9="1s", J9, "-") -> - | ... CM68: =IF(squadre!BV9="1s", V9, "-") -> -
B69: 8 | C69: =IF(squadre!C10=1, C10, "-") -> - | D69: =IF(squadre!D10=1, D10, "-") -> 5.9 | E69: =IF(squadre!E10=1, E10, "-") -> 6 | F69: =IF(squadre!F10=1, F10, "-") -> - | G69: =IF(squadre!G10=1, G10, "-") -> - | H69: =IF(squadre!H10=1, H10, "-") -> - | I69: =IF(squadre!I10=1, I10, "-") -> 5.8 | J69: =IF(squadre!J10=1, J10, "-") -> - | ... V69: =IF(squadre!V10=1, V10, "-") -> 6.4 | Y69: 8 | Z69: =IF(squadre!BC10="1v",C10,"-") -> - | AA69: =IF(squadre!BD10="1v",D10,"-") -> - | AB69: =IF(squadre!BE10="1v",E10,"-") -> - | AC69: =IF(squadre!BF10="1v",F10,"-") -> - | AD69: =IF(squadre!BG10="1v",G10,"-") -> - | AE69: =IF(squadre!BH10="1v",H10,"-") -> - | AF69: =IF(squadre!BI10="1v",I10,"-") -> - | AG69: =IF(squadre!BJ10="1v",J10,"-") -> - | ... AS69: =IF(squadre!BV10="1v",V10,"-") -> 6.4 | AV69: 8 | AW69: =IF(squadre!BC10="1p", C10, "-") -> - | AX69: =IF(squadre!BD10="1p", D10, "-") -> - | AY69: =IF(squadre!BE10="1p", E10, "-") -> 6 | AZ69: =IF(squadre!BF10="1p", F10, "-") -> - | BA69: =IF(squadre!BG10="1p", G10, "-") -> - | BB69: =IF(squadre!BH10="1p", H10, "-") -> - | BC69: =IF(squadre!BI10="1p", I10, "-") -> 5.8 | BD69: =IF(squadre!BJ10="1p", J10, "-") -> - | ... BP69: =IF(squadre!BV10="1p", V10, "-") -> - | BS69: 8 | BT69: =IF(squadre!BC10="1s", C10, "-") -> - | BU69: =IF(squadre!BD10="1s", D10, "-") -> 5.9 | BV69: =IF(squadre!BE10="1s", E10, "-") -> - | BW69: =IF(squadre!BF10="1s", F10, "-") -> - | BX69: =IF(squadre!BG10="1s", G10, "-") -> - | BY69: =IF(squadre!BH10="1s", H10, "-") -> - | BZ69: =IF(squadre!BI10="1s", I10, "-") -> - | CA69: =IF(squadre!BJ10="1s", J10, "-") -> - | ... CM69: =IF(squadre!BV10="1s", V10, "-") -> -
B70: 9 | C70: =IF(squadre!C11=1, C11, "-") -> 6.3 | D70: =IF(squadre!D11=1, D11, "-") -> - | E70: =IF(squadre!E11=1, E11, "-") -> - | F70: =IF(squadre!F11=1, F11, "-") -> - | G70: =IF(squadre!G11=1, G11, "-") -> 5.9 | H70: =IF(squadre!H11=1, H11, "-") -> 5.7 | I70: =IF(squadre!I11=1, I11, "-") -> - | J70: =IF(squadre!J11=1, J11, "-") -> 6.2 | ... V70: =IF(squadre!V11=1, V11, "-") -> - | Y70: 9 | Z70: =IF(squadre!BC11="1v",C11,"-") -> - | AA70: =IF(squadre!BD11="1v",D11,"-") -> - | AB70: =IF(squadre!BE11="1v",E11,"-") -> - | AC70: =IF(squadre!BF11="1v",F11,"-") -> - | AD70: =IF(squadre!BG11="1v",G11,"-") -> - | AE70: =IF(squadre!BH11="1v",H11,"-") -> - | AF70: =IF(squadre!BI11="1v",I11,"-") -> - | AG70: =IF(squadre!BJ11="1v",J11,"-") -> 6.2 | ... AS70: =IF(squadre!BV11="1v",V11,"-") -> - | AV70: 9 | AW70: =IF(squadre!BC11="1p", C11, "-") -> 6.3 | AX70: =IF(squadre!BD11="1p", D11, "-") -> - | AY70: =IF(squadre!BE11="1p", E11, "-") -> - | AZ70: =IF(squadre!BF11="1p", F11, "-") -> - | BA70: =IF(squadre!BG11="1p", G11, "-") -> 5.9 | BB70: =IF(squadre!BH11="1p", H11, "-") -> - | BC70: =IF(squadre!BI11="1p", I11, "-") -> - | BD70: =IF(squadre!BJ11="1p", J11, "-") -> - | ... BP70: =IF(squadre!BV11="1p", V11, "-") -> - | BS70: 9 | BT70: =IF(squadre!BC11="1s", C11, "-") -> - | BU70: =IF(squadre!BD11="1s", D11, "-") -> - | BV70: =IF(squadre!BE11="1s", E11, "-") -> - | BW70: =IF(squadre!BF11="1s", F11, "-") -> - | BX70: =IF(squadre!BG11="1s", G11, "-") -> - | BY70: =IF(squadre!BH11="1s", H11, "-") -> 5.7 | BZ70: =IF(squadre!BI11="1s", I11, "-") -> - | CA70: =IF(squadre!BJ11="1s", J11, "-") -> - | ... CM70: =IF(squadre!BV11="1s", V11, "-") -> -
B71: 10 | C71: =IF(squadre!C12=1, C12, "-") -> - | D71: =IF(squadre!D12=1, D12, "-") -> 6.2 | E71: =IF(squadre!E12=1, E12, "-") -> 5.6 | F71: =IF(squadre!F12=1, F12, "-") -> 6.7 | G71: =IF(squadre!G12=1, G12, "-") -> - | H71: =IF(squadre!H12=1, H12, "-") -> - | I71: =IF(squadre!I12=1, I12, "-") -> 6.2 | J71: =IF(squadre!J12=1, J12, "-") -> - | ... V71: =IF(squadre!V12=1, V12, "-") -> 6.6 | Y71: 10 | Z71: =IF(squadre!BC12="1v",C12,"-") -> - | AA71: =IF(squadre!BD12="1v",D12,"-") -> 6.2 | AB71: =IF(squadre!BE12="1v",E12,"-") -> - | AC71: =IF(squadre!BF12="1v",F12,"-") -> 6.7 | AD71: =IF(squadre!BG12="1v",G12,"-") -> - | AE71: =IF(squadre!BH12="1v",H12,"-") -> - | AF71: =IF(squadre!BI12="1v",I12,"-") -> 6.2 | AG71: =IF(squadre!BJ12="1v",J12,"-") -> - | ... AS71: =IF(squadre!BV12="1v",V12,"-") -> 6.6 | AV71: 10 | AW71: =IF(squadre!BC12="1p", C12, "-") -> - | AX71: =IF(squadre!BD12="1p", D12, "-") -> - | AY71: =IF(squadre!BE12="1p", E12, "-") -> - | AZ71: =IF(squadre!BF12="1p", F12, "-") -> - | BA71: =IF(squadre!BG12="1p", G12, "-") -> - | BB71: =IF(squadre!BH12="1p", H12, "-") -> - | BC71: =IF(squadre!BI12="1p", I12, "-") -> - | BD71: =IF(squadre!BJ12="1p", J12, "-") -> - | ... BP71: =IF(squadre!BV12="1p", V12, "-") -> - | BS71: 10 | BT71: =IF(squadre!BC12="1s", C12, "-") -> - | BU71: =IF(squadre!BD12="1s", D12, "-") -> - | BV71: =IF(squadre!BE12="1s", E12, "-") -> 5.6 | BW71: =IF(squadre!BF12="1s", F12, "-") -> - | BX71: =IF(squadre!BG12="1s", G12, "-") -> - | BY71: =IF(squadre!BH12="1s", H12, "-") -> - | BZ71: =IF(squadre!BI12="1s", I12, "-") -> - | CA71: =IF(squadre!BJ12="1s", J12, "-") -> - | ... CM71: =IF(squadre!BV12="1s", V12, "-") -> -
...

Sheet squadre
C2: ATA | D2: BOL | E2: CAG | F2: CAT | G2: CES | H2: CHI | I2: FIO | J2: GEN | K2: INT | L2: JUV | M2: LAZ | N2: LEC | O2: MIL | P2: NAP | Q2: NOV | R2: PAL | S2: PAR | T2: ROM | U2: SIE | V2: UDI | X2: C | AB2: ATA | AC2: BOL | AD2: CAG | AE2: CAT | AF2: CES | AG2: CHI | AH2: FIO | AI2: GEN | AJ2: INT | AK2: JUV | AL2: LAZ | AM2: LEC | AN2: MIL | AO2: NAP | AP2: NOV | AQ2: PAL | AR2: PAR | AS2: ROM | AT2: SIE | AU2: UDI | AW2: v | AX2: p | AY2: s | BC2: ATA | BD2: BOL | BE2: CAG | BF2: CAT | BG2: CES | BH2: CHI | BI2: FIO | BJ2: GEN | BK2: INT | BL2: JUV | BM2: LAZ | BN2: LEC | BO2: MIL | BP2: NAP | BQ2: NOV | BR2: PAL | BS2: PAR | BT2: ROM | BU2: SIE | BV2: UDI
B3: 1 | C3: 1 | D3: 1 | E3: 1 | F3: 0 | G3: 0 | H3: 0 | I3: 0 | J3: 0 | K3: 1 | L3: 0 | M3: 1 | N3: 0 | O3: 0 | P3: 1 | Q3: 1 | R3: 0 | S3: 1 | T3: 0 | U3: 1 | V3: 1 | X3: =SUM(C3:V3) -> 10 | AA3: 1 | AB3: v | AC3: s | AD3: s | AE3: p | AF3: s | AG3: p | AH3: p | AI3: s | AJ3: v | AK3: p | AL3: p | AM3: s | AN3: v | AO3: v | AP3: p | AQ3: p | AR3: p | AS3: v | AT3: p | AU3: p | AW3: =COUNTIF(AB3:AU3, "=v") -> 5 | AX3: =COUNTIF(AB3:AU3, "=p") -> 10 | AY3: =COUNTIF(AB3:AU3, "=s") -> 5 | BB3: 1 | BC3: =CONCATENATE(C3,AB3) -> 1v | BD3: =CONCATENATE(D3,AC3) -> 1s | BE3: =CONCATENATE(E3,AD3) -> 1s | BF3: =CONCATENATE(F3,AE3) -> 0p | BG3: =CONCATENATE(G3,AF3) -> 0s | BH3: =CONCATENATE(H3,AG3) -> 0p | BI3: =CONCATENATE(I3,AH3) -> 0p | BJ3: =CONCATENATE(J3,AI3) -> 0s | ... BV3: =CONCATENATE(V3,AU3) -> 1p
B4: 2 | C4: 0 | D4: 0 | E4: 0 | F4: 1 | G4: 1 | H4: 1 | I4: 1 | J4: 1 | K4: 0 | L4: 1 | M4: 0 | N4: 1 | O4: 1 | P4: 0 | Q4: 0 | R4: 1 | S4: 0 | T4: 1 | U4: 0 | V4: 0 | X4: =SUM(C4:V4) -> 10 | AA4: 2 | AB4: p | AC4: s | AD4: v | AE4: p | AF4: s | AG4: p | AH4: v | AI4: p | AJ4: s | AK4: v | AL4: p | AM4: s | AN4: p | AO4: v | AP4: p | AQ4: v | AR4: s | AS4: s | AT4: p | AU4: v | AW4: =COUNTIF(AB4:AU4, "=v") -> 6 | AX4: =COUNTIF(AB4:AU4, "=p") -> 8 | AY4: =COUNTIF(AB4:AU4, "=s") -> 6 | BB4: 2 | BC4: =CONCATENATE(C4,AB4) -> 0p | BD4: =CONCATENATE(D4,AC4) -> 0s | BE4: =CONCATENATE(E4,AD4) -> 0v | BF4: =CONCATENATE(F4,AE4) -> 1p | BG4: =CONCATENATE(G4,AF4) -> 1s | BH4: =CONCATENATE(H4,AG4) -> 1p | BI4: =CONCATENATE(I4,AH4) -> 1v | BJ4: =CONCATENATE(J4,AI4) -> 1p | ... BV4: =CONCATENATE(V4,AU4) -> 0v
B5: 3 | C5: 1 | D5: 1 | E5: 1 | F5: 1 | G5: 0 | H5: 0 | I5: 0 | J5: 0 | K5: 1 | L5: 0 | M5: 1 | N5: 0 | O5: 0 | P5: 1 | Q5: 0 | R5: 0 | S5: 1 | T5: 0 | U5: 1 | V5: 1 | X5: =SUM(C5:V5) -> 10 | AA5: 3 | AB5: v | AC5: s | AD5: v | AE5: v | AF5: s | AG5: s | AH5: s | AI5: v | AJ5: p | AK5: v | AL5: s | AM5: v | AN5: s | AO5: v | AP5: s | AQ5: s | AR5: v | AS5: p | AT5: s | AU5: v | AW5: =COUNTIF(AB5:AU5, "=v") -> 9 | AX5: =COUNTIF(AB5:AU5, "=p") -> 2 | AY5: =COUNTIF(AB5:AU5, "=s") -> 9 | BB5: 3 | BC5: =CONCATENATE(C5,AB5) -> 1v | BD5: =CONCATENATE(D5,AC5) -> 1s | BE5: =CONCATENATE(E5,AD5) -> 1v | BF5: =CONCATENATE(F5,AE5) -> 1v | BG5: =CONCATENATE(G5,AF5) -> 0s | BH5: =CONCATENATE(H5,AG5) -> 0s | BI5: =CONCATENATE(I5,AH5) -> 0s | BJ5: =CONCATENATE(J5,AI5) -> 0v | ... BV5: =CONCATENATE(V5,AU5) -> 1v
B6: 4 | C6: 0 | D6: 0 | E6: 0 | F6: 0 | G6: 1 | H6: 1 | I6: 1 | J6: 1 | K6: 0 | L6: 1 | M6: 0 | N6: 1 | O6: 1 | P6: 0 | Q6: 1 | R6: 1 | S6: 0 | T6: 1 | U6: 0 | V6: 0 | X6: =SUM(C6:V6) -> 10 | AA6: 4 | AB6: v | AC6: p | AD6: s | AE6: s | AF6: s | AG6: v | AH6: v | AI6: v | AJ6: s | AK6: p | AL6: v | AM6: s | AN6: p | AO6: s | AP6: v | AQ6: v | AR6: s | AS6: p | AT6: p | AU6: p | AW6: =COUNTIF(AB6:AU6, "=v") -> 7 | AX6: =COUNTIF(AB6:AU6, "=p") -> 6 | AY6: =COUNTIF(AB6:AU6, "=s") -> 7 | BB6: 4 | BC6: =CONCATENATE(C6,AB6) -> 0v | BD6: =CONCATENATE(D6,AC6) -> 0p | BE6: =CONCATENATE(E6,AD6) -> 0s | BF6: =CONCATENATE(F6,AE6) -> 0s | BG6: =CONCATENATE(G6,AF6) -> 1s | BH6: =CONCATENATE(H6,AG6) -> 1v | BI6: =CONCATENATE(I6,AH6) -> 1v | BJ6: =CONCATENATE(J6,AI6) -> 1v | ... BV6: =CONCATENATE(V6,AU6) -> 0p
B7: 5 | C7: 1 | D7: 1 | E7: 1 | F7: 1 | G7: 0 | H7: 1 | I7: 0 | J7: 0 | K7: 0 | L7: 0 | M7: 1 | N7: 0 | O7: 1 | P7: 1 | Q7: 0 | R7: 0 | S7: 1 | T7: 0 | U7: 1 | V7: 0 | X7: =SUM(C7:V7) -> 10 | AA7: 5 | AB7: v | AC7: s | AD7: p | AE7: p | AF7: s | AG7: v | AH7: p | AI7: s | AJ7: v | AK7: p | AL7: p | AM7: s | AN7: v | AO7: p | AP7: s | AQ7: p | AR7: s | AS7: v | AT7: v | AU7: p | AW7: =COUNTIF(AB7:AU7, "=v") -> 6 | AX7: =COUNTIF(AB7:AU7, "=p") -> 8 | AY7: =COUNTIF(AB7:AU7, "=s") -> 6 | BB7: 5 | BC7: =CONCATENATE(C7,AB7) -> 1v | BD7: =CONCATENATE(D7,AC7) -> 1s | BE7: =CONCATENATE(E7,AD7) -> 1p | BF7: =CONCATENATE(F7,AE7) -> 1p | BG7: =CONCATENATE(G7,AF7) -> 0s | BH7: =CONCATENATE(H7,AG7) -> 1v | BI7: =CONCATENATE(I7,AH7) -> 0p | BJ7: =CONCATENATE(J7,AI7) -> 0s | ... BV7: =CONCATENATE(V7,AU7) -> 0p
B8: 6 | C8: 0 | D8: 0 | E8: 0 | F8: 0 | G8: 1 | H8: 0 | I8: 1 | J8: 0 | K8: 1 | L8: 1 | M8: 0 | N8: 1 | O8: 0 | P8: 0 | Q8: 1 | R8: 1 | S8: 1 | T8: 1 | U8: 0 | V8: 1 | X8: =SUM(C8:V8) -> 10 | AA8: 6 | AB8: s | AC8: s | AD8: v | AE8: p | AF8: p | AG8: p | AH8: s | AI8: s | AJ8: s | AK8: v | AL8: v | AM8: s | AN8: s | AO8: v | AP8: p | AQ8: v | AR8: v | AS8: v | AT8: s | AU8: v | AW8: =COUNTIF(AB8:AU8, "=v") -> 8 | AX8: =COUNTIF(AB8:AU8, "=p") -> 4 | AY8: =COUNTIF(AB8:AU8, "=s") -> 8 | BB8: 6 | BC8: =CONCATENATE(C8,AB8) -> 0s | BD8: =CONCATENATE(D8,AC8) -> 0s | BE8: =CONCATENATE(E8,AD8) -> 0v | BF8: =CONCATENATE(F8,AE8) -> 0p | BG8: =CONCATENATE(G8,AF8) -> 1p | BH8: =CONCATENATE(H8,AG8) -> 0p | BI8: =CONCATENATE(I8,AH8) -> 1s | BJ8: =CONCATENATE(J8,AI8) -> 0s | ... BV8: =CONCATENATE(V8,AU8) -> 1v
B9: 7 | C9: 1 | D9: 0 | E9: 1 | F9: 1 | G9: 1 | H9: 1 | I9: 0 | J9: 1 | K9: 0 | L9: 0 | M9: 1 | N9: 0 | O9: 1 | P9: 1 | Q9: 1 | R9: 0 | S9: 0 | T9: 0 | U9: 0 | V9: 0 | X9: =SUM(C9:V9) -> 10 | AA9: 7 | AB9: p | AC9: v | AD9: p | AE9: v | AF9: p | AG9: p | AH9: p | AI9: p | AJ9: s | AK9: p | AL9: v | AM9: p | AN9: v | AO9: s | AP9: s | AQ9: s | AR9: v | AS9: s | AT9: p | AU9: p | AW9: =COUNTIF(AB9:AU9, "=v") -> 5 | AX9: =COUNTIF(AB9:AU9, "=p") -> 10 | AY9: =COUNTIF(AB9:AU9, "=s") -> 5 | BB9: 7 | BC9: =CONCATENATE(C9,AB9) -> 1p | BD9: =CONCATENATE(D9,AC9) -> 0v | BE9: =CONCATENATE(E9,AD9) -> 1p | BF9: =CONCATENATE(F9,AE9) -> 1v | BG9: =CONCATENATE(G9,AF9) -> 1p | BH9: =CONCATENATE(H9,AG9) -> 1p | BI9: =CONCATENATE(I9,AH9) -> 0p | BJ9: =CONCATENATE(J9,AI9) -> 1p | ... BV9: =CONCATENATE(V9,AU9) -> 0p
