Workbook

Sheet up
B1: pos | D1: squadra | E1: utente | F1: 8 | G1: rosa | H1: mod | I1: cambi | J1: D 1o | K1: D 3o | L1: D 6o | M1: cup
B2: 1 | D2: maGGica! | E2: adrianscbr | F2: 464 | G2: 220 | H2: 13 | I2: 14 | J2: 0 | K2: -29 | L2: -35 | M2: X
B3: 2 | D3: I Velieri | E3: bremec | F3: 437 | G3: 216 | H3: 8 | I3: 16 | J3: 27 | K3: -2 | L3: -8 | M3: X
B4: 3 | D4: Eroi nel vento | E4: ogeid36 | F4: 435 | G4: 217 | H4: 8 | I4: 16 | J4: 29 | K4: 0 | L4: -6
B5: 4 | D5: AsiAssonNaty | E5: clamore22 | F5: 433 | G5: 221 | H5: 1 | I5: 12 | J5: 31 | K5: 2 | L5: -4
B6: 5 | D6: Lokomotiv RUMePERA | E6: rumepera | F6: 431.5 | G6: 217 | H6: 12 | I6: 15 | J6: 32.5 | K6: 3.5 | L6: -2.5 | M6: X
B7: 6 | D7: Sfus Team | E7: sfuscio85 | F7: 429 | G7: 223 | H7: 13 | I7: 10 | J7: 35 | K7: 6 | L7: 0
B8: 7 | D8: Fantacloe | E8: merk17 | F8: 429 | G8: 212 | H8: 4 | I8: 13 | J8: 35 | K8: 6 | L8: 0
B9: 8 | D9: ciro51 | E9: ciro51 | F9: 428 | G9: 208 | H9: 12 | I9: 11 | J9: 36 | K9: 7 | L9: 1
B10: 9 | D10: mastrolindo | E10: mastrolindo | F10: 427.5 | G10: 211 | H10: 14 | I10: 16 | J10: 36.5 | K10: 7.5 | L10: 1.5
B11: 10 | D11: Grun | E11: grunluca | F11: 423.5 | G11: 211 | H11: 2 | I11: 16 | J11: 40.5 | K11: 11.5 | L11: 5.5
B12: 11 | D12: Atletico Sereno | E12: andreabrescia | F12: 422 | G12: 209 | H12: 6 | I12: 10 | J12: 42 | K12: 13 | L12: 7
B13: 12 | D13: Forza Taranto | E13: rossoblu | F13: 421 | G13: 211 | H13: 12 | I13: 13 | J13: 43 | K13: 14 | L13: 8
B14: 13 | D14: jujula | E14: jujula | F14: 420.5 | G14: 207 | H14: 6 | I14: 13 | J14: 43.5 | K14: 14.5 | L14: 8.5
B15: 14 | D15: Sydney FC | E15: ruicosta | F15: 420.5 | G15: 219 | H15: 9 | I15: 13 | J15: 43.5 | K15: 14.5 | L15: 8.5
B16: 15 | D16: tombecker | E16: tombecker | F16: 417.5 | G16: 209 | H16: 4 | I16: 12 | J16: 46.5 | K16: 17.5 | L16: 11.5
B17: 16 | D17: A.C. Javier Pastore | E17: matteo9502 | F17: 414.5 | G17: 216 | H17: 3 | I17: 16 | J17: 49.5 | K17: 20.5 | L17: 14.5
B18: 17 | D18: REAL COSENZA 1914 | E18: flaviotto | F18: 414 | G18: 207 | H18: 7 | I18: 14 | J18: 50 | K18: 21 | L18: 15
... B36: 35 | D36: PowerTeam (potino78) | E36: potino78 | F36: 389.5 | G36: 205 | H36: 1 | I36: 12 | J36: 74.5 | K36: 45.5 | L36: 39.5

Sheet up C
B1: squadra | C1: utente | D1: C 2^ | E1: dist 3o | F1: 8 | G1: 9 | H1: 10 | I1: 11 | J1: 12
B2: Goomba | C2: crah83 | D2: =SUM(F2:J2) -> 80.5 | E2: =D2-LARGE(D:D,3) -> 2.5 | F2: =VLOOKUP($C2,coppa!$C:$AS,(F$1+1),0) -> 80.5
B3: Fantacloe | C3: merk17 | D3: =SUM(F3:J3) -> 79 | E3: =D3-LARGE(D:D,3) -> 1 | F3: =VLOOKUP($C3,coppa!$C:$AS,(F$1+1),0) -> 79
B4: ciro51 | C4: ciro51 | D4: =SUM(F4:J4) -> 78 | E4: =D4-LARGE(D:D,3) -> 0 | F4: =VLOOKUP($C4,coppa!$C:$AS,(F$1+1),0) -> 78
B5: OnceUponATime | C5: alexein11 | D5: =SUM(F5:J5) -> 77.5 | E5: =D5-LARGE(D:D,3) -> -0.5 | F5: =VLOOKUP($C5,coppa!$C:$AS,(F$1+1),0) -> 77.5
B6: AsiAssonNaty | C6: clamore22 | D6: =SUM(F6:J6) -> 77 | E6: =D6-LARGE(D:D,3) -> -1 | F6: =VLOOKUP($C6,coppa!$C:$AS,(F$1+1),0) -> 77
B7: A.C. Javier Pastore | C7: matteo9502 | D7: =SUM(F7:J7) -> 76 | E7: =D7-LARGE(D:D,3) -> -2 | F7: =VLOOKUP($C7,coppa!$C:$AS,(F$1+1),0) -> 76
B8: Atletico Sereno | C8: andreabrescia | D8: =SUM(F8:J8) -> 75 | E8: =D8-LARGE(D:D,3) -> -3 | F8: =VLOOKUP($C8,coppa!$C:$AS,(F$1+1),0) -> 75
B9: 19angelo85 | C9: 19angelo85 | D9: =SUM(F9:J9) -> 75 | E9: =D9-LARGE(D:D,3) -> -3 | F9: =VLOOKUP($C9,coppa!$C:$AS,(F$1+1),0) -> 75
B10: Eroi nel vento | C10: ogeid36 | D10: =SUM(F10:J10) -> 74 | E10: =D10-LARGE(D:D,3) -> -4 | F10: =VLOOKUP($C10,coppa!$C:$AS,(F$1+1),0) -> 74
B11: catania | C11: catania | D11: =SUM(F11:J11) -> 73 | E11: =D11-LARGE(D:D,3) -> -5 | F11: =VLOOKUP($C11,coppa!$C:$AS,(F$1+1),0) -> 73
B12: Sfus Team | C12: sfuscio85 | D12: =SUM(F12:J12) -> 71 | E12: =D12-LARGE(D:D,3) -> -7 | F12: =VLOOKUP($C12,coppa!$C:$AS,(F$1+1),0) -> 71
B13: diego89 | C13: diego89 | D13: =SUM(F13:J13) -> 71 | E13: =D13-LARGE(D:D,3) -> -7 | F13: =VLOOKUP($C13,coppa!$C:$AS,(F$1+1),0) -> 71
... B33: PowerTeam (potino78) | C33: potino78 | D33: =SUM(F33:J33) -> 62 | E33: =D33-LARGE(D:D,3) -> -16 | F33: =VLOOKUP($C33,coppa!$C:$AS,(F$1+1),0) -> 62

Sheet tot
B1: pos | D1: squadra | E1: utente | F1: 8 | G1: rosa | H1: mod | I1: cambi | J1: D 1o | K1: D 3o | L1: D 6o | M1: cup
B2: 1 | D2: maGGica! | E2: adrianscbr | F2: =VLOOKUP(E2,class!C:AN,$F$1,0) -> 464 | G2: =VLOOKUP(E2,val_rose!C:AN,$F$1,0) -> 220 | H2: =VLOOKUP(E2,mod!C:D,2,0) -> 13 | I2: =VLOOKUP(E2,cambi!C:AN,$F$1,0) -> 14 | J2: =VLOOKUP(E2,dist_1o!C:AN,$F$1,0) -> 0 | K2: =VLOOKUP(E2,dist_3o!C:AN,$F$1,0) -> -29 | L2: =VLOOKUP(E2,dist_6o!C:AN,$F$1,0) -> -35 | M2: X
B3: 2 | D3: I Velieri | E3: bremec | F3: =VLOOKUP(E3,class!C:AN,$F$1,0) -> 437 | G3: =VLOOKUP(E3,val_rose!C:AN,$F$1,0) -> 216 | H3: =VLOOKUP(E3,mod!C:D,2,0) -> 8 | I3: =VLOOKUP(E3,cambi!C:AN,$F$1,0) -> 16 | J3: =VLOOKUP(E3,dist_1o!C:AN,$F$1,0) -> 27 | K3: =VLOOKUP(E3,dist_3o!C:AN,$F$1,0) -> -2 | L3: =VLOOKUP(E3,dist_6o!C:AN,$F$1,0) -> -8 | M3: X
B4: 3 | D4: Eroi nel vento | E4: ogeid36 | F4: =VLOOKUP(E4,class!C:AN,$F$1,0) -> 435 | G4: =VLOOKUP(E4,val_rose!C:AN,$F$1,0) -> 217 | H4: =VLOOKUP(E4,mod!C:D,2,0) -> 8 | I4: =VLOOKUP(E4,cambi!C:AN,$F$1,0) -> 16 | J4: =VLOOKUP(E4,dist_1o!C:AN,$F$1,0) -> 29 | K4: =VLOOKUP(E4,dist_3o!C:AN,$F$1,0) -> 0 | L4: =VLOOKUP(E4,dist_6o!C:AN,$F$1,0) -> -6
B5: 4 | D5: AsiAssonNaty | E5: clamore22 | F5: =VLOOKUP(E5,class!C:AN,$F$1,0) -> 433 | G5: =VLOOKUP(E5,val_rose!C:AN,$F$1,0) -> 221 | H5: =VLOOKUP(E5,mod!C:D,2,0) -> 1 | I5: =VLOOKUP(E5,cambi!C:AN,$F$1,0) -> 12 | J5: =VLOOKUP(E5,dist_1o!C:AN,$F$1,0) -> 31 | K5: =VLOOKUP(E5,dist_3o!C:AN,$F$1,0) -> 2 | L5: =VLOOKUP(E5,dist_6o!C:AN,$F$1,0) -> -4
B6: 5 | D6: Lokomotiv RUMePERA | E6: rumepera | F6: =VLOOKUP(E6,class!C:AN,$F$1,0) -> 431.5 | G6: =VLOOKUP(E6,val_rose!C:AN,$F$1,0) -> 217 | H6: =VLOOKUP(E6,mod!C:D,2,0) -> 12 | I6: =VLOOKUP(E6,cambi!C:AN,$F$1,0) -> 15 | J6: =VLOOKUP(E6,dist_1o!C:AN,$F$1,0) -> 32.5 | K6: =VLOOKUP(E6,dist_3o!C:AN,$F$1,0) -> 3.5 | L6: =VLOOKUP(E6,dist_6o!C:AN,$F$1,0) -> -2.5 | M6: X
B7: 6 | D7: Sfus Team | E7: sfuscio85 | F7: =VLOOKUP(E7,class!C:AN,$F$1,0) -> 429 | G7: =VLOOKUP(E7,val_rose!C:AN,$F$1,0) -> 223 | H7: =VLOOKUP(E7,mod!C:D,2,0) -> 13 | I7: =VLOOKUP(E7,cambi!C:AN,$F$1,0) -> 10 | J7: =VLOOKUP(E7,dist_1o!C:AN,$F$1,0) -> 35 | K7: =VLOOKUP(E7,dist_3o!C:AN,$F$1,0) -> 6 | L7: =VLOOKUP(E7,dist_6o!C:AN,$F$1,0) -> 0
B8: 7 | D8: Fantacloe | E8: merk17 | F8: =VLOOKUP(E8,class!C:AN,$F$1,0) -> 429 | G8: =VLOOKUP(E8,val_rose!C:AN,$F$1,0) -> 212 | H8: =VLOOKUP(E8,mod!C:D,2,0) -> 4 | I8: =VLOOKUP(E8,cambi!C:AN,$F$1,0) -> 13 | J8: =VLOOKUP(E8,dist_1o!C:AN,$F$1,0) -> 35 | K8: =VLOOKUP(E8,dist_3o!C:AN,$F$1,0) -> 6 | L8: =VLOOKUP(E8,dist_6o!C:AN,$F$1,0) -> 0
B9: 8 | D9: ciro51 | E9: ciro51 | F9: =VLOOKUP(E9,class!C:AN,$F$1,0) -> 428 | G9: =VLOOKUP(E9,val_rose!C:AN,$F$1,0) -> 208 | H9: =VLOOKUP(E9,mod!C:D,2,0) -> 12 | I9: =VLOOKUP(E9,cambi!C:AN,$F$1,0) -> 11 | J9: =VLOOKUP(E9,dist_1o!C:AN,$F$1,0) -> 36 | K9: =VLOOKUP(E9,dist_3o!C:AN,$F$1,0) -> 7 | L9: =VLOOKUP(E9,dist_6o!C:AN,$F$1,0) -> 1
B10: 9 | D10: mastrolindo | E10: mastrolindo | F10: =VLOOKUP(E10,class!C:AN,$F$1,0) -> 427.5 | G10: =VLOOKUP(E10,val_rose!C:AN,$F$1,0) -> 211 | H10: =VLOOKUP(E10,mod!C:D,2,0) -> 14 | I10: =VLOOKUP(E10,cambi!C:AN,$F$1,0) -> 16 | J10: =VLOOKUP(E10,dist_1o!C:AN,$F$1,0) -> 36.5 | K10: =VLOOKUP(E10,dist_3o!C:AN,$F$1,0) -> 7.5 | L10: =VLOOKUP(E10,dist_6o!C:AN,$F$1,0) -> 1.5
B11: 10 | D11: Grun | E11: grunluca | F11: =VLOOKUP(E11,class!C:AN,$F$1,0) -> 423.5 | G11: =VLOOKUP(E11,val_rose!C:AN,$F$1,0) -> 211 | H11: =VLOOKUP(E11,mod!C:D,2,0) -> 2 | I11: =VLOOKUP(E11,cambi!C:AN,$F$1,0) -> 16 | J11: =VLOOKUP(E11,dist_1o!C:AN,$F$1,0) -> 40.5 | K11: =VLOOKUP(E11,dist_3o!C:AN,$F$1,0) -> 11.5 | L11: =VLOOKUP(E11,dist_6o!C:AN,$F$1,0) -> 5.5
B12: 11 | D12: Atletico Sereno | E12: andreabrescia | F12: =VLOOKUP(E12,class!C:AN,$F$1,0) -> 422 | G12: =VLOOKUP(E12,val_rose!C:AN,$F$1,0) -> 209 | H12: =VLOOKUP(E12,mod!C:D,2,0) -> 6 | I12: =VLOOKUP(E12,cambi!C:AN,$F$1,0) -> 10 | J12: =VLOOKUP(E12,dist_1o!C:AN,$F$1,0) -> 42 | K12: =VLOOKUP(E12,dist_3o!C:AN,$F$1,0) -> 13 | L12: =VLOOKUP(E12,dist_6o!C:AN,$F$1,0) -> 7
B13: 12 | D13: Forza Taranto | E13: rossoblu | F13: =VLOOKUP(E13,class!C:AN,$F$1,0) -> 421 | G13: =VLOOKUP(E13,val_rose!C:AN,$F$1,0) -> 211 | H13: =VLOOKUP(E13,mod!C:D,2,0) -> 12 | I13: =VLOOKUP(E13,cambi!C:AN,$F$1,0) -> 13 | J13: =VLOOKUP(E13,dist_1o!C:AN,$F$1,0) -> 43 | K13: =VLOOKUP(E13,dist_3o!C:AN,$F$1,0) -> 14 | L13: =VLOOKUP(E13,dist_6o!C:AN,$F$1,0) -> 8
B14: 13 | D14: jujula | E14: jujula | F14: =VLOOKUP(E14,class!C:AN,$F$1,0) -> 420.5 | G14: =VLOOKUP(E14,val_rose!C:AN,$F$1,0) -> 207 | H14: =VLOOKUP(E14,mod!C:D,2,0) -> 6 | I14: =VLOOKUP(E14,cambi!C:AN,$F$1,0) -> 13 | J14: =VLOOKUP(E14,dist_1o!C:AN,$F$1,0) -> 43.5 | K14: =VLOOKUP(E14,dist_3o!C:AN,$F$1,0) -> 14.5 | L14: =VLOOKUP(E14,dist_6o!C:AN,$F$1,0) -> 8.5
B15: 14 | D15: Sydney FC | E15: ruicosta | F15: =VLOOKUP(E15,class!C:AN,$F$1,0) -> 420.5 | G15: =VLOOKUP(E15,val_rose!C:AN,$F$1,0) -> 219 | H15: =VLOOKUP(E15,mod!C:D,2,0) -> 9 | I15: =VLOOKUP(E15,cambi!C:AN,$F$1,0) -> 13 | J15: =VLOOKUP(E15,dist_1o!C:AN,$F$1,0) -> 43.5 | K15: =VLOOKUP(E15,dist_3o!C:AN,$F$1,0) -> 14.5 | L15: =VLOOKUP(E15,dist_6o!C:AN,$F$1,0) -> 8.5
B16: 15 | D16: tombecker | E16: tombecker | F16: =VLOOKUP(E16,class!C:AN,$F$1,0) -> 417.5 | G16: =VLOOKUP(E16,val_rose!C:AN,$F$1,0) -> 209 | H16: =VLOOKUP(E16,mod!C:D,2,0) -> 4 | I16: =VLOOKUP(E16,cambi!C:AN,$F$1,0) -> 12 | J16: =VLOOKUP(E16,dist_1o!C:AN,$F$1,0) -> 46.5 | K16: =VLOOKUP(E16,dist_3o!C:AN,$F$1,0) -> 17.5 | L16: =VLOOKUP(E16,dist_6o!C:AN,$F$1,0) -> 11.5
B17: 16 | D17: A.C. Javier Pastore | E17: matteo9502 | F17: =VLOOKUP(E17,class!C:AN,$F$1,0) -> 414.5 | G17: =VLOOKUP(E17,val_rose!C:AN,$F$1,0) -> 216 | H17: =VLOOKUP(E17,mod!C:D,2,0) -> 3 | I17: =VLOOKUP(E17,cambi!C:AN,$F$1,0) -> 16 | J17: =VLOOKUP(E17,dist_1o!C:AN,$F$1,0) -> 49.5 | K17: =VLOOKUP(E17,dist_3o!C:AN,$F$1,0) -> 20.5 | L17: =VLOOKUP(E17,dist_6o!C:AN,$F$1,0) -> 14.5
B18: 17 | D18: REAL COSENZA 1914 | E18: flaviotto | F18: =VLOOKUP(E18,class!C:AN,$F$1,0) -> 414 | G18: =VLOOKUP(E18,val_rose!C:AN,$F$1,0) -> 207 | H18: =VLOOKUP(E18,mod!C:D,2,0) -> 7 | I18: =VLOOKUP(E18,cambi!C:AN,$F$1,0) -> 14 | J18: =VLOOKUP(E18,dist_1o!C:AN,$F$1,0) -> 50 | K18: =VLOOKUP(E18,dist_3o!C:AN,$F$1,0) -> 21 | L18: =VLOOKUP(E18,dist_6o!C:AN,$F$1,0) -> 15
... B36: 35 | D36: PowerTeam (potino78) | E36: potino78 | F36: =VLOOKUP(E36,class!C:AN,$F$1,0) -> 389.5 | G36: =VLOOKUP(E36,val_rose!C:AN,$F$1,0) -> 205 | H36: =VLOOKUP(E36,mod!C:D,2,0) -> 1 | I36: =VLOOKUP(E36,cambi!C:AN,$F$1,0) -> 12 | J36: =VLOOKUP(E36,dist_1o!C:AN,$F$1,0) -> 74.5 | K36: =VLOOKUP(E36,dist_3o!C:AN,$F$1,0) -> 45.5 | L36: =VLOOKUP(E36,dist_6o!C:AN,$F$1,0) -> 39.5

Sheet giorn
B1: squadra | C1: utente | E1: 3 | F1: 4 | G1: 5 | H1: 6 | I1: 7 | J1: 8 | K1: 9 | L1: 10 | M1: 11 | N1: 12 | O1: 13 | P1: 14 | Q1: 15 | R1: 16 | S1: 17 | T1: 18 | U1: 19 | V1: 20 | W1: 21 | X1: 22 | Y1: 23 | Z1: 24 | AA1: 25 | AB1: 26 | AC1: 27 | AD1: 28 | AE1: 29 | AF1: 30 | AG1: 31 | AH1: 32 | AI1: 33 | AJ1: 34 | AK1: 35 | AL1: 36 | AM1: 37 | AN1: 38
B2: 19angelo85 | C2: 19angelo85 | E2: 72.5 | F2: 66.5 | G2: 61.5 | H2: 72.5 | I2: 64.5 | J2: 75
B3: maGGica! | C3: adrianscbr | E3: 84.5 | F3: 71.5 | G3: 71 | H3: 82 | I3: 72 | J3: 83
B4: alebolo | C4: alebolo | E4: 67.5 | F4: 59.5 | G4: 57.5 | H4: 73.5 | I4: 77 | J4: 71
B5: OnceUponATime | C5: alexein11 | E5: 77.5 | F5: 61.5 | G5: 55 | H5: 73 | I5: 60.5 | J5: 77.5
B6: Atletico Sereno | C6: andreabrescia | E6: 76 | F6: 60 | G6: 68.5 | H6: 75 | I6: 67.5 | J6: 75
B7: I Velieri | C7: bremec | E7: 69.5 | F7: 72.5 | G7: 71 | H7: 76.5 | I7: 78 | J7: 69.5
B8: capirexligamilan | C8: capirexligamilan | E8: 67.5 | F8: 67.5 | G8: 59.5 | H8: 64.5 | I8: 75 | J8: 62.5
B9: catania | C9: catania | E9: 69 | F9: 61 | G9: 65.5 | H9: 77.5 | I9: 67 | J9: 73
B10: Brontefantasy | C10: catania5556 | E10: 64 | F10: 60 | G10: 67 | H10: 82 | I10: 65 | J10: 62.5
B11: ciro51 | C11: ciro51 | E11: 78.5 | F11: 59.5 | G11: 69 | H11: 66.5 | I11: 76.5 | J11: 78
B12: AsiAssonNaty | C12: clamore22 | E12: 77.5 | F12: 60 | G12: 67.5 | H12: 78 | I12: 73 | J12: 77
B13: Goomba | C13: crah83 | E13: 75 | F13: 55 | G13: 57.5 | H13: 67.5 | I13: 64 | J13: 80.5
... B36: tombecker | C36: tombecker | E36: 75 | F36: 61 | G36: 69.5 | H36: 72 | I36: 72 | J36: 68

Sheet class
B1: squadra | C1: utente | E1: 3 | F1: 4 | G1: 5 | H1: 6 | I1: 7 | J1: 8 | K1: 9 | L1: 10 | M1: 11 | N1: 12 | O1: 13 | P1: 14 | Q1: 15 | R1: 16 | S1: 17 | T1: 18 | U1: 19 | V1: 20 | W1: 21 | X1: 22 | Y1: 23 | Z1: 24 | AA1: 25 | AB1: 26 | AC1: 27 | AD1: 28 | AE1: 29 | AF1: 30 | AG1: 31 | AH1: 32 | AI1: 33 | AJ1: 34 | AK1: 35 | AL1: 36 | AM1: 37 | AN1: 38
B2: 19angelo85 | C2: 19angelo85 | E2: 72.5 | F2: =E2+VLOOKUP($C2,giorn!$C:$AN,F$1,0) -> 139 | G2: =F2+VLOOKUP($C2,giorn!$C:$AN,G$1,0) -> 200.5 | H2: =G2+VLOOKUP($C2,giorn!$C:$AN,H$1,0) -> 273 | I2: =H2+VLOOKUP($C2,giorn!$C:$AN,I$1,0) -> 337.5 | J2: =I2+VLOOKUP($C2,giorn!$C:$AN,J$1,0) -> 412.5
B3: maGGica! | C3: adrianscbr | E3: 84.5 | F3: =E3+VLOOKUP($C3,giorn!$C:$AN,F$1,0) -> 156 | G3: =F3+VLOOKUP($C3,giorn!$C:$AN,G$1,0) -> 227 | H3: =G3+VLOOKUP($C3,giorn!$C:$AN,H$1,0) -> 309 | I3: =H3+VLOOKUP($C3,giorn!$C:$AN,I$1,0) -> 381 | J3: =I3+VLOOKUP($C3,giorn!$C:$AN,J$1,0) -> 464
B4: alebolo | C4: alebolo | E4: 67.5 | F4: =E4+VLOOKUP($C4,giorn!$C:$AN,F$1,0) -> 127 | G4: =F4+VLOOKUP($C4,giorn!$C:$AN,G$1,0) -> 184.5 | H4: =G4+VLOOKUP($C4,giorn!$C:$AN,H$1,0) -> 258 | I4: =H4+VLOOKUP($C4,giorn!$C:$AN,I$1,0) -> 335 | J4: =I4+VLOOKUP($C4,giorn!$C:$AN,J$1,0) -> 406
B5: OnceUponATime | C5: alexein11 | E5: 77.5 | F5: =E5+VLOOKUP($C5,giorn!$C:$AN,F$1,0) -> 139 | G5: =F5+VLOOKUP($C5,giorn!$C:$AN,G$1,0) -> 194 | H5: =G5+VLOOKUP($C5,giorn!$C:$AN,H$1,0) -> 267 | I5: =H5+VLOOKUP($C5,giorn!$C:$AN,I$1,0) -> 327.5 | J5: =I5+VLOOKUP($C5,giorn!$C:$AN,J$1,0) -> 405
B6: Atletico Sereno | C6: andreabrescia | E6: 76 | F6: =E6+VLOOKUP($C6,giorn!$C:$AN,F$1,0) -> 136 | G6: =F6+VLOOKUP($C6,giorn!$C:$AN,G$1,0) -> 204.5 | H6: =G6+VLOOKUP($C6,giorn!$C:$AN,H$1,0) -> 279.5 | I6: =H6+VLOOKUP($C6,giorn!$C:$AN,I$1,0) -> 347 | J6: =I6+VLOOKUP($C6,giorn!$C:$AN,J$1,0) -> 422
B7: I Velieri | C7: bremec | E7: 69.5 | F7: =E7+VLOOKUP($C7,giorn!$C:$AN,F$1,0) -> 142 | G7: =F7+VLOOKUP($C7,giorn!$C:$AN,G$1,0) -> 213 | H7: =G7+VLOOKUP($C7,giorn!$C:$AN,H$1,0) -> 289.5 | I7: =H7+VLOOKUP($C7,giorn!$C:$AN,I$1,0) -> 367.5 | J7: =I7+VLOOKUP($C7,giorn!$C:$AN,J$1,0) -> 437
B8: capirexligamilan | C8: capirexligamilan | E8: 67.5 | F8: =E8+VLOOKUP($C8,giorn!$C:$AN,F$1,0) -> 135 | G8: =F8+VLOOKUP($C8,giorn!$C:$AN,G$1,0) -> 194.5 | H8: =G8+VLOOKUP($C8,giorn!$C:$AN,H$1,0) -> 259 | I8: =H8+VLOOKUP($C8,giorn!$C:$AN,I$1,0) -> 334 | J8: =I8+VLOOKUP($C8,giorn!$C:$AN,J$1,0) -> 396.5
B9: catania | C9: catania | E9: 69 | F9: =E9+VLOOKUP($C9,giorn!$C:$AN,F$1,0) -> 130 | G9: =F9+VLOOKUP($C9,giorn!$C:$AN,G$1,0) -> 195.5 | H9: =G9+VLOOKUP($C9,giorn!$C:$AN,H$1,0) -> 273 | I9: =H9+VLOOKUP($C9,giorn!$C:$AN,I$1,0) -> 340 | J9: =I9+VLOOKUP($C9,giorn!$C:$AN,J$1,0) -> 413
B10: Brontefantasy | C10: catania5556 | E10: 64 | F10: =E10+VLOOKUP($C10,giorn!$C:$AN,F$1,0) -> 124 | G10: =F10+VLOOKUP($C10,giorn!$C:$AN,G$1,0) -> 191 | H10: =G10+VLOOKUP($C10,giorn!$C:$AN,H$1,0) -> 273 | I10: =H10+VLOOKUP($C10,giorn!$C:$AN,I$1,0) -> 338 | J10: =I10+VLOOKUP($C10,giorn!$C:$AN,J$1,0) -> 400.5
B11: ciro51 | C11: ciro51 | E11: 78.5 | F11: =E11+VLOOKUP($C11,giorn!$C:$AN,F$1,0) -> 138 | G11: =F11+VLOOKUP($C11,giorn!$C:$AN,G$1,0) -> 207 | H11: =G11+VLOOKUP($C11,giorn!$C:$AN,H$1,0) -> 273.5 | I11: =H11+VLOOKUP($C11,giorn!$C:$AN,I$1,0) -> 350 | J11: =I11+VLOOKUP($C11,giorn!$C:$AN,J$1,0) -> 428
B12: AsiAssonNaty | C12: clamore22 | E12: 77.5 | F12: =E12+VLOOKUP($C12,giorn!$C:$AN,F$1,0) -> 137.5 | G12: =F12+VLOOKUP($C12,giorn!$C:$AN,G$1,0) -> 205 | H12: =G12+VLOOKUP($C12,giorn!$C:$AN,H$1,0) -> 283 | I12: =H12+VLOOKUP($C12,giorn!$C:$AN,I$1,0) -> 356 | J12: =I12+VLOOKUP($C12,giorn!$C:$AN,J$1,0) -> 433
B13: Goomba | C13: crah83 | E13: 75 | F13: =E13+VLOOKUP($C13,giorn!$C:$AN,F$1,0) -> 130 | G13: =F13+VLOOKUP($C13,giorn!$C:$AN,G$1,0) -> 187.5 | H13: =G13+VLOOKUP($C13,giorn!$C:$AN,H$1,0) -> 255 | I13: =H13+VLOOKUP($C13,giorn!$C:$AN,I$1,0) -> 319 | J13: =I13+VLOOKUP($C13,giorn!$C:$AN,J$1,0) -> 399.5
... B36: tombecker | C36: tombecker | E36: 75 | F36: =E36+VLOOKUP($C36,giorn!$C:$AN,F$1,0) -> 136 | G36: =F36+VLOOKUP($C36,giorn!$C:$AN,G$1,0) -> 205.5 | H36: =G36+VLOOKUP($C36,giorn!$C:$AN,H$1,0) -> 277.5 | I36: =H36+VLOOKUP($C36,giorn!$C:$AN,I$1,0) -> 349.5 | J36: =I36+VLOOKUP($C36,giorn!$C:$AN,J$1,0) -> 417.5

Sheet val_rose
B1: squadra | C1: utente | D1: 2 | E1: 3 | F1: 4 | G1: 5 | H1: 6 | I1: 7 | J1: 8 | K1: 9 | L1: 10 | M1: 11 | N1: 12 | O1: 13 | P1: 14 | Q1: 15 | R1: 16 | S1: 17 | T1: 18 | U1: 19 | V1: 20 | W1: 21 | X1: 22 | Y1: 23 | Z1: 24 | AA1: 25 | AB1: 26 | AC1: 27 | AD1: 28 | AE1: 29 | AF1: 30 | AG1: 31 | AH1: 32 | AI1: 33 | AJ1: 34 | AK1: 35 | AL1: 36 | AM1: 37 | AN1: 38
B2: 19angelo85 | C2: 19angelo85 | D2: 190 | E2: 196 | F2: 196 | G2: 196 | H2: 197 | I2: 196 | J2: 215
B3: maGGica! | C3: adrianscbr | D3: 190 | E3: 200 | F3: 201 | G3: 201 | H3: 209 | I3: 210 | J3: 220
B4: alebolo | C4: alebolo | D4: 190 | E4: 194 | F4: 196 | G4: 196 | H4: 199 | I4: 209 | J4: 223
B5: OnceUponATime | C5: alexein11 | D5: 190 | E5: 196 | F5: 197 | G5: 197 | H5: 200 | I5: 199 | J5: 211
B6: Atletico Sereno | C6: andreabrescia | D6: 190 | E6: 199 | F6: 197 | G6: 197 | H6: 201 | I6: 204 | J6: 209
B7: I Velieri | C7: bremec | D7: 190 | E7: 196 | F7: 198 | G7: 198 | H7: 206 | I7: 212 | J7: 216
B8: capirexligamilan | C8: capirexligamilan | D8: 190 | E8: 196 | F8: 199 | G8: 199 | H8: 198 | I8: 203 | J8: 204
B9: catania | C9: catania | D9: 190 | E9: 193 | F9: 189 | G9: 189 | H9: 198 | I9: 200 | J9: 207
B10: Brontefantasy | C10: catania5556 | D10: 190 | E10: 187 | F10: 186 | G10: 186 | H10: 195 | I10: 192 | J10: 204
B11: ciro51 | C11: ciro51 | D11: 190 | E11: 199 | F11: 195 | G11: 195 | H11: 195 | I11: 199 | J11: 208
B12: AsiAssonNaty | C12: clamore22 | D12: 190 | E12: 199 | F12: 199 | G12: 199 | H12: 204 | I12: 209 | J12: 221
B13: Goomba | C13: crah83 | D13: 190 | E13: 201 | F13: 197 | G13: 197 | H13: 194 | I13: 195 | J13: 217
... B36: tombecker | C36: tombecker | D36: 190 | E36: 197 | F36: 193 | G36: 193 | H36: 196 | I36: 199 | J36: 209

Sheet mod
B1: squadra | C1: utente | D1: tot | E1: 3 | F1: 4 | G1: 5 | H1: 6 | I1: 7 | J1: 8 | K1: 9 | L1: 10 | M1: 11 | N1: 12 | O1: 13 | P1: 14 | Q1: 15 | R1: 16 | S1: 17 | T1: 18 | U1: 19 | V1: 20 | W1: 21 | X1: 22 | Y1: 23 | Z1: 24 | AA1: 25 | AB1: 26 | AC1: 27 | AD1: 28 | AE1: 29 | AF1: 30 | AG1: 31 | AH1: 32 | AI1: 33 | AJ1: 34 | AK1: 35 | AL1: 36 | AM1: 37 | AN1: 38
B2: 19angelo85 | C2: 19angelo85 | D2: =SUM(E2:AN2) -> 5 | E2: 1 | F2: 1 | G2: 1 | H2: 0 | I2: 1 | J2: 1
B3: maGGica! | C3: adrianscbr | D3: =SUM(E3:AN3) -> 13 | E3: 3 | F3: 0 | G3: 1 | H3: 3 | I3: 3 | J3: 3
B4: alebolo | C4: alebolo | D4: =SUM(E4:AN4) -> 0 | E4: 0 | F4: 0 | G4: 0 | H4: 0 | I4: 0 | J4: 0
B5: OnceUponATime | C5: alexein11 | D5: =SUM(E5:AN5) -> 8 | E5: 1 | F5: 1 | G5: 1 | H5: 1 | I5: 1 | J5: 3
B6: Atletico Sereno | C6: andreabrescia | D6: =SUM(E6:AN6) -> 6 | E6: 1 | F6: 1 | G6: 3 | H6: 0 | I6: 0 | J6: 1
B7: I Velieri | C7: bremec | D7: =SUM(E7:AN7) -> 8 | E7: 1 | F7: 0 | G7: 3 | H7: 1 | I7: 3 | J7: 0
B8: capirexligamilan | C8: capirexligamilan | D8: =SUM(E8:AN8) -> 0 | E8: 0 | F8: 0 | G8: 0 | H8: 0 | I8: 0 | J8: 0
B9: catania | C9: catania | D9: =SUM(E9:AN9) -> 2 | E9: 1 | F9: 1 | G9: 0 | H9: 0 | I9: 0 | J9: 0
B10: Brontefantasy | C10: catania5556 | D10: =SUM(E10:AN10) -> 3 | E10: 0 | F10: 0 | G10: 0 | H10: 3 | I10: 0 | J10: 0
B11: ciro51 | C11: ciro51 | D11: =SUM(E11:AN11) -> 12 | E11: 3 | F11: 1 | G11: 3 | H11: 1 | I11: 3 | J11: 1
B12: AsiAssonNaty | C12: clamore22 | D12: =SUM(E12:AN12) -> 1 | E12: 0 | F12: 0 | G12: 0 | H12: 0 | I12: 0 | J12: 1
B13: Goomba | C13: crah83 | D13: =SUM(E13:AN13) -> 4 | E13: 1 | F13: 0 | G13: 0 | H13: 1 | I13: 1 | J13: 1
... B36: tombecker | C36: tombecker | D36: =SUM(E36:AN36) -> 4 | E36: 1 | F36: 0 | G36: 1 | H36: 0 | I36: 1 | J36: 1

Sheet cambi
B1: squadra | C1: utente | D1: 2 | E1: 3 | F1: 4 | G1: 5 | H1: 6 | I1: 7 | J1: 8 | K1: 9 | L1: 10 | M1: 11 | N1: 12 | O1: 13 | P1: 14 | Q1: 15 | R1: 16 | S1: 17 | T1: 18 | U1: 19 | V1: 20 | W1: 21 | X1: 22 | Y1: 23 | Z1: 24 | AA1: 25 | AB1: 26 | AC1: 27 | AD1: 28 | AE1: 29 | AF1: 30 | AG1: 31 | AH1: 32 | AI1: 33 | AJ1: 34 | AK1: 35 | AL1: 36 | AM1: 37 | AN1: 38
B2: 19angelo85 | C2: 19angelo85 | D2: 16 | E2: 16 | F2: 16 | G2: 16 | H2: 16 | I2: 16 | J2: 15
B3: maGGica! | C3: adrianscbr | D3: 16 | E3: 16 | F3: 16 | G3: 16 | H3: 14 | I3: 14 | J3: 14
B4: alebolo | C4: alebolo | D4: 16 | E4: 16 | F4: 16 | G4: 16 | H4: 16 | I4: 13 | J4: 13
B5: OnceUponATime | C5: alexein11 | D5: 16 | E5: 16 | F5: 16 | G5: 16 | H5: 13 | I5: 13 | J5: 13
B6: Atletico Sereno | C6: andreabrescia | D6: 16 | E6: 16 | F6: 14 | G6: 14 | H6: 14 | I6: 10 | J6: 10
B7: I Velieri | C7: bremec | D7: 16 | E7: 16 | F7: 16 | G7: 16 | H7: 16 | I7: 16 | J7: 16
B8: capirexligamilan | C8: capirexligamilan | D8: 16 | E8: 16 | F8: 16 | G8: 16 | H8: 16 | I8: 16 | J8: 16
B9: catania | C9: catania | D9: 16 | E9: 16 | F9: 16 | G9: 15 | H9: 15 | I9: 15 | J9: 15
B10: Brontefantasy | C10: catania5556 | D10: 16 | E10: 16 | F10: 13 | G10: 11 | H10: 11 | I10: 10 | J10: 10
B11: ciro51 | C11: ciro51 | D11: 16 | E11: 16 | F11: 16 | G11: 14 | H11: 14 | I11: 11 | J11: 11
B12: AsiAssonNaty | C12: clamore22 | D12: 16 | E12: 16 | F12: 15 | G12: 13 | H12: 12 | I12: 12 | J12: 12
B13: Goomba | C13: crah83 | D13: 16 | E13: 16 | F13: 14 | G13: 14 | H13: 14 | I13: 14 | J13: 11
... B36: tombecker | C36: tombecker | D36: 16 | E36: 16 | F36: 16 | G36: 16 | H36: 16 | I36: 15 | J36: 12

Sheet dist_1o
B1: squadra | C1: utente | E1: 3 | F1: 4 | G1: 5 | H1: 6 | I1: 7 | J1: 8 | K1: 9 | L1: 10 | M1: 11 | N1: 12 | O1: 13 | P1: 14 | Q1: 15 | R1: 16 | S1: 17 | T1: 18 | U1: 19 | V1: 20 | W1: 21 | X1: 22 | Y1: 23 | Z1: 24 | AA1: 25 | AB1: 26 | AC1: 27 | AD1: 28 | AE1: 29 | AF1: 30 | AG1: 31 | AH1: 32 | AI1: 33 | AJ1: 34 | AK1: 35 | AL1: 36 | AM1: 37 | AN1: 38
B2: 19angelo85 | C2: 19angelo85 | E2: =MAX(class!E:E)-VLOOKUP($C2,class!$C:$AN,E$1,0) -> 13 | F2: =MAX(class!F:F)-VLOOKUP($C2,class!$C:$AN,F$1,0) -> 17 | G2: =MAX(class!G:G)-VLOOKUP($C2,class!$C:$AN,G$1,0) -> 26.5 | H2: =MAX(class!H:H)-VLOOKUP($C2,class!$C:$AN,H$1,0) -> 36 | I2: =MAX(class!I:I)-VLOOKUP($C2,class!$C:$AN,I$1,0) -> 43.5 | J2: =MAX(class!J:J)-VLOOKUP($C2,class!$C:$AN,J$1,0) -> 51.5
B3: maGGica! | C3: adrianscbr | E3: =MAX(class!E:E)-VLOOKUP($C3,class!$C:$AN,E$1,0) -> 1 | F3: =MAX(class!F:F)-VLOOKUP($C3,class!$C:$AN,F$1,0) -> 0 | G3: =MAX(class!G:G)-VLOOKUP($C3,class!$C:$AN,G$1,0) -> 0 | H3: =MAX(class!H:H)-VLOOKUP($C3,class!$C:$AN,H$1,0) -> 0 | I3: =MAX(class!I:I)-VLOOKUP($C3,class!$C:$AN,I$1,0) -> 0 | J3: =MAX(class!J:J)-VLOOKUP($C3,class!$C:$AN,J$1,0) -> 0
B4: alebolo | C4: alebolo | E4: =MAX(class!E:E)-VLOOKUP($C4,class!$C:$AN,E$1,0) -> 18 | F4: =MAX(class!F:F)-VLOOKUP($C4,class!$C:$AN,F$1,0) -> 29 | G4: =MAX(class!G:G)-VLOOKUP($C4,class!$C:$AN,G$1,0) -> 42.5 | H4: =MAX(class!H:H)-VLOOKUP($C4,class!$C:$AN,H$1,0) -> 51 | I4: =MAX(class!I:I)-VLOOKUP($C4,class!$C:$AN,I$1,0) -> 46 | J4: =MAX(class!J:J)-VLOOKUP($C4,class!$C:$AN,J$1,0) -> 58
B5: OnceUponATime | C5: alexein11 | E5: =MAX(class!E:E)-VLOOKUP($C5,class!$C:$AN,E$1,0) -> 8 | F5: =MAX(class!F:F)-VLOOKUP($C5,class!$C:$AN,F$1,0) -> 17 | G5: =MAX(class!G:G)-VLOOKUP($C5,class!$C:$AN,G$1,0) -> 33 | H5: =MAX(class!H:H)-VLOOKUP($C5,class!$C:$AN,H$1,0) -> 42 | I5: =MAX(class!I:I)-VLOOKUP($C5,class!$C:$AN,I$1,0) -> 53.5 | J5: =MAX(class!J:J)-VLOOKUP($C5,class!$C:$AN,J$1,0) -> 59
B6: Atletico Sereno | C6: andreabrescia | E6: =MAX(class!E:E)-VLOOKUP($C6,class!$C:$AN,E$1,0) -> 9.5 | F6: =MAX(class!F:F)-VLOOKUP($C6,class!$C:$AN,F$1,0) -> 20 | G6: =MAX(class!G:G)-VLOOKUP($C6,class!$C:$AN,G$1,0) -> 22.5 | H6: =MAX(class!H:H)-VLOOKUP($C6,class!$C:$AN,H$1,0) -> 29.5 | I6: =MAX(class!I:I)-VLOOKUP($C6,class!$C:$AN,I$1,0) -> 34 | J6: =MAX(class!J:J)-VLOOKUP($C6,class!$C:$AN,J$1,0) -> 42
B7: I Velieri | C7: bremec | E7: =MAX(class!E:E)-VLOOKUP($C7,class!$C:$AN,E$1,0) -> 16 | F7: =MAX(class!F:F)-VLOOKUP($C7,class!$C:$AN,F$1,0) -> 14 | G7: =MAX(class!G:G)-VLOOKUP($C7,class!$C:$AN,G$1,0) -> 14 | H7: =MAX(class!H:H)-VLOOKUP($C7,class!$C:$AN,H$1,0) -> 19.5 | I7: =MAX(class!I:I)-VLOOKUP($C7,class!$C:$AN,I$1,0) -> 13.5 | J7: =MAX(class!J:J)-VLOOKUP($C7,class!$C:$AN,J$1,0) -> 27
B8: capirexligamilan | C8: capirexligamilan | E8: =MAX(class!E:E)-VLOOKUP($C8,class!$C:$AN,E$1,0) -> 18 | F8: =MAX(class!F:F)-VLOOKUP($C8,class!$C:$AN,F$1,0) -> 21 | G8: =MAX(class!G:G)-VLOOKUP($C8,class!$C:$AN,G$1,0) -> 32.5 | H8: =MAX(class!H:H)-VLOOKUP($C8,class!$C:$AN,H$1,0) -> 50 | I8: =MAX(class!I:I)-VLOOKUP($C8,class!$C:$AN,I$1,0) -> 47 | J8: =MAX(class!J:J)-VLOOKUP($C8,class!$C:$AN,J$1,0) -> 67.5
B9: catania | C9: catania | E9: =MAX(class!E:E)-VLOOKUP($C9,class!$C:$AN,E$1,0) -> 16.5 | F9: =MAX(class!F:F)-VLOOKUP($C9,class!$C:$AN,F$1,0) -> 26 | G9: =MAX(class!G:G)-VLOOKUP($C9,class!$C:$AN,G$1,0) -> 31.5 | H9: =MAX(class!H:H)-VLOOKUP($C9,class!$C:$AN,H$1,0) -> 36 | I9: =MAX(class!I:I)-VLOOKUP($C9,class!$C:$AN,I$1,0) -> 41 | J9: =MAX(class!J:J)-VLOOKUP($C9,class!$C:$AN,J$1,0) -> 51
B10: Brontefantasy | C10: catania5556 | E10: =MAX(class!E:E)-VLOOKUP($C10,class!$C:$AN,E$1,0) -> 21.5 | F10: =MAX(class!F:F)-VLOOKUP($C10,class!$C:$AN,F$1,0) -> 32 | G10: =MAX(class!G:G)-VLOOKUP($C10,class!$C:$AN,G$1,0) -> 36 | H10: =MAX(class!H:H)-VLOOKUP($C10,class!$C:$AN,H$1,0) -> 36 | I10: =MAX(class!I:I)-VLOOKUP($C10,class!$C:$AN,I$1,0) -> 43 | J10: =MAX(class!J:J)-VLOOKUP($C10,class!$C:$AN,J$1,0) -> 63.5
B11: ciro51 | C11: ciro51 | E11: =MAX(class!E:E)-VLOOKUP($C11,class!$C:$AN,E$1,0) -> 7 | F11: =MAX(class!F:F)-VLOOKUP($C11,class!$C:$AN,F$1,0) -> 18 | G11: =MAX(class!G:G)-VLOOKUP($C11,class!$C:$AN,G$1,0) -> 20 | H11: =MAX(class!H:H)-VLOOKUP($C11,class!$C:$AN,H$1,0) -> 35.5 | I11: =MAX(class!I:I)-VLOOKUP($C11,class!$C:$AN,I$1,0) -> 31 | J11: =MAX(class!J:J)-VLOOKUP($C11,class!$C:$AN,J$1,0) -> 36
B12: AsiAssonNaty | C12: clamore22 | E12: =MAX(class!E:E)-VLOOKUP($C12,class!$C:$AN,E$1,0) -> 8 | F12: =MAX(class!F:F)-VLOOKUP($C12,class!$C:$AN,F$1,0) -> 18.5 | G12: =MAX(class!G:G)-VLOOKUP($C12,class!$C:$AN,G$1,0) -> 22 | H12: =MAX(class!H:H)-VLOOKUP($C12,class!$C:$AN,H$1,0) -> 26 | I12: =MAX(class!I:I)-VLOOKUP($C12,class!$C:$AN,I$1,0) -> 25 | J12: =MAX(class!J:J)-VLOOKUP($C12,class!$C:$AN,J$1,0) -> 31
B13: Goomba | C13: crah83 | E13: =MAX(class!E:E)-VLOOKUP($C13,class!$C:$AN,E$1,0) -> 10.5 | F13: =MAX(class!F:F)-VLOOKUP($C13,class!$C:$AN,F$1,0) -> 26 | G13: =MAX(class!G:G)-VLOOKUP($C13,class!$C:$AN,G$1,0) -> 39.5 | H13: =MAX(class!H:H)-VLOOKUP($C13,class!$C:$AN,H$1,0) -> 54 | I13: =MAX(class!I:I)-VLOOKUP($C13,class!$C:$AN,I$1,0) -> 62 | J13: =MAX(class!J:J)-VLOOKUP($C13,class!$C:$AN,J$1,0) -> 64.5
... B36: tombecker | C36: tombecker | E36: =MAX(class!E:E)-VLOOKUP($C36,class!$C:$AN,E$1,0) -> 10.5 | F36: =MAX(class!F:F)-VLOOKUP($C36,class!$C:$AN,F$1,0) -> 20 | G36: =MAX(class!G:G)-VLOOKUP($C36,class!$C:$AN,G$1,0) -> 21.5 | H36: =MAX(class!H:H)-VLOOKUP($C36,class!$C:$AN,H$1,0) -> 31.5 | I36: =MAX(class!I:I)-VLOOKUP($C36,class!$C:$AN,I$1,0) -> 31.5 | J36: =MAX(class!J:J)-VLOOKUP($C36,class!$C:$AN,J$1,0) -> 46.5

Sheet dist_3o
B1: squadra | C1: utente | E1: 3 | F1: 4 | G1: 5 | H1: 6 | I1: 7 | J1: 8 | K1: 9 | L1: 10 | M1: 11 | N1: 12 | O1: 13 | P1: 14 | Q1: 15 | R1: 16 | S1: 17 | T1: 18 | U1: 19 | V1: 20 | W1: 21 | X1: 22 | Y1: 23 | Z1: 24 | AA1: 25 | AB1: 26 | AC1: 27 | AD1: 28 | AE1: 29 | AF1: 30 | AG1: 31 | AH1: 32 | AI1: 33 | AJ1: 34 | AK1: 35 | AL1: 36 | AM1: 37 | AN1: 38
B2: 19angelo85 | C2: 19angelo85 | E2: =LARGE(class!E:E,3)-VLOOKUP($C2,class!$C:$AN,E$1,0) -> 11.5 | F2: =LARGE(class!F:F,3)-VLOOKUP($C2,class!$C:$AN,F$1,0) -> 7 | G2: =LARGE(class!G:G,3)-VLOOKUP($C2,class!$C:$AN,G$1,0) -> 15.5 | H2: =LARGE(class!H:H,3)-VLOOKUP($C2,class!$C:$AN,H$1,0) -> 18 | I2: =LARGE(class!I:I,3)-VLOOKUP($C2,class!$C:$AN,I$1,0) -> 26 | J2: =LARGE(class!J:J,3)-VLOOKUP($C2,class!$C:$AN,J$1,0) -> 22.5
B3: maGGica! | C3: adrianscbr | E3: =LARGE(class!E:E,3)-VLOOKUP($C3,class!$C:$AN,E$1,0) -> -0.5 | F3: =LARGE(class!F:F,3)-VLOOKUP($C3,class!$C:$AN,F$1,0) -> -10 | G3: =LARGE(class!G:G,3)-VLOOKUP($C3,class!$C:$AN,G$1,0) -> -11 | H3: =LARGE(class!H:H,3)-VLOOKUP($C3,class!$C:$AN,H$1,0) -> -18 | I3: =LARGE(class!I:I,3)-VLOOKUP($C3,class!$C:$AN,I$1,0) -> -17.5 | J3: =LARGE(class!J:J,3)-VLOOKUP($C3,class!$C:$AN,J$1,0) -> -29
B4: alebolo | C4: alebolo | E4: =LARGE(class!E:E,3)-VLOOKUP($C4,class!$C:$AN,E$1,0) -> 16.5 | F4: =LARGE(class!F:F,3)-VLOOKUP($C4,class!$C:$AN,F$1,0) -> 19 | G4: =LARGE(class!G:G,3)-VLOOKUP($C4,class!$C:$AN,G$1,0) -> 31.5 | H4: =LARGE(class!H:H,3)-VLOOKUP($C4,class!$C:$AN,H$1,0) -> 33 | I4: =LARGE(class!I:I,3)-VLOOKUP($C4,class!$C:$AN,I$1,0) -> 28.5 | J4: =LARGE(class!J:J,3)-VLOOKUP($C4,class!$C:$AN,J$1,0) -> 29
B5: OnceUponATime | C5: alexein11 | E5: =LARGE(class!E:E,3)-VLOOKUP($C5,class!$C:$AN,E$1,0) -> 6.5 | F5: =LARGE(class!F:F,3)-VLOOKUP($C5,class!$C:$AN,F$1,0) -> 7 | G5: =LARGE(class!G:G,3)-VLOOKUP($C5,class!$C:$AN,G$1,0) -> 22 | H5: =LARGE(class!H:H,3)-VLOOKUP($C5,class!$C:$AN,H$1,0) -> 24 | I5: =LARGE(class!I:I,3)-VLOOKUP($C5,class!$C:$AN,I$1,0) -> 36 | J5: =LARGE(class!J:J,3)-VLOOKUP($C5,class!$C:$AN,J$1,0) -> 30
B6: Atletico Sereno | C6: andreabrescia | E6: =LARGE(class!E:E,3)-VLOOKUP($C6,class!$C:$AN,E$1,0) -> 8 | F6: =LARGE(class!F:F,3)-VLOOKUP($C6,class!$C:$AN,F$1,0) -> 10 | G6: =LARGE(class!G:G,3)-VLOOKUP($C6,class!$C:$AN,G$1,0) -> 11.5 | H6: =LARGE(class!H:H,3)-VLOOKUP($C6,class!$C:$AN,H$1,0) -> 11.5 | I6: =LARGE(class!I:I,3)-VLOOKUP($C6,class!$C:$AN,I$1,0) -> 16.5 | J6: =LARGE(class!J:J,3)-VLOOKUP($C6,class!$C:$AN,J$1,0) -> 13
B7: I Velieri | C7: bremec | E7: =LARGE(class!E:E,3)-VLOOKUP($C7,class!$C:$AN,E$1,0) -> 14.5 | F7: =LARGE(class!F:F,3)-VLOOKUP($C7,class!$C:$AN,F$1,0) -> 4 | G7: =LARGE(class!G:G,3)-VLOOKUP($C7,class!$C:$AN,G$1,0) -> 3 | H7: =LARGE(class!H:H,3)-VLOOKUP($C7,class!$C:$AN,H$1,0) -> 1.5 | I7: =LARGE(class!I:I,3)-VLOOKUP($C7,class!$C:$AN,I$1,0) -> -4 | J7: =LARGE(class!J:J,3)-VLOOKUP($C7,class!$C:$AN,J$1,0) -> -2
B8: capirexligamilan | C8: capirexligamilan | E8: =LARGE(class!E:E,3)-VLOOKUP($C8,class!$C:$AN,E$1,0) -> 16.5 | F8: =LARGE(class!F:F,3)-VLOOKUP($C8,class!$C:$AN,F$1,0) -> 11 | G8: =LARGE(class!G:G,3)-VLOOKUP($C8,class!$C:$AN,G$1,0) -> 21.5 | H8: =LARGE(class!H:H,3)-VLOOKUP($C8,class!$C:$AN,H$1,0) -> 32 | I8: =LARGE(class!I:I,3)-VLOOKUP($C8,class!$C:$AN,I$1,0) -> 29.5 | J8: =LARGE(class!J:J,3)-VLOOKUP($C8,class!$C:$AN,J$1,0) -> 38.5
B9: catania | C9: catania | E9: =LARGE(class!E:E,3)-VLOOKUP($C9,class!$C:$AN,E$1,0) -> 15 | F9: =LARGE(class!F:F,3)-VLOOKUP($C9,class!$C:$AN,F$1,0) -> 16 | G9: =LARGE(class!G:G,3)-VLOOKUP($C9,class!$C:$AN,G$1,0) -> 20.5 | H9: =LARGE(class!H:H,3)-VLOOKUP($C9,class!$C:$AN,H$1,0) -> 18 | I9: =LARGE(class!I:I,3)-VLOOKUP($C9,class!$C:$AN,I$1,0) -> 23.5 | J9: =LARGE(class!J:J,3)-VLOOKUP($C9,class!$C:$AN,J$1,0) -> 22
B10: Brontefantasy | C10: catania5556 | E10: =LARGE(class!E:E,3)-VLOOKUP($C10,class!$C:$AN,E$1,0) -> 20 | F10: =LARGE(class!F:F,3)-VLOOKUP($C10,class!$C:$AN,F$1,0) -> 22 | G10: =LARGE(class!G:G,3)-VLOOKUP($C10,class!$C:$AN,G$1,0) -> 25 | H10: =LARGE(class!H:H,3)-VLOOKUP($C10,class!$C:$AN,H$1,0) -> 18 | I10: =LARGE(class!I:I,3)-VLOOKUP($C10,class!$C:$AN,I$1,0) -> 25.5 | J10: =LARGE(class!J:J,3)-VLOOKUP($C10,class!$C:$AN,J$1,0) -> 34.5
B11: ciro51 | C11: ciro51 | E11: =LARGE(class!E:E,3)-VLOOKUP($C11,class!$C:$AN,E$1,0) -> 5.5 | F11: =LARGE(class!F:F,3)-VLOOKUP($C11,class!$C:$AN,F$1,0) -> 8 | G11: =LARGE(class!G:G,3)-VLOOKUP($C11,class!$C:$AN,G$1,0) -> 9 | H11: =LARGE(class!H:H,3)-VLOOKUP($C11,class!$C:$AN,H$1,0) -> 17.5 | I11: =LARGE(class!I:I,3)-VLOOKUP($C11,class!$C:$AN,I$1,0) -> 13.5 | J11: =LARGE(class!J:J,3)-VLOOKUP($C11,class!$C:$AN,J$1,0) -> 7
B12: AsiAssonNaty | C12: clamore22 | E12: =LARGE(class!E:E,3)-VLOOKUP($C12,class!$C:$AN,E$1,0) -> 6.5 | F12: =LARGE(class!F:F,3)-VLOOKUP($C12,class!$C:$AN,F$1,0) -> 8.5 | G12: =LARGE(class!G:G,3)-VLOOKUP($C12,class!$C:$AN,G$1,0) -> 11 | H12: =LARGE(class!H:H,3)-VLOOKUP($C12,class!$C:$AN,H$1,0) -> 8 | I12: =LARGE(class!I:I,3)-VLOOKUP($C12,class!$C:$AN,I$1,0) -> 7.5 | J12: =LARGE(class!J:J,3)-VLOOKUP($C12,class!$C:$AN,J$1,0) -> 2
B13: Goomba | C13: crah83 | E13: =LARGE(class!E:E,3)-VLOOKUP($C13,class!$C:$AN,E$1,0) -> 9 | F13: =LARGE(class!F:F,3)-VLOOKUP($C13,class!$C:$AN,F$1,0) -> 16 | G13: =LARGE(class!G:G,3)-VLOOKUP($C13,class!$C:$AN,G$1,0) -> 28.5 | H13: =LARGE(class!H:H,3)-VLOOKUP($C13,class!$C:$AN,H$1,0) -> 36 | I13: =LARGE(class!I:I,3)-VLOOKUP($C13,class!$C:$AN,I$1,0) -> 44.5 | J13: =LARGE(class!J:J,3)-VLOOKUP($C13,class!$C:$AN,J$1,0) -> 35.5
... B36: tombecker | C36: tombecker | E36: =LARGE(class!E:E,3)-VLOOKUP($C36,class!$C:$AN,E$1,0) -> 9 | F36: =LARGE(class!F:F,3)-VLOOKUP($C36,class!$C:$AN,F$1,0) -> 10 | G36: =LARGE(class!G:G,3)-VLOOKUP($C36,class!$C:$AN,G$1,0) -> 10.5 | H36: =LARGE(class!H:H,3)-VLOOKUP($C36,class!$C:$AN,H$1,0) -> 13.5 | I36: =LARGE(class!I:I,3)-VLOOKUP($C36,class!$C:$AN,I$1,0) -> 14 | J36: =LARGE(class!J:J,3)-VLOOKUP($C36,class!$C:$AN,J$1,0) -> 17.5

Sheet dist_6o
B1: squadra | C1: utente | E1: 3 | F1: 4 | G1: 5 | H1: 6 | I1: 7 | J1: 8 | K1: 9 | L1: 10 | M1: 11 | N1: 12 | O1: 13 | P1: 14 | Q1: 15 | R1: 16 | S1: 17 | T1: 18 | U1: 19 | V1: 20 | W1: 21 | X1: 22 | Y1: 23 | Z1: 24 | AA1: 25 | AB1: 26 | AC1: 27 | AD1: 28 | AE1: 29 | AF1: 30 | AG1: 31 | AH1: 32 | AI1: 33 | AJ1: 34 | AK1: 35 | AL1: 36 | AM1: 37 | AN1: 38
B2: 19angelo85 | C2: 19angelo85 | E2: =LARGE(class!E:E,6)-VLOOKUP($C2,class!$C:$AN,E$1,0) -> 8 | F2: =LARGE(class!F:F,6)-VLOOKUP($C2,class!$C:$AN,F$1,0) -> 3 | G2: =LARGE(class!G:G,6)-VLOOKUP($C2,class!$C:$AN,G$1,0) -> 10 | H2: =LARGE(class!H:H,6)-VLOOKUP($C2,class!$C:$AN,H$1,0) -> 10.5 | I2: =LARGE(class!I:I,6)-VLOOKUP($C2,class!$C:$AN,I$1,0) -> 20.5 | J2: =LARGE(class!J:J,6)-VLOOKUP($C2,class!$C:$AN,J$1,0) -> 16.5
B3: maGGica! | C3: adrianscbr | E3: =LARGE(class!E:E,6)-VLOOKUP($C3,class!$C:$AN,E$1,0) -> -4 | F3: =LARGE(class!F:F,6)-VLOOKUP($C3,class!$C:$AN,F$1,0) -> -14 | G3: =LARGE(class!G:G,6)-VLOOKUP($C3,class!$C:$AN,G$1,0) -> -16.5 | H3: =LARGE(class!H:H,6)-VLOOKUP($C3,class!$C:$AN,H$1,0) -> -25.5 | I3: =LARGE(class!I:I,6)-VLOOKUP($C3,class!$C:$AN,I$1,0) -> -23 | J3: =LARGE(class!J:J,6)-VLOOKUP($C3,class!$C:$AN,J$1,0) -> -35
B4: alebolo | C4: alebolo | E4: =LARGE(class!E:E,6)-VLOOKUP($C4,class!$C:$AN,E$1,0) -> 13 | F4: =LARGE(class!F:F,6)-VLOOKUP($C4,class!$C:$AN,F$1,0) -> 15 | G4: =LARGE(class!G:G,6)-VLOOKUP($C4,class!$C:$AN,G$1,0) -> 26 | H4: =LARGE(class!H:H,6)-VLOOKUP($C4,class!$C:$AN,H$1,0) -> 25.5 | I4: =LARGE(class!I:I,6)-VLOOKUP($C4,class!$C:$AN,I$1,0) -> 23 | J4: =LARGE(class!J:J,6)-VLOOKUP($C4,class!$C:$AN,J$1,0) -> 23
B5: OnceUponATime | C5: alexein11 | E5: =LARGE(class!E:E,6)-VLOOKUP($C5,class!$C:$AN,E$1,0) -> 3 | F5: =LARGE(class!F:F,6)-VLOOKUP($C5,class!$C:$AN,F$1,0) -> 3 | G5: =LARGE(class!G:G,6)-VLOOKUP($C5,class!$C:$AN,G$1,0) -> 16.5 | H5: =LARGE(class!H:H,6)-VLOOKUP($C5,class!$C:$AN,H$1,0) -> 16.5 | I5: =LARGE(class!I:I,6)-VLOOKUP($C5,class!$C:$AN,I$1,0) -> 30.5 | J5: =LARGE(class!J:J,6)-VLOOKUP($C5,class!$C:$AN,J$1,0) -> 24
B6: Atletico Sereno | C6: andreabrescia | E6: =LARGE(class!E:E,6)-VLOOKUP($C6,class!$C:$AN,E$1,0) -> 4.5 | F6: =LARGE(class!F:F,6)-VLOOKUP($C6,class!$C:$AN,F$1,0) -> 6 | G6: =LARGE(class!G:G,6)-VLOOKUP($C6,class!$C:$AN,G$1,0) -> 6 | H6: =LARGE(class!H:H,6)-VLOOKUP($C6,class!$C:$AN,H$1,0) -> 4 | I6: =LARGE(class!I:I,6)-VLOOKUP($C6,class!$C:$AN,I$1,0) -> 11 | J6: =LARGE(class!J:J,6)-VLOOKUP($C6,class!$C:$AN,J$1,0) -> 7
B7: I Velieri | C7: bremec | E7: =LARGE(class!E:E,6)-VLOOKUP($C7,class!$C:$AN,E$1,0) -> 11 | F7: =LARGE(class!F:F,6)-VLOOKUP($C7,class!$C:$AN,F$1,0) -> 0 | G7: =LARGE(class!G:G,6)-VLOOKUP($C7,class!$C:$AN,G$1,0) -> -2.5 | H7: =LARGE(class!H:H,6)-VLOOKUP($C7,class!$C:$AN,H$1,0) -> -6 | I7: =LARGE(class!I:I,6)-VLOOKUP($C7,class!$C:$AN,I$1,0) -> -9.5 | J7: =LARGE(class!J:J,6)-VLOOKUP($C7,class!$C:$AN,J$1,0) -> -8
B8: capirexligamilan | C8: capirexligamilan | E8: =LARGE(class!E:E,6)-VLOOKUP($C8,class!$C:$AN,E$1,0) -> 13 | F8: =LARGE(class!F:F,6)-VLOOKUP($C8,class!$C:$AN,F$1,0) -> 7 | G8: =LARGE(class!G:G,6)-VLOOKUP($C8,class!$C:$AN,G$1,0) -> 16 | H8: =LARGE(class!H:H,6)-VLOOKUP($C8,class!$C:$AN,H$1,0) -> 24.5 | I8: =LARGE(class!I:I,6)-VLOOKUP($C8,class!$C:$AN,I$1,0) -> 24 | J8: =LARGE(class!J:J,6)-VLOOKUP($C8,class!$C:$AN,J$1,0) -> 32.5
B9: catania | C9: catania | E9: =LARGE(class!E:E,6)-VLOOKUP($C9,class!$C:$AN,E$1,0) -> 11.5 | F9: =LARGE(class!F:F,6)-VLOOKUP($C9,class!$C:$AN,F$1,0) -> 12 | G9: =LARGE(class!G:G,6)-VLOOKUP($C9,class!$C:$AN,G$1,0) -> 15 | H9: =LARGE(class!H:H,6)-VLOOKUP($C9,class!$C:$AN,H$1,0) -> 10.5 | I9: =LARGE(class!I:I,6)-VLOOKUP($C9,class!$C:$AN,I$1,0) -> 18 | J9: =LARGE(class!J:J,6)-VLOOKUP($C9,class!$C:$AN,J$1,0) -> 16
B10: Brontefantasy | C10: catania5556 | E10: =LARGE(class!E:E,6)-VLOOKUP($C10,class!$C:$AN,E$1,0) -> 16.5 | F10: =LARGE(class!F:F,6)-VLOOKUP($C10,class!$C:$AN,F$1,0) -> 18 | G10: =LARGE(class!G:G,6)-VLOOKUP($C10,class!$C:$AN,G$1,0) -> 19.5 | H10: =LARGE(class!H:H,6)-VLOOKUP($C10,class!$C:$AN,H$1,0) -> 10.5 | I10: =LARGE(class!I:I,6)-VLOOKUP($C10,class!$C:$AN,I$1,0) -> 20 | J10: =LARGE(class!J:J,6)-VLOOKUP($C10,class!$C:$AN,J$1,0) -> 28.5
B11: ciro51 | C11: ciro51 | E11: =LARGE(class!E:E,6)-VLOOKUP($C11,class!$C:$AN,E$1,0) -> 2 | F11: =LARGE(class!F:F,6)-VLOOKUP($C11,class!$C:$AN,F$1,0) -> 4 | G11: =LARGE(class!G:G,6)-VLOOKUP($C11,class!$C:$AN,G$1,0) -> 3.5 | H11: =LARGE(class!H:H,6)-VLOOKUP($C11,class!$C:$AN,H$1,0) -> 10 | I11: =LARGE(class!I:I,6)-VLOOKUP($C11,class!$C:$AN,I$1,0) -> 8 | J11: =LARGE(class!J:J,6)-VLOOKUP($C11,class!$C:$AN,J$1,0) -> 1
B12: AsiAssonNaty | C12: clamore22 | E12: =LARGE(class!E:E,6)-VLOOKUP($C12,class!$C:$AN,E$1,0) -> 3 | F12: =LARGE(class!F:F,6)-VLOOKUP($C12,class!$C:$AN,F$1,0) -> 4.5 | G12: =LARGE(class!G:G,6)-VLOOKUP($C12,class!$C:$AN,G$1,0) -> 5.5 | H12: =LARGE(class!H:H,6)-VLOOKUP($C12,class!$C:$AN,H$1,0) -> 0.5 | I12: =LARGE(class!I:I,6)-VLOOKUP($C12,class!$C:$AN,I$1,0) -> 2 | J12: =LARGE(class!J:J,6)-VLOOKUP($C12,class!$C:$AN,J$1,0) -> -4
B13: Goomba | C13: crah83 | E13: =LARGE(class!E:E,6)-VLOOKUP($C13,class!$C:$AN,E$1,0) -> 5.5 | F13: =LARGE(class!F:F,6)-VLOOKUP($C13,class!$C:$AN,F$1,0) -> 12 | G13: =LARGE(class!G:G,6)-VLOOKUP($C13,class!$C:$AN,G$1,0) -> 23 | H13: =LARGE(class!H:H,6)-VLOOKUP($C13,class!$C:$AN,H$1,0) -> 28.5 | I13: =LARGE(class!I:I,6)-VLOOKUP($C13,class!$C:$AN,I$1,0) -> 39 | J13: =LARGE(class!J:J,6)-VLOOKUP($C13,class!$C:$AN,J$1,0) -> 29.5
... B36: tombecker | C36: tombecker | E36: =LARGE(class!E:E,6)-VLOOKUP($C36,class!$C:$AN,E$1,0) -> 5.5 | F36: =LARGE(class!F:F,6)-VLOOKUP($C36,class!$C:$AN,F$1,0) -> 6 | G36: =LARGE(class!G:G,6)-VLOOKUP($C36,class!$C:$AN,G$1,0) -> 5 | H36: =LARGE(class!H:H,6)-VLOOKUP($C36,class!$C:$AN,H$1,0) -> 6 | I36: =LARGE(class!I:I,6)-VLOOKUP($C36,class!$C:$AN,I$1,0) -> 8.5 | J36: =LARGE(class!J:J,6)-VLOOKUP($C36,class!$C:$AN,J$1,0) -> 11.5

Sheet coppa
B1: squadra | C1: utente | E1: 3 | F1: 4 | G1: 5 | H1: 6 | I1: 7 | J1: C 1^ | K1: 8 | L1: 9 | M1: 10 | N1: 11 | O1: 12 | P1: C 2^ | Q1: 13 | R1: 14 | S1: 15 | T1: 16 | U1: 17 | V1: C 3^ | W1: 18 | X1: 19 | Y1: 20 | Z1: 21 | AA1: 22 | AB1: 23 | AC1: C 4^ | AD1: 24 | AE1: 25 | AF1: 26 | AG1: 27 | AH1: 28 | AI1: C 5^ | AJ1: 29 | AK1: 30 | AL1: 31 | AM1: 32 | AN1: 33 | AO1: 34 | AP1: 35 | AQ1: 36 | AR1: 37 | AS1: 38
A2: X | B2: maGGica! | C2: adrianscbr | E2: =giorn!E3 -> 84.5 | F2: =giorn!F3 -> 71.5 | G2: =giorn!G3 -> 71 | H2: =giorn!H3 -> 82 | I2: =giorn!I3 -> 72 | J2: =SUM(E2:I2) -> 381 | K2: =giorn!J3 -> 83 | P2: =SUM(K2:O2) -> 83 | V2: =SUM(Q2:U2) -> 0 | AC2: =SUM(X2:AB2) -> 0 | AI2: =SUM(AD2:AH2) -> 0
B3: Goomba | C3: crah83 | E3: =giorn!E13 -> 75 | F3: =giorn!F13 -> 55 | G3: =giorn!G13 -> 57.5 | H3: =giorn!H13 -> 67.5 | I3: =giorn!I13 -> 64 | J3: =SUM(E3:I3) -> 319 | K3: =giorn!J13 -> 80.5 | P3: =SUM(K3:O3) -> 80.5 | V3: =SUM(Q3:U3) -> 0 | AC3: =SUM(X3:AB3) -> 0 | AI3: =SUM(AD3:AH3) -> 0
B4: Fantacloe | C4: merk17 | E4: =giorn!E24 -> 81 | F4: =giorn!F24 -> 64 | G4: =giorn!G24 -> 62.5 | H4: =giorn!H24 -> 69 | I4: =giorn!I24 -> 73.5 | J4: =SUM(E4:I4) -> 350 | K4: =giorn!J24 -> 79 | P4: =SUM(K4:O4) -> 79 | V4: =SUM(Q4:U4) -> 0 | AC4: =SUM(X4:AB4) -> 0 | AI4: =SUM(AD4:AH4) -> 0
B5: ciro51 | C5: ciro51 | E5: =giorn!E11 -> 78.5 | F5: =giorn!F11 -> 59.5 | G5: =giorn!G11 -> 69 | H5: =giorn!H11 -> 66.5 | I5: =giorn!I11 -> 76.5 | J5: =SUM(E5:I5) -> 350 | K5: =giorn!J11 -> 78 | P5: =SUM(K5:O5) -> 78 | V5: =SUM(Q5:U5) -> 0 | AC5: =SUM(X5:AB5) -> 0 | AI5: =SUM(AD5:AH5) -> 0
B6: OnceUponATime | C6: alexein11 | E6: =giorn!E5 -> 77.5 | F6: =giorn!F5 -> 61.5 | G6: =giorn!G5 -> 55 | H6: =giorn!H5 -> 73 | I6: =giorn!I5 -> 60.5 | J6: =SUM(E6:I6) -> 327.5 | K6: =giorn!J5 -> 77.5 | P6: =SUM(K6:O6) -> 77.5 | V6: =SUM(Q6:U6) -> 0 | AC6: =SUM(X6:AB6) -> 0 | AI6: =SUM(AD6:AH6) -> 0
B7: AsiAssonNaty | C7: clamore22 | E7: =giorn!E12 -> 77.5 | F7: =giorn!F12 -> 60 | G7: =giorn!G12 -> 67.5 | H7: =giorn!H12 -> 78 | I7: =giorn!I12 -> 73 | J7: =SUM(E7:I7) -> 356 | K7: =giorn!J12 -> 77 | P7: =SUM(K7:O7) -> 77 | V7: =SUM(Q7:U7) -> 0 | AC7: =SUM(X7:AB7) -> 0 | AI7: =SUM(AD7:AH7) -> 0
B8: A.C. Javier Pastore | C8: matteo9502 | E8: =giorn!E22 -> 71.5 | F8: =giorn!F22 -> 65 | G8: =giorn!G22 -> 63.5 | H8: =giorn!H22 -> 57.5 | I8: =giorn!I22 -> 81 | J8: =SUM(E8:I8) -> 338.5 | K8: =giorn!J22 -> 76 | P8: =SUM(K8:O8) -> 76 | V8: =SUM(Q8:U8) -> 0 | AC8: =SUM(X8:AB8) -> 0 | AI8: =SUM(AD8:AH8) -> 0
B9: Atletico Sereno | C9: andreabrescia | E9: =giorn!E6 -> 76 | F9: =giorn!F6 -> 60 | G9: =giorn!G6 -> 68.5 | H9: =giorn!H6 -> 75 | I9: =giorn!I6 -> 67.5 | J9: =SUM(E9:I9) -> 347 | K9: =giorn!J6 -> 75 | P9: =SUM(K9:O9) -> 75 | V9: =SUM(Q9:U9) -> 0 | AC9: =SUM(X9:AB9) -> 0 | AI9: =SUM(AD9:AH9) -> 0
B10: 19angelo85 | C10: 19angelo85 | E10: =giorn!E2 -> 72.5 | F10: =giorn!F2 -> 66.5 | G10: =giorn!G2 -> 61.5 | H10: =giorn!H2 -> 72.5 | I10: =giorn!I2 -> 64.5 | J10: =SUM(E10:I10) -> 337.5 | K10: =giorn!J2 -> 75 | P10: =SUM(K10:O10) -> 75 | V10: =SUM(Q10:U10) -> 0 | AC10: =SUM(X10:AB10) -> 0 | AI10: =SUM(AD10:AH10) -> 0
B11: Eroi nel vento | C11: ogeid36 | E11: =giorn!E27 -> 75 | F11: =giorn!F27 -> 71 | G11: =giorn!G27 -> 71.5 | H11: =giorn!H27 -> 73.5 | I11: =giorn!I27 -> 70 | J11: =SUM(E11:I11) -> 361 | K11: =giorn!J27 -> 74 | P11: =SUM(K11:O11) -> 74 | V11: =SUM(Q11:U11) -> 0 | AC11: =SUM(X11:AB11) -> 0 | AI11: =SUM(AD11:AH11) -> 0
B12: catania | C12: catania | E12: =giorn!E9 -> 69 | F12: =giorn!F9 -> 61 | G12: =giorn!G9 -> 65.5 | H12: =giorn!H9 -> 77.5 | I12: =giorn!I9 -> 67 | J12: =SUM(E12:I12) -> 340 | K12: =giorn!J9 -> 73 | P12: =SUM(K12:O12) -> 73 | V12: =SUM(Q12:U12) -> 0 | AC12: =SUM(X12:AB12) -> 0 | AI12: =SUM(AD12:AH12) -> 0
B13: Sfus Team | C13: sfuscio85 | E13: =giorn!E34 -> 80.5 | F13: =giorn!F34 -> 57.5 | G13: =giorn!G34 -> 66.5 | H13: =giorn!H34 -> 74 | I13: =giorn!I34 -> 79.5 | J13: =SUM(E13:I13) -> 358 | K13: =giorn!J34 -> 71 | P13: =SUM(K13:O13) -> 71 | V13: =SUM(Q13:U13) -> 0 | AC13: =SUM(X13:AB13) -> 0 | AI13: =SUM(AD13:AH13) -> 0
B14: diego89 | C14: diego89 | E14: =giorn!E14 -> 78.5 | F14: =giorn!F14 -> 54 | G14: =giorn!G14 -> 64 | H14: =giorn!H14 -> 72 | I14: =giorn!I14 -> 74 | J14: =SUM(E14:I14) -> 342.5 | K14: =giorn!J14 -> 71 | P14: =SUM(K14:O14) -> 71 | V14: =SUM(Q14:U14) -> 0 | AC14: =SUM(X14:AB14) -> 0 | AI14: =SUM(AD14:AH14) -> 0
B15: alebolo | C15: alebolo | E15: =giorn!E4 -> 67.5 | F15: =giorn!F4 -> 59.5 | G15: =giorn!G4 -> 57.5 | H15: =giorn!H4 -> 73.5 | I15: =giorn!I4 -> 77 | J15: =SUM(E15:I15) -> 335 | K15: =giorn!J4 -> 71 | P15: =SUM(K15:O15) -> 71 | V15: =SUM(Q15:U15) -> 0 | AC15: =SUM(X15:AB15) -> 0 | AI15: =SUM(AD15:AH15) -> 0
B16: Grun | C16: grunluca | E16: =giorn!E17 -> 80.5 | F16: =giorn!F17 -> 59.5 | G16: =giorn!G17 -> 75 | H16: =giorn!H17 -> 68.5 | I16: =giorn!I17 -> 69.5 | J16: =SUM(E16:I16) -> 353 | K16: =giorn!J17 -> 70.5 | P16: =SUM(K16:O16) -> 70.5 | V16: =SUM(Q16:U16) -> 0 | AC16: =SUM(X16:AB16) -> 0 | AI16: =SUM(AD16:AH16) -> 0
B17: Sydney FC | C17: ruicosta | E17: =giorn!E32 -> 67.5 | F17: =giorn!F32 -> 61.5 | G17: =giorn!G32 -> 65 | H17: =giorn!H32 -> 80.5 | I17: =giorn!I32 -> 75.5 | J17: =SUM(E17:I17) -> 350 | K17: =giorn!J32 -> 70.5 | P17: =SUM(K17:O17) -> 70.5 | V17: =SUM(Q17:U17) -> 0 | AC17: =SUM(X17:AB17) -> 0 | AI17: =SUM(AD17:AH17) -> 0
A18: X | B18: I Velieri | C18: bremec | E18: =giorn!E7 -> 69.5 | F18: =giorn!F7 -> 72.5 | G18: =giorn!G7 -> 71 | H18: =giorn!H7 -> 76.5 | I18: =giorn!I7 -> 78 | J18: =SUM(E18:I18) -> 367.5 | K18: =giorn!J7 -> 69.5 | P18: =SUM(K18:O18) -> 69.5 | V18: =SUM(Q18:U18) -> 0 | AC18: =SUM(X18:AB18) -> 0 | AI18: =SUM(AD18:AH18) -> 0
B19: REAL COSENZA 1914 | C19: flaviotto | E19: =giorn!E16 -> 69 | F19: =giorn!F16 -> 63.5 | G19: =giorn!G16 -> 67.5 | H19: =giorn!H16 -> 74.5 | I19: =giorn!I16 -> 70 | J19: =SUM(E19:I19) -> 344.5 | K19: =giorn!J16 -> 69.5 | P19: =SUM(K19:O19) -> 69.5 | V19: =SUM(Q19:U19) -> 0 | AC19: =SUM(X19:AB19) -> 0 | AI19: =SUM(AD19:AH19) -> 0
A20: X | B20: Lokomotiv RUMePERA | C20: rumepera | E20: =giorn!E33 -> 85.5 | F20: =giorn!F33 -> 60 | G20: =giorn!G33 -> 61.5 | H20: =giorn!H33 -> 76 | I20: =giorn!I33 -> 80.5 | J20: =SUM(E20:I20) -> 363.5 | K20: =giorn!J33 -> 68 | P20: =SUM(K20:O20) -> 68 | V20: =SUM(Q20:U20) -> 0 | AC20: =SUM(X20:AB20) -> 0 | AI20: =SUM(AD20:AH20) -> 0
B21: tombecker | C21: tombecker | E21: =giorn!E36 -> 75 | F21: =giorn!F36 -> 61 | G21: =giorn!G36 -> 69.5 | H21: =giorn!H36 -> 72 | I21: =giorn!I36 -> 72 | J21: =SUM(E21:I21) -> 349.5 | K21: =giorn!J36 -> 68 | P21: =SUM(K21:O21) -> 68 | V21: =SUM(Q21:U21) -> 0 | AC21: =SUM(X21:AB21) -> 0 | AI21: =SUM(AD21:AH21) -> 0
B22: Van Persie sul campo | C22: thor01 | E22: =giorn!E35 -> 71 | F22: =giorn!F35 -> 60.5 | G22: =giorn!G35 -> 61.5 | H22: =giorn!H35 -> 83 | I22: =giorn!I35 -> 57.5 | J22: =SUM(E22:I22) -> 333.5 | K22: =giorn!J35 -> 68 | P22: =SUM(K22:O22) -> 68 | V22: =SUM(Q22:U22) -> 0 | AC22: =SUM(X22:AB22) -> 0 | AI22: =SUM(AD22:AH22) -> 0
B23: jujula | C23: jujula | E23: =giorn!E18 -> 74 | F23: =giorn!F18 -> 60.5 | G23: =giorn!G18 -> 71.5 | H23: =giorn!H18 -> 71.5 | I23: =giorn!I18 -> 75.5 | J23: =SUM(E23:I23) -> 353 | K23: =giorn!J18 -> 67.5 | P23: =SUM(K23:O23) -> 67.5 | V23: =SUM(Q23:U23) -> 0 | AC23: =SUM(X23:AB23) -> 0 | AI23: =SUM(AD23:AH23) -> 0
B24: meridiano | C24: meridiano | E24: =giorn!E23 -> 84 | F24: =giorn!F23 -> 66 | G24: =giorn!G23 -> 60.5 | H24: =giorn!H23 -> 64.5 | I24: =giorn!I23 -> 64.5 | J24: =SUM(E24:I24) -> 339.5 | K24: =giorn!J23 -> 67.5 | P24: =SUM(K24:O24) -> 67.5 | V24: =SUM(Q24:U24) -> 0 | AC24: =SUM(X24:AB24) -> 0 | AI24: =SUM(AD24:AH24) -> 0
B25: NOCERA*ULTRAS | C25: molosso | E25: =giorn!E25 -> 69 | F25: =giorn!F25 -> 60 | G25: =giorn!G25 -> 69.5 | H25: =giorn!H25 -> 62.5 | I25: =giorn!I25 -> 70.5 | J25: =SUM(E25:I25) -> 331.5 | K25: =giorn!J25 -> 66 | P25: =SUM(K25:O25) -> 66 | V25: =SUM(Q25:U25) -> 0 | AC25: =SUM(X25:AB25) -> 0 | AI25: =SUM(AD25:AH25) -> 0
B26: napule | C26: napule | E26: =giorn!E26 -> 66.5 | F26: =giorn!F26 -> 60 | G26: =giorn!G26 -> 70.5 | H26: =giorn!H26 -> 66.5 | I26: =giorn!I26 -> 67 | J26: =SUM(E26:I26) -> 330.5 | K26: =giorn!J26 -> 66 | P26: =SUM(K26:O26) -> 66 | V26: =SUM(Q26:U26) -> 0 | AC26: =SUM(X26:AB26) -> 0 | AI26: =SUM(AD26:AH26) -> 0
B27: mastrolindo | C27: mastrolindo | E27: =giorn!E21 -> 78.5 | F27: =giorn!F21 -> 62 | G27: =giorn!G21 -> 75.5 | H27: =giorn!H21 -> 78 | I27: =giorn!I21 -> 68 | J27: =SUM(E27:I27) -> 362 | K27: =giorn!J21 -> 65.5 | P27: =SUM(K27:O27) -> 65.5 | V27: =SUM(Q27:U27) -> 0 | AC27: =SUM(X27:AB27) -> 0 | AI27: =SUM(AD27:AH27) -> 0
B28: Peggiononsipuòfare | C28: kolao95 | E28: =giorn!E19 -> 68 | F28: =giorn!F19 -> 69.5 | G28: =giorn!G19 -> 60 | H28: =giorn!H19 -> 69.5 | I28: =giorn!I19 -> 70.5 | J28: =SUM(E28:I28) -> 337.5 | K28: =giorn!J19 -> 65.5 | P28: =SUM(K28:O28) -> 65.5 | V28: =SUM(Q28:U28) -> 0 | AC28: =SUM(X28:AB28) -> 0 | AI28: =SUM(AD28:AH28) -> 0
B29: Forza Taranto | C29: rossoblu | E29: =giorn!E31 -> 69 | F29: =giorn!F31 -> 61 | G29: =giorn!G31 -> 76.5 | H29: =giorn!H31 -> 83 | I29: =giorn!I31 -> 67 | J29: =SUM(E29:I29) -> 356.5 | K29: =giorn!J31 -> 64.5 | P29: =SUM(K29:O29) -> 64.5 | V29: =SUM(Q29:U29) -> 0 | AC29: =SUM(X29:AB29) -> 0 | AI29: =SUM(AD29:AH29) -> 0
B30: Santamonica | C30: realsantamonica | E30: =giorn!E30 -> 68 | F30: =giorn!F30 -> 64.5 | G30: =giorn!G30 -> 72.5 | H30: =giorn!H30 -> 67.5 | I30: =giorn!I30 -> 66.5 | J30: =SUM(E30:I30) -> 339 | K30: =giorn!J30 -> 64.5 | P30: =SUM(K30:O30) -> 64.5 | V30: =SUM(Q30:U30) -> 0 | AC30: =SUM(X30:AB30) -> 0 | AI30: =SUM(AD30:AH30) -> 0
B31: piero79 | C31: piero80 | E31: =giorn!E28 -> 68 | F31: =giorn!F28 -> 62 | G31: =giorn!G28 -> 71 | H31: =giorn!H28 -> 70 | I31: =giorn!I28 -> 68 | J31: =SUM(E31:I31) -> 339 | K31: =giorn!J28 -> 63.5 | P31: =SUM(K31:O31) -> 63.5 | V31: =SUM(Q31:U31) -> 0 | AC31: =SUM(X31:AB31) -> 0 | AI31: =SUM(AD31:AH31) -> 0
B32: Fanta Lightman | C32: lightman | E32: =giorn!E20 -> 81 | F32: =giorn!F20 -> 53 | G32: =giorn!G20 -> 71 | H32: =giorn!H20 -> 70.5 | I32: =giorn!I20 -> 68.5 | J32: =SUM(E32:I32) -> 344 | K32: =giorn!J20 -> 63 | P32: =SUM(K32:O32) -> 63 | V32: =SUM(Q32:U32) -> 0 | AC32: =SUM(X32:AB32) -> 0 | AI32: =SUM(AD32:AH32) -> 0
B33: Fantacau FC | C33: flaincau | E33: =giorn!E15 -> 73 | F33: =giorn!F15 -> 63.5 | G33: =giorn!G15 -> 66 | H33: =giorn!H15 -> 67.5 | I33: =giorn!I15 -> 70 | J33: =SUM(E33:I33) -> 340 | K33: =giorn!J15 -> 62.5 | P33: =SUM(K33:O33) -> 62.5 | V33: =SUM(Q33:U33) -> 0 | AC33: =SUM(X33:AB33) -> 0 | AI33: =SUM(AD33:AH33) -> 0
B34: Brontefantasy | C34: catania5556 | E34: =giorn!E10 -> 64 | F34: =giorn!F10 -> 60 | G34: =giorn!G10 -> 67 | H34: =giorn!H10 -> 82 | I34: =giorn!I10 -> 65 | J34: =SUM(E34:I34) -> 338 | K34: =giorn!J10 -> 62.5 | P34: =SUM(K34:O34) -> 62.5 | V34: =SUM(Q34:U34) -> 0 | AC34: =SUM(X34:AB34) -> 0 | AI34: =SUM(AD34:AH34) -> 0
B35: capirexligamilan | C35: capirexligamilan | E35: =giorn!E8 -> 67.5 | F35: =giorn!F8 -> 67.5 | G35: =giorn!G8 -> 59.5 | H35: =giorn!H8 -> 64.5 | I35: =giorn!I8 -> 75 | J35: =SUM(E35:I35) -> 334 | K35: =giorn!J8 -> 62.5 | P35: =SUM(K35:O35) -> 62.5 | V35: =SUM(Q35:U35) -> 0 | AC35: =SUM(X35:AB35) -> 0 | AI35: =SUM(AD35:AH35) -> 0
B36: PowerTeam (potino78) | C36: potino78 | E36: =giorn!E29 -> 75.5 | F36: =giorn!F29 -> 56.5 | G36: =giorn!G29 -> 60.5 | H36: =giorn!H29 -> 67 | I36: =giorn!I29 -> 68 | J36: =SUM(E36:I36) -> 327.5 | K36: =giorn!J29 -> 62 | P36: =SUM(K36:O36) -> 62 | V36: =SUM(Q36:U36) -> 0 | AC36: =SUM(X36:AB36) -> 0 | AI36: =SUM(AD36:AH36) -> 0

Sheet F1
