Workbook

Sheet up
B1: pos | D1: squadra | E1: utente | F1: 21 | G1: rosa | H1: mod | I1: cambi | J1: D 1o | K1: D 3o | L1: D 6o | M1: cup
B2: 1 | D2: maGGica! | E2: adrian28scbr | F2: 1415 | G2: 261 | H2: 29 | I2: 6 | J2: 0 | K2: -28 | L2: -45 | M2: X
B3: 2 | D3: jujula | E3: jujula | F3: 1395.5 | G3: 256 | H3: 14 | I3: 8 | J3: 19.5 | K3: -8.5 | L3: -25.5 | M3: X
B4: 3 | D4: AsiAssonNaty | E4: clamore22 | F4: 1387 | G4: 269 | H4: 5 | I4: 4 | J4: 28 | K4: 0 | L4: -17
B5: 4 | D5: mastrolindo | E5: mastrolindo | F5: 1373.5 | G5: 252 | H5: 31 | I5: 6 | J5: 41.5 | K5: 13.5 | L5: -3.5
B6: 5 | D6: REAL COSENZA 1914 | E6: flaviotto | F6: 1372 | G6: 266 | H6: 21 | I6: 5 | J6: 43 | K6: 15 | L6: -2 | M6: X
B7: 6 | D7: tombecker | E7: tombecker | F7: 1370 | G7: 252 | H7: 13 | I7: 6 | J7: 45 | K7: 17 | L7: 0
B8: 7 | D8: Sfus Team | E8: sfuscio85 | F8: 1369 | G8: 272 | H8: 24 | I8: 4 | J8: 46 | K8: 18 | L8: 1 | M8: X
B9: 8 | D9: Sydney FC | E9: ruicosta | F9: 1365.5 | G9: 260 | H9: 23 | I9: 4 | J9: 49.5 | K9: 21.5 | L9: 4.5
B10: 9 | D10: Eroi nel vento | E10: ogeid36 | F10: 1359 | G10: 262 | H10: 20 | I10: 11 | J10: 56 | K10: 28 | L10: 11
B11: 10 | D11: Atletico Sereno | E11: andreabrescia | F11: 1358 | G11: 260 | H11: 15 | I11: 1 | J11: 57 | K11: 29 | L11: 12
B12: 11 | D12: Lokomotiv RUMePERA | E12: rumepera | F12: 1357 | G12: 254 | H12: 28 | I12: 8 | J12: 58 | K12: 30 | L12: 13 | M12: X
B13: 12 | D13: Forza Taranto | E13: rossoblu | F13: 1356 | G13: 267 | H13: 26 | I13: 1 | J13: 59 | K13: 31 | L13: 14 | M13: X
B14: 13 | D14: alebolo | E14: alebolo | F14: 1344.5 | G14: 293 | H14: 8 | I14: 3 | J14: 70.5 | K14: 42.5 | L14: 25.5 | M14: X
B15: 14 | D15: ciro51 | E15: ciro51 | F15: 1342 | G15: 230 | H15: 23 | I15: 1 | J15: 73 | K15: 45 | L15: 28
B16: 15 | D16: catania | E16: catania | F16: 1340 | G16: 250 | H16: 5 | I16: 8 | J16: 75 | K16: 47 | L16: 30
B17: 16 | D17: Brontefantasy | E17: catania5556 | F17: 1339.5 | G17: 255 | H17: 7 | I17: 2 | J17: 75.5 | K17: 47.5 | L17: 30.5
B18: 17 | D18: piero79 | E18: piero79 | F18: 1338 | G18: 246 | H18: 13 | I18: 3 | J18: 77 | K18: 49 | L18: 32
B19: 18 | D19: OnceUponATime | E19: alexein11 | F19: 1337 | G19: 262 | H19: 30 | I19: 5 | J19: 78 | K19: 50 | L19: 33 | M19: X
B20: 19 | D20: A.C. Javier Pastore | E20: matteo9502 | F20: 1335.5 | G20: 250 | H20: 9 | I20: 6 | J20: 79.5 | K20: 51.5 | L20: 34.5
B21: 20 | D21: Fanta Lightman | E21: lightman | F21: 1335.5 | G21: 240 | H21: 10 | I21: 7 | J21: 79.5 | K21: 51.5 | L21: 34.5
B22: 21 | D22: Goomba | E22: crah83 | F22: 1334.5 | G22: 270 | H22: 13 | I22: 4 | J22: 80.5 | K22: 52.5 | L22: 35.5
B23: 22 | D23: Grun | E23: grunluca | F23: 1333.5 | G23: 251 | H23: 8 | I23: 5 | J23: 81.5 | K23: 53.5 | L23: 36.5
B24: 23 | D24: meridiano | E24: meridiano | F24: 1329.5 | G24: 251 | H24: 7 | I24: 5 | J24: 85.5 | K24: 57.5 | L24: 40.5
B25: 24 | D25: Fantacloe | E25: merk17 | F25: 1324 | G25: 241 | H25: 17 | I25: 9 | J25: 91 | K25: 63 | L25: 46
B26: 25 | D26: Santamonica | E26: realsantamonica | F26: 1318.5 | G26: 243 | H26: 13 | I26: 6 | J26: 96.5 | K26: 68.5 | L26: 51.5
B27: 26 | D27: diego89 | E27: diego89 | F27: 1317.5 | G27: 231 | H27: 24 | I27: 6 | J27: 97.5 | K27: 69.5 | L27: 52.5
B28: 27 | D28: Peggiononsipuòfare | E28: kolao95 | F28: 1315.5 | G28: 244 | H28: 13 | I28: 1 | J28: 99.5 | K28: 71.5 | L28: 54.5
B29: 28 | D29: PowerTeam (potino78) | E29: potino78 | F29: 1313 | G29: 260 | H29: 7 | I29: 3 | J29: 102 | K29: 74 | L29: 57
B30: 29 | D30: 19angelo85 | E30: 19angelo85 | F30: 1311.5 | G30: 245 | H30: 17 | I30: 8 | J30: 103.5 | K30: 75.5 | L30: 58.5
B31: 30 | D31: Van Persie sul campo | E31: thor01 | F31: 1304.5 | G31: 251 | H31: 15 | I31: 5 | J31: 110.5 | K31: 82.5 | L31: 65.5
B32: 31 | D32: I Velieri | E32: bremec | F32: 1299 | G32: 243 | H32: 17 | I32: 5 | J32: 116 | K32: 88 | L32: 71 | M32: X
B33: 32 | D33: napule | E33: napule | F33: 1294.5 | G33: 240 | H33: 7 | I33: 4 | J33: 120.5 | K33: 92.5 | L33: 75.5
B34: 33 | D34: Fantacau FC | E34: flaincau | F34: 1279.5 | G34: 234 | H34: 9 | I34: 14 | J34: 135.5 | K34: 107.5 | L34: 90.5
B35: 34 | D35: NOCERA*ULTRAS | E35: molosso | F35: 1249.5 | G35: 238 | H35: 2 | I35: 0 | J35: 165.5 | K35: 137.5 | L35: 120.5
B36: 35 | D36: capirexligamilan | E36: capirexligamilan | F36: 1207 | G36: 214 | H36: 0 | I36: 16 | J36: 208 | K36: 180 | L36: 163

Sheet tot
B1: pos | D1: squadra | E1: utente | F1: 21 | G1: rosa | H1: mod | I1: cambi | J1: D 1o | K1: D 3o | L1: D 6o | M1: cup
B2: 1 | D2: maGGica! | E2: adrian28scbr | F2: =VLOOKUP(E2,class!C:AN,$F$1,0) -> 1415 | G2: =VLOOKUP(E2,val_rose!C:AN,$F$1,0) -> 261 | H2: =VLOOKUP(E2,mod!C:D,2,0) -> 29 | I2: =VLOOKUP(E2,cambi!C:AN,$F$1,0) -> 6 | J2: =VLOOKUP(E2,dist_1o!C:AN,$F$1,0) -> 0 | K2: =VLOOKUP(E2,dist_3o!C:AN,$F$1,0) -> -28 | L2: =VLOOKUP(E2,dist_6o!C:AN,$F$1,0) -> -45 | M2: X
B3: 2 | D3: jujula | E3: jujula | F3: =VLOOKUP(E3,class!C:AN,$F$1,0) -> 1395.5 | G3: =VLOOKUP(E3,val_rose!C:AN,$F$1,0) -> 256 | H3: =VLOOKUP(E3,mod!C:D,2,0) -> 14 | I3: =VLOOKUP(E3,cambi!C:AN,$F$1,0) -> 8 | J3: =VLOOKUP(E3,dist_1o!C:AN,$F$1,0) -> 19.5 | K3: =VLOOKUP(E3,dist_3o!C:AN,$F$1,0) -> -8.5 | L3: =VLOOKUP(E3,dist_6o!C:AN,$F$1,0) -> -25.5 | M3: X
B4: 3 | D4: AsiAssonNaty | E4: clamore22 | F4: =VLOOKUP(E4,class!C:AN,$F$1,0) -> 1387 | G4: =VLOOKUP(E4,val_rose!C:AN,$F$1,0) -> 269 | H4: =VLOOKUP(E4,mod!C:D,2,0) -> 5 | I4: =VLOOKUP(E4,cambi!C:AN,$F$1,0) -> 4 | J4: =VLOOKUP(E4,dist_1o!C:AN,$F$1,0) -> 28 | K4: =VLOOKUP(E4,dist_3o!C:AN,$F$1,0) -> 0 | L4: =VLOOKUP(E4,dist_6o!C:AN,$F$1,0) -> -17
B5: 4 | D5: mastrolindo | E5: mastrolindo | F5: =VLOOKUP(E5,class!C:AN,$F$1,0) -> 1373.5 | G5: =VLOOKUP(E5,val_rose!C:AN,$F$1,0) -> 252 | H5: =VLOOKUP(E5,mod!C:D,2,0) -> 31 | I5: =VLOOKUP(E5,cambi!C:AN,$F$1,0) -> 6 | J5: =VLOOKUP(E5,dist_1o!C:AN,$F$1,0) -> 41.5 | K5: =VLOOKUP(E5,dist_3o!C:AN,$F$1,0) -> 13.5 | L5: =VLOOKUP(E5,dist_6o!C:AN,$F$1,0) -> -3.5
B6: 5 | D6: REAL COSENZA 1914 | E6: flaviotto | F6: =VLOOKUP(E6,class!C:AN,$F$1,0) -> 1372 | G6: =VLOOKUP(E6,val_rose!C:AN,$F$1,0) -> 266 | H6: =VLOOKUP(E6,mod!C:D,2,0) -> 21 | I6: =VLOOKUP(E6,cambi!C:AN,$F$1,0) -> 5 | J6: =VLOOKUP(E6,dist_1o!C:AN,$F$1,0) -> 43 | K6: =VLOOKUP(E6,dist_3o!C:AN,$F$1,0) -> 15 | L6: =VLOOKUP(E6,dist_6o!C:AN,$F$1,0) -> -2 | M6: X
B7: 6 | D7: tombecker | E7: tombecker | F7: =VLOOKUP(E7,class!C:AN,$F$1,0) -> 1370 | G7: =VLOOKUP(E7,val_rose!C:AN,$F$1,0) -> 252 | H7: =VLOOKUP(E7,mod!C:D,2,0) -> 13 | I7: =VLOOKUP(E7,cambi!C:AN,$F$1,0) -> 6 | J7: =VLOOKUP(E7,dist_1o!C:AN,$F$1,0) -> 45 | K7: =VLOOKUP(E7,dist_3o!C:AN,$F$1,0) -> 17 | L7: =VLOOKUP(E7,dist_6o!C:AN,$F$1,0) -> 0
B8: 7 | D8: Sfus Team | E8: sfuscio85 | F8: =VLOOKUP(E8,class!C:AN,$F$1,0) -> 1369 | G8: =VLOOKUP(E8,val_rose!C:AN,$F$1,0) -> 272 | H8: =VLOOKUP(E8,mod!C:D,2,0) -> 24 | I8: =VLOOKUP(E8,cambi!C:AN,$F$1,0) -> 4 | J8: =VLOOKUP(E8,dist_1o!C:AN,$F$1,0) -> 46 | K8: =VLOOKUP(E8,dist_3o!C:AN,$F$1,0) -> 18 | L8: =VLOOKUP(E8,dist_6o!C:AN,$F$1,0) -> 1 | M8: X
B9: 8 | D9: Sydney FC | E9: ruicosta | F9: =VLOOKUP(E9,class!C:AN,$F$1,0) -> 1365.5 | G9: =VLOOKUP(E9,val_rose!C:AN,$F$1,0) -> 260 | H9: =VLOOKUP(E9,mod!C:D,2,0) -> 23 | I9: =VLOOKUP(E9,cambi!C:AN,$F$1,0) -> 4 | J9: =VLOOKUP(E9,dist_1o!C:AN,$F$1,0) -> 49.5 | K9: =VLOOKUP(E9,dist_3o!C:AN,$F$1,0) -> 21.5 | L9: =VLOOKUP(E9,dist_6o!C:AN,$F$1,0) -> 4.5
B10: 9 | D10: Eroi nel vento | E10: ogeid36 | F10: =VLOOKUP(E10,class!C:AN,$F$1,0) -> 1359 | G10: =VLOOKUP(E10,val_rose!C:AN,$F$1,0) -> 262 | H10: =VLOOKUP(E10,mod!C:D,2,0) -> 20 | I10: =VLOOKUP(E10,cambi!C:AN,$F$1,0) -> 11 | J10: =VLOOKUP(E10,dist_1o!C:AN,$F$1,0) -> 56 | K10: =VLOOKUP(E10,dist_3o!C:AN,$F$1,0) -> 28 | L10: =VLOOKUP(E10,dist_6o!C:AN,$F$1,0) -> 11
B11: 10 | D11: Atletico Sereno | E11: andreabrescia | F11: =VLOOKUP(E11,class!C:AN,$F$1,0) -> 1358 | G11: =VLOOKUP(E11,val_rose!C:AN,$F$1,0) -> 260 | H11: =VLOOKUP(E11,mod!C:D,2,0) -> 15 | I11: =VLOOKUP(E11,cambi!C:AN,$F$1,0) -> 1 | J11: =VLOOKUP(E11,dist_1o!C:AN,$F$1,0) -> 57 | K11: =VLOOKUP(E11,dist_3o!C:AN,$F$1,0) -> 29 | L11: =VLOOKUP(E11,dist_6o!C:AN,$F$1,0) -> 12
B12: 11 | D12: Lokomotiv RUMePERA | E12: rumepera | F12: =VLOOKUP(E12,class!C:AN,$F$1,0) -> 1357 | G12: =VLOOKUP(E12,val_rose!C:AN,$F$1,0) -> 254 | H12: =VLOOKUP(E12,mod!C:D,2,0) -> 28 | I12: =VLOOKUP(E12,cambi!C:AN,$F$1,0) -> 8 | J12: =VLOOKUP(E12,dist_1o!C:AN,$F$1,0) -> 58 | K12: =VLOOKUP(E12,dist_3o!C:AN,$F$1,0) -> 30 | L12: =VLOOKUP(E12,dist_6o!C:AN,$F$1,0) -> 13 | M12: X
B13: 12 | D13: Forza Taranto | E13: rossoblu | F13: =VLOOKUP(E13,class!C:AN,$F$1,0) -> 1356 | G13: =VLOOKUP(E13,val_rose!C:AN,$F$1,0) -> 267 | H13: =VLOOKUP(E13,mod!C:D,2,0) -> 26 | I13: =VLOOKUP(E13,cambi!C:AN,$F$1,0) -> 1 | J13: =VLOOKUP(E13,dist_1o!C:AN,$F$1,0) -> 59 | K13: =VLOOKUP(E13,dist_3o!C:AN,$F$1,0) -> 31 | L13: =VLOOKUP(E13,dist_6o!C:AN,$F$1,0) -> 14 | M13: X
B14: 13 | D14: alebolo | E14: alebolo | F14: =VLOOKUP(E14,class!C:AN,$F$1,0) -> 1344.5 | G14: =VLOOKUP(E14,val_rose!C:AN,$F$1,0) -> 293 | H14: =VLOOKUP(E14,mod!C:D,2,0) -> 8 | I14: =VLOOKUP(E14,cambi!C:AN,$F$1,0) -> 3 | J14: =VLOOKUP(E14,dist_1o!C:AN,$F$1,0) -> 70.5 | K14: =VLOOKUP(E14,dist_3o!C:AN,$F$1,0) -> 42.5 | L14: =VLOOKUP(E14,dist_6o!C:AN,$F$1,0) -> 25.5 | M14: X
B15: 14 | D15: ciro51 | E15: ciro51 | F15: =VLOOKUP(E15,class!C:AN,$F$1,0) -> 1342 | G15: =VLOOKUP(E15,val_rose!C:AN,$F$1,0) -> 230 | H15: =VLOOKUP(E15,mod!C:D,2,0) -> 23 | I15: =VLOOKUP(E15,cambi!C:AN,$F$1,0) -> 1 | J15: =VLOOKUP(E15,dist_1o!C:AN,$F$1,0) -> 73 | K15: =VLOOKUP(E15,dist_3o!C:AN,$F$1,0) -> 45 | L15: =VLOOKUP(E15,dist_6o!C:AN,$F$1,0) -> 28
B16: 15 | D16: catania | E16: catania | F16: =VLOOKUP(E16,class!C:AN,$F$1,0) -> 1340 | G16: =VLOOKUP(E16,val_rose!C:AN,$F$1,0) -> 250 | H16: =VLOOKUP(E16,mod!C:D,2,0) -> 5 | I16: =VLOOKUP(E16,cambi!C:AN,$F$1,0) -> 8 | J16: =VLOOKUP(E16,dist_1o!C:AN,$F$1,0) -> 75 | K16: =VLOOKUP(E16,dist_3o!C:AN,$F$1,0) -> 47 | L16: =VLOOKUP(E16,dist_6o!C:AN,$F$1,0) -> 30
B17: 16 | D17: Brontefantasy | E17: catania5556 | F17: =VLOOKUP(E17,class!C:AN,$F$1,0) -> 1339.5 | G17: =VLOOKUP(E17,val_rose!C:AN,$F$1,0) -> 255 | H17: =VLOOKUP(E17,mod!C:D,2,0) -> 7 | I17: =VLOOKUP(E17,cambi!C:AN,$F$1,0) -> 2 | J17: =VLOOKUP(E17,dist_1o!C:AN,$F$1,0) -> 75.5 | K17: =VLOOKUP(E17,dist_3o!C:AN,$F$1,0) -> 47.5 | L17: =VLOOKUP(E17,dist_6o!C:AN,$F$1,0) -> 30.5
B18: 17 | D18: piero79 | E18: piero79 | F18: =VLOOKUP(E18,class!C:AN,$F$1,0) -> 1338 | G18: =VLOOKUP(E18,val_rose!C:AN,$F$1,0) -> 246 | H18: =VLOOKUP(E18,mod!C:D,2,0) -> 13 | I18: =VLOOKUP(E18,cambi!C:AN,$F$1,0) -> 3 | J18: =VLOOKUP(E18,dist_1o!C:AN,$F$1,0) -> 77 | K18: =VLOOKUP(E18,dist_3o!C:AN,$F$1,0) -> 49 | L18: =VLOOKUP(E18,dist_6o!C:AN,$F$1,0) -> 32
B19: 18 | D19: OnceUponATime | E19: alexein11 | F19: =VLOOKUP(E19,class!C:AN,$F$1,0) -> 1337 | G19: =VLOOKUP(E19,val_rose!C:AN,$F$1,0) -> 262 | H19: =VLOOKUP(E19,mod!C:D,2,0) -> 30 | I19: =VLOOKUP(E19,cambi!C:AN,$F$1,0) -> 5 | J19: =VLOOKUP(E19,dist_1o!C:AN,$F$1,0) -> 78 | K19: =VLOOKUP(E19,dist_3o!C:AN,$F$1,0) -> 50 | L19: =VLOOKUP(E19,dist_6o!C:AN,$F$1,0) -> 33 | M19: X
B20: 19 | D20: A.C. Javier Pastore | E20: matteo9502 | F20: =VLOOKUP(E20,class!C:AN,$F$1,0) -> 1335.5 | G20: =VLOOKUP(E20,val_rose!C:AN,$F$1,0) -> 250 | H20: =VLOOKUP(E20,mod!C:D,2,0) -> 9 | I20: =VLOOKUP(E20,cambi!C:AN,$F$1,0) -> 6 | J20: =VLOOKUP(E20,dist_1o!C:AN,$F$1,0) -> 79.5 | K20: =VLOOKUP(E20,dist_3o!C:AN,$F$1,0) -> 51.5 | L20: =VLOOKUP(E20,dist_6o!C:AN,$F$1,0) -> 34.5
B21: 20 | D21: Fanta Lightman | E21: lightman | F21: =VLOOKUP(E21,class!C:AN,$F$1,0) -> 1335.5 | G21: =VLOOKUP(E21,val_rose!C:AN,$F$1,0) -> 240 | H21: =VLOOKUP(E21,mod!C:D,2,0) -> 10 | I21: =VLOOKUP(E21,cambi!C:AN,$F$1,0) -> 7 | J21: =VLOOKUP(E21,dist_1o!C:AN,$F$1,0) -> 79.5 | K21: =VLOOKUP(E21,dist_3o!C:AN,$F$1,0) -> 51.5 | L21: =VLOOKUP(E21,dist_6o!C:AN,$F$1,0) -> 34.5
B22: 21 | D22: Goomba | E22: crah83 | F22: =VLOOKUP(E22,class!C:AN,$F$1,0) -> 1334.5 | G22: =VLOOKUP(E22,val_rose!C:AN,$F$1,0) -> 270 | H22: =VLOOKUP(E22,mod!C:D,2,0) -> 13 | I22: =VLOOKUP(E22,cambi!C:AN,$F$1,0) -> 4 | J22: =VLOOKUP(E22,dist_1o!C:AN,$F$1,0) -> 80.5 | K22: =VLOOKUP(E22,dist_3o!C:AN,$F$1,0) -> 52.5 | L22: =VLOOKUP(E22,dist_6o!C:AN,$F$1,0) -> 35.5
B23: 22 | D23: Grun | E23: grunluca | F23: =VLOOKUP(E23,class!C:AN,$F$1,0) -> 1333.5 | G23: =VLOOKUP(E23,val_rose!C:AN,$F$1,0) -> 251 | H23: =VLOOKUP(E23,mod!C:D,2,0) -> 8 | I23: =VLOOKUP(E23,cambi!C:AN,$F$1,0) -> 5 | J23: =VLOOKUP(E23,dist_1o!C:AN,$F$1,0) -> 81.5 | K23: =VLOOKUP(E23,dist_3o!C:AN,$F$1,0) -> 53.5 | L23: =VLOOKUP(E23,dist_6o!C:AN,$F$1,0) -> 36.5
B24: 23 | D24: meridiano | E24: meridiano | F24: =VLOOKUP(E24,class!C:AN,$F$1,0) -> 1329.5 | G24: =VLOOKUP(E24,val_rose!C:AN,$F$1,0) -> 251 | H24: =VLOOKUP(E24,mod!C:D,2,0) -> 7 | I24: =VLOOKUP(E24,cambi!C:AN,$F$1,0) -> 5 | J24: =VLOOKUP(E24,dist_1o!C:AN,$F$1,0) -> 85.5 | K24: =VLOOKUP(E24,dist_3o!C:AN,$F$1,0) -> 57.5 | L24: =VLOOKUP(E24,dist_6o!C:AN,$F$1,0) -> 40.5
B25: 24 | D25: Fantacloe | E25: merk17 | F25: =VLOOKUP(E25,class!C:AN,$F$1,0) -> 1324 | G25: =VLOOKUP(E25,val_rose!C:AN,$F$1,0) -> 241 | H25: =VLOOKUP(E25,mod!C:D,2,0) -> 17 | I25: =VLOOKUP(E25,cambi!C:AN,$F$1,0) -> 9 | J25: =VLOOKUP(E25,dist_1o!C:AN,$F$1,0) -> 91 | K25: =VLOOKUP(E25,dist_3o!C:AN,$F$1,0) -> 63 | L25: =VLOOKUP(E25,dist_6o!C:AN,$F$1,0) -> 46
B26: 25 | D26: Santamonica | E26: realsantamonica | F26: =VLOOKUP(E26,class!C:AN,$F$1,0) -> 1318.5 | G26: =VLOOKUP(E26,val_rose!C:AN,$F$1,0) -> 243 | H26: =VLOOKUP(E26,mod!C:D,2,0) -> 13 | I26: =VLOOKUP(E26,cambi!C:AN,$F$1,0) -> 6 | J26: =VLOOKUP(E26,dist_1o!C:AN,$F$1,0) -> 96.5 | K26: =VLOOKUP(E26,dist_3o!C:AN,$F$1,0) -> 68.5 | L26: =VLOOKUP(E26,dist_6o!C:AN,$F$1,0) -> 51.5
B27: 26 | D27: diego89 | E27: diego89 | F27: =VLOOKUP(E27,class!C:AN,$F$1,0) -> 1317.5 | G27: =VLOOKUP(E27,val_rose!C:AN,$F$1,0) -> 231 | H27: =VLOOKUP(E27,mod!C:D,2,0) -> 24 | I27: =VLOOKUP(E27,cambi!C:AN,$F$1,0) -> 6 | J27: =VLOOKUP(E27,dist_1o!C:AN,$F$1,0) -> 97.5 | K27: =VLOOKUP(E27,dist_3o!C:AN,$F$1,0) -> 69.5 | L27: =VLOOKUP(E27,dist_6o!C:AN,$F$1,0) -> 52.5
B28: 27 | D28: Peggiononsipuòfare | E28: kolao95 | F28: =VLOOKUP(E28,class!C:AN,$F$1,0) -> 1315.5 | G28: =VLOOKUP(E28,val_rose!C:AN,$F$1,0) -> 244 | H28: =VLOOKUP(E28,mod!C:D,2,0) -> 13 | I28: =VLOOKUP(E28,cambi!C:AN,$F$1,0) -> 1 | J28: =VLOOKUP(E28,dist_1o!C:AN,$F$1,0) -> 99.5 | K28: =VLOOKUP(E28,dist_3o!C:AN,$F$1,0) -> 71.5 | L28: =VLOOKUP(E28,dist_6o!C:AN,$F$1,0) -> 54.5
B29: 28 | D29: PowerTeam (potino78) | E29: potino78 | F29: =VLOOKUP(E29,class!C:AN,$F$1,0) -> 1313 | G29: =VLOOKUP(E29,val_rose!C:AN,$F$1,0) -> 260 | H29: =VLOOKUP(E29,mod!C:D,2,0) -> 7 | I29: =VLOOKUP(E29,cambi!C:AN,$F$1,0) -> 3 | J29: =VLOOKUP(E29,dist_1o!C:AN,$F$1,0) -> 102 | K29: =VLOOKUP(E29,dist_3o!C:AN,$F$1,0) -> 74 | L29: =VLOOKUP(E29,dist_6o!C:AN,$F$1,0) -> 57
B30: 29 | D30: 19angelo85 | E30: 19angelo85 | F30: =VLOOKUP(E30,class!C:AN,$F$1,0) -> 1311.5 | G30: =VLOOKUP(E30,val_rose!C:AN,$F$1,0) -> 245 | H30: =VLOOKUP(E30,mod!C:D,2,0) -> 17 | I30: =VLOOKUP(E30,cambi!C:AN,$F$1,0) -> 8 | J30: =VLOOKUP(E30,dist_1o!C:AN,$F$1,0) -> 103.5 | K30: =VLOOKUP(E30,dist_3o!C:AN,$F$1,0) -> 75.5 | L30: =VLOOKUP(E30,dist_6o!C:AN,$F$1,0) -> 58.5
B31: 30 | D31: Van Persie sul campo | E31: thor01 | F31: =VLOOKUP(E31,class!C:AN,$F$1,0) -> 1304.5 | G31: =VLOOKUP(E31,val_rose!C:AN,$F$1,0) -> 251 | H31: =VLOOKUP(E31,mod!C:D,2,0) -> 15 | I31: =VLOOKUP(E31,cambi!C:AN,$F$1,0) -> 5 | J31: =VLOOKUP(E31,dist_1o!C:AN,$F$1,0) -> 110.5 | K31: =VLOOKUP(E31,dist_3o!C:AN,$F$1,0) -> 82.5 | L31: =VLOOKUP(E31,dist_6o!C:AN,$F$1,0) -> 65.5
B32: 31 | D32: I Velieri | E32: bremec | F32: =VLOOKUP(E32,class!C:AN,$F$1,0) -> 1299 | G32: =VLOOKUP(E32,val_rose!C:AN,$F$1,0) -> 243 | H32: =VLOOKUP(E32,mod!C:D,2,0) -> 17 | I32: =VLOOKUP(E32,cambi!C:AN,$F$1,0) -> 5 | J32: =VLOOKUP(E32,dist_1o!C:AN,$F$1,0) -> 116 | K32: =VLOOKUP(E32,dist_3o!C:AN,$F$1,0) -> 88 | L32: =VLOOKUP(E32,dist_6o!C:AN,$F$1,0) -> 71 | M32: X
B33: 32 | D33: napule | E33: napule | F33: =VLOOKUP(E33,class!C:AN,$F$1,0) -> 1294.5 | G33: =VLOOKUP(E33,val_rose!C:AN,$F$1,0) -> 240 | H33: =VLOOKUP(E33,mod!C:D,2,0) -> 7 | I33: =VLOOKUP(E33,cambi!C:AN,$F$1,0) -> 4 | J33: =VLOOKUP(E33,dist_1o!C:AN,$F$1,0) -> 120.5 | K33: =VLOOKUP(E33,dist_3o!C:AN,$F$1,0) -> 92.5 | L33: =VLOOKUP(E33,dist_6o!C:AN,$F$1,0) -> 75.5
B34: 33 | D34: Fantacau FC | E34: flaincau | F34: =VLOOKUP(E34,class!C:AN,$F$1,0) -> 1279.5 | G34: =VLOOKUP(E34,val_rose!C:AN,$F$1,0) -> 234 | H34: =VLOOKUP(E34,mod!C:D,2,0) -> 9 | I34: =VLOOKUP(E34,cambi!C:AN,$F$1,0) -> 14 | J34: =VLOOKUP(E34,dist_1o!C:AN,$F$1,0) -> 135.5 | K34: =VLOOKUP(E34,dist_3o!C:AN,$F$1,0) -> 107.5 | L34: =VLOOKUP(E34,dist_6o!C:AN,$F$1,0) -> 90.5
B35: 34 | D35: NOCERA*ULTRAS | E35: molosso | F35: =VLOOKUP(E35,class!C:AN,$F$1,0) -> 1249.5 | G35: =VLOOKUP(E35,val_rose!C:AN,$F$1,0) -> 238 | H35: =VLOOKUP(E35,mod!C:D,2,0) -> 2 | I35: =VLOOKUP(E35,cambi!C:AN,$F$1,0) -> 0 | J35: =VLOOKUP(E35,dist_1o!C:AN,$F$1,0) -> 165.5 | K35: =VLOOKUP(E35,dist_3o!C:AN,$F$1,0) -> 137.5 | L35: =VLOOKUP(E35,dist_6o!C:AN,$F$1,0) -> 120.5
B36: 35 | D36: capirexligamilan | E36: capirexligamilan | F36: =VLOOKUP(E36,class!C:AN,$F$1,0) -> 1207 | G36: =VLOOKUP(E36,val_rose!C:AN,$F$1,0) -> 214 | H36: =VLOOKUP(E36,mod!C:D,2,0) -> 0 | I36: =VLOOKUP(E36,cambi!C:AN,$F$1,0) -> 16 | J36: =VLOOKUP(E36,dist_1o!C:AN,$F$1,0) -> 208 | K36: =VLOOKUP(E36,dist_3o!C:AN,$F$1,0) -> 180 | L36: =VLOOKUP(E36,dist_6o!C:AN,$F$1,0) -> 163

Sheet giorn
B1: squadra | C1: utente | E1: 3 | F1: 4 | G1: 5 | H1: 6 | I1: 7 | J1: 8 | K1: 9 | L1: 10 | M1: 11 | N1: 12 | O1: 13 | P1: 14 | Q1: 15 | R1: 16 | S1: 17 | T1: 18 | U1: 19 | V1: 20 | W1: 21 | X1: 22 | Y1: 23 | Z1: 24 | AA1: 25 | AB1: 26 | AC1: 27 | AD1: 28 | AE1: 29 | AF1: 30 | AG1: 31 | AH1: 32 | AI1: 33 | AJ1: 34 | AK1: 35 | AL1: 36 | AM1: 37 | AN1: 38
B2: 19angelo85 | C2: 19angelo85 | E2: 72.5 | F2: 66.5 | G2: 61.5 | H2: 72.5 | I2: 64.5 | J2: 75 | K2: 73.5 | L2: 71 | M2: 85 | N2: 68.5 | O2: 71 | P2: 64.5 | Q2: 63.5 | R2: 75.5 | S2: 69 | T2: 80 | U2: 52 | V2: 62.5 | W2: 63
B3: maGGica! | C3: adrian28scbr | E3: 84.5 | F3: 71.5 | G3: 71 | H3: 82 | I3: 72 | J3: 83 | K3: 69 | L3: 65.5 | M3: 78.5 | N3: 71 | O3: 69.5 | P3: 74 | Q3: 74.5 | R3: 84 | S3: 72.5 | T3: 77.5 | U3: 75 | V3: 67 | W3: 73
B4: alebolo | C4: alebolo | E4: 67.5 | F4: 59.5 | G4: 57.5 | H4: 73.5 | I4: 77 | J4: 71 | K4: 69.5 | L4: 72 | M4: 77.5 | N4: 83 | O4: 67.5 | P4: 69.5 | Q4: 83.5 | R4: 71 | S4: 80 | T4: 61.5 | U4: 74 | V4: 60.5 | W4: 69
B5: OnceUponATime | C5: alexein11 | E5: 77.5 | F5: 61.5 | G5: 55 | H5: 73 | I5: 60.5 | J5: 77.5 | K5: 80.5 | L5: 65.5 | M5: 77 | N5: 62 | O5: 69 | P5: 64.5 | Q5: 81 | R5: 90.5 | S5: 66.5 | T5: 70.5 | U5: 67 | V5: 59.5 | W5: 78.5
B6: Atletico Sereno | C6: andreabrescia | E6: 76 | F6: 60 | G6: 68.5 | H6: 75 | I6: 67.5 | J6: 75 | K6: 68.5 | L6: 70 | M6: 78 | N6: 70 | O6: 72 | P6: 59 | Q6: 80 | R6: 72.5 | S6: 75 | T6: 80 | U6: 73.5 | V6: 63.5 | W6: 74
B7: I Velieri | C7: bremec | E7: 69.5 | F7: 72.5 | G7: 71 | H7: 76.5 | I7: 78 | J7: 69.5 | K7: 68 | L7: 63.5 | M7: 76 | N7: 61.5 | O7: 68 | P7: 61.5 | Q7: 63 | R7: 68.5 | S7: 70.5 | T7: 59 | U7: 72 | V7: 62.5 | W7: 68
B8: capirexligamilan | C8: capirexligamilan | E8: 67.5 | F8: 67.5 | G8: 59.5 | H8: 64.5 | I8: 75 | J8: 62.5 | K8: 59 | L8: 63 | M8: 75.5 | N8: 62.5 | O8: 72 | P8: 55.5 | Q8: 65.5 | R8: 59 | S8: 58.5 | T8: 53.5 | U8: 65 | V8: 72 | W8: 49.5
B9: catania | C9: catania | E9: 69 | F9: 61 | G9: 65.5 | H9: 77.5 | I9: 67 | J9: 73 | K9: 70 | L9: 72 | M9: 84.5 | N9: 78.5 | O9: 64.5 | P9: 67.5 | Q9: 73.5 | R9: 74 | S9: 66.5 | T9: 63 | U9: 78 | V9: 63.5 | W9: 71.5
B10: Brontefantasy | C10: catania5556 | E10: 64 | F10: 60 | G10: 67 | H10: 82 | I10: 65 | J10: 62.5 | K10: 76.5 | L10: 71.5 | M10: 87 | N10: 75 | O10: 73.5 | P10: 61 | Q10: 67.5 | R10: 76 | S10: 67.5 | T10: 63.5 | U10: 75.5 | V10: 74.5 | W10: 70
B11: ciro51 | C11: ciro51 | E11: 78.5 | F11: 59.5 | G11: 69 | H11: 66.5 | I11: 76.5 | J11: 78 | K11: 66 | L11: 72 | M11: 73.5 | N11: 66.5 | O11: 74.5 | P11: 66 | Q11: 65 | R11: 70 | S11: 74.5 | T11: 82.5 | U11: 71.5 | V11: 66.5 | W11: 65.5
B12: AsiAssonNaty | C12: clamore22 | E12: 77.5 | F12: 60 | G12: 67.5 | H12: 78 | I12: 73 | J12: 77 | K12: 68 | L12: 73 | M12: 88.5 | N12: 66.5 | O12: 71.5 | P12: 66.5 | Q12: 81 | R12: 77.5 | S12: 74 | T12: 68.5 | U12: 81 | V12: 69 | W12: 69
B13: Goomba | C13: crah83 | E13: 75 | F13: 55 | G13: 57.5 | H13: 67.5 | I13: 64 | J13: 80.5 | K13: 72 | L13: 63.5 | M13: 82.5 | N13: 64.5 | O13: 73 | P13: 61 | Q13: 79.5 | R13: 74 | S13: 67.5 | T13: 80 | U13: 79 | V13: 73.5 | W13: 65
... B36: tombecker | C36: tombecker | E36: 75 | F36: 61 | G36: 69.5 | H36: 72 | I36: 72 | J36: 68 | K36: 73 | L36: 76 | M36: 77 | N36: 82 | O36: 68.5 | P36: 66.5 | Q36: 83 | R36: 70 | S36: 79.5 | T36: 70.5 | U36: 68.5 | V36: 66.5 | W36: 71.5

Sheet class
B1: squadra | C1: utente | E1: 3 | F1: 4 | G1: 5 | H1: 6 | I1: 7 | J1: 8 | K1: 9 | L1: 10 | M1: 11 | N1: 12 | O1: 13 | P1: 14 | Q1: 15 | R1: 16 | S1: 17 | T1: 18 | U1: 19 | V1: 20 | W1: 21 | X1: 22 | Y1: 23 | Z1: 24 | AA1: 25 | AB1: 26 | AC1: 27 | AD1: 28 | AE1: 29 | AF1: 30 | AG1: 31 | AH1: 32 | AI1: 33 | AJ1: 34 | AK1: 35 | AL1: 36 | AM1: 37 | AN1: 38
B2: 19angelo85 | C2: 19angelo85 | E2: 72.5 | F2: =E2+VLOOKUP($C2,giorn!$C:$AN,F$1,0) -> 139 | G2: =F2+VLOOKUP($C2,giorn!$C:$AN,G$1,0) -> 200.5 | H2: =G2+VLOOKUP($C2,giorn!$C:$AN,H$1,0) -> 273 | I2: =H2+VLOOKUP($C2,giorn!$C:$AN,I$1,0) -> 337.5 | J2: =I2+VLOOKUP($C2,giorn!$C:$AN,J$1,0) -> 412.5 | K2: =J2+VLOOKUP($C2,giorn!$C:$AN,K$1,0) -> 486 | L2: =K2+VLOOKUP($C2,giorn!$C:$AN,L$1,0) -> 557 | M2: =L2+VLOOKUP($C2,giorn!$C:$AN,M$1,0) -> 642 | ... W2: =V2+VLOOKUP($C2,giorn!$C:$AN,W$1,0) -> 1311.5
B3: maGGica! | C3: adrian28scbr | E3: 84.5 | F3: =E3+VLOOKUP($C3,giorn!$C:$AN,F$1,0) -> 156 | G3: =F3+VLOOKUP($C3,giorn!$C:$AN,G$1,0) -> 227 | H3: =G3+VLOOKUP($C3,giorn!$C:$AN,H$1,0) -> 309 | I3: =H3+VLOOKUP($C3,giorn!$C:$AN,I$1,0) -> 381 | J3: =I3+VLOOKUP($C3,giorn!$C:$AN,J$1,0) -> 464 | K3: =J3+VLOOKUP($C3,giorn!$C:$AN,K$1,0) -> 533 | L3: =K3+VLOOKUP($C3,giorn!$C:$AN,L$1,0) -> 598.5 | M3: =L3+VLOOKUP($C3,giorn!$C:$AN,M$1,0) -> 677 | ... W3: =V3+VLOOKUP($C3,giorn!$C:$AN,W$1,0) -> 1415
B4: alebolo | C4: alebolo | E4: 67.5 | F4: =E4+VLOOKUP($C4,giorn!$C:$AN,F$1,0) -> 127 | G4: =F4+VLOOKUP($C4,giorn!$C:$AN,G$1,0) -> 184.5 | H4: =G4+VLOOKUP($C4,giorn!$C:$AN,H$1,0) -> 258 | I4: =H4+VLOOKUP($C4,giorn!$C:$AN,I$1,0) -> 335 | J4: =I4+VLOOKUP($C4,giorn!$C:$AN,J$1,0) -> 406 | K4: =J4+VLOOKUP($C4,giorn!$C:$AN,K$1,0) -> 475.5 | L4: =K4+VLOOKUP($C4,giorn!$C:$AN,L$1,0) -> 547.5 | M4: =L4+VLOOKUP($C4,giorn!$C:$AN,M$1,0) -> 625 | ... W4: =V4+VLOOKUP($C4,giorn!$C:$AN,W$1,0) -> 1344.5
B5: OnceUponATime | C5: alexein11 | E5: 77.5 | F5: =E5+VLOOKUP($C5,giorn!$C:$AN,F$1,0) -> 139 | G5: =F5+VLOOKUP($C5,giorn!$C:$AN,G$1,0) -> 194 | H5: =G5+VLOOKUP($C5,giorn!$C:$AN,H$1,0) -> 267 | I5: =H5+VLOOKUP($C5,giorn!$C:$AN,I$1,0) -> 327.5 | J5: =I5+VLOOKUP($C5,giorn!$C:$AN,J$1,0) -> 405 | K5: =J5+VLOOKUP($C5,giorn!$C:$AN,K$1,0) -> 485.5 | L5: =K5+VLOOKUP($C5,giorn!$C:$AN,L$1,0) -> 551 | M5: =L5+VLOOKUP($C5,giorn!$C:$AN,M$1,0) -> 628 | ... W5: =V5+VLOOKUP($C5,giorn!$C:$AN,W$1,0) -> 1337
B6: Atletico Sereno | C6: andreabrescia | E6: 76 | F6: =E6+VLOOKUP($C6,giorn!$C:$AN,F$1,0) -> 136 | G6: =F6+VLOOKUP($C6,giorn!$C:$AN,G$1,0) -> 204.5 | H6: =G6+VLOOKUP($C6,giorn!$C:$AN,H$1,0) -> 279.5 | I6: =H6+VLOOKUP($C6,giorn!$C:$AN,I$1,0) -> 347 | J6: =I6+VLOOKUP($C6,giorn!$C:$AN,J$1,0) -> 422 | K6: =J6+VLOOKUP($C6,giorn!$C:$AN,K$1,0) -> 490.5 | L6: =K6+VLOOKUP($C6,giorn!$C:$AN,L$1,0) -> 560.5 | M6: =L6+VLOOKUP($C6,giorn!$C:$AN,M$1,0) -> 638.5 | ... W6: =V6+VLOOKUP($C6,giorn!$C:$AN,W$1,0) -> 1358
B7: I Velieri | C7: bremec | E7: 69.5 | F7: =E7+VLOOKUP($C7,giorn!$C:$AN,F$1,0) -> 142 | G7: =F7+VLOOKUP($C7,giorn!$C:$AN,G$1,0) -> 213 | H7: =G7+VLOOKUP($C7,giorn!$C:$AN,H$1,0) -> 289.5 | I7: =H7+VLOOKUP($C7,giorn!$C:$AN,I$1,0) -> 367.5 | J7: =I7+VLOOKUP($C7,giorn!$C:$AN,J$1,0) -> 437 | K7: =J7+VLOOKUP($C7,giorn!$C:$AN,K$1,0) -> 505 | L7: =K7+VLOOKUP($C7,giorn!$C:$AN,L$1,0) -> 568.5 | M7: =L7+VLOOKUP($C7,giorn!$C:$AN,M$1,0) -> 644.5 | ... W7: =V7+VLOOKUP($C7,giorn!$C:$AN,W$1,0) -> 1299
B8: capirexligamilan | C8: capirexligamilan | E8: 67.5 | F8: =E8+VLOOKUP($C8,giorn!$C:$AN,F$1,0) -> 135 | G8: =F8+VLOOKUP($C8,giorn!$C:$AN,G$1,0) -> 194.5 | H8: =G8+VLOOKUP($C8,giorn!$C:$AN,H$1,0) -> 259 | I8: =H8+VLOOKUP($C8,giorn!$C:$AN,I$1,0) -> 334 | J8: =I8+VLOOKUP($C8,giorn!$C:$AN,J$1,0) -> 396.5 | K8: =J8+VLOOKUP($C8,giorn!$C:$AN,K$1,0) -> 455.5 | L8: =K8+VLOOKUP($C8,giorn!$C:$AN,L$1,0) -> 518.5 | M8: =L8+VLOOKUP($C8,giorn!$C:$AN,M$1,0) -> 594 | ... W8: =V8+VLOOKUP($C8,giorn!$C:$AN,W$1,0) -> 1207
B9: catania | C9: catania | E9: 69 | F9: =E9+VLOOKUP($C9,giorn!$C:$AN,F$1,0) -> 130 | G9: =F9+VLOOKUP($C9,giorn!$C:$AN,G$1,0) -> 195.5 | H9: =G9+VLOOKUP($C9,giorn!$C:$AN,H$1,0) -> 273 | I9: =H9+VLOOKUP($C9,giorn!$C:$AN,I$1,0) -> 340 | J9: =I9+VLOOKUP($C9,giorn!$C:$AN,J$1,0) -> 413 | K9: =J9+VLOOKUP($C9,giorn!$C:$AN,K$1,0) -> 483 | L9: =K9+VLOOKUP($C9,giorn!$C:$AN,L$1,0) -> 555 | M9: =L9+VLOOKUP($C9,giorn!$C:$AN,M$1,0) -> 639.5 | ... W9: =V9+VLOOKUP($C9,giorn!$C:$AN,W$1,0) -> 1340
B10: Brontefantasy | C10: catania5556 | E10: 64 | F10: =E10+VLOOKUP($C10,giorn!$C:$AN,F$1,0) -> 124 | G10: =F10+VLOOKUP($C10,giorn!$C:$AN,G$1,0) -> 191 | H10: =G10+VLOOKUP($C10,giorn!$C:$AN,H$1,0) -> 273 | I10: =H10+VLOOKUP($C10,giorn!$C:$AN,I$1,0) -> 338 | J10: =I10+VLOOKUP($C10,giorn!$C:$AN,J$1,0) -> 400.5 | K10: =J10+VLOOKUP($C10,giorn!$C:$AN,K$1,0) -> 477 | L10: =K10+VLOOKUP($C10,giorn!$C:$AN,L$1,0) -> 548.5 | M10: =L10+VLOOKUP($C10,giorn!$C:$AN,M$1,0) -> 635.5 | ... W10: =V10+VLOOKUP($C10,giorn!$C:$AN,W$1,0) -> 1339.5
B11: ciro51 | C11: ciro51 | E11: 78.5 | F11: =E11+VLOOKUP($C11,giorn!$C:$AN,F$1,0) -> 138 | G11: =F11+VLOOKUP($C11,giorn!$C:$AN,G$1,0) -> 207 | H11: =G11+VLOOKUP($C11,giorn!$C:$AN,H$1,0) -> 273.5 | I11: =H11+VLOOKUP($C11,giorn!$C:$AN,I$1,0) -> 350 | J11: =I11+VLOOKUP($C11,giorn!$C:$AN,J$1,0) -> 428 | K11: =J11+VLOOKUP($C11,giorn!$C:$AN,K$1,0) -> 494 | L11: =K11+VLOOKUP($C11,giorn!$C:$AN,L$1,0) -> 566 | M11: =L11+VLOOKUP($C11,giorn!$C:$AN,M$1,0) -> 639.5 | ... W11: =V11+VLOOKUP($C11,giorn!$C:$AN,W$1,0) -> 1342
B12: AsiAssonNaty | C12: clamore22 | E12: 77.5 | F12: =E12+VLOOKUP($C12,giorn!$C:$AN,F$1,0) -> 137.5 | G12: =F12+VLOOKUP($C12,giorn!$C:$AN,G$1,0) -> 205 | H12: =G12+VLOOKUP($C12,giorn!$C:$AN,H$1,0) -> 283 | I12: =H12+VLOOKUP($C12,giorn!$C:$AN,I$1,0) -> 356 | J12: =I12+VLOOKUP($C12,giorn!$C:$AN,J$1,0) -> 433 | K12: =J12+VLOOKUP($C12,giorn!$C:$AN,K$1,0) -> 501 | L12: =K12+VLOOKUP($C12,giorn!$C:$AN,L$1,0) -> 574 | M12: =L12+VLOOKUP($C12,giorn!$C:$AN,M$1,0) -> 662.5 | ... W12: =V12+VLOOKUP($C12,giorn!$C:$AN,W$1,0) -> 1387
B13: Goomba | C13: crah83 | E13: 75 | F13: =E13+VLOOKUP($C13,giorn!$C:$AN,F$1,0) -> 130 | G13: =F13+VLOOKUP($C13,giorn!$C:$AN,G$1,0) -> 187.5 | H13: =G13+VLOOKUP($C13,giorn!$C:$AN,H$1,0) -> 255 | I13: =H13+VLOOKUP($C13,giorn!$C:$AN,I$1,0) -> 319 | J13: =I13+VLOOKUP($C13,giorn!$C:$AN,J$1,0) -> 399.5 | K13: =J13+VLOOKUP($C13,giorn!$C:$AN,K$1,0) -> 471.5 | L13: =K13+VLOOKUP($C13,giorn!$C:$AN,L$1,0) -> 535 | M13: =L13+VLOOKUP($C13,giorn!$C:$AN,M$1,0) -> 617.5 | ... W13: =V13+VLOOKUP($C13,giorn!$C:$AN,W$1,0) -> 1334.5
... B36: tombecker | C36: tombecker | E36: 75 | F36: =E36+VLOOKUP($C36,giorn!$C:$AN,F$1,0) -> 136 | G36: =F36+VLOOKUP($C36,giorn!$C:$AN,G$1,0) -> 205.5 | H36: =G36+VLOOKUP($C36,giorn!$C:$AN,H$1,0) -> 277.5 | I36: =H36+VLOOKUP($C36,giorn!$C:$AN,I$1,0) -> 349.5 | J36: =I36+VLOOKUP($C36,giorn!$C:$AN,J$1,0) -> 417.5 | K36: =J36+VLOOKUP($C36,giorn!$C:$AN,K$1,0) -> 490.5 | L36: =K36+VLOOKUP($C36,giorn!$C:$AN,L$1,0) -> 566.5 | M36: =L36+VLOOKUP($C36,giorn!$C:$AN,M$1,0) -> 643.5 | ... W36: =V36+VLOOKUP($C36,giorn!$C:$AN,W$1,0) -> 1370

Sheet val_rose
B1: squadra | C1: utente | D1: 2 | E1: 3 | F1: 4 | G1: 5 | H1: 6 | I1: 7 | J1: 8 | K1: 9 | L1: 10 | M1: 11 | N1: 12 | O1: 13 | P1: 14 | Q1: 15 | R1: 16 | S1: 17 | T1: 18 | U1: 19 | V1: 20 | W1: 21 | X1: 22 | Y1: 23 | Z1: 24 | AA1: 25 | AB1: 26 | AC1: 27 | AD1: 28 | AE1: 29 | AF1: 30 | AG1: 31 | AH1: 32 | AI1: 33 | AJ1: 34 | AK1: 35 | AL1: 36 | AM1: 37 | AN1: 38
B2: 19angelo85 | C2: 19angelo85 | D2: 190 | E2: 196 | F2: 196 | G2: 196 | H2: 197 | I2: 196 | J2: 215 | K2: 220 | L2: 224 | M2: 235 | N2: 235 | O2: 235 | P2: 235 | Q2: 233 | R2: 239 | S2: 241 | T2: 247 | U2: 246 | V2: 247 | W2: 245
B3: maGGica! | C3: adrian28scbr | D3: 190 | E3: 200 | F3: 201 | G3: 201 | H3: 209 | I3: 210 | J3: 220 | K3: 225 | L3: 229 | M3: 235 | N3: 239 | O3: 239 | P3: 240 | Q3: 243 | R3: 251 | S3: 252 | T3: 255 | U3: 258 | V3: 257 | W3: 261
B4: alebolo | C4: alebolo | D4: 190 | E4: 194 | F4: 196 | G4: 196 | H4: 199 | I4: 209 | J4: 223 | K4: 232 | L4: 233 | M4: 246 | N4: 254 | O4: 260 | P4: 262 | Q4: 276 | R4: 283 | S4: 289 | T4: 287 | U4: 292 | V4: 290 | W4: 293
B5: OnceUponATime | C5: alexein11 | D5: 190 | E5: 196 | F5: 197 | G5: 197 | H5: 200 | I5: 199 | J5: 211 | K5: 217 | L5: 223 | M5: 231 | N5: 226 | O5: 230 | P5: 231 | Q5: 240 | R5: 253 | S5: 255 | T5: 256 | U5: 255 | V5: 255 | W5: 262
B6: Atletico Sereno | C6: andreabrescia | D6: 190 | E6: 199 | F6: 197 | G6: 197 | H6: 201 | I6: 204 | J6: 209 | K6: 211 | L6: 218 | M6: 223 | N6: 226 | O6: 226 | P6: 231 | Q6: 237 | R6: 239 | S6: 244 | T6: 251 | U6: 256 | V6: 256 | W6: 260
B7: I Velieri | C7: bremec | D7: 190 | E7: 196 | F7: 198 | G7: 198 | H7: 206 | I7: 212 | J7: 216 | K7: 220 | L7: 220 | M7: 226 | N7: 224 | O7: 228 | P7: 225 | Q7: 224 | R7: 230 | S7: 232 | T7: 230 | U7: 235 | V7: 242 | W7: 243
B8: capirexligamilan | C8: capirexligamilan | D8: 190 | E8: 196 | F8: 199 | G8: 199 | H8: 198 | I8: 203 | J8: 204 | K8: 204 | L8: 203 | M8: 207 | N8: 207 | O8: 208 | P8: 207 | Q8: 209 | R8: 209 | S8: 212 | T8: 212 | U8: 214 | V8: 219 | W8: 214
B9: catania | C9: catania | D9: 190 | E9: 193 | F9: 189 | G9: 189 | H9: 198 | I9: 200 | J9: 207 | K9: 210 | L9: 213 | M9: 223 | N9: 228 | O9: 227 | P9: 229 | Q9: 234 | R9: 239 | S9: 240 | T9: 240 | U9: 246 | V9: 246 | W9: 250
B10: Brontefantasy | C10: catania5556 | D10: 190 | E10: 187 | F10: 186 | G10: 186 | H10: 195 | I10: 192 | J10: 204 | K10: 209 | L10: 210 | M10: 225 | N10: 228 | O10: 232 | P10: 233 | Q10: 233 | R10: 241 | S10: 241 | T10: 242 | U10: 248 | V10: 252 | W10: 255
B11: ciro51 | C11: ciro51 | D11: 190 | E11: 199 | F11: 195 | G11: 195 | H11: 195 | I11: 199 | J11: 208 | K11: 210 | L11: 212 | M11: 216 | N11: 217 | O11: 219 | P11: 217 | Q11: 216 | R11: 217 | S11: 221 | T11: 229 | U11: 232 | V11: 231 | W11: 230
B12: AsiAssonNaty | C12: clamore22 | D12: 190 | E12: 199 | F12: 199 | G12: 199 | H12: 204 | I12: 209 | J12: 221 | K12: 222 | L12: 228 | M12: 241 | N12: 243 | O12: 245 | P12: 242 | Q12: 253 | R12: 261 | S12: 262 | T12: 264 | U12: 266 | V12: 268 | W12: 269
B13: Goomba | C13: crah83 | D13: 190 | E13: 201 | F13: 197 | G13: 197 | H13: 194 | I13: 195 | J13: 217 | K13: 224 | L13: 223 | M13: 234 | N13: 236 | O13: 239 | P13: 237 | Q13: 244 | R13: 248 | S13: 249 | T13: 258 | U13: 267 | V13: 271 | W13: 270
... B36: tombecker | C36: tombecker | D36: 190 | E36: 197 | F36: 193 | G36: 193 | H36: 196 | I36: 199 | J36: 209 | K36: 217 | L36: 219 | M36: 225 | N36: 232 | O36: 231 | P36: 229 | Q36: 239 | R36: 240 | S36: 246 | T36: 247 | U36: 249 | V36: 247 | W36: 252

Sheet mod
B1: squadra | C1: utente | D1: tot | E1: 3 | F1: 4 | G1: 5 | H1: 6 | I1: 7 | J1: 8 | K1: 9 | L1: 10 | M1: 11 | N1: 12 | O1: 13 | P1: 14 | Q1: 15 | R1: 16 | S1: 17 | T1: 18 | U1: 19 | V1: 20 | W1: 21 | X1: 22 | Y1: 23 | Z1: 24 | AA1: 25 | AB1: 26 | AC1: 27 | AD1: 28 | AE1: 29 | AF1: 30 | AG1: 31 | AH1: 32 | AI1: 33 | AJ1: 34 | AK1: 35 | AL1: 36 | AM1: 37 | AN1: 38
B2: 19angelo85 | C2: 19angelo85 | D2: =SUM(E2:AN2) -> 17 | E2: 1 | F2: 1 | G2: 1 | H2: 0 | I2: 1 | J2: 1 | K2: 1 | L2: 0 | M2: 1 | N2: 1 | O2: 1 | P2: 1 | Q2: 1 | R2: 1 | S2: 3 | T2: 1 | U2: 0 | V2: 0 | W2: 1
B3: A.C. Javier Pastore | C3: matteo9502 | D3: =SUM(E3:AN3) -> 9 | E3: 0 | F3: 0 | G3: 1 | H3: 0 | I3: 1 | J3: 1 | K3: 0 | L3: 1 | M3: 0 | N3: 1 | O3: 0 | P3: 1 | Q3: 1 | R3: 1 | S3: 0 | T3: 1 | U3: 0 | V3: 0 | W3: 0
B4: alebolo | C4: alebolo | D4: =SUM(E4:AN4) -> 8 | E4: 0 | F4: 0 | G4: 0 | H4: 0 | I4: 0 | J4: 0 | K4: 0 | L4: 1 | M4: 3 | N4: 1 | O4: 1 | P4: 1 | Q4: 1 | R4: 0 | S4: 0 | T4: 0 | U4: 0 | V4: 0 | W4: 0
B5: AsiAssonNaty | C5: clamore22 | D5: =SUM(E5:AN5) -> 5 | E5: 0 | F5: 0 | G5: 0 | H5: 0 | I5: 0 | J5: 1 | K5: 1 | L5: 0 | M5: 0 | N5: 1 | O5: 0 | P5: 0 | Q5: 1 | R5: 0 | S5: 0 | T5: 0 | U5: 0 | V5: 0 | W5: 1
B6: Atletico Sereno | C6: andreabrescia | D6: =SUM(E6:AN6) -> 15 | E6: 1 | F6: 1 | G6: 3 | H6: 0 | I6: 0 | J6: 1 | K6: 1 | L6: 1 | M6: 1 | N6: 1 | O6: 1 | P6: 1 | Q6: 0 | R6: 1 | S6: 1 | T6: 0 | U6: 0 | V6: 0 | W6: 1
B7: Brontefantasy | C7: catania5556 | D7: =SUM(E7:AN7) -> 7 | E7: 0 | F7: 0 | G7: 0 | H7: 3 | I7: 0 | J7: 0 | K7: 1 | L7: 3 | M7: 0 | N7: 0 | O7: 0 | P7: 0 | Q7: 0 | R7: 0 | S7: 0 | T7: 0 | U7: 0 | V7: 0 | W7: 0
B8: capirexligamilan | C8: capirexligamilan | D8: =SUM(E8:AN8) -> 0 | E8: 0 | F8: 0 | G8: 0 | H8: 0 | I8: 0 | J8: 0 | K8: 0 | L8: 0 | M8: 0 | N8: 0 | O8: 0 | P8: 0 | Q8: 0 | R8: 0 | S8: 0 | T8: 0 | U8: 0 | V8: 0 | W8: 0
B9: catania | C9: catania | D9: =SUM(E9:AN9) -> 5 | E9: 1 | F9: 1 | G9: 0 | H9: 0 | I9: 0 | J9: 0 | K9: 1 | L9: 1 | M9: 0 | N9: 0 | O9: 0 | P9: 0 | Q9: 0 | R9: 0 | S9: 0 | T9: 0 | U9: 1 | V9: 0 | W9: 0
B10: ciro51 | C10: ciro51 | D10: =SUM(E10:AN10) -> 23 | E10: 3 | F10: 1 | G10: 3 | H10: 1 | I10: 3 | J10: 1 | K10: 1 | L10: 1 | M10: 0 | N10: 0 | O10: 1 | P10: 0 | Q10: 1 | R10: 1 | S10: 3 | T10: 1 | U10: 0 | V10: 1 | W10: 1
B11: diego89 | C11: diego89 | D11: =SUM(E11:AN11) -> 24 | E11: 1 | F11: 1 | G11: 1 | H11: 1 | I11: 3 | J11: 1 | K11: 1 | L11: 1 | M11: 1 | N11: 0 | O11: 1 | P11: 3 | Q11: 3 | R11: 1 | S11: 3 | T11: 1 | U11: 0 | V11: 0 | W11: 1
B12: Eroi nel vento | C12: ogeid36 | D12: =SUM(E12:AN12) -> 20 | E12: 3 | F12: 1 | G12: 1 | H12: 1 | I12: 1 | J12: 1 | K12: 1 | L12: 1 | M12: 0 | N12: 1 | O12: 1 | P12: 1 | Q12: 3 | R12: 1 | S12: 3 | T12: 0 | U12: 0 | V12: 0 | W12: 0
B13: Fanta Lightman | C13: lightman | D13: =SUM(E13:AN13) -> 10 | E13: 1 | F13: 0 | G13: 0 | H13: 0 | I13: 1 | J13: 0 | K13: 1 | L13: 1 | M13: 0 | N13: 1 | O13: 0 | P13: 1 | Q13: 1 | R13: 0 | S13: 1 | T13: 1 | U13: 0 | V13: 0 | W13: 1
... B36: Van Persie sul campo | C36: thor01 | D36: =SUM(E36:AN36) -> 15 | E36: 1 | F36: 0 | G36: 1 | H36: 3 | I36: 1 | J36: 1 | K36: 1 | L36: 1 | M36: 1 | N36: 1 | O36: 1 | P36: 0 | Q36: 0 | R36: 1 | S36: 0 | T36: 0 | U36: 1 | V36: 0 | W36: 1

Sheet cambi
B1: squadra | C1: utente | D1: 2 | E1: 3 | F1: 4 | G1: 5 | H1: 6 | I1: 7 | J1: 8 | K1: 9 | L1: 10 | M1: 11 | N1: 12 | O1: 13 | P1: 14 | Q1: 15 | R1: 16 | S1: 17 | T1: 18 | U1: 19 | V1: 20 | W1: 21 | X1: 22 | Y1: 23 | Z1: 24 | AA1: 25 | AB1: 26 | AC1: 27 | AD1: 28 | AE1: 29 | AF1: 30 | AG1: 31 | AH1: 32 | AI1: 33 | AJ1: 34 | AK1: 35 | AL1: 36 | AM1: 37 | AN1: 38
B2: 19angelo85 | C2: 19angelo85 | D2: 16 | E2: 16 | F2: 16 | G2: 16 | H2: 16 | I2: 16 | J2: 15 | K2: 14 | L2: 9 | M2: 9 | N2: 9 | O2: 8 | P2: 8 | Q2: 8 | R2: 8 | S2: 8 | T2: 8 | U2: 8 | V2: 8 | W2: 8
B3: maGGica! | C3: adrian28scbr | D3: 16 | E3: 16 | F3: 16 | G3: 16 | H3: 14 | I3: 14 | J3: 14 | K3: 11 | L3: 11 | M3: 11 | N3: 9 | O3: 9 | P3: 9 | Q3: 8 | R3: 8 | S3: 8 | T3: 8 | U3: 8 | V3: 6 | W3: 6
B4: alebolo | C4: alebolo | D4: 16 | E4: 16 | F4: 16 | G4: 16 | H4: 16 | I4: 13 | J4: 13 | K4: 11 | L4: 11 | M4: 11 | N4: 11 | O4: 11 | P4: 9 | Q4: 9 | R4: 6 | S4: 6 | T4: 6 | U4: 6 | V4: 3 | W4: 3
B5: OnceUponATime | C5: alexein11 | D5: 16 | E5: 16 | F5: 16 | G5: 16 | H5: 13 | I5: 13 | J5: 13 | K5: 12 | L5: 12 | M5: 12 | N5: 12 | O5: 12 | P5: 12 | Q5: 12 | R5: 12 | S5: 9 | T5: 9 | U5: 5 | V5: 5 | W5: 5
B6: Atletico Sereno | C6: andreabrescia | D6: 16 | E6: 16 | F6: 14 | G6: 14 | H6: 14 | I6: 10 | J6: 10 | K6: 7 | L6: 7 | M6: 5 | N6: 5 | O6: 2 | P6: 1 | Q6: 1 | R6: 1 | S6: 1 | T6: 1 | U6: 1 | V6: 1 | W6: 1
B7: I Velieri | C7: bremec | D7: 16 | E7: 16 | F7: 16 | G7: 16 | H7: 16 | I7: 16 | J7: 16 | K7: 14 | L7: 14 | M7: 14 | N7: 12 | O7: 10 | P7: 10 | Q7: 10 | R7: 10 | S7: 10 | T7: 5 | U7: 5 | V7: 5 | W7: 5
B8: capirexligamilan | C8: capirexligamilan | D8: 16 | E8: 16 | F8: 16 | G8: 16 | H8: 16 | I8: 16 | J8: 16 | K8: 16 | L8: 16 | M8: 16 | N8: 16 | O8: 16 | P8: 16 | Q8: 16 | R8: 16 | S8: 16 | T8: 16 | U8: 16 | V8: 16 | W8: 16
B9: catania | C9: catania | D9: 16 | E9: 16 | F9: 16 | G9: 15 | H9: 15 | I9: 15 | J9: 15 | K9: 15 | L9: 15 | M9: 15 | N9: 14 | O9: 11 | P9: 10 | Q9: 10 | R9: 10 | S9: 10 | T9: 10 | U9: 10 | V9: 8 | W9: 8
B10: Brontefantasy | C10: catania5556 | D10: 16 | E10: 16 | F10: 13 | G10: 11 | H10: 11 | I10: 10 | J10: 10 | K10: 8 | L10: 7 | M10: 5 | N10: 5 | O10: 5 | P10: 4 | Q10: 4 | R10: 4 | S10: 4 | T10: 4 | U10: 4 | V10: 2 | W10: 2
B11: ciro51 | C11: ciro51 | D11: 16 | E11: 16 | F11: 16 | G11: 14 | H11: 14 | I11: 11 | J11: 11 | K11: 11 | L11: 11 | M11: 11 | N11: 11 | O11: 11 | P11: 11 | Q11: 10 | R11: 10 | S11: 9 | T11: 9 | U11: 9 | V11: 1 | W11: 1
B12: AsiAssonNaty | C12: clamore22 | D12: 16 | E12: 16 | F12: 15 | G12: 13 | H12: 12 | I12: 12 | J12: 12 | K12: 9 | L12: 8 | M12: 8 | N12: 8 | O12: 6 | P12: 6 | Q12: 5 | R12: 5 | S12: 5 | T12: 5 | U12: 5 | V12: 5 | W12: 4
B13: Goomba | C13: crah83 | D13: 16 | E13: 16 | F13: 14 | G13: 14 | H13: 14 | I13: 14 | J13: 11 | K13: 8 | L13: 6 | M13: 6 | N13: 6 | O13: 6 | P13: 6 | Q13: 6 | R13: 6 | S13: 4 | T13: 4 | U13: 4 | V13: 4 | W13: 4
... B36: tombecker | C36: tombecker | D36: 16 | E36: 16 | F36: 16 | G36: 16 | H36: 16 | I36: 15 | J36: 12 | K36: 9 | L36: 9 | M36: 9 | N36: 9 | O36: 9 | P36: 9 | Q36: 9 | R36: 9 | S36: 9 | T36: 9 | U36: 6 | V36: 6 | W36: 6

Sheet dist_1o
B1: squadra | C1: utente | E1: 3 | F1: 4 | G1: 5 | H1: 6 | I1: 7 | J1: 8 | K1: 9 | L1: 10 | M1: 11 | N1: 12 | O1: 13 | P1: 14 | Q1: 15 | R1: 16 | S1: 17 | T1: 18 | U1: 19 | V1: 20 | W1: 21 | X1: 22 | Y1: 23 | Z1: 24 | AA1: 25 | AB1: 26 | AC1: 27 | AD1: 28 | AE1: 29 | AF1: 30 | AG1: 31 | AH1: 32 | AI1: 33 | AJ1: 34 | AK1: 35 | AL1: 36 | AM1: 37 | AN1: 38
B2: 19angelo85 | C2: 19angelo85 | E2: =MAX(class!E:E)-VLOOKUP($C2,class!$C:$AN,E$1,0) -> 13 | F2: =MAX(class!F:F)-VLOOKUP($C2,class!$C:$AN,F$1,0) -> 17 | G2: =MAX(class!G:G)-VLOOKUP($C2,class!$C:$AN,G$1,0) -> 26.5 | H2: =MAX(class!H:H)-VLOOKUP($C2,class!$C:$AN,H$1,0) -> 36 | I2: =MAX(class!I:I)-VLOOKUP($C2,class!$C:$AN,I$1,0) -> 43.5 | J2: =MAX(class!J:J)-VLOOKUP($C2,class!$C:$AN,J$1,0) -> 51.5 | K2: =MAX(class!K:K)-VLOOKUP($C2,class!$C:$AN,K$1,0) -> 47 | L2: =MAX(class!L:L)-VLOOKUP($C2,class!$C:$AN,L$1,0) -> 41.5 | M2: =MAX(class!M:M)-VLOOKUP($C2,class!$C:$AN,M$1,0) -> 35 | N2: =MAX(class!N:N)-VLOOKUP($C2,class!$C:$AN,N$1,0) -> 37.5 | O2: =MAX(class!O:O)-VLOOKUP($C2,class!$C:$AN,O$1,0) -> 36 | P2: =MAX(class!P:P)-VLOOKUP($C2,class!$C:$AN,P$1,0) -> 45.5 | Q2: =MAX(class!Q:Q)-VLOOKUP($C2,class!$C:$AN,Q$1,0) -> 56.5 | R2: =MAX(class!R:R)-VLOOKUP($C2,class!$C:$AN,R$1,0) -> 65 | S2: =MAX(class!S:S)-VLOOKUP($C2,class!$C:$AN,S$1,0) -> 68.5 | T2: =MAX(class!T:T)-VLOOKUP($C2,class!$C:$AN,T$1,0) -> 66 | U2: =MAX(class!U:U)-VLOOKUP($C2,class!$C:$AN,U$1,0) -> 89 | V2: =MAX(class!V:V)-VLOOKUP($C2,class!$C:$AN,V$1,0) -> 93.5 | W2: =MAX(class!W:W)-VLOOKUP($C2,class!$C:$AN,W$1,0) -> 103.5
B3: maGGica! | C3: adrian28scbr | E3: =MAX(class!E:E)-VLOOKUP($C3,class!$C:$AN,E$1,0) -> 1 | F3: =MAX(class!F:F)-VLOOKUP($C3,class!$C:$AN,F$1,0) -> 0 | G3: =MAX(class!G:G)-VLOOKUP($C3,class!$C:$AN,G$1,0) -> 0 | H3: =MAX(class!H:H)-VLOOKUP($C3,class!$C:$AN,H$1,0) -> 0 | I3: =MAX(class!I:I)-VLOOKUP($C3,class!$C:$AN,I$1,0) -> 0 | J3: =MAX(class!J:J)-VLOOKUP($C3,class!$C:$AN,J$1,0) -> 0 | K3: =MAX(class!K:K)-VLOOKUP($C3,class!$C:$AN,K$1,0) -> 0 | L3: =MAX(class!L:L)-VLOOKUP($C3,class!$C:$AN,L$1,0) -> 0 | M3: =MAX(class!M:M)-VLOOKUP($C3,class!$C:$AN,M$1,0) -> 0 | N3: =MAX(class!N:N)-VLOOKUP($C3,class!$C:$AN,N$1,0) -> 0 | O3: =MAX(class!O:O)-VLOOKUP($C3,class!$C:$AN,O$1,0) -> 0 | P3: =MAX(class!P:P)-VLOOKUP($C3,class!$C:$AN,P$1,0) -> 0 | Q3: =MAX(class!Q:Q)-VLOOKUP($C3,class!$C:$AN,Q$1,0) -> 0 | R3: =MAX(class!R:R)-VLOOKUP($C3,class!$C:$AN,R$1,0) -> 0 | S3: =MAX(class!S:S)-VLOOKUP($C3,class!$C:$AN,S$1,0) -> 0 | T3: =MAX(class!T:T)-VLOOKUP($C3,class!$C:$AN,T$1,0) -> 0 | U3: =MAX(class!U:U)-VLOOKUP($C3,class!$C:$AN,U$1,0) -> 0 | V3: =MAX(class!V:V)-VLOOKUP($C3,class!$C:$AN,V$1,0) -> 0 | W3: =MAX(class!W:W)-VLOOKUP($C3,class!$C:$AN,W$1,0) -> 0
B4: alebolo | C4: alebolo | E4: =MAX(class!E:E)-VLOOKUP($C4,class!$C:$AN,E$1,0) -> 18 | F4: =MAX(class!F:F)-VLOOKUP($C4,class!$C:$AN,F$1,0) -> 29 | G4: =MAX(class!G:G)-VLOOKUP($C4,class!$C:$AN,G$1,0) -> 42.5 | H4: =MAX(class!H:H)-VLOOKUP($C4,class!$C:$AN,H$1,0) -> 51 | I4: =MAX(class!I:I)-VLOOKUP($C4,class!$C:$AN,I$1,0) -> 46 | J4: =MAX(class!J:J)-VLOOKUP($C4,class!$C:$AN,J$1,0) -> 58 | K4: =MAX(class!K:K)-VLOOKUP($C4,class!$C:$AN,K$1,0) -> 57.5 | L4: =MAX(class!L:L)-VLOOKUP($C4,class!$C:$AN,L$1,0) -> 51 | M4: =MAX(class!M:M)-VLOOKUP($C4,class!$C:$AN,M$1,0) -> 52 | N4: =MAX(class!N:N)-VLOOKUP($C4,class!$C:$AN,N$1,0) -> 40 | O4: =MAX(class!O:O)-VLOOKUP($C4,class!$C:$AN,O$1,0) -> 42 | P4: =MAX(class!P:P)-VLOOKUP($C4,class!$C:$AN,P$1,0) -> 46.5 | Q4: =MAX(class!Q:Q)-VLOOKUP($C4,class!$C:$AN,Q$1,0) -> 37.5 | R4: =MAX(class!R:R)-VLOOKUP($C4,class!$C:$AN,R$1,0) -> 50.5 | S4: =MAX(class!S:S)-VLOOKUP($C4,class!$C:$AN,S$1,0) -> 43 | T4: =MAX(class!T:T)-VLOOKUP($C4,class!$C:$AN,T$1,0) -> 59 | U4: =MAX(class!U:U)-VLOOKUP($C4,class!$C:$AN,U$1,0) -> 60 | V4: =MAX(class!V:V)-VLOOKUP($C4,class!$C:$AN,V$1,0) -> 66.5 | W4: =MAX(class!W:W)-VLOOKUP($C4,class!$C:$AN,W$1,0) -> 70.5
B5: OnceUponATime | C5: alexein11 | E5: =MAX(class!E:E)-VLOOKUP($C5,class!$C:$AN,E$1,0) -> 8 | F5: =MAX(class!F:F)-VLOOKUP($C5,class!$C:$AN,F$1,0) -> 17 | G5: =MAX(class!G:G)-VLOOKUP($C5,class!$C:$AN,G$1,0) -> 33 | H5: =MAX(class!H:H)-VLOOKUP($C5,class!$C:$AN,H$1,0) -> 42 | I5: =MAX(class!I:I)-VLOOKUP($C5,class!$C:$AN,I$1,0) -> 53.5 | J5: =MAX(class!J:J)-VLOOKUP($C5,class!$C:$AN,J$1,0) -> 59 | K5: =MAX(class!K:K)-VLOOKUP($C5,class!$C:$AN,K$1,0) -> 47.5 | L5: =MAX(class!L:L)-VLOOKUP($C5,class!$C:$AN,L$1,0) -> 47.5 | M5: =MAX(class!M:M)-VLOOKUP($C5,class!$C:$AN,M$1,0) -> 49 | N5: =MAX(class!N:N)-VLOOKUP($C5,class!$C:$AN,N$1,0) -> 58 | O5: =MAX(class!O:O)-VLOOKUP($C5,class!$C:$AN,O$1,0) -> 58.5 | P5: =MAX(class!P:P)-VLOOKUP($C5,class!$C:$AN,P$1,0) -> 68 | Q5: =MAX(class!Q:Q)-VLOOKUP($C5,class!$C:$AN,Q$1,0) -> 61.5 | R5: =MAX(class!R:R)-VLOOKUP($C5,class!$C:$AN,R$1,0) -> 55 | S5: =MAX(class!S:S)-VLOOKUP($C5,class!$C:$AN,S$1,0) -> 61 | T5: =MAX(class!T:T)-VLOOKUP($C5,class!$C:$AN,T$1,0) -> 68 | U5: =MAX(class!U:U)-VLOOKUP($C5,class!$C:$AN,U$1,0) -> 76 | V5: =MAX(class!V:V)-VLOOKUP($C5,class!$C:$AN,V$1,0) -> 83.5 | W5: =MAX(class!W:W)-VLOOKUP($C5,class!$C:$AN,W$1,0) -> 78
B6: Atletico Sereno | C6: andreabrescia | E6: =MAX(class!E:E)-VLOOKUP($C6,class!$C:$AN,E$1,0) -> 9.5 | F6: =MAX(class!F:F)-VLOOKUP($C6,class!$C:$AN,F$1,0) -> 20 | G6: =MAX(class!G:G)-VLOOKUP($C6,class!$C:$AN,G$1,0) -> 22.5 | H6: =MAX(class!H:H)-VLOOKUP($C6,class!$C:$AN,H$1,0) -> 29.5 | I6: =MAX(class!I:I)-VLOOKUP($C6,class!$C:$AN,I$1,0) -> 34 | J6: =MAX(class!J:J)-VLOOKUP($C6,class!$C:$AN,J$1,0) -> 42 | K6: =MAX(class!K:K)-VLOOKUP($C6,class!$C:$AN,K$1,0) -> 42.5 | L6: =MAX(class!L:L)-VLOOKUP($C6,class!$C:$AN,L$1,0) -> 38 | M6: =MAX(class!M:M)-VLOOKUP($C6,class!$C:$AN,M$1,0) -> 38.5 | N6: =MAX(class!N:N)-VLOOKUP($C6,class!$C:$AN,N$1,0) -> 39.5 | O6: =MAX(class!O:O)-VLOOKUP($C6,class!$C:$AN,O$1,0) -> 37 | P6: =MAX(class!P:P)-VLOOKUP($C6,class!$C:$AN,P$1,0) -> 52 | Q6: =MAX(class!Q:Q)-VLOOKUP($C6,class!$C:$AN,Q$1,0) -> 46.5 | R6: =MAX(class!R:R)-VLOOKUP($C6,class!$C:$AN,R$1,0) -> 58 | S6: =MAX(class!S:S)-VLOOKUP($C6,class!$C:$AN,S$1,0) -> 55.5 | T6: =MAX(class!T:T)-VLOOKUP($C6,class!$C:$AN,T$1,0) -> 53 | U6: =MAX(class!U:U)-VLOOKUP($C6,class!$C:$AN,U$1,0) -> 54.5 | V6: =MAX(class!V:V)-VLOOKUP($C6,class!$C:$AN,V$1,0) -> 58 | W6: =MAX(class!W:W)-VLOOKUP($C6,class!$C:$AN,W$1,0) -> 57
B7: I Velieri | C7: bremec | E7: =MAX(class!E:E)-VLOOKUP($C7,class!$C:$AN,E$1,0) -> 16 | F7: =MAX(class!F:F)-VLOOKUP($C7,class!$C:$AN,F$1,0) -> 14 | G7: =MAX(class!G:G)-VLOOKUP($C7,class!$C:$AN,G$1,0) -> 14 | H7: =MAX(class!H:H)-VLOOKUP($C7,class!$C:$AN,H$1,0) -> 19.5 | I7: =MAX(class!I:I)-VLOOKUP($C7,class!$C:$AN,I$1,0) -> 13.5 | J7: =MAX(class!J:J)-VLOOKUP($C7,class!$C:$AN,J$1,0) -> 27 | K7: =MAX(class!K:K)-VLOOKUP($C7,class!$C:$AN,K$1,0) -> 28 | L7: =MAX(class!L:L)-VLOOKUP($C7,class!$C:$AN,L$1,0) -> 30 | M7: =MAX(class!M:M)-VLOOKUP($C7,class!$C:$AN,M$1,0) -> 32.5 | N7: =MAX(class!N:N)-VLOOKUP($C7,class!$C:$AN,N$1,0) -> 42 | O7: =MAX(class!O:O)-VLOOKUP($C7,class!$C:$AN,O$1,0) -> 43.5 | P7: =MAX(class!P:P)-VLOOKUP($C7,class!$C:$AN,P$1,0) -> 56 | Q7: =MAX(class!Q:Q)-VLOOKUP($C7,class!$C:$AN,Q$1,0) -> 67.5 | R7: =MAX(class!R:R)-VLOOKUP($C7,class!$C:$AN,R$1,0) -> 83 | S7: =MAX(class!S:S)-VLOOKUP($C7,class!$C:$AN,S$1,0) -> 85 | T7: =MAX(class!T:T)-VLOOKUP($C7,class!$C:$AN,T$1,0) -> 103.5 | U7: =MAX(class!U:U)-VLOOKUP($C7,class!$C:$AN,U$1,0) -> 106.5 | V7: =MAX(class!V:V)-VLOOKUP($C7,class!$C:$AN,V$1,0) -> 111 | W7: =MAX(class!W:W)-VLOOKUP($C7,class!$C:$AN,W$1,0) -> 116
B8: capirexligamilan | C8: capirexligamilan | E8: =MAX(class!E:E)-VLOOKUP($C8,class!$C:$AN,E$1,0) -> 18 | F8: =MAX(class!F:F)-VLOOKUP($C8,class!$C:$AN,F$1,0) -> 21 | G8: =MAX(class!G:G)-VLOOKUP($C8,class!$C:$AN,G$1,0) -> 32.5 | H8: =MAX(class!H:H)-VLOOKUP($C8,class!$C:$AN,H$1,0) -> 50 | I8: =MAX(class!I:I)-VLOOKUP($C8,class!$C:$AN,I$1,0) -> 47 | J8: =MAX(class!J:J)-VLOOKUP($C8,class!$C:$AN,J$1,0) -> 67.5 | K8: =MAX(class!K:K)-VLOOKUP($C8,class!$C:$AN,K$1,0) -> 77.5 | L8: =MAX(class!L:L)-VLOOKUP($C8,class!$C:$AN,L$1,0) -> 80 | M8: =MAX(class!M:M)-VLOOKUP($C8,class!$C:$AN,M$1,0) -> 83 | N8: =MAX(class!N:N)-VLOOKUP($C8,class!$C:$AN,N$1,0) -> 91.5 | O8: =MAX(class!O:O)-VLOOKUP($C8,class!$C:$AN,O$1,0) -> 89 | P8: =MAX(class!P:P)-VLOOKUP($C8,class!$C:$AN,P$1,0) -> 107.5 | Q8: =MAX(class!Q:Q)-VLOOKUP($C8,class!$C:$AN,Q$1,0) -> 116.5 | R8: =MAX(class!R:R)-VLOOKUP($C8,class!$C:$AN,R$1,0) -> 141.5 | S8: =MAX(class!S:S)-VLOOKUP($C8,class!$C:$AN,S$1,0) -> 155.5 | T8: =MAX(class!T:T)-VLOOKUP($C8,class!$C:$AN,T$1,0) -> 179.5 | U8: =MAX(class!U:U)-VLOOKUP($C8,class!$C:$AN,U$1,0) -> 189.5 | V8: =MAX(class!V:V)-VLOOKUP($C8,class!$C:$AN,V$1,0) -> 184.5 | W8: =MAX(class!W:W)-VLOOKUP($C8,class!$C:$AN,W$1,0) -> 208
B9: catania | C9: catania | E9: =MAX(class!E:E)-VLOOKUP($C9,class!$C:$AN,E$1,0) -> 16.5 | F9: =MAX(class!F:F)-VLOOKUP($C9,class!$C:$AN,F$1,0) -> 26 | G9: =MAX(class!G:G)-VLOOKUP($C9,class!$C:$AN,G$1,0) -> 31.5 | H9: =MAX(class!H:H)-VLOOKUP($C9,class!$C:$AN,H$1,0) -> 36 | I9: =MAX(class!I:I)-VLOOKUP($C9,class!$C:$AN,I$1,0) -> 41 | J9: =MAX(class!J:J)-VLOOKUP($C9,class!$C:$AN,J$1,0) -> 51 | K9: =MAX(class!K:K)-VLOOKUP($C9,class!$C:$AN,K$1,0) -> 50 | L9: =MAX(class!L:L)-VLOOKUP($C9,class!$C:$AN,L$1,0) -> 43.5 | M9: =MAX(class!M:M)-VLOOKUP($C9,class!$C:$AN,M$1,0) -> 37.5 | N9: =MAX(class!N:N)-VLOOKUP($C9,class!$C:$AN,N$1,0) -> 30 | O9: =MAX(class!O:O)-VLOOKUP($C9,class!$C:$AN,O$1,0) -> 35 | P9: =MAX(class!P:P)-VLOOKUP($C9,class!$C:$AN,P$1,0) -> 41.5 | Q9: =MAX(class!Q:Q)-VLOOKUP($C9,class!$C:$AN,Q$1,0) -> 42.5 | R9: =MAX(class!R:R)-VLOOKUP($C9,class!$C:$AN,R$1,0) -> 52.5 | S9: =MAX(class!S:S)-VLOOKUP($C9,class!$C:$AN,S$1,0) -> 58.5 | T9: =MAX(class!T:T)-VLOOKUP($C9,class!$C:$AN,T$1,0) -> 73 | U9: =MAX(class!U:U)-VLOOKUP($C9,class!$C:$AN,U$1,0) -> 70 | V9: =MAX(class!V:V)-VLOOKUP($C9,class!$C:$AN,V$1,0) -> 73.5 | W9: =MAX(class!W:W)-VLOOKUP($C9,class!$C:$AN,W$1,0) -> 75
B10: Brontefantasy | C10: catania5556 | E10: =MAX(class!E:E)-VLOOKUP($C10,class!$C:$AN,E$1,0) -> 21.5 | F10: =MAX(class!F:F)-VLOOKUP($C10,class!$C:$AN,F$1,0) -> 32 | G10: =MAX(class!G:G)-VLOOKUP($C10,class!$C:$AN,G$1,0) -> 36 | H10: =MAX(class!H:H)-VLOOKUP($C10,class!$C:$AN,H$1,0) -> 36 | I10: =MAX(class!I:I)-VLOOKUP($C10,class!$C:$AN,I$1,0) -> 43 | J10: =MAX(class!J:J)-VLOOKUP($C10,class!$C:$AN,J$1,0) -> 63.5 | K10: =MAX(class!K:K)-VLOOKUP($C10,class!$C:$AN,K$1,0) -> 56 | L10: =MAX(class!L:L)-VLOOKUP($C10,class!$C:$AN,L$1,0) -> 50 | M10: =MAX(class!M:M)-VLOOKUP($C10,class!$C:$AN,M$1,0) -> 41.5 | N10: =MAX(class!N:N)-VLOOKUP($C10,class!$C:$AN,N$1,0) -> 37.5 | O10: =MAX(class!O:O)-VLOOKUP($C10,class!$C:$AN,O$1,0) -> 33.5 | P10: =MAX(class!P:P)-VLOOKUP($C10,class!$C:$AN,P$1,0) -> 46.5 | Q10: =MAX(class!Q:Q)-VLOOKUP($C10,class!$C:$AN,Q$1,0) -> 53.5 | R10: =MAX(class!R:R)-VLOOKUP($C10,class!$C:$AN,R$1,0) -> 61.5 | S10: =MAX(class!S:S)-VLOOKUP($C10,class!$C:$AN,S$1,0) -> 66.5 | T10: =MAX(class!T:T)-VLOOKUP($C10,class!$C:$AN,T$1,0) -> 80.5 | U10: =MAX(class!U:U)-VLOOKUP($C10,class!$C:$AN,U$1,0) -> 80 | V10: =MAX(class!V:V)-VLOOKUP($C10,class!$C:$AN,V$1,0) -> 72.5 | W10: =MAX(class!W:W)-VLOOKUP($C10,class!$C:$AN,W$1,0) -> 75.5
B11: ciro51 | C11: ciro51 | E11: =MAX(class!E:E)-VLOOKUP($C11,class!$C:$AN,E$1,0) -> 7 | F11: =MAX(class!F:F)-VLOOKUP($C11,class!$C:$AN,F$1,0) -> 18 | G11: =MAX(class!G:G)-VLOOKUP($C11,class!$C:$AN,G$1,0) -> 20 | H11: =MAX(class!H:H)-VLOOKUP($C11,class!$C:$AN,H$1,0) -> 35.5 | I11: =MAX(class!I:I)-VLOOKUP($C11,class!$C:$AN,I$1,0) -> 31 | J11: =MAX(class!J:J)-VLOOKUP($C11,class!$C:$AN,J$1,0) -> 36 | K11: =MAX(class!K:K)-VLOOKUP($C11,class!$C:$AN,K$1,0) -> 39 | L11: =MAX(class!L:L)-VLOOKUP($C11,class!$C:$AN,L$1,0) -> 32.5 | M11: =MAX(class!M:M)-VLOOKUP($C11,class!$C:$AN,M$1,0) -> 37.5 | N11: =MAX(class!N:N)-VLOOKUP($C11,class!$C:$AN,N$1,0) -> 42 | O11: =MAX(class!O:O)-VLOOKUP($C11,class!$C:$AN,O$1,0) -> 37 | P11: =MAX(class!P:P)-VLOOKUP($C11,class!$C:$AN,P$1,0) -> 45 | Q11: =MAX(class!Q:Q)-VLOOKUP($C11,class!$C:$AN,Q$1,0) -> 54.5 | R11: =MAX(class!R:R)-VLOOKUP($C11,class!$C:$AN,R$1,0) -> 68.5 | S11: =MAX(class!S:S)-VLOOKUP($C11,class!$C:$AN,S$1,0) -> 66.5 | T11: =MAX(class!T:T)-VLOOKUP($C11,class!$C:$AN,T$1,0) -> 61.5 | U11: =MAX(class!U:U)-VLOOKUP($C11,class!$C:$AN,U$1,0) -> 65 | V11: =MAX(class!V:V)-VLOOKUP($C11,class!$C:$AN,V$1,0) -> 65.5 | W11: =MAX(class!W:W)-VLOOKUP($C11,class!$C:$AN,W$1,0) -> 73
B12: AsiAssonNaty | C12: clamore22 | E12: =MAX(class!E:E)-VLOOKUP($C12,class!$C:$AN,E$1,0) -> 8 | F12: =MAX(class!F:F)-VLOOKUP($C12,class!$C:$AN,F$1,0) -> 18.5 | G12: =MAX(class!G:G)-VLOOKUP($C12,class!$C:$AN,G$1,0) -> 22 | H12: =MAX(class!H:H)-VLOOKUP($C12,class!$C:$AN,H$1,0) -> 26 | I12: =MAX(class!I:I)-VLOOKUP($C12,class!$C:$AN,I$1,0) -> 25 | J12: =MAX(class!J:J)-VLOOKUP($C12,class!$C:$AN,J$1,0) -> 31 | K12: =MAX(class!K:K)-VLOOKUP($C12,class!$C:$AN,K$1,0) -> 32 | L12: =MAX(class!L:L)-VLOOKUP($C12,class!$C:$AN,L$1,0) -> 24.5 | M12: =MAX(class!M:M)-VLOOKUP($C12,class!$C:$AN,M$1,0) -> 14.5 | N12: =MAX(class!N:N)-VLOOKUP($C12,class!$C:$AN,N$1,0) -> 19 | O12: =MAX(class!O:O)-VLOOKUP($C12,class!$C:$AN,O$1,0) -> 17 | P12: =MAX(class!P:P)-VLOOKUP($C12,class!$C:$AN,P$1,0) -> 24.5 | Q12: =MAX(class!Q:Q)-VLOOKUP($C12,class!$C:$AN,Q$1,0) -> 18 | R12: =MAX(class!R:R)-VLOOKUP($C12,class!$C:$AN,R$1,0) -> 24.5 | S12: =MAX(class!S:S)-VLOOKUP($C12,class!$C:$AN,S$1,0) -> 23 | T12: =MAX(class!T:T)-VLOOKUP($C12,class!$C:$AN,T$1,0) -> 32 | U12: =MAX(class!U:U)-VLOOKUP($C12,class!$C:$AN,U$1,0) -> 26 | V12: =MAX(class!V:V)-VLOOKUP($C12,class!$C:$AN,V$1,0) -> 24 | W12: =MAX(class!W:W)-VLOOKUP($C12,class!$C:$AN,W$1,0) -> 28
B13: Goomba | C13: crah83 | E13: =MAX(class!E:E)-VLOOKUP($C13,class!$C:$AN,E$1,0) -> 10.5 | F13: =MAX(class!F:F)-VLOOKUP($C13,class!$C:$AN,F$1,0) -> 26 | G13: =MAX(class!G:G)-VLOOKUP($C13,class!$C:$AN,G$1,0) -> 39.5 | H13: =MAX(class!H:H)-VLOOKUP($C13,class!$C:$AN,H$1,0) -> 54 | I13: =MAX(class!I:I)-VLOOKUP($C13,class!$C:$AN,I$1,0) -> 62 | J13: =MAX(class!J:J)-VLOOKUP($C13,class!$C:$AN,J$1,0) -> 64.5 | K13: =MAX(class!K:K)-VLOOKUP($C13,class!$C:$AN,K$1,0) -> 61.5 | L13: =MAX(class!L:L)-VLOOKUP($C13,class!$C:$AN,L$1,0) -> 63.5 | M13: =MAX(class!M:M)-VLOOKUP($C13,class!$C:$AN,M$1,0) -> 59.5 | N13: =MAX(class!N:N)-VLOOKUP($C13,class!$C:$AN,N$1,0) -> 66 | O13: =MAX(class!O:O)-VLOOKUP($C13,class!$C:$AN,O$1,0) -> 62.5 | P13: =MAX(class!P:P)-VLOOKUP($C13,class!$C:$AN,P$1,0) -> 75.5 | Q13: =MAX(class!Q:Q)-VLOOKUP($C13,class!$C:$AN,Q$1,0) -> 70.5 | R13: =MAX(class!R:R)-VLOOKUP($C13,class!$C:$AN,R$1,0) -> 80.5 | S13: =MAX(class!S:S)-VLOOKUP($C13,class!$C:$AN,S$1,0) -> 85.5 | T13: =MAX(class!T:T)-VLOOKUP($C13,class!$C:$AN,T$1,0) -> 83 | U13: =MAX(class!U:U)-VLOOKUP($C13,class!$C:$AN,U$1,0) -> 79 | V13: =MAX(class!V:V)-VLOOKUP($C13,class!$C:$AN,V$1,0) -> 72.5 | W13: =MAX(class!W:W)-VLOOKUP($C13,class!$C:$AN,W$1,0) -> 80.5
... B36: tombecker | C36: tombecker | E36: =MAX(class!E:E)-VLOOKUP($C36,class!$C:$AN,E$1,0) -> 10.5 | F36: =MAX(class!F:F)-VLOOKUP($C36,class!$C:$AN,F$1,0) -> 20 | G36: =MAX(class!G:G)-VLOOKUP($C36,class!$C:$AN,G$1,0) -> 21.5 | H36: =MAX(class!H:H)-VLOOKUP($C36,class!$C:$AN,H$1,0) -> 31.5 | I36: =MAX(class!I:I)-VLOOKUP($C36,class!$C:$AN,I$1,0) -> 31.5 | J36: =MAX(class!J:J)-VLOOKUP($C36,class!$C:$AN,J$1,0) -> 46.5 | K36: =MAX(class!K:K)-VLOOKUP($C36,class!$C:$AN,K$1,0) -> 42.5 | L36: =MAX(class!L:L)-VLOOKUP($C36,class!$C:$AN,L$1,0) -> 32 | M36: =MAX(class!M:M)-VLOOKUP($C36,class!$C:$AN,M$1,0) -> 33.5 | N36: =MAX(class!N:N)-VLOOKUP($C36,class!$C:$AN,N$1,0) -> 22.5 | O36: =MAX(class!O:O)-VLOOKUP($C36,class!$C:$AN,O$1,0) -> 23.5 | P36: =MAX(class!P:P)-VLOOKUP($C36,class!$C:$AN,P$1,0) -> 31 | Q36: =MAX(class!Q:Q)-VLOOKUP($C36,class!$C:$AN,Q$1,0) -> 22.5 | R36: =MAX(class!R:R)-VLOOKUP($C36,class!$C:$AN,R$1,0) -> 36.5 | S36: =MAX(class!S:S)-VLOOKUP($C36,class!$C:$AN,S$1,0) -> 29.5 | T36: =MAX(class!T:T)-VLOOKUP($C36,class!$C:$AN,T$1,0) -> 36.5 | U36: =MAX(class!U:U)-VLOOKUP($C36,class!$C:$AN,U$1,0) -> 43 | V36: =MAX(class!V:V)-VLOOKUP($C36,class!$C:$AN,V$1,0) -> 43.5 | W36: =MAX(class!W:W)-VLOOKUP($C36,class!$C:$AN,W$1,0) -> 45

Sheet dist_3o
B1: squadra | C1: utente | E1: 3 | F1: 4 | G1: 5 | H1: 6 | I1: 7 | J1: 8 | K1: 9 | L1: 10 | M1: 11 | N1: 12 | O1: 13 | P1: 14 | Q1: 15 | R1: 16 | S1: 17 | T1: 18 | U1: 19 | V1: 20 | W1: 21 | X1: 22 | Y1: 23 | Z1: 24 | AA1: 25 | AB1: 26 | AC1: 27 | AD1: 28 | AE1: 29 | AF1: 30 | AG1: 31 | AH1: 32 | AI1: 33 | AJ1: 34 | AK1: 35 | AL1: 36 | AM1: 37 | AN1: 38
B2: 19angelo85 | C2: 19angelo85 | E2: =LARGE(class!E:E,3)-VLOOKUP($C2,class!$C:$AN,E$1,0) -> 11.5 | F2: =LARGE(class!F:F,3)-VLOOKUP($C2,class!$C:$AN,F$1,0) -> 7 | G2: =LARGE(class!G:G,3)-VLOOKUP($C2,class!$C:$AN,G$1,0) -> 15.5 | H2: =LARGE(class!H:H,3)-VLOOKUP($C2,class!$C:$AN,H$1,0) -> 18 | I2: =LARGE(class!I:I,3)-VLOOKUP($C2,class!$C:$AN,I$1,0) -> 26 | J2: =LARGE(class!J:J,3)-VLOOKUP($C2,class!$C:$AN,J$1,0) -> 22.5 | K2: =LARGE(class!K:K,3)-VLOOKUP($C2,class!$C:$AN,K$1,0) -> 21.5 | L2: =LARGE(class!L:L,3)-VLOOKUP($C2,class!$C:$AN,L$1,0) -> 19.5 | M2: =LARGE(class!M:M,3)-VLOOKUP($C2,class!$C:$AN,M$1,0) -> 20.5 | N2: =LARGE(class!N:N,3)-VLOOKUP($C2,class!$C:$AN,N$1,0) -> 26.5 | O2: =LARGE(class!O:O,3)-VLOOKUP($C2,class!$C:$AN,O$1,0) -> 21 | P2: =LARGE(class!P:P,3)-VLOOKUP($C2,class!$C:$AN,P$1,0) -> 25 | Q2: =LARGE(class!Q:Q,3)-VLOOKUP($C2,class!$C:$AN,Q$1,0) -> 44.5 | R2: =LARGE(class!R:R,3)-VLOOKUP($C2,class!$C:$AN,R$1,0) -> 43 | S2: =LARGE(class!S:S,3)-VLOOKUP($C2,class!$C:$AN,S$1,0) -> 50.5 | T2: =LARGE(class!T:T,3)-VLOOKUP($C2,class!$C:$AN,T$1,0) -> 34 | U2: =LARGE(class!U:U,3)-VLOOKUP($C2,class!$C:$AN,U$1,0) -> 63 | V2: =LARGE(class!V:V,3)-VLOOKUP($C2,class!$C:$AN,V$1,0) -> 69.5 | W2: =LARGE(class!W:W,3)-VLOOKUP($C2,class!$C:$AN,W$1,0) -> 75.5
B3: maGGica! | C3: adrian28scbr | E3: =LARGE(class!E:E,3)-VLOOKUP($C3,class!$C:$AN,E$1,0) -> -0.5 | F3: =LARGE(class!F:F,3)-VLOOKUP($C3,class!$C:$AN,F$1,0) -> -10 | G3: =LARGE(class!G:G,3)-VLOOKUP($C3,class!$C:$AN,G$1,0) -> -11 | H3: =LARGE(class!H:H,3)-VLOOKUP($C3,class!$C:$AN,H$1,0) -> -18 | I3: =LARGE(class!I:I,3)-VLOOKUP($C3,class!$C:$AN,I$1,0) -> -17.5 | J3: =LARGE(class!J:J,3)-VLOOKUP($C3,class!$C:$AN,J$1,0) -> -29 | K3: =LARGE(class!K:K,3)-VLOOKUP($C3,class!$C:$AN,K$1,0) -> -25.5 | L3: =LARGE(class!L:L,3)-VLOOKUP($C3,class!$C:$AN,L$1,0) -> -22 | M3: =LARGE(class!M:M,3)-VLOOKUP($C3,class!$C:$AN,M$1,0) -> -14.5 | N3: =LARGE(class!N:N,3)-VLOOKUP($C3,class!$C:$AN,N$1,0) -> -11 | O3: =LARGE(class!O:O,3)-VLOOKUP($C3,class!$C:$AN,O$1,0) -> -15 | P3: =LARGE(class!P:P,3)-VLOOKUP($C3,class!$C:$AN,P$1,0) -> -20.5 | Q3: =LARGE(class!Q:Q,3)-VLOOKUP($C3,class!$C:$AN,Q$1,0) -> -12 | R3: =LARGE(class!R:R,3)-VLOOKUP($C3,class!$C:$AN,R$1,0) -> -22 | S3: =LARGE(class!S:S,3)-VLOOKUP($C3,class!$C:$AN,S$1,0) -> -18 | T3: =LARGE(class!T:T,3)-VLOOKUP($C3,class!$C:$AN,T$1,0) -> -32 | U3: =LARGE(class!U:U,3)-VLOOKUP($C3,class!$C:$AN,U$1,0) -> -26 | V3: =LARGE(class!V:V,3)-VLOOKUP($C3,class!$C:$AN,V$1,0) -> -24 | W3: =LARGE(class!W:W,3)-VLOOKUP($C3,class!$C:$AN,W$1,0) -> -28
B4: alebolo | C4: alebolo | E4: =LARGE(class!E:E,3)-VLOOKUP($C4,class!$C:$AN,E$1,0) -> 16.5 | F4: =LARGE(class!F:F,3)-VLOOKUP($C4,class!$C:$AN,F$1,0) -> 19 | G4: =LARGE(class!G:G,3)-VLOOKUP($C4,class!$C:$AN,G$1,0) -> 31.5 | H4: =LARGE(class!H:H,3)-VLOOKUP($C4,class!$C:$AN,H$1,0) -> 33 | I4: =LARGE(class!I:I,3)-VLOOKUP($C4,class!$C:$AN,I$1,0) -> 28.5 | J4: =LARGE(class!J:J,3)-VLOOKUP($C4,class!$C:$AN,J$1,0) -> 29 | K4: =LARGE(class!K:K,3)-VLOOKUP($C4,class!$C:$AN,K$1,0) -> 32 | L4: =LARGE(class!L:L,3)-VLOOKUP($C4,class!$C:$AN,L$1,0) -> 29 | M4: =LARGE(class!M:M,3)-VLOOKUP($C4,class!$C:$AN,M$1,0) -> 37.5 | N4: =LARGE(class!N:N,3)-VLOOKUP($C4,class!$C:$AN,N$1,0) -> 29 | O4: =LARGE(class!O:O,3)-VLOOKUP($C4,class!$C:$AN,O$1,0) -> 27 | P4: =LARGE(class!P:P,3)-VLOOKUP($C4,class!$C:$AN,P$1,0) -> 26 | Q4: =LARGE(class!Q:Q,3)-VLOOKUP($C4,class!$C:$AN,Q$1,0) -> 25.5 | R4: =LARGE(class!R:R,3)-VLOOKUP($C4,class!$C:$AN,R$1,0) -> 28.5 | S4: =LARGE(class!S:S,3)-VLOOKUP($C4,class!$C:$AN,S$1,0) -> 25 | T4: =LARGE(class!T:T,3)-VLOOKUP($C4,class!$C:$AN,T$1,0) -> 27 | U4: =LARGE(class!U:U,3)-VLOOKUP($C4,class!$C:$AN,U$1,0) -> 34 | V4: =LARGE(class!V:V,3)-VLOOKUP($C4,class!$C:$AN,V$1,0) -> 42.5 | W4: =LARGE(class!W:W,3)-VLOOKUP($C4,class!$C:$AN,W$1,0) -> 42.5
B5: OnceUponATime | C5: alexein11 | E5: =LARGE(class!E:E,3)-VLOOKUP($C5,class!$C:$AN,E$1,0) -> 6.5 | F5: =LARGE(class!F:F,3)-VLOOKUP($C5,class!$C:$AN,F$1,0) -> 7 | G5: =LARGE(class!G:G,3)-VLOOKUP($C5,class!$C:$AN,G$1,0) -> 22 | H5: =LARGE(class!H:H,3)-VLOOKUP($C5,class!$C:$AN,H$1,0) -> 24 | I5: =LARGE(class!I:I,3)-VLOOKUP($C5,class!$C:$AN,I$1,0) -> 36 | J5: =LARGE(class!J:J,3)-VLOOKUP($C5,class!$C:$AN,J$1,0) -> 30 | K5: =LARGE(class!K:K,3)-VLOOKUP($C5,class!$C:$AN,K$1,0) -> 22 | L5: =LARGE(class!L:L,3)-VLOOKUP($C5,class!$C:$AN,L$1,0) -> 25.5 | M5: =LARGE(class!M:M,3)-VLOOKUP($C5,class!$C:$AN,M$1,0) -> 34.5 | N5: =LARGE(class!N:N,3)-VLOOKUP($C5,class!$C:$AN,N$1,0) -> 47 | O5: =LARGE(class!O:O,3)-VLOOKUP($C5,class!$C:$AN,O$1,0) -> 43.5 | P5: =LARGE(class!P:P,3)-VLOOKUP($C5,class!$C:$AN,P$1,0) -> 47.5 | Q5: =LARGE(class!Q:Q,3)-VLOOKUP($C5,class!$C:$AN,Q$1,0) -> 49.5 | R5: =LARGE(class!R:R,3)-VLOOKUP($C5,class!$C:$AN,R$1,0) -> 33 | S5: =LARGE(class!S:S,3)-VLOOKUP($C5,class!$C:$AN,S$1,0) -> 43 | T5: =LARGE(class!T:T,3)-VLOOKUP($C5,class!$C:$AN,T$1,0) -> 36 | U5: =LARGE(class!U:U,3)-VLOOKUP($C5,class!$C:$AN,U$1,0) -> 50 | V5: =LARGE(class!V:V,3)-VLOOKUP($C5,class!$C:$AN,V$1,0) -> 59.5 | W5: =LARGE(class!W:W,3)-VLOOKUP($C5,class!$C:$AN,W$1,0) -> 50
B6: Atletico Sereno | C6: andreabrescia | E6: =LARGE(class!E:E,3)-VLOOKUP($C6,class!$C:$AN,E$1,0) -> 8 | F6: =LARGE(class!F:F,3)-VLOOKUP($C6,class!$C:$AN,F$1,0) -> 10 | G6: =LARGE(class!G:G,3)-VLOOKUP($C6,class!$C:$AN,G$1,0) -> 11.5 | H6: =LARGE(class!H:H,3)-VLOOKUP($C6,class!$C:$AN,H$1,0) -> 11.5 | I6: =LARGE(class!I:I,3)-VLOOKUP($C6,class!$C:$AN,I$1,0) -> 16.5 | J6: =LARGE(class!J:J,3)-VLOOKUP($C6,class!$C:$AN,J$1,0) -> 13 | K6: =LARGE(class!K:K,3)-VLOOKUP($C6,class!$C:$AN,K$1,0) -> 17 | L6: =LARGE(class!L:L,3)-VLOOKUP($C6,class!$C:$AN,L$1,0) -> 16 | M6: =LARGE(class!M:M,3)-VLOOKUP($C6,class!$C:$AN,M$1,0) -> 24 | N6: =LARGE(class!N:N,3)-VLOOKUP($C6,class!$C:$AN,N$1,0) -> 28.5 | O6: =LARGE(class!O:O,3)-VLOOKUP($C6,class!$C:$AN,O$1,0) -> 22 | P6: =LARGE(class!P:P,3)-VLOOKUP($C6,class!$C:$AN,P$1,0) -> 31.5 | Q6: =LARGE(class!Q:Q,3)-VLOOKUP($C6,class!$C:$AN,Q$1,0) -> 34.5 | R6: =LARGE(class!R:R,3)-VLOOKUP($C6,class!$C:$AN,R$1,0) -> 36 | S6: =LARGE(class!S:S,3)-VLOOKUP($C6,class!$C:$AN,S$1,0) -> 37.5 | T6: =LARGE(class!T:T,3)-VLOOKUP($C6,class!$C:$AN,T$1,0) -> 21 | U6: =LARGE(class!U:U,3)-VLOOKUP($C6,class!$C:$AN,U$1,0) -> 28.5 | V6: =LARGE(class!V:V,3)-VLOOKUP($C6,class!$C:$AN,V$1,0) -> 34 | W6: =LARGE(class!W:W,3)-VLOOKUP($C6,class!$C:$AN,W$1,0) -> 29
B7: I Velieri | C7: bremec | E7: =LARGE(class!E:E,3)-VLOOKUP($C7,class!$C:$AN,E$1,0) -> 14.5 | F7: =LARGE(class!F:F,3)-VLOOKUP($C7,class!$C:$AN,F$1,0) -> 4 | G7: =LARGE(class!G:G,3)-VLOOKUP($C7,class!$C:$AN,G$1,0) -> 3 | H7: =LARGE(class!H:H,3)-VLOOKUP($C7,class!$C:$AN,H$1,0) -> 1.5 | I7: =LARGE(class!I:I,3)-VLOOKUP($C7,class!$C:$AN,I$1,0) -> -4 | J7: =LARGE(class!J:J,3)-VLOOKUP($C7,class!$C:$AN,J$1,0) -> -2 | K7: =LARGE(class!K:K,3)-VLOOKUP($C7,class!$C:$AN,K$1,0) -> 2.5 | L7: =LARGE(class!L:L,3)-VLOOKUP($C7,class!$C:$AN,L$1,0) -> 8 | M7: =LARGE(class!M:M,3)-VLOOKUP($C7,class!$C:$AN,M$1,0) -> 18 | N7: =LARGE(class!N:N,3)-VLOOKUP($C7,class!$C:$AN,N$1,0) -> 31 | O7: =LARGE(class!O:O,3)-VLOOKUP($C7,class!$C:$AN,O$1,0) -> 28.5 | P7: =LARGE(class!P:P,3)-VLOOKUP($C7,class!$C:$AN,P$1,0) -> 35.5 | Q7: =LARGE(class!Q:Q,3)-VLOOKUP($C7,class!$C:$AN,Q$1,0) -> 55.5 | R7: =LARGE(class!R:R,3)-VLOOKUP($C7,class!$C:$AN,R$1,0) -> 61 | S7: =LARGE(class!S:S,3)-VLOOKUP($C7,class!$C:$AN,S$1,0) -> 67 | T7: =LARGE(class!T:T,3)-VLOOKUP($C7,class!$C:$AN,T$1,0) -> 71.5 | U7: =LARGE(class!U:U,3)-VLOOKUP($C7,class!$C:$AN,U$1,0) -> 80.5 | V7: =LARGE(class!V:V,3)-VLOOKUP($C7,class!$C:$AN,V$1,0) -> 87 | W7: =LARGE(class!W:W,3)-VLOOKUP($C7,class!$C:$AN,W$1,0) -> 88
B8: capirexligamilan | C8: capirexligamilan | E8: =LARGE(class!E:E,3)-VLOOKUP($C8,class!$C:$AN,E$1,0) -> 16.5 | F8: =LARGE(class!F:F,3)-VLOOKUP($C8,class!$C:$AN,F$1,0) -> 11 | G8: =LARGE(class!G:G,3)-VLOOKUP($C8,class!$C:$AN,G$1,0) -> 21.5 | H8: =LARGE(class!H:H,3)-VLOOKUP($C8,class!$C:$AN,H$1,0) -> 32 | I8: =LARGE(class!I:I,3)-VLOOKUP($C8,class!$C:$AN,I$1,0) -> 29.5 | J8: =LARGE(class!J:J,3)-VLOOKUP($C8,class!$C:$AN,J$1,0) -> 38.5 | K8: =LARGE(class!K:K,3)-VLOOKUP($C8,class!$C:$AN,K$1,0) -> 52 | L8: =LARGE(class!L:L,3)-VLOOKUP($C8,class!$C:$AN,L$1,0) -> 58 | M8: =LARGE(class!M:M,3)-VLOOKUP($C8,class!$C:$AN,M$1,0) -> 68.5 | N8: =LARGE(class!N:N,3)-VLOOKUP($C8,class!$C:$AN,N$1,0) -> 80.5 | O8: =LARGE(class!O:O,3)-VLOOKUP($C8,class!$C:$AN,O$1,0) -> 74 | P8: =LARGE(class!P:P,3)-VLOOKUP($C8,class!$C:$AN,P$1,0) -> 87 | Q8: =LARGE(class!Q:Q,3)-VLOOKUP($C8,class!$C:$AN,Q$1,0) -> 104.5 | R8: =LARGE(class!R:R,3)-VLOOKUP($C8,class!$C:$AN,R$1,0) -> 119.5 | S8: =LARGE(class!S:S,3)-VLOOKUP($C8,class!$C:$AN,S$1,0) -> 137.5 | T8: =LARGE(class!T:T,3)-VLOOKUP($C8,class!$C:$AN,T$1,0) -> 147.5 | U8: =LARGE(class!U:U,3)-VLOOKUP($C8,class!$C:$AN,U$1,0) -> 163.5 | V8: =LARGE(class!V:V,3)-VLOOKUP($C8,class!$C:$AN,V$1,0) -> 160.5 | W8: =LARGE(class!W:W,3)-VLOOKUP($C8,class!$C:$AN,W$1,0) -> 180
B9: catania | C9: catania | E9: =LARGE(class!E:E,3)-VLOOKUP($C9,class!$C:$AN,E$1,0) -> 15 | F9: =LARGE(class!F:F,3)-VLOOKUP($C9,class!$C:$AN,F$1,0) -> 16 | G9: =LARGE(class!G:G,3)-VLOOKUP($C9,class!$C:$AN,G$1,0) -> 20.5 | H9: =LARGE(class!H:H,3)-VLOOKUP($C9,class!$C:$AN,H$1,0) -> 18 | I9: =LARGE(class!I:I,3)-VLOOKUP($C9,class!$C:$AN,I$1,0) -> 23.5 | J9: =LARGE(class!J:J,3)-VLOOKUP($C9,class!$C:$AN,J$1,0) -> 22 | K9: =LARGE(class!K:K,3)-VLOOKUP($C9,class!$C:$AN,K$1,0) -> 24.5 | L9: =LARGE(class!L:L,3)-VLOOKUP($C9,class!$C:$AN,L$1,0) -> 21.5 | M9: =LARGE(class!M:M,3)-VLOOKUP($C9,class!$C:$AN,M$1,0) -> 23 | N9: =LARGE(class!N:N,3)-VLOOKUP($C9,class!$C:$AN,N$1,0) -> 19 | O9: =LARGE(class!O:O,3)-VLOOKUP($C9,class!$C:$AN,O$1,0) -> 20 | P9: =LARGE(class!P:P,3)-VLOOKUP($C9,class!$C:$AN,P$1,0) -> 21 | Q9: =LARGE(class!Q:Q,3)-VLOOKUP($C9,class!$C:$AN,Q$1,0) -> 30.5 | R9: =LARGE(class!R:R,3)-VLOOKUP($C9,class!$C:$AN,R$1,0) -> 30.5 | S9: =LARGE(class!S:S,3)-VLOOKUP($C9,class!$C:$AN,S$1,0) -> 40.5 | T9: =LARGE(class!T:T,3)-VLOOKUP($C9,class!$C:$AN,T$1,0) -> 41 | U9: =LARGE(class!U:U,3)-VLOOKUP($C9,class!$C:$AN,U$1,0) -> 44 | V9: =LARGE(class!V:V,3)-VLOOKUP($C9,class!$C:$AN,V$1,0) -> 49.5 | W9: =LARGE(class!W:W,3)-VLOOKUP($C9,class!$C:$AN,W$1,0) -> 47
B10: Brontefantasy | C10: catania5556 | E10: =LARGE(class!E:E,3)-VLOOKUP($C10,class!$C:$AN,E$1,0) -> 20 | F10: =LARGE(class!F:F,3)-VLOOKUP($C10,class!$C:$AN,F$1,0) -> 22 | G10: =LARGE(class!G:G,3)-VLOOKUP($C10,class!$C:$AN,G$1,0) -> 25 | H10: =LARGE(class!H:H,3)-VLOOKUP($C10,class!$C:$AN,H$1,0) -> 18 | I10: =LARGE(class!I:I,3)-VLOOKUP($C10,class!$C:$AN,I$1,0) -> 25.5 | J10: =LARGE(class!J:J,3)-VLOOKUP($C10,class!$C:$AN,J$1,0) -> 34.5 | K10: =LARGE(class!K:K,3)-VLOOKUP($C10,class!$C:$AN,K$1,0) -> 30.5 | L10: =LARGE(class!L:L,3)-VLOOKUP($C10,class!$C:$AN,L$1,0) -> 28 | M10: =LARGE(class!M:M,3)-VLOOKUP($C10,class!$C:$AN,M$1,0) -> 27 | N10: =LARGE(class!N:N,3)-VLOOKUP($C10,class!$C:$AN,N$1,0) -> 26.5 | O10: =LARGE(class!O:O,3)-VLOOKUP($C10,class!$C:$AN,O$1,0) -> 18.5 | P10: =LARGE(class!P:P,3)-VLOOKUP($C10,class!$C:$AN,P$1,0) -> 26 | Q10: =LARGE(class!Q:Q,3)-VLOOKUP($C10,class!$C:$AN,Q$1,0) -> 41.5 | R10: =LARGE(class!R:R,3)-VLOOKUP($C10,class!$C:$AN,R$1,0) -> 39.5 | S10: =LARGE(class!S:S,3)-VLOOKUP($C10,class!$C:$AN,S$1,0) -> 48.5 | T10: =LARGE(class!T:T,3)-VLOOKUP($C10,class!$C:$AN,T$1,0) -> 48.5 | U10: =LARGE(class!U:U,3)-VLOOKUP($C10,class!$C:$AN,U$1,0) -> 54 | V10: =LARGE(class!V:V,3)-VLOOKUP($C10,class!$C:$AN,V$1,0) -> 48.5 | W10: =LARGE(class!W:W,3)-VLOOKUP($C10,class!$C:$AN,W$1,0) -> 47.5
B11: ciro51 | C11: ciro51 | E11: =LARGE(class!E:E,3)-VLOOKUP($C11,class!$C:$AN,E$1,0) -> 5.5 | F11: =LARGE(class!F:F,3)-VLOOKUP($C11,class!$C:$AN,F$1,0) -> 8 | G11: =LARGE(class!G:G,3)-VLOOKUP($C11,class!$C:$AN,G$1,0) -> 9 | H11: =LARGE(class!H:H,3)-VLOOKUP($C11,class!$C:$AN,H$1,0) -> 17.5 | I11: =LARGE(class!I:I,3)-VLOOKUP($C11,class!$C:$AN,I$1,0) -> 13.5 | J11: =LARGE(class!J:J,3)-VLOOKUP($C11,class!$C:$AN,J$1,0) -> 7 | K11: =LARGE(class!K:K,3)-VLOOKUP($C11,class!$C:$AN,K$1,0) -> 13.5 | L11: =LARGE(class!L:L,3)-VLOOKUP($C11,class!$C:$AN,L$1,0) -> 10.5 | M11: =LARGE(class!M:M,3)-VLOOKUP($C11,class!$C:$AN,M$1,0) -> 23 | N11: =LARGE(class!N:N,3)-VLOOKUP($C11,class!$C:$AN,N$1,0) -> 31 | O11: =LARGE(class!O:O,3)-VLOOKUP($C11,class!$C:$AN,O$1,0) -> 22 | P11: =LARGE(class!P:P,3)-VLOOKUP($C11,class!$C:$AN,P$1,0) -> 24.5 | Q11: =LARGE(class!Q:Q,3)-VLOOKUP($C11,class!$C:$AN,Q$1,0) -> 42.5 | R11: =LARGE(class!R:R,3)-VLOOKUP($C11,class!$C:$AN,R$1,0) -> 46.5 | S11: =LARGE(class!S:S,3)-VLOOKUP($C11,class!$C:$AN,S$1,0) -> 48.5 | T11: =LARGE(class!T:T,3)-VLOOKUP($C11,class!$C:$AN,T$1,0) -> 29.5 | U11: =LARGE(class!U:U,3)-VLOOKUP($C11,class!$C:$AN,U$1,0) -> 39 | V11: =LARGE(class!V:V,3)-VLOOKUP($C11,class!$C:$AN,V$1,0) -> 41.5 | W11: =LARGE(class!W:W,3)-VLOOKUP($C11,class!$C:$AN,W$1,0) -> 45
B12: AsiAssonNaty | C12: clamore22 | E12: =LARGE(class!E:E,3)-VLOOKUP($C12,class!$C:$AN,E$1,0) -> 6.5 | F12: =LARGE(class!F:F,3)-VLOOKUP($C12,class!$C:$AN,F$1,0) -> 8.5 | G12: =LARGE(class!G:G,3)-VLOOKUP($C12,class!$C:$AN,G$1,0) -> 11 | H12: =LARGE(class!H:H,3)-VLOOKUP($C12,class!$C:$AN,H$1,0) -> 8 | I12: =LARGE(class!I:I,3)-VLOOKUP($C12,class!$C:$AN,I$1,0) -> 7.5 | J12: =LARGE(class!J:J,3)-VLOOKUP($C12,class!$C:$AN,J$1,0) -> 2 | K12: =LARGE(class!K:K,3)-VLOOKUP($C12,class!$C:$AN,K$1,0) -> 6.5 | L12: =LARGE(class!L:L,3)-VLOOKUP($C12,class!$C:$AN,L$1,0) -> 2.5 | M12: =LARGE(class!M:M,3)-VLOOKUP($C12,class!$C:$AN,M$1,0) -> 0 | N12: =LARGE(class!N:N,3)-VLOOKUP($C12,class!$C:$AN,N$1,0) -> 8 | O12: =LARGE(class!O:O,3)-VLOOKUP($C12,class!$C:$AN,O$1,0) -> 2 | P12: =LARGE(class!P:P,3)-VLOOKUP($C12,class!$C:$AN,P$1,0) -> 4 | Q12: =LARGE(class!Q:Q,3)-VLOOKUP($C12,class!$C:$AN,Q$1,0) -> 6 | R12: =LARGE(class!R:R,3)-VLOOKUP($C12,class!$C:$AN,R$1,0) -> 2.5 | S12: =LARGE(class!S:S,3)-VLOOKUP($C12,class!$C:$AN,S$1,0) -> 5 | T12: =LARGE(class!T:T,3)-VLOOKUP($C12,class!$C:$AN,T$1,0) -> 0 | U12: =LARGE(class!U:U,3)-VLOOKUP($C12,class!$C:$AN,U$1,0) -> 0 | V12: =LARGE(class!V:V,3)-VLOOKUP($C12,class!$C:$AN,V$1,0) -> 0 | W12: =LARGE(class!W:W,3)-VLOOKUP($C12,class!$C:$AN,W$1,0) -> 0
B13: Goomba | C13: crah83 | E13: =LARGE(class!E:E,3)-VLOOKUP($C13,class!$C:$AN,E$1,0) -> 9 | F13: =LARGE(class!F:F,3)-VLOOKUP($C13,class!$C:$AN,F$1,0) -> 16 | G13: =LARGE(class!G:G,3)-VLOOKUP($C13,class!$C:$AN,G$1,0) -> 28.5 | H13: =LARGE(class!H:H,3)-VLOOKUP($C13,class!$C:$AN,H$1,0) -> 36 | I13: =LARGE(class!I:I,3)-VLOOKUP($C13,class!$C:$AN,I$1,0) -> 44.5 | J13: =LARGE(class!J:J,3)-VLOOKUP($C13,class!$C:$AN,J$1,0) -> 35.5 | K13: =LARGE(class!K:K,3)-VLOOKUP($C13,class!$C:$AN,K$1,0) -> 36 | L13: =LARGE(class!L:L,3)-VLOOKUP($C13,class!$C:$AN,L$1,0) -> 41.5 | M13: =LARGE(class!M:M,3)-VLOOKUP($C13,class!$C:$AN,M$1,0) -> 45 | N13: =LARGE(class!N:N,3)-VLOOKUP($C13,class!$C:$AN,N$1,0) -> 55 | O13: =LARGE(class!O:O,3)-VLOOKUP($C13,class!$C:$AN,O$1,0) -> 47.5 | P13: =LARGE(class!P:P,3)-VLOOKUP($C13,class!$C:$AN,P$1,0) -> 55 | Q13: =LARGE(class!Q:Q,3)-VLOOKUP($C13,class!$C:$AN,Q$1,0) -> 58.5 | R13: =LARGE(class!R:R,3)-VLOOKUP($C13,class!$C:$AN,R$1,0) -> 58.5 | S13: =LARGE(class!S:S,3)-VLOOKUP($C13,class!$C:$AN,S$1,0) -> 67.5 | T13: =LARGE(class!T:T,3)-VLOOKUP($C13,class!$C:$AN,T$1,0) -> 51 | U13: =LARGE(class!U:U,3)-VLOOKUP($C13,class!$C:$AN,U$1,0) -> 53 | V13: =LARGE(class!V:V,3)-VLOOKUP($C13,class!$C:$AN,V$1,0) -> 48.5 | W13: =LARGE(class!W:W,3)-VLOOKUP($C13,class!$C:$AN,W$1,0) -> 52.5
... B36: tombecker | C36: tombecker | E36: =LARGE(class!E:E,3)-VLOOKUP($C36,class!$C:$AN,E$1,0) -> 9 | F36: =LARGE(class!F:F,3)-VLOOKUP($C36,class!$C:$AN,F$1,0) -> 10 | G36: =LARGE(class!G:G,3)-VLOOKUP($C36,class!$C:$AN,G$1,0) -> 10.5 | H36: =LARGE(class!H:H,3)-VLOOKUP($C36,class!$C:$AN,H$1,0) -> 13.5 | I36: =LARGE(class!I:I,3)-VLOOKUP($C36,class!$C:$AN,I$1,0) -> 14 | J36: =LARGE(class!J:J,3)-VLOOKUP($C36,class!$C:$AN,J$1,0) -> 17.5 | K36: =LARGE(class!K:K,3)-VLOOKUP($C36,class!$C:$AN,K$1,0) -> 17 | L36: =LARGE(class!L:L,3)-VLOOKUP($C36,class!$C:$AN,L$1,0) -> 10 | M36: =LARGE(class!M:M,3)-VLOOKUP($C36,class!$C:$AN,M$1,0) -> 19 | N36: =LARGE(class!N:N,3)-VLOOKUP($C36,class!$C:$AN,N$1,0) -> 11.5 | O36: =LARGE(class!O:O,3)-VLOOKUP($C36,class!$C:$AN,O$1,0) -> 8.5 | P36: =LARGE(class!P:P,3)-VLOOKUP($C36,class!$C:$AN,P$1,0) -> 10.5 | Q36: =LARGE(class!Q:Q,3)-VLOOKUP($C36,class!$C:$AN,Q$1,0) -> 10.5 | R36: =LARGE(class!R:R,3)-VLOOKUP($C36,class!$C:$AN,R$1,0) -> 14.5 | S36: =LARGE(class!S:S,3)-VLOOKUP($C36,class!$C:$AN,S$1,0) -> 11.5 | T36: =LARGE(class!T:T,3)-VLOOKUP($C36,class!$C:$AN,T$1,0) -> 4.5 | U36: =LARGE(class!U:U,3)-VLOOKUP($C36,class!$C:$AN,U$1,0) -> 17 | V36: =LARGE(class!V:V,3)-VLOOKUP($C36,class!$C:$AN,V$1,0) -> 19.5 | W36: =LARGE(class!W:W,3)-VLOOKUP($C36,class!$C:$AN,W$1,0) -> 17

Sheet dist_6o
B1: squadra | C1: utente | E1: 3 | F1: 4 | G1: 5 | H1: 6 | I1: 7 | J1: 8 | K1: 9 | L1: 10 | M1: 11 | N1: 12 | O1: 13 | P1: 14 | Q1: 15 | R1: 16 | S1: 17 | T1: 18 | U1: 19 | V1: 20 | W1: 21 | X1: 22 | Y1: 23 | Z1: 24 | AA1: 25 | AB1: 26 | AC1: 27 | AD1: 28 | AE1: 29 | AF1: 30 | AG1: 31 | AH1: 32 | AI1: 33 | AJ1: 34 | AK1: 35 | AL1: 36 | AM1: 37 | AN1: 38
B2: 19angelo85 | C2: 19angelo85 | E2: =LARGE(class!E:E,6)-VLOOKUP($C2,class!$C:$AN,E$1,0) -> 8 | F2: =LARGE(class!F:F,6)-VLOOKUP($C2,class!$C:$AN,F$1,0) -> 3 | G2: =LARGE(class!G:G,6)-VLOOKUP($C2,class!$C:$AN,G$1,0) -> 10 | H2: =LARGE(class!H:H,6)-VLOOKUP($C2,class!$C:$AN,H$1,0) -> 10.5 | I2: =LARGE(class!I:I,6)-VLOOKUP($C2,class!$C:$AN,I$1,0) -> 20.5 | J2: =LARGE(class!J:J,6)-VLOOKUP($C2,class!$C:$AN,J$1,0) -> 16.5 | K2: =LARGE(class!K:K,6)-VLOOKUP($C2,class!$C:$AN,K$1,0) -> 17 | L2: =LARGE(class!L:L,6)-VLOOKUP($C2,class!$C:$AN,L$1,0) -> 16.5 | M2: =LARGE(class!M:M,6)-VLOOKUP($C2,class!$C:$AN,M$1,0) -> 13.5 | N2: =LARGE(class!N:N,6)-VLOOKUP($C2,class!$C:$AN,N$1,0) -> 18.5 | O2: =LARGE(class!O:O,6)-VLOOKUP($C2,class!$C:$AN,O$1,0) -> 19 | P2: =LARGE(class!P:P,6)-VLOOKUP($C2,class!$C:$AN,P$1,0) -> 21 | Q2: =LARGE(class!Q:Q,6)-VLOOKUP($C2,class!$C:$AN,Q$1,0) -> 34 | R2: =LARGE(class!R:R,6)-VLOOKUP($C2,class!$C:$AN,R$1,0) -> 36.5 | S2: =LARGE(class!S:S,6)-VLOOKUP($C2,class!$C:$AN,S$1,0) -> 40.5 | T2: =LARGE(class!T:T,6)-VLOOKUP($C2,class!$C:$AN,T$1,0) -> 22.5 | U2: =LARGE(class!U:U,6)-VLOOKUP($C2,class!$C:$AN,U$1,0) -> 43 | V2: =LARGE(class!V:V,6)-VLOOKUP($C2,class!$C:$AN,V$1,0) -> 48.5 | W2: =LARGE(class!W:W,6)-VLOOKUP($C2,class!$C:$AN,W$1,0) -> 58.5
B3: maGGica! | C3: adrian28scbr | E3: =LARGE(class!E:E,6)-VLOOKUP($C3,class!$C:$AN,E$1,0) -> -4 | F3: =LARGE(class!F:F,6)-VLOOKUP($C3,class!$C:$AN,F$1,0) -> -14 | G3: =LARGE(class!G:G,6)-VLOOKUP($C3,class!$C:$AN,G$1,0) -> -16.5 | H3: =LARGE(class!H:H,6)-VLOOKUP($C3,class!$C:$AN,H$1,0) -> -25.5 | I3: =LARGE(class!I:I,6)-VLOOKUP($C3,class!$C:$AN,I$1,0) -> -23 | J3: =LARGE(class!J:J,6)-VLOOKUP($C3,class!$C:$AN,J$1,0) -> -35 | K3: =LARGE(class!K:K,6)-VLOOKUP($C3,class!$C:$AN,K$1,0) -> -30 | L3: =LARGE(class!L:L,6)-VLOOKUP($C3,class!$C:$AN,L$1,0) -> -25 | M3: =LARGE(class!M:M,6)-VLOOKUP($C3,class!$C:$AN,M$1,0) -> -21.5 | N3: =LARGE(class!N:N,6)-VLOOKUP($C3,class!$C:$AN,N$1,0) -> -19 | O3: =LARGE(class!O:O,6)-VLOOKUP($C3,class!$C:$AN,O$1,0) -> -17 | P3: =LARGE(class!P:P,6)-VLOOKUP($C3,class!$C:$AN,P$1,0) -> -24.5 | Q3: =LARGE(class!Q:Q,6)-VLOOKUP($C3,class!$C:$AN,Q$1,0) -> -22.5 | R3: =LARGE(class!R:R,6)-VLOOKUP($C3,class!$C:$AN,R$1,0) -> -28.5 | S3: =LARGE(class!S:S,6)-VLOOKUP($C3,class!$C:$AN,S$1,0) -> -28 | T3: =LARGE(class!T:T,6)-VLOOKUP($C3,class!$C:$AN,T$1,0) -> -43.5 | U3: =LARGE(class!U:U,6)-VLOOKUP($C3,class!$C:$AN,U$1,0) -> -46 | V3: =LARGE(class!V:V,6)-VLOOKUP($C3,class!$C:$AN,V$1,0) -> -45 | W3: =LARGE(class!W:W,6)-VLOOKUP($C3,class!$C:$AN,W$1,0) -> -45
B4: alebolo | C4: alebolo | E4: =LARGE(class!E:E,6)-VLOOKUP($C4,class!$C:$AN,E$1,0) -> 13 | F4: =LARGE(class!F:F,6)-VLOOKUP($C4,class!$C:$AN,F$1,0) -> 15 | G4: =LARGE(class!G:G,6)-VLOOKUP($C4,class!$C:$AN,G$1,0) -> 26 | H4: =LARGE(class!H:H,6)-VLOOKUP($C4,class!$C:$AN,H$1,0) -> 25.5 | I4: =LARGE(class!I:I,6)-VLOOKUP($C4,class!$C:$AN,I$1,0) -> 23 | J4: =LARGE(class!J:J,6)-VLOOKUP($C4,class!$C:$AN,J$1,0) -> 23 | K4: =LARGE(class!K:K,6)-VLOOKUP($C4,class!$C:$AN,K$1,0) -> 27.5 | L4: =LARGE(class!L:L,6)-VLOOKUP($C4,class!$C:$AN,L$1,0) -> 26 | M4: =LARGE(class!M:M,6)-VLOOKUP($C4,class!$C:$AN,M$1,0) -> 30.5 | N4: =LARGE(class!N:N,6)-VLOOKUP($C4,class!$C:$AN,N$1,0) -> 21 | O4: =LARGE(class!O:O,6)-VLOOKUP($C4,class!$C:$AN,O$1,0) -> 25 | P4: =LARGE(class!P:P,6)-VLOOKUP($C4,class!$C:$AN,P$1,0) -> 22 | Q4: =LARGE(class!Q:Q,6)-VLOOKUP($C4,class!$C:$AN,Q$1,0) -> 15 | R4: =LARGE(class!R:R,6)-VLOOKUP($C4,class!$C:$AN,R$1,0) -> 22 | S4: =LARGE(class!S:S,6)-VLOOKUP($C4,class!$C:$AN,S$1,0) -> 15 | T4: =LARGE(class!T:T,6)-VLOOKUP($C4,class!$C:$AN,T$1,0) -> 15.5 | U4: =LARGE(class!U:U,6)-VLOOKUP($C4,class!$C:$AN,U$1,0) -> 14 | V4: =LARGE(class!V:V,6)-VLOOKUP($C4,class!$C:$AN,V$1,0) -> 21.5 | W4: =LARGE(class!W:W,6)-VLOOKUP($C4,class!$C:$AN,W$1,0) -> 25.5
B5: OnceUponATime | C5: alexein11 | E5: =LARGE(class!E:E,6)-VLOOKUP($C5,class!$C:$AN,E$1,0) -> 3 | F5: =LARGE(class!F:F,6)-VLOOKUP($C5,class!$C:$AN,F$1,0) -> 3 | G5: =LARGE(class!G:G,6)-VLOOKUP($C5,class!$C:$AN,G$1,0) -> 16.5 | H5: =LARGE(class!H:H,6)-VLOOKUP($C5,class!$C:$AN,H$1,0) -> 16.5 | I5: =LARGE(class!I:I,6)-VLOOKUP($C5,class!$C:$AN,I$1,0) -> 30.5 | J5: =LARGE(class!J:J,6)-VLOOKUP($C5,class!$C:$AN,J$1,0) -> 24 | K5: =LARGE(class!K:K,6)-VLOOKUP($C5,class!$C:$AN,K$1,0) -> 17.5 | L5: =LARGE(class!L:L,6)-VLOOKUP($C5,class!$C:$AN,L$1,0) -> 22.5 | M5: =LARGE(class!M:M,6)-VLOOKUP($C5,class!$C:$AN,M$1,0) -> 27.5 | N5: =LARGE(class!N:N,6)-VLOOKUP($C5,class!$C:$AN,N$1,0) -> 39 | O5: =LARGE(class!O:O,6)-VLOOKUP($C5,class!$C:$AN,O$1,0) -> 41.5 | P5: =LARGE(class!P:P,6)-VLOOKUP($C5,class!$C:$AN,P$1,0) -> 43.5 | Q5: =LARGE(class!Q:Q,6)-VLOOKUP($C5,class!$C:$AN,Q$1,0) -> 39 | R5: =LARGE(class!R:R,6)-VLOOKUP($C5,class!$C:$AN,R$1,0) -> 26.5 | S5: =LARGE(class!S:S,6)-VLOOKUP($C5,class!$C:$AN,S$1,0) -> 33 | T5: =LARGE(class!T:T,6)-VLOOKUP($C5,class!$C:$AN,T$1,0) -> 24.5 | U5: =LARGE(class!U:U,6)-VLOOKUP($C5,class!$C:$AN,U$1,0) -> 30 | V5: =LARGE(class!V:V,6)-VLOOKUP($C5,class!$C:$AN,V$1,0) -> 38.5 | W5: =LARGE(class!W:W,6)-VLOOKUP($C5,class!$C:$AN,W$1,0) -> 33
B6: Atletico Sereno | C6: andreabrescia | E6: =LARGE(class!E:E,6)-VLOOKUP($C6,class!$C:$AN,E$1,0) -> 4.5 | F6: =LARGE(class!F:F,6)-VLOOKUP($C6,class!$C:$AN,F$1,0) -> 6 | G6: =LARGE(class!G:G,6)-VLOOKUP($C6,class!$C:$AN,G$1,0) -> 6 | H6: =LARGE(class!H:H,6)-VLOOKUP($C6,class!$C:$AN,H$1,0) -> 4 | I6: =LARGE(class!I:I,6)-VLOOKUP($C6,class!$C:$AN,I$1,0) -> 11 | J6: =LARGE(class!J:J,6)-VLOOKUP($C6,class!$C:$AN,J$1,0) -> 7 | K6: =LARGE(class!K:K,6)-VLOOKUP($C6,class!$C:$AN,K$1,0) -> 12.5 | L6: =LARGE(class!L:L,6)-VLOOKUP($C6,class!$C:$AN,L$1,0) -> 13 | M6: =LARGE(class!M:M,6)-VLOOKUP($C6,class!$C:$AN,M$1,0) -> 17 | N6: =LARGE(class!N:N,6)-VLOOKUP($C6,class!$C:$AN,N$1,0) -> 20.5 | O6: =LARGE(class!O:O,6)-VLOOKUP($C6,class!$C:$AN,O$1,0) -> 20 | P6: =LARGE(class!P:P,6)-VLOOKUP($C6,class!$C:$AN,P$1,0) -> 27.5 | Q6: =LARGE(class!Q:Q,6)-VLOOKUP($C6,class!$C:$AN,Q$1,0) -> 24 | R6: =LARGE(class!R:R,6)-VLOOKUP($C6,class!$C:$AN,R$1,0) -> 29.5 | S6: =LARGE(class!S:S,6)-VLOOKUP($C6,class!$C:$AN,S$1,0) -> 27.5 | T6: =LARGE(class!T:T,6)-VLOOKUP($C6,class!$C:$AN,T$1,0) -> 9.5 | U6: =LARGE(class!U:U,6)-VLOOKUP($C6,class!$C:$AN,U$1,0) -> 8.5 | V6: =LARGE(class!V:V,6)-VLOOKUP($C6,class!$C:$AN,V$1,0) -> 13 | W6: =LARGE(class!W:W,6)-VLOOKUP($C6,class!$C:$AN,W$1,0) -> 12
B7: I Velieri | C7: bremec | E7: =LARGE(class!E:E,6)-VLOOKUP($C7,class!$C:$AN,E$1,0) -> 11 | F7: =LARGE(class!F:F,6)-VLOOKUP($C7,class!$C:$AN,F$1,0) -> 0 | G7: =LARGE(class!G:G,6)-VLOOKUP($C7,class!$C:$AN,G$1,0) -> -2.5 | H7: =LARGE(class!H:H,6)-VLOOKUP($C7,class!$C:$AN,H$1,0) -> -6 | I7: =LARGE(class!I:I,6)-VLOOKUP($C7,class!$C:$AN,I$1,0) -> -9.5 | J7: =LARGE(class!J:J,6)-VLOOKUP($C7,class!$C:$AN,J$1,0) -> -8 | K7: =LARGE(class!K:K,6)-VLOOKUP($C7,class!$C:$AN,K$1,0) -> -2 | L7: =LARGE(class!L:L,6)-VLOOKUP($C7,class!$C:$AN,L$1,0) -> 5 | M7: =LARGE(class!M:M,6)-VLOOKUP($C7,class!$C:$AN,M$1,0) -> 11 | N7: =LARGE(class!N:N,6)-VLOOKUP($C7,class!$C:$AN,N$1,0) -> 23 | O7: =LARGE(class!O:O,6)-VLOOKUP($C7,class!$C:$AN,O$1,0) -> 26.5 | P7: =LARGE(class!P:P,6)-VLOOKUP($C7,class!$C:$AN,P$1,0) -> 31.5 | Q7: =LARGE(class!Q:Q,6)-VLOOKUP($C7,class!$C:$AN,Q$1,0) -> 45 | R7: =LARGE(class!R:R,6)-VLOOKUP($C7,class!$C:$AN,R$1,0) -> 54.5 | S7: =LARGE(class!S:S,6)-VLOOKUP($C7,class!$C:$AN,S$1,0) -> 57 | T7: =LARGE(class!T:T,6)-VLOOKUP($C7,class!$C:$AN,T$1,0) -> 60 | U7: =LARGE(class!U:U,6)-VLOOKUP($C7,class!$C:$AN,U$1,0) -> 60.5 | V7: =LARGE(class!V:V,6)-VLOOKUP($C7,class!$C:$AN,V$1,0) -> 66 | W7: =LARGE(class!W:W,6)-VLOOKUP($C7,class!$C:$AN,W$1,0) -> 71
B8: capirexligamilan | C8: capirexligamilan | E8: =LARGE(class!E:E,6)-VLOOKUP($C8,class!$C:$AN,E$1,0) -> 13 | F8: =LARGE(class!F:F,6)-VLOOKUP($C8,class!$C:$AN,F$1,0) -> 7 | G8: =LARGE(class!G:G,6)-VLOOKUP($C8,class!$C:$AN,G$1,0) -> 16 | H8: =LARGE(class!H:H,6)-VLOOKUP($C8,class!$C:$AN,H$1,0) -> 24.5 | I8: =LARGE(class!I:I,6)-VLOOKUP($C8,class!$C:$AN,I$1,0) -> 24 | J8: =LARGE(class!J:J,6)-VLOOKUP($C8,class!$C:$AN,J$1,0) -> 32.5 | K8: =LARGE(class!K:K,6)-VLOOKUP($C8,class!$C:$AN,K$1,0) -> 47.5 | L8: =LARGE(class!L:L,6)-VLOOKUP($C8,class!$C:$AN,L$1,0) -> 55 | M8: =LARGE(class!M:M,6)-VLOOKUP($C8,class!$C:$AN,M$1,0) -> 61.5 | N8: =LARGE(class!N:N,6)-VLOOKUP($C8,class!$C:$AN,N$1,0) -> 72.5 | O8: =LARGE(class!O:O,6)-VLOOKUP($C8,class!$C:$AN,O$1,0) -> 72 | P8: =LARGE(class!P:P,6)-VLOOKUP($C8,class!$C:$AN,P$1,0) -> 83 | Q8: =LARGE(class!Q:Q,6)-VLOOKUP($C8,class!$C:$AN,Q$1,0) -> 94 | R8: =LARGE(class!R:R,6)-VLOOKUP($C8,class!$C:$AN,R$1,0) -> 113 | S8: =LARGE(class!S:S,6)-VLOOKUP($C8,class!$C:$AN,S$1,0) -> 127.5 | T8: =LARGE(class!T:T,6)-VLOOKUP($C8,class!$C:$AN,T$1,0) -> 136 | U8: =LARGE(class!U:U,6)-VLOOKUP($C8,class!$C:$AN,U$1,0) -> 143.5 | V8: =LARGE(class!V:V,6)-VLOOKUP($C8,class!$C:$AN,V$1,0) -> 139.5 | W8: =LARGE(class!W:W,6)-VLOOKUP($C8,class!$C:$AN,W$1,0) -> 163
B9: catania | C9: catania | E9: =LARGE(class!E:E,6)-VLOOKUP($C9,class!$C:$AN,E$1,0) -> 11.5 | F9: =LARGE(class!F:F,6)-VLOOKUP($C9,class!$C:$AN,F$1,0) -> 12 | G9: =LARGE(class!G:G,6)-VLOOKUP($C9,class!$C:$AN,G$1,0) -> 15 | H9: =LARGE(class!H:H,6)-VLOOKUP($C9,class!$C:$AN,H$1,0) -> 10.5 | I9: =LARGE(class!I:I,6)-VLOOKUP($C9,class!$C:$AN,I$1,0) -> 18 | J9: =LARGE(class!J:J,6)-VLOOKUP($C9,class!$C:$AN,J$1,0) -> 16 | K9: =LARGE(class!K:K,6)-VLOOKUP($C9,class!$C:$AN,K$1,0) -> 20 | L9: =LARGE(class!L:L,6)-VLOOKUP($C9,class!$C:$AN,L$1,0) -> 18.5 | M9: =LARGE(class!M:M,6)-VLOOKUP($C9,class!$C:$AN,M$1,0) -> 16 | N9: =LARGE(class!N:N,6)-VLOOKUP($C9,class!$C:$AN,N$1,0) -> 11 | O9: =LARGE(class!O:O,6)-VLOOKUP($C9,class!$C:$AN,O$1,0) -> 18 | P9: =LARGE(class!P:P,6)-VLOOKUP($C9,class!$C:$AN,P$1,0) -> 17 | Q9: =LARGE(class!Q:Q,6)-VLOOKUP($C9,class!$C:$AN,Q$1,0) -> 20 | R9: =LARGE(class!R:R,6)-VLOOKUP($C9,class!$C:$AN,R$1,0) -> 24 | S9: =LARGE(class!S:S,6)-VLOOKUP($C9,class!$C:$AN,S$1,0) -> 30.5 | T9: =LARGE(class!T:T,6)-VLOOKUP($C9,class!$C:$AN,T$1,0) -> 29.5 | U9: =LARGE(class!U:U,6)-VLOOKUP($C9,class!$C:$AN,U$1,0) -> 24 | V9: =LARGE(class!V:V,6)-VLOOKUP($C9,class!$C:$AN,V$1,0) -> 28.5 | W9: =LARGE(class!W:W,6)-VLOOKUP($C9,class!$C:$AN,W$1,0) -> 30
B10: Brontefantasy | C10: catania5556 | E10: =LARGE(class!E:E,6)-VLOOKUP($C10,class!$C:$AN,E$1,0) -> 16.5 | F10: =LARGE(class!F:F,6)-VLOOKUP($C10,class!$C:$AN,F$1,0) -> 18 | G10: =LARGE(class!G:G,6)-VLOOKUP($C10,class!$C:$AN,G$1,0) -> 19.5 | H10: =LARGE(class!H:H,6)-VLOOKUP($C10,class!$C:$AN,H$1,0) -> 10.5 | I10: =LARGE(class!I:I,6)-VLOOKUP($C10,class!$C:$AN,I$1,0) -> 20 | J10: =LARGE(class!J:J,6)-VLOOKUP($C10,class!$C:$AN,J$1,0) -> 28.5 | K10: =LARGE(class!K:K,6)-VLOOKUP($C10,class!$C:$AN,K$1,0) -> 26 | L10: =LARGE(class!L:L,6)-VLOOKUP($C10,class!$C:$AN,L$1,0) -> 25 | M10: =LARGE(class!M:M,6)-VLOOKUP($C10,class!$C:$AN,M$1,0) -> 20 | N10: =LARGE(class!N:N,6)-VLOOKUP($C10,class!$C:$AN,N$1,0) -> 18.5 | O10: =LARGE(class!O:O,6)-VLOOKUP($C10,class!$C:$AN,O$1,0) -> 16.5 | P10: =LARGE(class!P:P,6)-VLOOKUP($C10,class!$C:$AN,P$1,0) -> 22 | Q10: =LARGE(class!Q:Q,6)-VLOOKUP($C10,class!$C:$AN,Q$1,0) -> 31 | R10: =LARGE(class!R:R,6)-VLOOKUP($C10,class!$C:$AN,R$1,0) -> 33 | S10: =LARGE(class!S:S,6)-VLOOKUP($C10,class!$C:$AN,S$1,0) -> 38.5 | T10: =LARGE(class!T:T,6)-VLOOKUP($C10,class!$C:$AN,T$1,0) -> 37 | U10: =LARGE(class!U:U,6)-VLOOKUP($C10,class!$C:$AN,U$1,0) -> 34 | V10: =LARGE(class!V:V,6)-VLOOKUP($C10,class!$C:$AN,V$1,0) -> 27.5 | W10: =LARGE(class!W:W,6)-VLOOKUP($C10,class!$C:$AN,W$1,0) -> 30.5
B11: ciro51 | C11: ciro51 | E11: =LARGE(class!E:E,6)-VLOOKUP($C11,class!$C:$AN,E$1,0) -> 2 | F11: =LARGE(class!F:F,6)-VLOOKUP($C11,class!$C:$AN,F$1,0) -> 4 | G11: =LARGE(class!G:G,6)-VLOOKUP($C11,class!$C:$AN,G$1,0) -> 3.5 | H11: =LARGE(class!H:H,6)-VLOOKUP($C11,class!$C:$AN,H$1,0) -> 10 | I11: =LARGE(class!I:I,6)-VLOOKUP($C11,class!$C:$AN,I$1,0) -> 8 | J11: =LARGE(class!J:J,6)-VLOOKUP($C11,class!$C:$AN,J$1,0) -> 1 | K11: =LARGE(class!K:K,6)-VLOOKUP($C11,class!$C:$AN,K$1,0) -> 9 | L11: =LARGE(class!L:L,6)-VLOOKUP($C11,class!$C:$AN,L$1,0) -> 7.5 | M11: =LARGE(class!M:M,6)-VLOOKUP($C11,class!$C:$AN,M$1,0) -> 16 | N11: =LARGE(class!N:N,6)-VLOOKUP($C11,class!$C:$AN,N$1,0) -> 23 | O11: =LARGE(class!O:O,6)-VLOOKUP($C11,class!$C:$AN,O$1,0) -> 20 | P11: =LARGE(class!P:P,6)-VLOOKUP($C11,class!$C:$AN,P$1,0) -> 20.5 | Q11: =LARGE(class!Q:Q,6)-VLOOKUP($C11,class!$C:$AN,Q$1,0) -> 32 | R11: =LARGE(class!R:R,6)-VLOOKUP($C11,class!$C:$AN,R$1,0) -> 40 | S11: =LARGE(class!S:S,6)-VLOOKUP($C11,class!$C:$AN,S$1,0) -> 38.5 | T11: =LARGE(class!T:T,6)-VLOOKUP($C11,class!$C:$AN,T$1,0) -> 18 | U11: =LARGE(class!U:U,6)-VLOOKUP($C11,class!$C:$AN,U$1,0) -> 19 | V11: =LARGE(class!V:V,6)-VLOOKUP($C11,class!$C:$AN,V$1,0) -> 20.5 | W11: =LARGE(class!W:W,6)-VLOOKUP($C11,class!$C:$AN,W$1,0) -> 28
B12: AsiAssonNaty | C12: clamore22 | E12: =LARGE(class!E:E,6)-VLOOKUP($C12,class!$C:$AN,E$1,0) -> 3 | F12: =LARGE(class!F:F,6)-VLOOKUP($C12,class!$C:$AN,F$1,0) -> 4.5 | G12: =LARGE(class!G:G,6)-VLOOKUP($C12,class!$C:$AN,G$1,0) -> 5.5 | H12: =LARGE(class!H:H,6)-VLOOKUP($C12,class!$C:$AN,H$1,0) -> 0.5 | I12: =LARGE(class!I:I,6)-VLOOKUP($C12,class!$C:$AN,I$1,0) -> 2 | J12: =LARGE(class!J:J,6)-VLOOKUP($C12,class!$C:$AN,J$1,0) -> -4 | K12: =LARGE(class!K:K,6)-VLOOKUP($C12,class!$C:$AN,K$1,0) -> 2 | L12: =LARGE(class!L:L,6)-VLOOKUP($C12,class!$C:$AN,L$1,0) -> -0.5 | M12: =LARGE(class!M:M,6)-VLOOKUP($C12,class!$C:$AN,M$1,0) -> -7 | N12: =LARGE(class!N:N,6)-VLOOKUP($C12,class!$C:$AN,N$1,0) -> 0 | O12: =LARGE(class!O:O,6)-VLOOKUP($C12,class!$C:$AN,O$1,0) -> 0 | P12: =LARGE(class!P:P,6)-VLOOKUP($C12,class!$C:$AN,P$1,0) -> 0 | Q12: =LARGE(class!Q:Q,6)-VLOOKUP($C12,class!$C:$AN,Q$1,0) -> -4.5 | R12: =LARGE(class!R:R,6)-VLOOKUP($C12,class!$C:$AN,R$1,0) -> -4 | S12: =LARGE(class!S:S,6)-VLOOKUP($C12,class!$C:$AN,S$1,0) -> -5 | T12: =LARGE(class!T:T,6)-VLOOKUP($C12,class!$C:$AN,T$1,0) -> -11.5 | U12: =LARGE(class!U:U,6)-VLOOKUP($C12,class!$C:$AN,U$1,0) -> -20 | V12: =LARGE(class!V:V,6)-VLOOKUP($C12,class!$C:$AN,V$1,0) -> -21 | W12: =LARGE(class!W:W,6)-VLOOKUP($C12,class!$C:$AN,W$1,0) -> -17
B13: Goomba | C13: crah83 | E13: =LARGE(class!E:E,6)-VLOOKUP($C13,class!$C:$AN,E$1,0) -> 5.5 | F13: =LARGE(class!F:F,6)-VLOOKUP($C13,class!$C:$AN,F$1,0) -> 12 | G13: =LARGE(class!G:G,6)-VLOOKUP($C13,class!$C:$AN,G$1,0) -> 23 | H13: =LARGE(class!H:H,6)-VLOOKUP($C13,class!$C:$AN,H$1,0) -> 28.5 | I13: =LARGE(class!I:I,6)-VLOOKUP($C13,class!$C:$AN,I$1,0) -> 39 | J13: =LARGE(class!J:J,6)-VLOOKUP($C13,class!$C:$AN,J$1,0) -> 29.5 | K13: =LARGE(class!K:K,6)-VLOOKUP($C13,class!$C:$AN,K$1,0) -> 31.5 | L13: =LARGE(class!L:L,6)-VLOOKUP($C13,class!$C:$AN,L$1,0) -> 38.5 | M13: =LARGE(class!M:M,6)-VLOOKUP($C13,class!$C:$AN,M$1,0) -> 38 | N13: =LARGE(class!N:N,6)-VLOOKUP($C13,class!$C:$AN,N$1,0) -> 47 | O13: =LARGE(class!O:O,6)-VLOOKUP($C13,class!$C:$AN,O$1,0) -> 45.5 | P13: =LARGE(class!P:P,6)-VLOOKUP($C13,class!$C:$AN,P$1,0) -> 51 | Q13: =LARGE(class!Q:Q,6)-VLOOKUP($C13,class!$C:$AN,Q$1,0) -> 48 | R13: =LARGE(class!R:R,6)-VLOOKUP($C13,class!$C:$AN,R$1,0) -> 52 | S13: =LARGE(class!S:S,6)-VLOOKUP($C13,class!$C:$AN,S$1,0) -> 57.5 | T13: =LARGE(class!T:T,6)-VLOOKUP($C13,class!$C:$AN,T$1,0) -> 39.5 | U13: =LARGE(class!U:U,6)-VLOOKUP($C13,class!$C:$AN,U$1,0) -> 33 | V13: =LARGE(class!V:V,6)-VLOOKUP($C13,class!$C:$AN,V$1,0) -> 27.5 | W13: =LARGE(class!W:W,6)-VLOOKUP($C13,class!$C:$AN,W$1,0) -> 35.5
... B36: tombecker | C36: tombecker | E36: =LARGE(class!E:E,6)-VLOOKUP($C36,class!$C:$AN,E$1,0) -> 5.5 | F36: =LARGE(class!F:F,6)-VLOOKUP($C36,class!$C:$AN,F$1,0) -> 6 | G36: =LARGE(class!G:G,6)-VLOOKUP($C36,class!$C:$AN,G$1,0) -> 5 | H36: =LARGE(class!H:H,6)-VLOOKUP($C36,class!$C:$AN,H$1,0) -> 6 | I36: =LARGE(class!I:I,6)-VLOOKUP($C36,class!$C:$AN,I$1,0) -> 8.5 | J36: =LARGE(class!J:J,6)-VLOOKUP($C36,class!$C:$AN,J$1,0) -> 11.5 | K36: =LARGE(class!K:K,6)-VLOOKUP($C36,class!$C:$AN,K$1,0) -> 12.5 | L36: =LARGE(class!L:L,6)-VLOOKUP($C36,class!$C:$AN,L$1,0) -> 7 | M36: =LARGE(class!M:M,6)-VLOOKUP($C36,class!$C:$AN,M$1,0) -> 12 | N36: =LARGE(class!N:N,6)-VLOOKUP($C36,class!$C:$AN,N$1,0) -> 3.5 | O36: =LARGE(class!O:O,6)-VLOOKUP($C36,class!$C:$AN,O$1,0) -> 6.5 | P36: =LARGE(class!P:P,6)-VLOOKUP($C36,class!$C:$AN,P$1,0) -> 6.5 | Q36: =LARGE(class!Q:Q,6)-VLOOKUP($C36,class!$C:$AN,Q$1,0) -> 0 | R36: =LARGE(class!R:R,6)-VLOOKUP($C36,class!$C:$AN,R$1,0) -> 8 | S36: =LARGE(class!S:S,6)-VLOOKUP($C36,class!$C:$AN,S$1,0) -> 1.5 | T36: =LARGE(class!T:T,6)-VLOOKUP($C36,class!$C:$AN,T$1,0) -> -7 | U36: =LARGE(class!U:U,6)-VLOOKUP($C36,class!$C:$AN,U$1,0) -> -3 | V36: =LARGE(class!V:V,6)-VLOOKUP($C36,class!$C:$AN,V$1,0) -> -1.5 | W36: =LARGE(class!W:W,6)-VLOOKUP($C36,class!$C:$AN,W$1,0) -> 0

Sheet up C
B1: squadra | C1: utente | D1: C 4^ | E1: dist 3o | F1: 19 | G1: 20 | H1: 21 | I1: 22 | J1: 23
B2: Brontefantasy | C2: catania5556 | D2: =SUM(F2:J2) -> 220 | E2: =D2-LARGE(D:D,3) -> 1 | F2: =VLOOKUP($C2,coppa!$C:$AS,(F$1+3),0) -> 75.5 | G2: =VLOOKUP($C2,coppa!$C:$AS,(G$1+3),0) -> 74.5 | H2: =VLOOKUP($C2,coppa!$C:$AS,(H$1+3),0) -> 70
B3: Sydney FC | C3: ruicosta | D3: =SUM(F3:J3) -> 219.5 | E3: =D3-LARGE(D:D,3) -> 0.5 | F3: =VLOOKUP($C3,coppa!$C:$AS,(F$1+3),0) -> 77.5 | G3: =VLOOKUP($C3,coppa!$C:$AS,(G$1+3),0) -> 65.5 | H3: =VLOOKUP($C3,coppa!$C:$AS,(H$1+3),0) -> 76.5
B4: AsiAssonNaty | C4: clamore22 | D4: =SUM(F4:J4) -> 219 | E4: =D4-LARGE(D:D,3) -> 0 | F4: =VLOOKUP($C4,coppa!$C:$AS,(F$1+3),0) -> 81 | G4: =VLOOKUP($C4,coppa!$C:$AS,(G$1+3),0) -> 69 | H4: =VLOOKUP($C4,coppa!$C:$AS,(H$1+3),0) -> 69
B5: meridiano | C5: meridiano | D5: =SUM(F5:J5) -> 219 | E5: =D5-LARGE(D:D,3) -> 0 | F5: =VLOOKUP($C5,coppa!$C:$AS,(F$1+3),0) -> 71 | G5: =VLOOKUP($C5,coppa!$C:$AS,(G$1+3),0) -> 67.5 | H5: =VLOOKUP($C5,coppa!$C:$AS,(H$1+3),0) -> 80.5
B6: Goomba | C6: crah83 | D6: =SUM(F6:J6) -> 217.5 | E6: =D6-LARGE(D:D,3) -> -1.5 | F6: =VLOOKUP($C6,coppa!$C:$AS,(F$1+3),0) -> 79 | G6: =VLOOKUP($C6,coppa!$C:$AS,(G$1+3),0) -> 73.5 | H6: =VLOOKUP($C6,coppa!$C:$AS,(H$1+3),0) -> 65
B7: mastrolindo | C7: mastrolindo | D7: =SUM(F7:J7) -> 217 | E7: =D7-LARGE(D:D,3) -> -2 | F7: =VLOOKUP($C7,coppa!$C:$AS,(F$1+3),0) -> 72.5 | G7: =VLOOKUP($C7,coppa!$C:$AS,(G$1+3),0) -> 72 | H7: =VLOOKUP($C7,coppa!$C:$AS,(H$1+3),0) -> 72.5
B8: Eroi nel vento | C8: ogeid36 | D8: =SUM(F8:J8) -> 215.5 | E8: =D8-LARGE(D:D,3) -> -3.5 | F8: =VLOOKUP($C8,coppa!$C:$AS,(F$1+3),0) -> 81 | G8: =VLOOKUP($C8,coppa!$C:$AS,(G$1+3),0) -> 66.5 | H8: =VLOOKUP($C8,coppa!$C:$AS,(H$1+3),0) -> 68
B9: catania | C9: catania | D9: =SUM(F9:J9) -> 213 | E9: =D9-LARGE(D:D,3) -> -6 | F9: =VLOOKUP($C9,coppa!$C:$AS,(F$1+3),0) -> 78 | G9: =VLOOKUP($C9,coppa!$C:$AS,(G$1+3),0) -> 63.5 | H9: =VLOOKUP($C9,coppa!$C:$AS,(H$1+3),0) -> 71.5
B10: piero79 | C10: piero79 | D10: =SUM(F10:J10) -> 213 | E10: =D10-LARGE(D:D,3) -> -6 | F10: =VLOOKUP($C10,coppa!$C:$AS,(F$1+3),0) -> 74 | G10: =VLOOKUP($C10,coppa!$C:$AS,(G$1+3),0) -> 63.5 | H10: =VLOOKUP($C10,coppa!$C:$AS,(H$1+3),0) -> 75.5
B11: Fanta Lightman | C11: lightman | D11: =SUM(F11:J11) -> 212 | E11: =D11-LARGE(D:D,3) -> -7 | F11: =VLOOKUP($C11,coppa!$C:$AS,(F$1+3),0) -> 72 | G11: =VLOOKUP($C11,coppa!$C:$AS,(G$1+3),0) -> 60 | H11: =VLOOKUP($C11,coppa!$C:$AS,(H$1+3),0) -> 80
B12: PowerTeam (potino78) | C12: potino78 | D12: =SUM(F12:J12) -> 211.5 | E12: =D12-LARGE(D:D,3) -> -7.5 | F12: =VLOOKUP($C12,coppa!$C:$AS,(F$1+3),0) -> 69.5 | G12: =VLOOKUP($C12,coppa!$C:$AS,(G$1+3),0) -> 70 | H12: =VLOOKUP($C12,coppa!$C:$AS,(H$1+3),0) -> 72
B13: Atletico Sereno | C13: andreabrescia | D13: =SUM(F13:J13) -> 211 | E13: =D13-LARGE(D:D,3) -> -8 | F13: =VLOOKUP($C13,coppa!$C:$AS,(F$1+3),0) -> 73.5 | G13: =VLOOKUP($C13,coppa!$C:$AS,(G$1+3),0) -> 63.5 | H13: =VLOOKUP($C13,coppa!$C:$AS,(H$1+3),0) -> 74
... B27: 19angelo85 | C27: 19angelo85 | D27: =SUM(F27:J27) -> 177.5 | E27: =D27-LARGE(D:D,3) -> -41.5 | F27: =VLOOKUP($C27,coppa!$C:$AS,(F$1+3),0) -> 52 | G27: =VLOOKUP($C27,coppa!$C:$AS,(G$1+3),0) -> 62.5 | H27: =VLOOKUP($C27,coppa!$C:$AS,(H$1+3),0) -> 63

Sheet coppa
B1: squadra | C1: utente | E1: 3 | F1: 4 | G1: 5 | H1: 6 | I1: 7 | J1: C 1^ | K1: 8 | L1: 9 | M1: 10 | N1: 11 | O1: 12 | P1: C 2^ | Q1: 13 | R1: 14 | S1: 15 | T1: 16 | U1: 17 | V1: C 3^ | W1: 18 | X1: 19 | Y1: 20 | Z1: 21 | AA1: 22 | AB1: 23 | AC1: C 4^ | AD1: 24 | AE1: 25 | AF1: 26 | AG1: 27 | AH1: 28 | AI1: C 5^ | AJ1: 29 | AK1: 30 | AL1: 31 | AM1: 32 | AN1: 33 | AO1: 34 | AP1: 35 | AQ1: 36 | AR1: 37 | AS1: 38
B2: 19angelo85 | C2: 19angelo85 | E2: =VLOOKUP($C2,giorn!$C:$AN,E$1,0) -> 72.5 | F2: =VLOOKUP($C2,giorn!$C:$AN,F$1,0) -> 66.5 | G2: =VLOOKUP($C2,giorn!$C:$AN,G$1,0) -> 61.5 | H2: =VLOOKUP($C2,giorn!$C:$AN,H$1,0) -> 72.5 | I2: =VLOOKUP($C2,giorn!$C:$AN,I$1,0) -> 64.5 | J2: =SUM(E2:I2) -> 337.5 | K2: =VLOOKUP($C2,giorn!$C:$AN,K$1,0) -> 75 | L2: =VLOOKUP($C2,giorn!$C:$AN,L$1,0) -> 73.5 | M2: =VLOOKUP($C2,giorn!$C:$AN,M$1,0) -> 71 | N2: =VLOOKUP($C2,giorn!$C:$AN,N$1,0) -> 85 | O2: =VLOOKUP($C2,giorn!$C:$AN,O$1,0) -> 68.5 | P2: =SUM(K2:O2) -> 373 | Q2: =VLOOKUP($C2,giorn!$C:$AN,Q$1,0) -> 71 | R2: =VLOOKUP($C2,giorn!$C:$AN,R$1,0) -> 64.5 | S2: =VLOOKUP($C2,giorn!$C:$AN,S$1,0) -> 63.5 | T2: =VLOOKUP($C2,giorn!$C:$AN,T$1,0) -> 75.5 | U2: =VLOOKUP($C2,giorn!$C:$AN,U$1,0) -> 69 | V2: =SUM(Q2:U2) -> 343.5 | W2: =VLOOKUP($C2,giorn!$C:$AN,W$1,0) -> 80 | X2: =VLOOKUP($C2,giorn!$C:$AN,X$1,0) -> 52 | Y2: =VLOOKUP($C2,giorn!$C:$AN,Y$1,0) -> 62.5 | Z2: =VLOOKUP($C2,giorn!$C:$AN,Z$1,0) -> 63 | AC2: =SUM(X2:AB2) -> 177.5 | AI2: =SUM(AD2:AH2) -> 0
A3: X | B3: maGGica! | C3: adrian28scbr | E3: =VLOOKUP($C3,giorn!$C:$AN,E$1,0) -> 84.5 | F3: =VLOOKUP($C3,giorn!$C:$AN,F$1,0) -> 71.5 | G3: =VLOOKUP($C3,giorn!$C:$AN,G$1,0) -> 71 | H3: =VLOOKUP($C3,giorn!$C:$AN,H$1,0) -> 82 | I3: =VLOOKUP($C3,giorn!$C:$AN,I$1,0) -> 72 | J3: =SUM(E3:I3) -> 381 | K3: =VLOOKUP($C3,giorn!$C:$AN,K$1,0) -> 83 | L3: =VLOOKUP($C3,giorn!$C:$AN,L$1,0) -> 69 | M3: =VLOOKUP($C3,giorn!$C:$AN,M$1,0) -> 65.5 | N3: =VLOOKUP($C3,giorn!$C:$AN,N$1,0) -> 78.5 | O3: =VLOOKUP($C3,giorn!$C:$AN,O$1,0) -> 71 | P3: =SUM(K3:O3) -> 367 | Q3: =VLOOKUP($C3,giorn!$C:$AN,Q$1,0) -> 69.5 | R3: =VLOOKUP($C3,giorn!$C:$AN,R$1,0) -> 74 | S3: =VLOOKUP($C3,giorn!$C:$AN,S$1,0) -> 74.5 | T3: =VLOOKUP($C3,giorn!$C:$AN,T$1,0) -> 84 | U3: =VLOOKUP($C3,giorn!$C:$AN,U$1,0) -> 72.5 | V3: =SUM(Q3:U3) -> 374.5 | W3: =VLOOKUP($C3,giorn!$C:$AN,W$1,0) -> 77.5 | X3: =VLOOKUP($C3,giorn!$C:$AN,X$1,0) -> 75 | Y3: =VLOOKUP($C3,giorn!$C:$AN,Y$1,0) -> 67 | Z3: =VLOOKUP($C3,giorn!$C:$AN,Z$1,0) -> 73 | AC3: =SUM(X3:AB3) -> 215 | AI3: =SUM(AD3:AH3) -> 0
A4: X | B4: alebolo | C4: alebolo | E4: =VLOOKUP($C4,giorn!$C:$AN,E$1,0) -> 67.5 | F4: =VLOOKUP($C4,giorn!$C:$AN,F$1,0) -> 59.5 | G4: =VLOOKUP($C4,giorn!$C:$AN,G$1,0) -> 57.5 | H4: =VLOOKUP($C4,giorn!$C:$AN,H$1,0) -> 73.5 | I4: =VLOOKUP($C4,giorn!$C:$AN,I$1,0) -> 77 | J4: =SUM(E4:I4) -> 335 | K4: =VLOOKUP($C4,giorn!$C:$AN,K$1,0) -> 71 | L4: =VLOOKUP($C4,giorn!$C:$AN,L$1,0) -> 69.5 | M4: =VLOOKUP($C4,giorn!$C:$AN,M$1,0) -> 72 | N4: =VLOOKUP($C4,giorn!$C:$AN,N$1,0) -> 77.5 | O4: =VLOOKUP($C4,giorn!$C:$AN,O$1,0) -> 83 | P4: =SUM(K4:O4) -> 373 | Q4: =VLOOKUP($C4,giorn!$C:$AN,Q$1,0) -> 67.5 | R4: =VLOOKUP($C4,giorn!$C:$AN,R$1,0) -> 69.5 | S4: =VLOOKUP($C4,giorn!$C:$AN,S$1,0) -> 83.5 | T4: =VLOOKUP($C4,giorn!$C:$AN,T$1,0) -> 71 | U4: =VLOOKUP($C4,giorn!$C:$AN,U$1,0) -> 80 | V4: =SUM(Q4:U4) -> 371.5 | W4: =VLOOKUP($C4,giorn!$C:$AN,W$1,0) -> 61.5 | X4: =VLOOKUP($C4,giorn!$C:$AN,X$1,0) -> 74 | Y4: =VLOOKUP($C4,giorn!$C:$AN,Y$1,0) -> 60.5 | Z4: =VLOOKUP($C4,giorn!$C:$AN,Z$1,0) -> 69 | AC4: =SUM(X4:AB4) -> 203.5 | AI4: =SUM(AD4:AH4) -> 0
A5: X | B5: OnceUponATime | C5: alexein11 | E5: =VLOOKUP($C5,giorn!$C:$AN,E$1,0) -> 77.5 | F5: =VLOOKUP($C5,giorn!$C:$AN,F$1,0) -> 61.5 | G5: =VLOOKUP($C5,giorn!$C:$AN,G$1,0) -> 55 | H5: =VLOOKUP($C5,giorn!$C:$AN,H$1,0) -> 73 | I5: =VLOOKUP($C5,giorn!$C:$AN,I$1,0) -> 60.5 | J5: =SUM(E5:I5) -> 327.5 | K5: =VLOOKUP($C5,giorn!$C:$AN,K$1,0) -> 77.5 | L5: =VLOOKUP($C5,giorn!$C:$AN,L$1,0) -> 80.5 | M5: =VLOOKUP($C5,giorn!$C:$AN,M$1,0) -> 65.5 | N5: =VLOOKUP($C5,giorn!$C:$AN,N$1,0) -> 77 | O5: =VLOOKUP($C5,giorn!$C:$AN,O$1,0) -> 62 | P5: =SUM(K5:O5) -> 362.5 | Q5: =VLOOKUP($C5,giorn!$C:$AN,Q$1,0) -> 69 | R5: =VLOOKUP($C5,giorn!$C:$AN,R$1,0) -> 64.5 | S5: =VLOOKUP($C5,giorn!$C:$AN,S$1,0) -> 81 | T5: =VLOOKUP($C5,giorn!$C:$AN,T$1,0) -> 90.5 | U5: =VLOOKUP($C5,giorn!$C:$AN,U$1,0) -> 66.5 | V5: =SUM(Q5:U5) -> 371.5 | W5: =VLOOKUP($C5,giorn!$C:$AN,W$1,0) -> 70.5 | X5: =VLOOKUP($C5,giorn!$C:$AN,X$1,0) -> 67 | Y5: =VLOOKUP($C5,giorn!$C:$AN,Y$1,0) -> 59.5 | Z5: =VLOOKUP($C5,giorn!$C:$AN,Z$1,0) -> 78.5 | AC5: =SUM(X5:AB5) -> 205 | AI5: =SUM(AD5:AH5) -> 0
B6: Atletico Sereno | C6: andreabrescia | E6: =VLOOKUP($C6,giorn!$C:$AN,E$1,0) -> 76 | F6: =VLOOKUP($C6,giorn!$C:$AN,F$1,0) -> 60 | G6: =VLOOKUP($C6,giorn!$C:$AN,G$1,0) -> 68.5 | H6: =VLOOKUP($C6,giorn!$C:$AN,H$1,0) -> 75 | I6: =VLOOKUP($C6,giorn!$C:$AN,I$1,0) -> 67.5 | J6: =SUM(E6:I6) -> 347 | K6: =VLOOKUP($C6,giorn!$C:$AN,K$1,0) -> 75 | L6: =VLOOKUP($C6,giorn!$C:$AN,L$1,0) -> 68.5 | M6: =VLOOKUP($C6,giorn!$C:$AN,M$1,0) -> 70 | N6: =VLOOKUP($C6,giorn!$C:$AN,N$1,0) -> 78 | O6: =VLOOKUP($C6,giorn!$C:$AN,O$1,0) -> 70 | P6: =SUM(K6:O6) -> 361.5 | Q6: =VLOOKUP($C6,giorn!$C:$AN,Q$1,0) -> 72 | R6: =VLOOKUP($C6,giorn!$C:$AN,R$1,0) -> 59 | S6: =VLOOKUP($C6,giorn!$C:$AN,S$1,0) -> 80 | T6: =VLOOKUP($C6,giorn!$C:$AN,T$1,0) -> 72.5 | U6: =VLOOKUP($C6,giorn!$C:$AN,U$1,0) -> 75 | V6: =SUM(Q6:U6) -> 358.5 | W6: =VLOOKUP($C6,giorn!$C:$AN,W$1,0) -> 80 | X6: =VLOOKUP($C6,giorn!$C:$AN,X$1,0) -> 73.5 | Y6: =VLOOKUP($C6,giorn!$C:$AN,Y$1,0) -> 63.5 | Z6: =VLOOKUP($C6,giorn!$C:$AN,Z$1,0) -> 74 | AC6: =SUM(X6:AB6) -> 211 | AI6: =SUM(AD6:AH6) -> 0
A7: X | B7: I Velieri | C7: bremec | E7: =VLOOKUP($C7,giorn!$C:$AN,E$1,0) -> 69.5 | F7: =VLOOKUP($C7,giorn!$C:$AN,F$1,0) -> 72.5 | G7: =VLOOKUP($C7,giorn!$C:$AN,G$1,0) -> 71 | H7: =VLOOKUP($C7,giorn!$C:$AN,H$1,0) -> 76.5 | I7: =VLOOKUP($C7,giorn!$C:$AN,I$1,0) -> 78 | J7: =SUM(E7:I7) -> 367.5 | K7: =VLOOKUP($C7,giorn!$C:$AN,K$1,0) -> 69.5 | L7: =VLOOKUP($C7,giorn!$C:$AN,L$1,0) -> 68 | M7: =VLOOKUP($C7,giorn!$C:$AN,M$1,0) -> 63.5 | N7: =VLOOKUP($C7,giorn!$C:$AN,N$1,0) -> 76 | O7: =VLOOKUP($C7,giorn!$C:$AN,O$1,0) -> 61.5 | P7: =SUM(K7:O7) -> 338.5 | Q7: =VLOOKUP($C7,giorn!$C:$AN,Q$1,0) -> 68 | R7: =VLOOKUP($C7,giorn!$C:$AN,R$1,0) -> 61.5 | S7: =VLOOKUP($C7,giorn!$C:$AN,S$1,0) -> 63 | T7: =VLOOKUP($C7,giorn!$C:$AN,T$1,0) -> 68.5 | U7: =VLOOKUP($C7,giorn!$C:$AN,U$1,0) -> 70.5 | V7: =SUM(Q7:U7) -> 331.5 | W7: =VLOOKUP($C7,giorn!$C:$AN,W$1,0) -> 59 | X7: =VLOOKUP($C7,giorn!$C:$AN,X$1,0) -> 72 | Y7: =VLOOKUP($C7,giorn!$C:$AN,Y$1,0) -> 62.5 | Z7: =VLOOKUP($C7,giorn!$C:$AN,Z$1,0) -> 68 | AC7: =SUM(X7:AB7) -> 202.5 | AI7: =SUM(AD7:AH7) -> 0
B8: capirexligamilan | C8: capirexligamilan | E8: =VLOOKUP($C8,giorn!$C:$AN,E$1,0) -> 67.5 | F8: =VLOOKUP($C8,giorn!$C:$AN,F$1,0) -> 67.5 | G8: =VLOOKUP($C8,giorn!$C:$AN,G$1,0) -> 59.5 | H8: =VLOOKUP($C8,giorn!$C:$AN,H$1,0) -> 64.5 | I8: =VLOOKUP($C8,giorn!$C:$AN,I$1,0) -> 75 | J8: =SUM(E8:I8) -> 334 | K8: =VLOOKUP($C8,giorn!$C:$AN,K$1,0) -> 62.5 | L8: =VLOOKUP($C8,giorn!$C:$AN,L$1,0) -> 59 | M8: =VLOOKUP($C8,giorn!$C:$AN,M$1,0) -> 63 | N8: =VLOOKUP($C8,giorn!$C:$AN,N$1,0) -> 75.5 | O8: =VLOOKUP($C8,giorn!$C:$AN,O$1,0) -> 62.5 | P8: =SUM(K8:O8) -> 322.5 | Q8: =VLOOKUP($C8,giorn!$C:$AN,Q$1,0) -> 72 | R8: =VLOOKUP($C8,giorn!$C:$AN,R$1,0) -> 55.5 | S8: =VLOOKUP($C8,giorn!$C:$AN,S$1,0) -> 65.5 | T8: =VLOOKUP($C8,giorn!$C:$AN,T$1,0) -> 59 | U8: =VLOOKUP($C8,giorn!$C:$AN,U$1,0) -> 58.5 | V8: =SUM(Q8:U8) -> 310.5 | W8: =VLOOKUP($C8,giorn!$C:$AN,W$1,0) -> 53.5 | X8: =VLOOKUP($C8,giorn!$C:$AN,X$1,0) -> 65 | Y8: =VLOOKUP($C8,giorn!$C:$AN,Y$1,0) -> 72 | Z8: =VLOOKUP($C8,giorn!$C:$AN,Z$1,0) -> 49.5 | AC8: =SUM(X8:AB8) -> 186.5 | AI8: =SUM(AD8:AH8) -> 0
B9: catania | C9: catania | E9: =VLOOKUP($C9,giorn!$C:$AN,E$1,0) -> 69 | F9: =VLOOKUP($C9,giorn!$C:$AN,F$1,0) -> 61 | G9: =VLOOKUP($C9,giorn!$C:$AN,G$1,0) -> 65.5 | H9: =VLOOKUP($C9,giorn!$C:$AN,H$1,0) -> 77.5 | I9: =VLOOKUP($C9,giorn!$C:$AN,I$1,0) -> 67 | J9: =SUM(E9:I9) -> 340 | K9: =VLOOKUP($C9,giorn!$C:$AN,K$1,0) -> 73 | L9: =VLOOKUP($C9,giorn!$C:$AN,L$1,0) -> 70 | M9: =VLOOKUP($C9,giorn!$C:$AN,M$1,0) -> 72 | N9: =VLOOKUP($C9,giorn!$C:$AN,N$1,0) -> 84.5 | O9: =VLOOKUP($C9,giorn!$C:$AN,O$1,0) -> 78.5 | P9: =SUM(K9:O9) -> 378 | Q9: =VLOOKUP($C9,giorn!$C:$AN,Q$1,0) -> 64.5 | R9: =VLOOKUP($C9,giorn!$C:$AN,R$1,0) -> 67.5 | S9: =VLOOKUP($C9,giorn!$C:$AN,S$1,0) -> 73.5 | T9: =VLOOKUP($C9,giorn!$C:$AN,T$1,0) -> 74 | U9: =VLOOKUP($C9,giorn!$C:$AN,U$1,0) -> 66.5 | V9: =SUM(Q9:U9) -> 346 | W9: =VLOOKUP($C9,giorn!$C:$AN,W$1,0) -> 63 | X9: =VLOOKUP($C9,giorn!$C:$AN,X$1,0) -> 78 | Y9: =VLOOKUP($C9,giorn!$C:$AN,Y$1,0) -> 63.5 | Z9: =VLOOKUP($C9,giorn!$C:$AN,Z$1,0) -> 71.5 | AC9: =SUM(X9:AB9) -> 213 | AI9: =SUM(AD9:AH9) -> 0
B10: Brontefantasy | C10: catania5556 | E10: =VLOOKUP($C10,giorn!$C:$AN,E$1,0) -> 64 | F10: =VLOOKUP($C10,giorn!$C:$AN,F$1,0) -> 60 | G10: =VLOOKUP($C10,giorn!$C:$AN,G$1,0) -> 67 | H10: =VLOOKUP($C10,giorn!$C:$AN,H$1,0) -> 82 | I10: =VLOOKUP($C10,giorn!$C:$AN,I$1,0) -> 65 | J10: =SUM(E10:I10) -> 338 | K10: =VLOOKUP($C10,giorn!$C:$AN,K$1,0) -> 62.5 | L10: =VLOOKUP($C10,giorn!$C:$AN,L$1,0) -> 76.5 | M10: =VLOOKUP($C10,giorn!$C:$AN,M$1,0) -> 71.5 | N10: =VLOOKUP($C10,giorn!$C:$AN,N$1,0) -> 87 | O10: =VLOOKUP($C10,giorn!$C:$AN,O$1,0) -> 75 | P10: =SUM(K10:O10) -> 372.5 | Q10: =VLOOKUP($C10,giorn!$C:$AN,Q$1,0) -> 73.5 | R10: =VLOOKUP($C10,giorn!$C:$AN,R$1,0) -> 61 | S10: =VLOOKUP($C10,giorn!$C:$AN,S$1,0) -> 67.5 | T10: =VLOOKUP($C10,giorn!$C:$AN,T$1,0) -> 76 | U10: =VLOOKUP($C10,giorn!$C:$AN,U$1,0) -> 67.5 | V10: =SUM(Q10:U10) -> 345.5 | W10: =VLOOKUP($C10,giorn!$C:$AN,W$1,0) -> 63.5 | X10: =VLOOKUP($C10,giorn!$C:$AN,X$1,0) -> 75.5 | Y10: =VLOOKUP($C10,giorn!$C:$AN,Y$1,0) -> 74.5 | Z10: =VLOOKUP($C10,giorn!$C:$AN,Z$1,0) -> 70 | AC10: =SUM(X10:AB10) -> 220 | AI10: =SUM(AD10:AH10) -> 0
B11: ciro51 | C11: ciro51 | E11: =VLOOKUP($C11,giorn!$C:$AN,E$1,0) -> 78.5 | F11: =VLOOKUP($C11,giorn!$C:$AN,F$1,0) -> 59.5 | G11: =VLOOKUP($C11,giorn!$C:$AN,G$1,0) -> 69 | H11: =VLOOKUP($C11,giorn!$C:$AN,H$1,0) -> 66.5 | I11: =VLOOKUP($C11,giorn!$C:$AN,I$1,0) -> 76.5 | J11: =SUM(E11:I11) -> 350 | K11: =VLOOKUP($C11,giorn!$C:$AN,K$1,0) -> 78 | L11: =VLOOKUP($C11,giorn!$C:$AN,L$1,0) -> 66 | M11: =VLOOKUP($C11,giorn!$C:$AN,M$1,0) -> 72 | N11: =VLOOKUP($C11,giorn!$C:$AN,N$1,0) -> 73.5 | O11: =VLOOKUP($C11,giorn!$C:$AN,O$1,0) -> 66.5 | P11: =SUM(K11:O11) -> 356 | Q11: =VLOOKUP($C11,giorn!$C:$AN,Q$1,0) -> 74.5 | R11: =VLOOKUP($C11,giorn!$C:$AN,R$1,0) -> 66 | S11: =VLOOKUP($C11,giorn!$C:$AN,S$1,0) -> 65 | T11: =VLOOKUP($C11,giorn!$C:$AN,T$1,0) -> 70 | U11: =VLOOKUP($C11,giorn!$C:$AN,U$1,0) -> 74.5 | V11: =SUM(Q11:U11) -> 350 | W11: =VLOOKUP($C11,giorn!$C:$AN,W$1,0) -> 82.5 | X11: =VLOOKUP($C11,giorn!$C:$AN,X$1,0) -> 71.5 | Y11: =VLOOKUP($C11,giorn!$C:$AN,Y$1,0) -> 66.5 | Z11: =VLOOKUP($C11,giorn!$C:$AN,Z$1,0) -> 65.5 | AC11: =SUM(X11:AB11) -> 203.5 | AI11: =SUM(AD11:AH11) -> 0
B12: AsiAssonNaty | C12: clamore22 | E12: =VLOOKUP($C12,giorn!$C:$AN,E$1,0) -> 77.5 | F12: =VLOOKUP($C12,giorn!$C:$AN,F$1,0) -> 60 | G12: =VLOOKUP($C12,giorn!$C:$AN,G$1,0) -> 67.5 | H12: =VLOOKUP($C12,giorn!$C:$AN,H$1,0) -> 78 | I12: =VLOOKUP($C12,giorn!$C:$AN,I$1,0) -> 73 | J12: =SUM(E12:I12) -> 356 | K12: =VLOOKUP($C12,giorn!$C:$AN,K$1,0) -> 77 | L12: =VLOOKUP($C12,giorn!$C:$AN,L$1,0) -> 68 | M12: =VLOOKUP($C12,giorn!$C:$AN,M$1,0) -> 73 | N12: =VLOOKUP($C12,giorn!$C:$AN,N$1,0) -> 88.5 | O12: =VLOOKUP($C12,giorn!$C:$AN,O$1,0) -> 66.5 | P12: =SUM(K12:O12) -> 373 | Q12: =VLOOKUP($C12,giorn!$C:$AN,Q$1,0) -> 71.5 | R12: =VLOOKUP($C12,giorn!$C:$AN,R$1,0) -> 66.5 | S12: =VLOOKUP($C12,giorn!$C:$AN,S$1,0) -> 81 | T12: =VLOOKUP($C12,giorn!$C:$AN,T$1,0) -> 77.5 | U12: =VLOOKUP($C12,giorn!$C:$AN,U$1,0) -> 74 | V12: =SUM(Q12:U12) -> 370.5 | W12: =VLOOKUP($C12,giorn!$C:$AN,W$1,0) -> 68.5 | X12: =VLOOKUP($C12,giorn!$C:$AN,X$1,0) -> 81 | Y12: =VLOOKUP($C12,giorn!$C:$AN,Y$1,0) -> 69 | Z12: =VLOOKUP($C12,giorn!$C:$AN,Z$1,0) -> 69 | AC12: =SUM(X12:AB12) -> 219 | AI12: =SUM(AD12:AH12) -> 0
B13: Goomba | C13: crah83 | E13: =VLOOKUP($C13,giorn!$C:$AN,E$1,0) -> 75 | F13: =VLOOKUP($C13,giorn!$C:$AN,F$1,0) -> 55 | G13: =VLOOKUP($C13,giorn!$C:$AN,G$1,0) -> 57.5 | H13: =VLOOKUP($C13,giorn!$C:$AN,H$1,0) -> 67.5 | I13: =VLOOKUP($C13,giorn!$C:$AN,I$1,0) -> 64 | J13: =SUM(E13:I13) -> 319 | K13: =VLOOKUP($C13,giorn!$C:$AN,K$1,0) -> 80.5 | L13: =VLOOKUP($C13,giorn!$C:$AN,L$1,0) -> 72 | M13: =VLOOKUP($C13,giorn!$C:$AN,M$1,0) -> 63.5 | N13: =VLOOKUP($C13,giorn!$C:$AN,N$1,0) -> 82.5 | O13: =VLOOKUP($C13,giorn!$C:$AN,O$1,0) -> 64.5 | P13: =SUM(K13:O13) -> 363 | Q13: =VLOOKUP($C13,giorn!$C:$AN,Q$1,0) -> 73 | R13: =VLOOKUP($C13,giorn!$C:$AN,R$1,0) -> 61 | S13: =VLOOKUP($C13,giorn!$C:$AN,S$1,0) -> 79.5 | T13: =VLOOKUP($C13,giorn!$C:$AN,T$1,0) -> 74 | U13: =VLOOKUP($C13,giorn!$C:$AN,U$1,0) -> 67.5 | V13: =SUM(Q13:U13) -> 355 | W13: =VLOOKUP($C13,giorn!$C:$AN,W$1,0) -> 80 | X13: =VLOOKUP($C13,giorn!$C:$AN,X$1,0) -> 79 | Y13: =VLOOKUP($C13,giorn!$C:$AN,Y$1,0) -> 73.5 | Z13: =VLOOKUP($C13,giorn!$C:$AN,Z$1,0) -> 65 | AC13: =SUM(X13:AB13) -> 217.5 | AI13: =SUM(AD13:AH13) -> 0
B14: diego89 | C14: diego89 | E14: =VLOOKUP($C14,giorn!$C:$AN,E$1,0) -> 78.5 | F14: =VLOOKUP($C14,giorn!$C:$AN,F$1,0) -> 54 | G14: =VLOOKUP($C14,giorn!$C:$AN,G$1,0) -> 64 | H14: =VLOOKUP($C14,giorn!$C:$AN,H$1,0) -> 72 | I14: =VLOOKUP($C14,giorn!$C:$AN,I$1,0) -> 74 | J14: =SUM(E14:I14) -> 342.5 | K14: =VLOOKUP($C14,giorn!$C:$AN,K$1,0) -> 71 | L14: =VLOOKUP($C14,giorn!$C:$AN,L$1,0) -> 73 | M14: =VLOOKUP($C14,giorn!$C:$AN,M$1,0) -> 67.5 | N14: =VLOOKUP($C14,giorn!$C:$AN,N$1,0) -> 79.5 | O14: =VLOOKUP($C14,giorn!$C:$AN,O$1,0) -> 73 | P14: =SUM(K14:O14) -> 364 | Q14: =VLOOKUP($C14,giorn!$C:$AN,Q$1,0) -> 74 | R14: =VLOOKUP($C14,giorn!$C:$AN,R$1,0) -> 63 | S14: =VLOOKUP($C14,giorn!$C:$AN,S$1,0) -> 69 | T14: =VLOOKUP($C14,giorn!$C:$AN,T$1,0) -> 71.5 | U14: =VLOOKUP($C14,giorn!$C:$AN,U$1,0) -> 76 | V14: =SUM(Q14:U14) -> 353.5 | W14: =VLOOKUP($C14,giorn!$C:$AN,W$1,0) -> 70 | X14: =VLOOKUP($C14,giorn!$C:$AN,X$1,0) -> 61 | Y14: =VLOOKUP($C14,giorn!$C:$AN,Y$1,0) -> 61.5 | Z14: =VLOOKUP($C14,giorn!$C:$AN,Z$1,0) -> 65 | AC14: =SUM(X14:AB14) -> 187.5 | AI14: =SUM(AD14:AH14) -> 0
B15: Fantacau FC | C15: flaincau | E15: =VLOOKUP($C15,giorn!$C:$AN,E$1,0) -> 73 | F15: =VLOOKUP($C15,giorn!$C:$AN,F$1,0) -> 63.5 | G15: =VLOOKUP($C15,giorn!$C:$AN,G$1,0) -> 66 | H15: =VLOOKUP($C15,giorn!$C:$AN,H$1,0) -> 67.5 | I15: =VLOOKUP($C15,giorn!$C:$AN,I$1,0) -> 70 | J15: =SUM(E15:I15) -> 340 | K15: =VLOOKUP($C15,giorn!$C:$AN,K$1,0) -> 62.5 | L15: =VLOOKUP($C15,giorn!$C:$AN,L$1,0) -> 68.5 | M15: =VLOOKUP($C15,giorn!$C:$AN,M$1,0) -> 64.5 | N15: =VLOOKUP($C15,giorn!$C:$AN,N$1,0) -> 68.5 | O15: =VLOOKUP($C15,giorn!$C:$AN,O$1,0) -> 68 | P15: =SUM(K15:O15) -> 332 | Q15: =VLOOKUP($C15,giorn!$C:$AN,Q$1,0) -> 76 | R15: =VLOOKUP($C15,giorn!$C:$AN,R$1,0) -> 64 | S15: =VLOOKUP($C15,giorn!$C:$AN,S$1,0) -> 81 | T15: =VLOOKUP($C15,giorn!$C:$AN,T$1,0) -> 65.5 | U15: =VLOOKUP($C15,giorn!$C:$AN,U$1,0) -> 67 | V15: =SUM(Q15:U15) -> 353.5 | W15: =VLOOKUP($C15,giorn!$C:$AN,W$1,0) -> 56.5 | X15: =VLOOKUP($C15,giorn!$C:$AN,X$1,0) -> 61.5 | Y15: =VLOOKUP($C15,giorn!$C:$AN,Y$1,0) -> 63 | Z15: =VLOOKUP($C15,giorn!$C:$AN,Z$1,0) -> 73 | AC15: =SUM(X15:AB15) -> 197.5 | AI15: =SUM(AD15:AH15) -> 0
A16: X | B16: REAL COSENZA 1914 | C16: flaviotto | E16: =VLOOKUP($C16,giorn!$C:$AN,E$1,0) -> 69 | F16: =VLOOKUP($C16,giorn!$C:$AN,F$1,0) -> 63.5 | G16: =VLOOKUP($C16,giorn!$C:$AN,G$1,0) -> 67.5 | H16: =VLOOKUP($C16,giorn!$C:$AN,H$1,0) -> 74.5 | I16: =VLOOKUP($C16,giorn!$C:$AN,I$1,0) -> 70 | J16: =SUM(E16:I16) -> 344.5 | K16: =VLOOKUP($C16,giorn!$C:$AN,K$1,0) -> 69.5 | L16: =VLOOKUP($C16,giorn!$C:$AN,L$1,0) -> 77 | M16: =VLOOKUP($C16,giorn!$C:$AN,M$1,0) -> 71.5 | N16: =VLOOKUP($C16,giorn!$C:$AN,N$1,0) -> 93 | O16: =VLOOKUP($C16,giorn!$C:$AN,O$1,0) -> 69.5 | P16: =SUM(K16:O16) -> 380.5 | Q16: =VLOOKUP($C16,giorn!$C:$AN,Q$1,0) -> 65.5 | R16: =VLOOKUP($C16,giorn!$C:$AN,R$1,0) -> 59.5 | S16: =VLOOKUP($C16,giorn!$C:$AN,S$1,0) -> 73.5 | T16: =VLOOKUP($C16,giorn!$C:$AN,T$1,0) -> 79.5 | U16: =VLOOKUP($C16,giorn!$C:$AN,U$1,0) -> 71.5 | V16: =SUM(Q16:U16) -> 349.5 | W16: =VLOOKUP($C16,giorn!$C:$AN,W$1,0) -> 71.5 | X16: =VLOOKUP($C16,giorn!$C:$AN,X$1,0) -> 79 | Y16: =VLOOKUP($C16,giorn!$C:$AN,Y$1,0) -> 72 | Z16: =VLOOKUP($C16,giorn!$C:$AN,Z$1,0) -> 75 | AC16: =SUM(X16:AB16) -> 226 | AI16: =SUM(AD16:AH16) -> 0
B17: Grun | C17: grunluca | E17: =VLOOKUP($C17,giorn!$C:$AN,E$1,0) -> 80.5 | F17: =VLOOKUP($C17,giorn!$C:$AN,F$1,0) -> 59.5 | G17: =VLOOKUP($C17,giorn!$C:$AN,G$1,0) -> 75 | H17: =VLOOKUP($C17,giorn!$C:$AN,H$1,0) -> 68.5 | I17: =VLOOKUP($C17,giorn!$C:$AN,I$1,0) -> 69.5 | J17: =SUM(E17:I17) -> 353 | K17: =VLOOKUP($C17,giorn!$C:$AN,K$1,0) -> 70.5 | L17: =VLOOKUP($C17,giorn!$C:$AN,L$1,0) -> 69.5 | M17: =VLOOKUP($C17,giorn!$C:$AN,M$1,0) -> 69 | N17: =VLOOKUP($C17,giorn!$C:$AN,N$1,0) -> 71.5 | O17: =VLOOKUP($C17,giorn!$C:$AN,O$1,0) -> 70.5 | P17: =SUM(K17:O17) -> 351 | Q17: =VLOOKUP($C17,giorn!$C:$AN,Q$1,0) -> 64.5 | R17: =VLOOKUP($C17,giorn!$C:$AN,R$1,0) -> 70.5 | S17: =VLOOKUP($C17,giorn!$C:$AN,S$1,0) -> 78 | T17: =VLOOKUP($C17,giorn!$C:$AN,T$1,0) -> 75.5 | U17: =VLOOKUP($C17,giorn!$C:$AN,U$1,0) -> 76 | V17: =SUM(Q17:U17) -> 364.5 | W17: =VLOOKUP($C17,giorn!$C:$AN,W$1,0) -> 68.5 | X17: =VLOOKUP($C17,giorn!$C:$AN,X$1,0) -> 78 | Y17: =VLOOKUP($C17,giorn!$C:$AN,Y$1,0) -> 52 | Z17: =VLOOKUP($C17,giorn!$C:$AN,Z$1,0) -> 66.5 | AC17: =SUM(X17:AB17) -> 196.5 | AI17: =SUM(AD17:AH17) -> 0
A18: X | B18: jujula | C18: jujula | E18: =VLOOKUP($C18,giorn!$C:$AN,E$1,0) -> 74 | F18: =VLOOKUP($C18,giorn!$C:$AN,F$1,0) -> 60.5 | G18: =VLOOKUP($C18,giorn!$C:$AN,G$1,0) -> 71.5 | H18: =VLOOKUP($C18,giorn!$C:$AN,H$1,0) -> 71.5 | I18: =VLOOKUP($C18,giorn!$C:$AN,I$1,0) -> 75.5 | J18: =SUM(E18:I18) -> 353 | K18: =VLOOKUP($C18,giorn!$C:$AN,K$1,0) -> 67.5 | L18: =VLOOKUP($C18,giorn!$C:$AN,L$1,0) -> 79 | M18: =VLOOKUP($C18,giorn!$C:$AN,M$1,0) -> 74 | N18: =VLOOKUP($C18,giorn!$C:$AN,N$1,0) -> 78 | O18: =VLOOKUP($C18,giorn!$C:$AN,O$1,0) -> 81 | P18: =SUM(K18:O18) -> 379.5 | Q18: =VLOOKUP($C18,giorn!$C:$AN,Q$1,0) -> 70 | R18: =VLOOKUP($C18,giorn!$C:$AN,R$1,0) -> 76.5 | S18: =VLOOKUP($C18,giorn!$C:$AN,S$1,0) -> 84 | T18: =VLOOKUP($C18,giorn!$C:$AN,T$1,0) -> 73.5 | U18: =VLOOKUP($C18,giorn!$C:$AN,U$1,0) -> 76.5 | V18: =SUM(Q18:U18) -> 380.5 | W18: =VLOOKUP($C18,giorn!$C:$AN,W$1,0) -> 72 | X18: =VLOOKUP($C18,giorn!$C:$AN,X$1,0) -> 70 | Y18: =VLOOKUP($C18,giorn!$C:$AN,Y$1,0) -> 66 | Z18: =VLOOKUP($C18,giorn!$C:$AN,Z$1,0) -> 74.5 | AC18: =SUM(X18:AB18) -> 210.5 | AI18: =SUM(AD18:AH18) -> 0
B19: Peggiononsipuòfare | C19: kolao95 | E19: =VLOOKUP($C19,giorn!$C:$AN,E$1,0) -> 68 | F19: =VLOOKUP($C19,giorn!$C:$AN,F$1,0) -> 69.5 | G19: =VLOOKUP($C19,giorn!$C:$AN,G$1,0) -> 60 | H19: =VLOOKUP($C19,giorn!$C:$AN,H$1,0) -> 69.5 | I19: =VLOOKUP($C19,giorn!$C:$AN,I$1,0) -> 70.5 | J19: =SUM(E19:I19) -> 337.5 | K19: =VLOOKUP($C19,giorn!$C:$AN,K$1,0) -> 65.5 | L19: =VLOOKUP($C19,giorn!$C:$AN,L$1,0) -> 80.5 | M19: =VLOOKUP($C19,giorn!$C:$AN,M$1,0) -> 73.5 | N19: =VLOOKUP($C19,giorn!$C:$AN,N$1,0) -> 84 | O19: =VLOOKUP($C19,giorn!$C:$AN,O$1,0) -> 66 | P19: =SUM(K19:O19) -> 369.5 | Q19: =VLOOKUP($C19,giorn!$C:$AN,Q$1,0) -> 74.5 | R19: =VLOOKUP($C19,giorn!$C:$AN,R$1,0) -> 64 | S19: =VLOOKUP($C19,giorn!$C:$AN,S$1,0) -> 69 | T19: =VLOOKUP($C19,giorn!$C:$AN,T$1,0) -> 59 | U19: =VLOOKUP($C19,giorn!$C:$AN,U$1,0) -> 71.5 | V19: =SUM(Q19:U19) -> 338 | W19: =VLOOKUP($C19,giorn!$C:$AN,W$1,0) -> 68 | X19: =VLOOKUP($C19,giorn!$C:$AN,X$1,0) -> 64 | Y19: =VLOOKUP($C19,giorn!$C:$AN,Y$1,0) -> 74 | Z19: =VLOOKUP($C19,giorn!$C:$AN,Z$1,0) -> 64.5 | AC19: =SUM(X19:AB19) -> 202.5 | AI19: =SUM(AD19:AH19) -> 0
B20: Fanta Lightman | C20: lightman | E20: =VLOOKUP($C20,giorn!$C:$AN,E$1,0) -> 81 | F20: =VLOOKUP($C20,giorn!$C:$AN,F$1,0) -> 53 | G20: =VLOOKUP($C20,giorn!$C:$AN,G$1,0) -> 71 | H20: =VLOOKUP($C20,giorn!$C:$AN,H$1,0) -> 70.5 | I20: =VLOOKUP($C20,giorn!$C:$AN,I$1,0) -> 68.5 | J20: =SUM(E20:I20) -> 344 | K20: =VLOOKUP($C20,giorn!$C:$AN,K$1,0) -> 63 | L20: =VLOOKUP($C20,giorn!$C:$AN,L$1,0) -> 64 | M20: =VLOOKUP($C20,giorn!$C:$AN,M$1,0) -> 67 | N20: =VLOOKUP($C20,giorn!$C:$AN,N$1,0) -> 74.5 | O20: =VLOOKUP($C20,giorn!$C:$AN,O$1,0) -> 72 | P20: =SUM(K20:O20) -> 340.5 | Q20: =VLOOKUP($C20,giorn!$C:$AN,Q$1,0) -> 67 | R20: =VLOOKUP($C20,giorn!$C:$AN,R$1,0) -> 72 | S20: =VLOOKUP($C20,giorn!$C:$AN,S$1,0) -> 80 | T20: =VLOOKUP($C20,giorn!$C:$AN,T$1,0) -> 73.5 | U20: =VLOOKUP($C20,giorn!$C:$AN,U$1,0) -> 76 | V20: =SUM(Q20:U20) -> 368.5 | W20: =VLOOKUP($C20,giorn!$C:$AN,W$1,0) -> 70.5 | X20: =VLOOKUP($C20,giorn!$C:$AN,X$1,0) -> 72 | Y20: =VLOOKUP($C20,giorn!$C:$AN,Y$1,0) -> 60 | Z20: =VLOOKUP($C20,giorn!$C:$AN,Z$1,0) -> 80 | AC20: =SUM(X20:AB20) -> 212 | AI20: =SUM(AD20:AH20) -> 0
B21: mastrolindo | C21: mastrolindo | E21: =VLOOKUP($C21,giorn!$C:$AN,E$1,0) -> 78.5 | F21: =VLOOKUP($C21,giorn!$C:$AN,F$1,0) -> 62 | G21: =VLOOKUP($C21,giorn!$C:$AN,G$1,0) -> 75.5 | H21: =VLOOKUP($C21,giorn!$C:$AN,H$1,0) -> 78 | I21: =VLOOKUP($C21,giorn!$C:$AN,I$1,0) -> 68 | J21: =SUM(E21:I21) -> 362 | K21: =VLOOKUP($C21,giorn!$C:$AN,K$1,0) -> 65.5 | L21: =VLOOKUP($C21,giorn!$C:$AN,L$1,0) -> 78 | M21: =VLOOKUP($C21,giorn!$C:$AN,M$1,0) -> 80.5 | N21: =VLOOKUP($C21,giorn!$C:$AN,N$1,0) -> 80 | O21: =VLOOKUP($C21,giorn!$C:$AN,O$1,0) -> 72 | P21: =SUM(K21:O21) -> 376 | Q21: =VLOOKUP($C21,giorn!$C:$AN,Q$1,0) -> 64.5 | R21: =VLOOKUP($C21,giorn!$C:$AN,R$1,0) -> 67 | S21: =VLOOKUP($C21,giorn!$C:$AN,S$1,0) -> 76 | T21: =VLOOKUP($C21,giorn!$C:$AN,T$1,0) -> 78.5 | U21: =VLOOKUP($C21,giorn!$C:$AN,U$1,0) -> 70.5 | V21: =SUM(Q21:U21) -> 356.5 | W21: =VLOOKUP($C21,giorn!$C:$AN,W$1,0) -> 62 | X21: =VLOOKUP($C21,giorn!$C:$AN,X$1,0) -> 72.5 | Y21: =VLOOKUP($C21,giorn!$C:$AN,Y$1,0) -> 72 | Z21: =VLOOKUP($C21,giorn!$C:$AN,Z$1,0) -> 72.5 | AC21: =SUM(X21:AB21) -> 217 | AI21: =SUM(AD21:AH21) -> 0
B22: A.C. Javier Pastore | C22: matteo9502 | E22: =VLOOKUP($C22,giorn!$C:$AN,E$1,0) -> 71.5 | F22: =VLOOKUP($C22,giorn!$C:$AN,F$1,0) -> 65 | G22: =VLOOKUP($C22,giorn!$C:$AN,G$1,0) -> 63.5 | H22: =VLOOKUP($C22,giorn!$C:$AN,H$1,0) -> 57.5 | I22: =VLOOKUP($C22,giorn!$C:$AN,I$1,0) -> 81 | J22: =SUM(E22:I22) -> 338.5 | K22: =VLOOKUP($C22,giorn!$C:$AN,K$1,0) -> 76 | L22: =VLOOKUP($C22,giorn!$C:$AN,L$1,0) -> 62.5 | M22: =VLOOKUP($C22,giorn!$C:$AN,M$1,0) -> 68 | N22: =VLOOKUP($C22,giorn!$C:$AN,N$1,0) -> 71 | O22: =VLOOKUP($C22,giorn!$C:$AN,O$1,0) -> 76 | P22: =SUM(K22:O22) -> 353.5 | Q22: =VLOOKUP($C22,giorn!$C:$AN,Q$1,0) -> 73.5 | R22: =VLOOKUP($C22,giorn!$C:$AN,R$1,0) -> 70 | S22: =VLOOKUP($C22,giorn!$C:$AN,S$1,0) -> 72.5 | T22: =VLOOKUP($C22,giorn!$C:$AN,T$1,0) -> 77.5 | U22: =VLOOKUP($C22,giorn!$C:$AN,U$1,0) -> 65.5 | V22: =SUM(Q22:U22) -> 359 | W22: =VLOOKUP($C22,giorn!$C:$AN,W$1,0) -> 83.5 | X22: =VLOOKUP($C22,giorn!$C:$AN,X$1,0) -> 62.5 | Y22: =VLOOKUP($C22,giorn!$C:$AN,Y$1,0) -> 71.5 | Z22: =VLOOKUP($C22,giorn!$C:$AN,Z$1,0) -> 67 | AC22: =SUM(X22:AB22) -> 201 | AI22: =SUM(AD22:AH22) -> 0
B23: meridiano | C23: meridiano | E23: =VLOOKUP($C23,giorn!$C:$AN,E$1,0) -> 84 | F23: =VLOOKUP($C23,giorn!$C:$AN,F$1,0) -> 66 | G23: =VLOOKUP($C23,giorn!$C:$AN,G$1,0) -> 60.5 | H23: =VLOOKUP($C23,giorn!$C:$AN,H$1,0) -> 64.5 | I23: =VLOOKUP($C23,giorn!$C:$AN,I$1,0) -> 64.5 | J23: =SUM(E23:I23) -> 339.5 | K23: =VLOOKUP($C23,giorn!$C:$AN,K$1,0) -> 67.5 | L23: =VLOOKUP($C23,giorn!$C:$AN,L$1,0) -> 60.5 | M23: =VLOOKUP($C23,giorn!$C:$AN,M$1,0) -> 69 | N23: =VLOOKUP($C23,giorn!$C:$AN,N$1,0) -> 76 | O23: =VLOOKUP($C23,giorn!$C:$AN,O$1,0) -> 78 | P23: =SUM(K23:O23) -> 351 | Q23: =VLOOKUP($C23,giorn!$C:$AN,Q$1,0) -> 73 | R23: =VLOOKUP($C23,giorn!$C:$AN,R$1,0) -> 62.5 | S23: =VLOOKUP($C23,giorn!$C:$AN,S$1,0) -> 73 | T23: =VLOOKUP($C23,giorn!$C:$AN,T$1,0) -> 72 | U23: =VLOOKUP($C23,giorn!$C:$AN,U$1,0) -> 69 | V23: =SUM(Q23:U23) -> 349.5 | W23: =VLOOKUP($C23,giorn!$C:$AN,W$1,0) -> 70.5 | X23: =VLOOKUP($C23,giorn!$C:$AN,X$1,0) -> 71 | Y23: =VLOOKUP($C23,giorn!$C:$AN,Y$1,0) -> 67.5 | Z23: =VLOOKUP($C23,giorn!$C:$AN,Z$1,0) -> 80.5 | AC23: =SUM(X23:AB23) -> 219 | AI23: =SUM(AD23:AH23) -> 0
B24: Fantacloe | C24: merk17 | E24: =VLOOKUP($C24,giorn!$C:$AN,E$1,0) -> 81 | F24: =VLOOKUP($C24,giorn!$C:$AN,F$1,0) -> 64 | G24: =VLOOKUP($C24,giorn!$C:$AN,G$1,0) -> 62.5 | H24: =VLOOKUP($C24,giorn!$C:$AN,H$1,0) -> 69 | I24: =VLOOKUP($C24,giorn!$C:$AN,I$1,0) -> 73.5 | J24: =SUM(E24:I24) -> 350 | K24: =VLOOKUP($C24,giorn!$C:$AN,K$1,0) -> 79 | L24: =VLOOKUP($C24,giorn!$C:$AN,L$1,0) -> 65 | M24: =VLOOKUP($C24,giorn!$C:$AN,M$1,0) -> 65.5 | N24: =VLOOKUP($C24,giorn!$C:$AN,N$1,0) -> 61 | O24: =VLOOKUP($C24,giorn!$C:$AN,O$1,0) -> 69.5 | P24: =SUM(K24:O24) -> 340 | Q24: =VLOOKUP($C24,giorn!$C:$AN,Q$1,0) -> 82 | R24: =VLOOKUP($C24,giorn!$C:$AN,R$1,0) -> 70 | S24: =VLOOKUP($C24,giorn!$C:$AN,S$1,0) -> 68.5 | T24: =VLOOKUP($C24,giorn!$C:$AN,T$1,0) -> 68 | U24: =VLOOKUP($C24,giorn!$C:$AN,U$1,0) -> 67.5 | V24: =SUM(Q24:U24) -> 356 | W24: =VLOOKUP($C24,giorn!$C:$AN,W$1,0) -> 83.5 | X24: =VLOOKUP($C24,giorn!$C:$AN,X$1,0) -> 65 | Y24: =VLOOKUP($C24,giorn!$C:$AN,Y$1,0) -> 63.5 | Z24: =VLOOKUP($C24,giorn!$C:$AN,Z$1,0) -> 66 | AC24: =SUM(X24:AB24) -> 194.5 | AI24: =SUM(AD24:AH24) -> 0
B25: NOCERA*ULTRAS | C25: molosso | E25: =VLOOKUP($C25,giorn!$C:$AN,E$1,0) -> 69 | F25: =VLOOKUP($C25,giorn!$C:$AN,F$1,0) -> 60 | G25: =VLOOKUP($C25,giorn!$C:$AN,G$1,0) -> 69.5 | H25: =VLOOKUP($C25,giorn!$C:$AN,H$1,0) -> 62.5 | I25: =VLOOKUP($C25,giorn!$C:$AN,I$1,0) -> 70.5 | J25: =SUM(E25:I25) -> 331.5 | K25: =VLOOKUP($C25,giorn!$C:$AN,K$1,0) -> 66 | L25: =VLOOKUP($C25,giorn!$C:$AN,L$1,0) -> 62.5 | M25: =VLOOKUP($C25,giorn!$C:$AN,M$1,0) -> 61.5 | N25: =VLOOKUP($C25,giorn!$C:$AN,N$1,0) -> 73.5 | O25: =VLOOKUP($C25,giorn!$C:$AN,O$1,0) -> 69.5 | P25: =SUM(K25:O25) -> 333 | Q25: =VLOOKUP($C25,giorn!$C:$AN,Q$1,0) -> 71.5 | R25: =VLOOKUP($C25,giorn!$C:$AN,R$1,0) -> 61 | S25: =VLOOKUP($C25,giorn!$C:$AN,S$1,0) -> 64.5 | T25: =VLOOKUP($C25,giorn!$C:$AN,T$1,0) -> 66.5 | U25: =VLOOKUP($C25,giorn!$C:$AN,U$1,0) -> 64.5 | V25: =SUM(Q25:U25) -> 328 | W25: =VLOOKUP($C25,giorn!$C:$AN,W$1,0) -> 61.5 | X25: =VLOOKUP($C25,giorn!$C:$AN,X$1,0) -> 57 | Y25: =VLOOKUP($C25,giorn!$C:$AN,Y$1,0) -> 75.5 | Z25: =VLOOKUP($C25,giorn!$C:$AN,Z$1,0) -> 63 | AC25: =SUM(X25:AB25) -> 195.5 | AI25: =SUM(AD25:AH25) -> 0
B26: napule | C26: napule | E26: =VLOOKUP($C26,giorn!$C:$AN,E$1,0) -> 66.5 | F26: =VLOOKUP($C26,giorn!$C:$AN,F$1,0) -> 60 | G26: =VLOOKUP($C26,giorn!$C:$AN,G$1,0) -> 70.5 | H26: =VLOOKUP($C26,giorn!$C:$AN,H$1,0) -> 66.5 | I26: =VLOOKUP($C26,giorn!$C:$AN,I$1,0) -> 67 | J26: =SUM(E26:I26) -> 330.5 | K26: =VLOOKUP($C26,giorn!$C:$AN,K$1,0) -> 66 | L26: =VLOOKUP($C26,giorn!$C:$AN,L$1,0) -> 70 | M26: =VLOOKUP($C26,giorn!$C:$AN,M$1,0) -> 62 | N26: =VLOOKUP($C26,giorn!$C:$AN,N$1,0) -> 61 | O26: =VLOOKUP($C26,giorn!$C:$AN,O$1,0) -> 76 | P26: =SUM(K26:O26) -> 335 | Q26: =VLOOKUP($C26,giorn!$C:$AN,Q$1,0) -> 60.5 | R26: =VLOOKUP($C26,giorn!$C:$AN,R$1,0) -> 80 | S26: =VLOOKUP($C26,giorn!$C:$AN,S$1,0) -> 79 | T26: =VLOOKUP($C26,giorn!$C:$AN,T$1,0) -> 71.5 | U26: =VLOOKUP($C26,giorn!$C:$AN,U$1,0) -> 64.5 | V26: =SUM(Q26:U26) -> 355.5 | W26: =VLOOKUP($C26,giorn!$C:$AN,W$1,0) -> 66.5 | X26: =VLOOKUP($C26,giorn!$C:$AN,X$1,0) -> 82.5 | Y26: =VLOOKUP($C26,giorn!$C:$AN,Y$1,0) -> 59 | Z26: =VLOOKUP($C26,giorn!$C:$AN,Z$1,0) -> 65.5 | AC26: =SUM(X26:AB26) -> 207 | AI26: =SUM(AD26:AH26) -> 0
B27: Eroi nel vento | C27: ogeid36 | E27: =VLOOKUP($C27,giorn!$C:$AN,E$1,0) -> 75 | F27: =VLOOKUP($C27,giorn!$C:$AN,F$1,0) -> 71 | G27: =VLOOKUP($C27,giorn!$C:$AN,G$1,0) -> 71.5 | H27: =VLOOKUP($C27,giorn!$C:$AN,H$1,0) -> 73.5 | I27: =VLOOKUP($C27,giorn!$C:$AN,I$1,0) -> 70 | J27: =SUM(E27:I27) -> 361 | K27: =VLOOKUP($C27,giorn!$C:$AN,K$1,0) -> 74 | L27: =VLOOKUP($C27,giorn!$C:$AN,L$1,0) -> 72.5 | M27: =VLOOKUP($C27,giorn!$C:$AN,M$1,0) -> 64.5 | N27: =VLOOKUP($C27,giorn!$C:$AN,N$1,0) -> 74 | O27: =VLOOKUP($C27,giorn!$C:$AN,O$1,0) -> 73 | P27: =SUM(K27:O27) -> 358 | Q27: =VLOOKUP($C27,giorn!$C:$AN,Q$1,0) -> 69 | R27: =VLOOKUP($C27,giorn!$C:$AN,R$1,0) -> 64 | S27: =VLOOKUP($C27,giorn!$C:$AN,S$1,0) -> 73 | T27: =VLOOKUP($C27,giorn!$C:$AN,T$1,0) -> 77.5 | U27: =VLOOKUP($C27,giorn!$C:$AN,U$1,0) -> 79.5 | V27: =SUM(Q27:U27) -> 363 | W27: =VLOOKUP($C27,giorn!$C:$AN,W$1,0) -> 61.5 | X27: =VLOOKUP($C27,giorn!$C:$AN,X$1,0) -> 81 | Y27: =VLOOKUP($C27,giorn!$C:$AN,Y$1,0) -> 66.5 | Z27: =VLOOKUP($C27,giorn!$C:$AN,Z$1,0) -> 68 | AC27: =SUM(X27:AB27) -> 215.5 | AI27: =SUM(AD27:AH27) -> 0
B28: piero79 | C28: piero79 | E28: =VLOOKUP($C28,giorn!$C:$AN,E$1,0) -> 68 | F28: =VLOOKUP($C28,giorn!$C:$AN,F$1,0) -> 62 | G28: =VLOOKUP($C28,giorn!$C:$AN,G$1,0) -> 71 | H28: =VLOOKUP($C28,giorn!$C:$AN,H$1,0) -> 70 | I28: =VLOOKUP($C28,giorn!$C:$AN,I$1,0) -> 68 | J28: =SUM(E28:I28) -> 339 | K28: =VLOOKUP($C28,giorn!$C:$AN,K$1,0) -> 63.5 | L28: =VLOOKUP($C28,giorn!$C:$AN,L$1,0) -> 55 | M28: =VLOOKUP($C28,giorn!$C:$AN,M$1,0) -> 76 | N28: =VLOOKUP($C28,giorn!$C:$AN,N$1,0) -> 83.5 | O28: =VLOOKUP($C28,giorn!$C:$AN,O$1,0) -> 74.5 | P28: =SUM(K28:O28) -> 352.5 | Q28: =VLOOKUP($C28,giorn!$C:$AN,Q$1,0) -> 66 | R28: =VLOOKUP($C28,giorn!$C:$AN,R$1,0) -> 65 | S28: =VLOOKUP($C28,giorn!$C:$AN,S$1,0) -> 71 | T28: =VLOOKUP($C28,giorn!$C:$AN,T$1,0) -> 77 | U28: =VLOOKUP($C28,giorn!$C:$AN,U$1,0) -> 72.5 | V28: =SUM(Q28:U28) -> 351.5 | W28: =VLOOKUP($C28,giorn!$C:$AN,W$1,0) -> 82 | X28: =VLOOKUP($C28,giorn!$C:$AN,X$1,0) -> 74 | Y28: =VLOOKUP($C28,giorn!$C:$AN,Y$1,0) -> 63.5 | Z28: =VLOOKUP($C28,giorn!$C:$AN,Z$1,0) -> 75.5 | AC28: =SUM(X28:AB28) -> 213 | AI28: =SUM(AD28:AH28) -> 0
B29: PowerTeam (potino78) | C29: potino78 | E29: =VLOOKUP($C29,giorn!$C:$AN,E$1,0) -> 75.5 | F29: =VLOOKUP($C29,giorn!$C:$AN,F$1,0) -> 56.5 | G29: =VLOOKUP($C29,giorn!$C:$AN,G$1,0) -> 60.5 | H29: =VLOOKUP($C29,giorn!$C:$AN,H$1,0) -> 67 | I29: =VLOOKUP($C29,giorn!$C:$AN,I$1,0) -> 68 | J29: =SUM(E29:I29) -> 327.5 | K29: =VLOOKUP($C29,giorn!$C:$AN,K$1,0) -> 62 | L29: =VLOOKUP($C29,giorn!$C:$AN,L$1,0) -> 76.5 | M29: =VLOOKUP($C29,giorn!$C:$AN,M$1,0) -> 60.5 | N29: =VLOOKUP($C29,giorn!$C:$AN,N$1,0) -> 79 | O29: =VLOOKUP($C29,giorn!$C:$AN,O$1,0) -> 69.5 | P29: =SUM(K29:O29) -> 347.5 | Q29: =VLOOKUP($C29,giorn!$C:$AN,Q$1,0) -> 76.5 | R29: =VLOOKUP($C29,giorn!$C:$AN,R$1,0) -> 66 | S29: =VLOOKUP($C29,giorn!$C:$AN,S$1,0) -> 72.5 | T29: =VLOOKUP($C29,giorn!$C:$AN,T$1,0) -> 67 | U29: =VLOOKUP($C29,giorn!$C:$AN,U$1,0) -> 64 | V29: =SUM(Q29:U29) -> 346 | W29: =VLOOKUP($C29,giorn!$C:$AN,W$1,0) -> 80.5 | X29: =VLOOKUP($C29,giorn!$C:$AN,X$1,0) -> 69.5 | Y29: =VLOOKUP($C29,giorn!$C:$AN,Y$1,0) -> 70 | Z29: =VLOOKUP($C29,giorn!$C:$AN,Z$1,0) -> 72 | AC29: =SUM(X29:AB29) -> 211.5 | AI29: =SUM(AD29:AH29) -> 0
B30: Santamonica | C30: realsantamonica | E30: =VLOOKUP($C30,giorn!$C:$AN,E$1,0) -> 68 | F30: =VLOOKUP($C30,giorn!$C:$AN,F$1,0) -> 64.5 | G30: =VLOOKUP($C30,giorn!$C:$AN,G$1,0) -> 72.5 | H30: =VLOOKUP($C30,giorn!$C:$AN,H$1,0) -> 67.5 | I30: =VLOOKUP($C30,giorn!$C:$AN,I$1,0) -> 66.5 | J30: =SUM(E30:I30) -> 339 | K30: =VLOOKUP($C30,giorn!$C:$AN,K$1,0) -> 64.5 | L30: =VLOOKUP($C30,giorn!$C:$AN,L$1,0) -> 71.5 | M30: =VLOOKUP($C30,giorn!$C:$AN,M$1,0) -> 69.5 | N30: =VLOOKUP($C30,giorn!$C:$AN,N$1,0) -> 71 | O30: =VLOOKUP($C30,giorn!$C:$AN,O$1,0) -> 82 | P30: =SUM(K30:O30) -> 358.5 | Q30: =VLOOKUP($C30,giorn!$C:$AN,Q$1,0) -> 57 | R30: =VLOOKUP($C30,giorn!$C:$AN,R$1,0) -> 68.5 | S30: =VLOOKUP($C30,giorn!$C:$AN,S$1,0) -> 81.5 | T30: =VLOOKUP($C30,giorn!$C:$AN,T$1,0) -> 76.5 | U30: =VLOOKUP($C30,giorn!$C:$AN,U$1,0) -> 66 | V30: =SUM(Q30:U30) -> 349.5 | W30: =VLOOKUP($C30,giorn!$C:$AN,W$1,0) -> 62.5 | X30: =VLOOKUP($C30,giorn!$C:$AN,X$1,0) -> 79.5 | Y30: =VLOOKUP($C30,giorn!$C:$AN,Y$1,0) -> 60.5 | Z30: =VLOOKUP($C30,giorn!$C:$AN,Z$1,0) -> 69 | AC30: =SUM(X30:AB30) -> 209 | AI30: =SUM(AD30:AH30) -> 0
A31: X | B31: Forza Taranto | C31: rossoblu | E31: =VLOOKUP($C31,giorn!$C:$AN,E$1,0) -> 69 | F31: =VLOOKUP($C31,giorn!$C:$AN,F$1,0) -> 61 | G31: =VLOOKUP($C31,giorn!$C:$AN,G$1,0) -> 76.5 | H31: =VLOOKUP($C31,giorn!$C:$AN,H$1,0) -> 83 | I31: =VLOOKUP($C31,giorn!$C:$AN,I$1,0) -> 67 | J31: =SUM(E31:I31) -> 356.5 | K31: =VLOOKUP($C31,giorn!$C:$AN,K$1,0) -> 64.5 | L31: =VLOOKUP($C31,giorn!$C:$AN,L$1,0) -> 76.5 | M31: =VLOOKUP($C31,giorn!$C:$AN,M$1,0) -> 70.5 | N31: =VLOOKUP($C31,giorn!$C:$AN,N$1,0) -> 90 | O31: =VLOOKUP($C31,giorn!$C:$AN,O$1,0) -> 79 | P31: =SUM(K31:O31) -> 380.5 | Q31: =VLOOKUP($C31,giorn!$C:$AN,Q$1,0) -> 70 | R31: =VLOOKUP($C31,giorn!$C:$AN,R$1,0) -> 64 | S31: =VLOOKUP($C31,giorn!$C:$AN,S$1,0) -> 72 | T31: =VLOOKUP($C31,giorn!$C:$AN,T$1,0) -> 78.5 | U31: =VLOOKUP($C31,giorn!$C:$AN,U$1,0) -> 74.5 | V31: =SUM(Q31:U31) -> 359 | W31: =VLOOKUP($C31,giorn!$C:$AN,W$1,0) -> 57.5 | X31: =VLOOKUP($C31,giorn!$C:$AN,X$1,0) -> 67.5 | Y31: =VLOOKUP($C31,giorn!$C:$AN,Y$1,0) -> 62.5 | Z31: =VLOOKUP($C31,giorn!$C:$AN,Z$1,0) -> 72.5 | AC31: =SUM(X31:AB31) -> 202.5 | AI31: =SUM(AD31:AH31) -> 0
B32: Sydney FC | C32: ruicosta | E32: =VLOOKUP($C32,giorn!$C:$AN,E$1,0) -> 67.5 | F32: =VLOOKUP($C32,giorn!$C:$AN,F$1,0) -> 61.5 | G32: =VLOOKUP($C32,giorn!$C:$AN,G$1,0) -> 65 | H32: =VLOOKUP($C32,giorn!$C:$AN,H$1,0) -> 80.5 | I32: =VLOOKUP($C32,giorn!$C:$AN,I$1,0) -> 75.5 | J32: =SUM(E32:I32) -> 350 | K32: =VLOOKUP($C32,giorn!$C:$AN,K$1,0) -> 70.5 | L32: =VLOOKUP($C32,giorn!$C:$AN,L$1,0) -> 81 | M32: =VLOOKUP($C32,giorn!$C:$AN,M$1,0) -> 60.5 | N32: =VLOOKUP($C32,giorn!$C:$AN,N$1,0) -> 82 | O32: =VLOOKUP($C32,giorn!$C:$AN,O$1,0) -> 69 | P32: =SUM(K32:O32) -> 363 | Q32: =VLOOKUP($C32,giorn!$C:$AN,Q$1,0) -> 64.5 | R32: =VLOOKUP($C32,giorn!$C:$AN,R$1,0) -> 76 | S32: =VLOOKUP($C32,giorn!$C:$AN,S$1,0) -> 83 | T32: =VLOOKUP($C32,giorn!$C:$AN,T$1,0) -> 75.5 | U32: =VLOOKUP($C32,giorn!$C:$AN,U$1,0) -> 65 | V32: =SUM(Q32:U32) -> 364 | W32: =VLOOKUP($C32,giorn!$C:$AN,W$1,0) -> 69 | X32: =VLOOKUP($C32,giorn!$C:$AN,X$1,0) -> 77.5 | Y32: =VLOOKUP($C32,giorn!$C:$AN,Y$1,0) -> 65.5 | Z32: =VLOOKUP($C32,giorn!$C:$AN,Z$1,0) -> 76.5 | AC32: =SUM(X32:AB32) -> 219.5 | AI32: =SUM(AD32:AH32) -> 0
A33: X | B33: Lokomotiv RUMePERA | C33: rumepera | E33: =VLOOKUP($C33,giorn!$C:$AN,E$1,0) -> 85.5 | F33: =VLOOKUP($C33,giorn!$C:$AN,F$1,0) -> 60 | G33: =VLOOKUP($C33,giorn!$C:$AN,G$1,0) -> 61.5 | H33: =VLOOKUP($C33,giorn!$C:$AN,H$1,0) -> 76 | I33: =VLOOKUP($C33,giorn!$C:$AN,I$1,0) -> 80.5 | J33: =SUM(E33:I33) -> 363.5 | K33: =VLOOKUP($C33,giorn!$C:$AN,K$1,0) -> 68 | L33: =VLOOKUP($C33,giorn!$C:$AN,L$1,0) -> 76 | M33: =VLOOKUP($C33,giorn!$C:$AN,M$1,0) -> 69 | N33: =VLOOKUP($C33,giorn!$C:$AN,N$1,0) -> 78 | O33: =VLOOKUP($C33,giorn!$C:$AN,O$1,0) -> 68.5 | P33: =SUM(K33:O33) -> 359.5 | Q33: =VLOOKUP($C33,giorn!$C:$AN,Q$1,0) -> 69.5 | R33: =VLOOKUP($C33,giorn!$C:$AN,R$1,0) -> 67.5 | S33: =VLOOKUP($C33,giorn!$C:$AN,S$1,0) -> 82 | T33: =VLOOKUP($C33,giorn!$C:$AN,T$1,0) -> 63.5 | U33: =VLOOKUP($C33,giorn!$C:$AN,U$1,0) -> 81 | V33: =SUM(Q33:U33) -> 363.5 | W33: =VLOOKUP($C33,giorn!$C:$AN,W$1,0) -> 65.5 | X33: =VLOOKUP($C33,giorn!$C:$AN,X$1,0) -> 67 | Y33: =VLOOKUP($C33,giorn!$C:$AN,Y$1,0) -> 71.5 | Z33: =VLOOKUP($C33,giorn!$C:$AN,Z$1,0) -> 66.5 | AC33: =SUM(X33:AB33) -> 205 | AI33: =SUM(AD33:AH33) -> 0
A34: X | B34: Sfus Team | C34: sfuscio85 | E34: =VLOOKUP($C34,giorn!$C:$AN,E$1,0) -> 80.5 | F34: =VLOOKUP($C34,giorn!$C:$AN,F$1,0) -> 57.5 | G34: =VLOOKUP($C34,giorn!$C:$AN,G$1,0) -> 66.5 | H34: =VLOOKUP($C34,giorn!$C:$AN,H$1,0) -> 74 | I34: =VLOOKUP($C34,giorn!$C:$AN,I$1,0) -> 79.5 | J34: =SUM(E34:I34) -> 358 | K34: =VLOOKUP($C34,giorn!$C:$AN,K$1,0) -> 71 | L34: =VLOOKUP($C34,giorn!$C:$AN,L$1,0) -> 74 | M34: =VLOOKUP($C34,giorn!$C:$AN,M$1,0) -> 73 | N34: =VLOOKUP($C34,giorn!$C:$AN,N$1,0) -> 80 | O34: =VLOOKUP($C34,giorn!$C:$AN,O$1,0) -> 73.5 | P34: =SUM(K34:O34) -> 371.5 | Q34: =VLOOKUP($C34,giorn!$C:$AN,Q$1,0) -> 72.5 | R34: =VLOOKUP($C34,giorn!$C:$AN,R$1,0) -> 66.5 | S34: =VLOOKUP($C34,giorn!$C:$AN,S$1,0) -> 85.5 | T34: =VLOOKUP($C34,giorn!$C:$AN,T$1,0) -> 74 | U34: =VLOOKUP($C34,giorn!$C:$AN,U$1,0) -> 76.5 | V34: =SUM(Q34:U34) -> 375 | W34: =VLOOKUP($C34,giorn!$C:$AN,W$1,0) -> 58.5 | X34: =VLOOKUP($C34,giorn!$C:$AN,X$1,0) -> 67 | Y34: =VLOOKUP($C34,giorn!$C:$AN,Y$1,0) -> 66 | Z34: =VLOOKUP($C34,giorn!$C:$AN,Z$1,0) -> 73 | AC34: =SUM(X34:AB34) -> 206 | AI34: =SUM(AD34:AH34) -> 0
B35: Van Persie sul campo | C35: thor01 | E35: =VLOOKUP($C35,giorn!$C:$AN,E$1,0) -> 71 | F35: =VLOOKUP($C35,giorn!$C:$AN,F$1,0) -> 60.5 | G35: =VLOOKUP($C35,giorn!$C:$AN,G$1,0) -> 61.5 | H35: =VLOOKUP($C35,giorn!$C:$AN,H$1,0) -> 83 | I35: =VLOOKUP($C35,giorn!$C:$AN,I$1,0) -> 57.5 | J35: =SUM(E35:I35) -> 333.5 | K35: =VLOOKUP($C35,giorn!$C:$AN,K$1,0) -> 68 | L35: =VLOOKUP($C35,giorn!$C:$AN,L$1,0) -> 69.5 | M35: =VLOOKUP($C35,giorn!$C:$AN,M$1,0) -> 72 | N35: =VLOOKUP($C35,giorn!$C:$AN,N$1,0) -> 80 | O35: =VLOOKUP($C35,giorn!$C:$AN,O$1,0) -> 69 | P35: =SUM(K35:O35) -> 358.5 | Q35: =VLOOKUP($C35,giorn!$C:$AN,Q$1,0) -> 70.5 | R35: =VLOOKUP($C35,giorn!$C:$AN,R$1,0) -> 59.5 | S35: =VLOOKUP($C35,giorn!$C:$AN,S$1,0) -> 72 | T35: =VLOOKUP($C35,giorn!$C:$AN,T$1,0) -> 73.5 | U35: =VLOOKUP($C35,giorn!$C:$AN,U$1,0) -> 70 | V35: =SUM(Q35:U35) -> 345.5 | W35: =VLOOKUP($C35,giorn!$C:$AN,W$1,0) -> 65 | X35: =VLOOKUP($C35,giorn!$C:$AN,X$1,0) -> 64 | Y35: =VLOOKUP($C35,giorn!$C:$AN,Y$1,0) -> 67 | Z35: =VLOOKUP($C35,giorn!$C:$AN,Z$1,0) -> 71 | AC35: =SUM(X35:AB35) -> 202 | AI35: =SUM(AD35:AH35) -> 0
B36: tombecker | C36: tombecker | E36: =VLOOKUP($C36,giorn!$C:$AN,E$1,0) -> 75 | F36: =VLOOKUP($C36,giorn!$C:$AN,F$1,0) -> 61 | G36: =VLOOKUP($C36,giorn!$C:$AN,G$1,0) -> 69.5 | H36: =VLOOKUP($C36,giorn!$C:$AN,H$1,0) -> 72 | I36: =VLOOKUP($C36,giorn!$C:$AN,I$1,0) -> 72 | J36: =SUM(E36:I36) -> 349.5 | K36: =VLOOKUP($C36,giorn!$C:$AN,K$1,0) -> 68 | L36: =VLOOKUP($C36,giorn!$C:$AN,L$1,0) -> 73 | M36: =VLOOKUP($C36,giorn!$C:$AN,M$1,0) -> 76 | N36: =VLOOKUP($C36,giorn!$C:$AN,N$1,0) -> 77 | O36: =VLOOKUP($C36,giorn!$C:$AN,O$1,0) -> 82 | P36: =SUM(K36:O36) -> 376 | Q36: =VLOOKUP($C36,giorn!$C:$AN,Q$1,0) -> 68.5 | R36: =VLOOKUP($C36,giorn!$C:$AN,R$1,0) -> 66.5 | S36: =VLOOKUP($C36,giorn!$C:$AN,S$1,0) -> 83 | T36: =VLOOKUP($C36,giorn!$C:$AN,T$1,0) -> 70 | U36: =VLOOKUP($C36,giorn!$C:$AN,U$1,0) -> 79.5 | V36: =SUM(Q36:U36) -> 367.5 | W36: =VLOOKUP($C36,giorn!$C:$AN,W$1,0) -> 70.5 | X36: =VLOOKUP($C36,giorn!$C:$AN,X$1,0) -> 68.5 | Y36: =VLOOKUP($C36,giorn!$C:$AN,Y$1,0) -> 66.5 | Z36: =VLOOKUP($C36,giorn!$C:$AN,Z$1,0) -> 71.5 | AC36: =SUM(X36:AB36) -> 206.5 | AI36: =SUM(AD36:AH36) -> 0

Sheet F1
