Workbook

Sheet up
B1: pos | D1: squadra | E1: utente | F1: 28 | G1: rosa | H1: mod | I1: cambi | J1: D 1o | K1: D 3o | L1: D 6o | M1: cup
B2: 1 | D2: maGGica! | E2: adrian28scbr | F2: 1901.5 | G2: 267 | H2: 37 | I2: 0 | J2: 0 | K2: -20.5 | L2: -37 | M2: X
B3: 2 | D3: jujula | E3: jujula | F3: 1890 | G3: 261 | H3: 17 | I3: 1 | J3: 11.5 | K3: -9 | L3: -25.5 | M3: X
B4: 3 | D4: mastrolindo | E4: mastrolindo | F4: 1881 | G4: 265 | H4: 43 | I4: 2 | J4: 20.5 | K4: 0 | L4: -16.5 | M4: X
B5: 4 | D5: Sfus Team | E5: sfuscio85 | F5: 1877 | G5: 297 | H5: 29 | I5: 2 | J5: 24.5 | K5: 4 | L5: -12.5 | M5: X
B6: 5 | D6: tombecker | E6: tombecker | F6: 1869.5 | G6: 262 | H6: 22 | I6: 1 | J6: 32 | K6: 11.5 | L6: -5 | M6: X
B7: 6 | D7: Lokomotiv RUMePERA | E7: rumepera | F7: 1864.5 | G7: 278 | H7: 36 | I7: 4 | J7: 37 | K7: 16.5 | L7: 0 | M7: X
B8: 7 | D8: REAL COSENZA 1914 | E8: flaviotto | F8: 1854 | G8: 273 | H8: 28 | I8: 5 | J8: 47.5 | K8: 27 | L8: 10.5 | M8: X
B9: 8 | D9: OnceUponATime | E9: alexein11 | F9: 1850.5 | G9: 283 | H9: 40 | I9: 3 | J9: 51 | K9: 30.5 | L9: 14 | M9: X
B10: 9 | D10: Eroi nel vento | E10: ogeid36 | F10: 1840.5 | G10: 281 | H10: 26 | I10: 11 | J10: 61 | K10: 40.5 | L10: 24 | M10: X
B11: 10 | D11: A.C. Javier Pastore | E11: matteo9502 | F11: 1838 | G11: 264 | H11: 18 | I11: 3 | J11: 63.5 | K11: 43 | L11: 26.5 | M11: X
B12: 11 | D12: Grun | E12: grunluca | F12: 1837 | G12: 271 | H12: 13 | I12: 2 | J12: 64.5 | K12: 44 | L12: 27.5
B13: 12 | D13: Atletico Sereno | E13: andreabrescia | F13: 1827.5 | G13: 274 | H13: 20 | I13: 0 | J13: 74 | K13: 53.5 | L13: 37
B14: 13 | D14: PowerTeam (potino78) | E14: potino78 | F14: 1823 | G14: 294 | H14: 11 | I14: 1 | J14: 78.5 | K14: 58 | L14: 41.5 | M14: X
B15: 14 | D15: Fantacloe | E15: merk17 | F15: 1822.5 | G15: 261 | H15: 26 | I15: 2 | J15: 79 | K15: 58.5 | L15: 42 | M15: X
B16: 15 | D16: Sydney FC | E16: ruicosta | F16: 1819.5 | G16: 247 | H16: 26 | I16: 0 | J16: 82 | K16: 61.5 | L16: 45
B17: 16 | D17: alebolo | E17: alebolo | F17: 1819 | G17: 292 | H17: 11 | I17: 1 | J17: 82.5 | K17: 62 | L17: 45.5 | M17: X
B18: 17 | D18: AsiAssonNaty | E18: clamore22 | F18: 1816 | G18: 246 | H18: 7 | I18: 0 | J18: 85.5 | K18: 65 | L18: 48.5
B19: 18 | D19: Fanta Lightman | E19: lightman | F19: 1813.5 | G19: 255 | H19: 17 | I19: 3 | J19: 88 | K19: 67.5 | L19: 51
B20: 19 | D20: Forza Taranto | E20: rossoblu | F20: 1811 | G20: 266 | H20: 30 | I20: 0 | J20: 90.5 | K20: 70 | L20: 53.5 | M20: X
B21: 20 | D21: Peggiononsipuòfare | E21: kolao95 | F21: 1807.5 | G21: 265 | H21: 18 | I21: 0 | J21: 94 | K21: 73.5 | L21: 57
B22: 21 | D22: piero79 | E22: piero79 | F22: 1807 | G22: 252 | H22: 24 | I22: 2 | J22: 94.5 | K22: 74 | L22: 57.5
B23: 22 | D23: 19angelo85 | E23: 19angelo85 | F23: 1805 | G23: 267 | H23: 21 | I23: 1 | J23: 96.5 | K23: 76 | L23: 59.5 | M23: X
B24: 23 | D24: Goomba | E24: crah83 | F24: 1805 | G24: 286 | H24: 17 | I24: 0 | J24: 96.5 | K24: 76 | L24: 59.5
B25: 24 | D25: meridiano | E25: meridiano | F25: 1803.5 | G25: 260 | H25: 9 | I25: 1 | J25: 98 | K25: 77.5 | L25: 61
B26: 25 | D26: diego89 | E26: diego89 | F26: 1802 | G26: 245 | H26: 29 | I26: 0 | J26: 99.5 | K26: 79 | L26: 62.5
B27: 26 | D27: ciro51 | E27: ciro51 | F27: 1799.5 | G27: 230 | H27: 28 | I27: 1 | J27: 102 | K27: 81.5 | L27: 65
B28: 27 | D28: catania | E28: catania | F28: 1792.5 | G28: 253 | H28: 6 | I28: 5 | J28: 109 | K28: 88.5 | L28: 72
B29: 28 | D29: I Velieri | E29: bremec | F29: 1792 | G29: 273 | H29: 25 | I29: 1 | J29: 109.5 | K29: 89 | L29: 72.5 | M29: X
B30: 29 | D30: Santamonica | E30: realsantamonica | F30: 1790 | G30: 253 | H30: 20 | I30: 5 | J30: 111.5 | K30: 91 | L30: 74.5
B31: 30 | D31: Van Persie sul campo | E31: thor01 | F31: 1779.5 | G31: 271 | H31: 17 | I31: 4 | J31: 122 | K31: 101.5 | L31: 85
B32: 31 | D32: Brontefantasy | E32: catania5556 | F32: 1772.5 | G32: 258 | H32: 7 | I32: 0 | J32: 129 | K32: 108.5 | L32: 92
B33: 32 | D33: napule | E33: napule | F33: 1751.5 | G33: 240 | H33: 8 | I33: 0 | J33: 150 | K33: 129.5 | L33: 113
B34: 33 | D34: Fantacau FC | E34: flaincau | F34: 1732 | G34: 249 | H34: 13 | I34: 14 | J34: 169.5 | K34: 149 | L34: 132.5
B35: 34 | D35: NOCERA*ULTRAS | E35: molosso | F35: 1710.5 | G35: 236 | H35: 3 | I35: 0 | J35: 191 | K35: 170.5 | L35: 154
B36: 35 | D36: capirexligamilan | E36: capirexligamilan | F36: 1620.5 | G36: 215 | H36: 1 | I36: 16 | J36: 281 | K36: 260.5 | L36: 244

Sheet tot
B1: pos | D1: squadra | E1: utente | F1: 28 | G1: rosa | H1: mod | I1: cambi | J1: D 1o | K1: D 3o | L1: D 6o | M1: cup
B2: 1 | D2: maGGica! | E2: adrian28scbr | F2: =VLOOKUP(E2,class!C:AN,$F$1,0) -> 1901.5 | G2: =VLOOKUP(E2,val_rose!C:AN,$F$1,0) -> 267 | H2: =VLOOKUP(E2,mod!C:D,2,0) -> 37 | I2: =VLOOKUP(E2,cambi!C:AN,$F$1,0) -> 0 | J2: =VLOOKUP(E2,dist_1o!C:AN,$F$1,0) -> 0 | K2: =VLOOKUP(E2,dist_3o!C:AN,$F$1,0) -> -20.5 | L2: =VLOOKUP(E2,dist_6o!C:AN,$F$1,0) -> -37 | M2: X
B3: 2 | D3: jujula | E3: jujula | F3: =VLOOKUP(E3,class!C:AN,$F$1,0) -> 1890 | G3: =VLOOKUP(E3,val_rose!C:AN,$F$1,0) -> 261 | H3: =VLOOKUP(E3,mod!C:D,2,0) -> 17 | I3: =VLOOKUP(E3,cambi!C:AN,$F$1,0) -> 1 | J3: =VLOOKUP(E3,dist_1o!C:AN,$F$1,0) -> 11.5 | K3: =VLOOKUP(E3,dist_3o!C:AN,$F$1,0) -> -9 | L3: =VLOOKUP(E3,dist_6o!C:AN,$F$1,0) -> -25.5 | M3: X
B4: 3 | D4: mastrolindo | E4: mastrolindo | F4: =VLOOKUP(E4,class!C:AN,$F$1,0) -> 1881 | G4: =VLOOKUP(E4,val_rose!C:AN,$F$1,0) -> 265 | H4: =VLOOKUP(E4,mod!C:D,2,0) -> 43 | I4: =VLOOKUP(E4,cambi!C:AN,$F$1,0) -> 2 | J4: =VLOOKUP(E4,dist_1o!C:AN,$F$1,0) -> 20.5 | K4: =VLOOKUP(E4,dist_3o!C:AN,$F$1,0) -> 0 | L4: =VLOOKUP(E4,dist_6o!C:AN,$F$1,0) -> -16.5 | M4: X
B5: 4 | D5: Sfus Team | E5: sfuscio85 | F5: =VLOOKUP(E5,class!C:AN,$F$1,0) -> 1877 | G5: =VLOOKUP(E5,val_rose!C:AN,$F$1,0) -> 297 | H5: =VLOOKUP(E5,mod!C:D,2,0) -> 29 | I5: =VLOOKUP(E5,cambi!C:AN,$F$1,0) -> 2 | J5: =VLOOKUP(E5,dist_1o!C:AN,$F$1,0) -> 24.5 | K5: =VLOOKUP(E5,dist_3o!C:AN,$F$1,0) -> 4 | L5: =VLOOKUP(E5,dist_6o!C:AN,$F$1,0) -> -12.5 | M5: X
B6: 5 | D6: tombecker | E6: tombecker | F6: =VLOOKUP(E6,class!C:AN,$F$1,0) -> 1869.5 | G6: =VLOOKUP(E6,val_rose!C:AN,$F$1,0) -> 262 | H6: =VLOOKUP(E6,mod!C:D,2,0) -> 22 | I6: =VLOOKUP(E6,cambi!C:AN,$F$1,0) -> 1 | J6: =VLOOKUP(E6,dist_1o!C:AN,$F$1,0) -> 32 | K6: =VLOOKUP(E6,dist_3o!C:AN,$F$1,0) -> 11.5 | L6: =VLOOKUP(E6,dist_6o!C:AN,$F$1,0) -> -5 | M6: X
B7: 6 | D7: Lokomotiv RUMePERA | E7: rumepera | F7: =VLOOKUP(E7,class!C:AN,$F$1,0) -> 1864.5 | G7: =VLOOKUP(E7,val_rose!C:AN,$F$1,0) -> 278 | H7: =VLOOKUP(E7,mod!C:D,2,0) -> 36 | I7: =VLOOKUP(E7,cambi!C:AN,$F$1,0) -> 4 | J7: =VLOOKUP(E7,dist_1o!C:AN,$F$1,0) -> 37 | K7: =VLOOKUP(E7,dist_3o!C:AN,$F$1,0) -> 16.5 | L7: =VLOOKUP(E7,dist_6o!C:AN,$F$1,0) -> 0 | M7: X
B8: 7 | D8: REAL COSENZA 1914 | E8: flaviotto | F8: =VLOOKUP(E8,class!C:AN,$F$1,0) -> 1854 | G8: =VLOOKUP(E8,val_rose!C:AN,$F$1,0) -> 273 | H8: =VLOOKUP(E8,mod!C:D,2,0) -> 28 | I8: =VLOOKUP(E8,cambi!C:AN,$F$1,0) -> 5 | J8: =VLOOKUP(E8,dist_1o!C:AN,$F$1,0) -> 47.5 | K8: =VLOOKUP(E8,dist_3o!C:AN,$F$1,0) -> 27 | L8: =VLOOKUP(E8,dist_6o!C:AN,$F$1,0) -> 10.5 | M8: X
B9: 8 | D9: OnceUponATime | E9: alexein11 | F9: =VLOOKUP(E9,class!C:AN,$F$1,0) -> 1850.5 | G9: =VLOOKUP(E9,val_rose!C:AN,$F$1,0) -> 283 | H9: =VLOOKUP(E9,mod!C:D,2,0) -> 40 | I9: =VLOOKUP(E9,cambi!C:AN,$F$1,0) -> 3 | J9: =VLOOKUP(E9,dist_1o!C:AN,$F$1,0) -> 51 | K9: =VLOOKUP(E9,dist_3o!C:AN,$F$1,0) -> 30.5 | L9: =VLOOKUP(E9,dist_6o!C:AN,$F$1,0) -> 14 | M9: X
B10: 9 | D10: Eroi nel vento | E10: ogeid36 | F10: =VLOOKUP(E10,class!C:AN,$F$1,0) -> 1840.5 | G10: =VLOOKUP(E10,val_rose!C:AN,$F$1,0) -> 281 | H10: =VLOOKUP(E10,mod!C:D,2,0) -> 26 | I10: =VLOOKUP(E10,cambi!C:AN,$F$1,0) -> 11 | J10: =VLOOKUP(E10,dist_1o!C:AN,$F$1,0) -> 61 | K10: =VLOOKUP(E10,dist_3o!C:AN,$F$1,0) -> 40.5 | L10: =VLOOKUP(E10,dist_6o!C:AN,$F$1,0) -> 24 | M10: X
B11: 10 | D11: A.C. Javier Pastore | E11: matteo9502 | F11: =VLOOKUP(E11,class!C:AN,$F$1,0) -> 1838 | G11: =VLOOKUP(E11,val_rose!C:AN,$F$1,0) -> 264 | H11: =VLOOKUP(E11,mod!C:D,2,0) -> 18 | I11: =VLOOKUP(E11,cambi!C:AN,$F$1,0) -> 3 | J11: =VLOOKUP(E11,dist_1o!C:AN,$F$1,0) -> 63.5 | K11: =VLOOKUP(E11,dist_3o!C:AN,$F$1,0) -> 43 | L11: =VLOOKUP(E11,dist_6o!C:AN,$F$1,0) -> 26.5 | M11: X
B12: 11 | D12: Grun | E12: grunluca | F12: =VLOOKUP(E12,class!C:AN,$F$1,0) -> 1837 | G12: =VLOOKUP(E12,val_rose!C:AN,$F$1,0) -> 271 | H12: =VLOOKUP(E12,mod!C:D,2,0) -> 13 | I12: =VLOOKUP(E12,cambi!C:AN,$F$1,0) -> 2 | J12: =VLOOKUP(E12,dist_1o!C:AN,$F$1,0) -> 64.5 | K12: =VLOOKUP(E12,dist_3o!C:AN,$F$1,0) -> 44 | L12: =VLOOKUP(E12,dist_6o!C:AN,$F$1,0) -> 27.5
B13: 12 | D13: Atletico Sereno | E13: andreabrescia | F13: =VLOOKUP(E13,class!C:AN,$F$1,0) -> 1827.5 | G13: =VLOOKUP(E13,val_rose!C:AN,$F$1,0) -> 274 | H13: =VLOOKUP(E13,mod!C:D,2,0) -> 20 | I13: =VLOOKUP(E13,cambi!C:AN,$F$1,0) -> 0 | J13: =VLOOKUP(E13,dist_1o!C:AN,$F$1,0) -> 74 | K13: =VLOOKUP(E13,dist_3o!C:AN,$F$1,0) -> 53.5 | L13: =VLOOKUP(E13,dist_6o!C:AN,$F$1,0) -> 37
B14: 13 | D14: PowerTeam (potino78) | E14: potino78 | F14: =VLOOKUP(E14,class!C:AN,$F$1,0) -> 1823 | G14: =VLOOKUP(E14,val_rose!C:AN,$F$1,0) -> 294 | H14: =VLOOKUP(E14,mod!C:D,2,0) -> 11 | I14: =VLOOKUP(E14,cambi!C:AN,$F$1,0) -> 1 | J14: =VLOOKUP(E14,dist_1o!C:AN,$F$1,0) -> 78.5 | K14: =VLOOKUP(E14,dist_3o!C:AN,$F$1,0) -> 58 | L14: =VLOOKUP(E14,dist_6o!C:AN,$F$1,0) -> 41.5 | M14: X
B15: 14 | D15: Fantacloe | E15: merk17 | F15: =VLOOKUP(E15,class!C:AN,$F$1,0) -> 1822.5 | G15: =VLOOKUP(E15,val_rose!C:AN,$F$1,0) -> 261 | H15: =VLOOKUP(E15,mod!C:D,2,0) -> 26 | I15: =VLOOKUP(E15,cambi!C:AN,$F$1,0) -> 2 | J15: =VLOOKUP(E15,dist_1o!C:AN,$F$1,0) -> 79 | K15: =VLOOKUP(E15,dist_3o!C:AN,$F$1,0) -> 58.5 | L15: =VLOOKUP(E15,dist_6o!C:AN,$F$1,0) -> 42 | M15: X
B16: 15 | D16: Sydney FC | E16: ruicosta | F16: =VLOOKUP(E16,class!C:AN,$F$1,0) -> 1819.5 | G16: =VLOOKUP(E16,val_rose!C:AN,$F$1,0) -> 247 | H16: =VLOOKUP(E16,mod!C:D,2,0) -> 26 | I16: =VLOOKUP(E16,cambi!C:AN,$F$1,0) -> 0 | J16: =VLOOKUP(E16,dist_1o!C:AN,$F$1,0) -> 82 | K16: =VLOOKUP(E16,dist_3o!C:AN,$F$1,0) -> 61.5 | L16: =VLOOKUP(E16,dist_6o!C:AN,$F$1,0) -> 45
B17: 16 | D17: alebolo | E17: alebolo | F17: =VLOOKUP(E17,class!C:AN,$F$1,0) -> 1819 | G17: =VLOOKUP(E17,val_rose!C:AN,$F$1,0) -> 292 | H17: =VLOOKUP(E17,mod!C:D,2,0) -> 11 | I17: =VLOOKUP(E17,cambi!C:AN,$F$1,0) -> 1 | J17: =VLOOKUP(E17,dist_1o!C:AN,$F$1,0) -> 82.5 | K17: =VLOOKUP(E17,dist_3o!C:AN,$F$1,0) -> 62 | L17: =VLOOKUP(E17,dist_6o!C:AN,$F$1,0) -> 45.5 | M17: X
B18: 17 | D18: AsiAssonNaty | E18: clamore22 | F18: =VLOOKUP(E18,class!C:AN,$F$1,0) -> 1816 | G18: =VLOOKUP(E18,val_rose!C:AN,$F$1,0) -> 246 | H18: =VLOOKUP(E18,mod!C:D,2,0) -> 7 | I18: =VLOOKUP(E18,cambi!C:AN,$F$1,0) -> 0 | J18: =VLOOKUP(E18,dist_1o!C:AN,$F$1,0) -> 85.5 | K18: =VLOOKUP(E18,dist_3o!C:AN,$F$1,0) -> 65 | L18: =VLOOKUP(E18,dist_6o!C:AN,$F$1,0) -> 48.5
B19: 18 | D19: Fanta Lightman | E19: lightman | F19: =VLOOKUP(E19,class!C:AN,$F$1,0) -> 1813.5 | G19: =VLOOKUP(E19,val_rose!C:AN,$F$1,0) -> 255 | H19: =VLOOKUP(E19,mod!C:D,2,0) -> 17 | I19: =VLOOKUP(E19,cambi!C:AN,$F$1,0) -> 3 | J19: =VLOOKUP(E19,dist_1o!C:AN,$F$1,0) -> 88 | K19: =VLOOKUP(E19,dist_3o!C:AN,$F$1,0) -> 67.5 | L19: =VLOOKUP(E19,dist_6o!C:AN,$F$1,0) -> 51
B20: 19 | D20: Forza Taranto | E20: rossoblu | F20: =VLOOKUP(E20,class!C:AN,$F$1,0) -> 1811 | G20: =VLOOKUP(E20,val_rose!C:AN,$F$1,0) -> 266 | H20: =VLOOKUP(E20,mod!C:D,2,0) -> 30 | I20: =VLOOKUP(E20,cambi!C:AN,$F$1,0) -> 0 | J20: =VLOOKUP(E20,dist_1o!C:AN,$F$1,0) -> 90.5 | K20: =VLOOKUP(E20,dist_3o!C:AN,$F$1,0) -> 70 | L20: =VLOOKUP(E20,dist_6o!C:AN,$F$1,0) -> 53.5 | M20: X
B21: 20 | D21: Peggiononsipuòfare | E21: kolao95 | F21: =VLOOKUP(E21,class!C:AN,$F$1,0) -> 1807.5 | G21: =VLOOKUP(E21,val_rose!C:AN,$F$1,0) -> 265 | H21: =VLOOKUP(E21,mod!C:D,2,0) -> 18 | I21: =VLOOKUP(E21,cambi!C:AN,$F$1,0) -> 0 | J21: =VLOOKUP(E21,dist_1o!C:AN,$F$1,0) -> 94 | K21: =VLOOKUP(E21,dist_3o!C:AN,$F$1,0) -> 73.5 | L21: =VLOOKUP(E21,dist_6o!C:AN,$F$1,0) -> 57
B22: 21 | D22: piero79 | E22: piero79 | F22: =VLOOKUP(E22,class!C:AN,$F$1,0) -> 1807 | G22: =VLOOKUP(E22,val_rose!C:AN,$F$1,0) -> 252 | H22: =VLOOKUP(E22,mod!C:D,2,0) -> 24 | I22: =VLOOKUP(E22,cambi!C:AN,$F$1,0) -> 2 | J22: =VLOOKUP(E22,dist_1o!C:AN,$F$1,0) -> 94.5 | K22: =VLOOKUP(E22,dist_3o!C:AN,$F$1,0) -> 74 | L22: =VLOOKUP(E22,dist_6o!C:AN,$F$1,0) -> 57.5
B23: 22 | D23: 19angelo85 | E23: 19angelo85 | F23: =VLOOKUP(E23,class!C:AN,$F$1,0) -> 1805 | G23: =VLOOKUP(E23,val_rose!C:AN,$F$1,0) -> 267 | H23: =VLOOKUP(E23,mod!C:D,2,0) -> 21 | I23: =VLOOKUP(E23,cambi!C:AN,$F$1,0) -> 1 | J23: =VLOOKUP(E23,dist_1o!C:AN,$F$1,0) -> 96.5 | K23: =VLOOKUP(E23,dist_3o!C:AN,$F$1,0) -> 76 | L23: =VLOOKUP(E23,dist_6o!C:AN,$F$1,0) -> 59.5 | M23: X
B24: 23 | D24: Goomba | E24: crah83 | F24: =VLOOKUP(E24,class!C:AN,$F$1,0) -> 1805 | G24: =VLOOKUP(E24,val_rose!C:AN,$F$1,0) -> 286 | H24: =VLOOKUP(E24,mod!C:D,2,0) -> 17 | I24: =VLOOKUP(E24,cambi!C:AN,$F$1,0) -> 0 | J24: =VLOOKUP(E24,dist_1o!C:AN,$F$1,0) -> 96.5 | K24: =VLOOKUP(E24,dist_3o!C:AN,$F$1,0) -> 76 | L24: =VLOOKUP(E24,dist_6o!C:AN,$F$1,0) -> 59.5
B25: 24 | D25: meridiano | E25: meridiano | F25: =VLOOKUP(E25,class!C:AN,$F$1,0) -> 1803.5 | G25: =VLOOKUP(E25,val_rose!C:AN,$F$1,0) -> 260 | H25: =VLOOKUP(E25,mod!C:D,2,0) -> 9 | I25: =VLOOKUP(E25,cambi!C:AN,$F$1,0) -> 1 | J25: =VLOOKUP(E25,dist_1o!C:AN,$F$1,0) -> 98 | K25: =VLOOKUP(E25,dist_3o!C:AN,$F$1,0) -> 77.5 | L25: =VLOOKUP(E25,dist_6o!C:AN,$F$1,0) -> 61
B26: 25 | D26: diego89 | E26: diego89 | F26: =VLOOKUP(E26,class!C:AN,$F$1,0) -> 1802 | G26: =VLOOKUP(E26,val_rose!C:AN,$F$1,0) -> 245 | H26: =VLOOKUP(E26,mod!C:D,2,0) -> 29 | I26: =VLOOKUP(E26,cambi!C:AN,$F$1,0) -> 0 | J26: =VLOOKUP(E26,dist_1o!C:AN,$F$1,0) -> 99.5 | K26: =VLOOKUP(E26,dist_3o!C:AN,$F$1,0) -> 79 | L26: =VLOOKUP(E26,dist_6o!C:AN,$F$1,0) -> 62.5
B27: 26 | D27: ciro51 | E27: ciro51 | F27: =VLOOKUP(E27,class!C:AN,$F$1,0) -> 1799.5 | G27: =VLOOKUP(E27,val_rose!C:AN,$F$1,0) -> 230 | H27: =VLOOKUP(E27,mod!C:D,2,0) -> 28 | I27: =VLOOKUP(E27,cambi!C:AN,$F$1,0) -> 1 | J27: =VLOOKUP(E27,dist_1o!C:AN,$F$1,0) -> 102 | K27: =VLOOKUP(E27,dist_3o!C:AN,$F$1,0) -> 81.5 | L27: =VLOOKUP(E27,dist_6o!C:AN,$F$1,0) -> 65
B28: 27 | D28: catania | E28: catania | F28: =VLOOKUP(E28,class!C:AN,$F$1,0) -> 1792.5 | G28: =VLOOKUP(E28,val_rose!C:AN,$F$1,0) -> 253 | H28: =VLOOKUP(E28,mod!C:D,2,0) -> 6 | I28: =VLOOKUP(E28,cambi!C:AN,$F$1,0) -> 5 | J28: =VLOOKUP(E28,dist_1o!C:AN,$F$1,0) -> 109 | K28: =VLOOKUP(E28,dist_3o!C:AN,$F$1,0) -> 88.5 | L28: =VLOOKUP(E28,dist_6o!C:AN,$F$1,0) -> 72
B29: 28 | D29: I Velieri | E29: bremec | F29: =VLOOKUP(E29,class!C:AN,$F$1,0) -> 1792 | G29: =VLOOKUP(E29,val_rose!C:AN,$F$1,0) -> 273 | H29: =VLOOKUP(E29,mod!C:D,2,0) -> 25 | I29: =VLOOKUP(E29,cambi!C:AN,$F$1,0) -> 1 | J29: =VLOOKUP(E29,dist_1o!C:AN,$F$1,0) -> 109.5 | K29: =VLOOKUP(E29,dist_3o!C:AN,$F$1,0) -> 89 | L29: =VLOOKUP(E29,dist_6o!C:AN,$F$1,0) -> 72.5 | M29: X
B30: 29 | D30: Santamonica | E30: realsantamonica | F30: =VLOOKUP(E30,class!C:AN,$F$1,0) -> 1790 | G30: =VLOOKUP(E30,val_rose!C:AN,$F$1,0) -> 253 | H30: =VLOOKUP(E30,mod!C:D,2,0) -> 20 | I30: =VLOOKUP(E30,cambi!C:AN,$F$1,0) -> 5 | J30: =VLOOKUP(E30,dist_1o!C:AN,$F$1,0) -> 111.5 | K30: =VLOOKUP(E30,dist_3o!C:AN,$F$1,0) -> 91 | L30: =VLOOKUP(E30,dist_6o!C:AN,$F$1,0) -> 74.5
B31: 30 | D31: Van Persie sul campo | E31: thor01 | F31: =VLOOKUP(E31,class!C:AN,$F$1,0) -> 1779.5 | G31: =VLOOKUP(E31,val_rose!C:AN,$F$1,0) -> 271 | H31: =VLOOKUP(E31,mod!C:D,2,0) -> 17 | I31: =VLOOKUP(E31,cambi!C:AN,$F$1,0) -> 4 | J31: =VLOOKUP(E31,dist_1o!C:AN,$F$1,0) -> 122 | K31: =VLOOKUP(E31,dist_3o!C:AN,$F$1,0) -> 101.5 | L31: =VLOOKUP(E31,dist_6o!C:AN,$F$1,0) -> 85
B32: 31 | D32: Brontefantasy | E32: catania5556 | F32: =VLOOKUP(E32,class!C:AN,$F$1,0) -> 1772.5 | G32: =VLOOKUP(E32,val_rose!C:AN,$F$1,0) -> 258 | H32: =VLOOKUP(E32,mod!C:D,2,0) -> 7 | I32: =VLOOKUP(E32,cambi!C:AN,$F$1,0) -> 0 | J32: =VLOOKUP(E32,dist_1o!C:AN,$F$1,0) -> 129 | K32: =VLOOKUP(E32,dist_3o!C:AN,$F$1,0) -> 108.5 | L32: =VLOOKUP(E32,dist_6o!C:AN,$F$1,0) -> 92
B33: 32 | D33: napule | E33: napule | F33: =VLOOKUP(E33,class!C:AN,$F$1,0) -> 1751.5 | G33: =VLOOKUP(E33,val_rose!C:AN,$F$1,0) -> 240 | H33: =VLOOKUP(E33,mod!C:D,2,0) -> 8 | I33: =VLOOKUP(E33,cambi!C:AN,$F$1,0) -> 0 | J33: =VLOOKUP(E33,dist_1o!C:AN,$F$1,0) -> 150 | K33: =VLOOKUP(E33,dist_3o!C:AN,$F$1,0) -> 129.5 | L33: =VLOOKUP(E33,dist_6o!C:AN,$F$1,0) -> 113
B34: 33 | D34: Fantacau FC | E34: flaincau | F34: =VLOOKUP(E34,class!C:AN,$F$1,0) -> 1732 | G34: =VLOOKUP(E34,val_rose!C:AN,$F$1,0) -> 249 | H34: =VLOOKUP(E34,mod!C:D,2,0) -> 13 | I34: =VLOOKUP(E34,cambi!C:AN,$F$1,0) -> 14 | J34: =VLOOKUP(E34,dist_1o!C:AN,$F$1,0) -> 169.5 | K34: =VLOOKUP(E34,dist_3o!C:AN,$F$1,0) -> 149 | L34: =VLOOKUP(E34,dist_6o!C:AN,$F$1,0) -> 132.5
B35: 34 | D35: NOCERA*ULTRAS | E35: molosso | F35: =VLOOKUP(E35,class!C:AN,$F$1,0) -> 1710.5 | G35: =VLOOKUP(E35,val_rose!C:AN,$F$1,0) -> 236 | H35: =VLOOKUP(E35,mod!C:D,2,0) -> 3 | I35: =VLOOKUP(E35,cambi!C:AN,$F$1,0) -> 0 | J35: =VLOOKUP(E35,dist_1o!C:AN,$F$1,0) -> 191 | K35: =VLOOKUP(E35,dist_3o!C:AN,$F$1,0) -> 170.5 | L35: =VLOOKUP(E35,dist_6o!C:AN,$F$1,0) -> 154
B36: 35 | D36: capirexligamilan | E36: capirexligamilan | F36: =VLOOKUP(E36,class!C:AN,$F$1,0) -> 1620.5 | G36: =VLOOKUP(E36,val_rose!C:AN,$F$1,0) -> 215 | H36: =VLOOKUP(E36,mod!C:D,2,0) -> 1 | I36: =VLOOKUP(E36,cambi!C:AN,$F$1,0) -> 16 | J36: =VLOOKUP(E36,dist_1o!C:AN,$F$1,0) -> 281 | K36: =VLOOKUP(E36,dist_3o!C:AN,$F$1,0) -> 260.5 | L36: =VLOOKUP(E36,dist_6o!C:AN,$F$1,0) -> 244

Sheet giorn
B1: squadra | C1: utente | E1: 3 | F1: 4 | G1: 5 | H1: 6 | I1: 7 | J1: 8 | K1: 9 | L1: 10 | M1: 11 | N1: 12 | O1: 13 | P1: 14 | Q1: 15 | R1: 16 | S1: 17 | T1: 18 | U1: 19 | V1: 20 | W1: 21 | X1: 22 | Y1: 23 | Z1: 24 | AA1: 25 | AB1: 26 | AC1: 27 | AD1: 28 | AE1: 29 | AF1: 30 | AG1: 31 | AH1: 32 | AI1: 33 | AJ1: 34 | AK1: 35 | AL1: 36 | AM1: 37 | AN1: 38
B2: 19angelo85 | C2: 19angelo85 | E2: 72.5 | F2: 66.5 | G2: 61.5 | H2: 72.5 | I2: 64.5 | J2: 75 | K2: 73.5 | L2: 71 | M2: 85 | N2: 68.5 | O2: 71 | P2: 64.5 | Q2: 63.5 | R2: 75.5 | S2: 69 | T2: 80 | U2: 52 | V2: 62.5 | W2: 63 | X2: 68 | Y2: 68 | Z2: 76 | AA2: 67.5 | AB2: 76 | AC2: 75 | AD2: 63
B3: maGGica! | C3: adrian28scbr | E3: 84.5 | F3: 71.5 | G3: 71 | H3: 82 | I3: 72 | J3: 83 | K3: 69 | L3: 65.5 | M3: 78.5 | N3: 71 | O3: 69.5 | P3: 74 | Q3: 74.5 | R3: 84 | S3: 72.5 | T3: 77.5 | U3: 75 | V3: 67 | W3: 73 | X3: 75.5 | Y3: 68.5 | Z3: 75.5 | AA3: 65.5 | AB3: 76 | AC3: 66 | AD3: 59.5
B4: alebolo | C4: alebolo | E4: 67.5 | F4: 59.5 | G4: 57.5 | H4: 73.5 | I4: 77 | J4: 71 | K4: 69.5 | L4: 72 | M4: 77.5 | N4: 83 | O4: 67.5 | P4: 69.5 | Q4: 83.5 | R4: 71 | S4: 80 | T4: 61.5 | U4: 74 | V4: 60.5 | W4: 69 | X4: 71.5 | Y4: 76.5 | Z4: 71 | AA4: 62 | AB4: 63.5 | AC4: 70 | AD4: 60
B5: OnceUponATime | C5: alexein11 | E5: 77.5 | F5: 61.5 | G5: 55 | H5: 73 | I5: 60.5 | J5: 77.5 | K5: 80.5 | L5: 65.5 | M5: 77 | N5: 62 | O5: 69 | P5: 64.5 | Q5: 81 | R5: 90.5 | S5: 66.5 | T5: 70.5 | U5: 67 | V5: 59.5 | W5: 78.5 | X5: 71.5 | Y5: 78.5 | Z5: 72.5 | AA5: 71 | AB5: 77 | AC5: 68.5 | AD5: 74.5
B6: Atletico Sereno | C6: andreabrescia | E6: 76 | F6: 60 | G6: 68.5 | H6: 75 | I6: 67.5 | J6: 75 | K6: 68.5 | L6: 70 | M6: 78 | N6: 70 | O6: 72 | P6: 59 | Q6: 80 | R6: 72.5 | S6: 75 | T6: 80 | U6: 73.5 | V6: 63.5 | W6: 74 | X6: 70.5 | Y6: 73.5 | Z6: 72 | AA6: 62.5 | AB6: 69 | AC6: 64.5 | AD6: 57.5
B7: I Velieri | C7: bremec | E7: 69.5 | F7: 72.5 | G7: 71 | H7: 76.5 | I7: 78 | J7: 69.5 | K7: 68 | L7: 63.5 | M7: 76 | N7: 61.5 | O7: 68 | P7: 61.5 | Q7: 63 | R7: 68.5 | S7: 70.5 | T7: 59 | U7: 72 | V7: 62.5 | W7: 68 | X7: 84 | Y7: 60.5 | Z7: 78 | AA7: 71 | AB7: 67.5 | AC7: 67.5 | AD7: 64.5
B8: capirexligamilan | C8: capirexligamilan | E8: 67.5 | F8: 67.5 | G8: 59.5 | H8: 64.5 | I8: 75 | J8: 62.5 | K8: 59 | L8: 63 | M8: 75.5 | N8: 62.5 | O8: 72 | P8: 55.5 | Q8: 65.5 | R8: 59 | S8: 58.5 | T8: 53.5 | U8: 65 | V8: 72 | W8: 49.5 | X8: 62 | Y8: 52.5 | Z8: 62 | AA8: 63 | AB8: 69 | AC8: 63.5 | AD8: 41.5
B9: catania | C9: catania | E9: 69 | F9: 61 | G9: 65.5 | H9: 77.5 | I9: 67 | J9: 73 | K9: 70 | L9: 72 | M9: 84.5 | N9: 78.5 | O9: 64.5 | P9: 67.5 | Q9: 73.5 | R9: 74 | S9: 66.5 | T9: 63 | U9: 78 | V9: 63.5 | W9: 71.5 | X9: 72 | Y9: 71.5 | Z9: 63.5 | AA9: 69 | AB9: 59.5 | AC9: 61 | AD9: 56
B10: Brontefantasy | C10: catania5556 | E10: 64 | F10: 60 | G10: 67 | H10: 82 | I10: 65 | J10: 62.5 | K10: 76.5 | L10: 71.5 | M10: 87 | N10: 75 | O10: 73.5 | P10: 61 | Q10: 67.5 | R10: 76 | S10: 67.5 | T10: 63.5 | U10: 75.5 | V10: 74.5 | W10: 70 | X10: 66 | Y10: 52.5 | Z10: 69.5 | AA10: 63.5 | AB10: 74 | AC10: 59 | AD10: 48.5
B11: ciro51 | C11: ciro51 | E11: 78.5 | F11: 59.5 | G11: 69 | H11: 66.5 | I11: 76.5 | J11: 78 | K11: 66 | L11: 72 | M11: 73.5 | N11: 66.5 | O11: 74.5 | P11: 66 | Q11: 65 | R11: 70 | S11: 74.5 | T11: 82.5 | U11: 71.5 | V11: 66.5 | W11: 65.5 | X11: 76 | Y11: 70 | Z11: 66 | AA11: 60 | AB11: 68 | AC11: 57 | AD11: 60.5
B12: AsiAssonNaty | C12: clamore22 | E12: 77.5 | F12: 60 | G12: 67.5 | H12: 78 | I12: 73 | J12: 77 | K12: 68 | L12: 73 | M12: 88.5 | N12: 66.5 | O12: 71.5 | P12: 66.5 | Q12: 81 | R12: 77.5 | S12: 74 | T12: 68.5 | U12: 81 | V12: 69 | W12: 69 | X12: 66 | Y12: 52.5 | Z12: 59.5 | AA12: 65 | AB12: 64 | AC12: 67.5 | AD12: 54.5
B13: Goomba | C13: crah83 | E13: 75 | F13: 55 | G13: 57.5 | H13: 67.5 | I13: 64 | J13: 80.5 | K13: 72 | L13: 63.5 | M13: 82.5 | N13: 64.5 | O13: 73 | P13: 61 | Q13: 79.5 | R13: 74 | S13: 67.5 | T13: 80 | U13: 79 | V13: 73.5 | W13: 65 | X13: 72 | Y13: 60.5 | Z13: 66 | AA13: 77 | AB13: 68.5 | AC13: 63 | AD13: 63.5
... B36: tombecker | C36: tombecker | E36: 75 | F36: 61 | G36: 69.5 | H36: 72 | I36: 72 | J36: 68 | K36: 73 | L36: 76 | M36: 77 | N36: 82 | O36: 68.5 | P36: 66.5 | Q36: 83 | R36: 70 | S36: 79.5 | T36: 70.5 | U36: 68.5 | V36: 66.5 | W36: 71.5 | X36: 70 | Y36: 78 | Z36: 67.5 | AA36: 77 | AB36: 70.5 | AC36: 73 | AD36: 63.5

Sheet class
B1: squadra | C1: utente | E1: 3 | F1: 4 | G1: 5 | H1: 6 | I1: 7 | J1: 8 | K1: 9 | L1: 10 | M1: 11 | N1: 12 | O1: 13 | P1: 14 | Q1: 15 | R1: 16 | S1: 17 | T1: 18 | U1: 19 | V1: 20 | W1: 21 | X1: 22 | Y1: 23 | Z1: 24 | AA1: 25 | AB1: 26 | AC1: 27 | AD1: 28 | AE1: 29 | AF1: 30 | AG1: 31 | AH1: 32 | AI1: 33 | AJ1: 34 | AK1: 35 | AL1: 36 | AM1: 37 | AN1: 38
B2: 19angelo85 | C2: 19angelo85 | E2: 72.5 | F2: =E2+VLOOKUP($C2,giorn!$C:$AN,F$1,0) -> 139 | G2: =F2+VLOOKUP($C2,giorn!$C:$AN,G$1,0) -> 200.5 | H2: =G2+VLOOKUP($C2,giorn!$C:$AN,H$1,0) -> 273 | I2: =H2+VLOOKUP($C2,giorn!$C:$AN,I$1,0) -> 337.5 | J2: =I2+VLOOKUP($C2,giorn!$C:$AN,J$1,0) -> 412.5 | K2: =J2+VLOOKUP($C2,giorn!$C:$AN,K$1,0) -> 486 | L2: =K2+VLOOKUP($C2,giorn!$C:$AN,L$1,0) -> 557 | M2: =L2+VLOOKUP($C2,giorn!$C:$AN,M$1,0) -> 642 | ... AD2: =AC2+VLOOKUP($C2,giorn!$C:$AN,AD$1,0) -> 1805
B3: maGGica! | C3: adrian28scbr | E3: 84.5 | F3: =E3+VLOOKUP($C3,giorn!$C:$AN,F$1,0) -> 156 | G3: =F3+VLOOKUP($C3,giorn!$C:$AN,G$1,0) -> 227 | H3: =G3+VLOOKUP($C3,giorn!$C:$AN,H$1,0) -> 309 | I3: =H3+VLOOKUP($C3,giorn!$C:$AN,I$1,0) -> 381 | J3: =I3+VLOOKUP($C3,giorn!$C:$AN,J$1,0) -> 464 | K3: =J3+VLOOKUP($C3,giorn!$C:$AN,K$1,0) -> 533 | L3: =K3+VLOOKUP($C3,giorn!$C:$AN,L$1,0) -> 598.5 | M3: =L3+VLOOKUP($C3,giorn!$C:$AN,M$1,0) -> 677 | ... AD3: =AC3+VLOOKUP($C3,giorn!$C:$AN,AD$1,0) -> 1901.5
B4: alebolo | C4: alebolo | E4: 67.5 | F4: =E4+VLOOKUP($C4,giorn!$C:$AN,F$1,0) -> 127 | G4: =F4+VLOOKUP($C4,giorn!$C:$AN,G$1,0) -> 184.5 | H4: =G4+VLOOKUP($C4,giorn!$C:$AN,H$1,0) -> 258 | I4: =H4+VLOOKUP($C4,giorn!$C:$AN,I$1,0) -> 335 | J4: =I4+VLOOKUP($C4,giorn!$C:$AN,J$1,0) -> 406 | K4: =J4+VLOOKUP($C4,giorn!$C:$AN,K$1,0) -> 475.5 | L4: =K4+VLOOKUP($C4,giorn!$C:$AN,L$1,0) -> 547.5 | M4: =L4+VLOOKUP($C4,giorn!$C:$AN,M$1,0) -> 625 | ... AD4: =AC4+VLOOKUP($C4,giorn!$C:$AN,AD$1,0) -> 1819
B5: OnceUponATime | C5: alexein11 | E5: 77.5 | F5: =E5+VLOOKUP($C5,giorn!$C:$AN,F$1,0) -> 139 | G5: =F5+VLOOKUP($C5,giorn!$C:$AN,G$1,0) -> 194 | H5: =G5+VLOOKUP($C5,giorn!$C:$AN,H$1,0) -> 267 | I5: =H5+VLOOKUP($C5,giorn!$C:$AN,I$1,0) -> 327.5 | J5: =I5+VLOOKUP($C5,giorn!$C:$AN,J$1,0) -> 405 | K5: =J5+VLOOKUP($C5,giorn!$C:$AN,K$1,0) -> 485.5 | L5: =K5+VLOOKUP($C5,giorn!$C:$AN,L$1,0) -> 551 | M5: =L5+VLOOKUP($C5,giorn!$C:$AN,M$1,0) -> 628 | ... AD5: =AC5+VLOOKUP($C5,giorn!$C:$AN,AD$1,0) -> 1850.5
B6: Atletico Sereno | C6: andreabrescia | E6: 76 | F6: =E6+VLOOKUP($C6,giorn!$C:$AN,F$1,0) -> 136 | G6: =F6+VLOOKUP($C6,giorn!$C:$AN,G$1,0) -> 204.5 | H6: =G6+VLOOKUP($C6,giorn!$C:$AN,H$1,0) -> 279.5 | I6: =H6+VLOOKUP($C6,giorn!$C:$AN,I$1,0) -> 347 | J6: =I6+VLOOKUP($C6,giorn!$C:$AN,J$1,0) -> 422 | K6: =J6+VLOOKUP($C6,giorn!$C:$AN,K$1,0) -> 490.5 | L6: =K6+VLOOKUP($C6,giorn!$C:$AN,L$1,0) -> 560.5 | M6: =L6+VLOOKUP($C6,giorn!$C:$AN,M$1,0) -> 638.5 | ... AD6: =AC6+VLOOKUP($C6,giorn!$C:$AN,AD$1,0) -> 1827.5
B7: I Velieri | C7: bremec | E7: 69.5 | F7: =E7+VLOOKUP($C7,giorn!$C:$AN,F$1,0) -> 142 | G7: =F7+VLOOKUP($C7,giorn!$C:$AN,G$1,0) -> 213 | H7: =G7+VLOOKUP($C7,giorn!$C:$AN,H$1,0) -> 289.5 | I7: =H7+VLOOKUP($C7,giorn!$C:$AN,I$1,0) -> 367.5 | J7: =I7+VLOOKUP($C7,giorn!$C:$AN,J$1,0) -> 437 | K7: =J7+VLOOKUP($C7,giorn!$C:$AN,K$1,0) -> 505 | L7: =K7+VLOOKUP($C7,giorn!$C:$AN,L$1,0) -> 568.5 | M7: =L7+VLOOKUP($C7,giorn!$C:$AN,M$1,0) -> 644.5 | ... AD7: =AC7+VLOOKUP($C7,giorn!$C:$AN,AD$1,0) -> 1792
B8: capirexligamilan | C8: capirexligamilan | E8: 67.5 | F8: =E8+VLOOKUP($C8,giorn!$C:$AN,F$1,0) -> 135 | G8: =F8+VLOOKUP($C8,giorn!$C:$AN,G$1,0) -> 194.5 | H8: =G8+VLOOKUP($C8,giorn!$C:$AN,H$1,0) -> 259 | I8: =H8+VLOOKUP($C8,giorn!$C:$AN,I$1,0) -> 334 | J8: =I8+VLOOKUP($C8,giorn!$C:$AN,J$1,0) -> 396.5 | K8: =J8+VLOOKUP($C8,giorn!$C:$AN,K$1,0) -> 455.5 | L8: =K8+VLOOKUP($C8,giorn!$C:$AN,L$1,0) -> 518.5 | M8: =L8+VLOOKUP($C8,giorn!$C:$AN,M$1,0) -> 594 | ... AD8: =AC8+VLOOKUP($C8,giorn!$C:$AN,AD$1,0) -> 1620.5
B9: catania | C9: catania | E9: 69 | F9: =E9+VLOOKUP($C9,giorn!$C:$AN,F$1,0) -> 130 | G9: =F9+VLOOKUP($C9,giorn!$C:$AN,G$1,0) -> 195.5 | H9: =G9+VLOOKUP($C9,giorn!$C:$AN,H$1,0) -> 273 | I9: =H9+VLOOKUP($C9,giorn!$C:$AN,I$1,0) -> 340 | J9: =I9+VLOOKUP($C9,giorn!$C:$AN,J$1,0) -> 413 | K9: =J9+VLOOKUP($C9,giorn!$C:$AN,K$1,0) -> 483 | L9: =K9+VLOOKUP($C9,giorn!$C:$AN,L$1,0) -> 555 | M9: =L9+VLOOKUP($C9,giorn!$C:$AN,M$1,0) -> 639.5 | ... AD9: =AC9+VLOOKUP($C9,giorn!$C:$AN,AD$1,0) -> 1792.5
B10: Brontefantasy | C10: catania5556 | E10: 64 | F10: =E10+VLOOKUP($C10,giorn!$C:$AN,F$1,0) -> 124 | G10: =F10+VLOOKUP($C10,giorn!$C:$AN,G$1,0) -> 191 | H10: =G10+VLOOKUP($C10,giorn!$C:$AN,H$1,0) -> 273 | I10: =H10+VLOOKUP($C10,giorn!$C:$AN,I$1,0) -> 338 | J10: =I10+VLOOKUP($C10,giorn!$C:$AN,J$1,0) -> 400.5 | K10: =J10+VLOOKUP($C10,giorn!$C:$AN,K$1,0) -> 477 | L10: =K10+VLOOKUP($C10,giorn!$C:$AN,L$1,0) -> 548.5 | M10: =L10+VLOOKUP($C10,giorn!$C:$AN,M$1,0) -> 635.5 | ... AD10: =AC10+VLOOKUP($C10,giorn!$C:$AN,AD$1,0) -> 1772.5
B11: ciro51 | C11: ciro51 | E11: 78.5 | F11: =E11+VLOOKUP($C11,giorn!$C:$AN,F$1,0) -> 138 | G11: =F11+VLOOKUP($C11,giorn!$C:$AN,G$1,0) -> 207 | H11: =G11+VLOOKUP($C11,giorn!$C:$AN,H$1,0) -> 273.5 | I11: =H11+VLOOKUP($C11,giorn!$C:$AN,I$1,0) -> 350 | J11: =I11+VLOOKUP($C11,giorn!$C:$AN,J$1,0) -> 428 | K11: =J11+VLOOKUP($C11,giorn!$C:$AN,K$1,0) -> 494 | L11: =K11+VLOOKUP($C11,giorn!$C:$AN,L$1,0) -> 566 | M11: =L11+VLOOKUP($C11,giorn!$C:$AN,M$1,0) -> 639.5 | ... AD11: =AC11+VLOOKUP($C11,giorn!$C:$AN,AD$1,0) -> 1799.5
B12: AsiAssonNaty | C12: clamore22 | E12: 77.5 | F12: =E12+VLOOKUP($C12,giorn!$C:$AN,F$1,0) -> 137.5 | G12: =F12+VLOOKUP($C12,giorn!$C:$AN,G$1,0) -> 205 | H12: =G12+VLOOKUP($C12,giorn!$C:$AN,H$1,0) -> 283 | I12: =H12+VLOOKUP($C12,giorn!$C:$AN,I$1,0) -> 356 | J12: =I12+VLOOKUP($C12,giorn!$C:$AN,J$1,0) -> 433 | K12: =J12+VLOOKUP($C12,giorn!$C:$AN,K$1,0) -> 501 | L12: =K12+VLOOKUP($C12,giorn!$C:$AN,L$1,0) -> 574 | M12: =L12+VLOOKUP($C12,giorn!$C:$AN,M$1,0) -> 662.5 | ... AD12: =AC12+VLOOKUP($C12,giorn!$C:$AN,AD$1,0) -> 1816
B13: Goomba | C13: crah83 | E13: 75 | F13: =E13+VLOOKUP($C13,giorn!$C:$AN,F$1,0) -> 130 | G13: =F13+VLOOKUP($C13,giorn!$C:$AN,G$1,0) -> 187.5 | H13: =G13+VLOOKUP($C13,giorn!$C:$AN,H$1,0) -> 255 | I13: =H13+VLOOKUP($C13,giorn!$C:$AN,I$1,0) -> 319 | J13: =I13+VLOOKUP($C13,giorn!$C:$AN,J$1,0) -> 399.5 | K13: =J13+VLOOKUP($C13,giorn!$C:$AN,K$1,0) -> 471.5 | L13: =K13+VLOOKUP($C13,giorn!$C:$AN,L$1,0) -> 535 | M13: =L13+VLOOKUP($C13,giorn!$C:$AN,M$1,0) -> 617.5 | ... AD13: =AC13+VLOOKUP($C13,giorn!$C:$AN,AD$1,0) -> 1805
... B36: tombecker | C36: tombecker | E36: 75 | F36: =E36+VLOOKUP($C36,giorn!$C:$AN,F$1,0) -> 136 | G36: =F36+VLOOKUP($C36,giorn!$C:$AN,G$1,0) -> 205.5 | H36: =G36+VLOOKUP($C36,giorn!$C:$AN,H$1,0) -> 277.5 | I36: =H36+VLOOKUP($C36,giorn!$C:$AN,I$1,0) -> 349.5 | J36: =I36+VLOOKUP($C36,giorn!$C:$AN,J$1,0) -> 417.5 | K36: =J36+VLOOKUP($C36,giorn!$C:$AN,K$1,0) -> 490.5 | L36: =K36+VLOOKUP($C36,giorn!$C:$AN,L$1,0) -> 566.5 | M36: =L36+VLOOKUP($C36,giorn!$C:$AN,M$1,0) -> 643.5 | ... AD36: =AC36+VLOOKUP($C36,giorn!$C:$AN,AD$1,0) -> 1869.5

Sheet val_rose
B1: squadra | C1: utente | D1: 2 | E1: 3 | F1: 4 | G1: 5 | H1: 6 | I1: 7 | J1: 8 | K1: 9 | L1: 10 | M1: 11 | N1: 12 | O1: 13 | P1: 14 | Q1: 15 | R1: 16 | S1: 17 | T1: 18 | U1: 19 | V1: 20 | W1: 21 | X1: 22 | Y1: 23 | Z1: 24 | AA1: 25 | AB1: 26 | AC1: 27 | AD1: 28 | AE1: 29 | AF1: 30 | AG1: 31 | AH1: 32 | AI1: 33 | AJ1: 34 | AK1: 35 | AL1: 36 | AM1: 37 | AN1: 38
B2: 19angelo85 | C2: 19angelo85 | D2: 190 | E2: 196 | F2: 196 | G2: 196 | H2: 197 | I2: 196 | J2: 215 | K2: 220 | L2: 224 | M2: 235 | N2: 235 | O2: 235 | P2: 235 | Q2: 233 | R2: 239 | S2: 241 | T2: 247 | U2: 246 | V2: 247 | W2: 245 | X2: 250 | Y2: 248 | Z2: 248 | AA2: 251 | AB2: 261 | AC2: 262 | AD2: 267
B3: maGGica! | C3: adrian28scbr | D3: 190 | E3: 200 | F3: 201 | G3: 201 | H3: 209 | I3: 210 | J3: 220 | K3: 225 | L3: 229 | M3: 235 | N3: 239 | O3: 239 | P3: 240 | Q3: 243 | R3: 251 | S3: 252 | T3: 255 | U3: 258 | V3: 257 | W3: 261 | X3: 266 | Y3: 263 | Z3: 267 | AA3: 265 | AB3: 272 | AC3: 270 | AD3: 267
B4: alebolo | C4: alebolo | D4: 190 | E4: 194 | F4: 196 | G4: 196 | H4: 199 | I4: 209 | J4: 223 | K4: 232 | L4: 233 | M4: 246 | N4: 254 | O4: 260 | P4: 262 | Q4: 276 | R4: 283 | S4: 289 | T4: 287 | U4: 292 | V4: 290 | W4: 293 | X4: 294 | Y4: 295 | Z4: 294 | AA4: 294 | AB4: 293 | AC4: 293 | AD4: 292
B5: OnceUponATime | C5: alexein11 | D5: 190 | E5: 196 | F5: 197 | G5: 197 | H5: 200 | I5: 199 | J5: 211 | K5: 217 | L5: 223 | M5: 231 | N5: 226 | O5: 230 | P5: 231 | Q5: 240 | R5: 253 | S5: 255 | T5: 256 | U5: 255 | V5: 255 | W5: 262 | X5: 265 | Y5: 268 | Z5: 270 | AA5: 273 | AB5: 279 | AC5: 280 | AD5: 283
B6: Atletico Sereno | C6: andreabrescia | D6: 190 | E6: 199 | F6: 197 | G6: 197 | H6: 201 | I6: 204 | J6: 209 | K6: 211 | L6: 218 | M6: 223 | N6: 226 | O6: 226 | P6: 231 | Q6: 237 | R6: 239 | S6: 244 | T6: 251 | U6: 256 | V6: 256 | W6: 260 | X6: 266 | Y6: 266 | Z6: 267 | AA6: 267 | AB6: 275 | AC6: 276 | AD6: 274
B7: I Velieri | C7: bremec | D7: 190 | E7: 196 | F7: 198 | G7: 198 | H7: 206 | I7: 212 | J7: 216 | K7: 220 | L7: 220 | M7: 226 | N7: 224 | O7: 228 | P7: 225 | Q7: 224 | R7: 230 | S7: 232 | T7: 230 | U7: 235 | V7: 242 | W7: 243 | X7: 254 | Y7: 258 | Z7: 262 | AA7: 264 | AB7: 269 | AC7: 268 | AD7: 273
B8: capirexligamilan | C8: capirexligamilan | D8: 190 | E8: 196 | F8: 199 | G8: 199 | H8: 198 | I8: 203 | J8: 204 | K8: 204 | L8: 203 | M8: 207 | N8: 207 | O8: 208 | P8: 207 | Q8: 209 | R8: 209 | S8: 212 | T8: 212 | U8: 214 | V8: 219 | W8: 214 | X8: 214 | Y8: 212 | Z8: 210 | AA8: 213 | AB8: 217 | AC8: 217 | AD8: 215
B9: catania | C9: catania | D9: 190 | E9: 193 | F9: 189 | G9: 189 | H9: 198 | I9: 200 | J9: 207 | K9: 210 | L9: 213 | M9: 223 | N9: 228 | O9: 227 | P9: 229 | Q9: 234 | R9: 239 | S9: 240 | T9: 240 | U9: 246 | V9: 246 | W9: 250 | X9: 256 | Y9: 254 | Z9: 255 | AA9: 256 | AB9: 257 | AC9: 254 | AD9: 253
B10: Brontefantasy | C10: catania5556 | D10: 190 | E10: 187 | F10: 186 | G10: 186 | H10: 195 | I10: 192 | J10: 204 | K10: 209 | L10: 210 | M10: 225 | N10: 228 | O10: 232 | P10: 233 | Q10: 233 | R10: 241 | S10: 241 | T10: 242 | U10: 248 | V10: 252 | W10: 255 | X10: 253 | Y10: 249 | Z10: 252 | AA10: 256 | AB10: 259 | AC10: 257 | AD10: 258
B11: ciro51 | C11: ciro51 | D11: 190 | E11: 199 | F11: 195 | G11: 195 | H11: 195 | I11: 199 | J11: 208 | K11: 210 | L11: 212 | M11: 216 | N11: 217 | O11: 219 | P11: 217 | Q11: 216 | R11: 217 | S11: 221 | T11: 229 | U11: 232 | V11: 231 | W11: 230 | X11: 236 | Y11: 234 | Z11: 233 | AA11: 235 | AB11: 232 | AC11: 229 | AD11: 230
B12: AsiAssonNaty | C12: clamore22 | D12: 190 | E12: 199 | F12: 199 | G12: 199 | H12: 204 | I12: 209 | J12: 221 | K12: 222 | L12: 228 | M12: 241 | N12: 243 | O12: 245 | P12: 242 | Q12: 253 | R12: 261 | S12: 262 | T12: 264 | U12: 266 | V12: 268 | W12: 269 | X12: 270 | Y12: 261 | Z12: 259 | AA12: 256 | AB12: 252 | AC12: 252 | AD12: 246
B13: Goomba | C13: crah83 | D13: 190 | E13: 201 | F13: 197 | G13: 197 | H13: 194 | I13: 195 | J13: 217 | K13: 224 | L13: 223 | M13: 234 | N13: 236 | O13: 239 | P13: 237 | Q13: 244 | R13: 248 | S13: 249 | T13: 258 | U13: 267 | V13: 271 | W13: 270 | X13: 274 | Y13: 273 | Z13: 272 | AA13: 278 | AB13: 283 | AC13: 280 | AD13: 286
... B36: tombecker | C36: tombecker | D36: 190 | E36: 197 | F36: 193 | G36: 193 | H36: 196 | I36: 199 | J36: 209 | K36: 217 | L36: 219 | M36: 225 | N36: 232 | O36: 231 | P36: 229 | Q36: 239 | R36: 240 | S36: 246 | T36: 247 | U36: 249 | V36: 247 | W36: 252 | X36: 254 | Y36: 258 | Z36: 255 | AA36: 260 | AB36: 260 | AC36: 264 | AD36: 262

Sheet mod
B1: squadra | C1: utente | D1: tot | E1: 3 | F1: 4 | G1: 5 | H1: 6 | I1: 7 | J1: 8 | K1: 9 | L1: 10 | M1: 11 | N1: 12 | O1: 13 | P1: 14 | Q1: 15 | R1: 16 | S1: 17 | T1: 18 | U1: 19 | V1: 20 | W1: 21 | X1: 22 | Y1: 23 | Z1: 24 | AA1: 25 | AB1: 26 | AC1: 27 | AD1: 28 | AE1: 29 | AF1: 30 | AG1: 31 | AH1: 32 | AI1: 33 | AJ1: 34 | AK1: 35 | AL1: 36 | AM1: 37 | AN1: 38
B2: 19angelo85 | C2: 19angelo85 | D2: =SUM(E2:AN2) -> 21 | E2: 1 | F2: 1 | G2: 1 | H2: 0 | I2: 1 | J2: 1 | K2: 1 | L2: 0 | M2: 1 | N2: 1 | O2: 1 | P2: 1 | Q2: 1 | R2: 1 | S2: 3 | T2: 1 | U2: 0 | V2: 0 | W2: 1 | X2: 0 | Y2: 0 | Z2: 1 | AA2: 1 | AB2: 1 | AC2: 0 | AD2: 1
B3: A.C. Javier Pastore | C3: matteo9502 | D3: =SUM(E3:AN3) -> 18 | E3: 0 | F3: 0 | G3: 1 | H3: 0 | I3: 1 | J3: 1 | K3: 0 | L3: 1 | M3: 0 | N3: 1 | O3: 0 | P3: 1 | Q3: 1 | R3: 1 | S3: 0 | T3: 1 | U3: 0 | V3: 0 | W3: 0 | X3: 0 | Y3: 0 | Z3: 1 | AA3: 1 | AB3: 1 | AC3: 6 | AD3: 0
B4: alebolo | C4: alebolo | D4: =SUM(E4:AN4) -> 11 | E4: 0 | F4: 0 | G4: 0 | H4: 0 | I4: 0 | J4: 0 | K4: 0 | L4: 1 | M4: 3 | N4: 1 | O4: 1 | P4: 1 | Q4: 1 | R4: 0 | S4: 0 | T4: 0 | U4: 0 | V4: 0 | W4: 0 | X4: 0 | Y4: 0 | Z4: 0 | AA4: 0 | AB4: 1 | AC4: 1 | AD4: 1
B5: AsiAssonNaty | C5: clamore22 | D5: =SUM(E5:AN5) -> 7 | E5: 0 | F5: 0 | G5: 0 | H5: 0 | I5: 0 | J5: 1 | K5: 1 | L5: 0 | M5: 0 | N5: 1 | O5: 0 | P5: 0 | Q5: 1 | R5: 0 | S5: 0 | T5: 0 | U5: 0 | V5: 0 | W5: 1 | X5: 0 | Y5: 0 | Z5: 1 | AA5: 0 | AB5: 1 | AC5: 0 | AD5: 0
B6: Atletico Sereno | C6: andreabrescia | D6: =SUM(E6:AN6) -> 20 | E6: 1 | F6: 1 | G6: 3 | H6: 0 | I6: 0 | J6: 1 | K6: 1 | L6: 1 | M6: 1 | N6: 1 | O6: 1 | P6: 1 | Q6: 0 | R6: 1 | S6: 1 | T6: 0 | U6: 0 | V6: 0 | W6: 1 | X6: 0 | Y6: 1 | Z6: 1 | AA6: 1 | AB6: 1 | AC6: 1 | AD6: 0
B7: Brontefantasy | C7: catania5556 | D7: =SUM(E7:AN7) -> 7 | E7: 0 | F7: 0 | G7: 0 | H7: 3 | I7: 0 | J7: 0 | K7: 1 | L7: 3 | M7: 0 | N7: 0 | O7: 0 | P7: 0 | Q7: 0 | R7: 0 | S7: 0 | T7: 0 | U7: 0 | V7: 0 | W7: 0 | X7: 0 | Y7: 0 | Z7: 0 | AA7: 0 | AB7: 0 | AC7: 0 | AD7: 0
B8: capirexligamilan | C8: capirexligamilan | D8: =SUM(E8:AN8) -> 1 | E8: 0 | F8: 0 | G8: 0 | H8: 0 | I8: 0 | J8: 0 | K8: 0 | L8: 0 | M8: 0 | N8: 0 | O8: 0 | P8: 0 | Q8: 0 | R8: 0 | S8: 0 | T8: 0 | U8: 0 | V8: 0 | W8: 0 | X8: 0 | Y8: 0 | Z8: 1 | AA8: 0 | AB8: 0 | AC8: 0 | AD8: 0
B9: catania | C9: catania | D9: =SUM(E9:AN9) -> 6 | E9: 1 | F9: 1 | G9: 0 | H9: 0 | I9: 0 | J9: 0 | K9: 1 | L9: 1 | M9: 0 | N9: 0 | O9: 0 | P9: 0 | Q9: 0 | R9: 0 | S9: 0 | T9: 0 | U9: 1 | V9: 0 | W9: 0 | X9: 0 | Y9: 0 | Z9: 0 | AA9: 1 | AB9: 0 | AC9: 0 | AD9: 0
B10: ciro51 | C10: ciro51 | D10: =SUM(E10:AN10) -> 28 | E10: 3 | F10: 1 | G10: 3 | H10: 1 | I10: 3 | J10: 1 | K10: 1 | L10: 1 | M10: 0 | N10: 0 | O10: 1 | P10: 0 | Q10: 1 | R10: 1 | S10: 3 | T10: 1 | U10: 0 | V10: 1 | W10: 1 | X10: 0 | Y10: 1 | Z10: 1 | AA10: 1 | AB10: 1 | AC10: 1 | AD10: 0
B11: diego89 | C11: diego89 | D11: =SUM(E11:AN11) -> 29 | E11: 1 | F11: 1 | G11: 1 | H11: 1 | I11: 3 | J11: 1 | K11: 1 | L11: 1 | M11: 1 | N11: 0 | O11: 1 | P11: 3 | Q11: 3 | R11: 1 | S11: 3 | T11: 1 | U11: 0 | V11: 0 | W11: 1 | X11: 0 | Y11: 0 | Z11: 0 | AA11: 0 | AB11: 1 | AC11: 3 | AD11: 1
B12: Eroi nel vento | C12: ogeid36 | D12: =SUM(E12:AN12) -> 26 | E12: 3 | F12: 1 | G12: 1 | H12: 1 | I12: 1 | J12: 1 | K12: 1 | L12: 1 | M12: 0 | N12: 1 | O12: 1 | P12: 1 | Q12: 3 | R12: 1 | S12: 3 | T12: 0 | U12: 0 | V12: 0 | W12: 0 | X12: 1 | Y12: 1 | Z12: 3 | AA12: 0 | AB12: 0 | AC12: 0 | AD12: 1
B13: Fanta Lightman | C13: lightman | D13: =SUM(E13:AN13) -> 17 | E13: 1 | F13: 0 | G13: 0 | H13: 0 | I13: 1 | J13: 0 | K13: 1 | L13: 1 | M13: 0 | N13: 1 | O13: 0 | P13: 1 | Q13: 1 | R13: 0 | S13: 1 | T13: 1 | U13: 0 | V13: 0 | W13: 1 | X13: 1 | Y13: 1 | Z13: 1 | AA13: 1 | AB13: 1 | AC13: 1 | AD13: 1
... B36: Van Persie sul campo | C36: thor01 | D36: =SUM(E36:AN36) -> 17 | E36: 1 | F36: 0 | G36: 1 | H36: 3 | I36: 1 | J36: 1 | K36: 1 | L36: 1 | M36: 1 | N36: 1 | O36: 1 | P36: 0 | Q36: 0 | R36: 1 | S36: 0 | T36: 0 | U36: 1 | V36: 0 | W36: 1 | X36: 1 | Y36: 0 | Z36: 0 | AA36: 0 | AB36: 1 | AC36: 0 | AD36: 0

Sheet cambi
B1: squadra | C1: utente | D1: 2 | E1: 3 | F1: 4 | G1: 5 | H1: 6 | I1: 7 | J1: 8 | K1: 9 | L1: 10 | M1: 11 | N1: 12 | O1: 13 | P1: 14 | Q1: 15 | R1: 16 | S1: 17 | T1: 18 | U1: 19 | V1: 20 | W1: 21 | X1: 22 | Y1: 23 | Z1: 24 | AA1: 25 | AB1: 26 | AC1: 27 | AD1: 28 | AE1: 29 | AF1: 30 | AG1: 31 | AH1: 32 | AI1: 33 | AJ1: 34 | AK1: 35 | AL1: 36 | AM1: 37 | AN1: 38
B2: 19angelo85 | C2: 19angelo85 | D2: 16 | E2: 16 | F2: 16 | G2: 16 | H2: 16 | I2: 16 | J2: 15 | K2: 14 | L2: 9 | M2: 9 | N2: 9 | O2: 8 | P2: 8 | Q2: 8 | R2: 8 | S2: 8 | T2: 8 | U2: 8 | V2: 8 | W2: 8 | X2: 8 | Y2: 8 | Z2: 3 | AA2: 1 | AB2: 1 | AC2: 1 | AD2: 1
B3: maGGica! | C3: adrian28scbr | D3: 16 | E3: 16 | F3: 16 | G3: 16 | H3: 14 | I3: 14 | J3: 14 | K3: 11 | L3: 11 | M3: 11 | N3: 9 | O3: 9 | P3: 9 | Q3: 8 | R3: 8 | S3: 8 | T3: 8 | U3: 8 | V3: 6 | W3: 6 | X3: 6 | Y3: 5 | Z3: 5 | AA3: 2 | AB3: 1 | AC3: 1 | AD3: 0
B4: alebolo | C4: alebolo | D4: 16 | E4: 16 | F4: 16 | G4: 16 | H4: 16 | I4: 13 | J4: 13 | K4: 11 | L4: 11 | M4: 11 | N4: 11 | O4: 11 | P4: 9 | Q4: 9 | R4: 6 | S4: 6 | T4: 6 | U4: 6 | V4: 3 | W4: 3 | X4: 3 | Y4: 3 | Z4: 1 | AA4: 1 | AB4: 1 | AC4: 1 | AD4: 1
B5: OnceUponATime | C5: alexein11 | D5: 16 | E5: 16 | F5: 16 | G5: 16 | H5: 13 | I5: 13 | J5: 13 | K5: 12 | L5: 12 | M5: 12 | N5: 12 | O5: 12 | P5: 12 | Q5: 12 | R5: 12 | S5: 9 | T5: 9 | U5: 5 | V5: 5 | W5: 5 | X5: 5 | Y5: 3 | Z5: 3 | AA5: 3 | AB5: 3 | AC5: 3 | AD5: 3
B6: Atletico Sereno | C6: andreabrescia | D6: 16 | E6: 16 | F6: 14 | G6: 14 | H6: 14 | I6: 10 | J6: 10 | K6: 7 | L6: 7 | M6: 5 | N6: 5 | O6: 2 | P6: 1 | Q6: 1 | R6: 1 | S6: 1 | T6: 1 | U6: 1 | V6: 1 | W6: 1 | X6: 1 | Y6: 0 | Z6: 0 | AA6: 0 | AB6: 0 | AC6: 0 | AD6: 0
B7: I Velieri | C7: bremec | D7: 16 | E7: 16 | F7: 16 | G7: 16 | H7: 16 | I7: 16 | J7: 16 | K7: 14 | L7: 14 | M7: 14 | N7: 12 | O7: 10 | P7: 10 | Q7: 10 | R7: 10 | S7: 10 | T7: 5 | U7: 5 | V7: 5 | W7: 5 | X7: 5 | Y7: 5 | Z7: 5 | AA7: 3 | AB7: 1 | AC7: 1 | AD7: 1
B8: capirexligamilan | C8: capirexligamilan | D8: 16 | E8: 16 | F8: 16 | G8: 16 | H8: 16 | I8: 16 | J8: 16 | K8: 16 | L8: 16 | M8: 16 | N8: 16 | O8: 16 | P8: 16 | Q8: 16 | R8: 16 | S8: 16 | T8: 16 | U8: 16 | V8: 16 | W8: 16 | X8: 16 | Y8: 16 | Z8: 16 | AA8: 16 | AB8: 16 | AC8: 16 | AD8: 16
B9: catania | C9: catania | D9: 16 | E9: 16 | F9: 16 | G9: 15 | H9: 15 | I9: 15 | J9: 15 | K9: 15 | L9: 15 | M9: 15 | N9: 14 | O9: 11 | P9: 10 | Q9: 10 | R9: 10 | S9: 10 | T9: 10 | U9: 10 | V9: 8 | W9: 8 | X9: 8 | Y9: 8 | Z9: 8 | AA9: 6 | AB9: 6 | AC9: 6 | AD9: 5
B10: Brontefantasy | C10: catania5556 | D10: 16 | E10: 16 | F10: 13 | G10: 11 | H10: 11 | I10: 10 | J10: 10 | K10: 8 | L10: 7 | M10: 5 | N10: 5 | O10: 5 | P10: 4 | Q10: 4 | R10: 4 | S10: 4 | T10: 4 | U10: 4 | V10: 2 | W10: 2 | X10: 2 | Y10: 2 | Z10: 0 | AA10: 0 | AB10: 0 | AC10: 0 | AD10: 0
B11: ciro51 | C11: ciro51 | D11: 16 | E11: 16 | F11: 16 | G11: 14 | H11: 14 | I11: 11 | J11: 11 | K11: 11 | L11: 11 | M11: 11 | N11: 11 | O11: 11 | P11: 11 | Q11: 10 | R11: 10 | S11: 9 | T11: 9 | U11: 9 | V11: 1 | W11: 1 | X11: 1 | Y11: 1 | Z11: 1 | AA11: 1 | AB11: 1 | AC11: 1 | AD11: 1
B12: AsiAssonNaty | C12: clamore22 | D12: 16 | E12: 16 | F12: 15 | G12: 13 | H12: 12 | I12: 12 | J12: 12 | K12: 9 | L12: 8 | M12: 8 | N12: 8 | O12: 6 | P12: 6 | Q12: 5 | R12: 5 | S12: 5 | T12: 5 | U12: 5 | V12: 5 | W12: 4 | X12: 2 | Y12: 2 | Z12: 0 | AA12: 0 | AB12: 0 | AC12: 0 | AD12: 0
B13: Goomba | C13: crah83 | D13: 16 | E13: 16 | F13: 14 | G13: 14 | H13: 14 | I13: 14 | J13: 11 | K13: 8 | L13: 6 | M13: 6 | N13: 6 | O13: 6 | P13: 6 | Q13: 6 | R13: 6 | S13: 4 | T13: 4 | U13: 4 | V13: 4 | W13: 4 | X13: 4 | Y13: 4 | Z13: 4 | AA13: 4 | AB13: 0 | AC13: 0 | AD13: 0
... B36: tombecker | C36: tombecker | D36: 16 | E36: 16 | F36: 16 | G36: 16 | H36: 16 | I36: 15 | J36: 12 | K36: 9 | L36: 9 | M36: 9 | N36: 9 | O36: 9 | P36: 9 | Q36: 9 | R36: 9 | S36: 9 | T36: 9 | U36: 6 | V36: 6 | W36: 6 | X36: 6 | Y36: 6 | Z36: 1 | AA36: 1 | AB36: 1 | AC36: 1 | AD36: 1

Sheet dist_1o
B1: squadra | C1: utente | E1: 3 | F1: 4 | G1: 5 | H1: 6 | I1: 7 | J1: 8 | K1: 9 | L1: 10 | M1: 11 | N1: 12 | O1: 13 | P1: 14 | Q1: 15 | R1: 16 | S1: 17 | T1: 18 | U1: 19 | V1: 20 | W1: 21 | X1: 22 | Y1: 23 | Z1: 24 | AA1: 25 | AB1: 26 | AC1: 27 | AD1: 28 | AE1: 29 | AF1: 30 | AG1: 31 | AH1: 32 | AI1: 33 | AJ1: 34 | AK1: 35 | AL1: 36 | AM1: 37 | AN1: 38
B2: 19angelo85 | C2: 19angelo85 | E2: =MAX(class!E:E)-VLOOKUP($C2,class!$C:$AN,E$1,0) -> 13 | F2: =MAX(class!F:F)-VLOOKUP($C2,class!$C:$AN,F$1,0) -> 17 | G2: =MAX(class!G:G)-VLOOKUP($C2,class!$C:$AN,G$1,0) -> 26.5 | H2: =MAX(class!H:H)-VLOOKUP($C2,class!$C:$AN,H$1,0) -> 36 | I2: =MAX(class!I:I)-VLOOKUP($C2,class!$C:$AN,I$1,0) -> 43.5 | J2: =MAX(class!J:J)-VLOOKUP($C2,class!$C:$AN,J$1,0) -> 51.5 | K2: =MAX(class!K:K)-VLOOKUP($C2,class!$C:$AN,K$1,0) -> 47 | L2: =MAX(class!L:L)-VLOOKUP($C2,class!$C:$AN,L$1,0) -> 41.5 | M2: =MAX(class!M:M)-VLOOKUP($C2,class!$C:$AN,M$1,0) -> 35 | N2: =MAX(class!N:N)-VLOOKUP($C2,class!$C:$AN,N$1,0) -> 37.5 | O2: =MAX(class!O:O)-VLOOKUP($C2,class!$C:$AN,O$1,0) -> 36 | P2: =MAX(class!P:P)-VLOOKUP($C2,class!$C:$AN,P$1,0) -> 45.5 | Q2: =MAX(class!Q:Q)-VLOOKUP($C2,class!$C:$AN,Q$1,0) -> 56.5 | R2: =MAX(class!R:R)-VLOOKUP($C2,class!$C:$AN,R$1,0) -> 65 | S2: =MAX(class!S:S)-VLOOKUP($C2,class!$C:$AN,S$1,0) -> 68.5 | T2: =MAX(class!T:T)-VLOOKUP($C2,class!$C:$AN,T$1,0) -> 66 | U2: =MAX(class!U:U)-VLOOKUP($C2,class!$C:$AN,U$1,0) -> 89 | V2: =MAX(class!V:V)-VLOOKUP($C2,class!$C:$AN,V$1,0) -> 93.5 | W2: =MAX(class!W:W)-VLOOKUP($C2,class!$C:$AN,W$1,0) -> 103.5 | X2: =MAX(class!X:X)-VLOOKUP($C2,class!$C:$AN,X$1,0) -> 111 | Y2: =MAX(class!Y:Y)-VLOOKUP($C2,class!$C:$AN,Y$1,0) -> 111.5 | Z2: =MAX(class!Z:Z)-VLOOKUP($C2,class!$C:$AN,Z$1,0) -> 111 | AA2: =MAX(class!AA:AA)-VLOOKUP($C2,class!$C:$AN,AA$1,0) -> 109 | AB2: =MAX(class!AB:AB)-VLOOKUP($C2,class!$C:$AN,AB$1,0) -> 109 | AC2: =MAX(class!AC:AC)-VLOOKUP($C2,class!$C:$AN,AC$1,0) -> 100 | AD2: =MAX(class!AD:AD)-VLOOKUP($C2,class!$C:$AN,AD$1,0) -> 96.5
B3: maGGica! | C3: adrian28scbr | E3: =MAX(class!E:E)-VLOOKUP($C3,class!$C:$AN,E$1,0) -> 1 | F3: =MAX(class!F:F)-VLOOKUP($C3,class!$C:$AN,F$1,0) -> 0 | G3: =MAX(class!G:G)-VLOOKUP($C3,class!$C:$AN,G$1,0) -> 0 | H3: =MAX(class!H:H)-VLOOKUP($C3,class!$C:$AN,H$1,0) -> 0 | I3: =MAX(class!I:I)-VLOOKUP($C3,class!$C:$AN,I$1,0) -> 0 | J3: =MAX(class!J:J)-VLOOKUP($C3,class!$C:$AN,J$1,0) -> 0 | K3: =MAX(class!K:K)-VLOOKUP($C3,class!$C:$AN,K$1,0) -> 0 | L3: =MAX(class!L:L)-VLOOKUP($C3,class!$C:$AN,L$1,0) -> 0 | M3: =MAX(class!M:M)-VLOOKUP($C3,class!$C:$AN,M$1,0) -> 0 | N3: =MAX(class!N:N)-VLOOKUP($C3,class!$C:$AN,N$1,0) -> 0 | O3: =MAX(class!O:O)-VLOOKUP($C3,class!$C:$AN,O$1,0) -> 0 | P3: =MAX(class!P:P)-VLOOKUP($C3,class!$C:$AN,P$1,0) -> 0 | Q3: =MAX(class!Q:Q)-VLOOKUP($C3,class!$C:$AN,Q$1,0) -> 0 | R3: =MAX(class!R:R)-VLOOKUP($C3,class!$C:$AN,R$1,0) -> 0 | S3: =MAX(class!S:S)-VLOOKUP($C3,class!$C:$AN,S$1,0) -> 0 | T3: =MAX(class!T:T)-VLOOKUP($C3,class!$C:$AN,T$1,0) -> 0 | U3: =MAX(class!U:U)-VLOOKUP($C3,class!$C:$AN,U$1,0) -> 0 | V3: =MAX(class!V:V)-VLOOKUP($C3,class!$C:$AN,V$1,0) -> 0 | W3: =MAX(class!W:W)-VLOOKUP($C3,class!$C:$AN,W$1,0) -> 0 | X3: =MAX(class!X:X)-VLOOKUP($C3,class!$C:$AN,X$1,0) -> 0 | Y3: =MAX(class!Y:Y)-VLOOKUP($C3,class!$C:$AN,Y$1,0) -> 0 | Z3: =MAX(class!Z:Z)-VLOOKUP($C3,class!$C:$AN,Z$1,0) -> 0 | AA3: =MAX(class!AA:AA)-VLOOKUP($C3,class!$C:$AN,AA$1,0) -> 0 | AB3: =MAX(class!AB:AB)-VLOOKUP($C3,class!$C:$AN,AB$1,0) -> 0 | AC3: =MAX(class!AC:AC)-VLOOKUP($C3,class!$C:$AN,AC$1,0) -> 0 | AD3: =MAX(class!AD:AD)-VLOOKUP($C3,class!$C:$AN,AD$1,0) -> 0
B4: alebolo | C4: alebolo | E4: =MAX(class!E:E)-VLOOKUP($C4,class!$C:$AN,E$1,0) -> 18 | F4: =MAX(class!F:F)-VLOOKUP($C4,class!$C:$AN,F$1,0) -> 29 | G4: =MAX(class!G:G)-VLOOKUP($C4,class!$C:$AN,G$1,0) -> 42.5 | H4: =MAX(class!H:H)-VLOOKUP($C4,class!$C:$AN,H$1,0) -> 51 | I4: =MAX(class!I:I)-VLOOKUP($C4,class!$C:$AN,I$1,0) -> 46 | J4: =MAX(class!J:J)-VLOOKUP($C4,class!$C:$AN,J$1,0) -> 58 | K4: =MAX(class!K:K)-VLOOKUP($C4,class!$C:$AN,K$1,0) -> 57.5 | L4: =MAX(class!L:L)-VLOOKUP($C4,class!$C:$AN,L$1,0) -> 51 | M4: =MAX(class!M:M)-VLOOKUP($C4,class!$C:$AN,M$1,0) -> 52 | N4: =MAX(class!N:N)-VLOOKUP($C4,class!$C:$AN,N$1,0) -> 40 | O4: =MAX(class!O:O)-VLOOKUP($C4,class!$C:$AN,O$1,0) -> 42 | P4: =MAX(class!P:P)-VLOOKUP($C4,class!$C:$AN,P$1,0) -> 46.5 | Q4: =MAX(class!Q:Q)-VLOOKUP($C4,class!$C:$AN,Q$1,0) -> 37.5 | R4: =MAX(class!R:R)-VLOOKUP($C4,class!$C:$AN,R$1,0) -> 50.5 | S4: =MAX(class!S:S)-VLOOKUP($C4,class!$C:$AN,S$1,0) -> 43 | T4: =MAX(class!T:T)-VLOOKUP($C4,class!$C:$AN,T$1,0) -> 59 | U4: =MAX(class!U:U)-VLOOKUP($C4,class!$C:$AN,U$1,0) -> 60 | V4: =MAX(class!V:V)-VLOOKUP($C4,class!$C:$AN,V$1,0) -> 66.5 | W4: =MAX(class!W:W)-VLOOKUP($C4,class!$C:$AN,W$1,0) -> 70.5 | X4: =MAX(class!X:X)-VLOOKUP($C4,class!$C:$AN,X$1,0) -> 74.5 | Y4: =MAX(class!Y:Y)-VLOOKUP($C4,class!$C:$AN,Y$1,0) -> 66.5 | Z4: =MAX(class!Z:Z)-VLOOKUP($C4,class!$C:$AN,Z$1,0) -> 71 | AA4: =MAX(class!AA:AA)-VLOOKUP($C4,class!$C:$AN,AA$1,0) -> 74.5 | AB4: =MAX(class!AB:AB)-VLOOKUP($C4,class!$C:$AN,AB$1,0) -> 87 | AC4: =MAX(class!AC:AC)-VLOOKUP($C4,class!$C:$AN,AC$1,0) -> 83 | AD4: =MAX(class!AD:AD)-VLOOKUP($C4,class!$C:$AN,AD$1,0) -> 82.5
B5: OnceUponATime | C5: alexein11 | E5: =MAX(class!E:E)-VLOOKUP($C5,class!$C:$AN,E$1,0) -> 8 | F5: =MAX(class!F:F)-VLOOKUP($C5,class!$C:$AN,F$1,0) -> 17 | G5: =MAX(class!G:G)-VLOOKUP($C5,class!$C:$AN,G$1,0) -> 33 | H5: =MAX(class!H:H)-VLOOKUP($C5,class!$C:$AN,H$1,0) -> 42 | I5: =MAX(class!I:I)-VLOOKUP($C5,class!$C:$AN,I$1,0) -> 53.5 | J5: =MAX(class!J:J)-VLOOKUP($C5,class!$C:$AN,J$1,0) -> 59 | K5: =MAX(class!K:K)-VLOOKUP($C5,class!$C:$AN,K$1,0) -> 47.5 | L5: =MAX(class!L:L)-VLOOKUP($C5,class!$C:$AN,L$1,0) -> 47.5 | M5: =MAX(class!M:M)-VLOOKUP($C5,class!$C:$AN,M$1,0) -> 49 | N5: =MAX(class!N:N)-VLOOKUP($C5,class!$C:$AN,N$1,0) -> 58 | O5: =MAX(class!O:O)-VLOOKUP($C5,class!$C:$AN,O$1,0) -> 58.5 | P5: =MAX(class!P:P)-VLOOKUP($C5,class!$C:$AN,P$1,0) -> 68 | Q5: =MAX(class!Q:Q)-VLOOKUP($C5,class!$C:$AN,Q$1,0) -> 61.5 | R5: =MAX(class!R:R)-VLOOKUP($C5,class!$C:$AN,R$1,0) -> 55 | S5: =MAX(class!S:S)-VLOOKUP($C5,class!$C:$AN,S$1,0) -> 61 | T5: =MAX(class!T:T)-VLOOKUP($C5,class!$C:$AN,T$1,0) -> 68 | U5: =MAX(class!U:U)-VLOOKUP($C5,class!$C:$AN,U$1,0) -> 76 | V5: =MAX(class!V:V)-VLOOKUP($C5,class!$C:$AN,V$1,0) -> 83.5 | W5: =MAX(class!W:W)-VLOOKUP($C5,class!$C:$AN,W$1,0) -> 78 | X5: =MAX(class!X:X)-VLOOKUP($C5,class!$C:$AN,X$1,0) -> 82 | Y5: =MAX(class!Y:Y)-VLOOKUP($C5,class!$C:$AN,Y$1,0) -> 72 | Z5: =MAX(class!Z:Z)-VLOOKUP($C5,class!$C:$AN,Z$1,0) -> 75 | AA5: =MAX(class!AA:AA)-VLOOKUP($C5,class!$C:$AN,AA$1,0) -> 69.5 | AB5: =MAX(class!AB:AB)-VLOOKUP($C5,class!$C:$AN,AB$1,0) -> 68.5 | AC5: =MAX(class!AC:AC)-VLOOKUP($C5,class!$C:$AN,AC$1,0) -> 66 | AD5: =MAX(class!AD:AD)-VLOOKUP($C5,class!$C:$AN,AD$1,0) -> 51
B6: Atletico Sereno | C6: andreabrescia | E6: =MAX(class!E:E)-VLOOKUP($C6,class!$C:$AN,E$1,0) -> 9.5 | F6: =MAX(class!F:F)-VLOOKUP($C6,class!$C:$AN,F$1,0) -> 20 | G6: =MAX(class!G:G)-VLOOKUP($C6,class!$C:$AN,G$1,0) -> 22.5 | H6: =MAX(class!H:H)-VLOOKUP($C6,class!$C:$AN,H$1,0) -> 29.5 | I6: =MAX(class!I:I)-VLOOKUP($C6,class!$C:$AN,I$1,0) -> 34 | J6: =MAX(class!J:J)-VLOOKUP($C6,class!$C:$AN,J$1,0) -> 42 | K6: =MAX(class!K:K)-VLOOKUP($C6,class!$C:$AN,K$1,0) -> 42.5 | L6: =MAX(class!L:L)-VLOOKUP($C6,class!$C:$AN,L$1,0) -> 38 | M6: =MAX(class!M:M)-VLOOKUP($C6,class!$C:$AN,M$1,0) -> 38.5 | N6: =MAX(class!N:N)-VLOOKUP($C6,class!$C:$AN,N$1,0) -> 39.5 | O6: =MAX(class!O:O)-VLOOKUP($C6,class!$C:$AN,O$1,0) -> 37 | P6: =MAX(class!P:P)-VLOOKUP($C6,class!$C:$AN,P$1,0) -> 52 | Q6: =MAX(class!Q:Q)-VLOOKUP($C6,class!$C:$AN,Q$1,0) -> 46.5 | R6: =MAX(class!R:R)-VLOOKUP($C6,class!$C:$AN,R$1,0) -> 58 | S6: =MAX(class!S:S)-VLOOKUP($C6,class!$C:$AN,S$1,0) -> 55.5 | T6: =MAX(class!T:T)-VLOOKUP($C6,class!$C:$AN,T$1,0) -> 53 | U6: =MAX(class!U:U)-VLOOKUP($C6,class!$C:$AN,U$1,0) -> 54.5 | V6: =MAX(class!V:V)-VLOOKUP($C6,class!$C:$AN,V$1,0) -> 58 | W6: =MAX(class!W:W)-VLOOKUP($C6,class!$C:$AN,W$1,0) -> 57 | X6: =MAX(class!X:X)-VLOOKUP($C6,class!$C:$AN,X$1,0) -> 62 | Y6: =MAX(class!Y:Y)-VLOOKUP($C6,class!$C:$AN,Y$1,0) -> 57 | Z6: =MAX(class!Z:Z)-VLOOKUP($C6,class!$C:$AN,Z$1,0) -> 60.5 | AA6: =MAX(class!AA:AA)-VLOOKUP($C6,class!$C:$AN,AA$1,0) -> 63.5 | AB6: =MAX(class!AB:AB)-VLOOKUP($C6,class!$C:$AN,AB$1,0) -> 70.5 | AC6: =MAX(class!AC:AC)-VLOOKUP($C6,class!$C:$AN,AC$1,0) -> 72 | AD6: =MAX(class!AD:AD)-VLOOKUP($C6,class!$C:$AN,AD$1,0) -> 74
B7: I Velieri | C7: bremec | E7: =MAX(class!E:E)-VLOOKUP($C7,class!$C:$AN,E$1,0) -> 16 | F7: =MAX(class!F:F)-VLOOKUP($C7,class!$C:$AN,F$1,0) -> 14 | G7: =MAX(class!G:G)-VLOOKUP($C7,class!$C:$AN,G$1,0) -> 14 | H7: =MAX(class!H:H)-VLOOKUP($C7,class!$C:$AN,H$1,0) -> 19.5 | I7: =MAX(class!I:I)-VLOOKUP($C7,class!$C:$AN,I$1,0) -> 13.5 | J7: =MAX(class!J:J)-VLOOKUP($C7,class!$C:$AN,J$1,0) -> 27 | K7: =MAX(class!K:K)-VLOOKUP($C7,class!$C:$AN,K$1,0) -> 28 | L7: =MAX(class!L:L)-VLOOKUP($C7,class!$C:$AN,L$1,0) -> 30 | M7: =MAX(class!M:M)-VLOOKUP($C7,class!$C:$AN,M$1,0) -> 32.5 | N7: =MAX(class!N:N)-VLOOKUP($C7,class!$C:$AN,N$1,0) -> 42 | O7: =MAX(class!O:O)-VLOOKUP($C7,class!$C:$AN,O$1,0) -> 43.5 | P7: =MAX(class!P:P)-VLOOKUP($C7,class!$C:$AN,P$1,0) -> 56 | Q7: =MAX(class!Q:Q)-VLOOKUP($C7,class!$C:$AN,Q$1,0) -> 67.5 | R7: =MAX(class!R:R)-VLOOKUP($C7,class!$C:$AN,R$1,0) -> 83 | S7: =MAX(class!S:S)-VLOOKUP($C7,class!$C:$AN,S$1,0) -> 85 | T7: =MAX(class!T:T)-VLOOKUP($C7,class!$C:$AN,T$1,0) -> 103.5 | U7: =MAX(class!U:U)-VLOOKUP($C7,class!$C:$AN,U$1,0) -> 106.5 | V7: =MAX(class!V:V)-VLOOKUP($C7,class!$C:$AN,V$1,0) -> 111 | W7: =MAX(class!W:W)-VLOOKUP($C7,class!$C:$AN,W$1,0) -> 116 | X7: =MAX(class!X:X)-VLOOKUP($C7,class!$C:$AN,X$1,0) -> 107.5 | Y7: =MAX(class!Y:Y)-VLOOKUP($C7,class!$C:$AN,Y$1,0) -> 115.5 | Z7: =MAX(class!Z:Z)-VLOOKUP($C7,class!$C:$AN,Z$1,0) -> 113 | AA7: =MAX(class!AA:AA)-VLOOKUP($C7,class!$C:$AN,AA$1,0) -> 107.5 | AB7: =MAX(class!AB:AB)-VLOOKUP($C7,class!$C:$AN,AB$1,0) -> 116 | AC7: =MAX(class!AC:AC)-VLOOKUP($C7,class!$C:$AN,AC$1,0) -> 114.5 | AD7: =MAX(class!AD:AD)-VLOOKUP($C7,class!$C:$AN,AD$1,0) -> 109.5
B8: capirexligamilan | C8: capirexligamilan | E8: =MAX(class!E:E)-VLOOKUP($C8,class!$C:$AN,E$1,0) -> 18 | F8: =MAX(class!F:F)-VLOOKUP($C8,class!$C:$AN,F$1,0) -> 21 | G8: =MAX(class!G:G)-VLOOKUP($C8,class!$C:$AN,G$1,0) -> 32.5 | H8: =MAX(class!H:H)-VLOOKUP($C8,class!$C:$AN,H$1,0) -> 50 | I8: =MAX(class!I:I)-VLOOKUP($C8,class!$C:$AN,I$1,0) -> 47 | J8: =MAX(class!J:J)-VLOOKUP($C8,class!$C:$AN,J$1,0) -> 67.5 | K8: =MAX(class!K:K)-VLOOKUP($C8,class!$C:$AN,K$1,0) -> 77.5 | L8: =MAX(class!L:L)-VLOOKUP($C8,class!$C:$AN,L$1,0) -> 80 | M8: =MAX(class!M:M)-VLOOKUP($C8,class!$C:$AN,M$1,0) -> 83 | N8: =MAX(class!N:N)-VLOOKUP($C8,class!$C:$AN,N$1,0) -> 91.5 | O8: =MAX(class!O:O)-VLOOKUP($C8,class!$C:$AN,O$1,0) -> 89 | P8: =MAX(class!P:P)-VLOOKUP($C8,class!$C:$AN,P$1,0) -> 107.5 | Q8: =MAX(class!Q:Q)-VLOOKUP($C8,class!$C:$AN,Q$1,0) -> 116.5 | R8: =MAX(class!R:R)-VLOOKUP($C8,class!$C:$AN,R$1,0) -> 141.5 | S8: =MAX(class!S:S)-VLOOKUP($C8,class!$C:$AN,S$1,0) -> 155.5 | T8: =MAX(class!T:T)-VLOOKUP($C8,class!$C:$AN,T$1,0) -> 179.5 | U8: =MAX(class!U:U)-VLOOKUP($C8,class!$C:$AN,U$1,0) -> 189.5 | V8: =MAX(class!V:V)-VLOOKUP($C8,class!$C:$AN,V$1,0) -> 184.5 | W8: =MAX(class!W:W)-VLOOKUP($C8,class!$C:$AN,W$1,0) -> 208 | X8: =MAX(class!X:X)-VLOOKUP($C8,class!$C:$AN,X$1,0) -> 221.5 | Y8: =MAX(class!Y:Y)-VLOOKUP($C8,class!$C:$AN,Y$1,0) -> 237.5 | Z8: =MAX(class!Z:Z)-VLOOKUP($C8,class!$C:$AN,Z$1,0) -> 251 | AA8: =MAX(class!AA:AA)-VLOOKUP($C8,class!$C:$AN,AA$1,0) -> 253.5 | AB8: =MAX(class!AB:AB)-VLOOKUP($C8,class!$C:$AN,AB$1,0) -> 260.5 | AC8: =MAX(class!AC:AC)-VLOOKUP($C8,class!$C:$AN,AC$1,0) -> 263 | AD8: =MAX(class!AD:AD)-VLOOKUP($C8,class!$C:$AN,AD$1,0) -> 281
B9: catania | C9: catania | E9: =MAX(class!E:E)-VLOOKUP($C9,class!$C:$AN,E$1,0) -> 16.5 | F9: =MAX(class!F:F)-VLOOKUP($C9,class!$C:$AN,F$1,0) -> 26 | G9: =MAX(class!G:G)-VLOOKUP($C9,class!$C:$AN,G$1,0) -> 31.5 | H9: =MAX(class!H:H)-VLOOKUP($C9,class!$C:$AN,H$1,0) -> 36 | I9: =MAX(class!I:I)-VLOOKUP($C9,class!$C:$AN,I$1,0) -> 41 | J9: =MAX(class!J:J)-VLOOKUP($C9,class!$C:$AN,J$1,0) -> 51 | K9: =MAX(class!K:K)-VLOOKUP($C9,class!$C:$AN,K$1,0) -> 50 | L9: =MAX(class!L:L)-VLOOKUP($C9,class!$C:$AN,L$1,0) -> 43.5 | M9: =MAX(class!M:M)-VLOOKUP($C9,class!$C:$AN,M$1,0) -> 37.5 | N9: =MAX(class!N:N)-VLOOKUP($C9,class!$C:$AN,N$1,0) -> 30 | O9: =MAX(class!O:O)-VLOOKUP($C9,class!$C:$AN,O$1,0) -> 35 | P9: =MAX(class!P:P)-VLOOKUP($C9,class!$C:$AN,P$1,0) -> 41.5 | Q9: =MAX(class!Q:Q)-VLOOKUP($C9,class!$C:$AN,Q$1,0) -> 42.5 | R9: =MAX(class!R:R)-VLOOKUP($C9,class!$C:$AN,R$1,0) -> 52.5 | S9: =MAX(class!S:S)-VLOOKUP($C9,class!$C:$AN,S$1,0) -> 58.5 | T9: =MAX(class!T:T)-VLOOKUP($C9,class!$C:$AN,T$1,0) -> 73 | U9: =MAX(class!U:U)-VLOOKUP($C9,class!$C:$AN,U$1,0) -> 70 | V9: =MAX(class!V:V)-VLOOKUP($C9,class!$C:$AN,V$1,0) -> 73.5 | W9: =MAX(class!W:W)-VLOOKUP($C9,class!$C:$AN,W$1,0) -> 75 | X9: =MAX(class!X:X)-VLOOKUP($C9,class!$C:$AN,X$1,0) -> 78.5 | Y9: =MAX(class!Y:Y)-VLOOKUP($C9,class!$C:$AN,Y$1,0) -> 75.5 | Z9: =MAX(class!Z:Z)-VLOOKUP($C9,class!$C:$AN,Z$1,0) -> 87.5 | AA9: =MAX(class!AA:AA)-VLOOKUP($C9,class!$C:$AN,AA$1,0) -> 84 | AB9: =MAX(class!AB:AB)-VLOOKUP($C9,class!$C:$AN,AB$1,0) -> 100.5 | AC9: =MAX(class!AC:AC)-VLOOKUP($C9,class!$C:$AN,AC$1,0) -> 105.5 | AD9: =MAX(class!AD:AD)-VLOOKUP($C9,class!$C:$AN,AD$1,0) -> 109
B10: Brontefantasy | C10: catania5556 | E10: =MAX(class!E:E)-VLOOKUP($C10,class!$C:$AN,E$1,0) -> 21.5 | F10: =MAX(class!F:F)-VLOOKUP($C10,class!$C:$AN,F$1,0) -> 32 | G10: =MAX(class!G:G)-VLOOKUP($C10,class!$C:$AN,G$1,0) -> 36 | H10: =MAX(class!H:H)-VLOOKUP($C10,class!$C:$AN,H$1,0) -> 36 | I10: =MAX(class!I:I)-VLOOKUP($C10,class!$C:$AN,I$1,0) -> 43 | J10: =MAX(class!J:J)-VLOOKUP($C10,class!$C:$AN,J$1,0) -> 63.5 | K10: =MAX(class!K:K)-VLOOKUP($C10,class!$C:$AN,K$1,0) -> 56 | L10: =MAX(class!L:L)-VLOOKUP($C10,class!$C:$AN,L$1,0) -> 50 | M10: =MAX(class!M:M)-VLOOKUP($C10,class!$C:$AN,M$1,0) -> 41.5 | N10: =MAX(class!N:N)-VLOOKUP($C10,class!$C:$AN,N$1,0) -> 37.5 | O10: =MAX(class!O:O)-VLOOKUP($C10,class!$C:$AN,O$1,0) -> 33.5 | P10: =MAX(class!P:P)-VLOOKUP($C10,class!$C:$AN,P$1,0) -> 46.5 | Q10: =MAX(class!Q:Q)-VLOOKUP($C10,class!$C:$AN,Q$1,0) -> 53.5 | R10: =MAX(class!R:R)-VLOOKUP($C10,class!$C:$AN,R$1,0) -> 61.5 | S10: =MAX(class!S:S)-VLOOKUP($C10,class!$C:$AN,S$1,0) -> 66.5 | T10: =MAX(class!T:T)-VLOOKUP($C10,class!$C:$AN,T$1,0) -> 80.5 | U10: =MAX(class!U:U)-VLOOKUP($C10,class!$C:$AN,U$1,0) -> 80 | V10: =MAX(class!V:V)-VLOOKUP($C10,class!$C:$AN,V$1,0) -> 72.5 | W10: =MAX(class!W:W)-VLOOKUP($C10,class!$C:$AN,W$1,0) -> 75.5 | X10: =MAX(class!X:X)-VLOOKUP($C10,class!$C:$AN,X$1,0) -> 85 | Y10: =MAX(class!Y:Y)-VLOOKUP($C10,class!$C:$AN,Y$1,0) -> 101 | Z10: =MAX(class!Z:Z)-VLOOKUP($C10,class!$C:$AN,Z$1,0) -> 107 | AA10: =MAX(class!AA:AA)-VLOOKUP($C10,class!$C:$AN,AA$1,0) -> 109 | AB10: =MAX(class!AB:AB)-VLOOKUP($C10,class!$C:$AN,AB$1,0) -> 111 | AC10: =MAX(class!AC:AC)-VLOOKUP($C10,class!$C:$AN,AC$1,0) -> 118 | AD10: =MAX(class!AD:AD)-VLOOKUP($C10,class!$C:$AN,AD$1,0) -> 129
B11: ciro51 | C11: ciro51 | E11: =MAX(class!E:E)-VLOOKUP($C11,class!$C:$AN,E$1,0) -> 7 | F11: =MAX(class!F:F)-VLOOKUP($C11,class!$C:$AN,F$1,0) -> 18 | G11: =MAX(class!G:G)-VLOOKUP($C11,class!$C:$AN,G$1,0) -> 20 | H11: =MAX(class!H:H)-VLOOKUP($C11,class!$C:$AN,H$1,0) -> 35.5 | I11: =MAX(class!I:I)-VLOOKUP($C11,class!$C:$AN,I$1,0) -> 31 | J11: =MAX(class!J:J)-VLOOKUP($C11,class!$C:$AN,J$1,0) -> 36 | K11: =MAX(class!K:K)-VLOOKUP($C11,class!$C:$AN,K$1,0) -> 39 | L11: =MAX(class!L:L)-VLOOKUP($C11,class!$C:$AN,L$1,0) -> 32.5 | M11: =MAX(class!M:M)-VLOOKUP($C11,class!$C:$AN,M$1,0) -> 37.5 | N11: =MAX(class!N:N)-VLOOKUP($C11,class!$C:$AN,N$1,0) -> 42 | O11: =MAX(class!O:O)-VLOOKUP($C11,class!$C:$AN,O$1,0) -> 37 | P11: =MAX(class!P:P)-VLOOKUP($C11,class!$C:$AN,P$1,0) -> 45 | Q11: =MAX(class!Q:Q)-VLOOKUP($C11,class!$C:$AN,Q$1,0) -> 54.5 | R11: =MAX(class!R:R)-VLOOKUP($C11,class!$C:$AN,R$1,0) -> 68.5 | S11: =MAX(class!S:S)-VLOOKUP($C11,class!$C:$AN,S$1,0) -> 66.5 | T11: =MAX(class!T:T)-VLOOKUP($C11,class!$C:$AN,T$1,0) -> 61.5 | U11: =MAX(class!U:U)-VLOOKUP($C11,class!$C:$AN,U$1,0) -> 65 | V11: =MAX(class!V:V)-VLOOKUP($C11,class!$C:$AN,V$1,0) -> 65.5 | W11: =MAX(class!W:W)-VLOOKUP($C11,class!$C:$AN,W$1,0) -> 73 | X11: =MAX(class!X:X)-VLOOKUP($C11,class!$C:$AN,X$1,0) -> 72.5 | Y11: =MAX(class!Y:Y)-VLOOKUP($C11,class!$C:$AN,Y$1,0) -> 71 | Z11: =MAX(class!Z:Z)-VLOOKUP($C11,class!$C:$AN,Z$1,0) -> 80.5 | AA11: =MAX(class!AA:AA)-VLOOKUP($C11,class!$C:$AN,AA$1,0) -> 86 | AB11: =MAX(class!AB:AB)-VLOOKUP($C11,class!$C:$AN,AB$1,0) -> 94 | AC11: =MAX(class!AC:AC)-VLOOKUP($C11,class!$C:$AN,AC$1,0) -> 103 | AD11: =MAX(class!AD:AD)-VLOOKUP($C11,class!$C:$AN,AD$1,0) -> 102
B12: AsiAssonNaty | C12: clamore22 | E12: =MAX(class!E:E)-VLOOKUP($C12,class!$C:$AN,E$1,0) -> 8 | F12: =MAX(class!F:F)-VLOOKUP($C12,class!$C:$AN,F$1,0) -> 18.5 | G12: =MAX(class!G:G)-VLOOKUP($C12,class!$C:$AN,G$1,0) -> 22 | H12: =MAX(class!H:H)-VLOOKUP($C12,class!$C:$AN,H$1,0) -> 26 | I12: =MAX(class!I:I)-VLOOKUP($C12,class!$C:$AN,I$1,0) -> 25 | J12: =MAX(class!J:J)-VLOOKUP($C12,class!$C:$AN,J$1,0) -> 31 | K12: =MAX(class!K:K)-VLOOKUP($C12,class!$C:$AN,K$1,0) -> 32 | L12: =MAX(class!L:L)-VLOOKUP($C12,class!$C:$AN,L$1,0) -> 24.5 | M12: =MAX(class!M:M)-VLOOKUP($C12,class!$C:$AN,M$1,0) -> 14.5 | N12: =MAX(class!N:N)-VLOOKUP($C12,class!$C:$AN,N$1,0) -> 19 | O12: =MAX(class!O:O)-VLOOKUP($C12,class!$C:$AN,O$1,0) -> 17 | P12: =MAX(class!P:P)-VLOOKUP($C12,class!$C:$AN,P$1,0) -> 24.5 | Q12: =MAX(class!Q:Q)-VLOOKUP($C12,class!$C:$AN,Q$1,0) -> 18 | R12: =MAX(class!R:R)-VLOOKUP($C12,class!$C:$AN,R$1,0) -> 24.5 | S12: =MAX(class!S:S)-VLOOKUP($C12,class!$C:$AN,S$1,0) -> 23 | T12: =MAX(class!T:T)-VLOOKUP($C12,class!$C:$AN,T$1,0) -> 32 | U12: =MAX(class!U:U)-VLOOKUP($C12,class!$C:$AN,U$1,0) -> 26 | V12: =MAX(class!V:V)-VLOOKUP($C12,class!$C:$AN,V$1,0) -> 24 | W12: =MAX(class!W:W)-VLOOKUP($C12,class!$C:$AN,W$1,0) -> 28 | X12: =MAX(class!X:X)-VLOOKUP($C12,class!$C:$AN,X$1,0) -> 37.5 | Y12: =MAX(class!Y:Y)-VLOOKUP($C12,class!$C:$AN,Y$1,0) -> 53.5 | Z12: =MAX(class!Z:Z)-VLOOKUP($C12,class!$C:$AN,Z$1,0) -> 69.5 | AA12: =MAX(class!AA:AA)-VLOOKUP($C12,class!$C:$AN,AA$1,0) -> 70 | AB12: =MAX(class!AB:AB)-VLOOKUP($C12,class!$C:$AN,AB$1,0) -> 82 | AC12: =MAX(class!AC:AC)-VLOOKUP($C12,class!$C:$AN,AC$1,0) -> 80.5 | AD12: =MAX(class!AD:AD)-VLOOKUP($C12,class!$C:$AN,AD$1,0) -> 85.5
